BEGIN:VCALENDAR
VERSION:2.0
PRODID:-//2K Games//WWE 2K26 Live In-Game Events
CALSCALE:GREGORIAN
BEGIN:VEVENT
DTSTAMP:20260415T104118Z
UID:1776249089223-12056@2k.com
DTSTART;VALUE=DATE:20260404
DTEND;VALUE=DATE:20260413
SUMMARY:WWE 2K26 UNDENIABLE STORM LIVE EVENT
DESCRIPTION:WWE 2K26 is here. Break the rules\, rewrite history\, and shape your legacy across 400+ Superstars including The Rock\, John Cena\, Rhea Ripley\, Rey Fénix and beyond\, plus new match types\, CM Punk’s 2K Showcase\, The Island\, and more. Learn More https://2kgam.es/4c8ZBqo
LOCATION:WWE 2K26 In-Game
BEGIN:VALARM
ACTION:DISPLAY
DESCRIPTION:WWE 2K26 UNDENIABLE STORM LIVE EVENT
TRIGGER:-P1W
END:VALARM
BEGIN:VALARM
ACTION:DISPLAY
DESCRIPTION:WWE 2K26 UNDENIABLE STORM LIVE EVENT
TRIGGER:-P1D
END:VALARM
END:VEVENT
BEGIN:VEVENT
DTSTAMP:20260415T104118Z
UID:1776249148405-77787@2k.com
DTSTART;VALUE=DATE:20260416
DTEND;VALUE=DATE:20260426
SUMMARY:WWE 2K26 WHATS UP? I AM\, I AM LIVE EVENT
DESCRIPTION:WWE 2K26 is here. Break the rules\, rewrite history\, and shape your legacy across 400+ Superstars including The Rock\, John Cena\, Rhea Ripley\, Rey Fénix and beyond\, plus new match types\, CM Punk’s 2K Showcase\, The Island\, and more. Learn More https://2kgam.es/4c8ZBqo
LOCATION:WWE 2K26 In-Game
BEGIN:VALARM
ACTION:DISPLAY
DESCRIPTION:WWE 2K26 WHATS UP? I AM, I AM LIVE EVENT
TRIGGER:-P1W
END:VALARM
BEGIN:VALARM
ACTION:DISPLAY
DESCRIPTION:WWE 2K26 WHATS UP? I AM, I AM LIVE EVENT
TRIGGER:-P1D
END:VALARM
END:VEVENT
BEGIN:VEVENT
DTSTAMP:20260415T104118Z
UID:1776249185815-68977@2k.com
DTSTART;VALUE=DATE:20260416
DTEND;VALUE=DATE:20260604
SUMMARY:WWE 2K26 CHAOS LIVE EVENT
DESCRIPTION:WWE 2K26 is here. Break the rules\, rewrite history\, and shape your legacy across 400+ Superstars including The Rock\, John Cena\, Rhea Ripley\, Rey Fénix and beyond\, plus new match types\, CM Punk’s 2K Showcase\, The Island\, and more. Learn More https://2kgam.es/4c8ZBqo
LOCATION:WWE 2K26 In-Game
BEGIN:VALARM
ACTION:DISPLAY
DESCRIPTION:WWE 2K26 CHAOS LIVE EVENT
TRIGGER:-P1W
END:VALARM
BEGIN:VALARM
ACTION:DISPLAY
DESCRIPTION:WWE 2K26 CHAOS LIVE EVENT
TRIGGER:-P1D
END:VALARM
END:VEVENT
BEGIN:VEVENT
DTSTAMP:20260415T104118Z
UID:1776249216047-16451@2k.com
DTSTART;VALUE=DATE:20260418
DTEND;VALUE=DATE:20260627
SUMMARY:WWE 2K26 ROCKY RHODES LIVE EVENT
DESCRIPTION:WWE 2K26 is here. Break the rules\, rewrite history\, and shape your legacy across 400+ Superstars including The Rock\, John Cena\, Rhea Ripley\, Rey Fénix and beyond\, plus new match types\, CM Punk’s 2K Showcase\, The Island\, and more. Learn More https://2kgam.es/4c8ZBqo
LOCATION:WWE 2K26 In-Game
BEGIN:VALARM
ACTION:DISPLAY
DESCRIPTION:WWE 2K26 ROCKY RHODES LIVE EVENT
TRIGGER:-P1W
END:VALARM
BEGIN:VALARM
ACTION:DISPLAY
DESCRIPTION:WWE 2K26 ROCKY RHODES LIVE EVENT
TRIGGER:-P1D
END:VALARM
END:VEVENT
BEGIN:VEVENT
DTSTAMP:20260415T104118Z
UID:1776249443129-22860@2k.com
DTSTART;VALUE=DATE:20260425
DTEND;VALUE=DATE:20260526
SUMMARY:WWE 2K26 ULTIMATE CHALLENGE II LIVE EVENT
DESCRIPTION:WWE 2K26 is here. Break the rules\, rewrite history\, and shape your legacy across 400+ Superstars including The Rock\, John Cena\, Rhea Ripley\, Rey Fénix and beyond\, plus new match types\, CM Punk’s 2K Showcase\, The Island\, and more. Learn More https://2kgam.es/4c8ZBqo
LOCATION:WWE 2K26 In-Game
BEGIN:VALARM
ACTION:DISPLAY
DESCRIPTION:WWE 2K26 ULTIMATE CHALLENGE II LIVE EVENT
TRIGGER:-P1W
END:VALARM
BEGIN:VALARM
ACTION:DISPLAY
DESCRIPTION:WWE 2K26 ULTIMATE CHALLENGE II LIVE EVENT
TRIGGER:-P1D
END:VALARM
END:VEVENT
BEGIN:VEVENT
DTSTAMP:20260415T104118Z
UID:1776249267337-52835@2k.com
DTSTART;VALUE=DATE:20260425
DTEND;VALUE=DATE:20260504
SUMMARY:WWE 2K26 CAGED VIPER LIVE EVENT
DESCRIPTION:WWE 2K26 is here. Break the rules\, rewrite history\, and shape your legacy across 400+ Superstars including The Rock\, John Cena\, Rhea Ripley\, Rey Fénix and beyond\, plus new match types\, CM Punk’s 2K Showcase\, The Island\, and more. Learn More https://2kgam.es/4c8ZBqo
LOCATION:WWE 2K26 In-Game
BEGIN:VALARM
ACTION:DISPLAY
DESCRIPTION:WWE 2K26 CAGED VIPER LIVE EVENT
TRIGGER:-P1W
END:VALARM
BEGIN:VALARM
ACTION:DISPLAY
DESCRIPTION:WWE 2K26 CAGED VIPER LIVE EVENT
TRIGGER:-P1D
END:VALARM
END:VEVENT
END:VCALENDAR