{"text_format":"1","workbook":"xlsx","n_sheets":4,"sheets":["Template","Dividends","StockPrices","Lists"],"not_rendered":{"charts":0,"images":2,"macros":1,"external_links":0,"defined_names":18,"comments":0,"pivot_tables":0},"unopened":[],"bounds":{"document_bytes":16777216,"sheet_cells":100000,"rows_first":2000,"rows_last":500,"rows_between":2000,"halvings":0,"cell_chars":16384,"cell_head_chars":4096},"cells_cut":0,"cells_raw":0,"read":"whole","date_system":"1900"}

{"sheet":"Template","index":0,"n_rows":99,"n_cols":7,"rows_kept":99,"cut":false,"hidden":false,"merged":[[3,1,3,3],[3,4,4,4],[5,4,8,4],[3,5,3,8]]}
["Show/Hide"]
["Actions"]
[]
["Company Name:",{"$error":"#VALUE!"},null,null,"Status","Helpful Websites"]
["Ticker",{"$f":"_FV(B4,\"Ticker symbol\",TRUE)","v":"TSCO"},null,null,null,"SEC.gov | Company Search Page"]
["Valuation Date:",null,null,null,"Hold","Dividend History | Payout Calendar, Announcements and Stock Information"]
["Valuation Period:",null,null,null,null,"https://finance.yahoo.com/?guccounter=1"]
["Current Price:",{"$f":"_FV(B4,\"Price\")","v":149.31},null,null,null,"https://www.msn.com/en-us/money/markets/marketmovers"]
["Market Cap:",{"$f":"_FV(B4,\"Market cap\",TRUE)","v":17394230000}]
[]
["Indicators","Net-Net",{"$f":"IF(B54>B8, \"Yes\", \"No\")","v":{"$error":"#DIV/0!"}},"Graham Value",{"$f":"IF(B55>B8, \"Yes\", \"No\")","v":"No"},"DCF",{"$f":"IF(B98>B8, \"Yes\", \"No\")","v":{"$error":"#DIV/0!"}}]
[]
[null,{"$f":"C13+1","v":2019},2018,2017,2016,2015]
["Stock Info"]
["Diluted Shares OS:"]
["Closing Share Price",{"$f":"_xlfn.XLOOKUP(DATE(B13+1,1,1), StockPrices[Date],StockPrices[Open])","v":"93.69"},{"$f":"_xlfn.XLOOKUP(DATE(C13+1,1,1), StockPrices[Date],StockPrices[Open])","v":"81.81"},{"$f":"_xlfn.XLOOKUP(DATE(D13+1,1,1), StockPrices[Date],StockPrices[Open])","v":"75.35"},{"$f":"_xlfn.XLOOKUP(DATE(E13+1,1,1), StockPrices[Date],StockPrices[Open])","v":"76.90"},{"$f":"_xlfn.XLOOKUP(DATE(F13+1,1,1), StockPrices[Date],StockPrices[Open])","v":"83.50"}]
["EPDS"]
[]
["Balance Sheet","In Thousands",{"$f":"B19","v":"In Thousands"},{"$f":"C19","v":"In Thousands"},{"$f":"D19","v":"In Thousands"},{"$f":"E19","v":"In Thousands"}]
["Cash"]
["Marketable Securities"]
["Accounts Receivable"]
["Inventory"]
["Current Assets"]
["Total Assets"]
["Current Liabilities"]
["Total Liabilities"]
[]
["Income Statement",{"$f":"B19","v":"In Thousands"},{"$f":"B29","v":"In Thousands"},{"$f":"C29","v":"In Thousands"},{"$f":"D29","v":"In Thousands"},{"$f":"E29","v":"In Thousands"}]
["Revenue"]
["Cost of Goods Sold"]
["Interest Expense"]
["SG&A"]
["Net Income"]
[]
["Cash Flow",{"$f":"B19","v":"In Thousands"},{"$f":"B36","v":"In Thousands"},{"$f":"C36","v":"In Thousands"},{"$f":"D36","v":"In Thousands"},{"$f":"E36","v":"In Thousands"}]
["Operating Cash Flow"]
["PPE Purchases"]
["Debt Payments"]
["Dividends / Share",{"$f":"IFERROR(SUMIFS(Dividends[Close*],Dividends[Date],\">=\"&DATE(Template!B13,1,1),Dividends[Date],\"<=\"&DATE(Template!B13,12,31)),0)","v":1.3599999999999999},{"$f":"IFERROR(SUMIFS(Dividends[Close*],Dividends[Date],\">=\"&DATE(Template!C13,1,1),Dividends[Date],\"<=\"&DATE(Template!C13,12,31)),0)","v":1.2},{"$f":"IFERROR(SUMIFS(Dividends[Close*],Dividends[Date],\">=\"&DATE(Template!D13,1,1),Dividends[Date],\"<=\"&DATE(Template!D13,12,31)),0)","v":1.05},{"$f":"IFERROR(SUMIFS(Dividends[Close*],Dividends[Date],\">=\"&DATE(Template!E13,1,1),Dividends[Date],\"<=\"&DATE(Template!E13,12,31)),0)","v":0.91999999999999993},{"$f":"IFERROR(SUMIFS(Dividends[Close*],Dividends[Date],\">=\"&DATE(Template!F13,1,1),Dividends[Date],\"<=\"&DATE(Template!F13,12,31)),0)","v":0.76000000000000012}]
["*** Make sure to refresh tables"]
["Ratios"]
["P/E",{"$f":"_xlfn.LET(_xlpm.mult,_xlfn.SWITCH(B29, \"In Millions\", 1000000, \"In Thousands\", 1000, 1), B16/((_xlpm.mult*B34)/B15))","v":{"$error":"#DIV/0!"}},{"$f":"_xlfn.LET(_xlpm.mult,_xlfn.SWITCH(C29, \"In Millions\", 1000000, \"In Thousands\", 1000, 1), C16/((_xlpm.mult*C34)/C15))","v":{"$error":"#DIV/0!"}},{"$f":"_xlfn.LET(_xlpm.mult,_xlfn.SWITCH(D29, \"In Millions\", 1000000, \"In Thousands\", 1000, 1), D16/((_xlpm.mult*D34)/D15))","v":{"$error":"#DIV/0!"}},{"$f":"_xlfn.LET(_xlpm.mult,_xlfn.SWITCH(E29, \"In Millions\", 1000000, \"In Thousands\", 1000, 1), E16/((_xlpm.mult*E34)/E15))","v":{"$error":"#DIV/0!"}},{"$f":"_xlfn.LET(_xlpm.mult,_xlfn.SWITCH(F29, \"In Millions\", 1000000, \"In Thousands\", 1000, 1), F16/((_xlpm.mult*F34)/F15))","v":{"$error":"#DIV/0!"}}]
["Price / Book",{"$f":"B16/B49","v":{"$error":"#DIV/0!"}},{"$error":"#DIV/0!"},{"$error":"#DIV/0!"},{"$error":"#DIV/0!"},{"$error":"#DIV/0!"}]
["Debt / Equity",{"$f":"B27/(B25-B27)","v":{"$error":"#DIV/0!"}},{"$f":"C27/(C25-C27)","v":{"$error":"#DIV/0!"}},{"$error":"#DIV/0!"},{"$error":"#DIV/0!"},{"$error":"#DIV/0!"}]
["Current Ratio",{"$f":"B24/B26","v":{"$error":"#DIV/0!"}},{"$f":"C24/C26","v":{"$error":"#DIV/0!"}},{"$error":"#DIV/0!"},{"$error":"#DIV/0!"},{"$error":"#DIV/0!"}]
["Return on Equity",{"$f":"_xlfn.LET(_xlpm.ni,_xlfn.SWITCH(B29, \"In Millions\", 1000000, \"In Thousands\", 1000, 1), _xlpm.eq,_xlfn.SWITCH(B19, \"In Millions\", 1000000, \"In Thousands\", 1000, 1), (_xlpm.ni*B34)/((B25-B27)*_xlpm.eq))","v":{"$error":"#DIV/0!"}},{"$f":"_xlfn.LET(_xlpm.ni,_xlfn.SWITCH(C29, \"In Millions\", 1000000, \"In Thousands\", 1000, 1), _xlpm.eq,_xlfn.SWITCH(C19, \"In Millions\", 1000000, \"In Thousands\", 1000, 1), (_xlpm.ni*C34)/((C25-C27)*_xlpm.eq))","v":{"$error":"#DIV/0!"}},{"$f":"_xlfn.LET(_xlpm.ni,_xlfn.SWITCH(D29, \"In Millions\", 1000000, \"In Thousands\", 1000, 1), _xlpm.eq,_xlfn.SWITCH(D19, \"In Millions\", 1000000, \"In Thousands\", 1000, 1), (_xlpm.ni*D34)/((D25-D27)*_xlpm.eq))","v":{"$error":"#DIV/0!"}},{"$f":"_xlfn.LET(_xlpm.ni,_xlfn.SWITCH(E29, \"In Millions\", 1000000, \"In Thousands\", 1000, 1), _xlpm.eq,_xlfn.SWITCH(E19, \"In Millions\", 1000000, \"In Thousands\", 1000, 1), (_xlpm.ni*E34)/((E25-E27)*_xlpm.eq))","v":{"$error":"#DIV/0!"}},{"$f":"_xlfn.LET(_xlpm.ni,_xlfn.SWITCH(F29, \"In Millions\", 1000000, \"In Thousands\", 1000, 1), _xlpm.eq,_xlfn.SWITCH(F19, \"In Millions\", 1000000, \"In Thousands\", 1000, 1), (_xlpm.ni*F34)/((F25-F27)*_xlpm.eq))","v":{"$error":"#DIV/0!"}}]
["Liquid Value / Share",{"$f":"_xlfn.LET(_xlpm.mult,_xlfn.SWITCH(B19, \"In Millions\", 1000000, \"In Thousands\", 1000, 1), (_xlpm.mult*B20+_xlpm.mult*B21)/B15)","v":{"$error":"#DIV/0!"}},{"$f":"_xlfn.LET(_xlpm.mult,_xlfn.SWITCH(C19, \"In Millions\", 1000000, \"In Thousands\", 1000, 1), (_xlpm.mult*C20+_xlpm.mult*C21)/C15)","v":{"$error":"#DIV/0!"}},{"$f":"_xlfn.LET(_xlpm.mult,_xlfn.SWITCH(D19, \"In Millions\", 1000000, \"In Thousands\", 1000, 1), (_xlpm.mult*D20+_xlpm.mult*D21)/D15)","v":{"$error":"#DIV/0!"}},{"$f":"_xlfn.LET(_xlpm.mult,_xlfn.SWITCH(E19, \"In Millions\", 1000000, \"In Thousands\", 1000, 1), (_xlpm.mult*E20+_xlpm.mult*E21)/E15)","v":{"$error":"#DIV/0!"}},{"$f":"_xlfn.LET(_xlpm.mult,_xlfn.SWITCH(F19, \"In Millions\", 1000000, \"In Thousands\", 1000, 1), (_xlpm.mult*F20+_xlpm.mult*F21)/F15)","v":{"$error":"#DIV/0!"}}]
["Book Value / Share",{"$f":"_xlfn.LET(_xlpm.mult,_xlfn.SWITCH(B19, \"In Millions\", 1000000, \"In Thousands\", 1000, 1),((B25-B27)*_xlpm.mult)/B15)","v":{"$error":"#DIV/0!"}},{"$f":"_xlfn.LET(_xlpm.mult,_xlfn.SWITCH(C19, \"In Millions\", 1000000, \"In Thousands\", 1000, 1),((C25-C27)*_xlpm.mult)/C15)","v":{"$error":"#DIV/0!"}},{"$f":"_xlfn.LET(_xlpm.mult,_xlfn.SWITCH(D19, \"In Millions\", 1000000, \"In Thousands\", 1000, 1),((D25-D27)*_xlpm.mult)/D15)","v":{"$error":"#DIV/0!"}},{"$f":"_xlfn.LET(_xlpm.mult,_xlfn.SWITCH(E19, \"In Millions\", 1000000, \"In Thousands\", 1000, 1),((E25-E27)*_xlpm.mult)/E15)","v":{"$error":"#DIV/0!"}},{"$f":"_xlfn.LET(_xlpm.mult,_xlfn.SWITCH(F19, \"In Millions\", 1000000, \"In Thousands\", 1000, 1),((F25-F27)*_xlpm.mult)/F15)","v":{"$error":"#DIV/0!"}}]
["Book Value Growth Y/Y",{"$f":"+(B49-C49)/C49","v":{"$error":"#DIV/0!"}},{"$f":"+(C49-D49)/D49","v":{"$error":"#DIV/0!"}},{"$f":"+(D49-E49)/E49","v":{"$error":"#DIV/0!"}},{"$f":"+(E49-F49)/F49","v":{"$error":"#DIV/0!"}}]
["EPS Growth",{"$f":"+(B17-C17)/C17","v":{"$error":"#DIV/0!"}},{"$f":"+(C17-D17)/D17","v":{"$error":"#DIV/0!"}},{"$error":"#DIV/0!"},{"$error":"#DIV/0!"}]
["Interest / FCF",{"$f":"+B32/(B37-B38)","v":{"$error":"#DIV/0!"}},{"$error":"#DIV/0!"},{"$error":"#DIV/0!"},{"$error":"#DIV/0!"},{"$error":"#DIV/0!"}]
["FCF Debt Coverage",{"$f":"(B37-B38)/B39","v":{"$error":"#DIV/0!"}},{"$error":"#DIV/0!"},{"$error":"#DIV/0!"},{"$error":"#DIV/0!"},{"$error":"#DIV/0!"}]
["Net-Net Value / Share",{"$f":"_xlfn.LET(_xlpm.mult,_xlfn.SWITCH(B19, \"In Millions\", 1000000, \"In Thousands\", 1000, 1), (_xlpm.mult*(B20+B21+B22*0.75+B23*0.5-B27))/B15)","v":{"$error":"#DIV/0!"}},{"$f":"_xlfn.LET(_xlpm.mult,_xlfn.SWITCH(C19, \"In Millions\", 1000000, \"In Thousands\", 1000, 1), (_xlpm.mult*(C20+C21+C22*0.75+C23*0.5-C27))/C15)","v":{"$error":"#DIV/0!"}},{"$f":"_xlfn.LET(_xlpm.mult,_xlfn.SWITCH(D19, \"In Millions\", 1000000, \"In Thousands\", 1000, 1), (_xlpm.mult*(D20+D21+D22*0.75+D23*0.5-D27))/D15)","v":{"$error":"#DIV/0!"}},{"$f":"_xlfn.LET(_xlpm.mult,_xlfn.SWITCH(E19, \"In Millions\", 1000000, \"In Thousands\", 1000, 1), (_xlpm.mult*(E20+E21+E22*0.75+E23*0.5-E27))/E15)","v":{"$error":"#DIV/0!"}},{"$f":"_xlfn.LET(_xlpm.mult,_xlfn.SWITCH(F19, \"In Millions\", 1000000, \"In Thousands\", 1000, 1), (_xlpm.mult*(F20+F21+F22*0.75+F23*0.5-F27))/F15)","v":{"$error":"#DIV/0!"}}]
["Graham IV / Share",{"$f":"B17*(8.5+(2*B58*100))","v":0},0,0,0,0]
[]
["Assumptions"]
["Expected Growth"]
[]
["Valuations"]
["Net-Net Valuation"]
["Cash + Securities",{"$f":"+B20+B21","v":0},{"$f":"+C20+C21","v":0},{"$f":"+D20+D21","v":0},{"$f":"+E20+E21","v":0},{"$f":"+F20+F21","v":0}]
["+ AR (75%)",{"$f":"+B22*0.75","v":0},{"$f":"+C22*0.75","v":0},{"$f":"+D22*0.75","v":0},{"$f":"+E22*0.75","v":0},{"$f":"+F22*0.75","v":0}]
["+ Inventory (50%)",{"$f":"+B23*0.5","v":0},{"$f":"+C23*0.5","v":0},{"$f":"+D23*0.5","v":0},{"$f":"+E23*0.5","v":0},{"$f":"+F23*0.5","v":0}]
["- Total Liabilities",{"$f":"-B27","v":0},{"$f":"-C27","v":0},{"$f":"-D27","v":0},{"$f":"-E27","v":0},{"$f":"-F27","v":0}]
["Net-Net Value",{"$f":"SUM(B62:B65)","v":0},{"$f":"SUM(C62:C65)","v":0},{"$f":"SUM(D62:D65)","v":0},{"$f":"SUM(E62:E65)","v":0},0]
["Net-Net / Share",{"$f":"_xlfn.LET(_xlpm.mult,_xlfn.SWITCH(B19, \"In Millions\", 1000000, \"In Thousands\", 1000, 1), (_xlpm.mult*B66)/B15)","v":{"$error":"#DIV/0!"}},{"$f":"_xlfn.LET(_xlpm.mult,_xlfn.SWITCH(C19, \"In Millions\", 1000000, \"In Thousands\", 1000, 1), (_xlpm.mult*C66)/C15)","v":{"$error":"#DIV/0!"}},{"$f":"_xlfn.LET(_xlpm.mult,_xlfn.SWITCH(D19, \"In Millions\", 1000000, \"In Thousands\", 1000, 1), (_xlpm.mult*D66)/D15)","v":{"$error":"#DIV/0!"}},{"$f":"_xlfn.LET(_xlpm.mult,_xlfn.SWITCH(E19, \"In Millions\", 1000000, \"In Thousands\", 1000, 1), (_xlpm.mult*E66)/E15)","v":{"$error":"#DIV/0!"}},{"$f":"_xlfn.LET(_xlpm.mult,_xlfn.SWITCH(F19, \"In Millions\", 1000000, \"In Thousands\", 1000, 1), (_xlpm.mult*F66)/F15)","v":{"$error":"#DIV/0!"}}]
["Market Price Delta",{"$f":"+B67-B16","v":{"$error":"#DIV/0!"}},{"$f":"+C67-C16","v":{"$error":"#DIV/0!"}},{"$f":"+D67-D16","v":{"$error":"#DIV/0!"}},{"$f":"+E67-E16","v":{"$error":"#DIV/0!"}},{"$f":"+F67-F16","v":{"$error":"#DIV/0!"}}]
[]
["Graham Intrinsic Value"]
["EPS",{"$f":"B17","v":0}]
["Expected Growth Rate",{"$f":"+B58","v":0}]
["IV / Share",{"$f":"B71*(8.5+(2*B72*100))","v":0}]
["Market Price Delta",{"$f":"+B73-B8","v":-149.31}]
[]
["DCF Analysis","FCF","Dividend"]
["10 Year Growth Rate"]
["Terminal Growth Rate"]
["Discount Rate"]
["FCF / Share History",{"$f":"_xlfn.LET(_xlpm.mult,_xlfn.SWITCH(B36, \"In Millions\", 1000000, \"In Thousands\", 1000, 1), (_xlpm.mult*(B37-B38))/B15)","v":{"$error":"#DIV/0!"}},{"$f":"_xlfn.LET(_xlpm.mult,_xlfn.SWITCH(C36, \"In Millions\", 1000000, \"In Thousands\", 1000, 1), (_xlpm.mult*(C37-C38))/C15)","v":{"$error":"#DIV/0!"}},{"$f":"_xlfn.LET(_xlpm.mult,_xlfn.SWITCH(D36, \"In Millions\", 1000000, \"In Thousands\", 1000, 1), (_xlpm.mult*(D37-D38))/D15)","v":{"$error":"#DIV/0!"}},{"$f":"_xlfn.LET(_xlpm.mult,_xlfn.SWITCH(E36, \"In Millions\", 1000000, \"In Thousands\", 1000, 1), (_xlpm.mult*(E37-E38))/E15)","v":{"$error":"#DIV/0!"}},{"$f":"_xlfn.LET(_xlpm.mult,_xlfn.SWITCH(F36, \"In Millions\", 1000000, \"In Thousands\", 1000, 1), (_xlpm.mult*(F37-F38))/F15)","v":{"$error":"#DIV/0!"}}]
["FCF Growth Rate",{"$f":"(B80-C80)/C80","v":{"$error":"#DIV/0!"}},{"$error":"#DIV/0!"},{"$error":"#DIV/0!"},{"$f":"(E80-F80)/F80","v":{"$error":"#DIV/0!"}}]
["Prior Year FCF",{"$f":"+B37-B38","v":0},{"$f":"B36","v":"In Thousands"}]
[]
["Year","Cash Flow","Discounted",null,"Dividend","Discounted"]
[1,{"$f":"(B82*(1+$B$77))","v":0},{"$f":"B85/((1+$B$79)^A85)","v":0},null,{"$f":"(B40*(1+$C$77))","v":1.3599999999999999},{"$f":"E85/((1+$C$79)^A85)","v":1.3599999999999999}]
[{"$f":"+A85+1","v":2},{"$f":"(B85*(1+$B$77))","v":0},{"$f":"B86/((1+$B$79)^A86)","v":0},null,{"$f":"(E85*(1+$C$77))","v":1.3599999999999999},{"$f":"E86/((1+$C$79)^A86)","v":1.3599999999999999}]
[{"$f":"+A86+1","v":3},{"$f":"(B86*(1+$B$77))","v":0},0,null,{"$f":"(E86*(1+$C$77))","v":1.3599999999999999},1.3599999999999999]
[{"$f":"+A87+1","v":4},0,0,null,1.3599999999999999,1.3599999999999999]
[5,0,0,null,1.3599999999999999,1.3599999999999999]
[6,0,0,null,1.3599999999999999,1.3599999999999999]
[7,0,0,null,1.3599999999999999,1.3599999999999999]
[8,0,0,null,1.3599999999999999,1.3599999999999999]
[9,0,0,null,1.3599999999999999,1.3599999999999999]
[10,0,0,null,1.3599999999999999,1.3599999999999999]
["Terminal Cash Flow",null,{"$f":"(B94*(1+$B$78))/(B79-B78)","v":{"$error":"#DIV/0!"}},null,null,{"$f":"(E94*(1+$C$78))/(C79-C78)","v":{"$error":"#DIV/0!"}}]
[]
["Terminal Value",null,{"$f":"SUM(C85:C96)","v":{"$error":"#DIV/0!"}},null,"Terminal Value",{"$f":"SUM(F85:F96)","v":{"$error":"#DIV/0!"}}]
["Total Value / Share",{"$f":"_xlfn.LET(_xlpm.mult,_xlfn.SWITCH(C82, \"In Millions\", 1000000, \"In Thousands\", 1000, 1), (_xlpm.mult*C97)/B15)+F97","v":{"$error":"#DIV/0!"}}]
["Margin of Safety",{"$f":"(B98-B8)/B8","v":{"$error":"#DIV/0!"}}]

{"sheet":"Dividends","index":1,"n_rows":26,"n_cols":2,"rows_kept":26,"cut":false,"hidden":false,"merged":[]}
["Close*","Date"]
[0.4,"2020-11-20"]
[0.4,"2020-08-21"]
[0.35,"2020-05-22"]
[0.35,"2020-02-21"]
[0.35,"2019-11-22"]
[0.35,"2019-08-23"]
[0.35,"2019-05-24"]
[0.31,"2019-02-22"]
[0.31,"2018-11-23"]
[0.31,"2018-08-24"]
[0.31,"2018-05-25"]
[0.27,"2018-02-23"]
[0.27,"2017-11-17"]
[0.27,"2017-08-17"]
[0.27,"2017-05-18"]
[0.24,"2017-02-23"]
[0.24,"2016-11-09"]
[0.24,"2016-08-11"]
[0.24,"2016-05-12"]
[0.2,"2016-02-18"]
[0.2,"2015-11-12"]
[0.2,"2015-08-13"]
[0.2,"2015-05-14"]
[0.16,"2015-02-19"]
[0.16,"2014-11-13"]

{"sheet":"StockPrices","index":2,"n_rows":76,"n_cols":3,"rows_kept":76,"cut":false,"hidden":false,"merged":[]}
["Open","Close*","Date"]
["147.16","149.31","2021-01-08"]
["140.90","149.31","2021-01-01"]
["140.85","140.58","2020-12-01"]
["134.60","140.81","2020-10-31"]
["143.71","133.21","2020-09-30"]
["148.60","143.34","2020-08-31"]
["143.75","148.83","2020-07-31"]
["132.16","142.74","2020-06-30"]
["122.05","131.79","2020-05-31"]
["99.64","122.02","2020-04-30"]
["82.70","101.43","2020-03-31"]
["88.50","84.55","2020-03-01"]
["93.98","88.51","2020-02-01"]
["93.69","92.95","2020-01-01"]
["94.90","93.44","2019-12-01"]
["95.71","94.44","2019-10-31"]
["91.81","95.02","2019-09-30"]
["100.70","90.44","2019-08-31"]
["109.04","101.88","2019-07-31"]
["109.93","108.81","2019-06-30"]
["100.71","108.80","2019-05-31"]
["103.60","100.78","2019-04-30"]
["98.16","103.50","2019-03-31"]
["95.87","97.76","2019-03-01"]
["85.97","95.35","2019-02-01"]
["81.81","85.40","2019-01-01"]
["95.83","83.44","2018-12-01"]
["91.95","95.13","2018-10-31"]
["91.34","91.89","2018-09-30"]
["88.63","90.88","2018-08-31"]
["78.23","88.28","2018-07-31"]
["75.85","78.04","2018-06-30"]
["74.83","76.49","2018-05-31"]
["67.74","74.31","2018-04-30"]
["62.55","68.00","2018-03-31"]
["64.80","63.02","2018-03-01"]
["72.00","64.93","2018-02-01"]
["75.35","76.25","2018-01-01"]
["68.53","74.75","2017-12-01"]
["60.40","68.24","2017-10-31"]
["61.99","60.26","2017-09-30"]
["59.75","63.29","2017-08-31"]
["56.40","59.51","2017-07-31"]
["54.68","56.12","2017-06-30"]
["55.37","54.21","2017-05-31"]
["62.14","55.15","2017-04-30"]
["68.93","61.91","2017-03-31"]
["71.67","68.97","2017-03-01"]
["73.27","70.91","2017-02-01"]
["76.90","73.67","2017-01-01"]
["75.24","75.81","2016-12-01"]
["62.75","75.07","2016-10-31"]
["67.02","62.63","2016-09-30"]
["84.47","67.35","2016-08-31"]
["91.29","83.95","2016-07-31"]
["91.33","91.65","2016-06-30"]
["96.07","91.18","2016-05-31"]
["95.14","96.10","2016-04-30"]
["90.38","94.66","2016-03-31"]
["85.30","90.46","2016-03-01"]
["87.45","84.57","2016-02-01"]
["83.50","88.31","2016-01-01"]
["89.80","85.50","2015-12-01"]
["92.40","89.35","2015-10-31"]
["84.40","92.39","2015-09-30"]
["83.27","84.32","2015-08-31"]
["92.75","85.31","2015-07-31"]
["91.24","92.52","2015-06-30"]
["87.54","89.94","2015-05-31"]
["86.25","87.14","2015-04-30"]
["84.88","86.06","2015-03-31"]
["88.42","85.06","2015-03-01"]
["81.12","88.12","2015-02-01"]
["78.80","81.17","2015-01-01"]
["76.69","78.82","2014-12-01"]

{"sheet":"Lists","index":3,"n_rows":4,"n_cols":1,"rows_kept":4,"cut":false,"hidden":true,"merged":[]}
["Denominations"]
["In Dollars"]
["In Thousands"]
["In Millions"]