{"text_format":"1","workbook":"xlsx","n_sheets":13,"sheets":["HOME","ABOUT","PILLARS","INDICATORS","COUNTRIES","DATA TABLE","SCORE TABLE","Data_summary","Score_alphabetical","Score_rank unique","Score_rank shared","Lists","Selected values"],"not_rendered":{"charts":0,"images":2,"macros":1,"external_links":0,"defined_names":6,"comments":0,"pivot_tables":0},"unopened":[],"bounds":{"document_bytes":16777216,"sheet_cells":100000,"rows_first":2000,"rows_last":500,"rows_between":2000,"halvings":0,"cell_chars":16384,"cell_head_chars":4096},"cells_cut":0,"cells_raw":0,"read":"whole","date_system":"1900"}

{"sheet":"HOME","index":0,"n_rows":16,"n_cols":3,"rows_kept":16,"cut":false,"hidden":false,"merged":[]}
[]
[]
[]
[]
[]
[]
[null,"GLOBAL OBESITY RESPONSE INDEX"]
[]
[null,"Contents"]
[]
[null,"About","Introduction to this index."]
[null,"Pillars","Comparison of pillar performance across countries."]
[null,"Indicators","Comparison across countries for a single selected indicator/pillar."]
[null,"Countries","Country-level scorecard."]
[null,"Data table","Entire dataset, in table format."]
[null,"Scores","Entire scorecard, in table format. "]

{"sheet":"ABOUT","index":1,"n_rows":15,"n_cols":3,"rows_kept":15,"cut":false,"hidden":false,"merged":[[7,1,9,4],[10,1,10,4],[11,1,13,4],[14,1,16,4]]}
[null,null,{"$f":"HOME!B7","v":"GLOBAL OBESITY RESPONSE INDEX"}]
[]
[]
[]
[]
[null,"About"]
[]
[null,"The Global Obesity Response Index assesses obesity prevention and management policy across countries. It seeks to address a gap in understanding the full range of factors that contribute to obesity, the associated risks and the policy interventions that comprise a holistic response. By examining country-level approaches, the index highlights areas where policy is strongest and weakest, signposting where countries can learn from each other."]
[]
[]
[null,"The framework is organised as follows:\n"]
[null,"• Four pillars: Policy and governance, Obesity management, Food quality and access, Physical activity\n• Nine sub-pillars, distributed across the pillars\n• 30 indicators, distributed across the sub-pillars"]
[]
[]
[null,"In addition to these core pillars and indicators, the framework also includes ten background indicators. These indicators are not scored, but are used to provide more context and to better understand the factors that may influence country-level scores."]

{"sheet":"PILLARS","index":2,"n_rows":42,"n_cols":25,"rows_kept":42,"cut":false,"hidden":false,"merged":[[19,21,19,24],[6,1,6,3],[5,1,5,3],[19,1,19,4],[19,6,19,9],[19,16,19,19],[19,11,19,14]]}
[null,{"$f":"HOME!B7","v":"GLOBAL OBESITY RESPONSE INDEX"}]
[]
[]
[]
[]
[null,"SELECT SORT ORDER"]
[null,"Best response to worst"]
[]
[]
[null,"Scores 80-100 - Areas of strength",null,null,null,80]
[null,"Scores 60-79",null,null,null,60]
[null,"Scores 40-59",null,null,null,40]
[null,"Scores 20-39",null,null,null,20]
[null,"Scores 0-19 - Areas of development",null,null,null,0]
[]
[null,"Score: 0-100, where 100 = strongest obesity response"]
[null,"'=' denotes tied rank"]
[null,"Average = mean score for all countries shown in table"]
[]
[null,"OVERALL ",null,null,null,null,"1) Policy and governance",null,null,null,null,"2) Obesity management",null,null,null,null,"3) Food quality and access",null,null,null,null,"4) Physical activity"]
[null,null,"Rank","Country","Score",null,null,"Rank","Country","Score",null,null,"Rank","Country","Score",null,null,"Rank","Country","Score",null,null,"Rank","Country","Score"]
[{"$f":"IF($B$7=Lists!$K$4, 21,1)","v":1},null,{"$f":"INDEX('Selected values'!$U$4:$U$24,MATCH(D22,'Selected values'!$S$4:$S$24,0))","v":1},{"$f":"IF($B$7=Lists!$K$2, INDEX('Selected values'!$M$4:$M$24, MATCH($A22,'Selected values'!$O$4:$O$24,0)), INDEX('Selected values'!$M$4:$M$24,MATCH($A22,'Selected values'!$P$4:$P$24,0)))","v":"Serbia"},{"$f":"ROUND(INDEX('Selected values'!$N$4:$N$24, MATCH(D22,'Selected values'!$M$4:$M$24,0)),1)","v":74.8},null,null,{"$f":"INDEX('Selected values'!$AF$4:$AF$24,MATCH(I22,'Selected values'!$AD$4:$AD$24,0))","v":1},{"$f":"IF($B$7=Lists!$K$2, INDEX('Selected values'!$X$4:$X$24, MATCH($A22,'Selected values'!$Z$4:$Z$24,0)), INDEX('Selected values'!$X$4:$X$24,MATCH($A22,'Selected values'!$AA$4:$AA$24,0)))","v":"Serbia"},{"$f":"ROUND(INDEX('Selected values'!$Y$4:$Y$24, MATCH(I22,'Selected values'!$X$4:$X$24,0)),1)","v":95},null,null,{"$f":"INDEX('Selected values'!$AQ$4:$AQ$24,MATCH(N22,'Selected values'!$AO$4:$AO$24,0))","v":1},{"$f":"IF($B$7=Lists!$K$2, INDEX('Selected values'!$AI$4:$AI$24, MATCH($A22,'Selected values'!$AK$4:$AK$24,0)), INDEX('Selected values'!$AI$4:$AI$24,MATCH($A22,'Selected values'!$AL$4:$AL$24,0)))","v":"United Kingdom"},{"$f":"ROUND(INDEX('Selected values'!$AJ$4:$AJ$24, MATCH(N22,'Selected values'!$AI$4:$AI$24,0)),1)","v":100},null,null,{"$f":"INDEX('Selected values'!$BB$4:$BB$24,MATCH(S22,'Selected values'!$AZ$4:$AZ$24,0))","v":1},{"$f":"IF($B$7=Lists!$K$2, INDEX('Selected values'!$AT$4:$AT$24, MATCH($A22,'Selected values'!$AV$4:$AV$24,0)), INDEX('Selected values'!$AT$4:$AT$24,MATCH($A22,'Selected values'!$AW$4:$AW$24,0)))","v":"United Kingdom"},{"$f":"ROUND(INDEX('Selected values'!$AU$4:$AU$24, MATCH(S22,'Selected values'!$AT$4:$AT$24,0)),1)","v":90.2},null,null,{"$f":"INDEX('Selected values'!$BM$4:$BM$24,MATCH(X22,'Selected values'!$BK$4:$BK$24,0))","v":"=1"},{"$f":"IF($B$7=Lists!$K$2, INDEX('Selected values'!$BE$4:$BE$24, MATCH($A22,'Selected values'!$BG$4:$BG$24,0)), INDEX('Selected values'!$BE$4:$BE$24,MATCH($A22,'Selected values'!$BH$4:$BH$24,0)))","v":"China"},{"$f":"ROUND(INDEX('Selected values'!$BF$4:$BF$54, MATCH(X22,'Selected values'!$BE$4:$BE$54,0)),1)","v":75}]
[{"$f":"IF($B$7=Lists!$K$4, A22-1,A22+1)","v":2},null,{"$f":"INDEX('Selected values'!$U$4:$U$24,MATCH(D23,'Selected values'!$S$4:$S$24,0))","v":2},{"$f":"IF($B$7=Lists!$K$2, INDEX('Selected values'!$M$4:$M$24, MATCH($A23,'Selected values'!$O$4:$O$24,0)), INDEX('Selected values'!$M$4:$M$24,MATCH($A23,'Selected values'!$P$4:$P$24,0)))","v":"France"},{"$f":"ROUND(INDEX('Selected values'!$N$4:$N$24, MATCH(D23,'Selected values'!$M$4:$M$24,0)),1)","v":74.3},null,null,{"$f":"INDEX('Selected values'!$AF$4:$AF$24,MATCH(I23,'Selected values'!$AD$4:$AD$24,0))","v":"=2"},{"$f":"IF($B$7=Lists!$K$2, INDEX('Selected values'!$X$4:$X$24, MATCH($A23,'Selected values'!$Z$4:$Z$24,0)), INDEX('Selected values'!$X$4:$X$24,MATCH($A23,'Selected values'!$AA$4:$AA$24,0)))","v":"France"},{"$f":"ROUND(INDEX('Selected values'!$Y$4:$Y$24, MATCH(I23,'Selected values'!$X$4:$X$24,0)),1)","v":62.5},null,null,{"$f":"INDEX('Selected values'!$AQ$4:$AQ$24,MATCH(N23,'Selected values'!$AO$4:$AO$24,0))","v":"=2"},{"$f":"IF($B$7=Lists!$K$2, INDEX('Selected values'!$AI$4:$AI$24, MATCH($A23,'Selected values'!$AK$4:$AK$24,0)), INDEX('Selected values'!$AI$4:$AI$24,MATCH($A23,'Selected values'!$AL$4:$AL$24,0)))","v":"Brazil"},{"$f":"ROUND(INDEX('Selected values'!$AJ$4:$AJ$24, MATCH(N23,'Selected values'!$AI$4:$AI$24,0)),1)","v":91.7},null,null,{"$f":"INDEX('Selected values'!$BB$4:$BB$24,MATCH(S23,'Selected values'!$AZ$4:$AZ$24,0))","v":2},{"$f":"IF($B$7=Lists!$K$2, INDEX('Selected values'!$AT$4:$AT$24, MATCH($A23,'Selected values'!$AV$4:$AV$24,0)), INDEX('Selected values'!$AT$4:$AT$24,MATCH($A23,'Selected values'!$AW$4:$AW$24,0)))","v":"Mexico"},{"$f":"ROUND(INDEX('Selected values'!$AU$4:$AU$24, MATCH(S23,'Selected values'!$AT$4:$AT$24,0)),1)","v":84.1},null,null,{"$f":"INDEX('Selected values'!$BM$4:$BM$24,MATCH(X23,'Selected values'!$BK$4:$BK$24,0))","v":"=1"},{"$f":"IF($B$7=Lists!$K$2, INDEX('Selected values'!$BE$4:$BE$24, MATCH($A23,'Selected values'!$BG$4:$BG$24,0)), INDEX('Selected values'!$BE$4:$BE$24,MATCH($A23,'Selected values'!$BH$4:$BH$24,0)))","v":"South Korea"},{"$f":"ROUND(INDEX('Selected values'!$BF$4:$BF$54, MATCH(X23,'Selected values'!$BE$4:$BE$54,0)),1)","v":75}]
[{"$f":"IF($B$7=Lists!$K$4, A23-1,A23+1)","v":3},null,{"$f":"INDEX('Selected values'!$U$4:$U$24,MATCH(D24,'Selected values'!$S$4:$S$24,0))","v":3},{"$f":"IF($B$7=Lists!$K$2, INDEX('Selected values'!$M$4:$M$24, MATCH($A24,'Selected values'!$O$4:$O$24,0)), INDEX('Selected values'!$M$4:$M$24,MATCH($A24,'Selected values'!$P$4:$P$24,0)))","v":"Brazil"},{"$f":"ROUND(INDEX('Selected values'!$N$4:$N$24, MATCH(D24,'Selected values'!$M$4:$M$24,0)),1)","v":72.400000000000006},null,null,{"$f":"INDEX('Selected values'!$AF$4:$AF$24,MATCH(I24,'Selected values'!$AD$4:$AD$24,0))","v":"=2"},{"$f":"IF($B$7=Lists!$K$2, INDEX('Selected values'!$X$4:$X$24, MATCH($A24,'Selected values'!$Z$4:$Z$24,0)), INDEX('Selected values'!$X$4:$X$24,MATCH($A24,'Selected values'!$AA$4:$AA$24,0)))","v":"Spain"},{"$f":"ROUND(INDEX('Selected values'!$Y$4:$Y$24, MATCH(I24,'Selected values'!$X$4:$X$24,0)),1)","v":62.5},null,null,{"$f":"INDEX('Selected values'!$AQ$4:$AQ$24,MATCH(N24,'Selected values'!$AO$4:$AO$24,0))","v":"=2"},{"$f":"IF($B$7=Lists!$K$2, INDEX('Selected values'!$AI$4:$AI$24, MATCH($A24,'Selected values'!$AK$4:$AK$24,0)), INDEX('Selected values'!$AI$4:$AI$24,MATCH($A24,'Selected values'!$AL$4:$AL$24,0)))","v":"Finland"},{"$f":"ROUND(INDEX('Selected values'!$AJ$4:$AJ$24, MATCH(N24,'Selected values'!$AI$4:$AI$24,0)),1)","v":91.7},null,null,{"$f":"INDEX('Selected values'!$BB$4:$BB$24,MATCH(S24,'Selected values'!$AZ$4:$AZ$24,0))","v":3},{"$f":"IF($B$7=Lists!$K$2, INDEX('Selected values'!$AT$4:$AT$24, MATCH($A24,'Selected values'!$AV$4:$AV$24,0)), INDEX('Selected values'!$AT$4:$AT$24,MATCH($A24,'Selected values'!$AW$4:$AW$24,0)))","v":"Spain"},{"$f":"ROUND(INDEX('Selected values'!$AU$4:$AU$24, MATCH(S24,'Selected values'!$AT$4:$AT$24,0)),1)","v":82.7},null,null,{"$f":"INDEX('Selected values'!$BM$4:$BM$24,MATCH(X24,'Selected values'!$BK$4:$BK$24,0))","v":"=3"},{"$f":"IF($B$7=Lists!$K$2, INDEX('Selected values'!$BE$4:$BE$24, MATCH($A24,'Selected values'!$BG$4:$BG$24,0)), INDEX('Selected values'!$BE$4:$BE$24,MATCH($A24,'Selected values'!$BH$4:$BH$24,0)))","v":"Brazil"},{"$f":"ROUND(INDEX('Selected values'!$BF$4:$BF$54, MATCH(X24,'Selected values'!$BE$4:$BE$54,0)),1)","v":66.7}]
[{"$f":"IF($B$7=Lists!$K$4, A24-1,A24+1)","v":4},null,{"$f":"INDEX('Selected values'!$U$4:$U$24,MATCH(D25,'Selected values'!$S$4:$S$24,0))","v":4},{"$f":"IF($B$7=Lists!$K$2, INDEX('Selected values'!$M$4:$M$24, MATCH($A25,'Selected values'!$O$4:$O$24,0)), INDEX('Selected values'!$M$4:$M$24,MATCH($A25,'Selected values'!$P$4:$P$24,0)))","v":"South Korea"},{"$f":"ROUND(INDEX('Selected values'!$N$4:$N$24, MATCH(D25,'Selected values'!$M$4:$M$24,0)),1)","v":71.2},null,null,{"$f":"INDEX('Selected values'!$AF$4:$AF$24,MATCH(I25,'Selected values'!$AD$4:$AD$24,0))","v":4},{"$f":"IF($B$7=Lists!$K$2, INDEX('Selected values'!$X$4:$X$24, MATCH($A25,'Selected values'!$Z$4:$Z$24,0)), INDEX('Selected values'!$X$4:$X$24,MATCH($A25,'Selected values'!$AA$4:$AA$24,0)))","v":"Germany"},{"$f":"ROUND(INDEX('Selected values'!$Y$4:$Y$24, MATCH(I25,'Selected values'!$X$4:$X$24,0)),1)","v":60.8},null,null,{"$f":"INDEX('Selected values'!$AQ$4:$AQ$24,MATCH(N25,'Selected values'!$AO$4:$AO$24,0))","v":"=2"},{"$f":"IF($B$7=Lists!$K$2, INDEX('Selected values'!$AI$4:$AI$24, MATCH($A25,'Selected values'!$AK$4:$AK$24,0)), INDEX('Selected values'!$AI$4:$AI$24,MATCH($A25,'Selected values'!$AL$4:$AL$24,0)))","v":"United Arab Emirates"},{"$f":"ROUND(INDEX('Selected values'!$AJ$4:$AJ$24, MATCH(N25,'Selected values'!$AI$4:$AI$24,0)),1)","v":91.7},null,null,{"$f":"INDEX('Selected values'!$BB$4:$BB$24,MATCH(S25,'Selected values'!$AZ$4:$AZ$24,0))","v":4},{"$f":"IF($B$7=Lists!$K$2, INDEX('Selected values'!$AT$4:$AT$24, MATCH($A25,'Selected values'!$AV$4:$AV$24,0)), INDEX('Selected values'!$AT$4:$AT$24,MATCH($A25,'Selected values'!$AW$4:$AW$24,0)))","v":"France"},{"$f":"ROUND(INDEX('Selected values'!$AU$4:$AU$24, MATCH(S25,'Selected values'!$AT$4:$AT$24,0)),1)","v":82.1},null,null,{"$f":"INDEX('Selected values'!$BM$4:$BM$24,MATCH(X25,'Selected values'!$BK$4:$BK$24,0))","v":"=3"},{"$f":"IF($B$7=Lists!$K$2, INDEX('Selected values'!$BE$4:$BE$24, MATCH($A25,'Selected values'!$BG$4:$BG$24,0)), INDEX('Selected values'!$BE$4:$BE$24,MATCH($A25,'Selected values'!$BH$4:$BH$24,0)))","v":"France"},{"$f":"ROUND(INDEX('Selected values'!$BF$4:$BF$54, MATCH(X25,'Selected values'!$BE$4:$BE$54,0)),1)","v":66.7}]
[{"$f":"IF($B$7=Lists!$K$4, A25-1,A25+1)","v":5},null,{"$f":"INDEX('Selected values'!$U$4:$U$24,MATCH(D26,'Selected values'!$S$4:$S$24,0))","v":5},{"$f":"IF($B$7=Lists!$K$2, INDEX('Selected values'!$M$4:$M$24, MATCH($A26,'Selected values'!$O$4:$O$24,0)), INDEX('Selected values'!$M$4:$M$24,MATCH($A26,'Selected values'!$P$4:$P$24,0)))","v":"Finland"},{"$f":"ROUND(INDEX('Selected values'!$N$4:$N$24, MATCH(D26,'Selected values'!$M$4:$M$24,0)),1)","v":66.8},null,null,{"$f":"INDEX('Selected values'!$AF$4:$AF$24,MATCH(I26,'Selected values'!$AD$4:$AD$24,0))","v":5},{"$f":"IF($B$7=Lists!$K$2, INDEX('Selected values'!$X$4:$X$24, MATCH($A26,'Selected values'!$Z$4:$Z$24,0)), INDEX('Selected values'!$X$4:$X$24,MATCH($A26,'Selected values'!$AA$4:$AA$24,0)))","v":"Australia"},{"$f":"ROUND(INDEX('Selected values'!$Y$4:$Y$24, MATCH(I26,'Selected values'!$X$4:$X$24,0)),1)","v":57.9},null,null,{"$f":"INDEX('Selected values'!$AQ$4:$AQ$24,MATCH(N26,'Selected values'!$AO$4:$AO$24,0))","v":"=5"},{"$f":"IF($B$7=Lists!$K$2, INDEX('Selected values'!$AI$4:$AI$24, MATCH($A26,'Selected values'!$AK$4:$AK$24,0)), INDEX('Selected values'!$AI$4:$AI$24,MATCH($A26,'Selected values'!$AL$4:$AL$24,0)))","v":"France"},{"$f":"ROUND(INDEX('Selected values'!$AJ$4:$AJ$24, MATCH(N26,'Selected values'!$AI$4:$AI$24,0)),1)","v":86.1},null,null,{"$f":"INDEX('Selected values'!$BB$4:$BB$24,MATCH(S26,'Selected values'!$AZ$4:$AZ$24,0))","v":5},{"$f":"IF($B$7=Lists!$K$2, INDEX('Selected values'!$AT$4:$AT$24, MATCH($A26,'Selected values'!$AV$4:$AV$24,0)), INDEX('Selected values'!$AT$4:$AT$24,MATCH($A26,'Selected values'!$AW$4:$AW$24,0)))","v":"Brazil"},{"$f":"ROUND(INDEX('Selected values'!$AU$4:$AU$24, MATCH(S26,'Selected values'!$AT$4:$AT$24,0)),1)","v":78.5},null,null,{"$f":"INDEX('Selected values'!$BM$4:$BM$24,MATCH(X26,'Selected values'!$BK$4:$BK$24,0))","v":"=5"},{"$f":"IF($B$7=Lists!$K$2, INDEX('Selected values'!$BE$4:$BE$24, MATCH($A26,'Selected values'!$BG$4:$BG$24,0)), INDEX('Selected values'!$BE$4:$BE$24,MATCH($A26,'Selected values'!$BH$4:$BH$24,0)))","v":"Canada"},{"$f":"ROUND(INDEX('Selected values'!$BF$4:$BF$54, MATCH(X26,'Selected values'!$BE$4:$BE$54,0)),1)","v":58.3}]
[{"$f":"IF($B$7=Lists!$K$4, A26-1,A26+1)","v":6},null,{"$f":"INDEX('Selected values'!$U$4:$U$24,MATCH(D27,'Selected values'!$S$4:$S$24,0))","v":6},{"$f":"IF($B$7=Lists!$K$2, INDEX('Selected values'!$M$4:$M$24, MATCH($A27,'Selected values'!$O$4:$O$24,0)), INDEX('Selected values'!$M$4:$M$24,MATCH($A27,'Selected values'!$P$4:$P$24,0)))","v":"Germany"},{"$f":"ROUND(INDEX('Selected values'!$N$4:$N$24, MATCH(D27,'Selected values'!$M$4:$M$24,0)),1)","v":64.900000000000006},null,null,{"$f":"INDEX('Selected values'!$AF$4:$AF$24,MATCH(I27,'Selected values'!$AD$4:$AD$24,0))","v":6},{"$f":"IF($B$7=Lists!$K$2, INDEX('Selected values'!$X$4:$X$24, MATCH($A27,'Selected values'!$Z$4:$Z$24,0)), INDEX('Selected values'!$X$4:$X$24,MATCH($A27,'Selected values'!$AA$4:$AA$24,0)))","v":"South Korea"},{"$f":"ROUND(INDEX('Selected values'!$Y$4:$Y$24, MATCH(I27,'Selected values'!$X$4:$X$24,0)),1)","v":53.8},null,null,{"$f":"INDEX('Selected values'!$AQ$4:$AQ$24,MATCH(N27,'Selected values'!$AO$4:$AO$24,0))","v":"=5"},{"$f":"IF($B$7=Lists!$K$2, INDEX('Selected values'!$AI$4:$AI$24, MATCH($A27,'Selected values'!$AK$4:$AK$24,0)), INDEX('Selected values'!$AI$4:$AI$24,MATCH($A27,'Selected values'!$AL$4:$AL$24,0)))","v":"Serbia"},{"$f":"ROUND(INDEX('Selected values'!$AJ$4:$AJ$24, MATCH(N27,'Selected values'!$AI$4:$AI$24,0)),1)","v":86.1},null,null,{"$f":"INDEX('Selected values'!$BB$4:$BB$24,MATCH(S27,'Selected values'!$AZ$4:$AZ$24,0))","v":6},{"$f":"IF($B$7=Lists!$K$2, INDEX('Selected values'!$AT$4:$AT$24, MATCH($A27,'Selected values'!$AV$4:$AV$24,0)), INDEX('Selected values'!$AT$4:$AT$24,MATCH($A27,'Selected values'!$AW$4:$AW$24,0)))","v":"South Korea"},{"$f":"ROUND(INDEX('Selected values'!$AU$4:$AU$24, MATCH(S27,'Selected values'!$AT$4:$AT$24,0)),1)","v":78.400000000000006},null,null,{"$f":"INDEX('Selected values'!$BM$4:$BM$24,MATCH(X27,'Selected values'!$BK$4:$BK$24,0))","v":"=5"},{"$f":"IF($B$7=Lists!$K$2, INDEX('Selected values'!$BE$4:$BE$24, MATCH($A27,'Selected values'!$BG$4:$BG$24,0)), INDEX('Selected values'!$BE$4:$BE$24,MATCH($A27,'Selected values'!$BH$4:$BH$24,0)))","v":"Germany"},{"$f":"ROUND(INDEX('Selected values'!$BF$4:$BF$54, MATCH(X27,'Selected values'!$BE$4:$BE$54,0)),1)","v":58.3}]
[{"$f":"IF($B$7=Lists!$K$4, A27-1,A27+1)","v":7},null,{"$f":"INDEX('Selected values'!$U$4:$U$24,MATCH(D28,'Selected values'!$S$4:$S$24,0))","v":7},{"$f":"IF($B$7=Lists!$K$2, INDEX('Selected values'!$M$4:$M$24, MATCH($A28,'Selected values'!$O$4:$O$24,0)), INDEX('Selected values'!$M$4:$M$24,MATCH($A28,'Selected values'!$P$4:$P$24,0)))","v":"United Kingdom"},{"$f":"ROUND(INDEX('Selected values'!$N$4:$N$24, MATCH(D28,'Selected values'!$M$4:$M$24,0)),1)","v":64.400000000000006},null,null,{"$f":"INDEX('Selected values'!$AF$4:$AF$24,MATCH(I28,'Selected values'!$AD$4:$AD$24,0))","v":7},{"$f":"IF($B$7=Lists!$K$2, INDEX('Selected values'!$X$4:$X$24, MATCH($A28,'Selected values'!$Z$4:$Z$24,0)), INDEX('Selected values'!$X$4:$X$24,MATCH($A28,'Selected values'!$AA$4:$AA$24,0)))","v":"Brazil"},{"$f":"ROUND(INDEX('Selected values'!$Y$4:$Y$24, MATCH(I28,'Selected values'!$X$4:$X$24,0)),1)","v":52.9},null,null,{"$f":"INDEX('Selected values'!$AQ$4:$AQ$24,MATCH(N28,'Selected values'!$AO$4:$AO$24,0))","v":"=7"},{"$f":"IF($B$7=Lists!$K$2, INDEX('Selected values'!$AI$4:$AI$24, MATCH($A28,'Selected values'!$AK$4:$AK$24,0)), INDEX('Selected values'!$AI$4:$AI$24,MATCH($A28,'Selected values'!$AL$4:$AL$24,0)))","v":"Germany"},{"$f":"ROUND(INDEX('Selected values'!$AJ$4:$AJ$24, MATCH(N28,'Selected values'!$AI$4:$AI$24,0)),1)","v":77.8},null,null,{"$f":"INDEX('Selected values'!$BB$4:$BB$24,MATCH(S28,'Selected values'!$AZ$4:$AZ$24,0))","v":7},{"$f":"IF($B$7=Lists!$K$2, INDEX('Selected values'!$AT$4:$AT$24, MATCH($A28,'Selected values'!$AV$4:$AV$24,0)), INDEX('Selected values'!$AT$4:$AT$24,MATCH($A28,'Selected values'!$AW$4:$AW$24,0)))","v":"South Africa"},{"$f":"ROUND(INDEX('Selected values'!$AU$4:$AU$24, MATCH(S28,'Selected values'!$AT$4:$AT$24,0)),1)","v":75.5},null,null,{"$f":"INDEX('Selected values'!$BM$4:$BM$24,MATCH(X28,'Selected values'!$BK$4:$BK$24,0))","v":"=5"},{"$f":"IF($B$7=Lists!$K$2, INDEX('Selected values'!$BE$4:$BE$24, MATCH($A28,'Selected values'!$BG$4:$BG$24,0)), INDEX('Selected values'!$BE$4:$BE$24,MATCH($A28,'Selected values'!$BH$4:$BH$24,0)))","v":"Italy"},{"$f":"ROUND(INDEX('Selected values'!$BF$4:$BF$54, MATCH(X28,'Selected values'!$BE$4:$BE$54,0)),1)","v":58.3}]
[{"$f":"IF($B$7=Lists!$K$4, A28-1,A28+1)","v":8},null,{"$f":"INDEX('Selected values'!$U$4:$U$24,MATCH(D29,'Selected values'!$S$4:$S$24,0))","v":"=8"},{"$f":"IF($B$7=Lists!$K$2, INDEX('Selected values'!$M$4:$M$24, MATCH($A29,'Selected values'!$O$4:$O$24,0)), INDEX('Selected values'!$M$4:$M$24,MATCH($A29,'Selected values'!$P$4:$P$24,0)))","v":"China"},{"$f":"ROUND(INDEX('Selected values'!$N$4:$N$24, MATCH(D29,'Selected values'!$M$4:$M$24,0)),1)","v":63.1},null,null,{"$f":"INDEX('Selected values'!$AF$4:$AF$24,MATCH(I29,'Selected values'!$AD$4:$AD$24,0))","v":"=8"},{"$f":"IF($B$7=Lists!$K$2, INDEX('Selected values'!$X$4:$X$24, MATCH($A29,'Selected values'!$Z$4:$Z$24,0)), INDEX('Selected values'!$X$4:$X$24,MATCH($A29,'Selected values'!$AA$4:$AA$24,0)))","v":"China"},{"$f":"ROUND(INDEX('Selected values'!$Y$4:$Y$24, MATCH(I29,'Selected values'!$X$4:$X$24,0)),1)","v":52.5},null,null,{"$f":"INDEX('Selected values'!$AQ$4:$AQ$24,MATCH(N29,'Selected values'!$AO$4:$AO$24,0))","v":"=7"},{"$f":"IF($B$7=Lists!$K$2, INDEX('Selected values'!$AI$4:$AI$24, MATCH($A29,'Selected values'!$AK$4:$AK$24,0)), INDEX('Selected values'!$AI$4:$AI$24,MATCH($A29,'Selected values'!$AL$4:$AL$24,0)))","v":"Japan"},{"$f":"ROUND(INDEX('Selected values'!$AJ$4:$AJ$24, MATCH(N29,'Selected values'!$AI$4:$AI$24,0)),1)","v":77.8},null,null,{"$f":"INDEX('Selected values'!$BB$4:$BB$24,MATCH(S29,'Selected values'!$AZ$4:$AZ$24,0))","v":8},{"$f":"IF($B$7=Lists!$K$2, INDEX('Selected values'!$AT$4:$AT$24, MATCH($A29,'Selected values'!$AV$4:$AV$24,0)), INDEX('Selected values'!$AT$4:$AT$24,MATCH($A29,'Selected values'!$AW$4:$AW$24,0)))","v":"Finland"},{"$f":"ROUND(INDEX('Selected values'!$AU$4:$AU$24, MATCH(S29,'Selected values'!$AT$4:$AT$24,0)),1)","v":73},null,null,{"$f":"INDEX('Selected values'!$BM$4:$BM$24,MATCH(X29,'Selected values'!$BK$4:$BK$24,0))","v":"=5"},{"$f":"IF($B$7=Lists!$K$2, INDEX('Selected values'!$BE$4:$BE$24, MATCH($A29,'Selected values'!$BG$4:$BG$24,0)), INDEX('Selected values'!$BE$4:$BE$24,MATCH($A29,'Selected values'!$BH$4:$BH$24,0)))","v":"Serbia"},{"$f":"ROUND(INDEX('Selected values'!$BF$4:$BF$54, MATCH(X29,'Selected values'!$BE$4:$BE$54,0)),1)","v":58.3}]
[{"$f":"IF($B$7=Lists!$K$4, A29-1,A29+1)","v":9},null,{"$f":"INDEX('Selected values'!$U$4:$U$24,MATCH(D30,'Selected values'!$S$4:$S$24,0))","v":"=8"},{"$f":"IF($B$7=Lists!$K$2, INDEX('Selected values'!$M$4:$M$24, MATCH($A30,'Selected values'!$O$4:$O$24,0)), INDEX('Selected values'!$M$4:$M$24,MATCH($A30,'Selected values'!$P$4:$P$24,0)))","v":"Italy"},{"$f":"ROUND(INDEX('Selected values'!$N$4:$N$24, MATCH(D30,'Selected values'!$M$4:$M$24,0)),1)","v":63.1},null,null,{"$f":"INDEX('Selected values'!$AF$4:$AF$24,MATCH(I30,'Selected values'!$AD$4:$AD$24,0))","v":"=8"},{"$f":"IF($B$7=Lists!$K$2, INDEX('Selected values'!$X$4:$X$24, MATCH($A30,'Selected values'!$Z$4:$Z$24,0)), INDEX('Selected values'!$X$4:$X$24,MATCH($A30,'Selected values'!$AA$4:$AA$24,0)))","v":"Finland"},{"$f":"ROUND(INDEX('Selected values'!$Y$4:$Y$24, MATCH(I30,'Selected values'!$X$4:$X$24,0)),1)","v":52.5},null,null,{"$f":"INDEX('Selected values'!$AQ$4:$AQ$24,MATCH(N30,'Selected values'!$AO$4:$AO$24,0))","v":"=7"},{"$f":"IF($B$7=Lists!$K$2, INDEX('Selected values'!$AI$4:$AI$24, MATCH($A30,'Selected values'!$AK$4:$AK$24,0)), INDEX('Selected values'!$AI$4:$AI$24,MATCH($A30,'Selected values'!$AL$4:$AL$24,0)))","v":"South Korea"},{"$f":"ROUND(INDEX('Selected values'!$AJ$4:$AJ$24, MATCH(N30,'Selected values'!$AI$4:$AI$24,0)),1)","v":77.8},null,null,{"$f":"INDEX('Selected values'!$BB$4:$BB$24,MATCH(S30,'Selected values'!$AZ$4:$AZ$24,0))","v":9},{"$f":"IF($B$7=Lists!$K$2, INDEX('Selected values'!$AT$4:$AT$24, MATCH($A30,'Selected values'!$AV$4:$AV$24,0)), INDEX('Selected values'!$AT$4:$AT$24,MATCH($A30,'Selected values'!$AW$4:$AW$24,0)))","v":"Italy"},{"$f":"ROUND(INDEX('Selected values'!$AU$4:$AU$24, MATCH(S30,'Selected values'!$AT$4:$AT$24,0)),1)","v":72.3},null,null,{"$f":"INDEX('Selected values'!$BM$4:$BM$24,MATCH(X30,'Selected values'!$BK$4:$BK$24,0))","v":"=9"},{"$f":"IF($B$7=Lists!$K$2, INDEX('Selected values'!$BE$4:$BE$24, MATCH($A30,'Selected values'!$BG$4:$BG$24,0)), INDEX('Selected values'!$BE$4:$BE$24,MATCH($A30,'Selected values'!$BH$4:$BH$24,0)))","v":"Finland"},{"$f":"ROUND(INDEX('Selected values'!$BF$4:$BF$54, MATCH(X30,'Selected values'!$BE$4:$BE$54,0)),1)","v":50}]
[{"$f":"IF($B$7=Lists!$K$4, A30-1,A30+1)","v":10},null,{"$f":"INDEX('Selected values'!$U$4:$U$24,MATCH(D31,'Selected values'!$S$4:$S$24,0))","v":10},{"$f":"IF($B$7=Lists!$K$2, INDEX('Selected values'!$M$4:$M$24, MATCH($A31,'Selected values'!$O$4:$O$24,0)), INDEX('Selected values'!$M$4:$M$24,MATCH($A31,'Selected values'!$P$4:$P$24,0)))","v":"Australia"},{"$f":"ROUND(INDEX('Selected values'!$N$4:$N$24, MATCH(D31,'Selected values'!$M$4:$M$24,0)),1)","v":58.8},null,null,{"$f":"INDEX('Selected values'!$AF$4:$AF$24,MATCH(I31,'Selected values'!$AD$4:$AD$24,0))","v":10},{"$f":"IF($B$7=Lists!$K$2, INDEX('Selected values'!$X$4:$X$24, MATCH($A31,'Selected values'!$Z$4:$Z$24,0)), INDEX('Selected values'!$X$4:$X$24,MATCH($A31,'Selected values'!$AA$4:$AA$24,0)))","v":"Italy"},{"$f":"ROUND(INDEX('Selected values'!$Y$4:$Y$24, MATCH(I31,'Selected values'!$X$4:$X$24,0)),1)","v":52.1},null,null,{"$f":"INDEX('Selected values'!$AQ$4:$AQ$24,MATCH(N31,'Selected values'!$AO$4:$AO$24,0))","v":10},{"$f":"IF($B$7=Lists!$K$2, INDEX('Selected values'!$AI$4:$AI$24, MATCH($A31,'Selected values'!$AK$4:$AK$24,0)), INDEX('Selected values'!$AI$4:$AI$24,MATCH($A31,'Selected values'!$AL$4:$AL$24,0)))","v":"Australia"},{"$f":"ROUND(INDEX('Selected values'!$AJ$4:$AJ$24, MATCH(N31,'Selected values'!$AI$4:$AI$24,0)),1)","v":75},null,null,{"$f":"INDEX('Selected values'!$BB$4:$BB$24,MATCH(S31,'Selected values'!$AZ$4:$AZ$24,0))","v":""},{"$f":"IF($B$7=Lists!$K$2, INDEX('Selected values'!$AT$4:$AT$24, MATCH($A31,'Selected values'!$AV$4:$AV$24,0)), INDEX('Selected values'!$AT$4:$AT$24,MATCH($A31,'Selected values'!$AW$4:$AW$24,0)))","v":"AVERAGE"},{"$f":"ROUND(INDEX('Selected values'!$AU$4:$AU$24, MATCH(S31,'Selected values'!$AT$4:$AT$24,0)),1)","v":66.099999999999994},null,null,{"$f":"INDEX('Selected values'!$BM$4:$BM$24,MATCH(X31,'Selected values'!$BK$4:$BK$24,0))","v":"=9"},{"$f":"IF($B$7=Lists!$K$2, INDEX('Selected values'!$BE$4:$BE$24, MATCH($A31,'Selected values'!$BG$4:$BG$24,0)), INDEX('Selected values'!$BE$4:$BE$24,MATCH($A31,'Selected values'!$BH$4:$BH$24,0)))","v":"Japan"},{"$f":"ROUND(INDEX('Selected values'!$BF$4:$BF$54, MATCH(X31,'Selected values'!$BE$4:$BE$54,0)),1)","v":50}]
[{"$f":"IF($B$7=Lists!$K$4, A31-1,A31+1)","v":11},null,{"$f":"INDEX('Selected values'!$U$4:$U$24,MATCH(D32,'Selected values'!$S$4:$S$24,0))","v":""},{"$f":"IF($B$7=Lists!$K$2, INDEX('Selected values'!$M$4:$M$24, MATCH($A32,'Selected values'!$O$4:$O$24,0)), INDEX('Selected values'!$M$4:$M$24,MATCH($A32,'Selected values'!$P$4:$P$24,0)))","v":"AVERAGE"},{"$f":"ROUND(INDEX('Selected values'!$N$4:$N$24, MATCH(D32,'Selected values'!$M$4:$M$24,0)),1)","v":55.9},null,null,{"$f":"INDEX('Selected values'!$AF$4:$AF$24,MATCH(I32,'Selected values'!$AD$4:$AD$24,0))","v":""},{"$f":"IF($B$7=Lists!$K$2, INDEX('Selected values'!$X$4:$X$24, MATCH($A32,'Selected values'!$Z$4:$Z$24,0)), INDEX('Selected values'!$X$4:$X$24,MATCH($A32,'Selected values'!$AA$4:$AA$24,0)))","v":"AVERAGE"},{"$f":"ROUND(INDEX('Selected values'!$Y$4:$Y$24, MATCH(I32,'Selected values'!$X$4:$X$24,0)),1)","v":45.1},null,null,{"$f":"INDEX('Selected values'!$AQ$4:$AQ$24,MATCH(N32,'Selected values'!$AO$4:$AO$24,0))","v":"=11"},{"$f":"IF($B$7=Lists!$K$2, INDEX('Selected values'!$AI$4:$AI$24, MATCH($A32,'Selected values'!$AK$4:$AK$24,0)), INDEX('Selected values'!$AI$4:$AI$24,MATCH($A32,'Selected values'!$AL$4:$AL$24,0)))","v":"Italy"},{"$f":"ROUND(INDEX('Selected values'!$AJ$4:$AJ$24, MATCH(N32,'Selected values'!$AI$4:$AI$24,0)),1)","v":69.400000000000006},null,null,{"$f":"INDEX('Selected values'!$BB$4:$BB$24,MATCH(S32,'Selected values'!$AZ$4:$AZ$24,0))","v":10},{"$f":"IF($B$7=Lists!$K$2, INDEX('Selected values'!$AT$4:$AT$24, MATCH($A32,'Selected values'!$AV$4:$AV$24,0)), INDEX('Selected values'!$AT$4:$AT$24,MATCH($A32,'Selected values'!$AW$4:$AW$24,0)))","v":"United Arab Emirates"},{"$f":"ROUND(INDEX('Selected values'!$AU$4:$AU$24, MATCH(S32,'Selected values'!$AT$4:$AT$24,0)),1)","v":65.3},null,null,{"$f":"INDEX('Selected values'!$BM$4:$BM$24,MATCH(X32,'Selected values'!$BK$4:$BK$24,0))","v":"=9"},{"$f":"IF($B$7=Lists!$K$2, INDEX('Selected values'!$BE$4:$BE$24, MATCH($A32,'Selected values'!$BG$4:$BG$24,0)), INDEX('Selected values'!$BE$4:$BE$24,MATCH($A32,'Selected values'!$BH$4:$BH$24,0)))","v":"South Africa"},{"$f":"ROUND(INDEX('Selected values'!$BF$4:$BF$54, MATCH(X32,'Selected values'!$BE$4:$BE$54,0)),1)","v":50}]
[{"$f":"IF($B$7=Lists!$K$4, A32-1,A32+1)","v":12},null,{"$f":"INDEX('Selected values'!$U$4:$U$24,MATCH(D33,'Selected values'!$S$4:$S$24,0))","v":11},{"$f":"IF($B$7=Lists!$K$2, INDEX('Selected values'!$M$4:$M$24, MATCH($A33,'Selected values'!$O$4:$O$24,0)), INDEX('Selected values'!$M$4:$M$24,MATCH($A33,'Selected values'!$P$4:$P$24,0)))","v":"Mexico"},{"$f":"ROUND(INDEX('Selected values'!$N$4:$N$24, MATCH(D33,'Selected values'!$M$4:$M$24,0)),1)","v":55.3},null,null,{"$f":"INDEX('Selected values'!$AF$4:$AF$24,MATCH(I33,'Selected values'!$AD$4:$AD$24,0))","v":11},{"$f":"IF($B$7=Lists!$K$2, INDEX('Selected values'!$X$4:$X$24, MATCH($A33,'Selected values'!$Z$4:$Z$24,0)), INDEX('Selected values'!$X$4:$X$24,MATCH($A33,'Selected values'!$AA$4:$AA$24,0)))","v":"South Africa"},{"$f":"ROUND(INDEX('Selected values'!$Y$4:$Y$24, MATCH(I33,'Selected values'!$X$4:$X$24,0)),1)","v":42.9},null,null,{"$f":"INDEX('Selected values'!$AQ$4:$AQ$24,MATCH(N33,'Selected values'!$AO$4:$AO$24,0))","v":"=11"},{"$f":"IF($B$7=Lists!$K$2, INDEX('Selected values'!$AI$4:$AI$24, MATCH($A33,'Selected values'!$AK$4:$AK$24,0)), INDEX('Selected values'!$AI$4:$AI$24,MATCH($A33,'Selected values'!$AL$4:$AL$24,0)))","v":"Saudi Arabia"},{"$f":"ROUND(INDEX('Selected values'!$AJ$4:$AJ$24, MATCH(N33,'Selected values'!$AI$4:$AI$24,0)),1)","v":69.400000000000006},null,null,{"$f":"INDEX('Selected values'!$BB$4:$BB$24,MATCH(S33,'Selected values'!$AZ$4:$AZ$24,0))","v":11},{"$f":"IF($B$7=Lists!$K$2, INDEX('Selected values'!$AT$4:$AT$24, MATCH($A33,'Selected values'!$AV$4:$AV$24,0)), INDEX('Selected values'!$AT$4:$AT$24,MATCH($A33,'Selected values'!$AW$4:$AW$24,0)))","v":"China"},{"$f":"ROUND(INDEX('Selected values'!$AU$4:$AU$24, MATCH(S33,'Selected values'!$AT$4:$AT$24,0)),1)","v":63.6},null,null,{"$f":"INDEX('Selected values'!$BM$4:$BM$24,MATCH(X33,'Selected values'!$BK$4:$BK$24,0))","v":""},{"$f":"IF($B$7=Lists!$K$2, INDEX('Selected values'!$BE$4:$BE$24, MATCH($A33,'Selected values'!$BG$4:$BG$24,0)), INDEX('Selected values'!$BE$4:$BE$24,MATCH($A33,'Selected values'!$BH$4:$BH$24,0)))","v":"AVERAGE"},{"$f":"ROUND(INDEX('Selected values'!$BF$4:$BF$54, MATCH(X33,'Selected values'!$BE$4:$BE$54,0)),1)","v":48.3}]
[{"$f":"IF($B$7=Lists!$K$4, A33-1,A33+1)","v":13},null,{"$f":"INDEX('Selected values'!$U$4:$U$24,MATCH(D34,'Selected values'!$S$4:$S$24,0))","v":12},{"$f":"IF($B$7=Lists!$K$2, INDEX('Selected values'!$M$4:$M$24, MATCH($A34,'Selected values'!$O$4:$O$24,0)), INDEX('Selected values'!$M$4:$M$24,MATCH($A34,'Selected values'!$P$4:$P$24,0)))","v":"United Arab Emirates"},{"$f":"ROUND(INDEX('Selected values'!$N$4:$N$24, MATCH(D34,'Selected values'!$M$4:$M$24,0)),1)","v":54.7},null,null,{"$f":"INDEX('Selected values'!$AF$4:$AF$24,MATCH(I34,'Selected values'!$AD$4:$AD$24,0))","v":"=12"},{"$f":"IF($B$7=Lists!$K$2, INDEX('Selected values'!$X$4:$X$24, MATCH($A34,'Selected values'!$Z$4:$Z$24,0)), INDEX('Selected values'!$X$4:$X$24,MATCH($A34,'Selected values'!$AA$4:$AA$24,0)))","v":"Mexico"},{"$f":"ROUND(INDEX('Selected values'!$Y$4:$Y$24, MATCH(I34,'Selected values'!$X$4:$X$24,0)),1)","v":42.5},null,null,{"$f":"INDEX('Selected values'!$AQ$4:$AQ$24,MATCH(N34,'Selected values'!$AO$4:$AO$24,0))","v":""},{"$f":"IF($B$7=Lists!$K$2, INDEX('Selected values'!$AI$4:$AI$24, MATCH($A34,'Selected values'!$AK$4:$AK$24,0)), INDEX('Selected values'!$AI$4:$AI$24,MATCH($A34,'Selected values'!$AL$4:$AL$24,0)))","v":"AVERAGE"},{"$f":"ROUND(INDEX('Selected values'!$AJ$4:$AJ$24, MATCH(N34,'Selected values'!$AI$4:$AI$24,0)),1)","v":63.9},null,null,{"$f":"INDEX('Selected values'!$BB$4:$BB$24,MATCH(S34,'Selected values'!$AZ$4:$AZ$24,0))","v":12},{"$f":"IF($B$7=Lists!$K$2, INDEX('Selected values'!$AT$4:$AT$24, MATCH($A34,'Selected values'!$AV$4:$AV$24,0)), INDEX('Selected values'!$AT$4:$AT$24,MATCH($A34,'Selected values'!$AW$4:$AW$24,0)))","v":"Canada"},{"$f":"ROUND(INDEX('Selected values'!$AU$4:$AU$24, MATCH(S34,'Selected values'!$AT$4:$AT$24,0)),1)","v":63.2},null,null,{"$f":"INDEX('Selected values'!$BM$4:$BM$24,MATCH(X34,'Selected values'!$BK$4:$BK$24,0))","v":"=12"},{"$f":"IF($B$7=Lists!$K$2, INDEX('Selected values'!$BE$4:$BE$24, MATCH($A34,'Selected values'!$BG$4:$BG$24,0)), INDEX('Selected values'!$BE$4:$BE$24,MATCH($A34,'Selected values'!$BH$4:$BH$24,0)))","v":"Australia"},{"$f":"ROUND(INDEX('Selected values'!$BF$4:$BF$54, MATCH(X34,'Selected values'!$BE$4:$BE$54,0)),1)","v":41.7}]
[{"$f":"IF($B$7=Lists!$K$4, A34-1,A34+1)","v":14},null,{"$f":"INDEX('Selected values'!$U$4:$U$24,MATCH(D35,'Selected values'!$S$4:$S$24,0))","v":"=13"},{"$f":"IF($B$7=Lists!$K$2, INDEX('Selected values'!$M$4:$M$24, MATCH($A35,'Selected values'!$O$4:$O$24,0)), INDEX('Selected values'!$M$4:$M$24,MATCH($A35,'Selected values'!$P$4:$P$24,0)))","v":"Japan"},{"$f":"ROUND(INDEX('Selected values'!$N$4:$N$24, MATCH(D35,'Selected values'!$M$4:$M$24,0)),1)","v":54.4},null,null,{"$f":"INDEX('Selected values'!$AF$4:$AF$24,MATCH(I35,'Selected values'!$AD$4:$AD$24,0))","v":"=12"},{"$f":"IF($B$7=Lists!$K$2, INDEX('Selected values'!$X$4:$X$24, MATCH($A35,'Selected values'!$Z$4:$Z$24,0)), INDEX('Selected values'!$X$4:$X$24,MATCH($A35,'Selected values'!$AA$4:$AA$24,0)))","v":"United Kingdom"},{"$f":"ROUND(INDEX('Selected values'!$Y$4:$Y$24, MATCH(I35,'Selected values'!$X$4:$X$24,0)),1)","v":42.5},null,null,{"$f":"INDEX('Selected values'!$AQ$4:$AQ$24,MATCH(N35,'Selected values'!$AO$4:$AO$24,0))","v":"=13"},{"$f":"IF($B$7=Lists!$K$2, INDEX('Selected values'!$AI$4:$AI$24, MATCH($A35,'Selected values'!$AK$4:$AK$24,0)), INDEX('Selected values'!$AI$4:$AI$24,MATCH($A35,'Selected values'!$AL$4:$AL$24,0)))","v":"China"},{"$f":"ROUND(INDEX('Selected values'!$AJ$4:$AJ$24, MATCH(N35,'Selected values'!$AI$4:$AI$24,0)),1)","v":61.1},null,null,{"$f":"INDEX('Selected values'!$BB$4:$BB$24,MATCH(S35,'Selected values'!$AZ$4:$AZ$24,0))","v":13},{"$f":"IF($B$7=Lists!$K$2, INDEX('Selected values'!$AT$4:$AT$24, MATCH($A35,'Selected values'!$AV$4:$AV$24,0)), INDEX('Selected values'!$AT$4:$AT$24,MATCH($A35,'Selected values'!$AW$4:$AW$24,0)))","v":"Germany"},{"$f":"ROUND(INDEX('Selected values'!$AU$4:$AU$24, MATCH(S35,'Selected values'!$AT$4:$AT$24,0)),1)","v":62.6},null,null,{"$f":"INDEX('Selected values'!$BM$4:$BM$24,MATCH(X35,'Selected values'!$BK$4:$BK$24,0))","v":"=12"},{"$f":"IF($B$7=Lists!$K$2, INDEX('Selected values'!$BE$4:$BE$24, MATCH($A35,'Selected values'!$BG$4:$BG$24,0)), INDEX('Selected values'!$BE$4:$BE$24,MATCH($A35,'Selected values'!$BH$4:$BH$24,0)))","v":"India"},{"$f":"ROUND(INDEX('Selected values'!$BF$4:$BF$54, MATCH(X35,'Selected values'!$BE$4:$BE$54,0)),1)","v":41.7}]
[{"$f":"IF($B$7=Lists!$K$4, A35-1,A35+1)","v":15},null,{"$f":"INDEX('Selected values'!$U$4:$U$24,MATCH(D36,'Selected values'!$S$4:$S$24,0))","v":"=13"},{"$f":"IF($B$7=Lists!$K$2, INDEX('Selected values'!$M$4:$M$24, MATCH($A36,'Selected values'!$O$4:$O$24,0)), INDEX('Selected values'!$M$4:$M$24,MATCH($A36,'Selected values'!$P$4:$P$24,0)))","v":"Spain"},{"$f":"ROUND(INDEX('Selected values'!$N$4:$N$24, MATCH(D36,'Selected values'!$M$4:$M$24,0)),1)","v":54.4},null,null,{"$f":"INDEX('Selected values'!$AF$4:$AF$24,MATCH(I36,'Selected values'!$AD$4:$AD$24,0))","v":14},{"$f":"IF($B$7=Lists!$K$2, INDEX('Selected values'!$X$4:$X$24, MATCH($A36,'Selected values'!$Z$4:$Z$24,0)), INDEX('Selected values'!$X$4:$X$24,MATCH($A36,'Selected values'!$AA$4:$AA$24,0)))","v":"Saudi Arabia"},{"$f":"ROUND(INDEX('Selected values'!$Y$4:$Y$24, MATCH(I36,'Selected values'!$X$4:$X$24,0)),1)","v":32.1},null,null,{"$f":"INDEX('Selected values'!$AQ$4:$AQ$24,MATCH(N36,'Selected values'!$AO$4:$AO$24,0))","v":"=13"},{"$f":"IF($B$7=Lists!$K$2, INDEX('Selected values'!$AI$4:$AI$24, MATCH($A36,'Selected values'!$AK$4:$AK$24,0)), INDEX('Selected values'!$AI$4:$AI$24,MATCH($A36,'Selected values'!$AL$4:$AL$24,0)))","v":"Mexico"},{"$f":"ROUND(INDEX('Selected values'!$AJ$4:$AJ$24, MATCH(N36,'Selected values'!$AI$4:$AI$24,0)),1)","v":61.1},null,null,{"$f":"INDEX('Selected values'!$BB$4:$BB$24,MATCH(S36,'Selected values'!$AZ$4:$AZ$24,0))","v":14},{"$f":"IF($B$7=Lists!$K$2, INDEX('Selected values'!$AT$4:$AT$24, MATCH($A36,'Selected values'!$AV$4:$AV$24,0)), INDEX('Selected values'!$AT$4:$AT$24,MATCH($A36,'Selected values'!$AW$4:$AW$24,0)))","v":"Australia"},{"$f":"ROUND(INDEX('Selected values'!$AU$4:$AU$24, MATCH(S36,'Selected values'!$AT$4:$AT$24,0)),1)","v":60.4},null,null,{"$f":"INDEX('Selected values'!$BM$4:$BM$24,MATCH(X36,'Selected values'!$BK$4:$BK$24,0))","v":"=12"},{"$f":"IF($B$7=Lists!$K$2, INDEX('Selected values'!$BE$4:$BE$24, MATCH($A36,'Selected values'!$BG$4:$BG$24,0)), INDEX('Selected values'!$BE$4:$BE$24,MATCH($A36,'Selected values'!$BH$4:$BH$24,0)))","v":"Rwanda"},{"$f":"ROUND(INDEX('Selected values'!$BF$4:$BF$54, MATCH(X36,'Selected values'!$BE$4:$BE$54,0)),1)","v":41.7}]
[{"$f":"IF($B$7=Lists!$K$4, A36-1,A36+1)","v":16},null,{"$f":"INDEX('Selected values'!$U$4:$U$24,MATCH(D37,'Selected values'!$S$4:$S$24,0))","v":15},{"$f":"IF($B$7=Lists!$K$2, INDEX('Selected values'!$M$4:$M$24, MATCH($A37,'Selected values'!$O$4:$O$24,0)), INDEX('Selected values'!$M$4:$M$24,MATCH($A37,'Selected values'!$P$4:$P$24,0)))","v":"Canada"},{"$f":"ROUND(INDEX('Selected values'!$N$4:$N$24, MATCH(D37,'Selected values'!$M$4:$M$24,0)),1)","v":47.9},null,null,{"$f":"INDEX('Selected values'!$AF$4:$AF$24,MATCH(I37,'Selected values'!$AD$4:$AD$24,0))","v":15},{"$f":"IF($B$7=Lists!$K$2, INDEX('Selected values'!$X$4:$X$24, MATCH($A37,'Selected values'!$Z$4:$Z$24,0)), INDEX('Selected values'!$X$4:$X$24,MATCH($A37,'Selected values'!$AA$4:$AA$24,0)))","v":"Japan"},{"$f":"ROUND(INDEX('Selected values'!$Y$4:$Y$24, MATCH(I37,'Selected values'!$X$4:$X$24,0)),1)","v":30},null,null,{"$f":"INDEX('Selected values'!$AQ$4:$AQ$24,MATCH(N37,'Selected values'!$AO$4:$AO$24,0))","v":15},{"$f":"IF($B$7=Lists!$K$2, INDEX('Selected values'!$AI$4:$AI$24, MATCH($A37,'Selected values'!$AK$4:$AK$24,0)), INDEX('Selected values'!$AI$4:$AI$24,MATCH($A37,'Selected values'!$AL$4:$AL$24,0)))","v":"Canada"},{"$f":"ROUND(INDEX('Selected values'!$AJ$4:$AJ$24, MATCH(N37,'Selected values'!$AI$4:$AI$24,0)),1)","v":50},null,null,{"$f":"INDEX('Selected values'!$BB$4:$BB$24,MATCH(S37,'Selected values'!$AZ$4:$AZ$24,0))","v":15},{"$f":"IF($B$7=Lists!$K$2, INDEX('Selected values'!$AT$4:$AT$24, MATCH($A37,'Selected values'!$AV$4:$AV$24,0)), INDEX('Selected values'!$AT$4:$AT$24,MATCH($A37,'Selected values'!$AW$4:$AW$24,0)))","v":"Serbia"},{"$f":"ROUND(INDEX('Selected values'!$AU$4:$AU$24, MATCH(S37,'Selected values'!$AT$4:$AT$24,0)),1)","v":59.9},null,null,{"$f":"INDEX('Selected values'!$BM$4:$BM$24,MATCH(X37,'Selected values'!$BK$4:$BK$24,0))","v":"=12"},{"$f":"IF($B$7=Lists!$K$2, INDEX('Selected values'!$BE$4:$BE$24, MATCH($A37,'Selected values'!$BG$4:$BG$24,0)), INDEX('Selected values'!$BE$4:$BE$24,MATCH($A37,'Selected values'!$BH$4:$BH$24,0)))","v":"Spain"},{"$f":"ROUND(INDEX('Selected values'!$BF$4:$BF$54, MATCH(X37,'Selected values'!$BE$4:$BE$54,0)),1)","v":41.7}]
[{"$f":"IF($B$7=Lists!$K$4, A37-1,A37+1)","v":17},null,{"$f":"INDEX('Selected values'!$U$4:$U$24,MATCH(D38,'Selected values'!$S$4:$S$24,0))","v":16},{"$f":"IF($B$7=Lists!$K$2, INDEX('Selected values'!$M$4:$M$24, MATCH($A38,'Selected values'!$O$4:$O$24,0)), INDEX('Selected values'!$M$4:$M$24,MATCH($A38,'Selected values'!$P$4:$P$24,0)))","v":"Saudi Arabia"},{"$f":"ROUND(INDEX('Selected values'!$N$4:$N$24, MATCH(D38,'Selected values'!$M$4:$M$24,0)),1)","v":44.5},null,null,{"$f":"INDEX('Selected values'!$AF$4:$AF$24,MATCH(I38,'Selected values'!$AD$4:$AD$24,0))","v":16},{"$f":"IF($B$7=Lists!$K$2, INDEX('Selected values'!$X$4:$X$24, MATCH($A38,'Selected values'!$Z$4:$Z$24,0)), INDEX('Selected values'!$X$4:$X$24,MATCH($A38,'Selected values'!$AA$4:$AA$24,0)))","v":"India"},{"$f":"ROUND(INDEX('Selected values'!$Y$4:$Y$24, MATCH(I38,'Selected values'!$X$4:$X$24,0)),1)","v":26.3},null,null,{"$f":"INDEX('Selected values'!$AQ$4:$AQ$24,MATCH(N38,'Selected values'!$AO$4:$AO$24,0))","v":16},{"$f":"IF($B$7=Lists!$K$2, INDEX('Selected values'!$AI$4:$AI$24, MATCH($A38,'Selected values'!$AK$4:$AK$24,0)), INDEX('Selected values'!$AI$4:$AI$24,MATCH($A38,'Selected values'!$AL$4:$AL$24,0)))","v":"Rwanda"},{"$f":"ROUND(INDEX('Selected values'!$AJ$4:$AJ$24, MATCH(N38,'Selected values'!$AI$4:$AI$24,0)),1)","v":47.2},null,null,{"$f":"INDEX('Selected values'!$BB$4:$BB$24,MATCH(S38,'Selected values'!$AZ$4:$AZ$24,0))","v":16},{"$f":"IF($B$7=Lists!$K$2, INDEX('Selected values'!$AT$4:$AT$24, MATCH($A38,'Selected values'!$AV$4:$AV$24,0)), INDEX('Selected values'!$AT$4:$AT$24,MATCH($A38,'Selected values'!$AW$4:$AW$24,0)))","v":"Japan"},{"$f":"ROUND(INDEX('Selected values'!$AU$4:$AU$24, MATCH(S38,'Selected values'!$AT$4:$AT$24,0)),1)","v":59.7},null,null,{"$f":"INDEX('Selected values'!$BM$4:$BM$24,MATCH(X38,'Selected values'!$BK$4:$BK$24,0))","v":"=12"},{"$f":"IF($B$7=Lists!$K$2, INDEX('Selected values'!$BE$4:$BE$24, MATCH($A38,'Selected values'!$BG$4:$BG$24,0)), INDEX('Selected values'!$BE$4:$BE$24,MATCH($A38,'Selected values'!$BH$4:$BH$24,0)))","v":"United Arab Emirates"},{"$f":"ROUND(INDEX('Selected values'!$BF$4:$BF$54, MATCH(X38,'Selected values'!$BE$4:$BE$54,0)),1)","v":41.7}]
[{"$f":"IF($B$7=Lists!$K$4, A38-1,A38+1)","v":18},null,{"$f":"INDEX('Selected values'!$U$4:$U$24,MATCH(D39,'Selected values'!$S$4:$S$24,0))","v":17},{"$f":"IF($B$7=Lists!$K$2, INDEX('Selected values'!$M$4:$M$24, MATCH($A39,'Selected values'!$O$4:$O$24,0)), INDEX('Selected values'!$M$4:$M$24,MATCH($A39,'Selected values'!$P$4:$P$24,0)))","v":"South Africa"},{"$f":"ROUND(INDEX('Selected values'!$N$4:$N$24, MATCH(D39,'Selected values'!$M$4:$M$24,0)),1)","v":44.2},null,null,{"$f":"INDEX('Selected values'!$AF$4:$AF$24,MATCH(I39,'Selected values'!$AD$4:$AD$24,0))","v":17},{"$f":"IF($B$7=Lists!$K$2, INDEX('Selected values'!$X$4:$X$24, MATCH($A39,'Selected values'!$Z$4:$Z$24,0)), INDEX('Selected values'!$X$4:$X$24,MATCH($A39,'Selected values'!$AA$4:$AA$24,0)))","v":"Nigeria"},{"$f":"ROUND(INDEX('Selected values'!$Y$4:$Y$24, MATCH(I39,'Selected values'!$X$4:$X$24,0)),1)","v":22.5},null,null,{"$f":"INDEX('Selected values'!$AQ$4:$AQ$24,MATCH(N39,'Selected values'!$AO$4:$AO$24,0))","v":17},{"$f":"IF($B$7=Lists!$K$2, INDEX('Selected values'!$AI$4:$AI$24, MATCH($A39,'Selected values'!$AK$4:$AK$24,0)), INDEX('Selected values'!$AI$4:$AI$24,MATCH($A39,'Selected values'!$AL$4:$AL$24,0)))","v":"Spain"},{"$f":"ROUND(INDEX('Selected values'!$AJ$4:$AJ$24, MATCH(N39,'Selected values'!$AI$4:$AI$24,0)),1)","v":30.6},null,null,{"$f":"INDEX('Selected values'!$BB$4:$BB$24,MATCH(S39,'Selected values'!$AZ$4:$AZ$24,0))","v":17},{"$f":"IF($B$7=Lists!$K$2, INDEX('Selected values'!$AT$4:$AT$24, MATCH($A39,'Selected values'!$AV$4:$AV$24,0)), INDEX('Selected values'!$AT$4:$AT$24,MATCH($A39,'Selected values'!$AW$4:$AW$24,0)))","v":"India"},{"$f":"ROUND(INDEX('Selected values'!$AU$4:$AU$24, MATCH(S39,'Selected values'!$AT$4:$AT$24,0)),1)","v":51.6},null,null,{"$f":"INDEX('Selected values'!$BM$4:$BM$24,MATCH(X39,'Selected values'!$BK$4:$BK$24,0))","v":"=17"},{"$f":"IF($B$7=Lists!$K$2, INDEX('Selected values'!$BE$4:$BE$24, MATCH($A39,'Selected values'!$BG$4:$BG$24,0)), INDEX('Selected values'!$BE$4:$BE$24,MATCH($A39,'Selected values'!$BH$4:$BH$24,0)))","v":"Mexico"},{"$f":"ROUND(INDEX('Selected values'!$BF$4:$BF$54, MATCH(X39,'Selected values'!$BE$4:$BE$54,0)),1)","v":33.299999999999997}]
[{"$f":"IF($B$7=Lists!$K$4, A39-1,A39+1)","v":19},null,{"$f":"INDEX('Selected values'!$U$4:$U$24,MATCH(D40,'Selected values'!$S$4:$S$24,0))","v":18},{"$f":"IF($B$7=Lists!$K$2, INDEX('Selected values'!$M$4:$M$24, MATCH($A40,'Selected values'!$O$4:$O$24,0)), INDEX('Selected values'!$M$4:$M$24,MATCH($A40,'Selected values'!$P$4:$P$24,0)))","v":"Rwanda"},{"$f":"ROUND(INDEX('Selected values'!$N$4:$N$24, MATCH(D40,'Selected values'!$M$4:$M$24,0)),1)","v":39.1},null,null,{"$f":"INDEX('Selected values'!$AF$4:$AF$24,MATCH(I40,'Selected values'!$AD$4:$AD$24,0))","v":18},{"$f":"IF($B$7=Lists!$K$2, INDEX('Selected values'!$X$4:$X$24, MATCH($A40,'Selected values'!$Z$4:$Z$24,0)), INDEX('Selected values'!$X$4:$X$24,MATCH($A40,'Selected values'!$AA$4:$AA$24,0)))","v":"Rwanda"},{"$f":"ROUND(INDEX('Selected values'!$Y$4:$Y$24, MATCH(I40,'Selected values'!$X$4:$X$24,0)),1)","v":21.7},null,null,{"$f":"INDEX('Selected values'!$AQ$4:$AQ$24,MATCH(N40,'Selected values'!$AO$4:$AO$24,0))","v":18},{"$f":"IF($B$7=Lists!$K$2, INDEX('Selected values'!$AI$4:$AI$24, MATCH($A40,'Selected values'!$AK$4:$AK$24,0)), INDEX('Selected values'!$AI$4:$AI$24,MATCH($A40,'Selected values'!$AL$4:$AL$24,0)))","v":"India"},{"$f":"ROUND(INDEX('Selected values'!$AJ$4:$AJ$24, MATCH(N40,'Selected values'!$AI$4:$AI$24,0)),1)","v":25},null,null,{"$f":"INDEX('Selected values'!$BB$4:$BB$24,MATCH(S40,'Selected values'!$AZ$4:$AZ$24,0))","v":18},{"$f":"IF($B$7=Lists!$K$2, INDEX('Selected values'!$AT$4:$AT$24, MATCH($A40,'Selected values'!$AV$4:$AV$24,0)), INDEX('Selected values'!$AT$4:$AT$24,MATCH($A40,'Selected values'!$AW$4:$AW$24,0)))","v":"Rwanda"},{"$f":"ROUND(INDEX('Selected values'!$AU$4:$AU$24, MATCH(S40,'Selected values'!$AT$4:$AT$24,0)),1)","v":46},null,null,{"$f":"INDEX('Selected values'!$BM$4:$BM$24,MATCH(X40,'Selected values'!$BK$4:$BK$24,0))","v":"=17"},{"$f":"IF($B$7=Lists!$K$2, INDEX('Selected values'!$BE$4:$BE$24, MATCH($A40,'Selected values'!$BG$4:$BG$24,0)), INDEX('Selected values'!$BE$4:$BE$24,MATCH($A40,'Selected values'!$BH$4:$BH$24,0)))","v":"Saudi Arabia"},{"$f":"ROUND(INDEX('Selected values'!$BF$4:$BF$54, MATCH(X40,'Selected values'!$BE$4:$BE$54,0)),1)","v":33.299999999999997}]
[{"$f":"IF($B$7=Lists!$K$4, A40-1,A40+1)","v":20},null,{"$f":"INDEX('Selected values'!$U$4:$U$24,MATCH(D41,'Selected values'!$S$4:$S$24,0))","v":19},{"$f":"IF($B$7=Lists!$K$2, INDEX('Selected values'!$M$4:$M$24, MATCH($A41,'Selected values'!$O$4:$O$24,0)), INDEX('Selected values'!$M$4:$M$24,MATCH($A41,'Selected values'!$P$4:$P$24,0)))","v":"India"},{"$f":"ROUND(INDEX('Selected values'!$N$4:$N$24, MATCH(D41,'Selected values'!$M$4:$M$24,0)),1)","v":36.1},null,null,{"$f":"INDEX('Selected values'!$AF$4:$AF$24,MATCH(I41,'Selected values'!$AD$4:$AD$24,0))","v":"=19"},{"$f":"IF($B$7=Lists!$K$2, INDEX('Selected values'!$X$4:$X$24, MATCH($A41,'Selected values'!$Z$4:$Z$24,0)), INDEX('Selected values'!$X$4:$X$24,MATCH($A41,'Selected values'!$AA$4:$AA$24,0)))","v":"Canada"},{"$f":"ROUND(INDEX('Selected values'!$Y$4:$Y$24, MATCH(I41,'Selected values'!$X$4:$X$24,0)),1)","v":20},null,null,{"$f":"INDEX('Selected values'!$AQ$4:$AQ$24,MATCH(N41,'Selected values'!$AO$4:$AO$24,0))","v":19},{"$f":"IF($B$7=Lists!$K$2, INDEX('Selected values'!$AI$4:$AI$24, MATCH($A41,'Selected values'!$AK$4:$AK$24,0)), INDEX('Selected values'!$AI$4:$AI$24,MATCH($A41,'Selected values'!$AL$4:$AL$24,0)))","v":"South Africa"},{"$f":"ROUND(INDEX('Selected values'!$AJ$4:$AJ$24, MATCH(N41,'Selected values'!$AI$4:$AI$24,0)),1)","v":8.3000000000000007},null,null,{"$f":"INDEX('Selected values'!$BB$4:$BB$24,MATCH(S41,'Selected values'!$AZ$4:$AZ$24,0))","v":19},{"$f":"IF($B$7=Lists!$K$2, INDEX('Selected values'!$AT$4:$AT$24, MATCH($A41,'Selected values'!$AV$4:$AV$24,0)), INDEX('Selected values'!$AT$4:$AT$24,MATCH($A41,'Selected values'!$AW$4:$AW$24,0)))","v":"Saudi Arabia"},{"$f":"ROUND(INDEX('Selected values'!$AU$4:$AU$24, MATCH(S41,'Selected values'!$AT$4:$AT$24,0)),1)","v":43.3},null,null,{"$f":"INDEX('Selected values'!$BM$4:$BM$24,MATCH(X41,'Selected values'!$BK$4:$BK$24,0))","v":19},{"$f":"IF($B$7=Lists!$K$2, INDEX('Selected values'!$BE$4:$BE$24, MATCH($A41,'Selected values'!$BG$4:$BG$24,0)), INDEX('Selected values'!$BE$4:$BE$24,MATCH($A41,'Selected values'!$BH$4:$BH$24,0)))","v":"United Kingdom"},{"$f":"ROUND(INDEX('Selected values'!$BF$4:$BF$54, MATCH(X41,'Selected values'!$BE$4:$BE$54,0)),1)","v":25}]
[{"$f":"IF($B$7=Lists!$K$4, A41-1,A41+1)","v":21},null,{"$f":"INDEX('Selected values'!$U$4:$U$24,MATCH(D42,'Selected values'!$S$4:$S$24,0))","v":20},{"$f":"IF($B$7=Lists!$K$2, INDEX('Selected values'!$M$4:$M$24, MATCH($A42,'Selected values'!$O$4:$O$24,0)), INDEX('Selected values'!$M$4:$M$24,MATCH($A42,'Selected values'!$P$4:$P$24,0)))","v":"Nigeria"},{"$f":"ROUND(INDEX('Selected values'!$N$4:$N$24, MATCH(D42,'Selected values'!$M$4:$M$24,0)),1)","v":13.1},null,null,{"$f":"INDEX('Selected values'!$AF$4:$AF$24,MATCH(I42,'Selected values'!$AD$4:$AD$24,0))","v":"=19"},{"$f":"IF($B$7=Lists!$K$2, INDEX('Selected values'!$X$4:$X$24, MATCH($A42,'Selected values'!$Z$4:$Z$24,0)), INDEX('Selected values'!$X$4:$X$24,MATCH($A42,'Selected values'!$AA$4:$AA$24,0)))","v":"United Arab Emirates"},{"$f":"ROUND(INDEX('Selected values'!$Y$4:$Y$24, MATCH(I42,'Selected values'!$X$4:$X$24,0)),1)","v":20},null,null,{"$f":"INDEX('Selected values'!$AQ$4:$AQ$24,MATCH(N42,'Selected values'!$AO$4:$AO$24,0))","v":20},{"$f":"IF($B$7=Lists!$K$2, INDEX('Selected values'!$AI$4:$AI$24, MATCH($A42,'Selected values'!$AK$4:$AK$24,0)), INDEX('Selected values'!$AI$4:$AI$24,MATCH($A42,'Selected values'!$AL$4:$AL$24,0)))","v":"Nigeria"},{"$f":"ROUND(INDEX('Selected values'!$AJ$4:$AJ$24, MATCH(N42,'Selected values'!$AI$4:$AI$24,0)),1)","v":0},null,null,{"$f":"INDEX('Selected values'!$BB$4:$BB$24,MATCH(S42,'Selected values'!$AZ$4:$AZ$24,0))","v":20},{"$f":"IF($B$7=Lists!$K$2, INDEX('Selected values'!$AT$4:$AT$24, MATCH($A42,'Selected values'!$AV$4:$AV$24,0)), INDEX('Selected values'!$AT$4:$AT$24,MATCH($A42,'Selected values'!$AW$4:$AW$24,0)))","v":"Nigeria"},{"$f":"ROUND(INDEX('Selected values'!$AU$4:$AU$24, MATCH(S42,'Selected values'!$AT$4:$AT$24,0)),1)","v":29.7},null,null,{"$f":"INDEX('Selected values'!$BM$4:$BM$24,MATCH(X42,'Selected values'!$BK$4:$BK$24,0))","v":20},{"$f":"IF($B$7=Lists!$K$2, INDEX('Selected values'!$BE$4:$BE$24, MATCH($A42,'Selected values'!$BG$4:$BG$24,0)), INDEX('Selected values'!$BE$4:$BE$24,MATCH($A42,'Selected values'!$BH$4:$BH$24,0)))","v":"Nigeria"},{"$f":"ROUND(INDEX('Selected values'!$BF$4:$BF$54, MATCH(X42,'Selected values'!$BE$4:$BE$54,0)),1)","v":0}]

{"sheet":"INDICATORS","index":3,"n_rows":48,"n_cols":12,"rows_kept":48,"cut":false,"hidden":false,"merged":[[14,2,18,4],[38,2,38,4],[23,2,23,4],[26,2,32,4],[20,2,21,4]]}
[null,null,{"$f":"HOME!B7","v":"GLOBAL OBESITY RESPONSE INDEX"}]
[]
[]
[]
[]
[null,null,"SELECT PILLAR"]
[null,null,"OVERALL"]
[null,null,{"$f":"INDEX(Lists!D2:D7, MATCH(C7,Lists!C2:C7,0))","v":"OVERALL"}]
[null,null,"SELECT INDICATOR",null,"SELECT SORT ORDER"]
[null,null,"OVERALL",null,"Best response to worst"]
[]
[]
[null,null,null,null,null,null,null,{"$f":"INDEX(Lists!$F$2:$F$64, MATCH($C10,Lists!$H$2:$H$64,0))","v":0}]
[null,null,{"$f":"IF(INDEX('DATA TABLE'!$D$10:$D$66, MATCH($H$13,'DATA TABLE'!$B$10:$B$66,0))=\"\",\"\",\"Description:\")","v":"Description:"},null,null,null,null,{"$f":"INDEX(Lists!I2:I64, MATCH(H15,Lists!H2:H64,0))","v":"Overall index"}]
[null,null,{"$f":"IF(C7=\"Background indicators\", CONCATENATE((INDEX('DATA TABLE'!$D$10:$D$66, MATCH($H$13,'DATA TABLE'!$B$10:$B$66,0))),\" (\", (INDEX('DATA TABLE'!$H$10:$H$66, MATCH($H$13,'DATA TABLE'!$B$10:$B$66,0))),\")\",CHAR(10), CHAR(10), (INDEX('DATA TABLE'!$I$10:$I$66, MATCH($H$13,'DATA TABLE'!$B$10:$B$66,0)))),IF(INDEX('DATA TABLE'!$D$10:$D$66, MATCH($H$13,'DATA TABLE'!$B$10:$B$66,0))=\"\",\"\",INDEX('DATA TABLE'!$D$10:$D$66, MATCH($H$13,'DATA TABLE'!$B$10:$B$66,0))))","v":"Composite measure, scored as the weighted average of the following pillar scores: \n1. Policy and governance\n2. Obesity management\n3. Food quality and access\n4. Physical activity"},null,null,null,null,{"$f":"C10","v":"OVERALL"}]
[]
[null,null,null,null,null,null,null,null,"Rank","Country","Score","Data"]
[null,null,null,null,null,null,null,null,null,null," 0-100, where 100 = strongest obesity response",{"$f":"IF(C25=\"\",\"\",C25)","v":""}]
[null,null,null,null,null,null,{"$f":"IF($C$7=\"Background indicators\",1,IF($E$10=Lists!$K$4,21,1))","v":1},null,{"$f":"IF(K19=\"Not scored\",\"\",INDEX('Selected values'!$J$4:$J$53,MATCH($J19,'Selected values'!$H$4:$H$53,0)))","v":1},{"$f":"IF($E$10=Lists!$K$2, INDEX('Selected values'!$B$4:$B$24, MATCH($G19,'Selected values'!$D$4:$D$24,0)), INDEX('Selected values'!$B$4:$B$24,MATCH($G19,'Selected values'!$E$4:$E$24,0)))","v":"Serbia"},{"$f":"IFERROR(ROUND(INDEX('Selected values'!$C$4:$C$24, MATCH($J19,'Selected values'!$B$4:$B$24,0)),1), \"Not scored\")","v":74.8},{"$f":"IFERROR(IF(INDEX('DATA TABLE'!$J$10:$AC$66, MATCH($H$13,'DATA TABLE'!$B$10:$B$66,0), MATCH($J19,'DATA TABLE'!$J$9:$AC$9,0))=\"\",\"\",INDEX('DATA TABLE'!$J$10:$AC$66, MATCH($H$13,'DATA TABLE'!$B$10:$B$66,0), MATCH($J19,'DATA TABLE'!$J$9:$AC$9,0))),\"\")","v":""}]
[null,null,{"$f":"IF(INDEX('DATA TABLE'!$E$10:$E$66, MATCH($H$13,'DATA TABLE'!$B$10:$B$66,0))=\"\",\"\",\"Source:\")","v":"Source:"},null,null,null,{"$f":"IF($C$7=\"Background indicators\",G19+1,IF($E$10=Lists!$K$4, G19-1,G19+1))","v":2},null,{"$f":"IF(K20=\"Not scored\",\"\",INDEX('Selected values'!$J$4:$J$53,MATCH($J20,'Selected values'!$H$4:$H$53,0)))","v":2},{"$f":"IF($E$10=Lists!$K$2, INDEX('Selected values'!$B$4:$B$24, MATCH($G20,'Selected values'!$D$4:$D$24,0)), INDEX('Selected values'!$B$4:$B$24,MATCH($G20,'Selected values'!$E$4:$E$24,0)))","v":"France"},{"$f":"IFERROR(ROUND(INDEX('Selected values'!$C$4:$C$24, MATCH($J20,'Selected values'!$B$4:$B$24,0)),1), \"Not scored\")","v":74.3},{"$f":"IFERROR(IF(INDEX('DATA TABLE'!$J$10:$AC$66, MATCH($H$13,'DATA TABLE'!$B$10:$B$66,0), MATCH($J20,'DATA TABLE'!$J$9:$AC$9,0))=\"\",\"\",INDEX('DATA TABLE'!$J$10:$AC$66, MATCH($H$13,'DATA TABLE'!$B$10:$B$66,0), MATCH($J20,'DATA TABLE'!$J$9:$AC$9,0))),\"\")","v":""}]
[null,null,{"$f":"IF(INDEX('DATA TABLE'!$E$10:$E$66, MATCH($H$13,'DATA TABLE'!$B$10:$B$66,0))=\"\",\"\",INDEX('DATA TABLE'!$E$10:$E$66, MATCH($H$13,'DATA TABLE'!$B$10:$B$66,0)))","v":"Economist Enterprise calculations"},null,null,null,{"$f":"IF($C$7=\"Background indicators\",G20+1,IF($E$10=Lists!$K$4, G20-1,G20+1))","v":3},null,{"$f":"IF(K21=\"Not scored\",\"\",INDEX('Selected values'!$J$4:$J$53,MATCH($J21,'Selected values'!$H$4:$H$53,0)))","v":3},{"$f":"IF($E$10=Lists!$K$2, INDEX('Selected values'!$B$4:$B$24, MATCH($G21,'Selected values'!$D$4:$D$24,0)), INDEX('Selected values'!$B$4:$B$24,MATCH($G21,'Selected values'!$E$4:$E$24,0)))","v":"Brazil"},{"$f":"IFERROR(ROUND(INDEX('Selected values'!$C$4:$C$24, MATCH($J21,'Selected values'!$B$4:$B$24,0)),1), \"Not scored\")","v":72.400000000000006},{"$f":"IFERROR(IF(INDEX('DATA TABLE'!$J$10:$AC$66, MATCH($H$13,'DATA TABLE'!$B$10:$B$66,0), MATCH($J21,'DATA TABLE'!$J$9:$AC$9,0))=\"\",\"\",INDEX('DATA TABLE'!$J$10:$AC$66, MATCH($H$13,'DATA TABLE'!$B$10:$B$66,0), MATCH($J21,'DATA TABLE'!$J$9:$AC$9,0))),\"\")","v":""}]
[null,null,null,null,null,null,{"$f":"IF($C$7=\"Background indicators\",G21+1,IF($E$10=Lists!$K$4, G21-1,G21+1))","v":4},null,{"$f":"IF(K22=\"Not scored\",\"\",INDEX('Selected values'!$J$4:$J$53,MATCH($J22,'Selected values'!$H$4:$H$53,0)))","v":4},{"$f":"IF($E$10=Lists!$K$2, INDEX('Selected values'!$B$4:$B$24, MATCH($G22,'Selected values'!$D$4:$D$24,0)), INDEX('Selected values'!$B$4:$B$24,MATCH($G22,'Selected values'!$E$4:$E$24,0)))","v":"South Korea"},{"$f":"IFERROR(ROUND(INDEX('Selected values'!$C$4:$C$24, MATCH($J22,'Selected values'!$B$4:$B$24,0)),1), \"Not scored\")","v":71.2},{"$f":"IFERROR(IF(INDEX('DATA TABLE'!$J$10:$AC$66, MATCH($H$13,'DATA TABLE'!$B$10:$B$66,0), MATCH($J22,'DATA TABLE'!$J$9:$AC$9,0))=\"\",\"\",INDEX('DATA TABLE'!$J$10:$AC$66, MATCH($H$13,'DATA TABLE'!$B$10:$B$66,0), MATCH($J22,'DATA TABLE'!$J$9:$AC$9,0))),\"\")","v":""}]
[null,null,null,null,null,null,{"$f":"IF($C$7=\"Background indicators\",G22+1,IF($E$10=Lists!$K$4, G22-1,G22+1))","v":5},null,{"$f":"IF(K23=\"Not scored\",\"\",INDEX('Selected values'!$J$4:$J$53,MATCH($J23,'Selected values'!$H$4:$H$53,0)))","v":5},{"$f":"IF($E$10=Lists!$K$2, INDEX('Selected values'!$B$4:$B$24, MATCH($G23,'Selected values'!$D$4:$D$24,0)), INDEX('Selected values'!$B$4:$B$24,MATCH($G23,'Selected values'!$E$4:$E$24,0)))","v":"Finland"},{"$f":"IFERROR(ROUND(INDEX('Selected values'!$C$4:$C$24, MATCH($J23,'Selected values'!$B$4:$B$24,0)),1), \"Not scored\")","v":66.8},{"$f":"IFERROR(IF(INDEX('DATA TABLE'!$J$10:$AC$66, MATCH($H$13,'DATA TABLE'!$B$10:$B$66,0), MATCH($J23,'DATA TABLE'!$J$9:$AC$9,0))=\"\",\"\",INDEX('DATA TABLE'!$J$10:$AC$66, MATCH($H$13,'DATA TABLE'!$B$10:$B$66,0), MATCH($J23,'DATA TABLE'!$J$9:$AC$9,0))),\"\")","v":""}]
[null,null,{"$f":"IF((INDEX('DATA TABLE'!$G$10:$G$66,MATCH($H$13,'DATA TABLE'!$B$10:$B$66,0)))=\"\",\"\",\"Measurement:\")","v":""},null,null,null,{"$f":"IF($C$7=\"Background indicators\",G23+1,IF($E$10=Lists!$K$4, G23-1,G23+1))","v":6},null,{"$f":"IF(K24=\"Not scored\",\"\",INDEX('Selected values'!$J$4:$J$53,MATCH($J24,'Selected values'!$H$4:$H$53,0)))","v":6},{"$f":"IF($E$10=Lists!$K$2, INDEX('Selected values'!$B$4:$B$24, MATCH($G24,'Selected values'!$D$4:$D$24,0)), INDEX('Selected values'!$B$4:$B$24,MATCH($G24,'Selected values'!$E$4:$E$24,0)))","v":"Germany"},{"$f":"IFERROR(ROUND(INDEX('Selected values'!$C$4:$C$24, MATCH($J24,'Selected values'!$B$4:$B$24,0)),1), \"Not scored\")","v":64.900000000000006},{"$f":"IFERROR(IF(INDEX('DATA TABLE'!$J$10:$AC$66, MATCH($H$13,'DATA TABLE'!$B$10:$B$66,0), MATCH($J24,'DATA TABLE'!$J$9:$AC$9,0))=\"\",\"\",INDEX('DATA TABLE'!$J$10:$AC$66, MATCH($H$13,'DATA TABLE'!$B$10:$B$66,0), MATCH($J24,'DATA TABLE'!$J$9:$AC$9,0))),\"\")","v":""}]
[null,null,{"$f":"IF(INDEX('DATA TABLE'!$G$10:$G$66, MATCH($H$13,'DATA TABLE'!$B$10:$B$66,0))=\"\",\"\",INDEX('DATA TABLE'!$G$10:$G$66, MATCH($H$13,'DATA TABLE'!$B$10:$B$66,0)))","v":""},null,null,null,{"$f":"IF($C$7=\"Background indicators\",G24+1,IF($E$10=Lists!$K$4, G24-1,G24+1))","v":7},null,{"$f":"IF(K25=\"Not scored\",\"\",INDEX('Selected values'!$J$4:$J$53,MATCH($J25,'Selected values'!$H$4:$H$53,0)))","v":7},{"$f":"IF($E$10=Lists!$K$2, INDEX('Selected values'!$B$4:$B$24, MATCH($G25,'Selected values'!$D$4:$D$24,0)), INDEX('Selected values'!$B$4:$B$24,MATCH($G25,'Selected values'!$E$4:$E$24,0)))","v":"United Kingdom"},{"$f":"IFERROR(ROUND(INDEX('Selected values'!$C$4:$C$24, MATCH($J25,'Selected values'!$B$4:$B$24,0)),1), \"Not scored\")","v":64.400000000000006},{"$f":"IFERROR(IF(INDEX('DATA TABLE'!$J$10:$AC$66, MATCH($H$13,'DATA TABLE'!$B$10:$B$66,0), MATCH($J25,'DATA TABLE'!$J$9:$AC$9,0))=\"\",\"\",INDEX('DATA TABLE'!$J$10:$AC$66, MATCH($H$13,'DATA TABLE'!$B$10:$B$66,0), MATCH($J25,'DATA TABLE'!$J$9:$AC$9,0))),\"\")","v":""}]
[null,null,null,null,null,null,{"$f":"IF($C$7=\"Background indicators\",G25+1,IF($E$10=Lists!$K$4, G25-1,G25+1))","v":8},null,{"$f":"IF(K26=\"Not scored\",\"\",INDEX('Selected values'!$J$4:$J$53,MATCH($J26,'Selected values'!$H$4:$H$53,0)))","v":"=8"},{"$f":"IF($E$10=Lists!$K$2, INDEX('Selected values'!$B$4:$B$24, MATCH($G26,'Selected values'!$D$4:$D$24,0)), INDEX('Selected values'!$B$4:$B$24,MATCH($G26,'Selected values'!$E$4:$E$24,0)))","v":"China"},{"$f":"IFERROR(ROUND(INDEX('Selected values'!$C$4:$C$24, MATCH($J26,'Selected values'!$B$4:$B$24,0)),1), \"Not scored\")","v":63.1},{"$f":"IFERROR(IF(INDEX('DATA TABLE'!$J$10:$AC$66, MATCH($H$13,'DATA TABLE'!$B$10:$B$66,0), MATCH($J26,'DATA TABLE'!$J$9:$AC$9,0))=\"\",\"\",INDEX('DATA TABLE'!$J$10:$AC$66, MATCH($H$13,'DATA TABLE'!$B$10:$B$66,0), MATCH($J26,'DATA TABLE'!$J$9:$AC$9,0))),\"\")","v":""}]
[null,null,{"$f":"IF(INDEX('DATA TABLE'!$F$10:$F$66, MATCH($H$13,'DATA TABLE'!$B$10:$B$66,0))=\"\",\"\",INDEX('DATA TABLE'!$F$10:$F$66, MATCH($H$13,'DATA TABLE'!$B$10:$B$66,0)))","v":""},null,null,null,{"$f":"IF($C$7=\"Background indicators\",G26+1,IF($E$10=Lists!$K$4, G26-1,G26+1))","v":9},null,{"$f":"IF(K27=\"Not scored\",\"\",INDEX('Selected values'!$J$4:$J$53,MATCH($J27,'Selected values'!$H$4:$H$53,0)))","v":"=8"},{"$f":"IF($E$10=Lists!$K$2, INDEX('Selected values'!$B$4:$B$24, MATCH($G27,'Selected values'!$D$4:$D$24,0)), INDEX('Selected values'!$B$4:$B$24,MATCH($G27,'Selected values'!$E$4:$E$24,0)))","v":"Italy"},{"$f":"IFERROR(ROUND(INDEX('Selected values'!$C$4:$C$24, MATCH($J27,'Selected values'!$B$4:$B$24,0)),1), \"Not scored\")","v":63.1},{"$f":"IFERROR(IF(INDEX('DATA TABLE'!$J$10:$AC$66, MATCH($H$13,'DATA TABLE'!$B$10:$B$66,0), MATCH($J27,'DATA TABLE'!$J$9:$AC$9,0))=\"\",\"\",INDEX('DATA TABLE'!$J$10:$AC$66, MATCH($H$13,'DATA TABLE'!$B$10:$B$66,0), MATCH($J27,'DATA TABLE'!$J$9:$AC$9,0))),\"\")","v":""}]
[null,null,null,null,null,null,{"$f":"IF($C$7=\"Background indicators\",G27+1,IF($E$10=Lists!$K$4, G27-1,G27+1))","v":10},null,{"$f":"IF(K28=\"Not scored\",\"\",INDEX('Selected values'!$J$4:$J$53,MATCH($J28,'Selected values'!$H$4:$H$53,0)))","v":10},{"$f":"IF($E$10=Lists!$K$2, INDEX('Selected values'!$B$4:$B$24, MATCH($G28,'Selected values'!$D$4:$D$24,0)), INDEX('Selected values'!$B$4:$B$24,MATCH($G28,'Selected values'!$E$4:$E$24,0)))","v":"Australia"},{"$f":"IFERROR(ROUND(INDEX('Selected values'!$C$4:$C$24, MATCH($J28,'Selected values'!$B$4:$B$24,0)),1), \"Not scored\")","v":58.8},{"$f":"IFERROR(IF(INDEX('DATA TABLE'!$J$10:$AC$66, MATCH($H$13,'DATA TABLE'!$B$10:$B$66,0), MATCH($J28,'DATA TABLE'!$J$9:$AC$9,0))=\"\",\"\",INDEX('DATA TABLE'!$J$10:$AC$66, MATCH($H$13,'DATA TABLE'!$B$10:$B$66,0), MATCH($J28,'DATA TABLE'!$J$9:$AC$9,0))),\"\")","v":""}]
[null,null,null,null,null,null,{"$f":"IF($C$7=\"Background indicators\",G28+1,IF($E$10=Lists!$K$4, G28-1,G28+1))","v":11},null,{"$f":"IF(K29=\"Not scored\",\"\",INDEX('Selected values'!$J$4:$J$53,MATCH($J29,'Selected values'!$H$4:$H$53,0)))","v":""},{"$f":"IF($E$10=Lists!$K$2, INDEX('Selected values'!$B$4:$B$24, MATCH($G29,'Selected values'!$D$4:$D$24,0)), INDEX('Selected values'!$B$4:$B$24,MATCH($G29,'Selected values'!$E$4:$E$24,0)))","v":"AVERAGE"},{"$f":"IFERROR(ROUND(INDEX('Selected values'!$C$4:$C$24, MATCH($J29,'Selected values'!$B$4:$B$24,0)),1), \"Not scored\")","v":55.9},{"$f":"IFERROR(IF(INDEX('DATA TABLE'!$J$10:$AC$66, MATCH($H$13,'DATA TABLE'!$B$10:$B$66,0), MATCH($J29,'DATA TABLE'!$J$9:$AC$9,0))=\"\",\"\",INDEX('DATA TABLE'!$J$10:$AC$66, MATCH($H$13,'DATA TABLE'!$B$10:$B$66,0), MATCH($J29,'DATA TABLE'!$J$9:$AC$9,0))),\"\")","v":""}]
[null,null,null,null,null,null,{"$f":"IF($C$7=\"Background indicators\",G29+1,IF($E$10=Lists!$K$4, G29-1,G29+1))","v":12},null,{"$f":"IF(K30=\"Not scored\",\"\",INDEX('Selected values'!$J$4:$J$53,MATCH($J30,'Selected values'!$H$4:$H$53,0)))","v":11},{"$f":"IF($E$10=Lists!$K$2, INDEX('Selected values'!$B$4:$B$24, MATCH($G30,'Selected values'!$D$4:$D$24,0)), INDEX('Selected values'!$B$4:$B$24,MATCH($G30,'Selected values'!$E$4:$E$24,0)))","v":"Mexico"},{"$f":"IFERROR(ROUND(INDEX('Selected values'!$C$4:$C$24, MATCH($J30,'Selected values'!$B$4:$B$24,0)),1), \"Not scored\")","v":55.3},{"$f":"IFERROR(IF(INDEX('DATA TABLE'!$J$10:$AC$66, MATCH($H$13,'DATA TABLE'!$B$10:$B$66,0), MATCH($J30,'DATA TABLE'!$J$9:$AC$9,0))=\"\",\"\",INDEX('DATA TABLE'!$J$10:$AC$66, MATCH($H$13,'DATA TABLE'!$B$10:$B$66,0), MATCH($J30,'DATA TABLE'!$J$9:$AC$9,0))),\"\")","v":""}]
[null,null,null,null,null,null,{"$f":"IF($C$7=\"Background indicators\",G30+1,IF($E$10=Lists!$K$4, G30-1,G30+1))","v":13},null,{"$f":"IF(K31=\"Not scored\",\"\",INDEX('Selected values'!$J$4:$J$53,MATCH($J31,'Selected values'!$H$4:$H$53,0)))","v":12},{"$f":"IF($E$10=Lists!$K$2, INDEX('Selected values'!$B$4:$B$24, MATCH($G31,'Selected values'!$D$4:$D$24,0)), INDEX('Selected values'!$B$4:$B$24,MATCH($G31,'Selected values'!$E$4:$E$24,0)))","v":"United Arab Emirates"},{"$f":"IFERROR(ROUND(INDEX('Selected values'!$C$4:$C$24, MATCH($J31,'Selected values'!$B$4:$B$24,0)),1), \"Not scored\")","v":54.7},{"$f":"IFERROR(IF(INDEX('DATA TABLE'!$J$10:$AC$66, MATCH($H$13,'DATA TABLE'!$B$10:$B$66,0), MATCH($J31,'DATA TABLE'!$J$9:$AC$9,0))=\"\",\"\",INDEX('DATA TABLE'!$J$10:$AC$66, MATCH($H$13,'DATA TABLE'!$B$10:$B$66,0), MATCH($J31,'DATA TABLE'!$J$9:$AC$9,0))),\"\")","v":""}]
[null,null,null,null,null,null,{"$f":"IF($C$7=\"Background indicators\",G31+1,IF($E$10=Lists!$K$4, G31-1,G31+1))","v":14},null,{"$f":"IF(K32=\"Not scored\",\"\",INDEX('Selected values'!$J$4:$J$53,MATCH($J32,'Selected values'!$H$4:$H$53,0)))","v":"=13"},{"$f":"IF($E$10=Lists!$K$2, INDEX('Selected values'!$B$4:$B$24, MATCH($G32,'Selected values'!$D$4:$D$24,0)), INDEX('Selected values'!$B$4:$B$24,MATCH($G32,'Selected values'!$E$4:$E$24,0)))","v":"Japan"},{"$f":"IFERROR(ROUND(INDEX('Selected values'!$C$4:$C$24, MATCH($J32,'Selected values'!$B$4:$B$24,0)),1), \"Not scored\")","v":54.4},{"$f":"IFERROR(IF(INDEX('DATA TABLE'!$J$10:$AC$66, MATCH($H$13,'DATA TABLE'!$B$10:$B$66,0), MATCH($J32,'DATA TABLE'!$J$9:$AC$9,0))=\"\",\"\",INDEX('DATA TABLE'!$J$10:$AC$66, MATCH($H$13,'DATA TABLE'!$B$10:$B$66,0), MATCH($J32,'DATA TABLE'!$J$9:$AC$9,0))),\"\")","v":""}]
[null,null,null,null,null,null,{"$f":"IF($C$7=\"Background indicators\",G32+1,IF($E$10=Lists!$K$4, G32-1,G32+1))","v":15},null,{"$f":"IF(K33=\"Not scored\",\"\",INDEX('Selected values'!$J$4:$J$53,MATCH($J33,'Selected values'!$H$4:$H$53,0)))","v":"=13"},{"$f":"IF($E$10=Lists!$K$2, INDEX('Selected values'!$B$4:$B$24, MATCH($G33,'Selected values'!$D$4:$D$24,0)), INDEX('Selected values'!$B$4:$B$24,MATCH($G33,'Selected values'!$E$4:$E$24,0)))","v":"Spain"},{"$f":"IFERROR(ROUND(INDEX('Selected values'!$C$4:$C$24, MATCH($J33,'Selected values'!$B$4:$B$24,0)),1), \"Not scored\")","v":54.4},{"$f":"IFERROR(IF(INDEX('DATA TABLE'!$J$10:$AC$66, MATCH($H$13,'DATA TABLE'!$B$10:$B$66,0), MATCH($J33,'DATA TABLE'!$J$9:$AC$9,0))=\"\",\"\",INDEX('DATA TABLE'!$J$10:$AC$66, MATCH($H$13,'DATA TABLE'!$B$10:$B$66,0), MATCH($J33,'DATA TABLE'!$J$9:$AC$9,0))),\"\")","v":""}]
[null,null,null,null,null,null,{"$f":"IF($C$7=\"Background indicators\",G33+1,IF($E$10=Lists!$K$4, G33-1,G33+1))","v":16},null,{"$f":"IF(K34=\"Not scored\",\"\",INDEX('Selected values'!$J$4:$J$53,MATCH($J34,'Selected values'!$H$4:$H$53,0)))","v":15},{"$f":"IF($E$10=Lists!$K$2, INDEX('Selected values'!$B$4:$B$24, MATCH($G34,'Selected values'!$D$4:$D$24,0)), INDEX('Selected values'!$B$4:$B$24,MATCH($G34,'Selected values'!$E$4:$E$24,0)))","v":"Canada"},{"$f":"IFERROR(ROUND(INDEX('Selected values'!$C$4:$C$24, MATCH($J34,'Selected values'!$B$4:$B$24,0)),1), \"Not scored\")","v":47.9},{"$f":"IFERROR(IF(INDEX('DATA TABLE'!$J$10:$AC$66, MATCH($H$13,'DATA TABLE'!$B$10:$B$66,0), MATCH($J34,'DATA TABLE'!$J$9:$AC$9,0))=\"\",\"\",INDEX('DATA TABLE'!$J$10:$AC$66, MATCH($H$13,'DATA TABLE'!$B$10:$B$66,0), MATCH($J34,'DATA TABLE'!$J$9:$AC$9,0))),\"\")","v":""}]
[null,null,null,null,null,null,{"$f":"IF($C$7=\"Background indicators\",G34+1,IF($E$10=Lists!$K$4, G34-1,G34+1))","v":17},null,{"$f":"IF(K35=\"Not scored\",\"\",INDEX('Selected values'!$J$4:$J$53,MATCH($J35,'Selected values'!$H$4:$H$53,0)))","v":16},{"$f":"IF($E$10=Lists!$K$2, INDEX('Selected values'!$B$4:$B$24, MATCH($G35,'Selected values'!$D$4:$D$24,0)), INDEX('Selected values'!$B$4:$B$24,MATCH($G35,'Selected values'!$E$4:$E$24,0)))","v":"Saudi Arabia"},{"$f":"IFERROR(ROUND(INDEX('Selected values'!$C$4:$C$24, MATCH($J35,'Selected values'!$B$4:$B$24,0)),1), \"Not scored\")","v":44.5},{"$f":"IFERROR(IF(INDEX('DATA TABLE'!$J$10:$AC$66, MATCH($H$13,'DATA TABLE'!$B$10:$B$66,0), MATCH($J35,'DATA TABLE'!$J$9:$AC$9,0))=\"\",\"\",INDEX('DATA TABLE'!$J$10:$AC$66, MATCH($H$13,'DATA TABLE'!$B$10:$B$66,0), MATCH($J35,'DATA TABLE'!$J$9:$AC$9,0))),\"\")","v":""}]
[null,null,null,null,null,null,{"$f":"IF($C$7=\"Background indicators\",G35+1,IF($E$10=Lists!$K$4, G35-1,G35+1))","v":18},null,{"$f":"IF(K36=\"Not scored\",\"\",INDEX('Selected values'!$J$4:$J$53,MATCH($J36,'Selected values'!$H$4:$H$53,0)))","v":17},{"$f":"IF($E$10=Lists!$K$2, INDEX('Selected values'!$B$4:$B$24, MATCH($G36,'Selected values'!$D$4:$D$24,0)), INDEX('Selected values'!$B$4:$B$24,MATCH($G36,'Selected values'!$E$4:$E$24,0)))","v":"South Africa"},{"$f":"IFERROR(ROUND(INDEX('Selected values'!$C$4:$C$24, MATCH($J36,'Selected values'!$B$4:$B$24,0)),1), \"Not scored\")","v":44.2},{"$f":"IFERROR(IF(INDEX('DATA TABLE'!$J$10:$AC$66, MATCH($H$13,'DATA TABLE'!$B$10:$B$66,0), MATCH($J36,'DATA TABLE'!$J$9:$AC$9,0))=\"\",\"\",INDEX('DATA TABLE'!$J$10:$AC$66, MATCH($H$13,'DATA TABLE'!$B$10:$B$66,0), MATCH($J36,'DATA TABLE'!$J$9:$AC$9,0))),\"\")","v":""}]
[null,null,null,null,null,null,{"$f":"IF($C$7=\"Background indicators\",G36+1,IF($E$10=Lists!$K$4, G36-1,G36+1))","v":19},null,{"$f":"IF(K37=\"Not scored\",\"\",INDEX('Selected values'!$J$4:$J$53,MATCH($J37,'Selected values'!$H$4:$H$53,0)))","v":18},{"$f":"IF($E$10=Lists!$K$2, INDEX('Selected values'!$B$4:$B$24, MATCH($G37,'Selected values'!$D$4:$D$24,0)), INDEX('Selected values'!$B$4:$B$24,MATCH($G37,'Selected values'!$E$4:$E$24,0)))","v":"Rwanda"},{"$f":"IFERROR(ROUND(INDEX('Selected values'!$C$4:$C$24, MATCH($J37,'Selected values'!$B$4:$B$24,0)),1), \"Not scored\")","v":39.1},{"$f":"IFERROR(IF(INDEX('DATA TABLE'!$J$10:$AC$66, MATCH($H$13,'DATA TABLE'!$B$10:$B$66,0), MATCH($J37,'DATA TABLE'!$J$9:$AC$9,0))=\"\",\"\",INDEX('DATA TABLE'!$J$10:$AC$66, MATCH($H$13,'DATA TABLE'!$B$10:$B$66,0), MATCH($J37,'DATA TABLE'!$J$9:$AC$9,0))),\"\")","v":""}]
[null,null,null,null,null,null,{"$f":"IF($C$7=\"Background indicators\",G37+1,IF($E$10=Lists!$K$4, G37-1,G37+1))","v":20},null,{"$f":"IF(K38=\"Not scored\",\"\",INDEX('Selected values'!$J$4:$J$53,MATCH($J38,'Selected values'!$H$4:$H$53,0)))","v":19},{"$f":"IF($E$10=Lists!$K$2, INDEX('Selected values'!$B$4:$B$24, MATCH($G38,'Selected values'!$D$4:$D$24,0)), INDEX('Selected values'!$B$4:$B$24,MATCH($G38,'Selected values'!$E$4:$E$24,0)))","v":"India"},{"$f":"IFERROR(ROUND(INDEX('Selected values'!$C$4:$C$24, MATCH($J38,'Selected values'!$B$4:$B$24,0)),1), \"Not scored\")","v":36.1},{"$f":"IFERROR(IF(INDEX('DATA TABLE'!$J$10:$AC$66, MATCH($H$13,'DATA TABLE'!$B$10:$B$66,0), MATCH($J38,'DATA TABLE'!$J$9:$AC$9,0))=\"\",\"\",INDEX('DATA TABLE'!$J$10:$AC$66, MATCH($H$13,'DATA TABLE'!$B$10:$B$66,0), MATCH($J38,'DATA TABLE'!$J$9:$AC$9,0))),\"\")","v":""}]
[null,null,null,null,null,null,{"$f":"IF($C$7=\"Background indicators\",G38+1,IF($E$10=Lists!$K$4, G38-1,G38+1))","v":21},null,{"$f":"IF(K39=\"Not scored\",\"\",INDEX('Selected values'!$J$4:$J$53,MATCH($J39,'Selected values'!$H$4:$H$53,0)))","v":20},{"$f":"IF($E$10=Lists!$K$2, INDEX('Selected values'!$B$4:$B$24, MATCH($G39,'Selected values'!$D$4:$D$24,0)), INDEX('Selected values'!$B$4:$B$24,MATCH($G39,'Selected values'!$E$4:$E$24,0)))","v":"Nigeria"},{"$f":"IFERROR(ROUND(INDEX('Selected values'!$C$4:$C$24, MATCH($J39,'Selected values'!$B$4:$B$24,0)),1), \"Not scored\")","v":13.1},{"$f":"IFERROR(IF(INDEX('DATA TABLE'!$J$10:$AC$66, MATCH($H$13,'DATA TABLE'!$B$10:$B$66,0), MATCH($J39,'DATA TABLE'!$J$9:$AC$9,0))=\"\",\"\",INDEX('DATA TABLE'!$J$10:$AC$66, MATCH($H$13,'DATA TABLE'!$B$10:$B$66,0), MATCH($J39,'DATA TABLE'!$J$9:$AC$9,0))),\"\")","v":""}]
[]
[null,null,null,null,null,null,null,"'=' denotes tied rank"]
[null,null,null,null,null,null,null,"Average = mean score for all countries shown in table"]
[]
[null,null,null,null,null,null,null,null,"Scores 80-100 - Areas of strength",null,80]
[null,null,null,null,null,null,null,null,"Scores 60-79",null,60]
[null,null,null,null,null,null,null,null,"Scores 40-59",null,40]
[null,null,null,null,null,null,null,null,"Scores 20-39",null,20]
[null,null,null,null,null,null,null,null,"Scores 0-19 - Areas of development",null,0]

{"sheet":"COUNTRIES","index":4,"n_rows":97,"n_cols":10,"rows_kept":97,"cut":false,"hidden":false,"merged":[[85,2,85,9],[41,2,41,9],[42,2,42,9],[55,2,55,9],[56,2,56,9],[60,2,60,9],[63,2,63,9],[65,2,65,9],[66,2,66,9],[70,2,70,9],[76,2,76,9],[79,2,79,9],[80,2,80,9],[83,2,83,9]]}
[null,null,{"$f":"HOME!B7","v":"GLOBAL OBESITY RESPONSE INDEX"}]
[]
[]
[]
[]
[null,null,"SELECT COUNTRIES"]
[null,null,"Australia"]
[]
[]
[null,null,{"$f":"C7","v":"Australia"}]
[]
[null,null,"Scores 80-100 - Areas of strength",null,80]
[null,null,"Scores 60-79",null,60]
[null,null,"Scores 40-59",null,40]
[null,null,"Scores 20-39",null,20]
[null,null,"Scores 0-19 - Areas of development",null,0]
[]
[null,null,"Overall pillar and subpillar scores"]
[]
[null,null,null,null,"Score"]
[null,null,null,null," 0-100, where 100 = strongest obesity response"]
[null,0,{"$f":"INDEX(Lists!$H$2:$H$64,MATCH($B22,Lists!$F$2:$F$64,0))","v":"OVERALL"},null,{"$f":"ROUND(INDEX('SCORE TABLE'!$H$10:$AA$54, MATCH($B22,'SCORE TABLE'!$B$10:$B$54,0), MATCH($C$10,'SCORE TABLE'!$H$9:$AA$9,0)),1)","v":58.8}]
[null,1,{"$f":"INDEX(Lists!$H$2:$H$64,MATCH($B23,Lists!$F$2:$F$64,0))","v":"1) Policy and governance"},null,{"$f":"ROUND(INDEX('SCORE TABLE'!$H$10:$AA$54, MATCH($B23,'SCORE TABLE'!$B$10:$B$54,0), MATCH($C$10,'SCORE TABLE'!$H$9:$AA$9,0)),1)","v":57.9}]
[null,1.1000000000000001,{"$f":"INDEX(Lists!$H$2:$H$64,MATCH($B24,Lists!$F$2:$F$64,0))","v":"1.1) Obesity-related policy"},null,{"$f":"ROUND(INDEX('SCORE TABLE'!$H$10:$AA$54, MATCH($B24,'SCORE TABLE'!$B$10:$B$54,0), MATCH($C$10,'SCORE TABLE'!$H$9:$AA$9,0)),1)","v":57.9}]
[null,2,{"$f":"INDEX(Lists!$H$2:$H$64,MATCH($B25,Lists!$F$2:$F$64,0))","v":"2) Obesity management"},null,{"$f":"ROUND(INDEX('SCORE TABLE'!$H$10:$AA$54, MATCH($B25,'SCORE TABLE'!$B$10:$B$54,0), MATCH($C$10,'SCORE TABLE'!$H$9:$AA$9,0)),1)","v":75}]
[null,2.1,{"$f":"INDEX(Lists!$H$2:$H$64,MATCH($B26,Lists!$F$2:$F$64,0))","v":"2.1) Obesity management guidelines"},null,{"$f":"ROUND(INDEX('SCORE TABLE'!$H$10:$AA$54, MATCH($B26,'SCORE TABLE'!$B$10:$B$54,0), MATCH($C$10,'SCORE TABLE'!$H$9:$AA$9,0)),1)","v":100}]
[null,2.2000000000000002,{"$f":"INDEX(Lists!$H$2:$H$64,MATCH($B27,Lists!$F$2:$F$64,0))","v":"2.2) Obesity diagnosis and referral pathways"},null,{"$f":"ROUND(INDEX('SCORE TABLE'!$H$10:$AA$54, MATCH($B27,'SCORE TABLE'!$B$10:$B$54,0), MATCH($C$10,'SCORE TABLE'!$H$9:$AA$9,0)),1)","v":50}]
[null,2.2999999999999998,{"$f":"INDEX(Lists!$H$2:$H$64,MATCH($B28,Lists!$F$2:$F$64,0))","v":"2.3) Availability and affordability of obesity-related care"},null,{"$f":"ROUND(INDEX('SCORE TABLE'!$H$10:$AA$54, MATCH($B28,'SCORE TABLE'!$B$10:$B$54,0), MATCH($C$10,'SCORE TABLE'!$H$9:$AA$9,0)),1)","v":75}]
[null,3,{"$f":"INDEX(Lists!$H$2:$H$64,MATCH($B29,Lists!$F$2:$F$64,0))","v":"3) Food quality and access"},null,{"$f":"ROUND(INDEX('SCORE TABLE'!$H$10:$AA$54, MATCH($B29,'SCORE TABLE'!$B$10:$B$54,0), MATCH($C$10,'SCORE TABLE'!$H$9:$AA$9,0)),1)","v":60.4}]
[null,3.1,{"$f":"INDEX(Lists!$H$2:$H$64,MATCH($B30,Lists!$F$2:$F$64,0))","v":"3.1) Food access and affordability"},null,{"$f":"ROUND(INDEX('SCORE TABLE'!$H$10:$AA$54, MATCH($B30,'SCORE TABLE'!$B$10:$B$54,0), MATCH($C$10,'SCORE TABLE'!$H$9:$AA$9,0)),1)","v":61.3}]
[null,3.2,{"$f":"INDEX(Lists!$H$2:$H$64,MATCH($B31,Lists!$F$2:$F$64,0))","v":"3.2) Nutrition guidance and regulation"},null,{"$f":"ROUND(INDEX('SCORE TABLE'!$H$10:$AA$54, MATCH($B31,'SCORE TABLE'!$B$10:$B$54,0), MATCH($C$10,'SCORE TABLE'!$H$9:$AA$9,0)),1)","v":20}]
[null,3.3,{"$f":"INDEX(Lists!$H$2:$H$64,MATCH($B32,Lists!$F$2:$F$64,0))","v":"3.3) Nutrition in schools"},null,{"$f":"ROUND(INDEX('SCORE TABLE'!$H$10:$AA$54, MATCH($B32,'SCORE TABLE'!$B$10:$B$54,0), MATCH($C$10,'SCORE TABLE'!$H$9:$AA$9,0)),1)","v":100}]
[null,4,{"$f":"INDEX(Lists!$H$2:$H$64,MATCH($B33,Lists!$F$2:$F$64,0))","v":"4) Physical activity"},null,{"$f":"ROUND(INDEX('SCORE TABLE'!$H$10:$AA$54, MATCH($B33,'SCORE TABLE'!$B$10:$B$54,0), MATCH($C$10,'SCORE TABLE'!$H$9:$AA$9,0)),1)","v":41.7}]
[null,4.0999999999999996,{"$f":"INDEX(Lists!$H$2:$H$64,MATCH($B34,Lists!$F$2:$F$64,0))","v":"4.1) Physical activity among the population"},null,{"$f":"ROUND(INDEX('SCORE TABLE'!$H$10:$AA$54, MATCH($B34,'SCORE TABLE'!$B$10:$B$54,0), MATCH($C$10,'SCORE TABLE'!$H$9:$AA$9,0)),1)","v":33.299999999999997}]
[null,4.2,{"$f":"INDEX(Lists!$H$2:$H$64,MATCH($B35,Lists!$F$2:$F$64,0))","v":"4.2) Physical activity among children"},null,{"$f":"ROUND(INDEX('SCORE TABLE'!$H$10:$AA$54, MATCH($B35,'SCORE TABLE'!$B$10:$B$54,0), MATCH($C$10,'SCORE TABLE'!$H$9:$AA$9,0)),1)","v":50}]
[]
[]
[null,null,"Detailed scorecard"]
[]
[null,null,null,null,"Score",null,"Data"]
[null,null,null,null," 0-100, where 100 = strongest obesity response"]
[null,1,{"$f":"INDEX(Lists!$H$2:$H$64,MATCH($B42,Lists!$F$2:$F$64,0))","v":"1) Policy and governance"},{"$f":"INDEX(Lists!$H$2:$H$59,MATCH($B42,Lists!$F$2:$F$58,0))","v":"1) Policy and governance"},{"$f":"INDEX(Lists!$H$2:$H$59,MATCH($B42,Lists!$F$2:$F$58,0))","v":"1) Policy and governance"},{"$f":"INDEX(Lists!$H$2:$H$59,MATCH($B42,Lists!$F$2:$F$58,0))","v":"1) Policy and governance"},{"$f":"INDEX(Lists!$H$2:$H$59,MATCH($B42,Lists!$F$2:$F$58,0))","v":"1) Policy and governance"},{"$f":"INDEX(Lists!$H$2:$H$59,MATCH($B42,Lists!$F$2:$F$58,0))","v":"1) Policy and governance"},{"$f":"INDEX(Lists!$H$2:$H$59,MATCH($B42,Lists!$F$2:$F$58,0))","v":"1) Policy and governance"},{"$f":"INDEX(Lists!$H$2:$H$59,MATCH($B42,Lists!$F$2:$F$58,0))","v":"1) Policy and governance"}]
[null,1.1000000000000001,{"$f":"INDEX(Lists!$H$2:$H$64,MATCH($B43,Lists!$F$2:$F$64,0))","v":"1.1) Obesity-related policy"},{"$f":"INDEX(Lists!$H$2:$H$59,MATCH($B43,Lists!$F$2:$F$58,0))","v":"1.1) Obesity-related policy"},{"$f":"INDEX(Lists!$H$2:$H$59,MATCH($B43,Lists!$F$2:$F$58,0))","v":"1.1) Obesity-related policy"},{"$f":"INDEX(Lists!$H$2:$H$59,MATCH($B43,Lists!$F$2:$F$58,0))","v":"1.1) Obesity-related policy"},{"$f":"INDEX(Lists!$H$2:$H$59,MATCH($B43,Lists!$F$2:$F$58,0))","v":"1.1) Obesity-related policy"},{"$f":"INDEX(Lists!$H$2:$H$59,MATCH($B43,Lists!$F$2:$F$58,0))","v":"1.1) Obesity-related policy"},{"$f":"INDEX(Lists!$H$2:$H$59,MATCH($B43,Lists!$F$2:$F$58,0))","v":"1.1) Obesity-related policy"},{"$f":"INDEX(Lists!$H$2:$H$59,MATCH($B43,Lists!$F$2:$F$58,0))","v":"1.1) Obesity-related policy"}]
[null,"1.1.1",{"$f":"INDEX(Lists!$H$2:$H$64,MATCH($B44,Lists!$F$2:$F$64,0))","v":"1.1.1) Health policy/strategy/plan that includes obesity"},null,{"$f":"IFERROR(ROUND(INDEX('SCORE TABLE'!$H$10:$AA$54, MATCH($B44,'SCORE TABLE'!$B$10:$B$54,0), MATCH($C$10,'SCORE TABLE'!$H$9:$AA$9,0)),1),\"Not scored\")","v":100},null,{"$f":"IF(INDEX('DATA TABLE'!$J$10:$AC$66, MATCH($B44,'DATA TABLE'!$B$10:$B$66,0), MATCH($C$10,'DATA TABLE'!$J$9:$AC$9,0))=\"\",\"\",INDEX('DATA TABLE'!$J$10:$AC$66, MATCH($B44,'DATA TABLE'!$B$10:$B$66,0), MATCH($C$10,'DATA TABLE'!$J$9:$AC$9,0)))","v":1},{"$f":"IF(INDEX(Data_summary!$E$3:$X$47, MATCH($B44,Data_summary!$C$3:$C$47,0),MATCH($C$10,Data_summary!$E$2:$X$2,0))=\"\",\"\",INDEX(Data_summary!$E$3:$X$47, MATCH($B44,Data_summary!$C$3:$C$47,0),MATCH($C$10,Data_summary!$E$2:$X$2,0)))","v":"Australia's National Preventive Health Strategy 2021-2030 specifies obesity as a priority (Australian Government Department of Health, National Preventive Health Strategy 2021-2030, 2021)."},null,{"$f":"IF(INDEX('DATA TABLE'!$G$10:$G$66,MATCH($B44,'DATA TABLE'!$B$10:$B$66,0))=\"\",CONCATENATE(\"(\",INDEX('DATA TABLE'!$E$10:$E$66,MATCH($B44,'DATA TABLE'!$B$10:$B$66,0)),\")\"), CONCATENATE(INDEX('DATA TABLE'!$G$10:$G$66,MATCH($B44,'DATA TABLE'!$B$10:$B$66,0)),\" (\",INDEX('DATA TABLE'!$E$10:$E$66,MATCH($B44,'DATA TABLE'!$B$10:$B$66,0)),\")\"))","v":"Qualitative rating 0-1; 1=best (Economist Enterprise research)"}]
[null,"1.1.2",{"$f":"INDEX(Lists!$H$2:$H$64,MATCH($B45,Lists!$F$2:$F$64,0))","v":"1.1.2) Definition of obesity"},null,{"$f":"IFERROR(ROUND(INDEX('SCORE TABLE'!$H$10:$AA$54, MATCH($B45,'SCORE TABLE'!$B$10:$B$54,0), MATCH($C$10,'SCORE TABLE'!$H$9:$AA$9,0)),1),\"Not scored\")","v":100},null,{"$f":"IF(INDEX('DATA TABLE'!$J$10:$AC$66, MATCH($B45,'DATA TABLE'!$B$10:$B$66,0), MATCH($C$10,'DATA TABLE'!$J$9:$AC$9,0))=\"\",\"\",INDEX('DATA TABLE'!$J$10:$AC$66, MATCH($B45,'DATA TABLE'!$B$10:$B$66,0), MATCH($C$10,'DATA TABLE'!$J$9:$AC$9,0)))","v":2},{"$f":"IF(INDEX(Data_summary!$E$3:$X$47, MATCH($B45,Data_summary!$C$3:$C$47,0),MATCH($C$10,Data_summary!$E$2:$X$2,0))=\"\",\"\",INDEX(Data_summary!$E$3:$X$47, MATCH($B45,Data_summary!$C$3:$C$47,0),MATCH($C$10,Data_summary!$E$2:$X$2,0)))","v":"Australia's National Preventive Health Strategy 2021-2030 defines obesity as a chronic disease and connects obesity to related chronic diseases including cancer, diabetes, asthma, cardiovascular diseases and mental disorders (Australian Government Department of Health, National Preventive Health Strategy 2021-2030, 2021)."},null,{"$f":"IF(INDEX('DATA TABLE'!$G$10:$G$66,MATCH($B45,'DATA TABLE'!$B$10:$B$66,0))=\"\",CONCATENATE(\"(\",INDEX('DATA TABLE'!$E$10:$E$66,MATCH($B45,'DATA TABLE'!$B$10:$B$66,0)),\")\"), CONCATENATE(INDEX('DATA TABLE'!$G$10:$G$66,MATCH($B45,'DATA TABLE'!$B$10:$B$66,0)),\" (\",INDEX('DATA TABLE'!$E$10:$E$66,MATCH($B45,'DATA TABLE'!$B$10:$B$66,0)),\")\"))","v":"Qualitative rating 0-2; 2=best (Economist Enterprise research)"}]
[null,"1.1.3",{"$f":"INDEX(Lists!$H$2:$H$64,MATCH($B46,Lists!$F$2:$F$64,0))","v":"1.1.3) Obesity-related policy/strategy/plan"},null,{"$f":"IFERROR(ROUND(INDEX('SCORE TABLE'!$H$10:$AA$54, MATCH($B46,'SCORE TABLE'!$B$10:$B$54,0), MATCH($C$10,'SCORE TABLE'!$H$9:$AA$9,0)),1),\"Not scored\")","v":89.6},null,{"$f":"IF(INDEX('DATA TABLE'!$J$10:$AC$66, MATCH($B46,'DATA TABLE'!$B$10:$B$66,0), MATCH($C$10,'DATA TABLE'!$J$9:$AC$9,0))=\"\",\"\",INDEX('DATA TABLE'!$J$10:$AC$66, MATCH($B46,'DATA TABLE'!$B$10:$B$66,0), MATCH($C$10,'DATA TABLE'!$J$9:$AC$9,0)))","v":""},{"$f":"IF(INDEX(Data_summary!$E$3:$X$47, MATCH($B46,Data_summary!$C$3:$C$47,0),MATCH($C$10,Data_summary!$E$2:$X$2,0))=\"\",\"\",INDEX(Data_summary!$E$3:$X$47, MATCH($B46,Data_summary!$C$3:$C$47,0),MATCH($C$10,Data_summary!$E$2:$X$2,0)))","v":""},null,{"$f":"IF(INDEX('DATA TABLE'!$G$10:$G$66,MATCH($B46,'DATA TABLE'!$B$10:$B$66,0))=\"\",CONCATENATE(\"(\",INDEX('DATA TABLE'!$E$10:$E$66,MATCH($B46,'DATA TABLE'!$B$10:$B$66,0)),\")\"), CONCATENATE(INDEX('DATA TABLE'!$G$10:$G$66,MATCH($B46,'DATA TABLE'!$B$10:$B$66,0)),\" (\",INDEX('DATA TABLE'!$E$10:$E$66,MATCH($B46,'DATA TABLE'!$B$10:$B$66,0)),\")\"))","v":"(Economist Enterprise calculations)"}]
[null,"1.1.3a",{"$f":"INDEX(Lists!$H$2:$H$64,MATCH($B47,Lists!$F$2:$F$64,0))","v":"1.1.3a) Existence of an obesity-related policy/strategy/plan"},null,{"$f":"IFERROR(ROUND(INDEX('SCORE TABLE'!$H$10:$AA$54, MATCH($B47,'SCORE TABLE'!$B$10:$B$54,0), MATCH($C$10,'SCORE TABLE'!$H$9:$AA$9,0)),1),\"Not scored\")","v":100},null,{"$f":"IF(INDEX('DATA TABLE'!$J$10:$AC$66, MATCH($B47,'DATA TABLE'!$B$10:$B$66,0), MATCH($C$10,'DATA TABLE'!$J$9:$AC$9,0))=\"\",\"\",INDEX('DATA TABLE'!$J$10:$AC$66, MATCH($B47,'DATA TABLE'!$B$10:$B$66,0), MATCH($C$10,'DATA TABLE'!$J$9:$AC$9,0)))","v":2},{"$f":"IF(INDEX(Data_summary!$E$3:$X$47, MATCH($B47,Data_summary!$C$3:$C$47,0),MATCH($C$10,Data_summary!$E$2:$X$2,0))=\"\",\"\",INDEX(Data_summary!$E$3:$X$47, MATCH($B47,Data_summary!$C$3:$C$47,0),MATCH($C$10,Data_summary!$E$2:$X$2,0)))","v":"Australia's National Obesity Strategy 2022-2032 includes specific goals, strategies and measurable targets for reducing obesity prevalence (Commonwealth of Australia Health Ministers Meeting, National Obesity Strategy 2022-2032, 2022)."},null,{"$f":"IF(INDEX('DATA TABLE'!$G$10:$G$66,MATCH($B47,'DATA TABLE'!$B$10:$B$66,0))=\"\",CONCATENATE(\"(\",INDEX('DATA TABLE'!$E$10:$E$66,MATCH($B47,'DATA TABLE'!$B$10:$B$66,0)),\")\"), CONCATENATE(INDEX('DATA TABLE'!$G$10:$G$66,MATCH($B47,'DATA TABLE'!$B$10:$B$66,0)),\" (\",INDEX('DATA TABLE'!$E$10:$E$66,MATCH($B47,'DATA TABLE'!$B$10:$B$66,0)),\")\"))","v":"Qualitative rating 0-2; 2=best (Economist Enterprise research)"}]
[null,"1.1.3b",{"$f":"INDEX(Lists!$H$2:$H$64,MATCH($B48,Lists!$F$2:$F$64,0))","v":"1.1.3b) Engagement with stakeholders during development"},null,{"$f":"IFERROR(ROUND(INDEX('SCORE TABLE'!$H$10:$AA$54, MATCH($B48,'SCORE TABLE'!$B$10:$B$54,0), MATCH($C$10,'SCORE TABLE'!$H$9:$AA$9,0)),1),\"Not scored\")","v":66.7},null,{"$f":"IF(INDEX('DATA TABLE'!$J$10:$AC$66, MATCH($B48,'DATA TABLE'!$B$10:$B$66,0), MATCH($C$10,'DATA TABLE'!$J$9:$AC$9,0))=\"\",\"\",INDEX('DATA TABLE'!$J$10:$AC$66, MATCH($B48,'DATA TABLE'!$B$10:$B$66,0), MATCH($C$10,'DATA TABLE'!$J$9:$AC$9,0)))","v":2},{"$f":"IF(INDEX(Data_summary!$E$3:$X$47, MATCH($B48,Data_summary!$C$3:$C$47,0),MATCH($C$10,Data_summary!$E$2:$X$2,0))=\"\",\"\",INDEX(Data_summary!$E$3:$X$47, MATCH($B48,Data_summary!$C$3:$C$47,0),MATCH($C$10,Data_summary!$E$2:$X$2,0)))","v":"The development of Australia's National Obesity Strategy 2022-2032 involved stakeholders from multiple sectors, including representatives from academia, agriculture, consulting and healthcare. However, there is no evidence that individuals living with obesity were consulted (Commonwealth of Australia Health Ministers Meeting, National Obesity Strategy 2022-2032, 2022; Australian Government Department of Health, National Obesity Summit Programme, 15 February 2019)"},null,{"$f":"IF(INDEX('DATA TABLE'!$G$10:$G$66,MATCH($B48,'DATA TABLE'!$B$10:$B$66,0))=\"\",CONCATENATE(\"(\",INDEX('DATA TABLE'!$E$10:$E$66,MATCH($B48,'DATA TABLE'!$B$10:$B$66,0)),\")\"), CONCATENATE(INDEX('DATA TABLE'!$G$10:$G$66,MATCH($B48,'DATA TABLE'!$B$10:$B$66,0)),\" (\",INDEX('DATA TABLE'!$E$10:$E$66,MATCH($B48,'DATA TABLE'!$B$10:$B$66,0)),\")\"))","v":"Qualitative rating 0-3; 3=best (Economist Enterprise research)"}]
[null,"1.1.3c",{"$f":"INDEX(Lists!$H$2:$H$64,MATCH($B49,Lists!$F$2:$F$64,0))","v":"1.1.3c) Measures for obesity prevention"},null,{"$f":"IFERROR(ROUND(INDEX('SCORE TABLE'!$H$10:$AA$54, MATCH($B49,'SCORE TABLE'!$B$10:$B$54,0), MATCH($C$10,'SCORE TABLE'!$H$9:$AA$9,0)),1),\"Not scored\")","v":100},null,{"$f":"IF(INDEX('DATA TABLE'!$J$10:$AC$66, MATCH($B49,'DATA TABLE'!$B$10:$B$66,0), MATCH($C$10,'DATA TABLE'!$J$9:$AC$9,0))=\"\",\"\",INDEX('DATA TABLE'!$J$10:$AC$66, MATCH($B49,'DATA TABLE'!$B$10:$B$66,0), MATCH($C$10,'DATA TABLE'!$J$9:$AC$9,0)))","v":3},{"$f":"IF(INDEX(Data_summary!$E$3:$X$47, MATCH($B49,Data_summary!$C$3:$C$47,0),MATCH($C$10,Data_summary!$E$2:$X$2,0))=\"\",\"\",INDEX(Data_summary!$E$3:$X$47, MATCH($B49,Data_summary!$C$3:$C$47,0),MATCH($C$10,Data_summary!$E$2:$X$2,0)))","v":"Australia's National Obesity Strategy 2022-2032 contains comprehensive, well-defined measures for obesity prevention with specific targets, clear implementation strategies and defined evaluation methods (Commonwealth of Australia Health Ministers Meeting, National Obesity Strategy 2022-2032, 2022)."},null,{"$f":"IF(INDEX('DATA TABLE'!$G$10:$G$66,MATCH($B49,'DATA TABLE'!$B$10:$B$66,0))=\"\",CONCATENATE(\"(\",INDEX('DATA TABLE'!$E$10:$E$66,MATCH($B49,'DATA TABLE'!$B$10:$B$66,0)),\")\"), CONCATENATE(INDEX('DATA TABLE'!$G$10:$G$66,MATCH($B49,'DATA TABLE'!$B$10:$B$66,0)),\" (\",INDEX('DATA TABLE'!$E$10:$E$66,MATCH($B49,'DATA TABLE'!$B$10:$B$66,0)),\")\"))","v":"Qualitative rating 0-3; 3=best (Economist Enterprise research)"}]
[null,"1.1.3d",{"$f":"INDEX(Lists!$H$2:$H$64,MATCH($B50,Lists!$F$2:$F$64,0))","v":"1.1.3d) Measures for obesity management"},null,{"$f":"IFERROR(ROUND(INDEX('SCORE TABLE'!$H$10:$AA$54, MATCH($B50,'SCORE TABLE'!$B$10:$B$54,0), MATCH($C$10,'SCORE TABLE'!$H$9:$AA$9,0)),1),\"Not scored\")","v":100},null,{"$f":"IF(INDEX('DATA TABLE'!$J$10:$AC$66, MATCH($B50,'DATA TABLE'!$B$10:$B$66,0), MATCH($C$10,'DATA TABLE'!$J$9:$AC$9,0))=\"\",\"\",INDEX('DATA TABLE'!$J$10:$AC$66, MATCH($B50,'DATA TABLE'!$B$10:$B$66,0), MATCH($C$10,'DATA TABLE'!$J$9:$AC$9,0)))","v":3},{"$f":"IF(INDEX(Data_summary!$E$3:$X$47, MATCH($B50,Data_summary!$C$3:$C$47,0),MATCH($C$10,Data_summary!$E$2:$X$2,0))=\"\",\"\",INDEX(Data_summary!$E$3:$X$47, MATCH($B50,Data_summary!$C$3:$C$47,0),MATCH($C$10,Data_summary!$E$2:$X$2,0)))","v":"Australia's National Obesity Strategy 2022-2032 contains comprehensive, well-defined measures for obesity management with well-defined evaluation methods (Commonwealth of Australia Health Ministers Meeting, National Obesity Strategy 2022-2032, 2022)."},null,{"$f":"IF(INDEX('DATA TABLE'!$G$10:$G$66,MATCH($B50,'DATA TABLE'!$B$10:$B$66,0))=\"\",CONCATENATE(\"(\",INDEX('DATA TABLE'!$E$10:$E$66,MATCH($B50,'DATA TABLE'!$B$10:$B$66,0)),\")\"), CONCATENATE(INDEX('DATA TABLE'!$G$10:$G$66,MATCH($B50,'DATA TABLE'!$B$10:$B$66,0)),\" (\",INDEX('DATA TABLE'!$E$10:$E$66,MATCH($B50,'DATA TABLE'!$B$10:$B$66,0)),\")\"))","v":"Qualitative rating 0-3; 3=best (Economist Enterprise research)"}]
[null,"1.1.3e",{"$f":"INDEX(Lists!$H$2:$H$64,MATCH($B51,Lists!$F$2:$F$64,0))","v":"1.1.3e) Targets for obesity prevalence reduction"},null,{"$f":"IFERROR(ROUND(INDEX('SCORE TABLE'!$H$10:$AA$54, MATCH($B51,'SCORE TABLE'!$B$10:$B$54,0), MATCH($C$10,'SCORE TABLE'!$H$9:$AA$9,0)),1),\"Not scored\")","v":50},null,{"$f":"IF(INDEX('DATA TABLE'!$J$10:$AC$66, MATCH($B51,'DATA TABLE'!$B$10:$B$66,0), MATCH($C$10,'DATA TABLE'!$J$9:$AC$9,0))=\"\",\"\",INDEX('DATA TABLE'!$J$10:$AC$66, MATCH($B51,'DATA TABLE'!$B$10:$B$66,0), MATCH($C$10,'DATA TABLE'!$J$9:$AC$9,0)))","v":1},{"$f":"IF(INDEX(Data_summary!$E$3:$X$47, MATCH($B51,Data_summary!$C$3:$C$47,0),MATCH($C$10,Data_summary!$E$2:$X$2,0))=\"\",\"\",INDEX(Data_summary!$E$3:$X$47, MATCH($B51,Data_summary!$C$3:$C$47,0),MATCH($C$10,Data_summary!$E$2:$X$2,0)))","v":"Australia's National Obesity Strategy 2022-2032 contains a clear and measurable long-term target for obesity prevalence reduction to be achieved by 2030; however, there is no evidence of short-term targets (Commonwealth of Australia Health Ministers Meeting, National Obesity Strategy 2022-2032, 2022)."},null,{"$f":"IF(INDEX('DATA TABLE'!$G$10:$G$66,MATCH($B51,'DATA TABLE'!$B$10:$B$66,0))=\"\",CONCATENATE(\"(\",INDEX('DATA TABLE'!$E$10:$E$66,MATCH($B51,'DATA TABLE'!$B$10:$B$66,0)),\")\"), CONCATENATE(INDEX('DATA TABLE'!$G$10:$G$66,MATCH($B51,'DATA TABLE'!$B$10:$B$66,0)),\" (\",INDEX('DATA TABLE'!$E$10:$E$66,MATCH($B51,'DATA TABLE'!$B$10:$B$66,0)),\")\"))","v":"Qualitative rating 0-2; 2=best (Economist Enterprise research)"}]
[null,"1.1.3f",{"$f":"INDEX(Lists!$H$2:$H$64,MATCH($B52,Lists!$F$2:$F$64,0))","v":"1.1.3f) Focus on vulnerable groups"},null,{"$f":"IFERROR(ROUND(INDEX('SCORE TABLE'!$H$10:$AA$54, MATCH($B52,'SCORE TABLE'!$B$10:$B$54,0), MATCH($C$10,'SCORE TABLE'!$H$9:$AA$9,0)),1),\"Not scored\")","v":100},null,{"$f":"IF(INDEX('DATA TABLE'!$J$10:$AC$66, MATCH($B52,'DATA TABLE'!$B$10:$B$66,0), MATCH($C$10,'DATA TABLE'!$J$9:$AC$9,0))=\"\",\"\",INDEX('DATA TABLE'!$J$10:$AC$66, MATCH($B52,'DATA TABLE'!$B$10:$B$66,0), MATCH($C$10,'DATA TABLE'!$J$9:$AC$9,0)))","v":2},{"$f":"IF(INDEX(Data_summary!$E$3:$X$47, MATCH($B52,Data_summary!$C$3:$C$47,0),MATCH($C$10,Data_summary!$E$2:$X$2,0))=\"\",\"\",INDEX(Data_summary!$E$3:$X$47, MATCH($B52,Data_summary!$C$3:$C$47,0),MATCH($C$10,Data_summary!$E$2:$X$2,0)))","v":"Australia's National Obesity Strategy 2022-2032 includes a particular focus on the prevention and management of obesity in groups at increased risk of developing obesity, such as LGBTQ+ communities and Aboriginal and Torres Strait Islander peoples. Further, it includes tailored strategies that aim to mitigate significant health inequities across these demographic groups (Commonwealth of Australia Health Ministers Meeting, National Obesity Strategy 2022-2032, 2022)."},null,{"$f":"IF(INDEX('DATA TABLE'!$G$10:$G$66,MATCH($B52,'DATA TABLE'!$B$10:$B$66,0))=\"\",CONCATENATE(\"(\",INDEX('DATA TABLE'!$E$10:$E$66,MATCH($B52,'DATA TABLE'!$B$10:$B$66,0)),\")\"), CONCATENATE(INDEX('DATA TABLE'!$G$10:$G$66,MATCH($B52,'DATA TABLE'!$B$10:$B$66,0)),\" (\",INDEX('DATA TABLE'!$E$10:$E$66,MATCH($B52,'DATA TABLE'!$B$10:$B$66,0)),\")\"))","v":"Qualitative rating 0-2; 2=best (Economist Enterprise research)"}]
[null,"1.1.3g",{"$f":"INDEX(Lists!$H$2:$H$64,MATCH($B53,Lists!$F$2:$F$64,0))","v":"1.1.3g) Obesity-related stigma and discrimination"},null,{"$f":"IFERROR(ROUND(INDEX('SCORE TABLE'!$H$10:$AA$54, MATCH($B53,'SCORE TABLE'!$B$10:$B$54,0), MATCH($C$10,'SCORE TABLE'!$H$9:$AA$9,0)),1),\"Not scored\")","v":100},null,{"$f":"IF(INDEX('DATA TABLE'!$J$10:$AC$66, MATCH($B53,'DATA TABLE'!$B$10:$B$66,0), MATCH($C$10,'DATA TABLE'!$J$9:$AC$9,0))=\"\",\"\",INDEX('DATA TABLE'!$J$10:$AC$66, MATCH($B53,'DATA TABLE'!$B$10:$B$66,0), MATCH($C$10,'DATA TABLE'!$J$9:$AC$9,0)))","v":2},{"$f":"IF(INDEX(Data_summary!$E$3:$X$47, MATCH($B53,Data_summary!$C$3:$C$47,0),MATCH($C$10,Data_summary!$E$2:$X$2,0))=\"\",\"\",INDEX(Data_summary!$E$3:$X$47, MATCH($B53,Data_summary!$C$3:$C$47,0),MATCH($C$10,Data_summary!$E$2:$X$2,0)))","v":"Australia's National Obesity Strategy 2022-2032 aims to reduce obesity-related stigma and discrimination and contains well-defined measures to tackle it (Commonwealth of Australia Health Ministers Meeting, National Obesity Strategy 2022-2032, 2022)."},null,{"$f":"IF(INDEX('DATA TABLE'!$G$10:$G$66,MATCH($B53,'DATA TABLE'!$B$10:$B$66,0))=\"\",CONCATENATE(\"(\",INDEX('DATA TABLE'!$E$10:$E$66,MATCH($B53,'DATA TABLE'!$B$10:$B$66,0)),\")\"), CONCATENATE(INDEX('DATA TABLE'!$G$10:$G$66,MATCH($B53,'DATA TABLE'!$B$10:$B$66,0)),\" (\",INDEX('DATA TABLE'!$E$10:$E$66,MATCH($B53,'DATA TABLE'!$B$10:$B$66,0)),\")\"))","v":"Qualitative rating 0-2; 2=best (Economist Enterprise research)"}]
[null,"1.1.4",{"$f":"INDEX(Lists!$H$2:$H$64,MATCH($B54,Lists!$F$2:$F$64,0))","v":"1.1.4) Obesity-related funding"},null,{"$f":"IFERROR(ROUND(INDEX('SCORE TABLE'!$H$10:$AA$54, MATCH($B54,'SCORE TABLE'!$B$10:$B$54,0), MATCH($C$10,'SCORE TABLE'!$H$9:$AA$9,0)),1),\"Not scored\")","v":0},null,{"$f":"IF(INDEX('DATA TABLE'!$J$10:$AC$66, MATCH($B54,'DATA TABLE'!$B$10:$B$66,0), MATCH($C$10,'DATA TABLE'!$J$9:$AC$9,0))=\"\",\"\",INDEX('DATA TABLE'!$J$10:$AC$66, MATCH($B54,'DATA TABLE'!$B$10:$B$66,0), MATCH($C$10,'DATA TABLE'!$J$9:$AC$9,0)))","v":0},{"$f":"IF(INDEX(Data_summary!$E$3:$X$47, MATCH($B54,Data_summary!$C$3:$C$47,0),MATCH($C$10,Data_summary!$E$2:$X$2,0))=\"\",\"\",INDEX(Data_summary!$E$3:$X$47, MATCH($B54,Data_summary!$C$3:$C$47,0),MATCH($C$10,Data_summary!$E$2:$X$2,0)))","v":"There is insufficient evidence that Australia has allocated a dedicated budget to the implementation of the National Obesity Strategy 2022-2032, the country's ten-year framework for action to prevent and reduce overweight and obesity (Commonwealth of Australia Health Ministers Meeting, National Obesity Strategy 2022-2032, 2022)."},null,{"$f":"IF(INDEX('DATA TABLE'!$G$10:$G$66,MATCH($B54,'DATA TABLE'!$B$10:$B$66,0))=\"\",CONCATENATE(\"(\",INDEX('DATA TABLE'!$E$10:$E$66,MATCH($B54,'DATA TABLE'!$B$10:$B$66,0)),\")\"), CONCATENATE(INDEX('DATA TABLE'!$G$10:$G$66,MATCH($B54,'DATA TABLE'!$B$10:$B$66,0)),\" (\",INDEX('DATA TABLE'!$E$10:$E$66,MATCH($B54,'DATA TABLE'!$B$10:$B$66,0)),\")\"))","v":"Qualitative rating 0-1; 1=best (Economist Enterprise research)"}]
[null,"1.1.5",{"$f":"INDEX(Lists!$H$2:$H$64,MATCH($B55,Lists!$F$2:$F$64,0))","v":"1.1.5) Weight-related discrimination"},null,{"$f":"IFERROR(ROUND(INDEX('SCORE TABLE'!$H$10:$AA$54, MATCH($B55,'SCORE TABLE'!$B$10:$B$54,0), MATCH($C$10,'SCORE TABLE'!$H$9:$AA$9,0)),1),\"Not scored\")","v":0},null,{"$f":"IF(INDEX('DATA TABLE'!$J$10:$AC$66, MATCH($B55,'DATA TABLE'!$B$10:$B$66,0), MATCH($C$10,'DATA TABLE'!$J$9:$AC$9,0))=\"\",\"\",INDEX('DATA TABLE'!$J$10:$AC$66, MATCH($B55,'DATA TABLE'!$B$10:$B$66,0), MATCH($C$10,'DATA TABLE'!$J$9:$AC$9,0)))","v":0},{"$f":"IF(INDEX(Data_summary!$E$3:$X$47, MATCH($B55,Data_summary!$C$3:$C$47,0),MATCH($C$10,Data_summary!$E$2:$X$2,0))=\"\",\"\",INDEX(Data_summary!$E$3:$X$47, MATCH($B55,Data_summary!$C$3:$C$47,0),MATCH($C$10,Data_summary!$E$2:$X$2,0)))","v":"Australian law prohibits discrimination on the basis of a number of protected characteristics; however, weight is not included in the list (Australian Government, Age Discrimination Act 2004; Australian Government, Disability Discrimination Act 1992; Australian Government, Racial Discrimination Act 1975; Australian Government, Sex Discrimination Act 1984; Australian Government, Australian Human Rights Commission Act 1986)."},null,{"$f":"IF(INDEX('DATA TABLE'!$G$10:$G$66,MATCH($B55,'DATA TABLE'!$B$10:$B$66,0))=\"\",CONCATENATE(\"(\",INDEX('DATA TABLE'!$E$10:$E$66,MATCH($B55,'DATA TABLE'!$B$10:$B$66,0)),\")\"), CONCATENATE(INDEX('DATA TABLE'!$G$10:$G$66,MATCH($B55,'DATA TABLE'!$B$10:$B$66,0)),\" (\",INDEX('DATA TABLE'!$E$10:$E$66,MATCH($B55,'DATA TABLE'!$B$10:$B$66,0)),\")\"))","v":"Qualitative rating 0-1; 1=best (Economist Enterprise research)"}]
[null,2,{"$f":"INDEX(Lists!$H$2:$H$64,MATCH($B56,Lists!$F$2:$F$64,0))","v":"2) Obesity management"},{"$f":"INDEX(Lists!$H$2:$H$59,MATCH($B56,Lists!$F$2:$F$58,0))","v":"2) Obesity management"},{"$f":"INDEX(Lists!$H$2:$H$59,MATCH($B56,Lists!$F$2:$F$58,0))","v":"2) Obesity management"},{"$f":"INDEX(Lists!$H$2:$H$59,MATCH($B56,Lists!$F$2:$F$58,0))","v":"2) Obesity management"},{"$f":"INDEX(Lists!$H$2:$H$59,MATCH($B56,Lists!$F$2:$F$58,0))","v":"2) Obesity management"},{"$f":"INDEX(Lists!$H$2:$H$59,MATCH($B56,Lists!$F$2:$F$58,0))","v":"2) Obesity management"},{"$f":"INDEX(Lists!$H$2:$H$59,MATCH($B56,Lists!$F$2:$F$58,0))","v":"2) Obesity management"},{"$f":"INDEX(Lists!$H$2:$H$59,MATCH($B56,Lists!$F$2:$F$58,0))","v":"2) Obesity management"}]
[null,2.1,{"$f":"INDEX(Lists!$H$2:$H$64,MATCH($B57,Lists!$F$2:$F$64,0))","v":"2.1) Obesity management guidelines"},{"$f":"INDEX(Lists!$H$2:$H$59,MATCH($B57,Lists!$F$2:$F$58,0))","v":"2.1) Obesity management guidelines"},{"$f":"INDEX(Lists!$H$2:$H$59,MATCH($B57,Lists!$F$2:$F$58,0))","v":"2.1) Obesity management guidelines"},{"$f":"INDEX(Lists!$H$2:$H$59,MATCH($B57,Lists!$F$2:$F$58,0))","v":"2.1) Obesity management guidelines"},{"$f":"INDEX(Lists!$H$2:$H$59,MATCH($B57,Lists!$F$2:$F$58,0))","v":"2.1) Obesity management guidelines"},{"$f":"INDEX(Lists!$H$2:$H$59,MATCH($B57,Lists!$F$2:$F$58,0))","v":"2.1) Obesity management guidelines"},{"$f":"INDEX(Lists!$H$2:$H$59,MATCH($B57,Lists!$F$2:$F$58,0))","v":"2.1) Obesity management guidelines"},{"$f":"INDEX(Lists!$H$2:$H$59,MATCH($B57,Lists!$F$2:$F$58,0))","v":"2.1) Obesity management guidelines"}]
[null,"2.1.1",{"$f":"INDEX(Lists!$H$2:$H$64,MATCH($B58,Lists!$F$2:$F$64,0))","v":"2.1.1) Existence of obesity management guidelines"},null,{"$f":"IFERROR(ROUND(INDEX('SCORE TABLE'!$H$10:$AA$54, MATCH($B58,'SCORE TABLE'!$B$10:$B$54,0), MATCH($C$10,'SCORE TABLE'!$H$9:$AA$9,0)),1),\"Not scored\")","v":100},null,{"$f":"IF(INDEX('DATA TABLE'!$J$10:$AC$66, MATCH($B58,'DATA TABLE'!$B$10:$B$66,0), MATCH($C$10,'DATA TABLE'!$J$9:$AC$9,0))=\"\",\"\",INDEX('DATA TABLE'!$J$10:$AC$66, MATCH($B58,'DATA TABLE'!$B$10:$B$66,0), MATCH($C$10,'DATA TABLE'!$J$9:$AC$9,0)))","v":2},{"$f":"IF(INDEX(Data_summary!$E$3:$X$47, MATCH($B58,Data_summary!$C$3:$C$47,0),MATCH($C$10,Data_summary!$E$2:$X$2,0))=\"\",\"\",INDEX(Data_summary!$E$3:$X$47, MATCH($B58,Data_summary!$C$3:$C$47,0),MATCH($C$10,Data_summary!$E$2:$X$2,0)))","v":"Australia has draft guidelines in place on obesity management; they were published in 2024. The guidelines state that there is no scheduled time for review and update, and that an update is desirable when the evidence changes substantively (Australian Government Department of Health and Aged Care, Clinical Practice Guidelines for the Management of Overweight and Obesity for Adults, Adolescents and Children in Australia (Draft Guidelines), 2024)."},null,{"$f":"IF(INDEX('DATA TABLE'!$G$10:$G$66,MATCH($B58,'DATA TABLE'!$B$10:$B$66,0))=\"\",CONCATENATE(\"(\",INDEX('DATA TABLE'!$E$10:$E$66,MATCH($B58,'DATA TABLE'!$B$10:$B$66,0)),\")\"), CONCATENATE(INDEX('DATA TABLE'!$G$10:$G$66,MATCH($B58,'DATA TABLE'!$B$10:$B$66,0)),\" (\",INDEX('DATA TABLE'!$E$10:$E$66,MATCH($B58,'DATA TABLE'!$B$10:$B$66,0)),\")\"))","v":"Qualitative rating 0-2; 2=best (Economist Enterprise research)"}]
[null,"2.1.2",{"$f":"INDEX(Lists!$H$2:$H$64,MATCH($B59,Lists!$F$2:$F$64,0))","v":"2.1.2) Evidence-based obesity management guidelines"},null,{"$f":"IFERROR(ROUND(INDEX('SCORE TABLE'!$H$10:$AA$54, MATCH($B59,'SCORE TABLE'!$B$10:$B$54,0), MATCH($C$10,'SCORE TABLE'!$H$9:$AA$9,0)),1),\"Not scored\")","v":100},null,{"$f":"IF(INDEX('DATA TABLE'!$J$10:$AC$66, MATCH($B59,'DATA TABLE'!$B$10:$B$66,0), MATCH($C$10,'DATA TABLE'!$J$9:$AC$9,0))=\"\",\"\",INDEX('DATA TABLE'!$J$10:$AC$66, MATCH($B59,'DATA TABLE'!$B$10:$B$66,0), MATCH($C$10,'DATA TABLE'!$J$9:$AC$9,0)))","v":2},{"$f":"IF(INDEX(Data_summary!$E$3:$X$47, MATCH($B59,Data_summary!$C$3:$C$47,0),MATCH($C$10,Data_summary!$E$2:$X$2,0))=\"\",\"\",INDEX(Data_summary!$E$3:$X$47, MATCH($B59,Data_summary!$C$3:$C$47,0),MATCH($C$10,Data_summary!$E$2:$X$2,0)))","v":"Australia's draft national guidelines on obesity management were developed using an evidence-based methodology, comprising a structured review and synthesis of best available evidence, grading of the evidence, and the input of independent experts (Australian Government Department of Health and Aged Care, Clinical Practice Guidelines for the Management of Overweight and Obesity for Adults, Adolescents and Children in Australia (Draft Guidelines), 2024)."},null,{"$f":"IF(INDEX('DATA TABLE'!$G$10:$G$66,MATCH($B59,'DATA TABLE'!$B$10:$B$66,0))=\"\",CONCATENATE(\"(\",INDEX('DATA TABLE'!$E$10:$E$66,MATCH($B59,'DATA TABLE'!$B$10:$B$66,0)),\")\"), CONCATENATE(INDEX('DATA TABLE'!$G$10:$G$66,MATCH($B59,'DATA TABLE'!$B$10:$B$66,0)),\" (\",INDEX('DATA TABLE'!$E$10:$E$66,MATCH($B59,'DATA TABLE'!$B$10:$B$66,0)),\")\"))","v":"Qualitative rating 0-2; 2=best (Economist Enterprise research)"}]
[null,"2.1.3",{"$f":"INDEX(Lists!$H$2:$H$64,MATCH($B60,Lists!$F$2:$F$64,0))","v":"2.1.3) Clinical and cost-effectiveness of obesity management interventions"},null,{"$f":"IFERROR(ROUND(INDEX('SCORE TABLE'!$H$10:$AA$54, MATCH($B60,'SCORE TABLE'!$B$10:$B$54,0), MATCH($C$10,'SCORE TABLE'!$H$9:$AA$9,0)),1),\"Not scored\")","v":100},null,{"$f":"IF(INDEX('DATA TABLE'!$J$10:$AC$66, MATCH($B60,'DATA TABLE'!$B$10:$B$66,0), MATCH($C$10,'DATA TABLE'!$J$9:$AC$9,0))=\"\",\"\",INDEX('DATA TABLE'!$J$10:$AC$66, MATCH($B60,'DATA TABLE'!$B$10:$B$66,0), MATCH($C$10,'DATA TABLE'!$J$9:$AC$9,0)))","v":2},{"$f":"IF(INDEX(Data_summary!$E$3:$X$47, MATCH($B60,Data_summary!$C$3:$C$47,0),MATCH($C$10,Data_summary!$E$2:$X$2,0))=\"\",\"\",INDEX(Data_summary!$E$3:$X$47, MATCH($B60,Data_summary!$C$3:$C$47,0),MATCH($C$10,Data_summary!$E$2:$X$2,0)))","v":"Australia's draft national guidelines on obesity management are based on an evidence-based assessment of the clinical and cost-effectiveness of the interventions (Australian Government Department of Health and Aged Care, Clinical Practice Guidelines for the Management of Overweight and Obesity for Adults, Adolescents and Children in Australia (Draft Guidelines), 2024)."},null,{"$f":"IF(INDEX('DATA TABLE'!$G$10:$G$66,MATCH($B60,'DATA TABLE'!$B$10:$B$66,0))=\"\",CONCATENATE(\"(\",INDEX('DATA TABLE'!$E$10:$E$66,MATCH($B60,'DATA TABLE'!$B$10:$B$66,0)),\")\"), CONCATENATE(INDEX('DATA TABLE'!$G$10:$G$66,MATCH($B60,'DATA TABLE'!$B$10:$B$66,0)),\" (\",INDEX('DATA TABLE'!$E$10:$E$66,MATCH($B60,'DATA TABLE'!$B$10:$B$66,0)),\")\"))","v":"Qualitative rating 0-2; 2=best (Economist Enterprise research)"}]
[null,2.2000000000000002,{"$f":"INDEX(Lists!$H$2:$H$64,MATCH($B61,Lists!$F$2:$F$64,0))","v":"2.2) Obesity diagnosis and referral pathways"},{"$f":"INDEX(Lists!$H$2:$H$59,MATCH($B61,Lists!$F$2:$F$58,0))","v":"2.2) Obesity diagnosis and referral pathways"},{"$f":"INDEX(Lists!$H$2:$H$59,MATCH($B61,Lists!$F$2:$F$58,0))","v":"2.2) Obesity diagnosis and referral pathways"},{"$f":"INDEX(Lists!$H$2:$H$59,MATCH($B61,Lists!$F$2:$F$58,0))","v":"2.2) Obesity diagnosis and referral pathways"},{"$f":"INDEX(Lists!$H$2:$H$59,MATCH($B61,Lists!$F$2:$F$58,0))","v":"2.2) Obesity diagnosis and referral pathways"},{"$f":"INDEX(Lists!$H$2:$H$59,MATCH($B61,Lists!$F$2:$F$58,0))","v":"2.2) Obesity diagnosis and referral pathways"},{"$f":"INDEX(Lists!$H$2:$H$59,MATCH($B61,Lists!$F$2:$F$58,0))","v":"2.2) Obesity diagnosis and referral pathways"},{"$f":"INDEX(Lists!$H$2:$H$59,MATCH($B61,Lists!$F$2:$F$58,0))","v":"2.2) Obesity diagnosis and referral pathways"}]
[null,"2.2.1",{"$f":"INDEX(Lists!$H$2:$H$64,MATCH($B62,Lists!$F$2:$F$64,0))","v":"2.2.1) Obesity management pathway"},null,{"$f":"IFERROR(ROUND(INDEX('SCORE TABLE'!$H$10:$AA$54, MATCH($B62,'SCORE TABLE'!$B$10:$B$54,0), MATCH($C$10,'SCORE TABLE'!$H$9:$AA$9,0)),1),\"Not scored\")","v":0},null,{"$f":"IF(INDEX('DATA TABLE'!$J$10:$AC$66, MATCH($B62,'DATA TABLE'!$B$10:$B$66,0), MATCH($C$10,'DATA TABLE'!$J$9:$AC$9,0))=\"\",\"\",INDEX('DATA TABLE'!$J$10:$AC$66, MATCH($B62,'DATA TABLE'!$B$10:$B$66,0), MATCH($C$10,'DATA TABLE'!$J$9:$AC$9,0)))","v":0},{"$f":"IF(INDEX(Data_summary!$E$3:$X$47, MATCH($B62,Data_summary!$C$3:$C$47,0),MATCH($C$10,Data_summary!$E$2:$X$2,0))=\"\",\"\",INDEX(Data_summary!$E$3:$X$47, MATCH($B62,Data_summary!$C$3:$C$47,0),MATCH($C$10,Data_summary!$E$2:$X$2,0)))","v":"Australia's draft national guidelines on obesity management expressly exclude a clinical pathway. Instead, they emphasise flexibility, placing responsibility on healthcare professionals to interpret evidence and tailor interventions with patients according to their needs (Australian Government Department of Health and Aged Care, Clinical Practice Guidelines for the Management of Overweight and Obesity for Adults, Adolescents and Children in Australia (Draft Guidelines), 2024)."},null,{"$f":"IF(INDEX('DATA TABLE'!$G$10:$G$66,MATCH($B62,'DATA TABLE'!$B$10:$B$66,0))=\"\",CONCATENATE(\"(\",INDEX('DATA TABLE'!$E$10:$E$66,MATCH($B62,'DATA TABLE'!$B$10:$B$66,0)),\")\"), CONCATENATE(INDEX('DATA TABLE'!$G$10:$G$66,MATCH($B62,'DATA TABLE'!$B$10:$B$66,0)),\" (\",INDEX('DATA TABLE'!$E$10:$E$66,MATCH($B62,'DATA TABLE'!$B$10:$B$66,0)),\")\"))","v":"Qualitative rating 0-1; 1=best (Economist Enterprise research)"}]
[null,"2.2.2",{"$f":"INDEX(Lists!$H$2:$H$64,MATCH($B63,Lists!$F$2:$F$64,0))","v":"2.2.2) Obesity pathway in chronic disease management"},null,{"$f":"IFERROR(ROUND(INDEX('SCORE TABLE'!$H$10:$AA$54, MATCH($B63,'SCORE TABLE'!$B$10:$B$54,0), MATCH($C$10,'SCORE TABLE'!$H$9:$AA$9,0)),1),\"Not scored\")","v":100},null,{"$f":"IF(INDEX('DATA TABLE'!$J$10:$AC$66, MATCH($B63,'DATA TABLE'!$B$10:$B$66,0), MATCH($C$10,'DATA TABLE'!$J$9:$AC$9,0))=\"\",\"\",INDEX('DATA TABLE'!$J$10:$AC$66, MATCH($B63,'DATA TABLE'!$B$10:$B$66,0), MATCH($C$10,'DATA TABLE'!$J$9:$AC$9,0)))","v":2},{"$f":"IF(INDEX(Data_summary!$E$3:$X$47, MATCH($B63,Data_summary!$C$3:$C$47,0),MATCH($C$10,Data_summary!$E$2:$X$2,0))=\"\",\"\",INDEX(Data_summary!$E$3:$X$47, MATCH($B63,Data_summary!$C$3:$C$47,0),MATCH($C$10,Data_summary!$E$2:$X$2,0)))","v":"Australia's national guidelines on cardiovascular disease risk management mention the referral of patients trying to lose weight to exercise and nutrition specialists and bariatric surgery, and the national guidelines for diabetes management mention that obesity pharmacotherapy should be considered for people with diabetes and overweight or obesity, and that a dietician can provide support to people seeking to lose weight (Australian Government Department of Health and Aged Care, Australian Guideline for assessing and managing cardiovascular disease risk, 2023; Royal Australian College of General Practitioners, Management of type 2 diabetes: A handbook for general practice)."},null,{"$f":"IF(INDEX('DATA TABLE'!$G$10:$G$66,MATCH($B63,'DATA TABLE'!$B$10:$B$66,0))=\"\",CONCATENATE(\"(\",INDEX('DATA TABLE'!$E$10:$E$66,MATCH($B63,'DATA TABLE'!$B$10:$B$66,0)),\")\"), CONCATENATE(INDEX('DATA TABLE'!$G$10:$G$66,MATCH($B63,'DATA TABLE'!$B$10:$B$66,0)),\" (\",INDEX('DATA TABLE'!$E$10:$E$66,MATCH($B63,'DATA TABLE'!$B$10:$B$66,0)),\")\"))","v":"Qualitative rating 0-2; 2=best (Economist Enterprise research)"}]
[null,2.2999999999999998,{"$f":"INDEX(Lists!$H$2:$H$64,MATCH($B64,Lists!$F$2:$F$64,0))","v":"2.3) Availability and affordability of obesity-related care"},{"$f":"INDEX(Lists!$H$2:$H$59,MATCH($B64,Lists!$F$2:$F$58,0))","v":"2.3) Availability and affordability of obesity-related care"},{"$f":"INDEX(Lists!$H$2:$H$59,MATCH($B64,Lists!$F$2:$F$58,0))","v":"2.3) Availability and affordability of obesity-related care"},{"$f":"INDEX(Lists!$H$2:$H$59,MATCH($B64,Lists!$F$2:$F$58,0))","v":"2.3) Availability and affordability of obesity-related care"},{"$f":"INDEX(Lists!$H$2:$H$59,MATCH($B64,Lists!$F$2:$F$58,0))","v":"2.3) Availability and affordability of obesity-related care"},{"$f":"INDEX(Lists!$H$2:$H$59,MATCH($B64,Lists!$F$2:$F$58,0))","v":"2.3) Availability and affordability of obesity-related care"},{"$f":"INDEX(Lists!$H$2:$H$59,MATCH($B64,Lists!$F$2:$F$58,0))","v":"2.3) Availability and affordability of obesity-related care"},{"$f":"INDEX(Lists!$H$2:$H$59,MATCH($B64,Lists!$F$2:$F$58,0))","v":"2.3) Availability and affordability of obesity-related care"}]
[null,"2.3.1",{"$f":"INDEX(Lists!$H$2:$H$64,MATCH($B65,Lists!$F$2:$F$64,0))","v":"2.3.1) Reimbursement/coverage of obesity care"},null,{"$f":"IFERROR(ROUND(INDEX('SCORE TABLE'!$H$10:$AA$54, MATCH($B65,'SCORE TABLE'!$B$10:$B$54,0), MATCH($C$10,'SCORE TABLE'!$H$9:$AA$9,0)),1),\"Not scored\")","v":75},null,{"$f":"IF(INDEX('DATA TABLE'!$J$10:$AC$66, MATCH($B65,'DATA TABLE'!$B$10:$B$66,0), MATCH($C$10,'DATA TABLE'!$J$9:$AC$9,0))=\"\",\"\",INDEX('DATA TABLE'!$J$10:$AC$66, MATCH($B65,'DATA TABLE'!$B$10:$B$66,0), MATCH($C$10,'DATA TABLE'!$J$9:$AC$9,0)))","v":3},{"$f":"IF(INDEX(Data_summary!$E$3:$X$47, MATCH($B65,Data_summary!$C$3:$C$47,0),MATCH($C$10,Data_summary!$E$2:$X$2,0))=\"\",\"\",INDEX(Data_summary!$E$3:$X$47, MATCH($B65,Data_summary!$C$3:$C$47,0),MATCH($C$10,Data_summary!$E$2:$X$2,0)))","v":"Medicare—the main public insurance scheme—covers bariatric surgery for clinically severe obesity, nutrition counselling and behavioural therapy/psychological counselling, which are recommended in the national guidelines for obesity management; it does not cover obesity medications (Australian Government Department of Health and Aged Care, Clinical Practice Guidelines for the Management of Overweight and Obesity for Adults, Adolescents and Children in Australia (Draft Guidelines), November 2024; Australian Government Department of Health and Aged Care, Medicare Benefits Schedule)."},null,{"$f":"IF(INDEX('DATA TABLE'!$G$10:$G$66,MATCH($B65,'DATA TABLE'!$B$10:$B$66,0))=\"\",CONCATENATE(\"(\",INDEX('DATA TABLE'!$E$10:$E$66,MATCH($B65,'DATA TABLE'!$B$10:$B$66,0)),\")\"), CONCATENATE(INDEX('DATA TABLE'!$G$10:$G$66,MATCH($B65,'DATA TABLE'!$B$10:$B$66,0)),\" (\",INDEX('DATA TABLE'!$E$10:$E$66,MATCH($B65,'DATA TABLE'!$B$10:$B$66,0)),\")\"))","v":"Qualitative rating 0-4; 4=best (Economist Enterprise research)"}]
[null,3,{"$f":"INDEX(Lists!$H$2:$H$64,MATCH($B66,Lists!$F$2:$F$64,0))","v":"3) Food quality and access"},{"$f":"INDEX(Lists!$H$2:$H$59,MATCH($B66,Lists!$F$2:$F$58,0))","v":"3) Food quality and access"},{"$f":"INDEX(Lists!$H$2:$H$59,MATCH($B66,Lists!$F$2:$F$58,0))","v":"3) Food quality and access"},{"$f":"INDEX(Lists!$H$2:$H$59,MATCH($B66,Lists!$F$2:$F$58,0))","v":"3) Food quality and access"},{"$f":"INDEX(Lists!$H$2:$H$59,MATCH($B66,Lists!$F$2:$F$58,0))","v":"3) Food quality and access"},{"$f":"INDEX(Lists!$H$2:$H$59,MATCH($B66,Lists!$F$2:$F$58,0))","v":"3) Food quality and access"},{"$f":"INDEX(Lists!$H$2:$H$59,MATCH($B66,Lists!$F$2:$F$58,0))","v":"3) Food quality and access"},{"$f":"INDEX(Lists!$H$2:$H$59,MATCH($B66,Lists!$F$2:$F$58,0))","v":"3) Food quality and access"}]
[null,3.1,{"$f":"INDEX(Lists!$H$2:$H$64,MATCH($B67,Lists!$F$2:$F$64,0))","v":"3.1) Food access and affordability"},{"$f":"INDEX(Lists!$H$2:$H$59,MATCH($B67,Lists!$F$2:$F$58,0))","v":"3.1) Food access and affordability"},{"$f":"INDEX(Lists!$H$2:$H$59,MATCH($B67,Lists!$F$2:$F$58,0))","v":"3.1) Food access and affordability"},{"$f":"INDEX(Lists!$H$2:$H$59,MATCH($B67,Lists!$F$2:$F$58,0))","v":"3.1) Food access and affordability"},{"$f":"INDEX(Lists!$H$2:$H$59,MATCH($B67,Lists!$F$2:$F$58,0))","v":"3.1) Food access and affordability"},{"$f":"INDEX(Lists!$H$2:$H$59,MATCH($B67,Lists!$F$2:$F$58,0))","v":"3.1) Food access and affordability"},{"$f":"INDEX(Lists!$H$2:$H$59,MATCH($B67,Lists!$F$2:$F$58,0))","v":"3.1) Food access and affordability"},{"$f":"INDEX(Lists!$H$2:$H$59,MATCH($B67,Lists!$F$2:$F$58,0))","v":"3.1) Food access and affordability"}]
[null,"3.1.1",{"$f":"INDEX(Lists!$H$2:$H$64,MATCH($B68,Lists!$F$2:$F$64,0))","v":"3.1.1) Level of food security"},null,{"$f":"IFERROR(ROUND(INDEX('SCORE TABLE'!$H$10:$AA$54, MATCH($B68,'SCORE TABLE'!$B$10:$B$54,0), MATCH($C$10,'SCORE TABLE'!$H$9:$AA$9,0)),1),\"Not scored\")","v":87.1},null,{"$f":"IF(INDEX('DATA TABLE'!$J$10:$AC$66, MATCH($B68,'DATA TABLE'!$B$10:$B$66,0), MATCH($C$10,'DATA TABLE'!$J$9:$AC$9,0))=\"\",\"\",INDEX('DATA TABLE'!$J$10:$AC$66, MATCH($B68,'DATA TABLE'!$B$10:$B$66,0), MATCH($C$10,'DATA TABLE'!$J$9:$AC$9,0)))","v":87.1},{"$f":"IF(INDEX(Data_summary!$E$3:$X$47, MATCH($B68,Data_summary!$C$3:$C$47,0),MATCH($C$10,Data_summary!$E$2:$X$2,0))=\"\",\"\",INDEX(Data_summary!$E$3:$X$47, MATCH($B68,Data_summary!$C$3:$C$47,0),MATCH($C$10,Data_summary!$E$2:$X$2,0)))","v":"Australia had a food security rate of 87.1% in 2021-23 (FAO, IFAD, UNICEF, WFP and WHO, The State of Food Security and Nutrition in the World 2024—financing to end hunger, food insecurity and malnutrition in all its forms, 2024)."},null,{"$f":"IF(INDEX('DATA TABLE'!$G$10:$G$66,MATCH($B68,'DATA TABLE'!$B$10:$B$66,0))=\"\",CONCATENATE(\"(\",INDEX('DATA TABLE'!$E$10:$E$66,MATCH($B68,'DATA TABLE'!$B$10:$B$66,0)),\")\"), CONCATENATE(INDEX('DATA TABLE'!$G$10:$G$66,MATCH($B68,'DATA TABLE'!$B$10:$B$66,0)),\" (\",INDEX('DATA TABLE'!$E$10:$E$66,MATCH($B68,'DATA TABLE'!$B$10:$B$66,0)),\")\"))","v":"% (FAO, IFAD, UNICEF, WFP and WHO - The State of Food Security and Nutrition in the World 2024 – Financing to end hunger, food insecurity and malnutrition in all its forms)"}]
[null,"3.1.2",{"$f":"INDEX(Lists!$H$2:$H$64,MATCH($B69,Lists!$F$2:$F$64,0))","v":"3.1.2) Affordability of nutritious food"},null,{"$f":"IFERROR(ROUND(INDEX('SCORE TABLE'!$H$10:$AA$54, MATCH($B69,'SCORE TABLE'!$B$10:$B$54,0), MATCH($C$10,'SCORE TABLE'!$H$9:$AA$9,0)),1),\"Not scored\")","v":96.8},null,{"$f":"IF(INDEX('DATA TABLE'!$J$10:$AC$66, MATCH($B69,'DATA TABLE'!$B$10:$B$66,0), MATCH($C$10,'DATA TABLE'!$J$9:$AC$9,0))=\"\",\"\",INDEX('DATA TABLE'!$J$10:$AC$66, MATCH($B69,'DATA TABLE'!$B$10:$B$66,0), MATCH($C$10,'DATA TABLE'!$J$9:$AC$9,0)))","v":96.8},{"$f":"IF(INDEX(Data_summary!$E$3:$X$47, MATCH($B69,Data_summary!$C$3:$C$47,0),MATCH($C$10,Data_summary!$E$2:$X$2,0))=\"\",\"\",INDEX(Data_summary!$E$3:$X$47, MATCH($B69,Data_summary!$C$3:$C$47,0),MATCH($C$10,Data_summary!$E$2:$X$2,0)))","v":"According to the World Bank's Food Prices for Nutrition DataHub, 96.8% of people in Australia could afford a healthy diet in 2022 (World Bank, The State of Food Security and Nutrition in the World 2024 and Food Prices for Nutrition Database 3.0, 2024)."},null,{"$f":"IF(INDEX('DATA TABLE'!$G$10:$G$66,MATCH($B69,'DATA TABLE'!$B$10:$B$66,0))=\"\",CONCATENATE(\"(\",INDEX('DATA TABLE'!$E$10:$E$66,MATCH($B69,'DATA TABLE'!$B$10:$B$66,0)),\")\"), CONCATENATE(INDEX('DATA TABLE'!$G$10:$G$66,MATCH($B69,'DATA TABLE'!$B$10:$B$66,0)),\" (\",INDEX('DATA TABLE'!$E$10:$E$66,MATCH($B69,'DATA TABLE'!$B$10:$B$66,0)),\")\"))","v":"% (World Bank)"}]
[null,"3.1.3",{"$f":"INDEX(Lists!$H$2:$H$64,MATCH($B70,Lists!$F$2:$F$64,0))","v":"3.1.3) Nutrition programmes for lower-income individuals"},null,{"$f":"IFERROR(ROUND(INDEX('SCORE TABLE'!$H$10:$AA$54, MATCH($B70,'SCORE TABLE'!$B$10:$B$54,0), MATCH($C$10,'SCORE TABLE'!$H$9:$AA$9,0)),1),\"Not scored\")","v":0},null,{"$f":"IF(INDEX('DATA TABLE'!$J$10:$AC$66, MATCH($B70,'DATA TABLE'!$B$10:$B$66,0), MATCH($C$10,'DATA TABLE'!$J$9:$AC$9,0))=\"\",\"\",INDEX('DATA TABLE'!$J$10:$AC$66, MATCH($B70,'DATA TABLE'!$B$10:$B$66,0), MATCH($C$10,'DATA TABLE'!$J$9:$AC$9,0)))","v":0},{"$f":"IF(INDEX(Data_summary!$E$3:$X$47, MATCH($B70,Data_summary!$C$3:$C$47,0),MATCH($C$10,Data_summary!$E$2:$X$2,0))=\"\",\"\",INDEX(Data_summary!$E$3:$X$47, MATCH($B70,Data_summary!$C$3:$C$47,0),MATCH($C$10,Data_summary!$E$2:$X$2,0)))","v":"There is insufficient evidence that Australia has any specific programmes in place for lower-income individuals to access nutritious food."},null,{"$f":"IF(INDEX('DATA TABLE'!$G$10:$G$66,MATCH($B70,'DATA TABLE'!$B$10:$B$66,0))=\"\",CONCATENATE(\"(\",INDEX('DATA TABLE'!$E$10:$E$66,MATCH($B70,'DATA TABLE'!$B$10:$B$66,0)),\")\"), CONCATENATE(INDEX('DATA TABLE'!$G$10:$G$66,MATCH($B70,'DATA TABLE'!$B$10:$B$66,0)),\" (\",INDEX('DATA TABLE'!$E$10:$E$66,MATCH($B70,'DATA TABLE'!$B$10:$B$66,0)),\")\"))","v":"Qualitative rating 0-1; 1=best (Economist Enterprise research)"}]
[null,3.2,{"$f":"INDEX(Lists!$H$2:$H$64,MATCH($B71,Lists!$F$2:$F$64,0))","v":"3.2) Nutrition guidance and regulation"},{"$f":"INDEX(Lists!$H$2:$H$59,MATCH($B71,Lists!$F$2:$F$58,0))","v":"3.2) Nutrition guidance and regulation"},{"$f":"INDEX(Lists!$H$2:$H$59,MATCH($B71,Lists!$F$2:$F$58,0))","v":"3.2) Nutrition guidance and regulation"},{"$f":"INDEX(Lists!$H$2:$H$59,MATCH($B71,Lists!$F$2:$F$58,0))","v":"3.2) Nutrition guidance and regulation"},{"$f":"INDEX(Lists!$H$2:$H$59,MATCH($B71,Lists!$F$2:$F$58,0))","v":"3.2) Nutrition guidance and regulation"},{"$f":"INDEX(Lists!$H$2:$H$59,MATCH($B71,Lists!$F$2:$F$58,0))","v":"3.2) Nutrition guidance and regulation"},{"$f":"INDEX(Lists!$H$2:$H$59,MATCH($B71,Lists!$F$2:$F$58,0))","v":"3.2) Nutrition guidance and regulation"},{"$f":"INDEX(Lists!$H$2:$H$59,MATCH($B71,Lists!$F$2:$F$58,0))","v":"3.2) Nutrition guidance and regulation"}]
[null,"3.2.1",{"$f":"INDEX(Lists!$H$2:$H$64,MATCH($B72,Lists!$F$2:$F$64,0))","v":"3.2.1) Nutrition policy/strategy/plan that addresses obesity"},null,{"$f":"IFERROR(ROUND(INDEX('SCORE TABLE'!$H$10:$AA$54, MATCH($B72,'SCORE TABLE'!$B$10:$B$54,0), MATCH($C$10,'SCORE TABLE'!$H$9:$AA$9,0)),1),\"Not scored\")","v":0},null,{"$f":"IF(INDEX('DATA TABLE'!$J$10:$AC$66, MATCH($B72,'DATA TABLE'!$B$10:$B$66,0), MATCH($C$10,'DATA TABLE'!$J$9:$AC$9,0))=\"\",\"\",INDEX('DATA TABLE'!$J$10:$AC$66, MATCH($B72,'DATA TABLE'!$B$10:$B$66,0), MATCH($C$10,'DATA TABLE'!$J$9:$AC$9,0)))","v":0},{"$f":"IF(INDEX(Data_summary!$E$3:$X$47, MATCH($B72,Data_summary!$C$3:$C$47,0),MATCH($C$10,Data_summary!$E$2:$X$2,0))=\"\",\"\",INDEX(Data_summary!$E$3:$X$47, MATCH($B72,Data_summary!$C$3:$C$47,0),MATCH($C$10,Data_summary!$E$2:$X$2,0)))","v":"Australia's National Food and Nutrition Policy was last updated in 1992, its National Food Plan was last updated in 2013, and the Australian Government's work around improving the country's nutrition relies on the National Preventive Health Strategy and the Australian Dietary Guidelines, neither of which constitute a nutrition strategy (Australian Government Department of Health, National Preventive Health Strategy 2021-2030, 2021; National Health and Medical Research Council, Department of Health and Ageing, Australian Dietary Guidelines, 2013; Australian Government, National Food Plan: Our food future, 2013)."},null,{"$f":"IF(INDEX('DATA TABLE'!$G$10:$G$66,MATCH($B72,'DATA TABLE'!$B$10:$B$66,0))=\"\",CONCATENATE(\"(\",INDEX('DATA TABLE'!$E$10:$E$66,MATCH($B72,'DATA TABLE'!$B$10:$B$66,0)),\")\"), CONCATENATE(INDEX('DATA TABLE'!$G$10:$G$66,MATCH($B72,'DATA TABLE'!$B$10:$B$66,0)),\" (\",INDEX('DATA TABLE'!$E$10:$E$66,MATCH($B72,'DATA TABLE'!$B$10:$B$66,0)),\")\"))","v":"Qualitative rating 0-3; 3=best (Economist Enterprise research)"}]
[null,"3.2.2",{"$f":"INDEX(Lists!$H$2:$H$64,MATCH($B73,Lists!$F$2:$F$64,0))","v":"3.2.2) Marketing of unhealthy food and beverages to children"},null,{"$f":"IFERROR(ROUND(INDEX('SCORE TABLE'!$H$10:$AA$54, MATCH($B73,'SCORE TABLE'!$B$10:$B$54,0), MATCH($C$10,'SCORE TABLE'!$H$9:$AA$9,0)),1),\"Not scored\")","v":50},null,{"$f":"IF(INDEX('DATA TABLE'!$J$10:$AC$66, MATCH($B73,'DATA TABLE'!$B$10:$B$66,0), MATCH($C$10,'DATA TABLE'!$J$9:$AC$9,0))=\"\",\"\",INDEX('DATA TABLE'!$J$10:$AC$66, MATCH($B73,'DATA TABLE'!$B$10:$B$66,0), MATCH($C$10,'DATA TABLE'!$J$9:$AC$9,0)))","v":1},{"$f":"IF(INDEX(Data_summary!$E$3:$X$47, MATCH($B73,Data_summary!$C$3:$C$47,0),MATCH($C$10,Data_summary!$E$2:$X$2,0))=\"\",\"\",INDEX(Data_summary!$E$3:$X$47, MATCH($B73,Data_summary!$C$3:$C$47,0),MATCH($C$10,Data_summary!$E$2:$X$2,0)))","v":"Australia's Responsible Children's Marketing Initiative (RCMI) is a voluntary code developed by the Australian Food and Grocery Council—an industry association—that restricts the marketing of unhealthy foods to children; however, this code is not mandatory and the government was not involved in its development (Australian Food and Grocery Council, Responsible Children's Marketing Initiative, 2014). Although a bill was submitted to parliament to prohibit the marketing of certain food or drink products on television and radio, it did not proceed (Parliament of Australia, Broadcasting Services Amendment (Healthy Kids Advertising) Bill, 2023)."},null,{"$f":"IF(INDEX('DATA TABLE'!$G$10:$G$66,MATCH($B73,'DATA TABLE'!$B$10:$B$66,0))=\"\",CONCATENATE(\"(\",INDEX('DATA TABLE'!$E$10:$E$66,MATCH($B73,'DATA TABLE'!$B$10:$B$66,0)),\")\"), CONCATENATE(INDEX('DATA TABLE'!$G$10:$G$66,MATCH($B73,'DATA TABLE'!$B$10:$B$66,0)),\" (\",INDEX('DATA TABLE'!$E$10:$E$66,MATCH($B73,'DATA TABLE'!$B$10:$B$66,0)),\")\"))","v":"Qualitative rating 0-2; 2=best (Economist Enterprise research)"}]
[null,"3.2.3",{"$f":"INDEX(Lists!$H$2:$H$64,MATCH($B74,Lists!$F$2:$F$64,0))","v":"3.2.3) Food labelling"},null,{"$f":"IFERROR(ROUND(INDEX('SCORE TABLE'!$H$10:$AA$54, MATCH($B74,'SCORE TABLE'!$B$10:$B$54,0), MATCH($C$10,'SCORE TABLE'!$H$9:$AA$9,0)),1),\"Not scored\")","v":50},null,{"$f":"IF(INDEX('DATA TABLE'!$J$10:$AC$66, MATCH($B74,'DATA TABLE'!$B$10:$B$66,0), MATCH($C$10,'DATA TABLE'!$J$9:$AC$9,0))=\"\",\"\",INDEX('DATA TABLE'!$J$10:$AC$66, MATCH($B74,'DATA TABLE'!$B$10:$B$66,0), MATCH($C$10,'DATA TABLE'!$J$9:$AC$9,0)))","v":1},{"$f":"IF(INDEX(Data_summary!$E$3:$X$47, MATCH($B74,Data_summary!$C$3:$C$47,0),MATCH($C$10,Data_summary!$E$2:$X$2,0))=\"\",\"\",INDEX(Data_summary!$E$3:$X$47, MATCH($B74,Data_summary!$C$3:$C$47,0),MATCH($C$10,Data_summary!$E$2:$X$2,0)))","v":"Australia mandates food labelling to support healthy eating, including nutrition facts (Australian Government Federal Register of Legislation, Australia New Zealand Food Standards Code—Standard 1.2.1—Requirements to have labels or otherwise provide information, 2024). However, front-of-package labelling is voluntary under the Health Star Rating system (Food Standards Australia New Zealand, Health Star Rating System, 2021; Health Star Rating, About)."},null,{"$f":"IF(INDEX('DATA TABLE'!$G$10:$G$66,MATCH($B74,'DATA TABLE'!$B$10:$B$66,0))=\"\",CONCATENATE(\"(\",INDEX('DATA TABLE'!$E$10:$E$66,MATCH($B74,'DATA TABLE'!$B$10:$B$66,0)),\")\"), CONCATENATE(INDEX('DATA TABLE'!$G$10:$G$66,MATCH($B74,'DATA TABLE'!$B$10:$B$66,0)),\" (\",INDEX('DATA TABLE'!$E$10:$E$66,MATCH($B74,'DATA TABLE'!$B$10:$B$66,0)),\")\"))","v":"Qualitative rating 0-2; 2=best (Economist Enterprise research)"}]
[null,"3.2.4",{"$f":"INDEX(Lists!$H$2:$H$64,MATCH($B75,Lists!$F$2:$F$64,0))","v":"3.2.4) Menu labelling"},null,{"$f":"IFERROR(ROUND(INDEX('SCORE TABLE'!$H$10:$AA$54, MATCH($B75,'SCORE TABLE'!$B$10:$B$54,0), MATCH($C$10,'SCORE TABLE'!$H$9:$AA$9,0)),1),\"Not scored\")","v":0},null,{"$f":"IF(INDEX('DATA TABLE'!$J$10:$AC$66, MATCH($B75,'DATA TABLE'!$B$10:$B$66,0), MATCH($C$10,'DATA TABLE'!$J$9:$AC$9,0))=\"\",\"\",INDEX('DATA TABLE'!$J$10:$AC$66, MATCH($B75,'DATA TABLE'!$B$10:$B$66,0), MATCH($C$10,'DATA TABLE'!$J$9:$AC$9,0)))","v":0},{"$f":"IF(INDEX(Data_summary!$E$3:$X$47, MATCH($B75,Data_summary!$C$3:$C$47,0),MATCH($C$10,Data_summary!$E$2:$X$2,0))=\"\",\"\",INDEX(Data_summary!$E$3:$X$47, MATCH($B75,Data_summary!$C$3:$C$47,0),MATCH($C$10,Data_summary!$E$2:$X$2,0)))","v":"There is insufficient evidence that Australia has legislation mandating or recommending nutrition labelling on menus to support healthy eating. At the state level, some states require nutrition labelling on menus while others do not (New South Wales Government, New South Wales Food Regulation 2015 under the Food Act of 2003; Northern Territory Government, Food Labelling)."},null,{"$f":"IF(INDEX('DATA TABLE'!$G$10:$G$66,MATCH($B75,'DATA TABLE'!$B$10:$B$66,0))=\"\",CONCATENATE(\"(\",INDEX('DATA TABLE'!$E$10:$E$66,MATCH($B75,'DATA TABLE'!$B$10:$B$66,0)),\")\"), CONCATENATE(INDEX('DATA TABLE'!$G$10:$G$66,MATCH($B75,'DATA TABLE'!$B$10:$B$66,0)),\" (\",INDEX('DATA TABLE'!$E$10:$E$66,MATCH($B75,'DATA TABLE'!$B$10:$B$66,0)),\")\"))","v":"Qualitative rating 0-2; 2=best (Economist Enterprise research)"}]
[null,"3.2.5",{"$f":"INDEX(Lists!$H$2:$H$64,MATCH($B76,Lists!$F$2:$F$64,0))","v":"3.2.5) Taxes on unhealthy food and beverages"},null,{"$f":"IFERROR(ROUND(INDEX('SCORE TABLE'!$H$10:$AA$54, MATCH($B76,'SCORE TABLE'!$B$10:$B$54,0), MATCH($C$10,'SCORE TABLE'!$H$9:$AA$9,0)),1),\"Not scored\")","v":0},null,{"$f":"IF(INDEX('DATA TABLE'!$J$10:$AC$66, MATCH($B76,'DATA TABLE'!$B$10:$B$66,0), MATCH($C$10,'DATA TABLE'!$J$9:$AC$9,0))=\"\",\"\",INDEX('DATA TABLE'!$J$10:$AC$66, MATCH($B76,'DATA TABLE'!$B$10:$B$66,0), MATCH($C$10,'DATA TABLE'!$J$9:$AC$9,0)))","v":0},{"$f":"IF(INDEX(Data_summary!$E$3:$X$47, MATCH($B76,Data_summary!$C$3:$C$47,0),MATCH($C$10,Data_summary!$E$2:$X$2,0))=\"\",\"\",INDEX(Data_summary!$E$3:$X$47, MATCH($B76,Data_summary!$C$3:$C$47,0),MATCH($C$10,Data_summary!$E$2:$X$2,0)))","v":"Australian lawmakers are exploring the possibility of levying a 20% tax on sugar-sweetened beverages; however, the country does not levy taxes on unhealthy food or beverages as of April 2025 (Australian Government Parliamentary Budget Office, Policy Costing: 20% tax on sugar sweetened beverages, 2024)."},null,{"$f":"IF(INDEX('DATA TABLE'!$G$10:$G$66,MATCH($B76,'DATA TABLE'!$B$10:$B$66,0))=\"\",CONCATENATE(\"(\",INDEX('DATA TABLE'!$E$10:$E$66,MATCH($B76,'DATA TABLE'!$B$10:$B$66,0)),\")\"), CONCATENATE(INDEX('DATA TABLE'!$G$10:$G$66,MATCH($B76,'DATA TABLE'!$B$10:$B$66,0)),\" (\",INDEX('DATA TABLE'!$E$10:$E$66,MATCH($B76,'DATA TABLE'!$B$10:$B$66,0)),\")\"))","v":"Qualitative rating 0-2; 2=best (Economist Enterprise research)"}]
[null,3.3,{"$f":"INDEX(Lists!$H$2:$H$64,MATCH($B77,Lists!$F$2:$F$64,0))","v":"3.3) Nutrition in schools"},{"$f":"INDEX(Lists!$H$2:$H$59,MATCH($B77,Lists!$F$2:$F$58,0))","v":"3.3) Nutrition in schools"},{"$f":"INDEX(Lists!$H$2:$H$59,MATCH($B77,Lists!$F$2:$F$58,0))","v":"3.3) Nutrition in schools"},{"$f":"INDEX(Lists!$H$2:$H$59,MATCH($B77,Lists!$F$2:$F$58,0))","v":"3.3) Nutrition in schools"},{"$f":"INDEX(Lists!$H$2:$H$59,MATCH($B77,Lists!$F$2:$F$58,0))","v":"3.3) Nutrition in schools"},{"$f":"INDEX(Lists!$H$2:$H$59,MATCH($B77,Lists!$F$2:$F$58,0))","v":"3.3) Nutrition in schools"},{"$f":"INDEX(Lists!$H$2:$H$59,MATCH($B77,Lists!$F$2:$F$58,0))","v":"3.3) Nutrition in schools"},{"$f":"INDEX(Lists!$H$2:$H$59,MATCH($B77,Lists!$F$2:$F$58,0))","v":"3.3) Nutrition in schools"}]
[null,"3.3.1",{"$f":"INDEX(Lists!$H$2:$H$64,MATCH($B78,Lists!$F$2:$F$64,0))","v":"3.3.1) School nutrition standards"},null,{"$f":"IFERROR(ROUND(INDEX('SCORE TABLE'!$H$10:$AA$54, MATCH($B78,'SCORE TABLE'!$B$10:$B$54,0), MATCH($C$10,'SCORE TABLE'!$H$9:$AA$9,0)),1),\"Not scored\")","v":100},null,{"$f":"IF(INDEX('DATA TABLE'!$J$10:$AC$66, MATCH($B78,'DATA TABLE'!$B$10:$B$66,0), MATCH($C$10,'DATA TABLE'!$J$9:$AC$9,0))=\"\",\"\",INDEX('DATA TABLE'!$J$10:$AC$66, MATCH($B78,'DATA TABLE'!$B$10:$B$66,0), MATCH($C$10,'DATA TABLE'!$J$9:$AC$9,0)))","v":1},{"$f":"IF(INDEX(Data_summary!$E$3:$X$47, MATCH($B78,Data_summary!$C$3:$C$47,0),MATCH($C$10,Data_summary!$E$2:$X$2,0))=\"\",\"\",INDEX(Data_summary!$E$3:$X$47, MATCH($B78,Data_summary!$C$3:$C$47,0),MATCH($C$10,Data_summary!$E$2:$X$2,0)))","v":"Australia has nutrition standards in place for school food, regulated at the state level (New South Wales Government, NSW Healthy School Canteen Strategy—Food and Drink Criteria, 4th ed., 2020; Northern Territory Government, School nutrition and healthy eating—guidelines, 2023). The national government also provides guidelines on implementing healthy food choices in schools (Australian Government Department of Health, Guidelines for healthy foods and drinks supplied in school canteens, 2014)."},null,{"$f":"IF(INDEX('DATA TABLE'!$G$10:$G$66,MATCH($B78,'DATA TABLE'!$B$10:$B$66,0))=\"\",CONCATENATE(\"(\",INDEX('DATA TABLE'!$E$10:$E$66,MATCH($B78,'DATA TABLE'!$B$10:$B$66,0)),\")\"), CONCATENATE(INDEX('DATA TABLE'!$G$10:$G$66,MATCH($B78,'DATA TABLE'!$B$10:$B$66,0)),\" (\",INDEX('DATA TABLE'!$E$10:$E$66,MATCH($B78,'DATA TABLE'!$B$10:$B$66,0)),\")\"))","v":"Qualitative rating 0-1; 1=best (Economist Enterprise research)"}]
[null,"3.3.2",{"$f":"INDEX(Lists!$H$2:$H$64,MATCH($B79,Lists!$F$2:$F$64,0))","v":"3.3.2) Nutrition education"},null,{"$f":"IFERROR(ROUND(INDEX('SCORE TABLE'!$H$10:$AA$54, MATCH($B79,'SCORE TABLE'!$B$10:$B$54,0), MATCH($C$10,'SCORE TABLE'!$H$9:$AA$9,0)),1),\"Not scored\")","v":100},null,{"$f":"IF(INDEX('DATA TABLE'!$J$10:$AC$66, MATCH($B79,'DATA TABLE'!$B$10:$B$66,0), MATCH($C$10,'DATA TABLE'!$J$9:$AC$9,0))=\"\",\"\",INDEX('DATA TABLE'!$J$10:$AC$66, MATCH($B79,'DATA TABLE'!$B$10:$B$66,0), MATCH($C$10,'DATA TABLE'!$J$9:$AC$9,0)))","v":1},{"$f":"IF(INDEX(Data_summary!$E$3:$X$47, MATCH($B79,Data_summary!$C$3:$C$47,0),MATCH($C$10,Data_summary!$E$2:$X$2,0))=\"\",\"\",INDEX(Data_summary!$E$3:$X$47, MATCH($B79,Data_summary!$C$3:$C$47,0),MATCH($C$10,Data_summary!$E$2:$X$2,0)))","v":"Australia's national curriculum includes nutrition education (Australian Curriculum, Assessment and Reporting Authority, Learning Areas: Health and Physical Education—Food and nutrition)."},null,{"$f":"IF(INDEX('DATA TABLE'!$G$10:$G$66,MATCH($B79,'DATA TABLE'!$B$10:$B$66,0))=\"\",CONCATENATE(\"(\",INDEX('DATA TABLE'!$E$10:$E$66,MATCH($B79,'DATA TABLE'!$B$10:$B$66,0)),\")\"), CONCATENATE(INDEX('DATA TABLE'!$G$10:$G$66,MATCH($B79,'DATA TABLE'!$B$10:$B$66,0)),\" (\",INDEX('DATA TABLE'!$E$10:$E$66,MATCH($B79,'DATA TABLE'!$B$10:$B$66,0)),\")\"))","v":"Qualitative rating 0-1; 1=best (Economist Enterprise research)"}]
[null,4,{"$f":"INDEX(Lists!$H$2:$H$64,MATCH($B80,Lists!$F$2:$F$64,0))","v":"4) Physical activity"},{"$f":"INDEX(Lists!$H$2:$H$59,MATCH($B80,Lists!$F$2:$F$58,0))","v":"4) Physical activity"},{"$f":"INDEX(Lists!$H$2:$H$59,MATCH($B80,Lists!$F$2:$F$58,0))","v":"4) Physical activity"},{"$f":"INDEX(Lists!$H$2:$H$59,MATCH($B80,Lists!$F$2:$F$58,0))","v":"4) Physical activity"},{"$f":"INDEX(Lists!$H$2:$H$59,MATCH($B80,Lists!$F$2:$F$58,0))","v":"4) Physical activity"},{"$f":"INDEX(Lists!$H$2:$H$59,MATCH($B80,Lists!$F$2:$F$58,0))","v":"4) Physical activity"},{"$f":"INDEX(Lists!$H$2:$H$59,MATCH($B80,Lists!$F$2:$F$58,0))","v":"4) Physical activity"},{"$f":"INDEX(Lists!$H$2:$H$59,MATCH($B80,Lists!$F$2:$F$58,0))","v":"4) Physical activity"}]
[null,4.0999999999999996,{"$f":"INDEX(Lists!$H$2:$H$64,MATCH($B81,Lists!$F$2:$F$64,0))","v":"4.1) Physical activity among the population"},{"$f":"INDEX(Lists!$H$2:$H$59,MATCH($B81,Lists!$F$2:$F$58,0))","v":"4.1) Physical activity among the population"},{"$f":"INDEX(Lists!$H$2:$H$59,MATCH($B81,Lists!$F$2:$F$58,0))","v":"4.1) Physical activity among the population"},{"$f":"INDEX(Lists!$H$2:$H$59,MATCH($B81,Lists!$F$2:$F$58,0))","v":"4.1) Physical activity among the population"},{"$f":"INDEX(Lists!$H$2:$H$59,MATCH($B81,Lists!$F$2:$F$58,0))","v":"4.1) Physical activity among the population"},{"$f":"INDEX(Lists!$H$2:$H$59,MATCH($B81,Lists!$F$2:$F$58,0))","v":"4.1) Physical activity among the population"},{"$f":"INDEX(Lists!$H$2:$H$59,MATCH($B81,Lists!$F$2:$F$58,0))","v":"4.1) Physical activity among the population"},{"$f":"INDEX(Lists!$H$2:$H$59,MATCH($B81,Lists!$F$2:$F$58,0))","v":"4.1) Physical activity among the population"}]
[null,"4.1.1",{"$f":"INDEX(Lists!$H$2:$H$64,MATCH($B82,Lists!$F$2:$F$64,0))","v":"4.1.1) Promotion of physical activity"},null,{"$f":"IFERROR(ROUND(INDEX('SCORE TABLE'!$H$10:$AA$54, MATCH($B82,'SCORE TABLE'!$B$10:$B$54,0), MATCH($C$10,'SCORE TABLE'!$H$9:$AA$9,0)),1),\"Not scored\")","v":66.7},null,{"$f":"IF(INDEX('DATA TABLE'!$J$10:$AC$66, MATCH($B82,'DATA TABLE'!$B$10:$B$66,0), MATCH($C$10,'DATA TABLE'!$J$9:$AC$9,0))=\"\",\"\",INDEX('DATA TABLE'!$J$10:$AC$66, MATCH($B82,'DATA TABLE'!$B$10:$B$66,0), MATCH($C$10,'DATA TABLE'!$J$9:$AC$9,0)))","v":2},{"$f":"IF(INDEX(Data_summary!$E$3:$X$47, MATCH($B82,Data_summary!$C$3:$C$47,0),MATCH($C$10,Data_summary!$E$2:$X$2,0))=\"\",\"\",INDEX(Data_summary!$E$3:$X$47, MATCH($B82,Data_summary!$C$3:$C$47,0),MATCH($C$10,Data_summary!$E$2:$X$2,0)))","v":"Australia does not have national-level policies or strategies in place to promote physical activity among the general population. Several states have policies in place to promote physical activity, including promoting active transport, but few have measures to reduce car usage (Government of New South Wales, Active Transport Strategy, 2022; Queensland Government, Activate! Queensland 2019-2029; Northern Territory Government, Northern Territory Sport and Active Recreation Strategic Plan: 2021-25)."},null,{"$f":"IF(INDEX('DATA TABLE'!$G$10:$G$66,MATCH($B82,'DATA TABLE'!$B$10:$B$66,0))=\"\",CONCATENATE(\"(\",INDEX('DATA TABLE'!$E$10:$E$66,MATCH($B82,'DATA TABLE'!$B$10:$B$66,0)),\")\"), CONCATENATE(INDEX('DATA TABLE'!$G$10:$G$66,MATCH($B82,'DATA TABLE'!$B$10:$B$66,0)),\" (\",INDEX('DATA TABLE'!$E$10:$E$66,MATCH($B82,'DATA TABLE'!$B$10:$B$66,0)),\")\"))","v":"Qualitative rating 0-3; 3=best (Economist Enterprise research)"}]
[null,"4.1.2",{"$f":"INDEX(Lists!$H$2:$H$64,MATCH($B83,Lists!$F$2:$F$64,0))","v":"4.1.2) Physical activity policies that address obesity"},null,{"$f":"IFERROR(ROUND(INDEX('SCORE TABLE'!$H$10:$AA$54, MATCH($B83,'SCORE TABLE'!$B$10:$B$54,0), MATCH($C$10,'SCORE TABLE'!$H$9:$AA$9,0)),1),\"Not scored\")","v":0},null,{"$f":"IF(INDEX('DATA TABLE'!$J$10:$AC$66, MATCH($B83,'DATA TABLE'!$B$10:$B$66,0), MATCH($C$10,'DATA TABLE'!$J$9:$AC$9,0))=\"\",\"\",INDEX('DATA TABLE'!$J$10:$AC$66, MATCH($B83,'DATA TABLE'!$B$10:$B$66,0), MATCH($C$10,'DATA TABLE'!$J$9:$AC$9,0)))","v":0},{"$f":"IF(INDEX(Data_summary!$E$3:$X$47, MATCH($B83,Data_summary!$C$3:$C$47,0),MATCH($C$10,Data_summary!$E$2:$X$2,0))=\"\",\"\",INDEX(Data_summary!$E$3:$X$47, MATCH($B83,Data_summary!$C$3:$C$47,0),MATCH($C$10,Data_summary!$E$2:$X$2,0)))","v":"There are no national policies in place to promote physical activity in Australia. The state-level strategies to achieve this do not include explicit measures aimed at preventing and managing obesity (Government of New South Wales, Active Transport Strategy, 2022; Queensland Government, Activate! Queensland 2019-2029; Northern Territory Government, Northern Territory Sport and Active Recreation Strategic Plan: 2021-25)."},null,{"$f":"IF(INDEX('DATA TABLE'!$G$10:$G$66,MATCH($B83,'DATA TABLE'!$B$10:$B$66,0))=\"\",CONCATENATE(\"(\",INDEX('DATA TABLE'!$E$10:$E$66,MATCH($B83,'DATA TABLE'!$B$10:$B$66,0)),\")\"), CONCATENATE(INDEX('DATA TABLE'!$G$10:$G$66,MATCH($B83,'DATA TABLE'!$B$10:$B$66,0)),\" (\",INDEX('DATA TABLE'!$E$10:$E$66,MATCH($B83,'DATA TABLE'!$B$10:$B$66,0)),\")\"))","v":"Qualitative rating 0-3; 3=best (Economist Enterprise research)"}]
[null,4.2,{"$f":"INDEX(Lists!$H$2:$H$64,MATCH($B84,Lists!$F$2:$F$64,0))","v":"4.2) Physical activity among children"},{"$f":"INDEX(Lists!$H$2:$H$59,MATCH($B84,Lists!$F$2:$F$58,0))","v":"4.2) Physical activity among children"},{"$f":"INDEX(Lists!$H$2:$H$59,MATCH($B84,Lists!$F$2:$F$58,0))","v":"4.2) Physical activity among children"},{"$f":"INDEX(Lists!$H$2:$H$59,MATCH($B84,Lists!$F$2:$F$58,0))","v":"4.2) Physical activity among children"},{"$f":"INDEX(Lists!$H$2:$H$59,MATCH($B84,Lists!$F$2:$F$58,0))","v":"4.2) Physical activity among children"},{"$f":"INDEX(Lists!$H$2:$H$59,MATCH($B84,Lists!$F$2:$F$58,0))","v":"4.2) Physical activity among children"},{"$f":"INDEX(Lists!$H$2:$H$59,MATCH($B84,Lists!$F$2:$F$58,0))","v":"4.2) Physical activity among children"},{"$f":"INDEX(Lists!$H$2:$H$59,MATCH($B84,Lists!$F$2:$F$58,0))","v":"4.2) Physical activity among children"}]
[null,"4.2.1",{"$f":"INDEX(Lists!$H$2:$H$64,MATCH($B85,Lists!$F$2:$F$64,0))","v":"4.2.1) Physical activity mandates"},null,{"$f":"IFERROR(ROUND(INDEX('SCORE TABLE'!$H$10:$AA$54, MATCH($B85,'SCORE TABLE'!$B$10:$B$54,0), MATCH($C$10,'SCORE TABLE'!$H$9:$AA$9,0)),1),\"Not scored\")","v":50},null,{"$f":"IF(INDEX('DATA TABLE'!$J$10:$AC$66, MATCH($B85,'DATA TABLE'!$B$10:$B$66,0), MATCH($C$10,'DATA TABLE'!$J$9:$AC$9,0))=\"\",\"\",INDEX('DATA TABLE'!$J$10:$AC$66, MATCH($B85,'DATA TABLE'!$B$10:$B$66,0), MATCH($C$10,'DATA TABLE'!$J$9:$AC$9,0)))","v":1},{"$f":"IF(INDEX(Data_summary!$E$3:$X$47, MATCH($B85,Data_summary!$C$3:$C$47,0),MATCH($C$10,Data_summary!$E$2:$X$2,0))=\"\",\"\",INDEX(Data_summary!$E$3:$X$47, MATCH($B85,Data_summary!$C$3:$C$47,0),MATCH($C$10,Data_summary!$E$2:$X$2,0)))","v":"Australia mandates physical activity in schools, but does not specify a daily time requirement (Australian Curriculum, Assessment and Reporting Authority, Learning Areas: Health and Physical Education)."},null,{"$f":"IF(INDEX('DATA TABLE'!$G$10:$G$66,MATCH($B85,'DATA TABLE'!$B$10:$B$66,0))=\"\",CONCATENATE(\"(\",INDEX('DATA TABLE'!$E$10:$E$66,MATCH($B85,'DATA TABLE'!$B$10:$B$66,0)),\")\"), CONCATENATE(INDEX('DATA TABLE'!$G$10:$G$66,MATCH($B85,'DATA TABLE'!$B$10:$B$66,0)),\" (\",INDEX('DATA TABLE'!$E$10:$E$66,MATCH($B85,'DATA TABLE'!$B$10:$B$66,0)),\")\"))","v":"Qualitative rating 0-2; 2=best (Economist Enterprise research)"}]
[null,null,"Background indicators"]
[null,"BG01",{"$f":"INDEX(Lists!$H$2:$H$64,MATCH($B87,Lists!$F$2:$F$64,0))","v":"BG01) Adult obesity prevalence"},null,{"$f":"IFERROR(INDEX('SCORE TABLE'!$H$10:$AA$54, MATCH($B87,'SCORE TABLE'!$B$10:$B$54,0), MATCH($C$10,'SCORE TABLE'!$H$9:$AA$9,0)),\"Not scored\")","v":"Not scored"},null,{"$f":"IF(INDEX('DATA TABLE'!$J$10:$AC$66, MATCH($B87,'DATA TABLE'!$B$10:$B$66,0), MATCH($C$10,'DATA TABLE'!$J$9:$AC$9,0))=\"\",\"\",INDEX('DATA TABLE'!$J$10:$AC$66, MATCH($B87,'DATA TABLE'!$B$10:$B$66,0), MATCH($C$10,'DATA TABLE'!$J$9:$AC$9,0)))","v":31.7},null,null,{"$f":"IF(INDEX('DATA TABLE'!$G$10:$G$66,MATCH($B87,'DATA TABLE'!$B$10:$B$66,0))=\"\",CONCATENATE(\"(\",INDEX('DATA TABLE'!$E$10:$E$66,MATCH($B87,'DATA TABLE'!$B$10:$B$66,0)),\")\"), CONCATENATE(INDEX('DATA TABLE'!$G$10:$G$66,MATCH($B87,'DATA TABLE'!$B$10:$B$66,0)),\" (\",INDEX('DATA TABLE'!$E$10:$E$66,MATCH($B87,'DATA TABLE'!$B$10:$B$66,0)),\")\"))","v":"% of adults (National government sources)"}]
[null,"BG02a",{"$f":"INDEX(Lists!$H$2:$H$64,MATCH($B88,Lists!$F$2:$F$64,0))","v":"BG02a) Obesity prevalence by gender: Men"},null,{"$f":"IFERROR(INDEX('SCORE TABLE'!$H$10:$AA$54, MATCH($B88,'SCORE TABLE'!$B$10:$B$54,0), MATCH($C$10,'SCORE TABLE'!$H$9:$AA$9,0)),\"Not scored\")","v":"Not scored"},null,{"$f":"IF(INDEX('DATA TABLE'!$J$10:$AC$66, MATCH($B88,'DATA TABLE'!$B$10:$B$66,0), MATCH($C$10,'DATA TABLE'!$J$9:$AC$9,0))=\"\",\"\",INDEX('DATA TABLE'!$J$10:$AC$66, MATCH($B88,'DATA TABLE'!$B$10:$B$66,0), MATCH($C$10,'DATA TABLE'!$J$9:$AC$9,0)))","v":32.5},null,null,{"$f":"IF(INDEX('DATA TABLE'!$G$10:$G$66,MATCH($B88,'DATA TABLE'!$B$10:$B$66,0))=\"\",CONCATENATE(\"(\",INDEX('DATA TABLE'!$E$10:$E$66,MATCH($B88,'DATA TABLE'!$B$10:$B$66,0)),\")\"), CONCATENATE(INDEX('DATA TABLE'!$G$10:$G$66,MATCH($B88,'DATA TABLE'!$B$10:$B$66,0)),\" (\",INDEX('DATA TABLE'!$E$10:$E$66,MATCH($B88,'DATA TABLE'!$B$10:$B$66,0)),\")\"))","v":"% of men (World Obesity Federation)"}]
[null,"BG02b",{"$f":"INDEX(Lists!$H$2:$H$64,MATCH($B89,Lists!$F$2:$F$64,0))","v":"BG02b) Obesity prevalence by gender: Women"},null,{"$f":"IFERROR(INDEX('SCORE TABLE'!$H$10:$AA$54, MATCH($B89,'SCORE TABLE'!$B$10:$B$54,0), MATCH($C$10,'SCORE TABLE'!$H$9:$AA$9,0)),\"Not scored\")","v":"Not scored"},null,{"$f":"IF(INDEX('DATA TABLE'!$J$10:$AC$66, MATCH($B89,'DATA TABLE'!$B$10:$B$66,0), MATCH($C$10,'DATA TABLE'!$J$9:$AC$9,0))=\"\",\"\",INDEX('DATA TABLE'!$J$10:$AC$66, MATCH($B89,'DATA TABLE'!$B$10:$B$66,0), MATCH($C$10,'DATA TABLE'!$J$9:$AC$9,0)))","v":30.9},null,null,{"$f":"IF(INDEX('DATA TABLE'!$G$10:$G$66,MATCH($B89,'DATA TABLE'!$B$10:$B$66,0))=\"\",CONCATENATE(\"(\",INDEX('DATA TABLE'!$E$10:$E$66,MATCH($B89,'DATA TABLE'!$B$10:$B$66,0)),\")\"), CONCATENATE(INDEX('DATA TABLE'!$G$10:$G$66,MATCH($B89,'DATA TABLE'!$B$10:$B$66,0)),\" (\",INDEX('DATA TABLE'!$E$10:$E$66,MATCH($B89,'DATA TABLE'!$B$10:$B$66,0)),\")\"))","v":"% of women (World Obesity Federation)"}]
[null,"BG03",{"$f":"INDEX(Lists!$H$2:$H$64,MATCH($B90,Lists!$F$2:$F$64,0))","v":"BG03) Childhood obesity prevalence"},null,{"$f":"IFERROR(INDEX('SCORE TABLE'!$H$10:$AA$54, MATCH($B90,'SCORE TABLE'!$B$10:$B$54,0), MATCH($C$10,'SCORE TABLE'!$H$9:$AA$9,0)),\"Not scored\")","v":"Not scored"},null,{"$f":"IF(INDEX('DATA TABLE'!$J$10:$AC$66, MATCH($B90,'DATA TABLE'!$B$10:$B$66,0), MATCH($C$10,'DATA TABLE'!$J$9:$AC$9,0))=\"\",\"\",INDEX('DATA TABLE'!$J$10:$AC$66, MATCH($B90,'DATA TABLE'!$B$10:$B$66,0), MATCH($C$10,'DATA TABLE'!$J$9:$AC$9,0)))","v":8.3000000000000007},null,null,{"$f":"IF(INDEX('DATA TABLE'!$G$10:$G$66,MATCH($B90,'DATA TABLE'!$B$10:$B$66,0))=\"\",CONCATENATE(\"(\",INDEX('DATA TABLE'!$E$10:$E$66,MATCH($B90,'DATA TABLE'!$B$10:$B$66,0)),\")\"), CONCATENATE(INDEX('DATA TABLE'!$G$10:$G$66,MATCH($B90,'DATA TABLE'!$B$10:$B$66,0)),\" (\",INDEX('DATA TABLE'!$E$10:$E$66,MATCH($B90,'DATA TABLE'!$B$10:$B$66,0)),\")\"))","v":"% of children (National government sources)"}]
[null,"BG04",{"$f":"INDEX(Lists!$H$2:$H$64,MATCH($B91,Lists!$F$2:$F$64,0))","v":"BG04) Life expectancy"},null,{"$f":"IFERROR(INDEX('SCORE TABLE'!$H$10:$AA$54, MATCH($B91,'SCORE TABLE'!$B$10:$B$54,0), MATCH($C$10,'SCORE TABLE'!$H$9:$AA$9,0)),\"Not scored\")","v":"Not scored"},null,{"$f":"IF(INDEX('DATA TABLE'!$J$10:$AC$66, MATCH($B91,'DATA TABLE'!$B$10:$B$66,0), MATCH($C$10,'DATA TABLE'!$J$9:$AC$9,0))=\"\",\"\",INDEX('DATA TABLE'!$J$10:$AC$66, MATCH($B91,'DATA TABLE'!$B$10:$B$66,0), MATCH($C$10,'DATA TABLE'!$J$9:$AC$9,0)))","v":83},null,null,{"$f":"IF(INDEX('DATA TABLE'!$G$10:$G$66,MATCH($B91,'DATA TABLE'!$B$10:$B$66,0))=\"\",CONCATENATE(\"(\",INDEX('DATA TABLE'!$E$10:$E$66,MATCH($B91,'DATA TABLE'!$B$10:$B$66,0)),\")\"), CONCATENATE(INDEX('DATA TABLE'!$G$10:$G$66,MATCH($B91,'DATA TABLE'!$B$10:$B$66,0)),\" (\",INDEX('DATA TABLE'!$E$10:$E$66,MATCH($B91,'DATA TABLE'!$B$10:$B$66,0)),\")\"))","v":"Years (World Bank)"}]
[null,"BG05",{"$f":"INDEX(Lists!$H$2:$H$64,MATCH($B92,Lists!$F$2:$F$64,0))","v":"BG05) GDP per capita"},null,{"$f":"IFERROR(INDEX('SCORE TABLE'!$H$10:$AA$54, MATCH($B92,'SCORE TABLE'!$B$10:$B$54,0), MATCH($C$10,'SCORE TABLE'!$H$9:$AA$9,0)),\"Not scored\")","v":"Not scored"},null,{"$f":"IF(INDEX('DATA TABLE'!$J$10:$AC$66, MATCH($B92,'DATA TABLE'!$B$10:$B$66,0), MATCH($C$10,'DATA TABLE'!$J$9:$AC$9,0))=\"\",\"\",INDEX('DATA TABLE'!$J$10:$AC$66, MATCH($B92,'DATA TABLE'!$B$10:$B$66,0), MATCH($C$10,'DATA TABLE'!$J$9:$AC$9,0)))","v":64547},null,null,{"$f":"IF(INDEX('DATA TABLE'!$G$10:$G$66,MATCH($B92,'DATA TABLE'!$B$10:$B$66,0))=\"\",CONCATENATE(\"(\",INDEX('DATA TABLE'!$E$10:$E$66,MATCH($B92,'DATA TABLE'!$B$10:$B$66,0)),\")\"), CONCATENATE(INDEX('DATA TABLE'!$G$10:$G$66,MATCH($B92,'DATA TABLE'!$B$10:$B$66,0)),\" (\",INDEX('DATA TABLE'!$E$10:$E$66,MATCH($B92,'DATA TABLE'!$B$10:$B$66,0)),\")\"))","v":"USD (International Monetary Fund)"}]
[null,"BG06",{"$f":"INDEX(Lists!$H$2:$H$64,MATCH($B93,Lists!$F$2:$F$64,0))","v":"BG06) Gini Index of Income Inequality"},null,{"$f":"IFERROR(INDEX('SCORE TABLE'!$H$10:$AA$54, MATCH($B93,'SCORE TABLE'!$B$10:$B$54,0), MATCH($C$10,'SCORE TABLE'!$H$9:$AA$9,0)),\"Not scored\")","v":"Not scored"},null,{"$f":"IF(INDEX('DATA TABLE'!$J$10:$AC$66, MATCH($B93,'DATA TABLE'!$B$10:$B$66,0), MATCH($C$10,'DATA TABLE'!$J$9:$AC$9,0))=\"\",\"\",INDEX('DATA TABLE'!$J$10:$AC$66, MATCH($B93,'DATA TABLE'!$B$10:$B$66,0), MATCH($C$10,'DATA TABLE'!$J$9:$AC$9,0)))","v":34.299999999999997},null,null,{"$f":"IF(INDEX('DATA TABLE'!$G$10:$G$66,MATCH($B93,'DATA TABLE'!$B$10:$B$66,0))=\"\",CONCATENATE(\"(\",INDEX('DATA TABLE'!$E$10:$E$66,MATCH($B93,'DATA TABLE'!$B$10:$B$66,0)),\")\"), CONCATENATE(INDEX('DATA TABLE'!$G$10:$G$66,MATCH($B93,'DATA TABLE'!$B$10:$B$66,0)),\" (\",INDEX('DATA TABLE'!$E$10:$E$66,MATCH($B93,'DATA TABLE'!$B$10:$B$66,0)),\")\"))","v":"0-100 (World Bank)"}]
[null,"BG07",{"$f":"INDEX(Lists!$H$2:$H$64,MATCH($B94,Lists!$F$2:$F$64,0))","v":"BG07) Economic impact of overweight and obesity"},null,{"$f":"IFERROR(INDEX('SCORE TABLE'!$H$10:$AA$54, MATCH($B94,'SCORE TABLE'!$B$10:$B$54,0), MATCH($C$10,'SCORE TABLE'!$H$9:$AA$9,0)),\"Not scored\")","v":"Not scored"},null,{"$f":"IF(INDEX('DATA TABLE'!$J$10:$AC$66, MATCH($B94,'DATA TABLE'!$B$10:$B$66,0), MATCH($C$10,'DATA TABLE'!$J$9:$AC$9,0))=\"\",\"\",INDEX('DATA TABLE'!$J$10:$AC$66, MATCH($B94,'DATA TABLE'!$B$10:$B$66,0), MATCH($C$10,'DATA TABLE'!$J$9:$AC$9,0)))","v":1.89},null,null,{"$f":"IF(INDEX('DATA TABLE'!$G$10:$G$66,MATCH($B94,'DATA TABLE'!$B$10:$B$66,0))=\"\",CONCATENATE(\"(\",INDEX('DATA TABLE'!$E$10:$E$66,MATCH($B94,'DATA TABLE'!$B$10:$B$66,0)),\")\"), CONCATENATE(INDEX('DATA TABLE'!$G$10:$G$66,MATCH($B94,'DATA TABLE'!$B$10:$B$66,0)),\" (\",INDEX('DATA TABLE'!$E$10:$E$66,MATCH($B94,'DATA TABLE'!$B$10:$B$66,0)),\")\"))","v":"% of GDP (World Obesity Federation)"}]
[null,"BG08",{"$f":"INDEX(Lists!$H$2:$H$64,MATCH($B95,Lists!$F$2:$F$64,0))","v":"BG08) Healthcare spending per capita"},null,{"$f":"IFERROR(INDEX('SCORE TABLE'!$H$10:$AA$54, MATCH($B95,'SCORE TABLE'!$B$10:$B$54,0), MATCH($C$10,'SCORE TABLE'!$H$9:$AA$9,0)),\"Not scored\")","v":"Not scored"},null,{"$f":"IF(INDEX('DATA TABLE'!$J$10:$AC$66, MATCH($B95,'DATA TABLE'!$B$10:$B$66,0), MATCH($C$10,'DATA TABLE'!$J$9:$AC$9,0))=\"\",\"\",INDEX('DATA TABLE'!$J$10:$AC$66, MATCH($B95,'DATA TABLE'!$B$10:$B$66,0), MATCH($C$10,'DATA TABLE'!$J$9:$AC$9,0)))","v":6980},null,null,{"$f":"IF(INDEX('DATA TABLE'!$G$10:$G$66,MATCH($B95,'DATA TABLE'!$B$10:$B$66,0))=\"\",CONCATENATE(\"(\",INDEX('DATA TABLE'!$E$10:$E$66,MATCH($B95,'DATA TABLE'!$B$10:$B$66,0)),\")\"), CONCATENATE(INDEX('DATA TABLE'!$G$10:$G$66,MATCH($B95,'DATA TABLE'!$B$10:$B$66,0)),\" (\",INDEX('DATA TABLE'!$E$10:$E$66,MATCH($B95,'DATA TABLE'!$B$10:$B$66,0)),\")\"))","v":"USD (World Health Organisation)"}]
[null,"BG09",{"$f":"INDEX(Lists!$H$2:$H$64,MATCH($B96,Lists!$F$2:$F$64,0))","v":"BG09) Access to a physician"},null,{"$f":"IFERROR(INDEX('SCORE TABLE'!$H$10:$AA$54, MATCH($B96,'SCORE TABLE'!$B$10:$B$54,0), MATCH($C$10,'SCORE TABLE'!$H$9:$AA$9,0)),\"Not scored\")","v":"Not scored"},null,{"$f":"IF(INDEX('DATA TABLE'!$J$10:$AC$66, MATCH($B96,'DATA TABLE'!$B$10:$B$66,0), MATCH($C$10,'DATA TABLE'!$J$9:$AC$9,0))=\"\",\"\",INDEX('DATA TABLE'!$J$10:$AC$66, MATCH($B96,'DATA TABLE'!$B$10:$B$66,0), MATCH($C$10,'DATA TABLE'!$J$9:$AC$9,0)))","v":398.1},null,null,{"$f":"IF(INDEX('DATA TABLE'!$G$10:$G$66,MATCH($B96,'DATA TABLE'!$B$10:$B$66,0))=\"\",CONCATENATE(\"(\",INDEX('DATA TABLE'!$E$10:$E$66,MATCH($B96,'DATA TABLE'!$B$10:$B$66,0)),\")\"), CONCATENATE(INDEX('DATA TABLE'!$G$10:$G$66,MATCH($B96,'DATA TABLE'!$B$10:$B$66,0)),\" (\",INDEX('DATA TABLE'!$E$10:$E$66,MATCH($B96,'DATA TABLE'!$B$10:$B$66,0)),\")\"))","v":"Number of physicians per 100,000 people (World Bank)"}]
[null,"BG10",{"$f":"INDEX(Lists!$H$2:$H$64,MATCH($B97,Lists!$F$2:$F$64,0))","v":"BG10) Physical activity"},null,{"$f":"IFERROR(INDEX('SCORE TABLE'!$H$10:$AA$54, MATCH($B97,'SCORE TABLE'!$B$10:$B$54,0), MATCH($C$10,'SCORE TABLE'!$H$9:$AA$9,0)),\"Not scored\")","v":"Not scored"},null,{"$f":"IF(INDEX('DATA TABLE'!$J$10:$AC$66, MATCH($B97,'DATA TABLE'!$B$10:$B$66,0), MATCH($C$10,'DATA TABLE'!$J$9:$AC$9,0))=\"\",\"\",INDEX('DATA TABLE'!$J$10:$AC$66, MATCH($B97,'DATA TABLE'!$B$10:$B$66,0), MATCH($C$10,'DATA TABLE'!$J$9:$AC$9,0)))","v":74.5},null,null,{"$f":"IF(INDEX('DATA TABLE'!$G$10:$G$66,MATCH($B97,'DATA TABLE'!$B$10:$B$66,0))=\"\",CONCATENATE(\"(\",INDEX('DATA TABLE'!$E$10:$E$66,MATCH($B97,'DATA TABLE'!$B$10:$B$66,0)),\")\"), CONCATENATE(INDEX('DATA TABLE'!$G$10:$G$66,MATCH($B97,'DATA TABLE'!$B$10:$B$66,0)),\" (\",INDEX('DATA TABLE'!$E$10:$E$66,MATCH($B97,'DATA TABLE'!$B$10:$B$66,0)),\")\"))","v":"% of adults (World Health Organisation)"}]

{"sheet":"DATA TABLE","index":5,"n_rows":66,"n_cols":29,"rows_kept":66,"cut":false,"hidden":false,"merged":[]}
[null,null,{"$f":"HOME!B7","v":"GLOBAL OBESITY RESPONSE INDEX"}]
[]
[]
[]
[]
[null,"Data table"]
[]
[]
[null,"No.","Indicator name","Question","Source","Scoring system","Unit","Year","Notes","Australia","Brazil","Canada","China","Finland","France","Germany","India","Italy","Japan","Mexico","Nigeria","Rwanda","Saudi Arabia","Serbia","South Africa","South Korea","Spain","United Arab Emirates","United Kingdom"]
[0,0,"OVERALL","Composite measure, scored as the weighted average of the following pillar scores: \n1. Policy and governance\n2. Obesity management\n3. Food quality and access\n4. Physical activity","Economist Enterprise calculations"]
[1000,1,"Policy and governance","Composite measure, scored as the weighted average of the following sub-pillar scores: \n1.1. Obesity-related policy","Economist Enterprise calculations"]
[1001,1.1000000000000001,"Obesity-related policy","Composite measure, scored as the weighted average of the following indicator scores: \n1.1.1. Health policy/strategy/plan that includes obesity\n1.1.2. Definition of obesity\n1.1.3. Obesity-related policy/strategy/plan\n1.1.4. Obesity-related funding\n1.1.5. Weight-related discrimination","Economist Enterprise calculations"]
[1002,"1.1.1","Health policy/strategy/plan that includes obesity","Does the national health policy/strategy/plan specify obesity as a priority area?","Economist Enterprise research","0 = No, or there is either insufficient publicly available evidence of a national health policy/strategy/plan in place OR one that is currently valid\n1 = Yes","Qualitative rating 0-1; 1=best",null,null,1,1,0,1,1,1,0,0,1,1,0,0,0,0,1,0,1,1,0,1]
[1003,"1.1.2","Definition of obesity","Does the government define obesity as a chronic disease and connect obesity to its related chronic diseases (e.g. cardiovascular disease, diabetes)?","Economist Enterprise research","0 = No, there is insufficient publicly available evidence of this\n1 = Yes, it defines obesity as a chronic disease OR makes reference to other chronic diseases related to obesity (e.g. diabetes, cardiovascular disease, obstructive sleep apnoea)\n2 = Yes, it defines obesity as a chronic disease AND makes reference to other chronic diseases related to obesity (e.g. diabetes, cardiovascular disease, obstructive sleep apnoea)","Qualitative rating 0-2; 2=best",null,null,2,2,2,2,1,2,1,2,2,1,2,1,1,2,2,1,2,2,2,1]
[1004,"1.1.3","Obesity-related policy/strategy/plan","Composite measure: comprehensiveness of the obesity-related policy/strategy/plan","Economist Enterprise calculations"]
[1005,"1.1.3a","Existence of an obesity-related policy/strategy/plan","Does the country have an obesity-related policy/strategy/plan?","Economist Enterprise research","0 = No, there is insufficient publicly available evidence of this\n1 = Yes, but the document is not periodically updated or currently valid\n2 = Yes, the document is periodically updated or currently valid","Qualitative rating 0-2; 2=best",null,null,2,2,0,2,1,1,2,2,2,0,1,2,2,2,2,2,2,1,0,2]
[1006,"1.1.3b","Engagement with stakeholders during development","Were stakeholders from various sectors involved in the development of the national obesity-related policy/strategy/plan?","Economist Enterprise research","0 = No, only health-focused stakeholders were involved in developing the policy OR there is either insufficient publicly available evidence of a national obesity-related policy/strategy/plan in place OR one that is periodically updated or currently valid\n1 = Yes, stakeholders from at least two sectors (e.g. health, agriculture, education, finance, urban planning) were involved in developing the policy\n2 = Yes, stakeholders from three or more sectors (e.g. health, agriculture, education, finance, urban planning) OR people living with obesity were involved in developing the policy\n3 = Yes, stakeholders from three or more sectors (e.g. health, agriculture, education, finance, urban planning) AND people living with obesity were involved in developing the policy","Qualitative rating 0-3; 3=best",null,null,2,3,0,2,0,0,2,0,2,0,0,2,2,2,0,2,0,0,0,2]
[1007,"1.1.3c","Measures for obesity prevention","Does the national obesity-related policy/strategy/plan contain measures for obesity prevention across the population?","Economist Enterprise research","0 = No, or there is either insufficient publicly available evidence of a national obesity-related policy/strategy/plan in place OR one that is periodically updated or currently valid\n1 = Yes, but the measures do not include clear actions or specific targets\n2 = Yes, there are measures with clear actions or specific targets, but they lack methods of evaluation\n3 = Yes, there are measures with clear actions or specific targets AND methods of evaluation","Qualitative rating 0-3; 3=best",null,null,3,2,0,2,0,0,2,0,1,0,0,3,3,2,3,3,3,0,0,2]
[1008,"1.1.3d","Measures for obesity management","Does the national obesity-related policy/strategy/plan contain measures for obesity management across the population?","Economist Enterprise research","0 = No, or there is either insufficient publicly available evidence of a national obesity-related policy/strategy/plan in place OR one that is periodically updated or currently valid\n1 = Yes, but the measures do not include clear actions or specific targets\n2 = Yes, there are measures with clear actions or specific targets, but they lack methods of evaluation\n3 = Yes, there are measures with clear actions or specific targets AND methods of evaluation","Qualitative rating 0-3; 3=best",null,null,3,0,0,2,0,0,0,0,1,0,0,1,0,0,3,3,3,0,0,2]
[1009,"1.1.3e","Targets for obesity prevalence reduction","Does the national obesity-related policy/strategy/plan contain targets for obesity prevalence reduction across the population?","Economist Enterprise research","0 = No, or there is either insufficient publicly available evidence of a national obesity-related policy/strategy/plan in place OR one that is periodically updated or currently valid\n1 = Yes, short-term targets (0-5 years) OR long-term targets (6 years+)\n2 = Yes, short-term targets (0-5 years) AND long-term targets (6 years+)","Qualitative rating 0-2; 2=best",null,null,1,0,0,0,0,0,0,0,0,0,0,2,1,1,1,0,1,0,0,0]
[1010,"1.1.3f","Focus on vulnerable groups","Does the national obesity-related policy/strategy/plan include a particular focus on the prevention and management of obesity in groups at increased risk of developing obesity?","Economist Enterprise research","0 = No, or there is either insufficient publicly available evidence of a national obesity-related policy/strategy/plan in place OR one that is periodically updated or currently valid\n1 = Yes, but it does not outline specific actions, targeted interventions or comprehensive strategies to address the unique needs of vulnerable and minority groups (e.g. children; low-income populations; ethnic or racial minorities)\n2 = Yes, it outlines well-defined and actionable measures specifically addressing the needs of vulnerable and minority groups (e.g. children; low-income populations; ethnic or racial minorities)","Qualitative rating 0-2; 2=best",null,null,2,1,0,2,0,0,2,1,2,0,0,0,1,2,2,0,2,0,0,2]
[1011,"1.1.3g","Obesity-related stigma and discrimination","Does the national obesity-related policy/strategy/plan make reference to obesity-related stigma/discrimination and contain measures to combat it?","Economist Enterprise research","0 = No, or there is either insufficient publicly available evidence of a national obesity-related policy/strategy/plan in place OR one that is periodically updated or currently valid\n1 = Yes, it mentions obesity-related stigma/discrimination BUT does not contain any measures to combat it\n2 = Yes, it mentions obesity-related stigma/discrimination AND contains measures to combat it","Qualitative rating 0-2; 2=best",null,null,2,2,0,0,0,0,0,0,1,0,0,0,0,0,1,1,0,0,0,0]
[1012,"1.1.4","Obesity-related funding","Is there a budget allocated to implement the national obesity-related policy/strategy/plan?","Economist Enterprise research","0 = No, or there is either insufficient publicly available evidence of a national obesity-related policy/strategy/plan in place OR one that is periodically updated or currently valid\n1 = Yes","Qualitative rating 0-1; 1=best",null,null,0,0,0,0,0,0,1,0,0,0,0,0,0,0,1,1,0,0,0,0]
[1013,"1.1.5","Weight-related discrimination","Does the country have a law that prohibits weight-based discrimination and classifies weight as a protected characteristic?","Economist Enterprise research","0 = No, there is insufficient publicly available evidence of this\n1 = Yes","Qualitative rating 0-1; 1=best",null,null,0,0,0,0,1,1,1,0,0,0,1,0,0,0,1,0,0,1,0,0]
[1014,2,"Obesity management","Composite measure, scored as the weighted average of the following sub-pillar scores: \n2.1. Obesity management guidelines\n2.2. Obesity diagnosis and referral pathways\n2.3. Availability and affordability of obesity-related care","Economist Enterprise calculations"]
[1015,2.1,"Obesity management guidelines","Composite measure, scored as the weighted average of the following indicator scores: \n2.1.1. Existence of obesity management guidelines\n2.1.2. Evidence-based obesity management guidelines\n2.1.3. Clinical and cost-effectiveness of obesity management interventions","Economist Enterprise calculations"]
[1016,"2.1.1","Existence of obesity management guidelines","Does the country have national guidelines on obesity management?","Economist Enterprise research","0 = No, there is insufficient publicly available evidence of this\n1 = Yes, but they have not been published/updated in the last 10 years\n2 = Yes, they have been published/updated in the last 10 years","Qualitative rating 0-2; 2=best",null,null,2,2,2,2,2,2,2,0,2,2,2,0,2,2,2,0,2,1,2,2]
[1017,"2.1.2","Evidence-based obesity management guidelines","Were the national guidelines on obesity management developed using an evidence-based methodology, comprising a structured review and synthesis of best available evidence, grading of the evidence, and the input of independent experts, in accordance with international standards (e.g. the WHO’s standard guideline development methods)?","Economist Enterprise research","0 = No, or there is either insufficient publicly available evidence of obesity management guidelines in place OR they have not been published/updated in the last 10 years\n1 = Yes, the guidelines are based on a structured review of evidence OR expert input\n2 = Yes, the guidelines are based on a structured review of evidence AND expert input","Qualitative rating 0-2; 2=best",null,null,2,2,2,2,2,2,2,0,2,2,2,0,2,2,2,0,2,0,2,2]
[1018,"2.1.3","Clinical and cost-effectiveness of obesity management interventions","Are the recommendations in the national guidelines based on an evidence-based assessment of the clinical and cost-effectiveness of interventions?","Economist Enterprise research","0 = No, or there is either insufficient publicly available evidence of obesity management guidelines in place OR they have not been published/updated in the last 10 years\n1 = Yes, the guidelines include an assessment of the clinical effectiveness OR cost-effectiveness of interventions\n2 = Yes, the guidelines include an assessment of the clinical effectiveness AND cost-effectiveness of interventions","Qualitative rating 0-2; 2=best",null,null,2,2,2,1,2,1,1,0,1,1,1,0,0,1,1,0,1,0,2,2]
[1019,2.2000000000000002,"Obesity diagnosis and referral pathways","Composite measure, scored as the weighted average of the following indicator scores: \n2.2.1. Obesity management pathway\n2.2.2. Obesity pathway in chronic disease management","Economist Enterprise calculations"]
[1020,"2.2.1","Obesity management pathway","Do national obesity management guidelines include a clear clinical pathway?","Economist Enterprise research","0 = No, or there is either insufficient publicly available evidence of obesity management guidelines in place OR they have not been published/updated in the last 10 years\n1 = Yes","Qualitative rating 0-1; 1=best",null,null,0,1,1,1,1,1,1,0,1,1,1,0,1,1,1,0,1,0,1,1]
[1021,"2.2.2","Obesity pathway in chronic disease management","Is obesity diagnosis and a referral pathway integrated into the clinical pathways for associated chronic diseases (e.g. diabetes, cardiovascular disease, obstructive sleep apnoea)?","Economist Enterprise research","0 = No, there is insufficient publicly available evidence of this\n1 = Yes, for one associated chronic disease\n2 = Yes, for more than one associated chronic disease","Qualitative rating 0-2; 2=best",null,null,2,2,0,2,2,2,2,2,2,2,2,0,1,2,2,1,2,0,2,2]
[1022,2.2999999999999998,"Availability and affordability of obesity-related care","Composite measure, scored as the weighted average of the following indicator scores: \n2.3.1. Reimbursement/coverage of obesity care","Economist Enterprise calculations"]
[1023,"2.3.1","Reimbursement/coverage of obesity care","Does the main public insurance scheme(s) reimburse/cover the four elements of comprehensive obesity care (nutrition counselling, intensive behavioural therapy, obesity medications, and metabolic and bariatric surgery)?","Economist Enterprise research","0 = No, there is insufficient publicly available evidence of this\n1 = Yes, one element is covered\n2 = Yes, two elements are covered\n3 = Yes, three elements are covered\n4 = Yes, all four elements are covered","Qualitative rating 0-4; 4=best",null,null,3,3,0,0,3,3,2,1,1,2,0,0,0,1,3,0,2,3,3,4]
[1024,3,"Food quality and access","Composite measure, scored as the weighted average of the following sub-pillar scores: \n3.1. Food access and affordability\n3.2. Nutrition guidance and regulation\n3.3. Nutrition in schools","Economist Enterprise calculations"]
[1025,3.1,"Food access and affordability","Composite measure, scored as the weighted average of the following indicator scores: \n3.1.1. Level of food security\n3.1.2. Healthy food affordability\n3.1.3. Nutrition programmes for lower-income individuals","Economist Enterprise calculations"]
[1026,"3.1.1","Level of food security","What is the level of food security in the country?","FAO, IFAD, UNICEF, WFP and WHO - The State of Food Security and Nutrition in the World 2024 – Financing to end hunger, food insecurity and malnutrition in all its forms","Higher=better\n% of population experiencing food security","%",2023,null,87.1,81.599999999999994,91.5,"NA",87.4,92.1,96,"NA",98,94.5,79.3,26.1,79.400000000000006,"NA",87,80.599999999999994,94.3,93.1,90,94.3]
[1027,"3.1.2","Affordability of nutritious food","What is the share of the population that can afford a healthy diet?","World Bank","Higher=better\n% of population who can afford a healthy diet","%",2022,null,96.8,74.7,97.3,82.5,99.2,96.9,97.8,44.4,93.1,92.5,77.5,21.3,24.3,"NA",91.9,38.799999999999997,91,91.1,97.7,97.5]
[1028,"3.1.3","Nutrition programmes for lower-income individuals","Does the country have a programme for lower-income individuals to access nutritious food?","Economist Enterprise research","0 = No, there is insufficient publicly available evidence of this\n1 = Yes","Qualitative rating 0-1; 1=best",null,null,0,1,1,1,0,1,1,1,1,0,1,1,1,0,0,1,1,1,0,1]
[1029,3.2,"Nutrition guidance and regulation","Composite measure, scored as the weighted average of the following indicator scores: \n3.2.1. Nutrition policy/strategy/plan that addresses obesity\n3.2.2. Marketing of unhealthy food and beverages to children\n3.2.3. Food labelling\n3.2.4. Menu labelling\n3.2.5. Taxes on unhealthy food and beverages","Economist Enterprise calculations"]
[1030,"3.2.1","Nutrition policy/strategy/plan that addresses obesity","Does the country's national nutrition policy/strategy/action plan include measures aimed at preventing and managing obesity?","Economist Enterprise research","0 = No, or there is either insufficient publicly available evidence of a national nutrition policy/strategy/action plan in place OR one that has been published/updated in the last 10 years\n1 = Yes, but the measures do not include clear actions or specific targets\n2 = Yes, there are measures with clear actions or specific targets, but they lack methods of evaluation\n3 = Yes, there are measures with clear actions or specific targets AND methods of evaluation","Qualitative rating 0-3; 3=best",null,null,0,0,2,3,1,3,3,1,0,1,1,3,0,3,0,2,0,2,2,2]
[1031,"3.2.2","Marketing of unhealthy food and beverages to children","Does the country restrict the marketing of unhealthy foods and beverages to children (e.g. on television, in-school advertising)?","Economist Enterprise research","0 = No, there is insufficient publicly available evidence of this\n1 = Yes, there are regulations restricting the marketing of unhealthy foods/beverages to children BUT they are not mandatory\n2 = Yes, there are mandatory regulations restricting the marketing of unhealthy foods/beverages to children","Qualitative rating 0-2; 2=best",null,null,1,2,1,0,1,1,1,2,1,0,2,0,0,2,1,2,2,2,0,2]
[1032,"3.2.3","Food labelling","Does the country mandate food labelling to support healthy eating (e.g. nutrition facts)?","Economist Enterprise research","0 = No, there is insufficient publicly available evidence of this\n1 = Yes, but it does not require front-of-package labelling\n2 = Yes, it requires front-of-package labelling","Qualitative rating 0-2; 2=best",null,null,1,2,2,1,1,1,1,1,1,1,2,1,1,1,1,1,1,1,1,1]
[1033,"3.2.4","Menu labelling","Does the country mandate nutrition labelling on menus to support healthy eating in cafes, restaurants, takeaways etc?","Economist Enterprise research","0 = No, there is insufficient publicly available evidence of this\n1 = Yes, there are regulations on menu labelling BUT they are not mandatory\n2 = Yes, there are mandatory regulations on menu labelling","Qualitative rating 0-2; 2=best",null,null,0,0,0,0,2,0,0,2,0,0,0,0,0,2,0,0,1,0,0,2]
[1034,"3.2.5","Taxes on unhealthy food and beverages","Does the country levy taxes on unhealthy food or beverage products?","Economist Enterprise research","0 = No, there is insufficient publicly available evidence of this\n1 = The country levies a tax on unhealthy food OR unhealthy beverages\n2 = The country levies a tax on both unhealthy food AND unhealthy beverages","Qualitative rating 0-2; 2=best",null,null,0,1,0,0,1,1,0,0,0,0,2,1,1,1,0,1,0,1,1,1]
[1035,3.3,"Nutrition in schools","Composite measure, scored as the weighted average of the following indicator scores: \n3.3.1. School nutrition standards\n3.3.2. Nutrition education\n","Economist Enterprise calculations"]
[1036,"3.3.1","School nutrition standards","Does the country have nutrition standards for school food?","Economist Enterprise research","0 = No, there is insufficient publicly available evidence of this\n1 = Yes","Qualitative rating 0-1; 1=best",null,null,1,1,0,1,1,1,0,1,1,1,1,0,1,1,1,1,1,1,1,1]
[1037,"3.3.2","Nutrition education","Does the country include nutrition education in the national curriculum?","Economist Enterprise research","0 = No, there is insufficient publicly available evidence of this\n1 = Yes","Qualitative rating 0-1; 1=best",null,null,1,1,1,1,1,1,1,0,1,1,1,0,0,0,1,1,1,1,1,1]
[1038,4,"Physical activity","Composite measure, scored as the weighted average of the following sub-pillar scores: \n4.1. Physical activity among the population\n4.2. Physical activity among children","Economist Enterprise calculations"]
[1039,4.0999999999999996,"Physical activity among the population","Composite measure, scored as the weighted average of the following indicator scores: \n4.1.1. Promotion of physical activity\n4.1.2. Physical activity policies that address obesity\n","Economist Enterprise calculations"]
[1040,"4.1.1","Promotion of physical activity","Does the country have policies in place to promote physical activity among the population?","Economist Enterprise research","0 = No, there is insufficient publicly available evidence of this\n1 = Yes, but they do not focus on promoting active travel (e.g. walking, cycling) or reducing car usage\n2 = Yes, they focus on either promoting active travel (e.g. walking, cycling) OR reducing car usage\n3 = Yes, they focus on both promoting active travel (e.g. walking, cycling) AND reducing car usage","Qualitative rating 0-3; 3=best",null,null,2,3,3,1,3,2,3,2,2,2,1,0,2,1,1,3,3,1,2,2]
[1041,"4.1.2","Physical activity policies that address obesity","Do the country's policies to promote physical activity among the population include explicit measures aimed at preventing and managing obesity?","Economist Enterprise research","0 = No, or there is insufficient publicly available evidence of national policies in place to promote physical activity among the population\n1 = Yes, but the measures do not include clear actions or specific targets\n2 = Yes, there are measures with clear actions or specific targets, but they lack methods of evaluation\n3 = Yes, there are measures with clear actions or specific targets AND methods of evaluation","Qualitative rating 0-3; 3=best",null,null,0,2,1,2,0,3,1,0,2,1,0,0,0,3,3,0,3,1,0,1]
[1042,4.2,"Physical activity among children","Composite measure, scored as the weighted average of the following indicator scores: \n4.2.1. Physical activity mandates","Economist Enterprise calculations"]
[1043,"4.2.1","Physical activity mandates","Does the country mandate physical activity in schools?","Economist Enterprise research","0 = No, there is insufficient publicly available evidence of this\n1 = Yes, but less than 60 minutes per day OR the time period is not specified\n2 = Yes, 60 minutes per day (or more), in line with WHO recommendations","Qualitative rating 0-2; 2=best",null,null,1,1,1,2,1,1,1,1,1,1,1,0,1,0,1,1,1,1,1,0]
[null,null,"BACKGROUND INDICATORS"]
[null,"BG01","Adult obesity prevalence","% of adults living with obesity, per country classification of adult obesity","National government sources",null,"% of adults","Various years",null,31.7,36.299999999999997,33,16.399999999999999,28.3,18.100000000000001,19,5.2,10.4,26,37.1,14,4.3,23.1,20.8,32.1,38.4,15.2,22.4,26.5]
[null,"BG02a","Obesity prevalence by gender: Men","% of men with a body mass index (BMI) greater than or equal to 30","World Obesity Federation",null,"% of men","Various years",null,32.5,23.8,26.7,7.7,26.9,14.7,19.100000000000001,4,11.1,4.7,36.1,6.5,1.3,22.8,13.7,15.3,49.1,15.2,25.1,19.8]
[null,"BG02b","Obesity prevalence by gender: Women","% of women with a body mass index (BMI) greater than or equal to 30","World Obesity Federation",null,"% of women","Various years",null,30.9,24.8,22,4.3,29.6,14.9,19,6.4,9.6999999999999993,4.4000000000000004,41.6,9.9,7.4,23.5,9.3000000000000007,41.3,29.2,15.1,30.6,20.399999999999999]
[null,"BG03","Childhood obesity prevalence","% of children living with obesity, per country classification of childhood obesity","National government sources",null,"% of children","Various years",null,8.3000000000000007,15.5,11.1,7.9,12.6,4.0999999999999996,8.5,3.4,9.8000000000000007,3.1,15.7,3.8,1.6,14.6,12.9,7.1,13.8,7.1,16.100000000000001,15]
[null,"BG04","Life expectancy","Life expectancy at birth","World Bank",null,"Years",2023,null,83,76,82,78,82,83,81,72,84,84,75,54,68,79,76,66,83,84,83,81]
[null,"BG05","GDP per capita","GDP per capita","International Monetary Fund",null,"USD",2025,null,64547,9964,53558,13687,54163,46792,55911,2878,41091,33956,12692,807,1043,30099,14174,6397,34642,36192,49498,54949]
[null,"BG06","Gini Index of Income Inequality","Gini index","World Bank",null,"0-100","Various years","The Gini index measures inequality on a scale from 0 to 100. Higher values indicate higher inequality.",34.299999999999997,51.6,29.9,35.700000000000003,27.9,31.2,32.4,25.5,33.700000000000003,32.299999999999997,43.5,35.1,43.7,"No data",32.799999999999997,63,32.9,33.6,26.4,32.4]
[null,"BG07","Economic impact of overweight and obesity","Economic impact of overweight and obesity, % of GDP","World Obesity Federation",null,"% of GDP",2019,null,1.89,1.98,2.3199999999999998,1.81,2.0099999999999998,1.85,2.61,1.02,1.85,0.99,1.83,0.53,0.84,2.44,3.51,1.96,1.3,2.09,2.8,2.09]
[null,"BG08","Healthcare spending per capita","Healthcare spending per capita","World Health Organisation",null,"USD",2023,null,6980,1010,6187,763,5515,5149,6395,85,3283,3638,761,62,53,1825,984,537,3044,3107,2402,5407]
[null,"BG09","Access to a physician","Number of physicians per 100,000 people","World Bank",null,"Number of physicians per 100,000 people","Various years",null,398.1,214.2,249.7,251.8,438.1,334.3,451.8,72.7,424.8,261.39999999999998,255.9,39.4,11.6,307.7,283.7,80.900000000000006,251.7,448,291.2,317.39999999999998]
[null,"BG10","Physical activity","Prevalence of sufficient physical activity among adults","World Health Organisation",null,"% of adults",2022,null,74.5,59.6,62.8,76.2,90.4,76.8,88,50.6,59.9,55.3,72,81.900000000000006,91,48.5,55.1,55.2,41.9,78.2,33.9,81]

{"sheet":"SCORE TABLE","index":6,"n_rows":54,"n_cols":27,"rows_kept":54,"cut":false,"hidden":false,"merged":[]}
[null,null,{"$f":"HOME!B7","v":"GLOBAL OBESITY RESPONSE INDEX"}]
[]
[]
[]
[]
[null,"Score table"]
[]
[]
[null,"No.","Indicator name","Weight","Contribution to overall score","Min","Max","Australia","Brazil","Canada","China","Finland","France","Germany","India","Italy","Japan","Mexico","Nigeria","Rwanda","Saudi Arabia","Serbia","South Africa","South Korea","Spain","United Arab Emirates","United Kingdom"]
[0,0,"OVERALL",null,null,null,null,{"$f":"ROUND(SUM($D11*H11,$D25*H25,$D35*H35,$D49*H49),1)","v":58.8},{"$f":"ROUND(SUM($D11*I11,$D25*I25,$D35*I35,$D49*I49),1)","v":72.400000000000006},47.9,63.1,66.8,74.3,64.900000000000006,36.1,63.1,54.4,55.3,13.1,39.1,44.5,74.8,44.2,71.2,54.4,54.7,64.400000000000006]
[1000,1,"Policy and governance",{"$f":"0.25","v":0.25},{"$f":"0.25","v":0.25},null,null,{"$f":"ROUND(SUM($D12*H12),5)","v":57.916670000000003},{"$f":"ROUND(SUM($D12*I12),5)","v":52.916670000000003},{"$f":"ROUND(SUM($D12*J12),5)","v":20},52.5,52.5,62.5,60.833329999999997,26.25,52.083329999999997,30,42.5,22.5,21.66667,32.083329999999997,95,42.916670000000003,53.75,62.5,20,42.5]
[1001,1.1000000000000001,"Obesity-related policy",1,{"$f":"E11","v":0.25},null,null,{"$f":"ROUND(SUM($D13*H13,$D14*H14,$D15*H15,$D23*H23,$D24*H24),5)","v":57.916670000000003},{"$f":"ROUND(SUM($D13*I13,$D14*I14,$D15*I15,$D23*I23,$D24*I24),5)","v":52.916670000000003},{"$f":"ROUND(SUM($D13*J13,$D14*J14,$D15*J15,$D23*J23,$D24*J24),5)","v":20},52.5,52.5,62.5,60.833329999999997,26.25,52.083329999999997,30,42.5,22.5,21.66667,32.083329999999997,95,42.916670000000003,53.75,62.5,20,42.5]
[1002,"1.1.1","Health policy/strategy/plan that includes obesity",{"$f":"1/5","v":0.2},{"$f":"$E$12/5","v":0.05},0,1,{"$f":"IFERROR((((INDEX('DATA TABLE'!$J$13:$AC$66, MATCH('SCORE TABLE'!$B13,'DATA TABLE'!$B$13:$B$66,0),MATCH('SCORE TABLE'!H$9,'DATA TABLE'!$J$9:$AC$9,0)))-'SCORE TABLE'!$F13)/('SCORE TABLE'!$G13-'SCORE TABLE'!$F13))*100,0)","v":100},{"$f":"IFERROR((((INDEX('DATA TABLE'!$J$13:$AC$66, MATCH('SCORE TABLE'!$B13,'DATA TABLE'!$B$13:$B$66,0),MATCH('SCORE TABLE'!I$9,'DATA TABLE'!$J$9:$AC$9,0)))-'SCORE TABLE'!$F13)/('SCORE TABLE'!$G13-'SCORE TABLE'!$F13))*100,0)","v":100},{"$f":"IFERROR((((INDEX('DATA TABLE'!$J$13:$AC$66, MATCH('SCORE TABLE'!$B13,'DATA TABLE'!$B$13:$B$66,0),MATCH('SCORE TABLE'!J$9,'DATA TABLE'!$J$9:$AC$9,0)))-'SCORE TABLE'!$F13)/('SCORE TABLE'!$G13-'SCORE TABLE'!$F13))*100,0)","v":0},{"$f":"IFERROR((((INDEX('DATA TABLE'!$J$13:$AC$66, MATCH('SCORE TABLE'!$B13,'DATA TABLE'!$B$13:$B$66,0),MATCH('SCORE TABLE'!K$9,'DATA TABLE'!$J$9:$AC$9,0)))-'SCORE TABLE'!$F13)/('SCORE TABLE'!$G13-'SCORE TABLE'!$F13))*100,0)","v":100},{"$f":"IFERROR((((INDEX('DATA TABLE'!$J$13:$AC$66, MATCH('SCORE TABLE'!$B13,'DATA TABLE'!$B$13:$B$66,0),MATCH('SCORE TABLE'!L$9,'DATA TABLE'!$J$9:$AC$9,0)))-'SCORE TABLE'!$F13)/('SCORE TABLE'!$G13-'SCORE TABLE'!$F13))*100,0)","v":100},{"$f":"IFERROR((((INDEX('DATA TABLE'!$J$13:$AC$66, MATCH('SCORE TABLE'!$B13,'DATA TABLE'!$B$13:$B$66,0),MATCH('SCORE TABLE'!M$9,'DATA TABLE'!$J$9:$AC$9,0)))-'SCORE TABLE'!$F13)/('SCORE TABLE'!$G13-'SCORE TABLE'!$F13))*100,0)","v":100},{"$f":"IFERROR((((INDEX('DATA TABLE'!$J$13:$AC$66, MATCH('SCORE TABLE'!$B13,'DATA TABLE'!$B$13:$B$66,0),MATCH('SCORE TABLE'!N$9,'DATA TABLE'!$J$9:$AC$9,0)))-'SCORE TABLE'!$F13)/('SCORE TABLE'!$G13-'SCORE TABLE'!$F13))*100,0)","v":0},{"$f":"IFERROR((((INDEX('DATA TABLE'!$J$13:$AC$66, MATCH('SCORE TABLE'!$B13,'DATA TABLE'!$B$13:$B$66,0),MATCH('SCORE TABLE'!O$9,'DATA TABLE'!$J$9:$AC$9,0)))-'SCORE TABLE'!$F13)/('SCORE TABLE'!$G13-'SCORE TABLE'!$F13))*100,0)","v":0},{"$f":"IFERROR((((INDEX('DATA TABLE'!$J$13:$AC$66, MATCH('SCORE TABLE'!$B13,'DATA TABLE'!$B$13:$B$66,0),MATCH('SCORE TABLE'!P$9,'DATA TABLE'!$J$9:$AC$9,0)))-'SCORE TABLE'!$F13)/('SCORE TABLE'!$G13-'SCORE TABLE'!$F13))*100,0)","v":100},{"$f":"IFERROR((((INDEX('DATA TABLE'!$J$13:$AC$66, MATCH('SCORE TABLE'!$B13,'DATA TABLE'!$B$13:$B$66,0),MATCH('SCORE TABLE'!Q$9,'DATA TABLE'!$J$9:$AC$9,0)))-'SCORE TABLE'!$F13)/('SCORE TABLE'!$G13-'SCORE TABLE'!$F13))*100,0)","v":100},{"$f":"IFERROR((((INDEX('DATA TABLE'!$J$13:$AC$66, MATCH('SCORE TABLE'!$B13,'DATA TABLE'!$B$13:$B$66,0),MATCH('SCORE TABLE'!R$9,'DATA TABLE'!$J$9:$AC$9,0)))-'SCORE TABLE'!$F13)/('SCORE TABLE'!$G13-'SCORE TABLE'!$F13))*100,0)","v":0},{"$f":"IFERROR((((INDEX('DATA TABLE'!$J$13:$AC$66, MATCH('SCORE TABLE'!$B13,'DATA TABLE'!$B$13:$B$66,0),MATCH('SCORE TABLE'!S$9,'DATA TABLE'!$J$9:$AC$9,0)))-'SCORE TABLE'!$F13)/('SCORE TABLE'!$G13-'SCORE TABLE'!$F13))*100,0)","v":0},{"$f":"IFERROR((((INDEX('DATA TABLE'!$J$13:$AC$66, MATCH('SCORE TABLE'!$B13,'DATA TABLE'!$B$13:$B$66,0),MATCH('SCORE TABLE'!T$9,'DATA TABLE'!$J$9:$AC$9,0)))-'SCORE TABLE'!$F13)/('SCORE TABLE'!$G13-'SCORE TABLE'!$F13))*100,0)","v":0},{"$f":"IFERROR((((INDEX('DATA TABLE'!$J$13:$AC$66, MATCH('SCORE TABLE'!$B13,'DATA TABLE'!$B$13:$B$66,0),MATCH('SCORE TABLE'!U$9,'DATA TABLE'!$J$9:$AC$9,0)))-'SCORE TABLE'!$F13)/('SCORE TABLE'!$G13-'SCORE TABLE'!$F13))*100,0)","v":0},{"$f":"IFERROR((((INDEX('DATA TABLE'!$J$13:$AC$66, MATCH('SCORE TABLE'!$B13,'DATA TABLE'!$B$13:$B$66,0),MATCH('SCORE TABLE'!V$9,'DATA TABLE'!$J$9:$AC$9,0)))-'SCORE TABLE'!$F13)/('SCORE TABLE'!$G13-'SCORE TABLE'!$F13))*100,0)","v":100},{"$f":"IFERROR((((INDEX('DATA TABLE'!$J$13:$AC$66, MATCH('SCORE TABLE'!$B13,'DATA TABLE'!$B$13:$B$66,0),MATCH('SCORE TABLE'!W$9,'DATA TABLE'!$J$9:$AC$9,0)))-'SCORE TABLE'!$F13)/('SCORE TABLE'!$G13-'SCORE TABLE'!$F13))*100,0)","v":0},{"$f":"IFERROR((((INDEX('DATA TABLE'!$J$13:$AC$66, MATCH('SCORE TABLE'!$B13,'DATA TABLE'!$B$13:$B$66,0),MATCH('SCORE TABLE'!X$9,'DATA TABLE'!$J$9:$AC$9,0)))-'SCORE TABLE'!$F13)/('SCORE TABLE'!$G13-'SCORE TABLE'!$F13))*100,0)","v":100},{"$f":"IFERROR((((INDEX('DATA TABLE'!$J$13:$AC$66, MATCH('SCORE TABLE'!$B13,'DATA TABLE'!$B$13:$B$66,0),MATCH('SCORE TABLE'!Y$9,'DATA TABLE'!$J$9:$AC$9,0)))-'SCORE TABLE'!$F13)/('SCORE TABLE'!$G13-'SCORE TABLE'!$F13))*100,0)","v":100},{"$f":"IFERROR((((INDEX('DATA TABLE'!$J$13:$AC$66, MATCH('SCORE TABLE'!$B13,'DATA TABLE'!$B$13:$B$66,0),MATCH('SCORE TABLE'!Z$9,'DATA TABLE'!$J$9:$AC$9,0)))-'SCORE TABLE'!$F13)/('SCORE TABLE'!$G13-'SCORE TABLE'!$F13))*100,0)","v":0},{"$f":"IFERROR((((INDEX('DATA TABLE'!$J$13:$AC$66, MATCH('SCORE TABLE'!$B13,'DATA TABLE'!$B$13:$B$66,0),MATCH('SCORE TABLE'!AA$9,'DATA TABLE'!$J$9:$AC$9,0)))-'SCORE TABLE'!$F13)/('SCORE TABLE'!$G13-'SCORE TABLE'!$F13))*100,0)","v":100}]
[1003,"1.1.2","Definition of obesity",{"$f":"1/5","v":0.2},{"$f":"$E$12/5","v":0.05},0,2,{"$f":"IFERROR((((INDEX('DATA TABLE'!$J$13:$AC$66, MATCH('SCORE TABLE'!$B14,'DATA TABLE'!$B$13:$B$66,0),MATCH('SCORE TABLE'!H$9,'DATA TABLE'!$J$9:$AC$9,0)))-'SCORE TABLE'!$F14)/('SCORE TABLE'!$G14-'SCORE TABLE'!$F14))*100,0)","v":100},{"$f":"IFERROR((((INDEX('DATA TABLE'!$J$13:$AC$66, MATCH('SCORE TABLE'!$B14,'DATA TABLE'!$B$13:$B$66,0),MATCH('SCORE TABLE'!I$9,'DATA TABLE'!$J$9:$AC$9,0)))-'SCORE TABLE'!$F14)/('SCORE TABLE'!$G14-'SCORE TABLE'!$F14))*100,0)","v":100},{"$f":"IFERROR((((INDEX('DATA TABLE'!$J$13:$AC$66, MATCH('SCORE TABLE'!$B14,'DATA TABLE'!$B$13:$B$66,0),MATCH('SCORE TABLE'!J$9,'DATA TABLE'!$J$9:$AC$9,0)))-'SCORE TABLE'!$F14)/('SCORE TABLE'!$G14-'SCORE TABLE'!$F14))*100,0)","v":100},{"$f":"IFERROR((((INDEX('DATA TABLE'!$J$13:$AC$66, MATCH('SCORE TABLE'!$B14,'DATA TABLE'!$B$13:$B$66,0),MATCH('SCORE TABLE'!K$9,'DATA TABLE'!$J$9:$AC$9,0)))-'SCORE TABLE'!$F14)/('SCORE TABLE'!$G14-'SCORE TABLE'!$F14))*100,0)","v":100},{"$f":"IFERROR((((INDEX('DATA TABLE'!$J$13:$AC$66, MATCH('SCORE TABLE'!$B14,'DATA TABLE'!$B$13:$B$66,0),MATCH('SCORE TABLE'!L$9,'DATA TABLE'!$J$9:$AC$9,0)))-'SCORE TABLE'!$F14)/('SCORE TABLE'!$G14-'SCORE TABLE'!$F14))*100,0)","v":50},{"$f":"IFERROR((((INDEX('DATA TABLE'!$J$13:$AC$66, MATCH('SCORE TABLE'!$B14,'DATA TABLE'!$B$13:$B$66,0),MATCH('SCORE TABLE'!M$9,'DATA TABLE'!$J$9:$AC$9,0)))-'SCORE TABLE'!$F14)/('SCORE TABLE'!$G14-'SCORE TABLE'!$F14))*100,0)","v":100},{"$f":"IFERROR((((INDEX('DATA TABLE'!$J$13:$AC$66, MATCH('SCORE TABLE'!$B14,'DATA TABLE'!$B$13:$B$66,0),MATCH('SCORE TABLE'!N$9,'DATA TABLE'!$J$9:$AC$9,0)))-'SCORE TABLE'!$F14)/('SCORE TABLE'!$G14-'SCORE TABLE'!$F14))*100,0)","v":50},{"$f":"IFERROR((((INDEX('DATA TABLE'!$J$13:$AC$66, MATCH('SCORE TABLE'!$B14,'DATA TABLE'!$B$13:$B$66,0),MATCH('SCORE TABLE'!O$9,'DATA TABLE'!$J$9:$AC$9,0)))-'SCORE TABLE'!$F14)/('SCORE TABLE'!$G14-'SCORE TABLE'!$F14))*100,0)","v":100},{"$f":"IFERROR((((INDEX('DATA TABLE'!$J$13:$AC$66, MATCH('SCORE TABLE'!$B14,'DATA TABLE'!$B$13:$B$66,0),MATCH('SCORE TABLE'!P$9,'DATA TABLE'!$J$9:$AC$9,0)))-'SCORE TABLE'!$F14)/('SCORE TABLE'!$G14-'SCORE TABLE'!$F14))*100,0)","v":100},{"$f":"IFERROR((((INDEX('DATA TABLE'!$J$13:$AC$66, MATCH('SCORE TABLE'!$B14,'DATA TABLE'!$B$13:$B$66,0),MATCH('SCORE TABLE'!Q$9,'DATA TABLE'!$J$9:$AC$9,0)))-'SCORE TABLE'!$F14)/('SCORE TABLE'!$G14-'SCORE TABLE'!$F14))*100,0)","v":50},{"$f":"IFERROR((((INDEX('DATA TABLE'!$J$13:$AC$66, MATCH('SCORE TABLE'!$B14,'DATA TABLE'!$B$13:$B$66,0),MATCH('SCORE TABLE'!R$9,'DATA TABLE'!$J$9:$AC$9,0)))-'SCORE TABLE'!$F14)/('SCORE TABLE'!$G14-'SCORE TABLE'!$F14))*100,0)","v":100},{"$f":"IFERROR((((INDEX('DATA TABLE'!$J$13:$AC$66, MATCH('SCORE TABLE'!$B14,'DATA TABLE'!$B$13:$B$66,0),MATCH('SCORE TABLE'!S$9,'DATA TABLE'!$J$9:$AC$9,0)))-'SCORE TABLE'!$F14)/('SCORE TABLE'!$G14-'SCORE TABLE'!$F14))*100,0)","v":50},{"$f":"IFERROR((((INDEX('DATA TABLE'!$J$13:$AC$66, MATCH('SCORE TABLE'!$B14,'DATA TABLE'!$B$13:$B$66,0),MATCH('SCORE TABLE'!T$9,'DATA TABLE'!$J$9:$AC$9,0)))-'SCORE TABLE'!$F14)/('SCORE TABLE'!$G14-'SCORE TABLE'!$F14))*100,0)","v":50},{"$f":"IFERROR((((INDEX('DATA TABLE'!$J$13:$AC$66, MATCH('SCORE TABLE'!$B14,'DATA TABLE'!$B$13:$B$66,0),MATCH('SCORE TABLE'!U$9,'DATA TABLE'!$J$9:$AC$9,0)))-'SCORE TABLE'!$F14)/('SCORE TABLE'!$G14-'SCORE TABLE'!$F14))*100,0)","v":100},{"$f":"IFERROR((((INDEX('DATA TABLE'!$J$13:$AC$66, MATCH('SCORE TABLE'!$B14,'DATA TABLE'!$B$13:$B$66,0),MATCH('SCORE TABLE'!V$9,'DATA TABLE'!$J$9:$AC$9,0)))-'SCORE TABLE'!$F14)/('SCORE TABLE'!$G14-'SCORE TABLE'!$F14))*100,0)","v":100},{"$f":"IFERROR((((INDEX('DATA TABLE'!$J$13:$AC$66, MATCH('SCORE TABLE'!$B14,'DATA TABLE'!$B$13:$B$66,0),MATCH('SCORE TABLE'!W$9,'DATA TABLE'!$J$9:$AC$9,0)))-'SCORE TABLE'!$F14)/('SCORE TABLE'!$G14-'SCORE TABLE'!$F14))*100,0)","v":50},{"$f":"IFERROR((((INDEX('DATA TABLE'!$J$13:$AC$66, MATCH('SCORE TABLE'!$B14,'DATA TABLE'!$B$13:$B$66,0),MATCH('SCORE TABLE'!X$9,'DATA TABLE'!$J$9:$AC$9,0)))-'SCORE TABLE'!$F14)/('SCORE TABLE'!$G14-'SCORE TABLE'!$F14))*100,0)","v":100},{"$f":"IFERROR((((INDEX('DATA TABLE'!$J$13:$AC$66, MATCH('SCORE TABLE'!$B14,'DATA TABLE'!$B$13:$B$66,0),MATCH('SCORE TABLE'!Y$9,'DATA TABLE'!$J$9:$AC$9,0)))-'SCORE TABLE'!$F14)/('SCORE TABLE'!$G14-'SCORE TABLE'!$F14))*100,0)","v":100},{"$f":"IFERROR((((INDEX('DATA TABLE'!$J$13:$AC$66, MATCH('SCORE TABLE'!$B14,'DATA TABLE'!$B$13:$B$66,0),MATCH('SCORE TABLE'!Z$9,'DATA TABLE'!$J$9:$AC$9,0)))-'SCORE TABLE'!$F14)/('SCORE TABLE'!$G14-'SCORE TABLE'!$F14))*100,0)","v":100},{"$f":"IFERROR((((INDEX('DATA TABLE'!$J$13:$AC$66, MATCH('SCORE TABLE'!$B14,'DATA TABLE'!$B$13:$B$66,0),MATCH('SCORE TABLE'!AA$9,'DATA TABLE'!$J$9:$AC$9,0)))-'SCORE TABLE'!$F14)/('SCORE TABLE'!$G14-'SCORE TABLE'!$F14))*100,0)","v":50}]
[1004,"1.1.3","Obesity-related policy/strategy/plan",{"$f":"1/5","v":0.2},{"$f":"$E$12/5","v":0.05},null,null,{"$f":"ROUND(SUMPRODUCT($D16:$D22,H16:H22),5)","v":89.583330000000004},{"$f":"ROUND(SUMPRODUCT($D16:$D22,I16:I22),5)","v":64.583330000000004},{"$f":"ROUND(SUMPRODUCT($D16:$D22,J16:J22),5)","v":0},62.5,12.5,12.5,54.166670000000003,31.25,60.416670000000003,0,12.5,62.5,58.333329999999997,60.416670000000003,75,64.583330000000004,68.75,12.5,0,62.5]
[1005,"1.1.3a","Existence of an obesity-related policy/strategy/plan",0.25,{"$f":"$E$15*D16","v":1.2500000000000001E-2},0,2,{"$f":"IFERROR((((INDEX('DATA TABLE'!$J$13:$AC$66, MATCH('SCORE TABLE'!$B16,'DATA TABLE'!$B$13:$B$66,0),MATCH('SCORE TABLE'!H$9,'DATA TABLE'!$J$9:$AC$9,0)))-'SCORE TABLE'!$F16)/('SCORE TABLE'!$G16-'SCORE TABLE'!$F16))*100,0)","v":100},{"$f":"IFERROR((((INDEX('DATA TABLE'!$J$13:$AC$66, MATCH('SCORE TABLE'!$B16,'DATA TABLE'!$B$13:$B$66,0),MATCH('SCORE TABLE'!I$9,'DATA TABLE'!$J$9:$AC$9,0)))-'SCORE TABLE'!$F16)/('SCORE TABLE'!$G16-'SCORE TABLE'!$F16))*100,0)","v":100},{"$f":"IFERROR((((INDEX('DATA TABLE'!$J$13:$AC$66, MATCH('SCORE TABLE'!$B16,'DATA TABLE'!$B$13:$B$66,0),MATCH('SCORE TABLE'!J$9,'DATA TABLE'!$J$9:$AC$9,0)))-'SCORE TABLE'!$F16)/('SCORE TABLE'!$G16-'SCORE TABLE'!$F16))*100,0)","v":0},{"$f":"IFERROR((((INDEX('DATA TABLE'!$J$13:$AC$66, MATCH('SCORE TABLE'!$B16,'DATA TABLE'!$B$13:$B$66,0),MATCH('SCORE TABLE'!K$9,'DATA TABLE'!$J$9:$AC$9,0)))-'SCORE TABLE'!$F16)/('SCORE TABLE'!$G16-'SCORE TABLE'!$F16))*100,0)","v":100},{"$f":"IFERROR((((INDEX('DATA TABLE'!$J$13:$AC$66, MATCH('SCORE TABLE'!$B16,'DATA TABLE'!$B$13:$B$66,0),MATCH('SCORE TABLE'!L$9,'DATA TABLE'!$J$9:$AC$9,0)))-'SCORE TABLE'!$F16)/('SCORE TABLE'!$G16-'SCORE TABLE'!$F16))*100,0)","v":50},{"$f":"IFERROR((((INDEX('DATA TABLE'!$J$13:$AC$66, MATCH('SCORE TABLE'!$B16,'DATA TABLE'!$B$13:$B$66,0),MATCH('SCORE TABLE'!M$9,'DATA TABLE'!$J$9:$AC$9,0)))-'SCORE TABLE'!$F16)/('SCORE TABLE'!$G16-'SCORE TABLE'!$F16))*100,0)","v":50},{"$f":"IFERROR((((INDEX('DATA TABLE'!$J$13:$AC$66, MATCH('SCORE TABLE'!$B16,'DATA TABLE'!$B$13:$B$66,0),MATCH('SCORE TABLE'!N$9,'DATA TABLE'!$J$9:$AC$9,0)))-'SCORE TABLE'!$F16)/('SCORE TABLE'!$G16-'SCORE TABLE'!$F16))*100,0)","v":100},{"$f":"IFERROR((((INDEX('DATA TABLE'!$J$13:$AC$66, MATCH('SCORE TABLE'!$B16,'DATA TABLE'!$B$13:$B$66,0),MATCH('SCORE TABLE'!O$9,'DATA TABLE'!$J$9:$AC$9,0)))-'SCORE TABLE'!$F16)/('SCORE TABLE'!$G16-'SCORE TABLE'!$F16))*100,0)","v":100},{"$f":"IFERROR((((INDEX('DATA TABLE'!$J$13:$AC$66, MATCH('SCORE TABLE'!$B16,'DATA TABLE'!$B$13:$B$66,0),MATCH('SCORE TABLE'!P$9,'DATA TABLE'!$J$9:$AC$9,0)))-'SCORE TABLE'!$F16)/('SCORE TABLE'!$G16-'SCORE TABLE'!$F16))*100,0)","v":100},{"$f":"IFERROR((((INDEX('DATA TABLE'!$J$13:$AC$66, MATCH('SCORE TABLE'!$B16,'DATA TABLE'!$B$13:$B$66,0),MATCH('SCORE TABLE'!Q$9,'DATA TABLE'!$J$9:$AC$9,0)))-'SCORE TABLE'!$F16)/('SCORE TABLE'!$G16-'SCORE TABLE'!$F16))*100,0)","v":0},{"$f":"IFERROR((((INDEX('DATA TABLE'!$J$13:$AC$66, MATCH('SCORE TABLE'!$B16,'DATA TABLE'!$B$13:$B$66,0),MATCH('SCORE TABLE'!R$9,'DATA TABLE'!$J$9:$AC$9,0)))-'SCORE TABLE'!$F16)/('SCORE TABLE'!$G16-'SCORE TABLE'!$F16))*100,0)","v":50},{"$f":"IFERROR((((INDEX('DATA TABLE'!$J$13:$AC$66, MATCH('SCORE TABLE'!$B16,'DATA TABLE'!$B$13:$B$66,0),MATCH('SCORE TABLE'!S$9,'DATA TABLE'!$J$9:$AC$9,0)))-'SCORE TABLE'!$F16)/('SCORE TABLE'!$G16-'SCORE TABLE'!$F16))*100,0)","v":100},{"$f":"IFERROR((((INDEX('DATA TABLE'!$J$13:$AC$66, MATCH('SCORE TABLE'!$B16,'DATA TABLE'!$B$13:$B$66,0),MATCH('SCORE TABLE'!T$9,'DATA TABLE'!$J$9:$AC$9,0)))-'SCORE TABLE'!$F16)/('SCORE TABLE'!$G16-'SCORE TABLE'!$F16))*100,0)","v":100},{"$f":"IFERROR((((INDEX('DATA TABLE'!$J$13:$AC$66, MATCH('SCORE TABLE'!$B16,'DATA TABLE'!$B$13:$B$66,0),MATCH('SCORE TABLE'!U$9,'DATA TABLE'!$J$9:$AC$9,0)))-'SCORE TABLE'!$F16)/('SCORE TABLE'!$G16-'SCORE TABLE'!$F16))*100,0)","v":100},{"$f":"IFERROR((((INDEX('DATA TABLE'!$J$13:$AC$66, MATCH('SCORE TABLE'!$B16,'DATA TABLE'!$B$13:$B$66,0),MATCH('SCORE TABLE'!V$9,'DATA TABLE'!$J$9:$AC$9,0)))-'SCORE TABLE'!$F16)/('SCORE TABLE'!$G16-'SCORE TABLE'!$F16))*100,0)","v":100},{"$f":"IFERROR((((INDEX('DATA TABLE'!$J$13:$AC$66, MATCH('SCORE TABLE'!$B16,'DATA TABLE'!$B$13:$B$66,0),MATCH('SCORE TABLE'!W$9,'DATA TABLE'!$J$9:$AC$9,0)))-'SCORE TABLE'!$F16)/('SCORE TABLE'!$G16-'SCORE TABLE'!$F16))*100,0)","v":100},{"$f":"IFERROR((((INDEX('DATA TABLE'!$J$13:$AC$66, MATCH('SCORE TABLE'!$B16,'DATA TABLE'!$B$13:$B$66,0),MATCH('SCORE TABLE'!X$9,'DATA TABLE'!$J$9:$AC$9,0)))-'SCORE TABLE'!$F16)/('SCORE TABLE'!$G16-'SCORE TABLE'!$F16))*100,0)","v":100},{"$f":"IFERROR((((INDEX('DATA TABLE'!$J$13:$AC$66, MATCH('SCORE TABLE'!$B16,'DATA TABLE'!$B$13:$B$66,0),MATCH('SCORE TABLE'!Y$9,'DATA TABLE'!$J$9:$AC$9,0)))-'SCORE TABLE'!$F16)/('SCORE TABLE'!$G16-'SCORE TABLE'!$F16))*100,0)","v":50},{"$f":"IFERROR((((INDEX('DATA TABLE'!$J$13:$AC$66, MATCH('SCORE TABLE'!$B16,'DATA TABLE'!$B$13:$B$66,0),MATCH('SCORE TABLE'!Z$9,'DATA TABLE'!$J$9:$AC$9,0)))-'SCORE TABLE'!$F16)/('SCORE TABLE'!$G16-'SCORE TABLE'!$F16))*100,0)","v":0},{"$f":"IFERROR((((INDEX('DATA TABLE'!$J$13:$AC$66, MATCH('SCORE TABLE'!$B16,'DATA TABLE'!$B$13:$B$66,0),MATCH('SCORE TABLE'!AA$9,'DATA TABLE'!$J$9:$AC$9,0)))-'SCORE TABLE'!$F16)/('SCORE TABLE'!$G16-'SCORE TABLE'!$F16))*100,0)","v":100}]
[1006,"1.1.3b","Engagement with stakeholders during development",0.125,6.2500000000000003E-3,0,3,{"$f":"IFERROR((((INDEX('DATA TABLE'!$J$13:$AC$66, MATCH('SCORE TABLE'!$B17,'DATA TABLE'!$B$13:$B$66,0),MATCH('SCORE TABLE'!H$9,'DATA TABLE'!$J$9:$AC$9,0)))-'SCORE TABLE'!$F17)/('SCORE TABLE'!$G17-'SCORE TABLE'!$F17))*100,0)","v":66.666666666666657},{"$f":"IFERROR((((INDEX('DATA TABLE'!$J$13:$AC$66, MATCH('SCORE TABLE'!$B17,'DATA TABLE'!$B$13:$B$66,0),MATCH('SCORE TABLE'!I$9,'DATA TABLE'!$J$9:$AC$9,0)))-'SCORE TABLE'!$F17)/('SCORE TABLE'!$G17-'SCORE TABLE'!$F17))*100,0)","v":100},{"$f":"IFERROR((((INDEX('DATA TABLE'!$J$13:$AC$66, MATCH('SCORE TABLE'!$B17,'DATA TABLE'!$B$13:$B$66,0),MATCH('SCORE TABLE'!J$9,'DATA TABLE'!$J$9:$AC$9,0)))-'SCORE TABLE'!$F17)/('SCORE TABLE'!$G17-'SCORE TABLE'!$F17))*100,0)","v":0},{"$f":"IFERROR((((INDEX('DATA TABLE'!$J$13:$AC$66, MATCH('SCORE TABLE'!$B17,'DATA TABLE'!$B$13:$B$66,0),MATCH('SCORE TABLE'!K$9,'DATA TABLE'!$J$9:$AC$9,0)))-'SCORE TABLE'!$F17)/('SCORE TABLE'!$G17-'SCORE TABLE'!$F17))*100,0)","v":66.666666666666657},{"$f":"IFERROR((((INDEX('DATA TABLE'!$J$13:$AC$66, MATCH('SCORE TABLE'!$B17,'DATA TABLE'!$B$13:$B$66,0),MATCH('SCORE TABLE'!L$9,'DATA TABLE'!$J$9:$AC$9,0)))-'SCORE TABLE'!$F17)/('SCORE TABLE'!$G17-'SCORE TABLE'!$F17))*100,0)","v":0},{"$f":"IFERROR((((INDEX('DATA TABLE'!$J$13:$AC$66, MATCH('SCORE TABLE'!$B17,'DATA TABLE'!$B$13:$B$66,0),MATCH('SCORE TABLE'!M$9,'DATA TABLE'!$J$9:$AC$9,0)))-'SCORE TABLE'!$F17)/('SCORE TABLE'!$G17-'SCORE TABLE'!$F17))*100,0)","v":0},{"$f":"IFERROR((((INDEX('DATA TABLE'!$J$13:$AC$66, MATCH('SCORE TABLE'!$B17,'DATA TABLE'!$B$13:$B$66,0),MATCH('SCORE TABLE'!N$9,'DATA TABLE'!$J$9:$AC$9,0)))-'SCORE TABLE'!$F17)/('SCORE TABLE'!$G17-'SCORE TABLE'!$F17))*100,0)","v":66.666666666666657},{"$f":"IFERROR((((INDEX('DATA TABLE'!$J$13:$AC$66, MATCH('SCORE TABLE'!$B17,'DATA TABLE'!$B$13:$B$66,0),MATCH('SCORE TABLE'!O$9,'DATA TABLE'!$J$9:$AC$9,0)))-'SCORE TABLE'!$F17)/('SCORE TABLE'!$G17-'SCORE TABLE'!$F17))*100,0)","v":0},{"$f":"IFERROR((((INDEX('DATA TABLE'!$J$13:$AC$66, MATCH('SCORE TABLE'!$B17,'DATA TABLE'!$B$13:$B$66,0),MATCH('SCORE TABLE'!P$9,'DATA TABLE'!$J$9:$AC$9,0)))-'SCORE TABLE'!$F17)/('SCORE TABLE'!$G17-'SCORE TABLE'!$F17))*100,0)","v":66.666666666666657},{"$f":"IFERROR((((INDEX('DATA TABLE'!$J$13:$AC$66, MATCH('SCORE TABLE'!$B17,'DATA TABLE'!$B$13:$B$66,0),MATCH('SCORE TABLE'!Q$9,'DATA TABLE'!$J$9:$AC$9,0)))-'SCORE TABLE'!$F17)/('SCORE TABLE'!$G17-'SCORE TABLE'!$F17))*100,0)","v":0},{"$f":"IFERROR((((INDEX('DATA TABLE'!$J$13:$AC$66, MATCH('SCORE TABLE'!$B17,'DATA TABLE'!$B$13:$B$66,0),MATCH('SCORE TABLE'!R$9,'DATA TABLE'!$J$9:$AC$9,0)))-'SCORE TABLE'!$F17)/('SCORE TABLE'!$G17-'SCORE TABLE'!$F17))*100,0)","v":0},{"$f":"IFERROR((((INDEX('DATA TABLE'!$J$13:$AC$66, MATCH('SCORE TABLE'!$B17,'DATA TABLE'!$B$13:$B$66,0),MATCH('SCORE TABLE'!S$9,'DATA TABLE'!$J$9:$AC$9,0)))-'SCORE TABLE'!$F17)/('SCORE TABLE'!$G17-'SCORE TABLE'!$F17))*100,0)","v":66.666666666666657},{"$f":"IFERROR((((INDEX('DATA TABLE'!$J$13:$AC$66, MATCH('SCORE TABLE'!$B17,'DATA TABLE'!$B$13:$B$66,0),MATCH('SCORE TABLE'!T$9,'DATA TABLE'!$J$9:$AC$9,0)))-'SCORE TABLE'!$F17)/('SCORE TABLE'!$G17-'SCORE TABLE'!$F17))*100,0)","v":66.666666666666657},{"$f":"IFERROR((((INDEX('DATA TABLE'!$J$13:$AC$66, MATCH('SCORE TABLE'!$B17,'DATA TABLE'!$B$13:$B$66,0),MATCH('SCORE TABLE'!U$9,'DATA TABLE'!$J$9:$AC$9,0)))-'SCORE TABLE'!$F17)/('SCORE TABLE'!$G17-'SCORE TABLE'!$F17))*100,0)","v":66.666666666666657},{"$f":"IFERROR((((INDEX('DATA TABLE'!$J$13:$AC$66, MATCH('SCORE TABLE'!$B17,'DATA TABLE'!$B$13:$B$66,0),MATCH('SCORE TABLE'!V$9,'DATA TABLE'!$J$9:$AC$9,0)))-'SCORE TABLE'!$F17)/('SCORE TABLE'!$G17-'SCORE TABLE'!$F17))*100,0)","v":0},{"$f":"IFERROR((((INDEX('DATA TABLE'!$J$13:$AC$66, MATCH('SCORE TABLE'!$B17,'DATA TABLE'!$B$13:$B$66,0),MATCH('SCORE TABLE'!W$9,'DATA TABLE'!$J$9:$AC$9,0)))-'SCORE TABLE'!$F17)/('SCORE TABLE'!$G17-'SCORE TABLE'!$F17))*100,0)","v":66.666666666666657},{"$f":"IFERROR((((INDEX('DATA TABLE'!$J$13:$AC$66, MATCH('SCORE TABLE'!$B17,'DATA TABLE'!$B$13:$B$66,0),MATCH('SCORE TABLE'!X$9,'DATA TABLE'!$J$9:$AC$9,0)))-'SCORE TABLE'!$F17)/('SCORE TABLE'!$G17-'SCORE TABLE'!$F17))*100,0)","v":0},{"$f":"IFERROR((((INDEX('DATA TABLE'!$J$13:$AC$66, MATCH('SCORE TABLE'!$B17,'DATA TABLE'!$B$13:$B$66,0),MATCH('SCORE TABLE'!Y$9,'DATA TABLE'!$J$9:$AC$9,0)))-'SCORE TABLE'!$F17)/('SCORE TABLE'!$G17-'SCORE TABLE'!$F17))*100,0)","v":0},{"$f":"IFERROR((((INDEX('DATA TABLE'!$J$13:$AC$66, MATCH('SCORE TABLE'!$B17,'DATA TABLE'!$B$13:$B$66,0),MATCH('SCORE TABLE'!Z$9,'DATA TABLE'!$J$9:$AC$9,0)))-'SCORE TABLE'!$F17)/('SCORE TABLE'!$G17-'SCORE TABLE'!$F17))*100,0)","v":0},{"$f":"IFERROR((((INDEX('DATA TABLE'!$J$13:$AC$66, MATCH('SCORE TABLE'!$B17,'DATA TABLE'!$B$13:$B$66,0),MATCH('SCORE TABLE'!AA$9,'DATA TABLE'!$J$9:$AC$9,0)))-'SCORE TABLE'!$F17)/('SCORE TABLE'!$G17-'SCORE TABLE'!$F17))*100,0)","v":66.666666666666657}]
[1007,"1.1.3c","Measures for obesity prevention",0.125,6.2500000000000003E-3,0,3,{"$f":"IFERROR((((INDEX('DATA TABLE'!$J$13:$AC$66, MATCH('SCORE TABLE'!$B18,'DATA TABLE'!$B$13:$B$66,0),MATCH('SCORE TABLE'!H$9,'DATA TABLE'!$J$9:$AC$9,0)))-'SCORE TABLE'!$F18)/('SCORE TABLE'!$G18-'SCORE TABLE'!$F18))*100,0)","v":100},{"$f":"IFERROR((((INDEX('DATA TABLE'!$J$13:$AC$66, MATCH('SCORE TABLE'!$B18,'DATA TABLE'!$B$13:$B$66,0),MATCH('SCORE TABLE'!I$9,'DATA TABLE'!$J$9:$AC$9,0)))-'SCORE TABLE'!$F18)/('SCORE TABLE'!$G18-'SCORE TABLE'!$F18))*100,0)","v":66.666666666666657},{"$f":"IFERROR((((INDEX('DATA TABLE'!$J$13:$AC$66, MATCH('SCORE TABLE'!$B18,'DATA TABLE'!$B$13:$B$66,0),MATCH('SCORE TABLE'!J$9,'DATA TABLE'!$J$9:$AC$9,0)))-'SCORE TABLE'!$F18)/('SCORE TABLE'!$G18-'SCORE TABLE'!$F18))*100,0)","v":0},{"$f":"IFERROR((((INDEX('DATA TABLE'!$J$13:$AC$66, MATCH('SCORE TABLE'!$B18,'DATA TABLE'!$B$13:$B$66,0),MATCH('SCORE TABLE'!K$9,'DATA TABLE'!$J$9:$AC$9,0)))-'SCORE TABLE'!$F18)/('SCORE TABLE'!$G18-'SCORE TABLE'!$F18))*100,0)","v":66.666666666666657},{"$f":"IFERROR((((INDEX('DATA TABLE'!$J$13:$AC$66, MATCH('SCORE TABLE'!$B18,'DATA TABLE'!$B$13:$B$66,0),MATCH('SCORE TABLE'!L$9,'DATA TABLE'!$J$9:$AC$9,0)))-'SCORE TABLE'!$F18)/('SCORE TABLE'!$G18-'SCORE TABLE'!$F18))*100,0)","v":0},{"$f":"IFERROR((((INDEX('DATA TABLE'!$J$13:$AC$66, MATCH('SCORE TABLE'!$B18,'DATA TABLE'!$B$13:$B$66,0),MATCH('SCORE TABLE'!M$9,'DATA TABLE'!$J$9:$AC$9,0)))-'SCORE TABLE'!$F18)/('SCORE TABLE'!$G18-'SCORE TABLE'!$F18))*100,0)","v":0},{"$f":"IFERROR((((INDEX('DATA TABLE'!$J$13:$AC$66, MATCH('SCORE TABLE'!$B18,'DATA TABLE'!$B$13:$B$66,0),MATCH('SCORE TABLE'!N$9,'DATA TABLE'!$J$9:$AC$9,0)))-'SCORE TABLE'!$F18)/('SCORE TABLE'!$G18-'SCORE TABLE'!$F18))*100,0)","v":66.666666666666657},{"$f":"IFERROR((((INDEX('DATA TABLE'!$J$13:$AC$66, MATCH('SCORE TABLE'!$B18,'DATA TABLE'!$B$13:$B$66,0),MATCH('SCORE TABLE'!O$9,'DATA TABLE'!$J$9:$AC$9,0)))-'SCORE TABLE'!$F18)/('SCORE TABLE'!$G18-'SCORE TABLE'!$F18))*100,0)","v":0},{"$f":"IFERROR((((INDEX('DATA TABLE'!$J$13:$AC$66, MATCH('SCORE TABLE'!$B18,'DATA TABLE'!$B$13:$B$66,0),MATCH('SCORE TABLE'!P$9,'DATA TABLE'!$J$9:$AC$9,0)))-'SCORE TABLE'!$F18)/('SCORE TABLE'!$G18-'SCORE TABLE'!$F18))*100,0)","v":33.333333333333329},{"$f":"IFERROR((((INDEX('DATA TABLE'!$J$13:$AC$66, MATCH('SCORE TABLE'!$B18,'DATA TABLE'!$B$13:$B$66,0),MATCH('SCORE TABLE'!Q$9,'DATA TABLE'!$J$9:$AC$9,0)))-'SCORE TABLE'!$F18)/('SCORE TABLE'!$G18-'SCORE TABLE'!$F18))*100,0)","v":0},{"$f":"IFERROR((((INDEX('DATA TABLE'!$J$13:$AC$66, MATCH('SCORE TABLE'!$B18,'DATA TABLE'!$B$13:$B$66,0),MATCH('SCORE TABLE'!R$9,'DATA TABLE'!$J$9:$AC$9,0)))-'SCORE TABLE'!$F18)/('SCORE TABLE'!$G18-'SCORE TABLE'!$F18))*100,0)","v":0},{"$f":"IFERROR((((INDEX('DATA TABLE'!$J$13:$AC$66, MATCH('SCORE TABLE'!$B18,'DATA TABLE'!$B$13:$B$66,0),MATCH('SCORE TABLE'!S$9,'DATA TABLE'!$J$9:$AC$9,0)))-'SCORE TABLE'!$F18)/('SCORE TABLE'!$G18-'SCORE TABLE'!$F18))*100,0)","v":100},{"$f":"IFERROR((((INDEX('DATA TABLE'!$J$13:$AC$66, MATCH('SCORE TABLE'!$B18,'DATA TABLE'!$B$13:$B$66,0),MATCH('SCORE TABLE'!T$9,'DATA TABLE'!$J$9:$AC$9,0)))-'SCORE TABLE'!$F18)/('SCORE TABLE'!$G18-'SCORE TABLE'!$F18))*100,0)","v":100},{"$f":"IFERROR((((INDEX('DATA TABLE'!$J$13:$AC$66, MATCH('SCORE TABLE'!$B18,'DATA TABLE'!$B$13:$B$66,0),MATCH('SCORE TABLE'!U$9,'DATA TABLE'!$J$9:$AC$9,0)))-'SCORE TABLE'!$F18)/('SCORE TABLE'!$G18-'SCORE TABLE'!$F18))*100,0)","v":66.666666666666657},{"$f":"IFERROR((((INDEX('DATA TABLE'!$J$13:$AC$66, MATCH('SCORE TABLE'!$B18,'DATA TABLE'!$B$13:$B$66,0),MATCH('SCORE TABLE'!V$9,'DATA TABLE'!$J$9:$AC$9,0)))-'SCORE TABLE'!$F18)/('SCORE TABLE'!$G18-'SCORE TABLE'!$F18))*100,0)","v":100},{"$f":"IFERROR((((INDEX('DATA TABLE'!$J$13:$AC$66, MATCH('SCORE TABLE'!$B18,'DATA TABLE'!$B$13:$B$66,0),MATCH('SCORE TABLE'!W$9,'DATA TABLE'!$J$9:$AC$9,0)))-'SCORE TABLE'!$F18)/('SCORE TABLE'!$G18-'SCORE TABLE'!$F18))*100,0)","v":100},{"$f":"IFERROR((((INDEX('DATA TABLE'!$J$13:$AC$66, MATCH('SCORE TABLE'!$B18,'DATA TABLE'!$B$13:$B$66,0),MATCH('SCORE TABLE'!X$9,'DATA TABLE'!$J$9:$AC$9,0)))-'SCORE TABLE'!$F18)/('SCORE TABLE'!$G18-'SCORE TABLE'!$F18))*100,0)","v":100},{"$f":"IFERROR((((INDEX('DATA TABLE'!$J$13:$AC$66, MATCH('SCORE TABLE'!$B18,'DATA TABLE'!$B$13:$B$66,0),MATCH('SCORE TABLE'!Y$9,'DATA TABLE'!$J$9:$AC$9,0)))-'SCORE TABLE'!$F18)/('SCORE TABLE'!$G18-'SCORE TABLE'!$F18))*100,0)","v":0},{"$f":"IFERROR((((INDEX('DATA TABLE'!$J$13:$AC$66, MATCH('SCORE TABLE'!$B18,'DATA TABLE'!$B$13:$B$66,0),MATCH('SCORE TABLE'!Z$9,'DATA TABLE'!$J$9:$AC$9,0)))-'SCORE TABLE'!$F18)/('SCORE TABLE'!$G18-'SCORE TABLE'!$F18))*100,0)","v":0},{"$f":"IFERROR((((INDEX('DATA TABLE'!$J$13:$AC$66, MATCH('SCORE TABLE'!$B18,'DATA TABLE'!$B$13:$B$66,0),MATCH('SCORE TABLE'!AA$9,'DATA TABLE'!$J$9:$AC$9,0)))-'SCORE TABLE'!$F18)/('SCORE TABLE'!$G18-'SCORE TABLE'!$F18))*100,0)","v":66.666666666666657}]
[1008,"1.1.3d","Measures for obesity management",0.125,6.2500000000000003E-3,0,3,{"$f":"IFERROR((((INDEX('DATA TABLE'!$J$13:$AC$66, MATCH('SCORE TABLE'!$B19,'DATA TABLE'!$B$13:$B$66,0),MATCH('SCORE TABLE'!H$9,'DATA TABLE'!$J$9:$AC$9,0)))-'SCORE TABLE'!$F19)/('SCORE TABLE'!$G19-'SCORE TABLE'!$F19))*100,0)","v":100},{"$f":"IFERROR((((INDEX('DATA TABLE'!$J$13:$AC$66, MATCH('SCORE TABLE'!$B19,'DATA TABLE'!$B$13:$B$66,0),MATCH('SCORE TABLE'!I$9,'DATA TABLE'!$J$9:$AC$9,0)))-'SCORE TABLE'!$F19)/('SCORE TABLE'!$G19-'SCORE TABLE'!$F19))*100,0)","v":0},{"$f":"IFERROR((((INDEX('DATA TABLE'!$J$13:$AC$66, MATCH('SCORE TABLE'!$B19,'DATA TABLE'!$B$13:$B$66,0),MATCH('SCORE TABLE'!J$9,'DATA TABLE'!$J$9:$AC$9,0)))-'SCORE TABLE'!$F19)/('SCORE TABLE'!$G19-'SCORE TABLE'!$F19))*100,0)","v":0},{"$f":"IFERROR((((INDEX('DATA TABLE'!$J$13:$AC$66, MATCH('SCORE TABLE'!$B19,'DATA TABLE'!$B$13:$B$66,0),MATCH('SCORE TABLE'!K$9,'DATA TABLE'!$J$9:$AC$9,0)))-'SCORE TABLE'!$F19)/('SCORE TABLE'!$G19-'SCORE TABLE'!$F19))*100,0)","v":66.666666666666657},{"$f":"IFERROR((((INDEX('DATA TABLE'!$J$13:$AC$66, MATCH('SCORE TABLE'!$B19,'DATA TABLE'!$B$13:$B$66,0),MATCH('SCORE TABLE'!L$9,'DATA TABLE'!$J$9:$AC$9,0)))-'SCORE TABLE'!$F19)/('SCORE TABLE'!$G19-'SCORE TABLE'!$F19))*100,0)","v":0},{"$f":"IFERROR((((INDEX('DATA TABLE'!$J$13:$AC$66, MATCH('SCORE TABLE'!$B19,'DATA TABLE'!$B$13:$B$66,0),MATCH('SCORE TABLE'!M$9,'DATA TABLE'!$J$9:$AC$9,0)))-'SCORE TABLE'!$F19)/('SCORE TABLE'!$G19-'SCORE TABLE'!$F19))*100,0)","v":0},{"$f":"IFERROR((((INDEX('DATA TABLE'!$J$13:$AC$66, MATCH('SCORE TABLE'!$B19,'DATA TABLE'!$B$13:$B$66,0),MATCH('SCORE TABLE'!N$9,'DATA TABLE'!$J$9:$AC$9,0)))-'SCORE TABLE'!$F19)/('SCORE TABLE'!$G19-'SCORE TABLE'!$F19))*100,0)","v":0},{"$f":"IFERROR((((INDEX('DATA TABLE'!$J$13:$AC$66, MATCH('SCORE TABLE'!$B19,'DATA TABLE'!$B$13:$B$66,0),MATCH('SCORE TABLE'!O$9,'DATA TABLE'!$J$9:$AC$9,0)))-'SCORE TABLE'!$F19)/('SCORE TABLE'!$G19-'SCORE TABLE'!$F19))*100,0)","v":0},{"$f":"IFERROR((((INDEX('DATA TABLE'!$J$13:$AC$66, MATCH('SCORE TABLE'!$B19,'DATA TABLE'!$B$13:$B$66,0),MATCH('SCORE TABLE'!P$9,'DATA TABLE'!$J$9:$AC$9,0)))-'SCORE TABLE'!$F19)/('SCORE TABLE'!$G19-'SCORE TABLE'!$F19))*100,0)","v":33.333333333333329},{"$f":"IFERROR((((INDEX('DATA TABLE'!$J$13:$AC$66, MATCH('SCORE TABLE'!$B19,'DATA TABLE'!$B$13:$B$66,0),MATCH('SCORE TABLE'!Q$9,'DATA TABLE'!$J$9:$AC$9,0)))-'SCORE TABLE'!$F19)/('SCORE TABLE'!$G19-'SCORE TABLE'!$F19))*100,0)","v":0},{"$f":"IFERROR((((INDEX('DATA TABLE'!$J$13:$AC$66, MATCH('SCORE TABLE'!$B19,'DATA TABLE'!$B$13:$B$66,0),MATCH('SCORE TABLE'!R$9,'DATA TABLE'!$J$9:$AC$9,0)))-'SCORE TABLE'!$F19)/('SCORE TABLE'!$G19-'SCORE TABLE'!$F19))*100,0)","v":0},{"$f":"IFERROR((((INDEX('DATA TABLE'!$J$13:$AC$66, MATCH('SCORE TABLE'!$B19,'DATA TABLE'!$B$13:$B$66,0),MATCH('SCORE TABLE'!S$9,'DATA TABLE'!$J$9:$AC$9,0)))-'SCORE TABLE'!$F19)/('SCORE TABLE'!$G19-'SCORE TABLE'!$F19))*100,0)","v":33.333333333333329},{"$f":"IFERROR((((INDEX('DATA TABLE'!$J$13:$AC$66, MATCH('SCORE TABLE'!$B19,'DATA TABLE'!$B$13:$B$66,0),MATCH('SCORE TABLE'!T$9,'DATA TABLE'!$J$9:$AC$9,0)))-'SCORE TABLE'!$F19)/('SCORE TABLE'!$G19-'SCORE TABLE'!$F19))*100,0)","v":0},{"$f":"IFERROR((((INDEX('DATA TABLE'!$J$13:$AC$66, MATCH('SCORE TABLE'!$B19,'DATA TABLE'!$B$13:$B$66,0),MATCH('SCORE TABLE'!U$9,'DATA TABLE'!$J$9:$AC$9,0)))-'SCORE TABLE'!$F19)/('SCORE TABLE'!$G19-'SCORE TABLE'!$F19))*100,0)","v":0},{"$f":"IFERROR((((INDEX('DATA TABLE'!$J$13:$AC$66, MATCH('SCORE TABLE'!$B19,'DATA TABLE'!$B$13:$B$66,0),MATCH('SCORE TABLE'!V$9,'DATA TABLE'!$J$9:$AC$9,0)))-'SCORE TABLE'!$F19)/('SCORE TABLE'!$G19-'SCORE TABLE'!$F19))*100,0)","v":100},{"$f":"IFERROR((((INDEX('DATA TABLE'!$J$13:$AC$66, MATCH('SCORE TABLE'!$B19,'DATA TABLE'!$B$13:$B$66,0),MATCH('SCORE TABLE'!W$9,'DATA TABLE'!$J$9:$AC$9,0)))-'SCORE TABLE'!$F19)/('SCORE TABLE'!$G19-'SCORE TABLE'!$F19))*100,0)","v":100},{"$f":"IFERROR((((INDEX('DATA TABLE'!$J$13:$AC$66, MATCH('SCORE TABLE'!$B19,'DATA TABLE'!$B$13:$B$66,0),MATCH('SCORE TABLE'!X$9,'DATA TABLE'!$J$9:$AC$9,0)))-'SCORE TABLE'!$F19)/('SCORE TABLE'!$G19-'SCORE TABLE'!$F19))*100,0)","v":100},{"$f":"IFERROR((((INDEX('DATA TABLE'!$J$13:$AC$66, MATCH('SCORE TABLE'!$B19,'DATA TABLE'!$B$13:$B$66,0),MATCH('SCORE TABLE'!Y$9,'DATA TABLE'!$J$9:$AC$9,0)))-'SCORE TABLE'!$F19)/('SCORE TABLE'!$G19-'SCORE TABLE'!$F19))*100,0)","v":0},{"$f":"IFERROR((((INDEX('DATA TABLE'!$J$13:$AC$66, MATCH('SCORE TABLE'!$B19,'DATA TABLE'!$B$13:$B$66,0),MATCH('SCORE TABLE'!Z$9,'DATA TABLE'!$J$9:$AC$9,0)))-'SCORE TABLE'!$F19)/('SCORE TABLE'!$G19-'SCORE TABLE'!$F19))*100,0)","v":0},{"$f":"IFERROR((((INDEX('DATA TABLE'!$J$13:$AC$66, MATCH('SCORE TABLE'!$B19,'DATA TABLE'!$B$13:$B$66,0),MATCH('SCORE TABLE'!AA$9,'DATA TABLE'!$J$9:$AC$9,0)))-'SCORE TABLE'!$F19)/('SCORE TABLE'!$G19-'SCORE TABLE'!$F19))*100,0)","v":66.666666666666657}]
[1009,"1.1.3e","Targets for obesity prevalence reduction",0.125,6.2500000000000003E-3,0,2,{"$f":"IFERROR((((INDEX('DATA TABLE'!$J$13:$AC$66, MATCH('SCORE TABLE'!$B20,'DATA TABLE'!$B$13:$B$66,0),MATCH('SCORE TABLE'!H$9,'DATA TABLE'!$J$9:$AC$9,0)))-'SCORE TABLE'!$F20)/('SCORE TABLE'!$G20-'SCORE TABLE'!$F20))*100,0)","v":50},{"$f":"IFERROR((((INDEX('DATA TABLE'!$J$13:$AC$66, MATCH('SCORE TABLE'!$B20,'DATA TABLE'!$B$13:$B$66,0),MATCH('SCORE TABLE'!I$9,'DATA TABLE'!$J$9:$AC$9,0)))-'SCORE TABLE'!$F20)/('SCORE TABLE'!$G20-'SCORE TABLE'!$F20))*100,0)","v":0},{"$f":"IFERROR((((INDEX('DATA TABLE'!$J$13:$AC$66, MATCH('SCORE TABLE'!$B20,'DATA TABLE'!$B$13:$B$66,0),MATCH('SCORE TABLE'!J$9,'DATA TABLE'!$J$9:$AC$9,0)))-'SCORE TABLE'!$F20)/('SCORE TABLE'!$G20-'SCORE TABLE'!$F20))*100,0)","v":0},{"$f":"IFERROR((((INDEX('DATA TABLE'!$J$13:$AC$66, MATCH('SCORE TABLE'!$B20,'DATA TABLE'!$B$13:$B$66,0),MATCH('SCORE TABLE'!K$9,'DATA TABLE'!$J$9:$AC$9,0)))-'SCORE TABLE'!$F20)/('SCORE TABLE'!$G20-'SCORE TABLE'!$F20))*100,0)","v":0},{"$f":"IFERROR((((INDEX('DATA TABLE'!$J$13:$AC$66, MATCH('SCORE TABLE'!$B20,'DATA TABLE'!$B$13:$B$66,0),MATCH('SCORE TABLE'!L$9,'DATA TABLE'!$J$9:$AC$9,0)))-'SCORE TABLE'!$F20)/('SCORE TABLE'!$G20-'SCORE TABLE'!$F20))*100,0)","v":0},{"$f":"IFERROR((((INDEX('DATA TABLE'!$J$13:$AC$66, MATCH('SCORE TABLE'!$B20,'DATA TABLE'!$B$13:$B$66,0),MATCH('SCORE TABLE'!M$9,'DATA TABLE'!$J$9:$AC$9,0)))-'SCORE TABLE'!$F20)/('SCORE TABLE'!$G20-'SCORE TABLE'!$F20))*100,0)","v":0},{"$f":"IFERROR((((INDEX('DATA TABLE'!$J$13:$AC$66, MATCH('SCORE TABLE'!$B20,'DATA TABLE'!$B$13:$B$66,0),MATCH('SCORE TABLE'!N$9,'DATA TABLE'!$J$9:$AC$9,0)))-'SCORE TABLE'!$F20)/('SCORE TABLE'!$G20-'SCORE TABLE'!$F20))*100,0)","v":0},{"$f":"IFERROR((((INDEX('DATA TABLE'!$J$13:$AC$66, MATCH('SCORE TABLE'!$B20,'DATA TABLE'!$B$13:$B$66,0),MATCH('SCORE TABLE'!O$9,'DATA TABLE'!$J$9:$AC$9,0)))-'SCORE TABLE'!$F20)/('SCORE TABLE'!$G20-'SCORE TABLE'!$F20))*100,0)","v":0},{"$f":"IFERROR((((INDEX('DATA TABLE'!$J$13:$AC$66, MATCH('SCORE TABLE'!$B20,'DATA TABLE'!$B$13:$B$66,0),MATCH('SCORE TABLE'!P$9,'DATA TABLE'!$J$9:$AC$9,0)))-'SCORE TABLE'!$F20)/('SCORE TABLE'!$G20-'SCORE TABLE'!$F20))*100,0)","v":0},{"$f":"IFERROR((((INDEX('DATA TABLE'!$J$13:$AC$66, MATCH('SCORE TABLE'!$B20,'DATA TABLE'!$B$13:$B$66,0),MATCH('SCORE TABLE'!Q$9,'DATA TABLE'!$J$9:$AC$9,0)))-'SCORE TABLE'!$F20)/('SCORE TABLE'!$G20-'SCORE TABLE'!$F20))*100,0)","v":0},{"$f":"IFERROR((((INDEX('DATA TABLE'!$J$13:$AC$66, MATCH('SCORE TABLE'!$B20,'DATA TABLE'!$B$13:$B$66,0),MATCH('SCORE TABLE'!R$9,'DATA TABLE'!$J$9:$AC$9,0)))-'SCORE TABLE'!$F20)/('SCORE TABLE'!$G20-'SCORE TABLE'!$F20))*100,0)","v":0},{"$f":"IFERROR((((INDEX('DATA TABLE'!$J$13:$AC$66, MATCH('SCORE TABLE'!$B20,'DATA TABLE'!$B$13:$B$66,0),MATCH('SCORE TABLE'!S$9,'DATA TABLE'!$J$9:$AC$9,0)))-'SCORE TABLE'!$F20)/('SCORE TABLE'!$G20-'SCORE TABLE'!$F20))*100,0)","v":100},{"$f":"IFERROR((((INDEX('DATA TABLE'!$J$13:$AC$66, MATCH('SCORE TABLE'!$B20,'DATA TABLE'!$B$13:$B$66,0),MATCH('SCORE TABLE'!T$9,'DATA TABLE'!$J$9:$AC$9,0)))-'SCORE TABLE'!$F20)/('SCORE TABLE'!$G20-'SCORE TABLE'!$F20))*100,0)","v":50},{"$f":"IFERROR((((INDEX('DATA TABLE'!$J$13:$AC$66, MATCH('SCORE TABLE'!$B20,'DATA TABLE'!$B$13:$B$66,0),MATCH('SCORE TABLE'!U$9,'DATA TABLE'!$J$9:$AC$9,0)))-'SCORE TABLE'!$F20)/('SCORE TABLE'!$G20-'SCORE TABLE'!$F20))*100,0)","v":50},{"$f":"IFERROR((((INDEX('DATA TABLE'!$J$13:$AC$66, MATCH('SCORE TABLE'!$B20,'DATA TABLE'!$B$13:$B$66,0),MATCH('SCORE TABLE'!V$9,'DATA TABLE'!$J$9:$AC$9,0)))-'SCORE TABLE'!$F20)/('SCORE TABLE'!$G20-'SCORE TABLE'!$F20))*100,0)","v":50},{"$f":"IFERROR((((INDEX('DATA TABLE'!$J$13:$AC$66, MATCH('SCORE TABLE'!$B20,'DATA TABLE'!$B$13:$B$66,0),MATCH('SCORE TABLE'!W$9,'DATA TABLE'!$J$9:$AC$9,0)))-'SCORE TABLE'!$F20)/('SCORE TABLE'!$G20-'SCORE TABLE'!$F20))*100,0)","v":0},{"$f":"IFERROR((((INDEX('DATA TABLE'!$J$13:$AC$66, MATCH('SCORE TABLE'!$B20,'DATA TABLE'!$B$13:$B$66,0),MATCH('SCORE TABLE'!X$9,'DATA TABLE'!$J$9:$AC$9,0)))-'SCORE TABLE'!$F20)/('SCORE TABLE'!$G20-'SCORE TABLE'!$F20))*100,0)","v":50},{"$f":"IFERROR((((INDEX('DATA TABLE'!$J$13:$AC$66, MATCH('SCORE TABLE'!$B20,'DATA TABLE'!$B$13:$B$66,0),MATCH('SCORE TABLE'!Y$9,'DATA TABLE'!$J$9:$AC$9,0)))-'SCORE TABLE'!$F20)/('SCORE TABLE'!$G20-'SCORE TABLE'!$F20))*100,0)","v":0},{"$f":"IFERROR((((INDEX('DATA TABLE'!$J$13:$AC$66, MATCH('SCORE TABLE'!$B20,'DATA TABLE'!$B$13:$B$66,0),MATCH('SCORE TABLE'!Z$9,'DATA TABLE'!$J$9:$AC$9,0)))-'SCORE TABLE'!$F20)/('SCORE TABLE'!$G20-'SCORE TABLE'!$F20))*100,0)","v":0},{"$f":"IFERROR((((INDEX('DATA TABLE'!$J$13:$AC$66, MATCH('SCORE TABLE'!$B20,'DATA TABLE'!$B$13:$B$66,0),MATCH('SCORE TABLE'!AA$9,'DATA TABLE'!$J$9:$AC$9,0)))-'SCORE TABLE'!$F20)/('SCORE TABLE'!$G20-'SCORE TABLE'!$F20))*100,0)","v":0}]
[1010,"1.1.3f","Focus on vulnerable groups",0.125,6.2500000000000003E-3,0,2,{"$f":"IFERROR((((INDEX('DATA TABLE'!$J$13:$AC$66, MATCH('SCORE TABLE'!$B21,'DATA TABLE'!$B$13:$B$66,0),MATCH('SCORE TABLE'!H$9,'DATA TABLE'!$J$9:$AC$9,0)))-'SCORE TABLE'!$F21)/('SCORE TABLE'!$G21-'SCORE TABLE'!$F21))*100,0)","v":100},{"$f":"IFERROR((((INDEX('DATA TABLE'!$J$13:$AC$66, MATCH('SCORE TABLE'!$B21,'DATA TABLE'!$B$13:$B$66,0),MATCH('SCORE TABLE'!I$9,'DATA TABLE'!$J$9:$AC$9,0)))-'SCORE TABLE'!$F21)/('SCORE TABLE'!$G21-'SCORE TABLE'!$F21))*100,0)","v":50},{"$f":"IFERROR((((INDEX('DATA TABLE'!$J$13:$AC$66, MATCH('SCORE TABLE'!$B21,'DATA TABLE'!$B$13:$B$66,0),MATCH('SCORE TABLE'!J$9,'DATA TABLE'!$J$9:$AC$9,0)))-'SCORE TABLE'!$F21)/('SCORE TABLE'!$G21-'SCORE TABLE'!$F21))*100,0)","v":0},{"$f":"IFERROR((((INDEX('DATA TABLE'!$J$13:$AC$66, MATCH('SCORE TABLE'!$B21,'DATA TABLE'!$B$13:$B$66,0),MATCH('SCORE TABLE'!K$9,'DATA TABLE'!$J$9:$AC$9,0)))-'SCORE TABLE'!$F21)/('SCORE TABLE'!$G21-'SCORE TABLE'!$F21))*100,0)","v":100},{"$f":"IFERROR((((INDEX('DATA TABLE'!$J$13:$AC$66, MATCH('SCORE TABLE'!$B21,'DATA TABLE'!$B$13:$B$66,0),MATCH('SCORE TABLE'!L$9,'DATA TABLE'!$J$9:$AC$9,0)))-'SCORE TABLE'!$F21)/('SCORE TABLE'!$G21-'SCORE TABLE'!$F21))*100,0)","v":0},{"$f":"IFERROR((((INDEX('DATA TABLE'!$J$13:$AC$66, MATCH('SCORE TABLE'!$B21,'DATA TABLE'!$B$13:$B$66,0),MATCH('SCORE TABLE'!M$9,'DATA TABLE'!$J$9:$AC$9,0)))-'SCORE TABLE'!$F21)/('SCORE TABLE'!$G21-'SCORE TABLE'!$F21))*100,0)","v":0},{"$f":"IFERROR((((INDEX('DATA TABLE'!$J$13:$AC$66, MATCH('SCORE TABLE'!$B21,'DATA TABLE'!$B$13:$B$66,0),MATCH('SCORE TABLE'!N$9,'DATA TABLE'!$J$9:$AC$9,0)))-'SCORE TABLE'!$F21)/('SCORE TABLE'!$G21-'SCORE TABLE'!$F21))*100,0)","v":100},{"$f":"IFERROR((((INDEX('DATA TABLE'!$J$13:$AC$66, MATCH('SCORE TABLE'!$B21,'DATA TABLE'!$B$13:$B$66,0),MATCH('SCORE TABLE'!O$9,'DATA TABLE'!$J$9:$AC$9,0)))-'SCORE TABLE'!$F21)/('SCORE TABLE'!$G21-'SCORE TABLE'!$F21))*100,0)","v":50},{"$f":"IFERROR((((INDEX('DATA TABLE'!$J$13:$AC$66, MATCH('SCORE TABLE'!$B21,'DATA TABLE'!$B$13:$B$66,0),MATCH('SCORE TABLE'!P$9,'DATA TABLE'!$J$9:$AC$9,0)))-'SCORE TABLE'!$F21)/('SCORE TABLE'!$G21-'SCORE TABLE'!$F21))*100,0)","v":100},{"$f":"IFERROR((((INDEX('DATA TABLE'!$J$13:$AC$66, MATCH('SCORE TABLE'!$B21,'DATA TABLE'!$B$13:$B$66,0),MATCH('SCORE TABLE'!Q$9,'DATA TABLE'!$J$9:$AC$9,0)))-'SCORE TABLE'!$F21)/('SCORE TABLE'!$G21-'SCORE TABLE'!$F21))*100,0)","v":0},{"$f":"IFERROR((((INDEX('DATA TABLE'!$J$13:$AC$66, MATCH('SCORE TABLE'!$B21,'DATA TABLE'!$B$13:$B$66,0),MATCH('SCORE TABLE'!R$9,'DATA TABLE'!$J$9:$AC$9,0)))-'SCORE TABLE'!$F21)/('SCORE TABLE'!$G21-'SCORE TABLE'!$F21))*100,0)","v":0},{"$f":"IFERROR((((INDEX('DATA TABLE'!$J$13:$AC$66, MATCH('SCORE TABLE'!$B21,'DATA TABLE'!$B$13:$B$66,0),MATCH('SCORE TABLE'!S$9,'DATA TABLE'!$J$9:$AC$9,0)))-'SCORE TABLE'!$F21)/('SCORE TABLE'!$G21-'SCORE TABLE'!$F21))*100,0)","v":0},{"$f":"IFERROR((((INDEX('DATA TABLE'!$J$13:$AC$66, MATCH('SCORE TABLE'!$B21,'DATA TABLE'!$B$13:$B$66,0),MATCH('SCORE TABLE'!T$9,'DATA TABLE'!$J$9:$AC$9,0)))-'SCORE TABLE'!$F21)/('SCORE TABLE'!$G21-'SCORE TABLE'!$F21))*100,0)","v":50},{"$f":"IFERROR((((INDEX('DATA TABLE'!$J$13:$AC$66, MATCH('SCORE TABLE'!$B21,'DATA TABLE'!$B$13:$B$66,0),MATCH('SCORE TABLE'!U$9,'DATA TABLE'!$J$9:$AC$9,0)))-'SCORE TABLE'!$F21)/('SCORE TABLE'!$G21-'SCORE TABLE'!$F21))*100,0)","v":100},{"$f":"IFERROR((((INDEX('DATA TABLE'!$J$13:$AC$66, MATCH('SCORE TABLE'!$B21,'DATA TABLE'!$B$13:$B$66,0),MATCH('SCORE TABLE'!V$9,'DATA TABLE'!$J$9:$AC$9,0)))-'SCORE TABLE'!$F21)/('SCORE TABLE'!$G21-'SCORE TABLE'!$F21))*100,0)","v":100},{"$f":"IFERROR((((INDEX('DATA TABLE'!$J$13:$AC$66, MATCH('SCORE TABLE'!$B21,'DATA TABLE'!$B$13:$B$66,0),MATCH('SCORE TABLE'!W$9,'DATA TABLE'!$J$9:$AC$9,0)))-'SCORE TABLE'!$F21)/('SCORE TABLE'!$G21-'SCORE TABLE'!$F21))*100,0)","v":0},{"$f":"IFERROR((((INDEX('DATA TABLE'!$J$13:$AC$66, MATCH('SCORE TABLE'!$B21,'DATA TABLE'!$B$13:$B$66,0),MATCH('SCORE TABLE'!X$9,'DATA TABLE'!$J$9:$AC$9,0)))-'SCORE TABLE'!$F21)/('SCORE TABLE'!$G21-'SCORE TABLE'!$F21))*100,0)","v":100},{"$f":"IFERROR((((INDEX('DATA TABLE'!$J$13:$AC$66, MATCH('SCORE TABLE'!$B21,'DATA TABLE'!$B$13:$B$66,0),MATCH('SCORE TABLE'!Y$9,'DATA TABLE'!$J$9:$AC$9,0)))-'SCORE TABLE'!$F21)/('SCORE TABLE'!$G21-'SCORE TABLE'!$F21))*100,0)","v":0},{"$f":"IFERROR((((INDEX('DATA TABLE'!$J$13:$AC$66, MATCH('SCORE TABLE'!$B21,'DATA TABLE'!$B$13:$B$66,0),MATCH('SCORE TABLE'!Z$9,'DATA TABLE'!$J$9:$AC$9,0)))-'SCORE TABLE'!$F21)/('SCORE TABLE'!$G21-'SCORE TABLE'!$F21))*100,0)","v":0},{"$f":"IFERROR((((INDEX('DATA TABLE'!$J$13:$AC$66, MATCH('SCORE TABLE'!$B21,'DATA TABLE'!$B$13:$B$66,0),MATCH('SCORE TABLE'!AA$9,'DATA TABLE'!$J$9:$AC$9,0)))-'SCORE TABLE'!$F21)/('SCORE TABLE'!$G21-'SCORE TABLE'!$F21))*100,0)","v":100}]
[1011,"1.1.3g","Obesity-related stigma and discrimination",0.125,6.2500000000000003E-3,0,2,{"$f":"IFERROR((((INDEX('DATA TABLE'!$J$13:$AC$66, MATCH('SCORE TABLE'!$B22,'DATA TABLE'!$B$13:$B$66,0),MATCH('SCORE TABLE'!H$9,'DATA TABLE'!$J$9:$AC$9,0)))-'SCORE TABLE'!$F22)/('SCORE TABLE'!$G22-'SCORE TABLE'!$F22))*100,0)","v":100},{"$f":"IFERROR((((INDEX('DATA TABLE'!$J$13:$AC$66, MATCH('SCORE TABLE'!$B22,'DATA TABLE'!$B$13:$B$66,0),MATCH('SCORE TABLE'!I$9,'DATA TABLE'!$J$9:$AC$9,0)))-'SCORE TABLE'!$F22)/('SCORE TABLE'!$G22-'SCORE TABLE'!$F22))*100,0)","v":100},{"$f":"IFERROR((((INDEX('DATA TABLE'!$J$13:$AC$66, MATCH('SCORE TABLE'!$B22,'DATA TABLE'!$B$13:$B$66,0),MATCH('SCORE TABLE'!J$9,'DATA TABLE'!$J$9:$AC$9,0)))-'SCORE TABLE'!$F22)/('SCORE TABLE'!$G22-'SCORE TABLE'!$F22))*100,0)","v":0},{"$f":"IFERROR((((INDEX('DATA TABLE'!$J$13:$AC$66, MATCH('SCORE TABLE'!$B22,'DATA TABLE'!$B$13:$B$66,0),MATCH('SCORE TABLE'!K$9,'DATA TABLE'!$J$9:$AC$9,0)))-'SCORE TABLE'!$F22)/('SCORE TABLE'!$G22-'SCORE TABLE'!$F22))*100,0)","v":0},{"$f":"IFERROR((((INDEX('DATA TABLE'!$J$13:$AC$66, MATCH('SCORE TABLE'!$B22,'DATA TABLE'!$B$13:$B$66,0),MATCH('SCORE TABLE'!L$9,'DATA TABLE'!$J$9:$AC$9,0)))-'SCORE TABLE'!$F22)/('SCORE TABLE'!$G22-'SCORE TABLE'!$F22))*100,0)","v":0},{"$f":"IFERROR((((INDEX('DATA TABLE'!$J$13:$AC$66, MATCH('SCORE TABLE'!$B22,'DATA TABLE'!$B$13:$B$66,0),MATCH('SCORE TABLE'!M$9,'DATA TABLE'!$J$9:$AC$9,0)))-'SCORE TABLE'!$F22)/('SCORE TABLE'!$G22-'SCORE TABLE'!$F22))*100,0)","v":0},{"$f":"IFERROR((((INDEX('DATA TABLE'!$J$13:$AC$66, MATCH('SCORE TABLE'!$B22,'DATA TABLE'!$B$13:$B$66,0),MATCH('SCORE TABLE'!N$9,'DATA TABLE'!$J$9:$AC$9,0)))-'SCORE TABLE'!$F22)/('SCORE TABLE'!$G22-'SCORE TABLE'!$F22))*100,0)","v":0},{"$f":"IFERROR((((INDEX('DATA TABLE'!$J$13:$AC$66, MATCH('SCORE TABLE'!$B22,'DATA TABLE'!$B$13:$B$66,0),MATCH('SCORE TABLE'!O$9,'DATA TABLE'!$J$9:$AC$9,0)))-'SCORE TABLE'!$F22)/('SCORE TABLE'!$G22-'SCORE TABLE'!$F22))*100,0)","v":0},{"$f":"IFERROR((((INDEX('DATA TABLE'!$J$13:$AC$66, MATCH('SCORE TABLE'!$B22,'DATA TABLE'!$B$13:$B$66,0),MATCH('SCORE TABLE'!P$9,'DATA TABLE'!$J$9:$AC$9,0)))-'SCORE TABLE'!$F22)/('SCORE TABLE'!$G22-'SCORE TABLE'!$F22))*100,0)","v":50},{"$f":"IFERROR((((INDEX('DATA TABLE'!$J$13:$AC$66, MATCH('SCORE TABLE'!$B22,'DATA TABLE'!$B$13:$B$66,0),MATCH('SCORE TABLE'!Q$9,'DATA TABLE'!$J$9:$AC$9,0)))-'SCORE TABLE'!$F22)/('SCORE TABLE'!$G22-'SCORE TABLE'!$F22))*100,0)","v":0},{"$f":"IFERROR((((INDEX('DATA TABLE'!$J$13:$AC$66, MATCH('SCORE TABLE'!$B22,'DATA TABLE'!$B$13:$B$66,0),MATCH('SCORE TABLE'!R$9,'DATA TABLE'!$J$9:$AC$9,0)))-'SCORE TABLE'!$F22)/('SCORE TABLE'!$G22-'SCORE TABLE'!$F22))*100,0)","v":0},{"$f":"IFERROR((((INDEX('DATA TABLE'!$J$13:$AC$66, MATCH('SCORE TABLE'!$B22,'DATA TABLE'!$B$13:$B$66,0),MATCH('SCORE TABLE'!S$9,'DATA TABLE'!$J$9:$AC$9,0)))-'SCORE TABLE'!$F22)/('SCORE TABLE'!$G22-'SCORE TABLE'!$F22))*100,0)","v":0},{"$f":"IFERROR((((INDEX('DATA TABLE'!$J$13:$AC$66, MATCH('SCORE TABLE'!$B22,'DATA TABLE'!$B$13:$B$66,0),MATCH('SCORE TABLE'!T$9,'DATA TABLE'!$J$9:$AC$9,0)))-'SCORE TABLE'!$F22)/('SCORE TABLE'!$G22-'SCORE TABLE'!$F22))*100,0)","v":0},{"$f":"IFERROR((((INDEX('DATA TABLE'!$J$13:$AC$66, MATCH('SCORE TABLE'!$B22,'DATA TABLE'!$B$13:$B$66,0),MATCH('SCORE TABLE'!U$9,'DATA TABLE'!$J$9:$AC$9,0)))-'SCORE TABLE'!$F22)/('SCORE TABLE'!$G22-'SCORE TABLE'!$F22))*100,0)","v":0},{"$f":"IFERROR((((INDEX('DATA TABLE'!$J$13:$AC$66, MATCH('SCORE TABLE'!$B22,'DATA TABLE'!$B$13:$B$66,0),MATCH('SCORE TABLE'!V$9,'DATA TABLE'!$J$9:$AC$9,0)))-'SCORE TABLE'!$F22)/('SCORE TABLE'!$G22-'SCORE TABLE'!$F22))*100,0)","v":50},{"$f":"IFERROR((((INDEX('DATA TABLE'!$J$13:$AC$66, MATCH('SCORE TABLE'!$B22,'DATA TABLE'!$B$13:$B$66,0),MATCH('SCORE TABLE'!W$9,'DATA TABLE'!$J$9:$AC$9,0)))-'SCORE TABLE'!$F22)/('SCORE TABLE'!$G22-'SCORE TABLE'!$F22))*100,0)","v":50},{"$f":"IFERROR((((INDEX('DATA TABLE'!$J$13:$AC$66, MATCH('SCORE TABLE'!$B22,'DATA TABLE'!$B$13:$B$66,0),MATCH('SCORE TABLE'!X$9,'DATA TABLE'!$J$9:$AC$9,0)))-'SCORE TABLE'!$F22)/('SCORE TABLE'!$G22-'SCORE TABLE'!$F22))*100,0)","v":0},{"$f":"IFERROR((((INDEX('DATA TABLE'!$J$13:$AC$66, MATCH('SCORE TABLE'!$B22,'DATA TABLE'!$B$13:$B$66,0),MATCH('SCORE TABLE'!Y$9,'DATA TABLE'!$J$9:$AC$9,0)))-'SCORE TABLE'!$F22)/('SCORE TABLE'!$G22-'SCORE TABLE'!$F22))*100,0)","v":0},{"$f":"IFERROR((((INDEX('DATA TABLE'!$J$13:$AC$66, MATCH('SCORE TABLE'!$B22,'DATA TABLE'!$B$13:$B$66,0),MATCH('SCORE TABLE'!Z$9,'DATA TABLE'!$J$9:$AC$9,0)))-'SCORE TABLE'!$F22)/('SCORE TABLE'!$G22-'SCORE TABLE'!$F22))*100,0)","v":0},{"$f":"IFERROR((((INDEX('DATA TABLE'!$J$13:$AC$66, MATCH('SCORE TABLE'!$B22,'DATA TABLE'!$B$13:$B$66,0),MATCH('SCORE TABLE'!AA$9,'DATA TABLE'!$J$9:$AC$9,0)))-'SCORE TABLE'!$F22)/('SCORE TABLE'!$G22-'SCORE TABLE'!$F22))*100,0)","v":0}]
[1012,"1.1.4","Obesity-related funding",{"$f":"1/5","v":0.2},{"$f":"$E$12/5","v":0.05},0,1,{"$f":"IFERROR((((INDEX('DATA TABLE'!$J$13:$AC$66, MATCH('SCORE TABLE'!$B23,'DATA TABLE'!$B$13:$B$66,0),MATCH('SCORE TABLE'!H$9,'DATA TABLE'!$J$9:$AC$9,0)))-'SCORE TABLE'!$F23)/('SCORE TABLE'!$G23-'SCORE TABLE'!$F23))*100,0)","v":0},{"$f":"IFERROR((((INDEX('DATA TABLE'!$J$13:$AC$66, MATCH('SCORE TABLE'!$B23,'DATA TABLE'!$B$13:$B$66,0),MATCH('SCORE TABLE'!I$9,'DATA TABLE'!$J$9:$AC$9,0)))-'SCORE TABLE'!$F23)/('SCORE TABLE'!$G23-'SCORE TABLE'!$F23))*100,0)","v":0},{"$f":"IFERROR((((INDEX('DATA TABLE'!$J$13:$AC$66, MATCH('SCORE TABLE'!$B23,'DATA TABLE'!$B$13:$B$66,0),MATCH('SCORE TABLE'!J$9,'DATA TABLE'!$J$9:$AC$9,0)))-'SCORE TABLE'!$F23)/('SCORE TABLE'!$G23-'SCORE TABLE'!$F23))*100,0)","v":0},{"$f":"IFERROR((((INDEX('DATA TABLE'!$J$13:$AC$66, MATCH('SCORE TABLE'!$B23,'DATA TABLE'!$B$13:$B$66,0),MATCH('SCORE TABLE'!K$9,'DATA TABLE'!$J$9:$AC$9,0)))-'SCORE TABLE'!$F23)/('SCORE TABLE'!$G23-'SCORE TABLE'!$F23))*100,0)","v":0},{"$f":"IFERROR((((INDEX('DATA TABLE'!$J$13:$AC$66, MATCH('SCORE TABLE'!$B23,'DATA TABLE'!$B$13:$B$66,0),MATCH('SCORE TABLE'!L$9,'DATA TABLE'!$J$9:$AC$9,0)))-'SCORE TABLE'!$F23)/('SCORE TABLE'!$G23-'SCORE TABLE'!$F23))*100,0)","v":0},{"$f":"IFERROR((((INDEX('DATA TABLE'!$J$13:$AC$66, MATCH('SCORE TABLE'!$B23,'DATA TABLE'!$B$13:$B$66,0),MATCH('SCORE TABLE'!M$9,'DATA TABLE'!$J$9:$AC$9,0)))-'SCORE TABLE'!$F23)/('SCORE TABLE'!$G23-'SCORE TABLE'!$F23))*100,0)","v":0},{"$f":"IFERROR((((INDEX('DATA TABLE'!$J$13:$AC$66, MATCH('SCORE TABLE'!$B23,'DATA TABLE'!$B$13:$B$66,0),MATCH('SCORE TABLE'!N$9,'DATA TABLE'!$J$9:$AC$9,0)))-'SCORE TABLE'!$F23)/('SCORE TABLE'!$G23-'SCORE TABLE'!$F23))*100,0)","v":100},{"$f":"IFERROR((((INDEX('DATA TABLE'!$J$13:$AC$66, MATCH('SCORE TABLE'!$B23,'DATA TABLE'!$B$13:$B$66,0),MATCH('SCORE TABLE'!O$9,'DATA TABLE'!$J$9:$AC$9,0)))-'SCORE TABLE'!$F23)/('SCORE TABLE'!$G23-'SCORE TABLE'!$F23))*100,0)","v":0},{"$f":"IFERROR((((INDEX('DATA TABLE'!$J$13:$AC$66, MATCH('SCORE TABLE'!$B23,'DATA TABLE'!$B$13:$B$66,0),MATCH('SCORE TABLE'!P$9,'DATA TABLE'!$J$9:$AC$9,0)))-'SCORE TABLE'!$F23)/('SCORE TABLE'!$G23-'SCORE TABLE'!$F23))*100,0)","v":0},{"$f":"IFERROR((((INDEX('DATA TABLE'!$J$13:$AC$66, MATCH('SCORE TABLE'!$B23,'DATA TABLE'!$B$13:$B$66,0),MATCH('SCORE TABLE'!Q$9,'DATA TABLE'!$J$9:$AC$9,0)))-'SCORE TABLE'!$F23)/('SCORE TABLE'!$G23-'SCORE TABLE'!$F23))*100,0)","v":0},{"$f":"IFERROR((((INDEX('DATA TABLE'!$J$13:$AC$66, MATCH('SCORE TABLE'!$B23,'DATA TABLE'!$B$13:$B$66,0),MATCH('SCORE TABLE'!R$9,'DATA TABLE'!$J$9:$AC$9,0)))-'SCORE TABLE'!$F23)/('SCORE TABLE'!$G23-'SCORE TABLE'!$F23))*100,0)","v":0},{"$f":"IFERROR((((INDEX('DATA TABLE'!$J$13:$AC$66, MATCH('SCORE TABLE'!$B23,'DATA TABLE'!$B$13:$B$66,0),MATCH('SCORE TABLE'!S$9,'DATA TABLE'!$J$9:$AC$9,0)))-'SCORE TABLE'!$F23)/('SCORE TABLE'!$G23-'SCORE TABLE'!$F23))*100,0)","v":0},{"$f":"IFERROR((((INDEX('DATA TABLE'!$J$13:$AC$66, MATCH('SCORE TABLE'!$B23,'DATA TABLE'!$B$13:$B$66,0),MATCH('SCORE TABLE'!T$9,'DATA TABLE'!$J$9:$AC$9,0)))-'SCORE TABLE'!$F23)/('SCORE TABLE'!$G23-'SCORE TABLE'!$F23))*100,0)","v":0},{"$f":"IFERROR((((INDEX('DATA TABLE'!$J$13:$AC$66, MATCH('SCORE TABLE'!$B23,'DATA TABLE'!$B$13:$B$66,0),MATCH('SCORE TABLE'!U$9,'DATA TABLE'!$J$9:$AC$9,0)))-'SCORE TABLE'!$F23)/('SCORE TABLE'!$G23-'SCORE TABLE'!$F23))*100,0)","v":0},{"$f":"IFERROR((((INDEX('DATA TABLE'!$J$13:$AC$66, MATCH('SCORE TABLE'!$B23,'DATA TABLE'!$B$13:$B$66,0),MATCH('SCORE TABLE'!V$9,'DATA TABLE'!$J$9:$AC$9,0)))-'SCORE TABLE'!$F23)/('SCORE TABLE'!$G23-'SCORE TABLE'!$F23))*100,0)","v":100},{"$f":"IFERROR((((INDEX('DATA TABLE'!$J$13:$AC$66, MATCH('SCORE TABLE'!$B23,'DATA TABLE'!$B$13:$B$66,0),MATCH('SCORE TABLE'!W$9,'DATA TABLE'!$J$9:$AC$9,0)))-'SCORE TABLE'!$F23)/('SCORE TABLE'!$G23-'SCORE TABLE'!$F23))*100,0)","v":100},{"$f":"IFERROR((((INDEX('DATA TABLE'!$J$13:$AC$66, MATCH('SCORE TABLE'!$B23,'DATA TABLE'!$B$13:$B$66,0),MATCH('SCORE TABLE'!X$9,'DATA TABLE'!$J$9:$AC$9,0)))-'SCORE TABLE'!$F23)/('SCORE TABLE'!$G23-'SCORE TABLE'!$F23))*100,0)","v":0},{"$f":"IFERROR((((INDEX('DATA TABLE'!$J$13:$AC$66, MATCH('SCORE TABLE'!$B23,'DATA TABLE'!$B$13:$B$66,0),MATCH('SCORE TABLE'!Y$9,'DATA TABLE'!$J$9:$AC$9,0)))-'SCORE TABLE'!$F23)/('SCORE TABLE'!$G23-'SCORE TABLE'!$F23))*100,0)","v":0},{"$f":"IFERROR((((INDEX('DATA TABLE'!$J$13:$AC$66, MATCH('SCORE TABLE'!$B23,'DATA TABLE'!$B$13:$B$66,0),MATCH('SCORE TABLE'!Z$9,'DATA TABLE'!$J$9:$AC$9,0)))-'SCORE TABLE'!$F23)/('SCORE TABLE'!$G23-'SCORE TABLE'!$F23))*100,0)","v":0},{"$f":"IFERROR((((INDEX('DATA TABLE'!$J$13:$AC$66, MATCH('SCORE TABLE'!$B23,'DATA TABLE'!$B$13:$B$66,0),MATCH('SCORE TABLE'!AA$9,'DATA TABLE'!$J$9:$AC$9,0)))-'SCORE TABLE'!$F23)/('SCORE TABLE'!$G23-'SCORE TABLE'!$F23))*100,0)","v":0}]
[1013,"1.1.5","Weight-related discrimination",{"$f":"1/5","v":0.2},{"$f":"$E$12/5","v":0.05},0,1,{"$f":"IFERROR((((INDEX('DATA TABLE'!$J$13:$AC$66, MATCH('SCORE TABLE'!$B24,'DATA TABLE'!$B$13:$B$66,0),MATCH('SCORE TABLE'!H$9,'DATA TABLE'!$J$9:$AC$9,0)))-'SCORE TABLE'!$F24)/('SCORE TABLE'!$G24-'SCORE TABLE'!$F24))*100,0)","v":0},{"$f":"IFERROR((((INDEX('DATA TABLE'!$J$13:$AC$66, MATCH('SCORE TABLE'!$B24,'DATA TABLE'!$B$13:$B$66,0),MATCH('SCORE TABLE'!I$9,'DATA TABLE'!$J$9:$AC$9,0)))-'SCORE TABLE'!$F24)/('SCORE TABLE'!$G24-'SCORE TABLE'!$F24))*100,0)","v":0},{"$f":"IFERROR((((INDEX('DATA TABLE'!$J$13:$AC$66, MATCH('SCORE TABLE'!$B24,'DATA TABLE'!$B$13:$B$66,0),MATCH('SCORE TABLE'!J$9,'DATA TABLE'!$J$9:$AC$9,0)))-'SCORE TABLE'!$F24)/('SCORE TABLE'!$G24-'SCORE TABLE'!$F24))*100,0)","v":0},{"$f":"IFERROR((((INDEX('DATA TABLE'!$J$13:$AC$66, MATCH('SCORE TABLE'!$B24,'DATA TABLE'!$B$13:$B$66,0),MATCH('SCORE TABLE'!K$9,'DATA TABLE'!$J$9:$AC$9,0)))-'SCORE TABLE'!$F24)/('SCORE TABLE'!$G24-'SCORE TABLE'!$F24))*100,0)","v":0},{"$f":"IFERROR((((INDEX('DATA TABLE'!$J$13:$AC$66, MATCH('SCORE TABLE'!$B24,'DATA TABLE'!$B$13:$B$66,0),MATCH('SCORE TABLE'!L$9,'DATA TABLE'!$J$9:$AC$9,0)))-'SCORE TABLE'!$F24)/('SCORE TABLE'!$G24-'SCORE TABLE'!$F24))*100,0)","v":100},{"$f":"IFERROR((((INDEX('DATA TABLE'!$J$13:$AC$66, MATCH('SCORE TABLE'!$B24,'DATA TABLE'!$B$13:$B$66,0),MATCH('SCORE TABLE'!M$9,'DATA TABLE'!$J$9:$AC$9,0)))-'SCORE TABLE'!$F24)/('SCORE TABLE'!$G24-'SCORE TABLE'!$F24))*100,0)","v":100},{"$f":"IFERROR((((INDEX('DATA TABLE'!$J$13:$AC$66, MATCH('SCORE TABLE'!$B24,'DATA TABLE'!$B$13:$B$66,0),MATCH('SCORE TABLE'!N$9,'DATA TABLE'!$J$9:$AC$9,0)))-'SCORE TABLE'!$F24)/('SCORE TABLE'!$G24-'SCORE TABLE'!$F24))*100,0)","v":100},{"$f":"IFERROR((((INDEX('DATA TABLE'!$J$13:$AC$66, MATCH('SCORE TABLE'!$B24,'DATA TABLE'!$B$13:$B$66,0),MATCH('SCORE TABLE'!O$9,'DATA TABLE'!$J$9:$AC$9,0)))-'SCORE TABLE'!$F24)/('SCORE TABLE'!$G24-'SCORE TABLE'!$F24))*100,0)","v":0},{"$f":"IFERROR((((INDEX('DATA TABLE'!$J$13:$AC$66, MATCH('SCORE TABLE'!$B24,'DATA TABLE'!$B$13:$B$66,0),MATCH('SCORE TABLE'!P$9,'DATA TABLE'!$J$9:$AC$9,0)))-'SCORE TABLE'!$F24)/('SCORE TABLE'!$G24-'SCORE TABLE'!$F24))*100,0)","v":0},{"$f":"IFERROR((((INDEX('DATA TABLE'!$J$13:$AC$66, MATCH('SCORE TABLE'!$B24,'DATA TABLE'!$B$13:$B$66,0),MATCH('SCORE TABLE'!Q$9,'DATA TABLE'!$J$9:$AC$9,0)))-'SCORE TABLE'!$F24)/('SCORE TABLE'!$G24-'SCORE TABLE'!$F24))*100,0)","v":0},{"$f":"IFERROR((((INDEX('DATA TABLE'!$J$13:$AC$66, MATCH('SCORE TABLE'!$B24,'DATA TABLE'!$B$13:$B$66,0),MATCH('SCORE TABLE'!R$9,'DATA TABLE'!$J$9:$AC$9,0)))-'SCORE TABLE'!$F24)/('SCORE TABLE'!$G24-'SCORE TABLE'!$F24))*100,0)","v":100},{"$f":"IFERROR((((INDEX('DATA TABLE'!$J$13:$AC$66, MATCH('SCORE TABLE'!$B24,'DATA TABLE'!$B$13:$B$66,0),MATCH('SCORE TABLE'!S$9,'DATA TABLE'!$J$9:$AC$9,0)))-'SCORE TABLE'!$F24)/('SCORE TABLE'!$G24-'SCORE TABLE'!$F24))*100,0)","v":0},{"$f":"IFERROR((((INDEX('DATA TABLE'!$J$13:$AC$66, MATCH('SCORE TABLE'!$B24,'DATA TABLE'!$B$13:$B$66,0),MATCH('SCORE TABLE'!T$9,'DATA TABLE'!$J$9:$AC$9,0)))-'SCORE TABLE'!$F24)/('SCORE TABLE'!$G24-'SCORE TABLE'!$F24))*100,0)","v":0},{"$f":"IFERROR((((INDEX('DATA TABLE'!$J$13:$AC$66, MATCH('SCORE TABLE'!$B24,'DATA TABLE'!$B$13:$B$66,0),MATCH('SCORE TABLE'!U$9,'DATA TABLE'!$J$9:$AC$9,0)))-'SCORE TABLE'!$F24)/('SCORE TABLE'!$G24-'SCORE TABLE'!$F24))*100,0)","v":0},{"$f":"IFERROR((((INDEX('DATA TABLE'!$J$13:$AC$66, MATCH('SCORE TABLE'!$B24,'DATA TABLE'!$B$13:$B$66,0),MATCH('SCORE TABLE'!V$9,'DATA TABLE'!$J$9:$AC$9,0)))-'SCORE TABLE'!$F24)/('SCORE TABLE'!$G24-'SCORE TABLE'!$F24))*100,0)","v":100},{"$f":"IFERROR((((INDEX('DATA TABLE'!$J$13:$AC$66, MATCH('SCORE TABLE'!$B24,'DATA TABLE'!$B$13:$B$66,0),MATCH('SCORE TABLE'!W$9,'DATA TABLE'!$J$9:$AC$9,0)))-'SCORE TABLE'!$F24)/('SCORE TABLE'!$G24-'SCORE TABLE'!$F24))*100,0)","v":0},{"$f":"IFERROR((((INDEX('DATA TABLE'!$J$13:$AC$66, MATCH('SCORE TABLE'!$B24,'DATA TABLE'!$B$13:$B$66,0),MATCH('SCORE TABLE'!X$9,'DATA TABLE'!$J$9:$AC$9,0)))-'SCORE TABLE'!$F24)/('SCORE TABLE'!$G24-'SCORE TABLE'!$F24))*100,0)","v":0},{"$f":"IFERROR((((INDEX('DATA TABLE'!$J$13:$AC$66, MATCH('SCORE TABLE'!$B24,'DATA TABLE'!$B$13:$B$66,0),MATCH('SCORE TABLE'!Y$9,'DATA TABLE'!$J$9:$AC$9,0)))-'SCORE TABLE'!$F24)/('SCORE TABLE'!$G24-'SCORE TABLE'!$F24))*100,0)","v":100},{"$f":"IFERROR((((INDEX('DATA TABLE'!$J$13:$AC$66, MATCH('SCORE TABLE'!$B24,'DATA TABLE'!$B$13:$B$66,0),MATCH('SCORE TABLE'!Z$9,'DATA TABLE'!$J$9:$AC$9,0)))-'SCORE TABLE'!$F24)/('SCORE TABLE'!$G24-'SCORE TABLE'!$F24))*100,0)","v":0},{"$f":"IFERROR((((INDEX('DATA TABLE'!$J$13:$AC$66, MATCH('SCORE TABLE'!$B24,'DATA TABLE'!$B$13:$B$66,0),MATCH('SCORE TABLE'!AA$9,'DATA TABLE'!$J$9:$AC$9,0)))-'SCORE TABLE'!$F24)/('SCORE TABLE'!$G24-'SCORE TABLE'!$F24))*100,0)","v":0}]
[1014,2,"Obesity management",{"$f":"0.25","v":0.25},{"$f":"0.25","v":0.25},null,null,{"$f":"ROUND(SUM($D26*H26,$D30*H30,$D33*H33),5)","v":75},{"$f":"ROUND(SUM($D26*I26,$D30*I30,$D33*I33),5)","v":91.666669999999996},{"$f":"ROUND(SUM($D26*J26,$D30*J30,$D33*J33),5)","v":50},61.111109999999996,91.666669999999996,86.111109999999996,77.777780000000007,25,69.44444,77.777780000000007,61.111109999999996,0,47.22222,69.44444,86.111109999999996,8.3333300000000001,77.777780000000007,30.55556,91.666669999999996,100]
[1015,2.1,"Obesity management guidelines",{"$f":"1/3","v":0.33333333333333331},{"$f":"$E$25*D26","v":8.3333333333333329E-2},null,null,{"$f":"ROUND(SUMPRODUCT($D27:$D29,H27:H29),5)","v":100},{"$f":"ROUND(SUMPRODUCT($D27:$D29,I27:I29),5)","v":100},{"$f":"ROUND(SUMPRODUCT($D27:$D29,J27:J29),5)","v":100},83.333330000000004,100,83.333330000000004,83.333330000000004,0,83.333330000000004,83.333330000000004,83.333330000000004,0,66.666669999999996,83.333330000000004,83.333330000000004,0,83.333330000000004,16.66667,100,100]
[1016,"2.1.1","Existence of obesity management guidelines",{"$f":"1/3","v":0.33333333333333331},{"$f":"$E$26*D27","v":2.7777777777777776E-2},0,2,{"$f":"IFERROR((((INDEX('DATA TABLE'!$J$13:$AC$66, MATCH('SCORE TABLE'!$B27,'DATA TABLE'!$B$13:$B$66,0),MATCH('SCORE TABLE'!H$9,'DATA TABLE'!$J$9:$AC$9,0)))-'SCORE TABLE'!$F27)/('SCORE TABLE'!$G27-'SCORE TABLE'!$F27))*100,0)","v":100},{"$f":"IFERROR((((INDEX('DATA TABLE'!$J$13:$AC$66, MATCH('SCORE TABLE'!$B27,'DATA TABLE'!$B$13:$B$66,0),MATCH('SCORE TABLE'!I$9,'DATA TABLE'!$J$9:$AC$9,0)))-'SCORE TABLE'!$F27)/('SCORE TABLE'!$G27-'SCORE TABLE'!$F27))*100,0)","v":100},{"$f":"IFERROR((((INDEX('DATA TABLE'!$J$13:$AC$66, MATCH('SCORE TABLE'!$B27,'DATA TABLE'!$B$13:$B$66,0),MATCH('SCORE TABLE'!J$9,'DATA TABLE'!$J$9:$AC$9,0)))-'SCORE TABLE'!$F27)/('SCORE TABLE'!$G27-'SCORE TABLE'!$F27))*100,0)","v":100},{"$f":"IFERROR((((INDEX('DATA TABLE'!$J$13:$AC$66, MATCH('SCORE TABLE'!$B27,'DATA TABLE'!$B$13:$B$66,0),MATCH('SCORE TABLE'!K$9,'DATA TABLE'!$J$9:$AC$9,0)))-'SCORE TABLE'!$F27)/('SCORE TABLE'!$G27-'SCORE TABLE'!$F27))*100,0)","v":100},{"$f":"IFERROR((((INDEX('DATA TABLE'!$J$13:$AC$66, MATCH('SCORE TABLE'!$B27,'DATA TABLE'!$B$13:$B$66,0),MATCH('SCORE TABLE'!L$9,'DATA TABLE'!$J$9:$AC$9,0)))-'SCORE TABLE'!$F27)/('SCORE TABLE'!$G27-'SCORE TABLE'!$F27))*100,0)","v":100},{"$f":"IFERROR((((INDEX('DATA TABLE'!$J$13:$AC$66, MATCH('SCORE TABLE'!$B27,'DATA TABLE'!$B$13:$B$66,0),MATCH('SCORE TABLE'!M$9,'DATA TABLE'!$J$9:$AC$9,0)))-'SCORE TABLE'!$F27)/('SCORE TABLE'!$G27-'SCORE TABLE'!$F27))*100,0)","v":100},{"$f":"IFERROR((((INDEX('DATA TABLE'!$J$13:$AC$66, MATCH('SCORE TABLE'!$B27,'DATA TABLE'!$B$13:$B$66,0),MATCH('SCORE TABLE'!N$9,'DATA TABLE'!$J$9:$AC$9,0)))-'SCORE TABLE'!$F27)/('SCORE TABLE'!$G27-'SCORE TABLE'!$F27))*100,0)","v":100},{"$f":"IFERROR((((INDEX('DATA TABLE'!$J$13:$AC$66, MATCH('SCORE TABLE'!$B27,'DATA TABLE'!$B$13:$B$66,0),MATCH('SCORE TABLE'!O$9,'DATA TABLE'!$J$9:$AC$9,0)))-'SCORE TABLE'!$F27)/('SCORE TABLE'!$G27-'SCORE TABLE'!$F27))*100,0)","v":0},{"$f":"IFERROR((((INDEX('DATA TABLE'!$J$13:$AC$66, MATCH('SCORE TABLE'!$B27,'DATA TABLE'!$B$13:$B$66,0),MATCH('SCORE TABLE'!P$9,'DATA TABLE'!$J$9:$AC$9,0)))-'SCORE TABLE'!$F27)/('SCORE TABLE'!$G27-'SCORE TABLE'!$F27))*100,0)","v":100},{"$f":"IFERROR((((INDEX('DATA TABLE'!$J$13:$AC$66, MATCH('SCORE TABLE'!$B27,'DATA TABLE'!$B$13:$B$66,0),MATCH('SCORE TABLE'!Q$9,'DATA TABLE'!$J$9:$AC$9,0)))-'SCORE TABLE'!$F27)/('SCORE TABLE'!$G27-'SCORE TABLE'!$F27))*100,0)","v":100},{"$f":"IFERROR((((INDEX('DATA TABLE'!$J$13:$AC$66, MATCH('SCORE TABLE'!$B27,'DATA TABLE'!$B$13:$B$66,0),MATCH('SCORE TABLE'!R$9,'DATA TABLE'!$J$9:$AC$9,0)))-'SCORE TABLE'!$F27)/('SCORE TABLE'!$G27-'SCORE TABLE'!$F27))*100,0)","v":100},{"$f":"IFERROR((((INDEX('DATA TABLE'!$J$13:$AC$66, MATCH('SCORE TABLE'!$B27,'DATA TABLE'!$B$13:$B$66,0),MATCH('SCORE TABLE'!S$9,'DATA TABLE'!$J$9:$AC$9,0)))-'SCORE TABLE'!$F27)/('SCORE TABLE'!$G27-'SCORE TABLE'!$F27))*100,0)","v":0},{"$f":"IFERROR((((INDEX('DATA TABLE'!$J$13:$AC$66, MATCH('SCORE TABLE'!$B27,'DATA TABLE'!$B$13:$B$66,0),MATCH('SCORE TABLE'!T$9,'DATA TABLE'!$J$9:$AC$9,0)))-'SCORE TABLE'!$F27)/('SCORE TABLE'!$G27-'SCORE TABLE'!$F27))*100,0)","v":100},{"$f":"IFERROR((((INDEX('DATA TABLE'!$J$13:$AC$66, MATCH('SCORE TABLE'!$B27,'DATA TABLE'!$B$13:$B$66,0),MATCH('SCORE TABLE'!U$9,'DATA TABLE'!$J$9:$AC$9,0)))-'SCORE TABLE'!$F27)/('SCORE TABLE'!$G27-'SCORE TABLE'!$F27))*100,0)","v":100},{"$f":"IFERROR((((INDEX('DATA TABLE'!$J$13:$AC$66, MATCH('SCORE TABLE'!$B27,'DATA TABLE'!$B$13:$B$66,0),MATCH('SCORE TABLE'!V$9,'DATA TABLE'!$J$9:$AC$9,0)))-'SCORE TABLE'!$F27)/('SCORE TABLE'!$G27-'SCORE TABLE'!$F27))*100,0)","v":100},{"$f":"IFERROR((((INDEX('DATA TABLE'!$J$13:$AC$66, MATCH('SCORE TABLE'!$B27,'DATA TABLE'!$B$13:$B$66,0),MATCH('SCORE TABLE'!W$9,'DATA TABLE'!$J$9:$AC$9,0)))-'SCORE TABLE'!$F27)/('SCORE TABLE'!$G27-'SCORE TABLE'!$F27))*100,0)","v":0},{"$f":"IFERROR((((INDEX('DATA TABLE'!$J$13:$AC$66, MATCH('SCORE TABLE'!$B27,'DATA TABLE'!$B$13:$B$66,0),MATCH('SCORE TABLE'!X$9,'DATA TABLE'!$J$9:$AC$9,0)))-'SCORE TABLE'!$F27)/('SCORE TABLE'!$G27-'SCORE TABLE'!$F27))*100,0)","v":100},{"$f":"IFERROR((((INDEX('DATA TABLE'!$J$13:$AC$66, MATCH('SCORE TABLE'!$B27,'DATA TABLE'!$B$13:$B$66,0),MATCH('SCORE TABLE'!Y$9,'DATA TABLE'!$J$9:$AC$9,0)))-'SCORE TABLE'!$F27)/('SCORE TABLE'!$G27-'SCORE TABLE'!$F27))*100,0)","v":50},{"$f":"IFERROR((((INDEX('DATA TABLE'!$J$13:$AC$66, MATCH('SCORE TABLE'!$B27,'DATA TABLE'!$B$13:$B$66,0),MATCH('SCORE TABLE'!Z$9,'DATA TABLE'!$J$9:$AC$9,0)))-'SCORE TABLE'!$F27)/('SCORE TABLE'!$G27-'SCORE TABLE'!$F27))*100,0)","v":100},{"$f":"IFERROR((((INDEX('DATA TABLE'!$J$13:$AC$66, MATCH('SCORE TABLE'!$B27,'DATA TABLE'!$B$13:$B$66,0),MATCH('SCORE TABLE'!AA$9,'DATA TABLE'!$J$9:$AC$9,0)))-'SCORE TABLE'!$F27)/('SCORE TABLE'!$G27-'SCORE TABLE'!$F27))*100,0)","v":100}]
[1017,"2.1.2","Evidence-based obesity management guidelines",{"$f":"1/3","v":0.33333333333333331},{"$f":"$E$26*D28","v":2.7777777777777776E-2},0,2,{"$f":"IFERROR((((INDEX('DATA TABLE'!$J$13:$AC$66, MATCH('SCORE TABLE'!$B28,'DATA TABLE'!$B$13:$B$66,0),MATCH('SCORE TABLE'!H$9,'DATA TABLE'!$J$9:$AC$9,0)))-'SCORE TABLE'!$F28)/('SCORE TABLE'!$G28-'SCORE TABLE'!$F28))*100,0)","v":100},{"$f":"IFERROR((((INDEX('DATA TABLE'!$J$13:$AC$66, MATCH('SCORE TABLE'!$B28,'DATA TABLE'!$B$13:$B$66,0),MATCH('SCORE TABLE'!I$9,'DATA TABLE'!$J$9:$AC$9,0)))-'SCORE TABLE'!$F28)/('SCORE TABLE'!$G28-'SCORE TABLE'!$F28))*100,0)","v":100},{"$f":"IFERROR((((INDEX('DATA TABLE'!$J$13:$AC$66, MATCH('SCORE TABLE'!$B28,'DATA TABLE'!$B$13:$B$66,0),MATCH('SCORE TABLE'!J$9,'DATA TABLE'!$J$9:$AC$9,0)))-'SCORE TABLE'!$F28)/('SCORE TABLE'!$G28-'SCORE TABLE'!$F28))*100,0)","v":100},{"$f":"IFERROR((((INDEX('DATA TABLE'!$J$13:$AC$66, MATCH('SCORE TABLE'!$B28,'DATA TABLE'!$B$13:$B$66,0),MATCH('SCORE TABLE'!K$9,'DATA TABLE'!$J$9:$AC$9,0)))-'SCORE TABLE'!$F28)/('SCORE TABLE'!$G28-'SCORE TABLE'!$F28))*100,0)","v":100},{"$f":"IFERROR((((INDEX('DATA TABLE'!$J$13:$AC$66, MATCH('SCORE TABLE'!$B28,'DATA TABLE'!$B$13:$B$66,0),MATCH('SCORE TABLE'!L$9,'DATA TABLE'!$J$9:$AC$9,0)))-'SCORE TABLE'!$F28)/('SCORE TABLE'!$G28-'SCORE TABLE'!$F28))*100,0)","v":100},{"$f":"IFERROR((((INDEX('DATA TABLE'!$J$13:$AC$66, MATCH('SCORE TABLE'!$B28,'DATA TABLE'!$B$13:$B$66,0),MATCH('SCORE TABLE'!M$9,'DATA TABLE'!$J$9:$AC$9,0)))-'SCORE TABLE'!$F28)/('SCORE TABLE'!$G28-'SCORE TABLE'!$F28))*100,0)","v":100},{"$f":"IFERROR((((INDEX('DATA TABLE'!$J$13:$AC$66, MATCH('SCORE TABLE'!$B28,'DATA TABLE'!$B$13:$B$66,0),MATCH('SCORE TABLE'!N$9,'DATA TABLE'!$J$9:$AC$9,0)))-'SCORE TABLE'!$F28)/('SCORE TABLE'!$G28-'SCORE TABLE'!$F28))*100,0)","v":100},{"$f":"IFERROR((((INDEX('DATA TABLE'!$J$13:$AC$66, MATCH('SCORE TABLE'!$B28,'DATA TABLE'!$B$13:$B$66,0),MATCH('SCORE TABLE'!O$9,'DATA TABLE'!$J$9:$AC$9,0)))-'SCORE TABLE'!$F28)/('SCORE TABLE'!$G28-'SCORE TABLE'!$F28))*100,0)","v":0},{"$f":"IFERROR((((INDEX('DATA TABLE'!$J$13:$AC$66, MATCH('SCORE TABLE'!$B28,'DATA TABLE'!$B$13:$B$66,0),MATCH('SCORE TABLE'!P$9,'DATA TABLE'!$J$9:$AC$9,0)))-'SCORE TABLE'!$F28)/('SCORE TABLE'!$G28-'SCORE TABLE'!$F28))*100,0)","v":100},{"$f":"IFERROR((((INDEX('DATA TABLE'!$J$13:$AC$66, MATCH('SCORE TABLE'!$B28,'DATA TABLE'!$B$13:$B$66,0),MATCH('SCORE TABLE'!Q$9,'DATA TABLE'!$J$9:$AC$9,0)))-'SCORE TABLE'!$F28)/('SCORE TABLE'!$G28-'SCORE TABLE'!$F28))*100,0)","v":100},{"$f":"IFERROR((((INDEX('DATA TABLE'!$J$13:$AC$66, MATCH('SCORE TABLE'!$B28,'DATA TABLE'!$B$13:$B$66,0),MATCH('SCORE TABLE'!R$9,'DATA TABLE'!$J$9:$AC$9,0)))-'SCORE TABLE'!$F28)/('SCORE TABLE'!$G28-'SCORE TABLE'!$F28))*100,0)","v":100},{"$f":"IFERROR((((INDEX('DATA TABLE'!$J$13:$AC$66, MATCH('SCORE TABLE'!$B28,'DATA TABLE'!$B$13:$B$66,0),MATCH('SCORE TABLE'!S$9,'DATA TABLE'!$J$9:$AC$9,0)))-'SCORE TABLE'!$F28)/('SCORE TABLE'!$G28-'SCORE TABLE'!$F28))*100,0)","v":0},{"$f":"IFERROR((((INDEX('DATA TABLE'!$J$13:$AC$66, MATCH('SCORE TABLE'!$B28,'DATA TABLE'!$B$13:$B$66,0),MATCH('SCORE TABLE'!T$9,'DATA TABLE'!$J$9:$AC$9,0)))-'SCORE TABLE'!$F28)/('SCORE TABLE'!$G28-'SCORE TABLE'!$F28))*100,0)","v":100},{"$f":"IFERROR((((INDEX('DATA TABLE'!$J$13:$AC$66, MATCH('SCORE TABLE'!$B28,'DATA TABLE'!$B$13:$B$66,0),MATCH('SCORE TABLE'!U$9,'DATA TABLE'!$J$9:$AC$9,0)))-'SCORE TABLE'!$F28)/('SCORE TABLE'!$G28-'SCORE TABLE'!$F28))*100,0)","v":100},{"$f":"IFERROR((((INDEX('DATA TABLE'!$J$13:$AC$66, MATCH('SCORE TABLE'!$B28,'DATA TABLE'!$B$13:$B$66,0),MATCH('SCORE TABLE'!V$9,'DATA TABLE'!$J$9:$AC$9,0)))-'SCORE TABLE'!$F28)/('SCORE TABLE'!$G28-'SCORE TABLE'!$F28))*100,0)","v":100},{"$f":"IFERROR((((INDEX('DATA TABLE'!$J$13:$AC$66, MATCH('SCORE TABLE'!$B28,'DATA TABLE'!$B$13:$B$66,0),MATCH('SCORE TABLE'!W$9,'DATA TABLE'!$J$9:$AC$9,0)))-'SCORE TABLE'!$F28)/('SCORE TABLE'!$G28-'SCORE TABLE'!$F28))*100,0)","v":0},{"$f":"IFERROR((((INDEX('DATA TABLE'!$J$13:$AC$66, MATCH('SCORE TABLE'!$B28,'DATA TABLE'!$B$13:$B$66,0),MATCH('SCORE TABLE'!X$9,'DATA TABLE'!$J$9:$AC$9,0)))-'SCORE TABLE'!$F28)/('SCORE TABLE'!$G28-'SCORE TABLE'!$F28))*100,0)","v":100},{"$f":"IFERROR((((INDEX('DATA TABLE'!$J$13:$AC$66, MATCH('SCORE TABLE'!$B28,'DATA TABLE'!$B$13:$B$66,0),MATCH('SCORE TABLE'!Y$9,'DATA TABLE'!$J$9:$AC$9,0)))-'SCORE TABLE'!$F28)/('SCORE TABLE'!$G28-'SCORE TABLE'!$F28))*100,0)","v":0},{"$f":"IFERROR((((INDEX('DATA TABLE'!$J$13:$AC$66, MATCH('SCORE TABLE'!$B28,'DATA TABLE'!$B$13:$B$66,0),MATCH('SCORE TABLE'!Z$9,'DATA TABLE'!$J$9:$AC$9,0)))-'SCORE TABLE'!$F28)/('SCORE TABLE'!$G28-'SCORE TABLE'!$F28))*100,0)","v":100},{"$f":"IFERROR((((INDEX('DATA TABLE'!$J$13:$AC$66, MATCH('SCORE TABLE'!$B28,'DATA TABLE'!$B$13:$B$66,0),MATCH('SCORE TABLE'!AA$9,'DATA TABLE'!$J$9:$AC$9,0)))-'SCORE TABLE'!$F28)/('SCORE TABLE'!$G28-'SCORE TABLE'!$F28))*100,0)","v":100}]
[1018,"2.1.3","Clinical and cost-effectiveness of obesity management interventions",{"$f":"1/3","v":0.33333333333333331},{"$f":"$E$26*D29","v":2.7777777777777776E-2},0,2,{"$f":"IFERROR((((INDEX('DATA TABLE'!$J$13:$AC$66, MATCH('SCORE TABLE'!$B29,'DATA TABLE'!$B$13:$B$66,0),MATCH('SCORE TABLE'!H$9,'DATA TABLE'!$J$9:$AC$9,0)))-'SCORE TABLE'!$F29)/('SCORE TABLE'!$G29-'SCORE TABLE'!$F29))*100,0)","v":100},{"$f":"IFERROR((((INDEX('DATA TABLE'!$J$13:$AC$66, MATCH('SCORE TABLE'!$B29,'DATA TABLE'!$B$13:$B$66,0),MATCH('SCORE TABLE'!I$9,'DATA TABLE'!$J$9:$AC$9,0)))-'SCORE TABLE'!$F29)/('SCORE TABLE'!$G29-'SCORE TABLE'!$F29))*100,0)","v":100},{"$f":"IFERROR((((INDEX('DATA TABLE'!$J$13:$AC$66, MATCH('SCORE TABLE'!$B29,'DATA TABLE'!$B$13:$B$66,0),MATCH('SCORE TABLE'!J$9,'DATA TABLE'!$J$9:$AC$9,0)))-'SCORE TABLE'!$F29)/('SCORE TABLE'!$G29-'SCORE TABLE'!$F29))*100,0)","v":100},{"$f":"IFERROR((((INDEX('DATA TABLE'!$J$13:$AC$66, MATCH('SCORE TABLE'!$B29,'DATA TABLE'!$B$13:$B$66,0),MATCH('SCORE TABLE'!K$9,'DATA TABLE'!$J$9:$AC$9,0)))-'SCORE TABLE'!$F29)/('SCORE TABLE'!$G29-'SCORE TABLE'!$F29))*100,0)","v":50},{"$f":"IFERROR((((INDEX('DATA TABLE'!$J$13:$AC$66, MATCH('SCORE TABLE'!$B29,'DATA TABLE'!$B$13:$B$66,0),MATCH('SCORE TABLE'!L$9,'DATA TABLE'!$J$9:$AC$9,0)))-'SCORE TABLE'!$F29)/('SCORE TABLE'!$G29-'SCORE TABLE'!$F29))*100,0)","v":100},{"$f":"IFERROR((((INDEX('DATA TABLE'!$J$13:$AC$66, MATCH('SCORE TABLE'!$B29,'DATA TABLE'!$B$13:$B$66,0),MATCH('SCORE TABLE'!M$9,'DATA TABLE'!$J$9:$AC$9,0)))-'SCORE TABLE'!$F29)/('SCORE TABLE'!$G29-'SCORE TABLE'!$F29))*100,0)","v":50},{"$f":"IFERROR((((INDEX('DATA TABLE'!$J$13:$AC$66, MATCH('SCORE TABLE'!$B29,'DATA TABLE'!$B$13:$B$66,0),MATCH('SCORE TABLE'!N$9,'DATA TABLE'!$J$9:$AC$9,0)))-'SCORE TABLE'!$F29)/('SCORE TABLE'!$G29-'SCORE TABLE'!$F29))*100,0)","v":50},{"$f":"IFERROR((((INDEX('DATA TABLE'!$J$13:$AC$66, MATCH('SCORE TABLE'!$B29,'DATA TABLE'!$B$13:$B$66,0),MATCH('SCORE TABLE'!O$9,'DATA TABLE'!$J$9:$AC$9,0)))-'SCORE TABLE'!$F29)/('SCORE TABLE'!$G29-'SCORE TABLE'!$F29))*100,0)","v":0},{"$f":"IFERROR((((INDEX('DATA TABLE'!$J$13:$AC$66, MATCH('SCORE TABLE'!$B29,'DATA TABLE'!$B$13:$B$66,0),MATCH('SCORE TABLE'!P$9,'DATA TABLE'!$J$9:$AC$9,0)))-'SCORE TABLE'!$F29)/('SCORE TABLE'!$G29-'SCORE TABLE'!$F29))*100,0)","v":50},{"$f":"IFERROR((((INDEX('DATA TABLE'!$J$13:$AC$66, MATCH('SCORE TABLE'!$B29,'DATA TABLE'!$B$13:$B$66,0),MATCH('SCORE TABLE'!Q$9,'DATA TABLE'!$J$9:$AC$9,0)))-'SCORE TABLE'!$F29)/('SCORE TABLE'!$G29-'SCORE TABLE'!$F29))*100,0)","v":50},{"$f":"IFERROR((((INDEX('DATA TABLE'!$J$13:$AC$66, MATCH('SCORE TABLE'!$B29,'DATA TABLE'!$B$13:$B$66,0),MATCH('SCORE TABLE'!R$9,'DATA TABLE'!$J$9:$AC$9,0)))-'SCORE TABLE'!$F29)/('SCORE TABLE'!$G29-'SCORE TABLE'!$F29))*100,0)","v":50},{"$f":"IFERROR((((INDEX('DATA TABLE'!$J$13:$AC$66, MATCH('SCORE TABLE'!$B29,'DATA TABLE'!$B$13:$B$66,0),MATCH('SCORE TABLE'!S$9,'DATA TABLE'!$J$9:$AC$9,0)))-'SCORE TABLE'!$F29)/('SCORE TABLE'!$G29-'SCORE TABLE'!$F29))*100,0)","v":0},{"$f":"IFERROR((((INDEX('DATA TABLE'!$J$13:$AC$66, MATCH('SCORE TABLE'!$B29,'DATA TABLE'!$B$13:$B$66,0),MATCH('SCORE TABLE'!T$9,'DATA TABLE'!$J$9:$AC$9,0)))-'SCORE TABLE'!$F29)/('SCORE TABLE'!$G29-'SCORE TABLE'!$F29))*100,0)","v":0},{"$f":"IFERROR((((INDEX('DATA TABLE'!$J$13:$AC$66, MATCH('SCORE TABLE'!$B29,'DATA TABLE'!$B$13:$B$66,0),MATCH('SCORE TABLE'!U$9,'DATA TABLE'!$J$9:$AC$9,0)))-'SCORE TABLE'!$F29)/('SCORE TABLE'!$G29-'SCORE TABLE'!$F29))*100,0)","v":50},{"$f":"IFERROR((((INDEX('DATA TABLE'!$J$13:$AC$66, MATCH('SCORE TABLE'!$B29,'DATA TABLE'!$B$13:$B$66,0),MATCH('SCORE TABLE'!V$9,'DATA TABLE'!$J$9:$AC$9,0)))-'SCORE TABLE'!$F29)/('SCORE TABLE'!$G29-'SCORE TABLE'!$F29))*100,0)","v":50},{"$f":"IFERROR((((INDEX('DATA TABLE'!$J$13:$AC$66, MATCH('SCORE TABLE'!$B29,'DATA TABLE'!$B$13:$B$66,0),MATCH('SCORE TABLE'!W$9,'DATA TABLE'!$J$9:$AC$9,0)))-'SCORE TABLE'!$F29)/('SCORE TABLE'!$G29-'SCORE TABLE'!$F29))*100,0)","v":0},{"$f":"IFERROR((((INDEX('DATA TABLE'!$J$13:$AC$66, MATCH('SCORE TABLE'!$B29,'DATA TABLE'!$B$13:$B$66,0),MATCH('SCORE TABLE'!X$9,'DATA TABLE'!$J$9:$AC$9,0)))-'SCORE TABLE'!$F29)/('SCORE TABLE'!$G29-'SCORE TABLE'!$F29))*100,0)","v":50},{"$f":"IFERROR((((INDEX('DATA TABLE'!$J$13:$AC$66, MATCH('SCORE TABLE'!$B29,'DATA TABLE'!$B$13:$B$66,0),MATCH('SCORE TABLE'!Y$9,'DATA TABLE'!$J$9:$AC$9,0)))-'SCORE TABLE'!$F29)/('SCORE TABLE'!$G29-'SCORE TABLE'!$F29))*100,0)","v":0},{"$f":"IFERROR((((INDEX('DATA TABLE'!$J$13:$AC$66, MATCH('SCORE TABLE'!$B29,'DATA TABLE'!$B$13:$B$66,0),MATCH('SCORE TABLE'!Z$9,'DATA TABLE'!$J$9:$AC$9,0)))-'SCORE TABLE'!$F29)/('SCORE TABLE'!$G29-'SCORE TABLE'!$F29))*100,0)","v":100},{"$f":"IFERROR((((INDEX('DATA TABLE'!$J$13:$AC$66, MATCH('SCORE TABLE'!$B29,'DATA TABLE'!$B$13:$B$66,0),MATCH('SCORE TABLE'!AA$9,'DATA TABLE'!$J$9:$AC$9,0)))-'SCORE TABLE'!$F29)/('SCORE TABLE'!$G29-'SCORE TABLE'!$F29))*100,0)","v":100}]
[1019,2.2000000000000002,"Obesity diagnosis and referral pathways",{"$f":"1/3","v":0.33333333333333331},{"$f":"$E$25*D30","v":8.3333333333333329E-2},null,null,{"$f":"ROUND(SUMPRODUCT($D31:$D32,H31:H32),5)","v":50},{"$f":"ROUND(SUMPRODUCT($D31:$D32,I31:I32),5)","v":100},{"$f":"ROUND(SUMPRODUCT($D31:$D32,J31:J32),5)","v":50},100,100,100,100,50,100,100,100,0,75,100,100,25,100,0,100,100]
[1020,"2.2.1","Obesity management pathway",{"$f":"1/2","v":0.5},{"$f":"$E$30*D31","v":4.1666666666666664E-2},0,1,{"$f":"IFERROR((((INDEX('DATA TABLE'!$J$13:$AC$66, MATCH('SCORE TABLE'!$B31,'DATA TABLE'!$B$13:$B$66,0),MATCH('SCORE TABLE'!H$9,'DATA TABLE'!$J$9:$AC$9,0)))-'SCORE TABLE'!$F31)/('SCORE TABLE'!$G31-'SCORE TABLE'!$F31))*100,0)","v":0},{"$f":"IFERROR((((INDEX('DATA TABLE'!$J$13:$AC$66, MATCH('SCORE TABLE'!$B31,'DATA TABLE'!$B$13:$B$66,0),MATCH('SCORE TABLE'!I$9,'DATA TABLE'!$J$9:$AC$9,0)))-'SCORE TABLE'!$F31)/('SCORE TABLE'!$G31-'SCORE TABLE'!$F31))*100,0)","v":100},{"$f":"IFERROR((((INDEX('DATA TABLE'!$J$13:$AC$66, MATCH('SCORE TABLE'!$B31,'DATA TABLE'!$B$13:$B$66,0),MATCH('SCORE TABLE'!J$9,'DATA TABLE'!$J$9:$AC$9,0)))-'SCORE TABLE'!$F31)/('SCORE TABLE'!$G31-'SCORE TABLE'!$F31))*100,0)","v":100},{"$f":"IFERROR((((INDEX('DATA TABLE'!$J$13:$AC$66, MATCH('SCORE TABLE'!$B31,'DATA TABLE'!$B$13:$B$66,0),MATCH('SCORE TABLE'!K$9,'DATA TABLE'!$J$9:$AC$9,0)))-'SCORE TABLE'!$F31)/('SCORE TABLE'!$G31-'SCORE TABLE'!$F31))*100,0)","v":100},{"$f":"IFERROR((((INDEX('DATA TABLE'!$J$13:$AC$66, MATCH('SCORE TABLE'!$B31,'DATA TABLE'!$B$13:$B$66,0),MATCH('SCORE TABLE'!L$9,'DATA TABLE'!$J$9:$AC$9,0)))-'SCORE TABLE'!$F31)/('SCORE TABLE'!$G31-'SCORE TABLE'!$F31))*100,0)","v":100},{"$f":"IFERROR((((INDEX('DATA TABLE'!$J$13:$AC$66, MATCH('SCORE TABLE'!$B31,'DATA TABLE'!$B$13:$B$66,0),MATCH('SCORE TABLE'!M$9,'DATA TABLE'!$J$9:$AC$9,0)))-'SCORE TABLE'!$F31)/('SCORE TABLE'!$G31-'SCORE TABLE'!$F31))*100,0)","v":100},{"$f":"IFERROR((((INDEX('DATA TABLE'!$J$13:$AC$66, MATCH('SCORE TABLE'!$B31,'DATA TABLE'!$B$13:$B$66,0),MATCH('SCORE TABLE'!N$9,'DATA TABLE'!$J$9:$AC$9,0)))-'SCORE TABLE'!$F31)/('SCORE TABLE'!$G31-'SCORE TABLE'!$F31))*100,0)","v":100},{"$f":"IFERROR((((INDEX('DATA TABLE'!$J$13:$AC$66, MATCH('SCORE TABLE'!$B31,'DATA TABLE'!$B$13:$B$66,0),MATCH('SCORE TABLE'!O$9,'DATA TABLE'!$J$9:$AC$9,0)))-'SCORE TABLE'!$F31)/('SCORE TABLE'!$G31-'SCORE TABLE'!$F31))*100,0)","v":0},{"$f":"IFERROR((((INDEX('DATA TABLE'!$J$13:$AC$66, MATCH('SCORE TABLE'!$B31,'DATA TABLE'!$B$13:$B$66,0),MATCH('SCORE TABLE'!P$9,'DATA TABLE'!$J$9:$AC$9,0)))-'SCORE TABLE'!$F31)/('SCORE TABLE'!$G31-'SCORE TABLE'!$F31))*100,0)","v":100},{"$f":"IFERROR((((INDEX('DATA TABLE'!$J$13:$AC$66, MATCH('SCORE TABLE'!$B31,'DATA TABLE'!$B$13:$B$66,0),MATCH('SCORE TABLE'!Q$9,'DATA TABLE'!$J$9:$AC$9,0)))-'SCORE TABLE'!$F31)/('SCORE TABLE'!$G31-'SCORE TABLE'!$F31))*100,0)","v":100},{"$f":"IFERROR((((INDEX('DATA TABLE'!$J$13:$AC$66, MATCH('SCORE TABLE'!$B31,'DATA TABLE'!$B$13:$B$66,0),MATCH('SCORE TABLE'!R$9,'DATA TABLE'!$J$9:$AC$9,0)))-'SCORE TABLE'!$F31)/('SCORE TABLE'!$G31-'SCORE TABLE'!$F31))*100,0)","v":100},{"$f":"IFERROR((((INDEX('DATA TABLE'!$J$13:$AC$66, MATCH('SCORE TABLE'!$B31,'DATA TABLE'!$B$13:$B$66,0),MATCH('SCORE TABLE'!S$9,'DATA TABLE'!$J$9:$AC$9,0)))-'SCORE TABLE'!$F31)/('SCORE TABLE'!$G31-'SCORE TABLE'!$F31))*100,0)","v":0},{"$f":"IFERROR((((INDEX('DATA TABLE'!$J$13:$AC$66, MATCH('SCORE TABLE'!$B31,'DATA TABLE'!$B$13:$B$66,0),MATCH('SCORE TABLE'!T$9,'DATA TABLE'!$J$9:$AC$9,0)))-'SCORE TABLE'!$F31)/('SCORE TABLE'!$G31-'SCORE TABLE'!$F31))*100,0)","v":100},{"$f":"IFERROR((((INDEX('DATA TABLE'!$J$13:$AC$66, MATCH('SCORE TABLE'!$B31,'DATA TABLE'!$B$13:$B$66,0),MATCH('SCORE TABLE'!U$9,'DATA TABLE'!$J$9:$AC$9,0)))-'SCORE TABLE'!$F31)/('SCORE TABLE'!$G31-'SCORE TABLE'!$F31))*100,0)","v":100},{"$f":"IFERROR((((INDEX('DATA TABLE'!$J$13:$AC$66, MATCH('SCORE TABLE'!$B31,'DATA TABLE'!$B$13:$B$66,0),MATCH('SCORE TABLE'!V$9,'DATA TABLE'!$J$9:$AC$9,0)))-'SCORE TABLE'!$F31)/('SCORE TABLE'!$G31-'SCORE TABLE'!$F31))*100,0)","v":100},{"$f":"IFERROR((((INDEX('DATA TABLE'!$J$13:$AC$66, MATCH('SCORE TABLE'!$B31,'DATA TABLE'!$B$13:$B$66,0),MATCH('SCORE TABLE'!W$9,'DATA TABLE'!$J$9:$AC$9,0)))-'SCORE TABLE'!$F31)/('SCORE TABLE'!$G31-'SCORE TABLE'!$F31))*100,0)","v":0},{"$f":"IFERROR((((INDEX('DATA TABLE'!$J$13:$AC$66, MATCH('SCORE TABLE'!$B31,'DATA TABLE'!$B$13:$B$66,0),MATCH('SCORE TABLE'!X$9,'DATA TABLE'!$J$9:$AC$9,0)))-'SCORE TABLE'!$F31)/('SCORE TABLE'!$G31-'SCORE TABLE'!$F31))*100,0)","v":100},{"$f":"IFERROR((((INDEX('DATA TABLE'!$J$13:$AC$66, MATCH('SCORE TABLE'!$B31,'DATA TABLE'!$B$13:$B$66,0),MATCH('SCORE TABLE'!Y$9,'DATA TABLE'!$J$9:$AC$9,0)))-'SCORE TABLE'!$F31)/('SCORE TABLE'!$G31-'SCORE TABLE'!$F31))*100,0)","v":0},{"$f":"IFERROR((((INDEX('DATA TABLE'!$J$13:$AC$66, MATCH('SCORE TABLE'!$B31,'DATA TABLE'!$B$13:$B$66,0),MATCH('SCORE TABLE'!Z$9,'DATA TABLE'!$J$9:$AC$9,0)))-'SCORE TABLE'!$F31)/('SCORE TABLE'!$G31-'SCORE TABLE'!$F31))*100,0)","v":100},{"$f":"IFERROR((((INDEX('DATA TABLE'!$J$13:$AC$66, MATCH('SCORE TABLE'!$B31,'DATA TABLE'!$B$13:$B$66,0),MATCH('SCORE TABLE'!AA$9,'DATA TABLE'!$J$9:$AC$9,0)))-'SCORE TABLE'!$F31)/('SCORE TABLE'!$G31-'SCORE TABLE'!$F31))*100,0)","v":100}]
[1021,"2.2.2","Obesity pathway in chronic disease management",{"$f":"1/2","v":0.5},{"$f":"$E$30*D32","v":4.1666666666666664E-2},0,2,{"$f":"IFERROR((((INDEX('DATA TABLE'!$J$13:$AC$66, MATCH('SCORE TABLE'!$B32,'DATA TABLE'!$B$13:$B$66,0),MATCH('SCORE TABLE'!H$9,'DATA TABLE'!$J$9:$AC$9,0)))-'SCORE TABLE'!$F32)/('SCORE TABLE'!$G32-'SCORE TABLE'!$F32))*100,0)","v":100},{"$f":"IFERROR((((INDEX('DATA TABLE'!$J$13:$AC$66, MATCH('SCORE TABLE'!$B32,'DATA TABLE'!$B$13:$B$66,0),MATCH('SCORE TABLE'!I$9,'DATA TABLE'!$J$9:$AC$9,0)))-'SCORE TABLE'!$F32)/('SCORE TABLE'!$G32-'SCORE TABLE'!$F32))*100,0)","v":100},{"$f":"IFERROR((((INDEX('DATA TABLE'!$J$13:$AC$66, MATCH('SCORE TABLE'!$B32,'DATA TABLE'!$B$13:$B$66,0),MATCH('SCORE TABLE'!J$9,'DATA TABLE'!$J$9:$AC$9,0)))-'SCORE TABLE'!$F32)/('SCORE TABLE'!$G32-'SCORE TABLE'!$F32))*100,0)","v":0},{"$f":"IFERROR((((INDEX('DATA TABLE'!$J$13:$AC$66, MATCH('SCORE TABLE'!$B32,'DATA TABLE'!$B$13:$B$66,0),MATCH('SCORE TABLE'!K$9,'DATA TABLE'!$J$9:$AC$9,0)))-'SCORE TABLE'!$F32)/('SCORE TABLE'!$G32-'SCORE TABLE'!$F32))*100,0)","v":100},{"$f":"IFERROR((((INDEX('DATA TABLE'!$J$13:$AC$66, MATCH('SCORE TABLE'!$B32,'DATA TABLE'!$B$13:$B$66,0),MATCH('SCORE TABLE'!L$9,'DATA TABLE'!$J$9:$AC$9,0)))-'SCORE TABLE'!$F32)/('SCORE TABLE'!$G32-'SCORE TABLE'!$F32))*100,0)","v":100},{"$f":"IFERROR((((INDEX('DATA TABLE'!$J$13:$AC$66, MATCH('SCORE TABLE'!$B32,'DATA TABLE'!$B$13:$B$66,0),MATCH('SCORE TABLE'!M$9,'DATA TABLE'!$J$9:$AC$9,0)))-'SCORE TABLE'!$F32)/('SCORE TABLE'!$G32-'SCORE TABLE'!$F32))*100,0)","v":100},{"$f":"IFERROR((((INDEX('DATA TABLE'!$J$13:$AC$66, MATCH('SCORE TABLE'!$B32,'DATA TABLE'!$B$13:$B$66,0),MATCH('SCORE TABLE'!N$9,'DATA TABLE'!$J$9:$AC$9,0)))-'SCORE TABLE'!$F32)/('SCORE TABLE'!$G32-'SCORE TABLE'!$F32))*100,0)","v":100},{"$f":"IFERROR((((INDEX('DATA TABLE'!$J$13:$AC$66, MATCH('SCORE TABLE'!$B32,'DATA TABLE'!$B$13:$B$66,0),MATCH('SCORE TABLE'!O$9,'DATA TABLE'!$J$9:$AC$9,0)))-'SCORE TABLE'!$F32)/('SCORE TABLE'!$G32-'SCORE TABLE'!$F32))*100,0)","v":100},{"$f":"IFERROR((((INDEX('DATA TABLE'!$J$13:$AC$66, MATCH('SCORE TABLE'!$B32,'DATA TABLE'!$B$13:$B$66,0),MATCH('SCORE TABLE'!P$9,'DATA TABLE'!$J$9:$AC$9,0)))-'SCORE TABLE'!$F32)/('SCORE TABLE'!$G32-'SCORE TABLE'!$F32))*100,0)","v":100},{"$f":"IFERROR((((INDEX('DATA TABLE'!$J$13:$AC$66, MATCH('SCORE TABLE'!$B32,'DATA TABLE'!$B$13:$B$66,0),MATCH('SCORE TABLE'!Q$9,'DATA TABLE'!$J$9:$AC$9,0)))-'SCORE TABLE'!$F32)/('SCORE TABLE'!$G32-'SCORE TABLE'!$F32))*100,0)","v":100},{"$f":"IFERROR((((INDEX('DATA TABLE'!$J$13:$AC$66, MATCH('SCORE TABLE'!$B32,'DATA TABLE'!$B$13:$B$66,0),MATCH('SCORE TABLE'!R$9,'DATA TABLE'!$J$9:$AC$9,0)))-'SCORE TABLE'!$F32)/('SCORE TABLE'!$G32-'SCORE TABLE'!$F32))*100,0)","v":100},{"$f":"IFERROR((((INDEX('DATA TABLE'!$J$13:$AC$66, MATCH('SCORE TABLE'!$B32,'DATA TABLE'!$B$13:$B$66,0),MATCH('SCORE TABLE'!S$9,'DATA TABLE'!$J$9:$AC$9,0)))-'SCORE TABLE'!$F32)/('SCORE TABLE'!$G32-'SCORE TABLE'!$F32))*100,0)","v":0},{"$f":"IFERROR((((INDEX('DATA TABLE'!$J$13:$AC$66, MATCH('SCORE TABLE'!$B32,'DATA TABLE'!$B$13:$B$66,0),MATCH('SCORE TABLE'!T$9,'DATA TABLE'!$J$9:$AC$9,0)))-'SCORE TABLE'!$F32)/('SCORE TABLE'!$G32-'SCORE TABLE'!$F32))*100,0)","v":50},{"$f":"IFERROR((((INDEX('DATA TABLE'!$J$13:$AC$66, MATCH('SCORE TABLE'!$B32,'DATA TABLE'!$B$13:$B$66,0),MATCH('SCORE TABLE'!U$9,'DATA TABLE'!$J$9:$AC$9,0)))-'SCORE TABLE'!$F32)/('SCORE TABLE'!$G32-'SCORE TABLE'!$F32))*100,0)","v":100},{"$f":"IFERROR((((INDEX('DATA TABLE'!$J$13:$AC$66, MATCH('SCORE TABLE'!$B32,'DATA TABLE'!$B$13:$B$66,0),MATCH('SCORE TABLE'!V$9,'DATA TABLE'!$J$9:$AC$9,0)))-'SCORE TABLE'!$F32)/('SCORE TABLE'!$G32-'SCORE TABLE'!$F32))*100,0)","v":100},{"$f":"IFERROR((((INDEX('DATA TABLE'!$J$13:$AC$66, MATCH('SCORE TABLE'!$B32,'DATA TABLE'!$B$13:$B$66,0),MATCH('SCORE TABLE'!W$9,'DATA TABLE'!$J$9:$AC$9,0)))-'SCORE TABLE'!$F32)/('SCORE TABLE'!$G32-'SCORE TABLE'!$F32))*100,0)","v":50},{"$f":"IFERROR((((INDEX('DATA TABLE'!$J$13:$AC$66, MATCH('SCORE TABLE'!$B32,'DATA TABLE'!$B$13:$B$66,0),MATCH('SCORE TABLE'!X$9,'DATA TABLE'!$J$9:$AC$9,0)))-'SCORE TABLE'!$F32)/('SCORE TABLE'!$G32-'SCORE TABLE'!$F32))*100,0)","v":100},{"$f":"IFERROR((((INDEX('DATA TABLE'!$J$13:$AC$66, MATCH('SCORE TABLE'!$B32,'DATA TABLE'!$B$13:$B$66,0),MATCH('SCORE TABLE'!Y$9,'DATA TABLE'!$J$9:$AC$9,0)))-'SCORE TABLE'!$F32)/('SCORE TABLE'!$G32-'SCORE TABLE'!$F32))*100,0)","v":0},{"$f":"IFERROR((((INDEX('DATA TABLE'!$J$13:$AC$66, MATCH('SCORE TABLE'!$B32,'DATA TABLE'!$B$13:$B$66,0),MATCH('SCORE TABLE'!Z$9,'DATA TABLE'!$J$9:$AC$9,0)))-'SCORE TABLE'!$F32)/('SCORE TABLE'!$G32-'SCORE TABLE'!$F32))*100,0)","v":100},{"$f":"IFERROR((((INDEX('DATA TABLE'!$J$13:$AC$66, MATCH('SCORE TABLE'!$B32,'DATA TABLE'!$B$13:$B$66,0),MATCH('SCORE TABLE'!AA$9,'DATA TABLE'!$J$9:$AC$9,0)))-'SCORE TABLE'!$F32)/('SCORE TABLE'!$G32-'SCORE TABLE'!$F32))*100,0)","v":100}]
[1022,2.2999999999999998,"Availability and affordability of obesity-related care",{"$f":"1/3","v":0.33333333333333331},{"$f":"$E$25*D33","v":8.3333333333333329E-2},null,null,{"$f":"ROUND(SUMPRODUCT($D34:$D34,H34:H34),5)","v":75},{"$f":"ROUND(SUMPRODUCT($D34:$D34,I34:I34),5)","v":75},{"$f":"ROUND(SUMPRODUCT($D34:$D34,J34:J34),5)","v":0},0,75,75,50,25,25,50,0,0,0,25,75,0,50,75,75,100]
[1023,"2.3.1","Reimbursement/coverage of obesity care",1,{"$f":"E33*D34","v":8.3333333333333329E-2},0,4,{"$f":"IFERROR((((INDEX('DATA TABLE'!$J$13:$AC$66, MATCH('SCORE TABLE'!$B34,'DATA TABLE'!$B$13:$B$66,0),MATCH('SCORE TABLE'!H$9,'DATA TABLE'!$J$9:$AC$9,0)))-'SCORE TABLE'!$F34)/('SCORE TABLE'!$G34-'SCORE TABLE'!$F34))*100,0)","v":75},{"$f":"IFERROR((((INDEX('DATA TABLE'!$J$13:$AC$66, MATCH('SCORE TABLE'!$B34,'DATA TABLE'!$B$13:$B$66,0),MATCH('SCORE TABLE'!I$9,'DATA TABLE'!$J$9:$AC$9,0)))-'SCORE TABLE'!$F34)/('SCORE TABLE'!$G34-'SCORE TABLE'!$F34))*100,0)","v":75},{"$f":"IFERROR((((INDEX('DATA TABLE'!$J$13:$AC$66, MATCH('SCORE TABLE'!$B34,'DATA TABLE'!$B$13:$B$66,0),MATCH('SCORE TABLE'!J$9,'DATA TABLE'!$J$9:$AC$9,0)))-'SCORE TABLE'!$F34)/('SCORE TABLE'!$G34-'SCORE TABLE'!$F34))*100,0)","v":0},{"$f":"IFERROR((((INDEX('DATA TABLE'!$J$13:$AC$66, MATCH('SCORE TABLE'!$B34,'DATA TABLE'!$B$13:$B$66,0),MATCH('SCORE TABLE'!K$9,'DATA TABLE'!$J$9:$AC$9,0)))-'SCORE TABLE'!$F34)/('SCORE TABLE'!$G34-'SCORE TABLE'!$F34))*100,0)","v":0},{"$f":"IFERROR((((INDEX('DATA TABLE'!$J$13:$AC$66, MATCH('SCORE TABLE'!$B34,'DATA TABLE'!$B$13:$B$66,0),MATCH('SCORE TABLE'!L$9,'DATA TABLE'!$J$9:$AC$9,0)))-'SCORE TABLE'!$F34)/('SCORE TABLE'!$G34-'SCORE TABLE'!$F34))*100,0)","v":75},{"$f":"IFERROR((((INDEX('DATA TABLE'!$J$13:$AC$66, MATCH('SCORE TABLE'!$B34,'DATA TABLE'!$B$13:$B$66,0),MATCH('SCORE TABLE'!M$9,'DATA TABLE'!$J$9:$AC$9,0)))-'SCORE TABLE'!$F34)/('SCORE TABLE'!$G34-'SCORE TABLE'!$F34))*100,0)","v":75},{"$f":"IFERROR((((INDEX('DATA TABLE'!$J$13:$AC$66, MATCH('SCORE TABLE'!$B34,'DATA TABLE'!$B$13:$B$66,0),MATCH('SCORE TABLE'!N$9,'DATA TABLE'!$J$9:$AC$9,0)))-'SCORE TABLE'!$F34)/('SCORE TABLE'!$G34-'SCORE TABLE'!$F34))*100,0)","v":50},{"$f":"IFERROR((((INDEX('DATA TABLE'!$J$13:$AC$66, MATCH('SCORE TABLE'!$B34,'DATA TABLE'!$B$13:$B$66,0),MATCH('SCORE TABLE'!O$9,'DATA TABLE'!$J$9:$AC$9,0)))-'SCORE TABLE'!$F34)/('SCORE TABLE'!$G34-'SCORE TABLE'!$F34))*100,0)","v":25},{"$f":"IFERROR((((INDEX('DATA TABLE'!$J$13:$AC$66, MATCH('SCORE TABLE'!$B34,'DATA TABLE'!$B$13:$B$66,0),MATCH('SCORE TABLE'!P$9,'DATA TABLE'!$J$9:$AC$9,0)))-'SCORE TABLE'!$F34)/('SCORE TABLE'!$G34-'SCORE TABLE'!$F34))*100,0)","v":25},{"$f":"IFERROR((((INDEX('DATA TABLE'!$J$13:$AC$66, MATCH('SCORE TABLE'!$B34,'DATA TABLE'!$B$13:$B$66,0),MATCH('SCORE TABLE'!Q$9,'DATA TABLE'!$J$9:$AC$9,0)))-'SCORE TABLE'!$F34)/('SCORE TABLE'!$G34-'SCORE TABLE'!$F34))*100,0)","v":50},{"$f":"IFERROR((((INDEX('DATA TABLE'!$J$13:$AC$66, MATCH('SCORE TABLE'!$B34,'DATA TABLE'!$B$13:$B$66,0),MATCH('SCORE TABLE'!R$9,'DATA TABLE'!$J$9:$AC$9,0)))-'SCORE TABLE'!$F34)/('SCORE TABLE'!$G34-'SCORE TABLE'!$F34))*100,0)","v":0},{"$f":"IFERROR((((INDEX('DATA TABLE'!$J$13:$AC$66, MATCH('SCORE TABLE'!$B34,'DATA TABLE'!$B$13:$B$66,0),MATCH('SCORE TABLE'!S$9,'DATA TABLE'!$J$9:$AC$9,0)))-'SCORE TABLE'!$F34)/('SCORE TABLE'!$G34-'SCORE TABLE'!$F34))*100,0)","v":0},{"$f":"IFERROR((((INDEX('DATA TABLE'!$J$13:$AC$66, MATCH('SCORE TABLE'!$B34,'DATA TABLE'!$B$13:$B$66,0),MATCH('SCORE TABLE'!T$9,'DATA TABLE'!$J$9:$AC$9,0)))-'SCORE TABLE'!$F34)/('SCORE TABLE'!$G34-'SCORE TABLE'!$F34))*100,0)","v":0},{"$f":"IFERROR((((INDEX('DATA TABLE'!$J$13:$AC$66, MATCH('SCORE TABLE'!$B34,'DATA TABLE'!$B$13:$B$66,0),MATCH('SCORE TABLE'!U$9,'DATA TABLE'!$J$9:$AC$9,0)))-'SCORE TABLE'!$F34)/('SCORE TABLE'!$G34-'SCORE TABLE'!$F34))*100,0)","v":25},{"$f":"IFERROR((((INDEX('DATA TABLE'!$J$13:$AC$66, MATCH('SCORE TABLE'!$B34,'DATA TABLE'!$B$13:$B$66,0),MATCH('SCORE TABLE'!V$9,'DATA TABLE'!$J$9:$AC$9,0)))-'SCORE TABLE'!$F34)/('SCORE TABLE'!$G34-'SCORE TABLE'!$F34))*100,0)","v":75},{"$f":"IFERROR((((INDEX('DATA TABLE'!$J$13:$AC$66, MATCH('SCORE TABLE'!$B34,'DATA TABLE'!$B$13:$B$66,0),MATCH('SCORE TABLE'!W$9,'DATA TABLE'!$J$9:$AC$9,0)))-'SCORE TABLE'!$F34)/('SCORE TABLE'!$G34-'SCORE TABLE'!$F34))*100,0)","v":0},{"$f":"IFERROR((((INDEX('DATA TABLE'!$J$13:$AC$66, MATCH('SCORE TABLE'!$B34,'DATA TABLE'!$B$13:$B$66,0),MATCH('SCORE TABLE'!X$9,'DATA TABLE'!$J$9:$AC$9,0)))-'SCORE TABLE'!$F34)/('SCORE TABLE'!$G34-'SCORE TABLE'!$F34))*100,0)","v":50},{"$f":"IFERROR((((INDEX('DATA TABLE'!$J$13:$AC$66, MATCH('SCORE TABLE'!$B34,'DATA TABLE'!$B$13:$B$66,0),MATCH('SCORE TABLE'!Y$9,'DATA TABLE'!$J$9:$AC$9,0)))-'SCORE TABLE'!$F34)/('SCORE TABLE'!$G34-'SCORE TABLE'!$F34))*100,0)","v":75},{"$f":"IFERROR((((INDEX('DATA TABLE'!$J$13:$AC$66, MATCH('SCORE TABLE'!$B34,'DATA TABLE'!$B$13:$B$66,0),MATCH('SCORE TABLE'!Z$9,'DATA TABLE'!$J$9:$AC$9,0)))-'SCORE TABLE'!$F34)/('SCORE TABLE'!$G34-'SCORE TABLE'!$F34))*100,0)","v":75},{"$f":"IFERROR((((INDEX('DATA TABLE'!$J$13:$AC$66, MATCH('SCORE TABLE'!$B34,'DATA TABLE'!$B$13:$B$66,0),MATCH('SCORE TABLE'!AA$9,'DATA TABLE'!$J$9:$AC$9,0)))-'SCORE TABLE'!$F34)/('SCORE TABLE'!$G34-'SCORE TABLE'!$F34))*100,0)","v":100}]
[1024,3,"Food quality and access",{"$f":"0.25","v":0.25},{"$f":"0.25","v":0.25},null,null,{"$f":"ROUND(SUM($D36*H36,$D40*H40,$D46*H46),5)","v":60.433329999999998},{"$f":"ROUND(SUM($D36*I36,$D40*I40,$D46*I46),5)","v":78.477779999999996},{"$f":"ROUND(SUM($D36*J36,$D40*J40,$D46*J46),5)","v":63.2},63.611109999999996,72.955560000000006,82.111109999999996,62.644440000000003,51.6,72.344440000000006,59.666670000000003,84.088890000000006,29.711110000000001,45.966670000000001,43.333329999999997,59.877780000000001,75.488889999999998,78.366669999999999,82.688890000000001,65.3,90.2]
[1025,3.1,"Food access and affordability",{"$f":"1/3","v":0.33333333333333331},{"$f":"$E$35*D36","v":8.3333333333333329E-2},null,null,{"$f":"ROUND(SUMPRODUCT($D37:$D39,H37:H39),5)","v":61.3},{"$f":"ROUND(SUMPRODUCT($D37:$D39,I37:I39),5)","v":85.433329999999998},{"$f":"ROUND(SUMPRODUCT($D37:$D39,J37:J39),5)","v":96.266670000000005},60.833329999999997,62.2,96.333330000000004,97.933329999999998,48.133330000000001,97.033330000000007,62.333329999999997,85.6,49.133330000000001,67.900000000000006,0,59.633330000000001,73.133330000000001,95.1,94.733329999999995,62.566670000000002,97.266670000000005]
[1026,"3.1.1","Level of food security",{"$f":"1/3","v":0.33333333333333331},{"$f":"$E$36*D37","v":2.7777777777777776E-2},0,100,{"$f":"IFERROR((((INDEX('DATA TABLE'!$J$13:$AC$66, MATCH('SCORE TABLE'!$B37,'DATA TABLE'!$B$13:$B$66,0),MATCH('SCORE TABLE'!H$9,'DATA TABLE'!$J$9:$AC$9,0)))-'SCORE TABLE'!$F37)/('SCORE TABLE'!$G37-'SCORE TABLE'!$F37))*100,0)","v":87.1},{"$f":"IFERROR((((INDEX('DATA TABLE'!$J$13:$AC$66, MATCH('SCORE TABLE'!$B37,'DATA TABLE'!$B$13:$B$66,0),MATCH('SCORE TABLE'!I$9,'DATA TABLE'!$J$9:$AC$9,0)))-'SCORE TABLE'!$F37)/('SCORE TABLE'!$G37-'SCORE TABLE'!$F37))*100,0)","v":81.599999999999994},{"$f":"IFERROR((((INDEX('DATA TABLE'!$J$13:$AC$66, MATCH('SCORE TABLE'!$B37,'DATA TABLE'!$B$13:$B$66,0),MATCH('SCORE TABLE'!J$9,'DATA TABLE'!$J$9:$AC$9,0)))-'SCORE TABLE'!$F37)/('SCORE TABLE'!$G37-'SCORE TABLE'!$F37))*100,0)","v":91.5},{"$f":"IFERROR((((INDEX('DATA TABLE'!$J$13:$AC$66, MATCH('SCORE TABLE'!$B37,'DATA TABLE'!$B$13:$B$66,0),MATCH('SCORE TABLE'!K$9,'DATA TABLE'!$J$9:$AC$9,0)))-'SCORE TABLE'!$F37)/('SCORE TABLE'!$G37-'SCORE TABLE'!$F37))*100,0)","v":0},{"$f":"IFERROR((((INDEX('DATA TABLE'!$J$13:$AC$66, MATCH('SCORE TABLE'!$B37,'DATA TABLE'!$B$13:$B$66,0),MATCH('SCORE TABLE'!L$9,'DATA TABLE'!$J$9:$AC$9,0)))-'SCORE TABLE'!$F37)/('SCORE TABLE'!$G37-'SCORE TABLE'!$F37))*100,0)","v":87.4},{"$f":"IFERROR((((INDEX('DATA TABLE'!$J$13:$AC$66, MATCH('SCORE TABLE'!$B37,'DATA TABLE'!$B$13:$B$66,0),MATCH('SCORE TABLE'!M$9,'DATA TABLE'!$J$9:$AC$9,0)))-'SCORE TABLE'!$F37)/('SCORE TABLE'!$G37-'SCORE TABLE'!$F37))*100,0)","v":92.1},{"$f":"IFERROR((((INDEX('DATA TABLE'!$J$13:$AC$66, MATCH('SCORE TABLE'!$B37,'DATA TABLE'!$B$13:$B$66,0),MATCH('SCORE TABLE'!N$9,'DATA TABLE'!$J$9:$AC$9,0)))-'SCORE TABLE'!$F37)/('SCORE TABLE'!$G37-'SCORE TABLE'!$F37))*100,0)","v":96},{"$f":"IFERROR((((INDEX('DATA TABLE'!$J$13:$AC$66, MATCH('SCORE TABLE'!$B37,'DATA TABLE'!$B$13:$B$66,0),MATCH('SCORE TABLE'!O$9,'DATA TABLE'!$J$9:$AC$9,0)))-'SCORE TABLE'!$F37)/('SCORE TABLE'!$G37-'SCORE TABLE'!$F37))*100,0)","v":0},{"$f":"IFERROR((((INDEX('DATA TABLE'!$J$13:$AC$66, MATCH('SCORE TABLE'!$B37,'DATA TABLE'!$B$13:$B$66,0),MATCH('SCORE TABLE'!P$9,'DATA TABLE'!$J$9:$AC$9,0)))-'SCORE TABLE'!$F37)/('SCORE TABLE'!$G37-'SCORE TABLE'!$F37))*100,0)","v":98},{"$f":"IFERROR((((INDEX('DATA TABLE'!$J$13:$AC$66, MATCH('SCORE TABLE'!$B37,'DATA TABLE'!$B$13:$B$66,0),MATCH('SCORE TABLE'!Q$9,'DATA TABLE'!$J$9:$AC$9,0)))-'SCORE TABLE'!$F37)/('SCORE TABLE'!$G37-'SCORE TABLE'!$F37))*100,0)","v":94.5},{"$f":"IFERROR((((INDEX('DATA TABLE'!$J$13:$AC$66, MATCH('SCORE TABLE'!$B37,'DATA TABLE'!$B$13:$B$66,0),MATCH('SCORE TABLE'!R$9,'DATA TABLE'!$J$9:$AC$9,0)))-'SCORE TABLE'!$F37)/('SCORE TABLE'!$G37-'SCORE TABLE'!$F37))*100,0)","v":79.3},{"$f":"IFERROR((((INDEX('DATA TABLE'!$J$13:$AC$66, MATCH('SCORE TABLE'!$B37,'DATA TABLE'!$B$13:$B$66,0),MATCH('SCORE TABLE'!S$9,'DATA TABLE'!$J$9:$AC$9,0)))-'SCORE TABLE'!$F37)/('SCORE TABLE'!$G37-'SCORE TABLE'!$F37))*100,0)","v":26.1},{"$f":"IFERROR((((INDEX('DATA TABLE'!$J$13:$AC$66, MATCH('SCORE TABLE'!$B37,'DATA TABLE'!$B$13:$B$66,0),MATCH('SCORE TABLE'!T$9,'DATA TABLE'!$J$9:$AC$9,0)))-'SCORE TABLE'!$F37)/('SCORE TABLE'!$G37-'SCORE TABLE'!$F37))*100,0)","v":79.400000000000006},{"$f":"IFERROR((((INDEX('DATA TABLE'!$J$13:$AC$66, MATCH('SCORE TABLE'!$B37,'DATA TABLE'!$B$13:$B$66,0),MATCH('SCORE TABLE'!U$9,'DATA TABLE'!$J$9:$AC$9,0)))-'SCORE TABLE'!$F37)/('SCORE TABLE'!$G37-'SCORE TABLE'!$F37))*100,0)","v":0},{"$f":"IFERROR((((INDEX('DATA TABLE'!$J$13:$AC$66, MATCH('SCORE TABLE'!$B37,'DATA TABLE'!$B$13:$B$66,0),MATCH('SCORE TABLE'!V$9,'DATA TABLE'!$J$9:$AC$9,0)))-'SCORE TABLE'!$F37)/('SCORE TABLE'!$G37-'SCORE TABLE'!$F37))*100,0)","v":87},{"$f":"IFERROR((((INDEX('DATA TABLE'!$J$13:$AC$66, MATCH('SCORE TABLE'!$B37,'DATA TABLE'!$B$13:$B$66,0),MATCH('SCORE TABLE'!W$9,'DATA TABLE'!$J$9:$AC$9,0)))-'SCORE TABLE'!$F37)/('SCORE TABLE'!$G37-'SCORE TABLE'!$F37))*100,0)","v":80.599999999999994},{"$f":"IFERROR((((INDEX('DATA TABLE'!$J$13:$AC$66, MATCH('SCORE TABLE'!$B37,'DATA TABLE'!$B$13:$B$66,0),MATCH('SCORE TABLE'!X$9,'DATA TABLE'!$J$9:$AC$9,0)))-'SCORE TABLE'!$F37)/('SCORE TABLE'!$G37-'SCORE TABLE'!$F37))*100,0)","v":94.3},{"$f":"IFERROR((((INDEX('DATA TABLE'!$J$13:$AC$66, MATCH('SCORE TABLE'!$B37,'DATA TABLE'!$B$13:$B$66,0),MATCH('SCORE TABLE'!Y$9,'DATA TABLE'!$J$9:$AC$9,0)))-'SCORE TABLE'!$F37)/('SCORE TABLE'!$G37-'SCORE TABLE'!$F37))*100,0)","v":93.1},{"$f":"IFERROR((((INDEX('DATA TABLE'!$J$13:$AC$66, MATCH('SCORE TABLE'!$B37,'DATA TABLE'!$B$13:$B$66,0),MATCH('SCORE TABLE'!Z$9,'DATA TABLE'!$J$9:$AC$9,0)))-'SCORE TABLE'!$F37)/('SCORE TABLE'!$G37-'SCORE TABLE'!$F37))*100,0)","v":90},{"$f":"IFERROR((((INDEX('DATA TABLE'!$J$13:$AC$66, MATCH('SCORE TABLE'!$B37,'DATA TABLE'!$B$13:$B$66,0),MATCH('SCORE TABLE'!AA$9,'DATA TABLE'!$J$9:$AC$9,0)))-'SCORE TABLE'!$F37)/('SCORE TABLE'!$G37-'SCORE TABLE'!$F37))*100,0)","v":94.3}]
[1027,"3.1.2","Affordability of nutritious food",{"$f":"1/3","v":0.33333333333333331},{"$f":"$E$36*D38","v":2.7777777777777776E-2},0,100,{"$f":"IFERROR((((INDEX('DATA TABLE'!$J$13:$AC$66, MATCH('SCORE TABLE'!$B38,'DATA TABLE'!$B$13:$B$66,0),MATCH('SCORE TABLE'!H$9,'DATA TABLE'!$J$9:$AC$9,0)))-'SCORE TABLE'!$F38)/('SCORE TABLE'!$G38-'SCORE TABLE'!$F38))*100,0)","v":96.8},{"$f":"IFERROR((((INDEX('DATA TABLE'!$J$13:$AC$66, MATCH('SCORE TABLE'!$B38,'DATA TABLE'!$B$13:$B$66,0),MATCH('SCORE TABLE'!I$9,'DATA TABLE'!$J$9:$AC$9,0)))-'SCORE TABLE'!$F38)/('SCORE TABLE'!$G38-'SCORE TABLE'!$F38))*100,0)","v":74.7},{"$f":"IFERROR((((INDEX('DATA TABLE'!$J$13:$AC$66, MATCH('SCORE TABLE'!$B38,'DATA TABLE'!$B$13:$B$66,0),MATCH('SCORE TABLE'!J$9,'DATA TABLE'!$J$9:$AC$9,0)))-'SCORE TABLE'!$F38)/('SCORE TABLE'!$G38-'SCORE TABLE'!$F38))*100,0)","v":97.3},{"$f":"IFERROR((((INDEX('DATA TABLE'!$J$13:$AC$66, MATCH('SCORE TABLE'!$B38,'DATA TABLE'!$B$13:$B$66,0),MATCH('SCORE TABLE'!K$9,'DATA TABLE'!$J$9:$AC$9,0)))-'SCORE TABLE'!$F38)/('SCORE TABLE'!$G38-'SCORE TABLE'!$F38))*100,0)","v":82.5},{"$f":"IFERROR((((INDEX('DATA TABLE'!$J$13:$AC$66, MATCH('SCORE TABLE'!$B38,'DATA TABLE'!$B$13:$B$66,0),MATCH('SCORE TABLE'!L$9,'DATA TABLE'!$J$9:$AC$9,0)))-'SCORE TABLE'!$F38)/('SCORE TABLE'!$G38-'SCORE TABLE'!$F38))*100,0)","v":99.2},{"$f":"IFERROR((((INDEX('DATA TABLE'!$J$13:$AC$66, MATCH('SCORE TABLE'!$B38,'DATA TABLE'!$B$13:$B$66,0),MATCH('SCORE TABLE'!M$9,'DATA TABLE'!$J$9:$AC$9,0)))-'SCORE TABLE'!$F38)/('SCORE TABLE'!$G38-'SCORE TABLE'!$F38))*100,0)","v":96.9},{"$f":"IFERROR((((INDEX('DATA TABLE'!$J$13:$AC$66, MATCH('SCORE TABLE'!$B38,'DATA TABLE'!$B$13:$B$66,0),MATCH('SCORE TABLE'!N$9,'DATA TABLE'!$J$9:$AC$9,0)))-'SCORE TABLE'!$F38)/('SCORE TABLE'!$G38-'SCORE TABLE'!$F38))*100,0)","v":97.8},{"$f":"IFERROR((((INDEX('DATA TABLE'!$J$13:$AC$66, MATCH('SCORE TABLE'!$B38,'DATA TABLE'!$B$13:$B$66,0),MATCH('SCORE TABLE'!O$9,'DATA TABLE'!$J$9:$AC$9,0)))-'SCORE TABLE'!$F38)/('SCORE TABLE'!$G38-'SCORE TABLE'!$F38))*100,0)","v":44.4},{"$f":"IFERROR((((INDEX('DATA TABLE'!$J$13:$AC$66, MATCH('SCORE TABLE'!$B38,'DATA TABLE'!$B$13:$B$66,0),MATCH('SCORE TABLE'!P$9,'DATA TABLE'!$J$9:$AC$9,0)))-'SCORE TABLE'!$F38)/('SCORE TABLE'!$G38-'SCORE TABLE'!$F38))*100,0)","v":93.1},{"$f":"IFERROR((((INDEX('DATA TABLE'!$J$13:$AC$66, MATCH('SCORE TABLE'!$B38,'DATA TABLE'!$B$13:$B$66,0),MATCH('SCORE TABLE'!Q$9,'DATA TABLE'!$J$9:$AC$9,0)))-'SCORE TABLE'!$F38)/('SCORE TABLE'!$G38-'SCORE TABLE'!$F38))*100,0)","v":92.5},{"$f":"IFERROR((((INDEX('DATA TABLE'!$J$13:$AC$66, MATCH('SCORE TABLE'!$B38,'DATA TABLE'!$B$13:$B$66,0),MATCH('SCORE TABLE'!R$9,'DATA TABLE'!$J$9:$AC$9,0)))-'SCORE TABLE'!$F38)/('SCORE TABLE'!$G38-'SCORE TABLE'!$F38))*100,0)","v":77.5},{"$f":"IFERROR((((INDEX('DATA TABLE'!$J$13:$AC$66, MATCH('SCORE TABLE'!$B38,'DATA TABLE'!$B$13:$B$66,0),MATCH('SCORE TABLE'!S$9,'DATA TABLE'!$J$9:$AC$9,0)))-'SCORE TABLE'!$F38)/('SCORE TABLE'!$G38-'SCORE TABLE'!$F38))*100,0)","v":21.3},{"$f":"IFERROR((((INDEX('DATA TABLE'!$J$13:$AC$66, MATCH('SCORE TABLE'!$B38,'DATA TABLE'!$B$13:$B$66,0),MATCH('SCORE TABLE'!T$9,'DATA TABLE'!$J$9:$AC$9,0)))-'SCORE TABLE'!$F38)/('SCORE TABLE'!$G38-'SCORE TABLE'!$F38))*100,0)","v":24.3},{"$f":"IFERROR((((INDEX('DATA TABLE'!$J$13:$AC$66, MATCH('SCORE TABLE'!$B38,'DATA TABLE'!$B$13:$B$66,0),MATCH('SCORE TABLE'!U$9,'DATA TABLE'!$J$9:$AC$9,0)))-'SCORE TABLE'!$F38)/('SCORE TABLE'!$G38-'SCORE TABLE'!$F38))*100,0)","v":0},{"$f":"IFERROR((((INDEX('DATA TABLE'!$J$13:$AC$66, MATCH('SCORE TABLE'!$B38,'DATA TABLE'!$B$13:$B$66,0),MATCH('SCORE TABLE'!V$9,'DATA TABLE'!$J$9:$AC$9,0)))-'SCORE TABLE'!$F38)/('SCORE TABLE'!$G38-'SCORE TABLE'!$F38))*100,0)","v":91.9},{"$f":"IFERROR((((INDEX('DATA TABLE'!$J$13:$AC$66, MATCH('SCORE TABLE'!$B38,'DATA TABLE'!$B$13:$B$66,0),MATCH('SCORE TABLE'!W$9,'DATA TABLE'!$J$9:$AC$9,0)))-'SCORE TABLE'!$F38)/('SCORE TABLE'!$G38-'SCORE TABLE'!$F38))*100,0)","v":38.799999999999997},{"$f":"IFERROR((((INDEX('DATA TABLE'!$J$13:$AC$66, MATCH('SCORE TABLE'!$B38,'DATA TABLE'!$B$13:$B$66,0),MATCH('SCORE TABLE'!X$9,'DATA TABLE'!$J$9:$AC$9,0)))-'SCORE TABLE'!$F38)/('SCORE TABLE'!$G38-'SCORE TABLE'!$F38))*100,0)","v":91},{"$f":"IFERROR((((INDEX('DATA TABLE'!$J$13:$AC$66, MATCH('SCORE TABLE'!$B38,'DATA TABLE'!$B$13:$B$66,0),MATCH('SCORE TABLE'!Y$9,'DATA TABLE'!$J$9:$AC$9,0)))-'SCORE TABLE'!$F38)/('SCORE TABLE'!$G38-'SCORE TABLE'!$F38))*100,0)","v":91.1},{"$f":"IFERROR((((INDEX('DATA TABLE'!$J$13:$AC$66, MATCH('SCORE TABLE'!$B38,'DATA TABLE'!$B$13:$B$66,0),MATCH('SCORE TABLE'!Z$9,'DATA TABLE'!$J$9:$AC$9,0)))-'SCORE TABLE'!$F38)/('SCORE TABLE'!$G38-'SCORE TABLE'!$F38))*100,0)","v":97.7},{"$f":"IFERROR((((INDEX('DATA TABLE'!$J$13:$AC$66, MATCH('SCORE TABLE'!$B38,'DATA TABLE'!$B$13:$B$66,0),MATCH('SCORE TABLE'!AA$9,'DATA TABLE'!$J$9:$AC$9,0)))-'SCORE TABLE'!$F38)/('SCORE TABLE'!$G38-'SCORE TABLE'!$F38))*100,0)","v":97.5}]
[1028,"3.1.3","Nutrition programmes for lower-income individuals",{"$f":"1/3","v":0.33333333333333331},{"$f":"$E$36*D39","v":2.7777777777777776E-2},0,1,{"$f":"IFERROR((((INDEX('DATA TABLE'!$J$13:$AC$66, MATCH('SCORE TABLE'!$B39,'DATA TABLE'!$B$13:$B$66,0),MATCH('SCORE TABLE'!H$9,'DATA TABLE'!$J$9:$AC$9,0)))-'SCORE TABLE'!$F39)/('SCORE TABLE'!$G39-'SCORE TABLE'!$F39))*100,0)","v":0},{"$f":"IFERROR((((INDEX('DATA TABLE'!$J$13:$AC$66, MATCH('SCORE TABLE'!$B39,'DATA TABLE'!$B$13:$B$66,0),MATCH('SCORE TABLE'!I$9,'DATA TABLE'!$J$9:$AC$9,0)))-'SCORE TABLE'!$F39)/('SCORE TABLE'!$G39-'SCORE TABLE'!$F39))*100,0)","v":100},{"$f":"IFERROR((((INDEX('DATA TABLE'!$J$13:$AC$66, MATCH('SCORE TABLE'!$B39,'DATA TABLE'!$B$13:$B$66,0),MATCH('SCORE TABLE'!J$9,'DATA TABLE'!$J$9:$AC$9,0)))-'SCORE TABLE'!$F39)/('SCORE TABLE'!$G39-'SCORE TABLE'!$F39))*100,0)","v":100},{"$f":"IFERROR((((INDEX('DATA TABLE'!$J$13:$AC$66, MATCH('SCORE TABLE'!$B39,'DATA TABLE'!$B$13:$B$66,0),MATCH('SCORE TABLE'!K$9,'DATA TABLE'!$J$9:$AC$9,0)))-'SCORE TABLE'!$F39)/('SCORE TABLE'!$G39-'SCORE TABLE'!$F39))*100,0)","v":100},{"$f":"IFERROR((((INDEX('DATA TABLE'!$J$13:$AC$66, MATCH('SCORE TABLE'!$B39,'DATA TABLE'!$B$13:$B$66,0),MATCH('SCORE TABLE'!L$9,'DATA TABLE'!$J$9:$AC$9,0)))-'SCORE TABLE'!$F39)/('SCORE TABLE'!$G39-'SCORE TABLE'!$F39))*100,0)","v":0},{"$f":"IFERROR((((INDEX('DATA TABLE'!$J$13:$AC$66, MATCH('SCORE TABLE'!$B39,'DATA TABLE'!$B$13:$B$66,0),MATCH('SCORE TABLE'!M$9,'DATA TABLE'!$J$9:$AC$9,0)))-'SCORE TABLE'!$F39)/('SCORE TABLE'!$G39-'SCORE TABLE'!$F39))*100,0)","v":100},{"$f":"IFERROR((((INDEX('DATA TABLE'!$J$13:$AC$66, MATCH('SCORE TABLE'!$B39,'DATA TABLE'!$B$13:$B$66,0),MATCH('SCORE TABLE'!N$9,'DATA TABLE'!$J$9:$AC$9,0)))-'SCORE TABLE'!$F39)/('SCORE TABLE'!$G39-'SCORE TABLE'!$F39))*100,0)","v":100},{"$f":"IFERROR((((INDEX('DATA TABLE'!$J$13:$AC$66, MATCH('SCORE TABLE'!$B39,'DATA TABLE'!$B$13:$B$66,0),MATCH('SCORE TABLE'!O$9,'DATA TABLE'!$J$9:$AC$9,0)))-'SCORE TABLE'!$F39)/('SCORE TABLE'!$G39-'SCORE TABLE'!$F39))*100,0)","v":100},{"$f":"IFERROR((((INDEX('DATA TABLE'!$J$13:$AC$66, MATCH('SCORE TABLE'!$B39,'DATA TABLE'!$B$13:$B$66,0),MATCH('SCORE TABLE'!P$9,'DATA TABLE'!$J$9:$AC$9,0)))-'SCORE TABLE'!$F39)/('SCORE TABLE'!$G39-'SCORE TABLE'!$F39))*100,0)","v":100},{"$f":"IFERROR((((INDEX('DATA TABLE'!$J$13:$AC$66, MATCH('SCORE TABLE'!$B39,'DATA TABLE'!$B$13:$B$66,0),MATCH('SCORE TABLE'!Q$9,'DATA TABLE'!$J$9:$AC$9,0)))-'SCORE TABLE'!$F39)/('SCORE TABLE'!$G39-'SCORE TABLE'!$F39))*100,0)","v":0},{"$f":"IFERROR((((INDEX('DATA TABLE'!$J$13:$AC$66, MATCH('SCORE TABLE'!$B39,'DATA TABLE'!$B$13:$B$66,0),MATCH('SCORE TABLE'!R$9,'DATA TABLE'!$J$9:$AC$9,0)))-'SCORE TABLE'!$F39)/('SCORE TABLE'!$G39-'SCORE TABLE'!$F39))*100,0)","v":100},{"$f":"IFERROR((((INDEX('DATA TABLE'!$J$13:$AC$66, MATCH('SCORE TABLE'!$B39,'DATA TABLE'!$B$13:$B$66,0),MATCH('SCORE TABLE'!S$9,'DATA TABLE'!$J$9:$AC$9,0)))-'SCORE TABLE'!$F39)/('SCORE TABLE'!$G39-'SCORE TABLE'!$F39))*100,0)","v":100},{"$f":"IFERROR((((INDEX('DATA TABLE'!$J$13:$AC$66, MATCH('SCORE TABLE'!$B39,'DATA TABLE'!$B$13:$B$66,0),MATCH('SCORE TABLE'!T$9,'DATA TABLE'!$J$9:$AC$9,0)))-'SCORE TABLE'!$F39)/('SCORE TABLE'!$G39-'SCORE TABLE'!$F39))*100,0)","v":100},{"$f":"IFERROR((((INDEX('DATA TABLE'!$J$13:$AC$66, MATCH('SCORE TABLE'!$B39,'DATA TABLE'!$B$13:$B$66,0),MATCH('SCORE TABLE'!U$9,'DATA TABLE'!$J$9:$AC$9,0)))-'SCORE TABLE'!$F39)/('SCORE TABLE'!$G39-'SCORE TABLE'!$F39))*100,0)","v":0},{"$f":"IFERROR((((INDEX('DATA TABLE'!$J$13:$AC$66, MATCH('SCORE TABLE'!$B39,'DATA TABLE'!$B$13:$B$66,0),MATCH('SCORE TABLE'!V$9,'DATA TABLE'!$J$9:$AC$9,0)))-'SCORE TABLE'!$F39)/('SCORE TABLE'!$G39-'SCORE TABLE'!$F39))*100,0)","v":0},{"$f":"IFERROR((((INDEX('DATA TABLE'!$J$13:$AC$66, MATCH('SCORE TABLE'!$B39,'DATA TABLE'!$B$13:$B$66,0),MATCH('SCORE TABLE'!W$9,'DATA TABLE'!$J$9:$AC$9,0)))-'SCORE TABLE'!$F39)/('SCORE TABLE'!$G39-'SCORE TABLE'!$F39))*100,0)","v":100},{"$f":"IFERROR((((INDEX('DATA TABLE'!$J$13:$AC$66, MATCH('SCORE TABLE'!$B39,'DATA TABLE'!$B$13:$B$66,0),MATCH('SCORE TABLE'!X$9,'DATA TABLE'!$J$9:$AC$9,0)))-'SCORE TABLE'!$F39)/('SCORE TABLE'!$G39-'SCORE TABLE'!$F39))*100,0)","v":100},{"$f":"IFERROR((((INDEX('DATA TABLE'!$J$13:$AC$66, MATCH('SCORE TABLE'!$B39,'DATA TABLE'!$B$13:$B$66,0),MATCH('SCORE TABLE'!Y$9,'DATA TABLE'!$J$9:$AC$9,0)))-'SCORE TABLE'!$F39)/('SCORE TABLE'!$G39-'SCORE TABLE'!$F39))*100,0)","v":100},{"$f":"IFERROR((((INDEX('DATA TABLE'!$J$13:$AC$66, MATCH('SCORE TABLE'!$B39,'DATA TABLE'!$B$13:$B$66,0),MATCH('SCORE TABLE'!Z$9,'DATA TABLE'!$J$9:$AC$9,0)))-'SCORE TABLE'!$F39)/('SCORE TABLE'!$G39-'SCORE TABLE'!$F39))*100,0)","v":0},{"$f":"IFERROR((((INDEX('DATA TABLE'!$J$13:$AC$66, MATCH('SCORE TABLE'!$B39,'DATA TABLE'!$B$13:$B$66,0),MATCH('SCORE TABLE'!AA$9,'DATA TABLE'!$J$9:$AC$9,0)))-'SCORE TABLE'!$F39)/('SCORE TABLE'!$G39-'SCORE TABLE'!$F39))*100,0)","v":100}]
[1029,3.2,"Nutrition guidance and regulation",{"$f":"1/3","v":0.33333333333333331},{"$f":"$E$35*D40","v":8.3333333333333329E-2},null,null,{"$f":"ROUND(SUMPRODUCT($D41:$D45,H41:H45),5)","v":20},{"$f":"ROUND(SUMPRODUCT($D41:$D45,I41:I45),5)","v":50},{"$f":"ROUND(SUMPRODUCT($D41:$D45,J41:J45),5)","v":43.333329999999997},30,56.666670000000003,50,40,56.666670000000003,20,16.66667,66.666669999999996,40,20,80,20,53.333329999999997,40,53.333329999999997,33.333329999999997,73.333330000000004]
[1030,"3.2.1","Nutrition policy/strategy/plan that addresses obesity",{"$f":"1/5","v":0.2},{"$f":"$E$40*D41","v":1.6666666666666666E-2},0,3,{"$f":"IFERROR((((INDEX('DATA TABLE'!$J$13:$AC$66, MATCH('SCORE TABLE'!$B41,'DATA TABLE'!$B$13:$B$66,0),MATCH('SCORE TABLE'!H$9,'DATA TABLE'!$J$9:$AC$9,0)))-'SCORE TABLE'!$F41)/('SCORE TABLE'!$G41-'SCORE TABLE'!$F41))*100,0)","v":0},{"$f":"IFERROR((((INDEX('DATA TABLE'!$J$13:$AC$66, MATCH('SCORE TABLE'!$B41,'DATA TABLE'!$B$13:$B$66,0),MATCH('SCORE TABLE'!I$9,'DATA TABLE'!$J$9:$AC$9,0)))-'SCORE TABLE'!$F41)/('SCORE TABLE'!$G41-'SCORE TABLE'!$F41))*100,0)","v":0},{"$f":"IFERROR((((INDEX('DATA TABLE'!$J$13:$AC$66, MATCH('SCORE TABLE'!$B41,'DATA TABLE'!$B$13:$B$66,0),MATCH('SCORE TABLE'!J$9,'DATA TABLE'!$J$9:$AC$9,0)))-'SCORE TABLE'!$F41)/('SCORE TABLE'!$G41-'SCORE TABLE'!$F41))*100,0)","v":66.666666666666657},{"$f":"IFERROR((((INDEX('DATA TABLE'!$J$13:$AC$66, MATCH('SCORE TABLE'!$B41,'DATA TABLE'!$B$13:$B$66,0),MATCH('SCORE TABLE'!K$9,'DATA TABLE'!$J$9:$AC$9,0)))-'SCORE TABLE'!$F41)/('SCORE TABLE'!$G41-'SCORE TABLE'!$F41))*100,0)","v":100},{"$f":"IFERROR((((INDEX('DATA TABLE'!$J$13:$AC$66, MATCH('SCORE TABLE'!$B41,'DATA TABLE'!$B$13:$B$66,0),MATCH('SCORE TABLE'!L$9,'DATA TABLE'!$J$9:$AC$9,0)))-'SCORE TABLE'!$F41)/('SCORE TABLE'!$G41-'SCORE TABLE'!$F41))*100,0)","v":33.333333333333329},{"$f":"IFERROR((((INDEX('DATA TABLE'!$J$13:$AC$66, MATCH('SCORE TABLE'!$B41,'DATA TABLE'!$B$13:$B$66,0),MATCH('SCORE TABLE'!M$9,'DATA TABLE'!$J$9:$AC$9,0)))-'SCORE TABLE'!$F41)/('SCORE TABLE'!$G41-'SCORE TABLE'!$F41))*100,0)","v":100},{"$f":"IFERROR((((INDEX('DATA TABLE'!$J$13:$AC$66, MATCH('SCORE TABLE'!$B41,'DATA TABLE'!$B$13:$B$66,0),MATCH('SCORE TABLE'!N$9,'DATA TABLE'!$J$9:$AC$9,0)))-'SCORE TABLE'!$F41)/('SCORE TABLE'!$G41-'SCORE TABLE'!$F41))*100,0)","v":100},{"$f":"IFERROR((((INDEX('DATA TABLE'!$J$13:$AC$66, MATCH('SCORE TABLE'!$B41,'DATA TABLE'!$B$13:$B$66,0),MATCH('SCORE TABLE'!O$9,'DATA TABLE'!$J$9:$AC$9,0)))-'SCORE TABLE'!$F41)/('SCORE TABLE'!$G41-'SCORE TABLE'!$F41))*100,0)","v":33.333333333333329},{"$f":"IFERROR((((INDEX('DATA TABLE'!$J$13:$AC$66, MATCH('SCORE TABLE'!$B41,'DATA TABLE'!$B$13:$B$66,0),MATCH('SCORE TABLE'!P$9,'DATA TABLE'!$J$9:$AC$9,0)))-'SCORE TABLE'!$F41)/('SCORE TABLE'!$G41-'SCORE TABLE'!$F41))*100,0)","v":0},{"$f":"IFERROR((((INDEX('DATA TABLE'!$J$13:$AC$66, MATCH('SCORE TABLE'!$B41,'DATA TABLE'!$B$13:$B$66,0),MATCH('SCORE TABLE'!Q$9,'DATA TABLE'!$J$9:$AC$9,0)))-'SCORE TABLE'!$F41)/('SCORE TABLE'!$G41-'SCORE TABLE'!$F41))*100,0)","v":33.333333333333329},{"$f":"IFERROR((((INDEX('DATA TABLE'!$J$13:$AC$66, MATCH('SCORE TABLE'!$B41,'DATA TABLE'!$B$13:$B$66,0),MATCH('SCORE TABLE'!R$9,'DATA TABLE'!$J$9:$AC$9,0)))-'SCORE TABLE'!$F41)/('SCORE TABLE'!$G41-'SCORE TABLE'!$F41))*100,0)","v":33.333333333333329},{"$f":"IFERROR((((INDEX('DATA TABLE'!$J$13:$AC$66, MATCH('SCORE TABLE'!$B41,'DATA TABLE'!$B$13:$B$66,0),MATCH('SCORE TABLE'!S$9,'DATA TABLE'!$J$9:$AC$9,0)))-'SCORE TABLE'!$F41)/('SCORE TABLE'!$G41-'SCORE TABLE'!$F41))*100,0)","v":100},{"$f":"IFERROR((((INDEX('DATA TABLE'!$J$13:$AC$66, MATCH('SCORE TABLE'!$B41,'DATA TABLE'!$B$13:$B$66,0),MATCH('SCORE TABLE'!T$9,'DATA TABLE'!$J$9:$AC$9,0)))-'SCORE TABLE'!$F41)/('SCORE TABLE'!$G41-'SCORE TABLE'!$F41))*100,0)","v":0},{"$f":"IFERROR((((INDEX('DATA TABLE'!$J$13:$AC$66, MATCH('SCORE TABLE'!$B41,'DATA TABLE'!$B$13:$B$66,0),MATCH('SCORE TABLE'!U$9,'DATA TABLE'!$J$9:$AC$9,0)))-'SCORE TABLE'!$F41)/('SCORE TABLE'!$G41-'SCORE TABLE'!$F41))*100,0)","v":100},{"$f":"IFERROR((((INDEX('DATA TABLE'!$J$13:$AC$66, MATCH('SCORE TABLE'!$B41,'DATA TABLE'!$B$13:$B$66,0),MATCH('SCORE TABLE'!V$9,'DATA TABLE'!$J$9:$AC$9,0)))-'SCORE TABLE'!$F41)/('SCORE TABLE'!$G41-'SCORE TABLE'!$F41))*100,0)","v":0},{"$f":"IFERROR((((INDEX('DATA TABLE'!$J$13:$AC$66, MATCH('SCORE TABLE'!$B41,'DATA TABLE'!$B$13:$B$66,0),MATCH('SCORE TABLE'!W$9,'DATA TABLE'!$J$9:$AC$9,0)))-'SCORE TABLE'!$F41)/('SCORE TABLE'!$G41-'SCORE TABLE'!$F41))*100,0)","v":66.666666666666657},{"$f":"IFERROR((((INDEX('DATA TABLE'!$J$13:$AC$66, MATCH('SCORE TABLE'!$B41,'DATA TABLE'!$B$13:$B$66,0),MATCH('SCORE TABLE'!X$9,'DATA TABLE'!$J$9:$AC$9,0)))-'SCORE TABLE'!$F41)/('SCORE TABLE'!$G41-'SCORE TABLE'!$F41))*100,0)","v":0},{"$f":"IFERROR((((INDEX('DATA TABLE'!$J$13:$AC$66, MATCH('SCORE TABLE'!$B41,'DATA TABLE'!$B$13:$B$66,0),MATCH('SCORE TABLE'!Y$9,'DATA TABLE'!$J$9:$AC$9,0)))-'SCORE TABLE'!$F41)/('SCORE TABLE'!$G41-'SCORE TABLE'!$F41))*100,0)","v":66.666666666666657},{"$f":"IFERROR((((INDEX('DATA TABLE'!$J$13:$AC$66, MATCH('SCORE TABLE'!$B41,'DATA TABLE'!$B$13:$B$66,0),MATCH('SCORE TABLE'!Z$9,'DATA TABLE'!$J$9:$AC$9,0)))-'SCORE TABLE'!$F41)/('SCORE TABLE'!$G41-'SCORE TABLE'!$F41))*100,0)","v":66.666666666666657},{"$f":"IFERROR((((INDEX('DATA TABLE'!$J$13:$AC$66, MATCH('SCORE TABLE'!$B41,'DATA TABLE'!$B$13:$B$66,0),MATCH('SCORE TABLE'!AA$9,'DATA TABLE'!$J$9:$AC$9,0)))-'SCORE TABLE'!$F41)/('SCORE TABLE'!$G41-'SCORE TABLE'!$F41))*100,0)","v":66.666666666666657}]
[1031,"3.2.2","Marketing of unhealthy food and beverages to children",{"$f":"1/5","v":0.2},{"$f":"$E$40*D42","v":1.6666666666666666E-2},0,2,{"$f":"IFERROR((((INDEX('DATA TABLE'!$J$13:$AC$66, MATCH('SCORE TABLE'!$B42,'DATA TABLE'!$B$13:$B$66,0),MATCH('SCORE TABLE'!H$9,'DATA TABLE'!$J$9:$AC$9,0)))-'SCORE TABLE'!$F42)/('SCORE TABLE'!$G42-'SCORE TABLE'!$F42))*100,0)","v":50},{"$f":"IFERROR((((INDEX('DATA TABLE'!$J$13:$AC$66, MATCH('SCORE TABLE'!$B42,'DATA TABLE'!$B$13:$B$66,0),MATCH('SCORE TABLE'!I$9,'DATA TABLE'!$J$9:$AC$9,0)))-'SCORE TABLE'!$F42)/('SCORE TABLE'!$G42-'SCORE TABLE'!$F42))*100,0)","v":100},{"$f":"IFERROR((((INDEX('DATA TABLE'!$J$13:$AC$66, MATCH('SCORE TABLE'!$B42,'DATA TABLE'!$B$13:$B$66,0),MATCH('SCORE TABLE'!J$9,'DATA TABLE'!$J$9:$AC$9,0)))-'SCORE TABLE'!$F42)/('SCORE TABLE'!$G42-'SCORE TABLE'!$F42))*100,0)","v":50},{"$f":"IFERROR((((INDEX('DATA TABLE'!$J$13:$AC$66, MATCH('SCORE TABLE'!$B42,'DATA TABLE'!$B$13:$B$66,0),MATCH('SCORE TABLE'!K$9,'DATA TABLE'!$J$9:$AC$9,0)))-'SCORE TABLE'!$F42)/('SCORE TABLE'!$G42-'SCORE TABLE'!$F42))*100,0)","v":0},{"$f":"IFERROR((((INDEX('DATA TABLE'!$J$13:$AC$66, MATCH('SCORE TABLE'!$B42,'DATA TABLE'!$B$13:$B$66,0),MATCH('SCORE TABLE'!L$9,'DATA TABLE'!$J$9:$AC$9,0)))-'SCORE TABLE'!$F42)/('SCORE TABLE'!$G42-'SCORE TABLE'!$F42))*100,0)","v":50},{"$f":"IFERROR((((INDEX('DATA TABLE'!$J$13:$AC$66, MATCH('SCORE TABLE'!$B42,'DATA TABLE'!$B$13:$B$66,0),MATCH('SCORE TABLE'!M$9,'DATA TABLE'!$J$9:$AC$9,0)))-'SCORE TABLE'!$F42)/('SCORE TABLE'!$G42-'SCORE TABLE'!$F42))*100,0)","v":50},{"$f":"IFERROR((((INDEX('DATA TABLE'!$J$13:$AC$66, MATCH('SCORE TABLE'!$B42,'DATA TABLE'!$B$13:$B$66,0),MATCH('SCORE TABLE'!N$9,'DATA TABLE'!$J$9:$AC$9,0)))-'SCORE TABLE'!$F42)/('SCORE TABLE'!$G42-'SCORE TABLE'!$F42))*100,0)","v":50},{"$f":"IFERROR((((INDEX('DATA TABLE'!$J$13:$AC$66, MATCH('SCORE TABLE'!$B42,'DATA TABLE'!$B$13:$B$66,0),MATCH('SCORE TABLE'!O$9,'DATA TABLE'!$J$9:$AC$9,0)))-'SCORE TABLE'!$F42)/('SCORE TABLE'!$G42-'SCORE TABLE'!$F42))*100,0)","v":100},{"$f":"IFERROR((((INDEX('DATA TABLE'!$J$13:$AC$66, MATCH('SCORE TABLE'!$B42,'DATA TABLE'!$B$13:$B$66,0),MATCH('SCORE TABLE'!P$9,'DATA TABLE'!$J$9:$AC$9,0)))-'SCORE TABLE'!$F42)/('SCORE TABLE'!$G42-'SCORE TABLE'!$F42))*100,0)","v":50},{"$f":"IFERROR((((INDEX('DATA TABLE'!$J$13:$AC$66, MATCH('SCORE TABLE'!$B42,'DATA TABLE'!$B$13:$B$66,0),MATCH('SCORE TABLE'!Q$9,'DATA TABLE'!$J$9:$AC$9,0)))-'SCORE TABLE'!$F42)/('SCORE TABLE'!$G42-'SCORE TABLE'!$F42))*100,0)","v":0},{"$f":"IFERROR((((INDEX('DATA TABLE'!$J$13:$AC$66, MATCH('SCORE TABLE'!$B42,'DATA TABLE'!$B$13:$B$66,0),MATCH('SCORE TABLE'!R$9,'DATA TABLE'!$J$9:$AC$9,0)))-'SCORE TABLE'!$F42)/('SCORE TABLE'!$G42-'SCORE TABLE'!$F42))*100,0)","v":100},{"$f":"IFERROR((((INDEX('DATA TABLE'!$J$13:$AC$66, MATCH('SCORE TABLE'!$B42,'DATA TABLE'!$B$13:$B$66,0),MATCH('SCORE TABLE'!S$9,'DATA TABLE'!$J$9:$AC$9,0)))-'SCORE TABLE'!$F42)/('SCORE TABLE'!$G42-'SCORE TABLE'!$F42))*100,0)","v":0},{"$f":"IFERROR((((INDEX('DATA TABLE'!$J$13:$AC$66, MATCH('SCORE TABLE'!$B42,'DATA TABLE'!$B$13:$B$66,0),MATCH('SCORE TABLE'!T$9,'DATA TABLE'!$J$9:$AC$9,0)))-'SCORE TABLE'!$F42)/('SCORE TABLE'!$G42-'SCORE TABLE'!$F42))*100,0)","v":0},{"$f":"IFERROR((((INDEX('DATA TABLE'!$J$13:$AC$66, MATCH('SCORE TABLE'!$B42,'DATA TABLE'!$B$13:$B$66,0),MATCH('SCORE TABLE'!U$9,'DATA TABLE'!$J$9:$AC$9,0)))-'SCORE TABLE'!$F42)/('SCORE TABLE'!$G42-'SCORE TABLE'!$F42))*100,0)","v":100},{"$f":"IFERROR((((INDEX('DATA TABLE'!$J$13:$AC$66, MATCH('SCORE TABLE'!$B42,'DATA TABLE'!$B$13:$B$66,0),MATCH('SCORE TABLE'!V$9,'DATA TABLE'!$J$9:$AC$9,0)))-'SCORE TABLE'!$F42)/('SCORE TABLE'!$G42-'SCORE TABLE'!$F42))*100,0)","v":50},{"$f":"IFERROR((((INDEX('DATA TABLE'!$J$13:$AC$66, MATCH('SCORE TABLE'!$B42,'DATA TABLE'!$B$13:$B$66,0),MATCH('SCORE TABLE'!W$9,'DATA TABLE'!$J$9:$AC$9,0)))-'SCORE TABLE'!$F42)/('SCORE TABLE'!$G42-'SCORE TABLE'!$F42))*100,0)","v":100},{"$f":"IFERROR((((INDEX('DATA TABLE'!$J$13:$AC$66, MATCH('SCORE TABLE'!$B42,'DATA TABLE'!$B$13:$B$66,0),MATCH('SCORE TABLE'!X$9,'DATA TABLE'!$J$9:$AC$9,0)))-'SCORE TABLE'!$F42)/('SCORE TABLE'!$G42-'SCORE TABLE'!$F42))*100,0)","v":100},{"$f":"IFERROR((((INDEX('DATA TABLE'!$J$13:$AC$66, MATCH('SCORE TABLE'!$B42,'DATA TABLE'!$B$13:$B$66,0),MATCH('SCORE TABLE'!Y$9,'DATA TABLE'!$J$9:$AC$9,0)))-'SCORE TABLE'!$F42)/('SCORE TABLE'!$G42-'SCORE TABLE'!$F42))*100,0)","v":100},{"$f":"IFERROR((((INDEX('DATA TABLE'!$J$13:$AC$66, MATCH('SCORE TABLE'!$B42,'DATA TABLE'!$B$13:$B$66,0),MATCH('SCORE TABLE'!Z$9,'DATA TABLE'!$J$9:$AC$9,0)))-'SCORE TABLE'!$F42)/('SCORE TABLE'!$G42-'SCORE TABLE'!$F42))*100,0)","v":0},{"$f":"IFERROR((((INDEX('DATA TABLE'!$J$13:$AC$66, MATCH('SCORE TABLE'!$B42,'DATA TABLE'!$B$13:$B$66,0),MATCH('SCORE TABLE'!AA$9,'DATA TABLE'!$J$9:$AC$9,0)))-'SCORE TABLE'!$F42)/('SCORE TABLE'!$G42-'SCORE TABLE'!$F42))*100,0)","v":100}]
[1032,"3.2.3","Food labelling",{"$f":"1/5","v":0.2},{"$f":"$E$40*D43","v":1.6666666666666666E-2},0,2,{"$f":"IFERROR((((INDEX('DATA TABLE'!$J$13:$AC$66, MATCH('SCORE TABLE'!$B43,'DATA TABLE'!$B$13:$B$66,0),MATCH('SCORE TABLE'!H$9,'DATA TABLE'!$J$9:$AC$9,0)))-'SCORE TABLE'!$F43)/('SCORE TABLE'!$G43-'SCORE TABLE'!$F43))*100,0)","v":50},{"$f":"IFERROR((((INDEX('DATA TABLE'!$J$13:$AC$66, MATCH('SCORE TABLE'!$B43,'DATA TABLE'!$B$13:$B$66,0),MATCH('SCORE TABLE'!I$9,'DATA TABLE'!$J$9:$AC$9,0)))-'SCORE TABLE'!$F43)/('SCORE TABLE'!$G43-'SCORE TABLE'!$F43))*100,0)","v":100},{"$f":"IFERROR((((INDEX('DATA TABLE'!$J$13:$AC$66, MATCH('SCORE TABLE'!$B43,'DATA TABLE'!$B$13:$B$66,0),MATCH('SCORE TABLE'!J$9,'DATA TABLE'!$J$9:$AC$9,0)))-'SCORE TABLE'!$F43)/('SCORE TABLE'!$G43-'SCORE TABLE'!$F43))*100,0)","v":100},{"$f":"IFERROR((((INDEX('DATA TABLE'!$J$13:$AC$66, MATCH('SCORE TABLE'!$B43,'DATA TABLE'!$B$13:$B$66,0),MATCH('SCORE TABLE'!K$9,'DATA TABLE'!$J$9:$AC$9,0)))-'SCORE TABLE'!$F43)/('SCORE TABLE'!$G43-'SCORE TABLE'!$F43))*100,0)","v":50},{"$f":"IFERROR((((INDEX('DATA TABLE'!$J$13:$AC$66, MATCH('SCORE TABLE'!$B43,'DATA TABLE'!$B$13:$B$66,0),MATCH('SCORE TABLE'!L$9,'DATA TABLE'!$J$9:$AC$9,0)))-'SCORE TABLE'!$F43)/('SCORE TABLE'!$G43-'SCORE TABLE'!$F43))*100,0)","v":50},{"$f":"IFERROR((((INDEX('DATA TABLE'!$J$13:$AC$66, MATCH('SCORE TABLE'!$B43,'DATA TABLE'!$B$13:$B$66,0),MATCH('SCORE TABLE'!M$9,'DATA TABLE'!$J$9:$AC$9,0)))-'SCORE TABLE'!$F43)/('SCORE TABLE'!$G43-'SCORE TABLE'!$F43))*100,0)","v":50},{"$f":"IFERROR((((INDEX('DATA TABLE'!$J$13:$AC$66, MATCH('SCORE TABLE'!$B43,'DATA TABLE'!$B$13:$B$66,0),MATCH('SCORE TABLE'!N$9,'DATA TABLE'!$J$9:$AC$9,0)))-'SCORE TABLE'!$F43)/('SCORE TABLE'!$G43-'SCORE TABLE'!$F43))*100,0)","v":50},{"$f":"IFERROR((((INDEX('DATA TABLE'!$J$13:$AC$66, MATCH('SCORE TABLE'!$B43,'DATA TABLE'!$B$13:$B$66,0),MATCH('SCORE TABLE'!O$9,'DATA TABLE'!$J$9:$AC$9,0)))-'SCORE TABLE'!$F43)/('SCORE TABLE'!$G43-'SCORE TABLE'!$F43))*100,0)","v":50},{"$f":"IFERROR((((INDEX('DATA TABLE'!$J$13:$AC$66, MATCH('SCORE TABLE'!$B43,'DATA TABLE'!$B$13:$B$66,0),MATCH('SCORE TABLE'!P$9,'DATA TABLE'!$J$9:$AC$9,0)))-'SCORE TABLE'!$F43)/('SCORE TABLE'!$G43-'SCORE TABLE'!$F43))*100,0)","v":50},{"$f":"IFERROR((((INDEX('DATA TABLE'!$J$13:$AC$66, MATCH('SCORE TABLE'!$B43,'DATA TABLE'!$B$13:$B$66,0),MATCH('SCORE TABLE'!Q$9,'DATA TABLE'!$J$9:$AC$9,0)))-'SCORE TABLE'!$F43)/('SCORE TABLE'!$G43-'SCORE TABLE'!$F43))*100,0)","v":50},{"$f":"IFERROR((((INDEX('DATA TABLE'!$J$13:$AC$66, MATCH('SCORE TABLE'!$B43,'DATA TABLE'!$B$13:$B$66,0),MATCH('SCORE TABLE'!R$9,'DATA TABLE'!$J$9:$AC$9,0)))-'SCORE TABLE'!$F43)/('SCORE TABLE'!$G43-'SCORE TABLE'!$F43))*100,0)","v":100},{"$f":"IFERROR((((INDEX('DATA TABLE'!$J$13:$AC$66, MATCH('SCORE TABLE'!$B43,'DATA TABLE'!$B$13:$B$66,0),MATCH('SCORE TABLE'!S$9,'DATA TABLE'!$J$9:$AC$9,0)))-'SCORE TABLE'!$F43)/('SCORE TABLE'!$G43-'SCORE TABLE'!$F43))*100,0)","v":50},{"$f":"IFERROR((((INDEX('DATA TABLE'!$J$13:$AC$66, MATCH('SCORE TABLE'!$B43,'DATA TABLE'!$B$13:$B$66,0),MATCH('SCORE TABLE'!T$9,'DATA TABLE'!$J$9:$AC$9,0)))-'SCORE TABLE'!$F43)/('SCORE TABLE'!$G43-'SCORE TABLE'!$F43))*100,0)","v":50},{"$f":"IFERROR((((INDEX('DATA TABLE'!$J$13:$AC$66, MATCH('SCORE TABLE'!$B43,'DATA TABLE'!$B$13:$B$66,0),MATCH('SCORE TABLE'!U$9,'DATA TABLE'!$J$9:$AC$9,0)))-'SCORE TABLE'!$F43)/('SCORE TABLE'!$G43-'SCORE TABLE'!$F43))*100,0)","v":50},{"$f":"IFERROR((((INDEX('DATA TABLE'!$J$13:$AC$66, MATCH('SCORE TABLE'!$B43,'DATA TABLE'!$B$13:$B$66,0),MATCH('SCORE TABLE'!V$9,'DATA TABLE'!$J$9:$AC$9,0)))-'SCORE TABLE'!$F43)/('SCORE TABLE'!$G43-'SCORE TABLE'!$F43))*100,0)","v":50},{"$f":"IFERROR((((INDEX('DATA TABLE'!$J$13:$AC$66, MATCH('SCORE TABLE'!$B43,'DATA TABLE'!$B$13:$B$66,0),MATCH('SCORE TABLE'!W$9,'DATA TABLE'!$J$9:$AC$9,0)))-'SCORE TABLE'!$F43)/('SCORE TABLE'!$G43-'SCORE TABLE'!$F43))*100,0)","v":50},{"$f":"IFERROR((((INDEX('DATA TABLE'!$J$13:$AC$66, MATCH('SCORE TABLE'!$B43,'DATA TABLE'!$B$13:$B$66,0),MATCH('SCORE TABLE'!X$9,'DATA TABLE'!$J$9:$AC$9,0)))-'SCORE TABLE'!$F43)/('SCORE TABLE'!$G43-'SCORE TABLE'!$F43))*100,0)","v":50},{"$f":"IFERROR((((INDEX('DATA TABLE'!$J$13:$AC$66, MATCH('SCORE TABLE'!$B43,'DATA TABLE'!$B$13:$B$66,0),MATCH('SCORE TABLE'!Y$9,'DATA TABLE'!$J$9:$AC$9,0)))-'SCORE TABLE'!$F43)/('SCORE TABLE'!$G43-'SCORE TABLE'!$F43))*100,0)","v":50},{"$f":"IFERROR((((INDEX('DATA TABLE'!$J$13:$AC$66, MATCH('SCORE TABLE'!$B43,'DATA TABLE'!$B$13:$B$66,0),MATCH('SCORE TABLE'!Z$9,'DATA TABLE'!$J$9:$AC$9,0)))-'SCORE TABLE'!$F43)/('SCORE TABLE'!$G43-'SCORE TABLE'!$F43))*100,0)","v":50},{"$f":"IFERROR((((INDEX('DATA TABLE'!$J$13:$AC$66, MATCH('SCORE TABLE'!$B43,'DATA TABLE'!$B$13:$B$66,0),MATCH('SCORE TABLE'!AA$9,'DATA TABLE'!$J$9:$AC$9,0)))-'SCORE TABLE'!$F43)/('SCORE TABLE'!$G43-'SCORE TABLE'!$F43))*100,0)","v":50}]
[1033,"3.2.4","Menu labelling",{"$f":"1/5","v":0.2},{"$f":"$E$40*D44","v":1.6666666666666666E-2},0,2,{"$f":"IFERROR((((INDEX('DATA TABLE'!$J$13:$AC$66, MATCH('SCORE TABLE'!$B44,'DATA TABLE'!$B$13:$B$66,0),MATCH('SCORE TABLE'!H$9,'DATA TABLE'!$J$9:$AC$9,0)))-'SCORE TABLE'!$F44)/('SCORE TABLE'!$G44-'SCORE TABLE'!$F44))*100,0)","v":0},{"$f":"IFERROR((((INDEX('DATA TABLE'!$J$13:$AC$66, MATCH('SCORE TABLE'!$B44,'DATA TABLE'!$B$13:$B$66,0),MATCH('SCORE TABLE'!I$9,'DATA TABLE'!$J$9:$AC$9,0)))-'SCORE TABLE'!$F44)/('SCORE TABLE'!$G44-'SCORE TABLE'!$F44))*100,0)","v":0},{"$f":"IFERROR((((INDEX('DATA TABLE'!$J$13:$AC$66, MATCH('SCORE TABLE'!$B44,'DATA TABLE'!$B$13:$B$66,0),MATCH('SCORE TABLE'!J$9,'DATA TABLE'!$J$9:$AC$9,0)))-'SCORE TABLE'!$F44)/('SCORE TABLE'!$G44-'SCORE TABLE'!$F44))*100,0)","v":0},{"$f":"IFERROR((((INDEX('DATA TABLE'!$J$13:$AC$66, MATCH('SCORE TABLE'!$B44,'DATA TABLE'!$B$13:$B$66,0),MATCH('SCORE TABLE'!K$9,'DATA TABLE'!$J$9:$AC$9,0)))-'SCORE TABLE'!$F44)/('SCORE TABLE'!$G44-'SCORE TABLE'!$F44))*100,0)","v":0},{"$f":"IFERROR((((INDEX('DATA TABLE'!$J$13:$AC$66, MATCH('SCORE TABLE'!$B44,'DATA TABLE'!$B$13:$B$66,0),MATCH('SCORE TABLE'!L$9,'DATA TABLE'!$J$9:$AC$9,0)))-'SCORE TABLE'!$F44)/('SCORE TABLE'!$G44-'SCORE TABLE'!$F44))*100,0)","v":100},{"$f":"IFERROR((((INDEX('DATA TABLE'!$J$13:$AC$66, MATCH('SCORE TABLE'!$B44,'DATA TABLE'!$B$13:$B$66,0),MATCH('SCORE TABLE'!M$9,'DATA TABLE'!$J$9:$AC$9,0)))-'SCORE TABLE'!$F44)/('SCORE TABLE'!$G44-'SCORE TABLE'!$F44))*100,0)","v":0},{"$f":"IFERROR((((INDEX('DATA TABLE'!$J$13:$AC$66, MATCH('SCORE TABLE'!$B44,'DATA TABLE'!$B$13:$B$66,0),MATCH('SCORE TABLE'!N$9,'DATA TABLE'!$J$9:$AC$9,0)))-'SCORE TABLE'!$F44)/('SCORE TABLE'!$G44-'SCORE TABLE'!$F44))*100,0)","v":0},{"$f":"IFERROR((((INDEX('DATA TABLE'!$J$13:$AC$66, MATCH('SCORE TABLE'!$B44,'DATA TABLE'!$B$13:$B$66,0),MATCH('SCORE TABLE'!O$9,'DATA TABLE'!$J$9:$AC$9,0)))-'SCORE TABLE'!$F44)/('SCORE TABLE'!$G44-'SCORE TABLE'!$F44))*100,0)","v":100},{"$f":"IFERROR((((INDEX('DATA TABLE'!$J$13:$AC$66, MATCH('SCORE TABLE'!$B44,'DATA TABLE'!$B$13:$B$66,0),MATCH('SCORE TABLE'!P$9,'DATA TABLE'!$J$9:$AC$9,0)))-'SCORE TABLE'!$F44)/('SCORE TABLE'!$G44-'SCORE TABLE'!$F44))*100,0)","v":0},{"$f":"IFERROR((((INDEX('DATA TABLE'!$J$13:$AC$66, MATCH('SCORE TABLE'!$B44,'DATA TABLE'!$B$13:$B$66,0),MATCH('SCORE TABLE'!Q$9,'DATA TABLE'!$J$9:$AC$9,0)))-'SCORE TABLE'!$F44)/('SCORE TABLE'!$G44-'SCORE TABLE'!$F44))*100,0)","v":0},{"$f":"IFERROR((((INDEX('DATA TABLE'!$J$13:$AC$66, MATCH('SCORE TABLE'!$B44,'DATA TABLE'!$B$13:$B$66,0),MATCH('SCORE TABLE'!R$9,'DATA TABLE'!$J$9:$AC$9,0)))-'SCORE TABLE'!$F44)/('SCORE TABLE'!$G44-'SCORE TABLE'!$F44))*100,0)","v":0},{"$f":"IFERROR((((INDEX('DATA TABLE'!$J$13:$AC$66, MATCH('SCORE TABLE'!$B44,'DATA TABLE'!$B$13:$B$66,0),MATCH('SCORE TABLE'!S$9,'DATA TABLE'!$J$9:$AC$9,0)))-'SCORE TABLE'!$F44)/('SCORE TABLE'!$G44-'SCORE TABLE'!$F44))*100,0)","v":0},{"$f":"IFERROR((((INDEX('DATA TABLE'!$J$13:$AC$66, MATCH('SCORE TABLE'!$B44,'DATA TABLE'!$B$13:$B$66,0),MATCH('SCORE TABLE'!T$9,'DATA TABLE'!$J$9:$AC$9,0)))-'SCORE TABLE'!$F44)/('SCORE TABLE'!$G44-'SCORE TABLE'!$F44))*100,0)","v":0},{"$f":"IFERROR((((INDEX('DATA TABLE'!$J$13:$AC$66, MATCH('SCORE TABLE'!$B44,'DATA TABLE'!$B$13:$B$66,0),MATCH('SCORE TABLE'!U$9,'DATA TABLE'!$J$9:$AC$9,0)))-'SCORE TABLE'!$F44)/('SCORE TABLE'!$G44-'SCORE TABLE'!$F44))*100,0)","v":100},{"$f":"IFERROR((((INDEX('DATA TABLE'!$J$13:$AC$66, MATCH('SCORE TABLE'!$B44,'DATA TABLE'!$B$13:$B$66,0),MATCH('SCORE TABLE'!V$9,'DATA TABLE'!$J$9:$AC$9,0)))-'SCORE TABLE'!$F44)/('SCORE TABLE'!$G44-'SCORE TABLE'!$F44))*100,0)","v":0},{"$f":"IFERROR((((INDEX('DATA TABLE'!$J$13:$AC$66, MATCH('SCORE TABLE'!$B44,'DATA TABLE'!$B$13:$B$66,0),MATCH('SCORE TABLE'!W$9,'DATA TABLE'!$J$9:$AC$9,0)))-'SCORE TABLE'!$F44)/('SCORE TABLE'!$G44-'SCORE TABLE'!$F44))*100,0)","v":0},{"$f":"IFERROR((((INDEX('DATA TABLE'!$J$13:$AC$66, MATCH('SCORE TABLE'!$B44,'DATA TABLE'!$B$13:$B$66,0),MATCH('SCORE TABLE'!X$9,'DATA TABLE'!$J$9:$AC$9,0)))-'SCORE TABLE'!$F44)/('SCORE TABLE'!$G44-'SCORE TABLE'!$F44))*100,0)","v":50},{"$f":"IFERROR((((INDEX('DATA TABLE'!$J$13:$AC$66, MATCH('SCORE TABLE'!$B44,'DATA TABLE'!$B$13:$B$66,0),MATCH('SCORE TABLE'!Y$9,'DATA TABLE'!$J$9:$AC$9,0)))-'SCORE TABLE'!$F44)/('SCORE TABLE'!$G44-'SCORE TABLE'!$F44))*100,0)","v":0},{"$f":"IFERROR((((INDEX('DATA TABLE'!$J$13:$AC$66, MATCH('SCORE TABLE'!$B44,'DATA TABLE'!$B$13:$B$66,0),MATCH('SCORE TABLE'!Z$9,'DATA TABLE'!$J$9:$AC$9,0)))-'SCORE TABLE'!$F44)/('SCORE TABLE'!$G44-'SCORE TABLE'!$F44))*100,0)","v":0},{"$f":"IFERROR((((INDEX('DATA TABLE'!$J$13:$AC$66, MATCH('SCORE TABLE'!$B44,'DATA TABLE'!$B$13:$B$66,0),MATCH('SCORE TABLE'!AA$9,'DATA TABLE'!$J$9:$AC$9,0)))-'SCORE TABLE'!$F44)/('SCORE TABLE'!$G44-'SCORE TABLE'!$F44))*100,0)","v":100}]
[1034,"3.2.5","Taxes on unhealthy food and beverages",{"$f":"1/5","v":0.2},{"$f":"$E$40*D45","v":1.6666666666666666E-2},0,2,{"$f":"IFERROR((((INDEX('DATA TABLE'!$J$13:$AC$66, MATCH('SCORE TABLE'!$B45,'DATA TABLE'!$B$13:$B$66,0),MATCH('SCORE TABLE'!H$9,'DATA TABLE'!$J$9:$AC$9,0)))-'SCORE TABLE'!$F45)/('SCORE TABLE'!$G45-'SCORE TABLE'!$F45))*100,0)","v":0},{"$f":"IFERROR((((INDEX('DATA TABLE'!$J$13:$AC$66, MATCH('SCORE TABLE'!$B45,'DATA TABLE'!$B$13:$B$66,0),MATCH('SCORE TABLE'!I$9,'DATA TABLE'!$J$9:$AC$9,0)))-'SCORE TABLE'!$F45)/('SCORE TABLE'!$G45-'SCORE TABLE'!$F45))*100,0)","v":50},{"$f":"IFERROR((((INDEX('DATA TABLE'!$J$13:$AC$66, MATCH('SCORE TABLE'!$B45,'DATA TABLE'!$B$13:$B$66,0),MATCH('SCORE TABLE'!J$9,'DATA TABLE'!$J$9:$AC$9,0)))-'SCORE TABLE'!$F45)/('SCORE TABLE'!$G45-'SCORE TABLE'!$F45))*100,0)","v":0},{"$f":"IFERROR((((INDEX('DATA TABLE'!$J$13:$AC$66, MATCH('SCORE TABLE'!$B45,'DATA TABLE'!$B$13:$B$66,0),MATCH('SCORE TABLE'!K$9,'DATA TABLE'!$J$9:$AC$9,0)))-'SCORE TABLE'!$F45)/('SCORE TABLE'!$G45-'SCORE TABLE'!$F45))*100,0)","v":0},{"$f":"IFERROR((((INDEX('DATA TABLE'!$J$13:$AC$66, MATCH('SCORE TABLE'!$B45,'DATA TABLE'!$B$13:$B$66,0),MATCH('SCORE TABLE'!L$9,'DATA TABLE'!$J$9:$AC$9,0)))-'SCORE TABLE'!$F45)/('SCORE TABLE'!$G45-'SCORE TABLE'!$F45))*100,0)","v":50},{"$f":"IFERROR((((INDEX('DATA TABLE'!$J$13:$AC$66, MATCH('SCORE TABLE'!$B45,'DATA TABLE'!$B$13:$B$66,0),MATCH('SCORE TABLE'!M$9,'DATA TABLE'!$J$9:$AC$9,0)))-'SCORE TABLE'!$F45)/('SCORE TABLE'!$G45-'SCORE TABLE'!$F45))*100,0)","v":50},{"$f":"IFERROR((((INDEX('DATA TABLE'!$J$13:$AC$66, MATCH('SCORE TABLE'!$B45,'DATA TABLE'!$B$13:$B$66,0),MATCH('SCORE TABLE'!N$9,'DATA TABLE'!$J$9:$AC$9,0)))-'SCORE TABLE'!$F45)/('SCORE TABLE'!$G45-'SCORE TABLE'!$F45))*100,0)","v":0},{"$f":"IFERROR((((INDEX('DATA TABLE'!$J$13:$AC$66, MATCH('SCORE TABLE'!$B45,'DATA TABLE'!$B$13:$B$66,0),MATCH('SCORE TABLE'!O$9,'DATA TABLE'!$J$9:$AC$9,0)))-'SCORE TABLE'!$F45)/('SCORE TABLE'!$G45-'SCORE TABLE'!$F45))*100,0)","v":0},{"$f":"IFERROR((((INDEX('DATA TABLE'!$J$13:$AC$66, MATCH('SCORE TABLE'!$B45,'DATA TABLE'!$B$13:$B$66,0),MATCH('SCORE TABLE'!P$9,'DATA TABLE'!$J$9:$AC$9,0)))-'SCORE TABLE'!$F45)/('SCORE TABLE'!$G45-'SCORE TABLE'!$F45))*100,0)","v":0},{"$f":"IFERROR((((INDEX('DATA TABLE'!$J$13:$AC$66, MATCH('SCORE TABLE'!$B45,'DATA TABLE'!$B$13:$B$66,0),MATCH('SCORE TABLE'!Q$9,'DATA TABLE'!$J$9:$AC$9,0)))-'SCORE TABLE'!$F45)/('SCORE TABLE'!$G45-'SCORE TABLE'!$F45))*100,0)","v":0},{"$f":"IFERROR((((INDEX('DATA TABLE'!$J$13:$AC$66, MATCH('SCORE TABLE'!$B45,'DATA TABLE'!$B$13:$B$66,0),MATCH('SCORE TABLE'!R$9,'DATA TABLE'!$J$9:$AC$9,0)))-'SCORE TABLE'!$F45)/('SCORE TABLE'!$G45-'SCORE TABLE'!$F45))*100,0)","v":100},{"$f":"IFERROR((((INDEX('DATA TABLE'!$J$13:$AC$66, MATCH('SCORE TABLE'!$B45,'DATA TABLE'!$B$13:$B$66,0),MATCH('SCORE TABLE'!S$9,'DATA TABLE'!$J$9:$AC$9,0)))-'SCORE TABLE'!$F45)/('SCORE TABLE'!$G45-'SCORE TABLE'!$F45))*100,0)","v":50},{"$f":"IFERROR((((INDEX('DATA TABLE'!$J$13:$AC$66, MATCH('SCORE TABLE'!$B45,'DATA TABLE'!$B$13:$B$66,0),MATCH('SCORE TABLE'!T$9,'DATA TABLE'!$J$9:$AC$9,0)))-'SCORE TABLE'!$F45)/('SCORE TABLE'!$G45-'SCORE TABLE'!$F45))*100,0)","v":50},{"$f":"IFERROR((((INDEX('DATA TABLE'!$J$13:$AC$66, MATCH('SCORE TABLE'!$B45,'DATA TABLE'!$B$13:$B$66,0),MATCH('SCORE TABLE'!U$9,'DATA TABLE'!$J$9:$AC$9,0)))-'SCORE TABLE'!$F45)/('SCORE TABLE'!$G45-'SCORE TABLE'!$F45))*100,0)","v":50},{"$f":"IFERROR((((INDEX('DATA TABLE'!$J$13:$AC$66, MATCH('SCORE TABLE'!$B45,'DATA TABLE'!$B$13:$B$66,0),MATCH('SCORE TABLE'!V$9,'DATA TABLE'!$J$9:$AC$9,0)))-'SCORE TABLE'!$F45)/('SCORE TABLE'!$G45-'SCORE TABLE'!$F45))*100,0)","v":0},{"$f":"IFERROR((((INDEX('DATA TABLE'!$J$13:$AC$66, MATCH('SCORE TABLE'!$B45,'DATA TABLE'!$B$13:$B$66,0),MATCH('SCORE TABLE'!W$9,'DATA TABLE'!$J$9:$AC$9,0)))-'SCORE TABLE'!$F45)/('SCORE TABLE'!$G45-'SCORE TABLE'!$F45))*100,0)","v":50},{"$f":"IFERROR((((INDEX('DATA TABLE'!$J$13:$AC$66, MATCH('SCORE TABLE'!$B45,'DATA TABLE'!$B$13:$B$66,0),MATCH('SCORE TABLE'!X$9,'DATA TABLE'!$J$9:$AC$9,0)))-'SCORE TABLE'!$F45)/('SCORE TABLE'!$G45-'SCORE TABLE'!$F45))*100,0)","v":0},{"$f":"IFERROR((((INDEX('DATA TABLE'!$J$13:$AC$66, MATCH('SCORE TABLE'!$B45,'DATA TABLE'!$B$13:$B$66,0),MATCH('SCORE TABLE'!Y$9,'DATA TABLE'!$J$9:$AC$9,0)))-'SCORE TABLE'!$F45)/('SCORE TABLE'!$G45-'SCORE TABLE'!$F45))*100,0)","v":50},{"$f":"IFERROR((((INDEX('DATA TABLE'!$J$13:$AC$66, MATCH('SCORE TABLE'!$B45,'DATA TABLE'!$B$13:$B$66,0),MATCH('SCORE TABLE'!Z$9,'DATA TABLE'!$J$9:$AC$9,0)))-'SCORE TABLE'!$F45)/('SCORE TABLE'!$G45-'SCORE TABLE'!$F45))*100,0)","v":50},{"$f":"IFERROR((((INDEX('DATA TABLE'!$J$13:$AC$66, MATCH('SCORE TABLE'!$B45,'DATA TABLE'!$B$13:$B$66,0),MATCH('SCORE TABLE'!AA$9,'DATA TABLE'!$J$9:$AC$9,0)))-'SCORE TABLE'!$F45)/('SCORE TABLE'!$G45-'SCORE TABLE'!$F45))*100,0)","v":50}]
[1035,3.3,"Nutrition in schools",{"$f":"1/3","v":0.33333333333333331},{"$f":"$E$35*D46","v":8.3333333333333329E-2},null,null,{"$f":"ROUND(SUMPRODUCT($D47:$D48,H47:H48),5)","v":100},{"$f":"ROUND(SUMPRODUCT($D47:$D48,I47:I48),5)","v":100},50,100,100,100,50,50,100,100,100,0,50,50,100,100,100,100,100,100]
[1036,"3.3.1","School nutrition standards",{"$f":"1/2","v":0.5},{"$f":"$E$46*D47","v":4.1666666666666664E-2},0,1,{"$f":"IFERROR((((INDEX('DATA TABLE'!$J$13:$AC$66, MATCH('SCORE TABLE'!$B47,'DATA TABLE'!$B$13:$B$66,0),MATCH('SCORE TABLE'!H$9,'DATA TABLE'!$J$9:$AC$9,0)))-'SCORE TABLE'!$F47)/('SCORE TABLE'!$G47-'SCORE TABLE'!$F47))*100,0)","v":100},{"$f":"IFERROR((((INDEX('DATA TABLE'!$J$13:$AC$66, MATCH('SCORE TABLE'!$B47,'DATA TABLE'!$B$13:$B$66,0),MATCH('SCORE TABLE'!I$9,'DATA TABLE'!$J$9:$AC$9,0)))-'SCORE TABLE'!$F47)/('SCORE TABLE'!$G47-'SCORE TABLE'!$F47))*100,0)","v":100},{"$f":"IFERROR((((INDEX('DATA TABLE'!$J$13:$AC$66, MATCH('SCORE TABLE'!$B47,'DATA TABLE'!$B$13:$B$66,0),MATCH('SCORE TABLE'!J$9,'DATA TABLE'!$J$9:$AC$9,0)))-'SCORE TABLE'!$F47)/('SCORE TABLE'!$G47-'SCORE TABLE'!$F47))*100,0)","v":0},{"$f":"IFERROR((((INDEX('DATA TABLE'!$J$13:$AC$66, MATCH('SCORE TABLE'!$B47,'DATA TABLE'!$B$13:$B$66,0),MATCH('SCORE TABLE'!K$9,'DATA TABLE'!$J$9:$AC$9,0)))-'SCORE TABLE'!$F47)/('SCORE TABLE'!$G47-'SCORE TABLE'!$F47))*100,0)","v":100},{"$f":"IFERROR((((INDEX('DATA TABLE'!$J$13:$AC$66, MATCH('SCORE TABLE'!$B47,'DATA TABLE'!$B$13:$B$66,0),MATCH('SCORE TABLE'!L$9,'DATA TABLE'!$J$9:$AC$9,0)))-'SCORE TABLE'!$F47)/('SCORE TABLE'!$G47-'SCORE TABLE'!$F47))*100,0)","v":100},{"$f":"IFERROR((((INDEX('DATA TABLE'!$J$13:$AC$66, MATCH('SCORE TABLE'!$B47,'DATA TABLE'!$B$13:$B$66,0),MATCH('SCORE TABLE'!M$9,'DATA TABLE'!$J$9:$AC$9,0)))-'SCORE TABLE'!$F47)/('SCORE TABLE'!$G47-'SCORE TABLE'!$F47))*100,0)","v":100},{"$f":"IFERROR((((INDEX('DATA TABLE'!$J$13:$AC$66, MATCH('SCORE TABLE'!$B47,'DATA TABLE'!$B$13:$B$66,0),MATCH('SCORE TABLE'!N$9,'DATA TABLE'!$J$9:$AC$9,0)))-'SCORE TABLE'!$F47)/('SCORE TABLE'!$G47-'SCORE TABLE'!$F47))*100,0)","v":0},{"$f":"IFERROR((((INDEX('DATA TABLE'!$J$13:$AC$66, MATCH('SCORE TABLE'!$B47,'DATA TABLE'!$B$13:$B$66,0),MATCH('SCORE TABLE'!O$9,'DATA TABLE'!$J$9:$AC$9,0)))-'SCORE TABLE'!$F47)/('SCORE TABLE'!$G47-'SCORE TABLE'!$F47))*100,0)","v":100},{"$f":"IFERROR((((INDEX('DATA TABLE'!$J$13:$AC$66, MATCH('SCORE TABLE'!$B47,'DATA TABLE'!$B$13:$B$66,0),MATCH('SCORE TABLE'!P$9,'DATA TABLE'!$J$9:$AC$9,0)))-'SCORE TABLE'!$F47)/('SCORE TABLE'!$G47-'SCORE TABLE'!$F47))*100,0)","v":100},{"$f":"IFERROR((((INDEX('DATA TABLE'!$J$13:$AC$66, MATCH('SCORE TABLE'!$B47,'DATA TABLE'!$B$13:$B$66,0),MATCH('SCORE TABLE'!Q$9,'DATA TABLE'!$J$9:$AC$9,0)))-'SCORE TABLE'!$F47)/('SCORE TABLE'!$G47-'SCORE TABLE'!$F47))*100,0)","v":100},{"$f":"IFERROR((((INDEX('DATA TABLE'!$J$13:$AC$66, MATCH('SCORE TABLE'!$B47,'DATA TABLE'!$B$13:$B$66,0),MATCH('SCORE TABLE'!R$9,'DATA TABLE'!$J$9:$AC$9,0)))-'SCORE TABLE'!$F47)/('SCORE TABLE'!$G47-'SCORE TABLE'!$F47))*100,0)","v":100},{"$f":"IFERROR((((INDEX('DATA TABLE'!$J$13:$AC$66, MATCH('SCORE TABLE'!$B47,'DATA TABLE'!$B$13:$B$66,0),MATCH('SCORE TABLE'!S$9,'DATA TABLE'!$J$9:$AC$9,0)))-'SCORE TABLE'!$F47)/('SCORE TABLE'!$G47-'SCORE TABLE'!$F47))*100,0)","v":0},{"$f":"IFERROR((((INDEX('DATA TABLE'!$J$13:$AC$66, MATCH('SCORE TABLE'!$B47,'DATA TABLE'!$B$13:$B$66,0),MATCH('SCORE TABLE'!T$9,'DATA TABLE'!$J$9:$AC$9,0)))-'SCORE TABLE'!$F47)/('SCORE TABLE'!$G47-'SCORE TABLE'!$F47))*100,0)","v":100},{"$f":"IFERROR((((INDEX('DATA TABLE'!$J$13:$AC$66, MATCH('SCORE TABLE'!$B47,'DATA TABLE'!$B$13:$B$66,0),MATCH('SCORE TABLE'!U$9,'DATA TABLE'!$J$9:$AC$9,0)))-'SCORE TABLE'!$F47)/('SCORE TABLE'!$G47-'SCORE TABLE'!$F47))*100,0)","v":100},{"$f":"IFERROR((((INDEX('DATA TABLE'!$J$13:$AC$66, MATCH('SCORE TABLE'!$B47,'DATA TABLE'!$B$13:$B$66,0),MATCH('SCORE TABLE'!V$9,'DATA TABLE'!$J$9:$AC$9,0)))-'SCORE TABLE'!$F47)/('SCORE TABLE'!$G47-'SCORE TABLE'!$F47))*100,0)","v":100},{"$f":"IFERROR((((INDEX('DATA TABLE'!$J$13:$AC$66, MATCH('SCORE TABLE'!$B47,'DATA TABLE'!$B$13:$B$66,0),MATCH('SCORE TABLE'!W$9,'DATA TABLE'!$J$9:$AC$9,0)))-'SCORE TABLE'!$F47)/('SCORE TABLE'!$G47-'SCORE TABLE'!$F47))*100,0)","v":100},{"$f":"IFERROR((((INDEX('DATA TABLE'!$J$13:$AC$66, MATCH('SCORE TABLE'!$B47,'DATA TABLE'!$B$13:$B$66,0),MATCH('SCORE TABLE'!X$9,'DATA TABLE'!$J$9:$AC$9,0)))-'SCORE TABLE'!$F47)/('SCORE TABLE'!$G47-'SCORE TABLE'!$F47))*100,0)","v":100},{"$f":"IFERROR((((INDEX('DATA TABLE'!$J$13:$AC$66, MATCH('SCORE TABLE'!$B47,'DATA TABLE'!$B$13:$B$66,0),MATCH('SCORE TABLE'!Y$9,'DATA TABLE'!$J$9:$AC$9,0)))-'SCORE TABLE'!$F47)/('SCORE TABLE'!$G47-'SCORE TABLE'!$F47))*100,0)","v":100},{"$f":"IFERROR((((INDEX('DATA TABLE'!$J$13:$AC$66, MATCH('SCORE TABLE'!$B47,'DATA TABLE'!$B$13:$B$66,0),MATCH('SCORE TABLE'!Z$9,'DATA TABLE'!$J$9:$AC$9,0)))-'SCORE TABLE'!$F47)/('SCORE TABLE'!$G47-'SCORE TABLE'!$F47))*100,0)","v":100},{"$f":"IFERROR((((INDEX('DATA TABLE'!$J$13:$AC$66, MATCH('SCORE TABLE'!$B47,'DATA TABLE'!$B$13:$B$66,0),MATCH('SCORE TABLE'!AA$9,'DATA TABLE'!$J$9:$AC$9,0)))-'SCORE TABLE'!$F47)/('SCORE TABLE'!$G47-'SCORE TABLE'!$F47))*100,0)","v":100}]
[1037,"3.3.2","Nutrition education",{"$f":"1/2","v":0.5},{"$f":"$E$46*D48","v":4.1666666666666664E-2},0,1,{"$f":"IFERROR((((INDEX('DATA TABLE'!$J$13:$AC$66, MATCH('SCORE TABLE'!$B48,'DATA TABLE'!$B$13:$B$66,0),MATCH('SCORE TABLE'!H$9,'DATA TABLE'!$J$9:$AC$9,0)))-'SCORE TABLE'!$F48)/('SCORE TABLE'!$G48-'SCORE TABLE'!$F48))*100,0)","v":100},{"$f":"IFERROR((((INDEX('DATA TABLE'!$J$13:$AC$66, MATCH('SCORE TABLE'!$B48,'DATA TABLE'!$B$13:$B$66,0),MATCH('SCORE TABLE'!I$9,'DATA TABLE'!$J$9:$AC$9,0)))-'SCORE TABLE'!$F48)/('SCORE TABLE'!$G48-'SCORE TABLE'!$F48))*100,0)","v":100},{"$f":"IFERROR((((INDEX('DATA TABLE'!$J$13:$AC$66, MATCH('SCORE TABLE'!$B48,'DATA TABLE'!$B$13:$B$66,0),MATCH('SCORE TABLE'!J$9,'DATA TABLE'!$J$9:$AC$9,0)))-'SCORE TABLE'!$F48)/('SCORE TABLE'!$G48-'SCORE TABLE'!$F48))*100,0)","v":100},{"$f":"IFERROR((((INDEX('DATA TABLE'!$J$13:$AC$66, MATCH('SCORE TABLE'!$B48,'DATA TABLE'!$B$13:$B$66,0),MATCH('SCORE TABLE'!K$9,'DATA TABLE'!$J$9:$AC$9,0)))-'SCORE TABLE'!$F48)/('SCORE TABLE'!$G48-'SCORE TABLE'!$F48))*100,0)","v":100},{"$f":"IFERROR((((INDEX('DATA TABLE'!$J$13:$AC$66, MATCH('SCORE TABLE'!$B48,'DATA TABLE'!$B$13:$B$66,0),MATCH('SCORE TABLE'!L$9,'DATA TABLE'!$J$9:$AC$9,0)))-'SCORE TABLE'!$F48)/('SCORE TABLE'!$G48-'SCORE TABLE'!$F48))*100,0)","v":100},{"$f":"IFERROR((((INDEX('DATA TABLE'!$J$13:$AC$66, MATCH('SCORE TABLE'!$B48,'DATA TABLE'!$B$13:$B$66,0),MATCH('SCORE TABLE'!M$9,'DATA TABLE'!$J$9:$AC$9,0)))-'SCORE TABLE'!$F48)/('SCORE TABLE'!$G48-'SCORE TABLE'!$F48))*100,0)","v":100},{"$f":"IFERROR((((INDEX('DATA TABLE'!$J$13:$AC$66, MATCH('SCORE TABLE'!$B48,'DATA TABLE'!$B$13:$B$66,0),MATCH('SCORE TABLE'!N$9,'DATA TABLE'!$J$9:$AC$9,0)))-'SCORE TABLE'!$F48)/('SCORE TABLE'!$G48-'SCORE TABLE'!$F48))*100,0)","v":100},{"$f":"IFERROR((((INDEX('DATA TABLE'!$J$13:$AC$66, MATCH('SCORE TABLE'!$B48,'DATA TABLE'!$B$13:$B$66,0),MATCH('SCORE TABLE'!O$9,'DATA TABLE'!$J$9:$AC$9,0)))-'SCORE TABLE'!$F48)/('SCORE TABLE'!$G48-'SCORE TABLE'!$F48))*100,0)","v":0},{"$f":"IFERROR((((INDEX('DATA TABLE'!$J$13:$AC$66, MATCH('SCORE TABLE'!$B48,'DATA TABLE'!$B$13:$B$66,0),MATCH('SCORE TABLE'!P$9,'DATA TABLE'!$J$9:$AC$9,0)))-'SCORE TABLE'!$F48)/('SCORE TABLE'!$G48-'SCORE TABLE'!$F48))*100,0)","v":100},{"$f":"IFERROR((((INDEX('DATA TABLE'!$J$13:$AC$66, MATCH('SCORE TABLE'!$B48,'DATA TABLE'!$B$13:$B$66,0),MATCH('SCORE TABLE'!Q$9,'DATA TABLE'!$J$9:$AC$9,0)))-'SCORE TABLE'!$F48)/('SCORE TABLE'!$G48-'SCORE TABLE'!$F48))*100,0)","v":100},{"$f":"IFERROR((((INDEX('DATA TABLE'!$J$13:$AC$66, MATCH('SCORE TABLE'!$B48,'DATA TABLE'!$B$13:$B$66,0),MATCH('SCORE TABLE'!R$9,'DATA TABLE'!$J$9:$AC$9,0)))-'SCORE TABLE'!$F48)/('SCORE TABLE'!$G48-'SCORE TABLE'!$F48))*100,0)","v":100},{"$f":"IFERROR((((INDEX('DATA TABLE'!$J$13:$AC$66, MATCH('SCORE TABLE'!$B48,'DATA TABLE'!$B$13:$B$66,0),MATCH('SCORE TABLE'!S$9,'DATA TABLE'!$J$9:$AC$9,0)))-'SCORE TABLE'!$F48)/('SCORE TABLE'!$G48-'SCORE TABLE'!$F48))*100,0)","v":0},{"$f":"IFERROR((((INDEX('DATA TABLE'!$J$13:$AC$66, MATCH('SCORE TABLE'!$B48,'DATA TABLE'!$B$13:$B$66,0),MATCH('SCORE TABLE'!T$9,'DATA TABLE'!$J$9:$AC$9,0)))-'SCORE TABLE'!$F48)/('SCORE TABLE'!$G48-'SCORE TABLE'!$F48))*100,0)","v":0},{"$f":"IFERROR((((INDEX('DATA TABLE'!$J$13:$AC$66, MATCH('SCORE TABLE'!$B48,'DATA TABLE'!$B$13:$B$66,0),MATCH('SCORE TABLE'!U$9,'DATA TABLE'!$J$9:$AC$9,0)))-'SCORE TABLE'!$F48)/('SCORE TABLE'!$G48-'SCORE TABLE'!$F48))*100,0)","v":0},{"$f":"IFERROR((((INDEX('DATA TABLE'!$J$13:$AC$66, MATCH('SCORE TABLE'!$B48,'DATA TABLE'!$B$13:$B$66,0),MATCH('SCORE TABLE'!V$9,'DATA TABLE'!$J$9:$AC$9,0)))-'SCORE TABLE'!$F48)/('SCORE TABLE'!$G48-'SCORE TABLE'!$F48))*100,0)","v":100},{"$f":"IFERROR((((INDEX('DATA TABLE'!$J$13:$AC$66, MATCH('SCORE TABLE'!$B48,'DATA TABLE'!$B$13:$B$66,0),MATCH('SCORE TABLE'!W$9,'DATA TABLE'!$J$9:$AC$9,0)))-'SCORE TABLE'!$F48)/('SCORE TABLE'!$G48-'SCORE TABLE'!$F48))*100,0)","v":100},{"$f":"IFERROR((((INDEX('DATA TABLE'!$J$13:$AC$66, MATCH('SCORE TABLE'!$B48,'DATA TABLE'!$B$13:$B$66,0),MATCH('SCORE TABLE'!X$9,'DATA TABLE'!$J$9:$AC$9,0)))-'SCORE TABLE'!$F48)/('SCORE TABLE'!$G48-'SCORE TABLE'!$F48))*100,0)","v":100},{"$f":"IFERROR((((INDEX('DATA TABLE'!$J$13:$AC$66, MATCH('SCORE TABLE'!$B48,'DATA TABLE'!$B$13:$B$66,0),MATCH('SCORE TABLE'!Y$9,'DATA TABLE'!$J$9:$AC$9,0)))-'SCORE TABLE'!$F48)/('SCORE TABLE'!$G48-'SCORE TABLE'!$F48))*100,0)","v":100},{"$f":"IFERROR((((INDEX('DATA TABLE'!$J$13:$AC$66, MATCH('SCORE TABLE'!$B48,'DATA TABLE'!$B$13:$B$66,0),MATCH('SCORE TABLE'!Z$9,'DATA TABLE'!$J$9:$AC$9,0)))-'SCORE TABLE'!$F48)/('SCORE TABLE'!$G48-'SCORE TABLE'!$F48))*100,0)","v":100},{"$f":"IFERROR((((INDEX('DATA TABLE'!$J$13:$AC$66, MATCH('SCORE TABLE'!$B48,'DATA TABLE'!$B$13:$B$66,0),MATCH('SCORE TABLE'!AA$9,'DATA TABLE'!$J$9:$AC$9,0)))-'SCORE TABLE'!$F48)/('SCORE TABLE'!$G48-'SCORE TABLE'!$F48))*100,0)","v":100}]
[1038,4,"Physical activity",{"$f":"0.25","v":0.25},{"$f":"0.25","v":0.25},null,null,{"$f":"ROUND(SUM($D50*H50,$D53*H53),5)","v":41.666670000000003},{"$f":"ROUND(SUM($D50*I50,$D53*I53),5)","v":66.666669999999996},58.33334,75,50,66.666669999999996,58.33334,41.666670000000003,58.33334,50,33.33334,0,41.666670000000003,33.33334,58.33334,50,75,41.666670000000003,41.666670000000003,25]
[1039,4.0999999999999996,"Physical activity among the population",{"$f":"1/2","v":0.5},{"$f":"$E$49*D50","v":0.125},null,null,{"$f":"ROUND(SUMPRODUCT($D51:$D52,H51:H52),5)","v":33.333329999999997},{"$f":"ROUND(SUMPRODUCT($D51:$D52,I51:I52),5)","v":83.333330000000004},66.666669999999996,50,50,83.333330000000004,66.666669999999996,33.333329999999997,66.666669999999996,50,16.66667,0,33.333329999999997,66.666669999999996,66.666669999999996,50,100,33.333329999999997,33.333329999999997,50]
[1040,"4.1.1","Promotion of physical activity",{"$f":"1/2","v":0.5},{"$f":"$E$50*D51","v":6.25E-2},0,3,{"$f":"IFERROR((((INDEX('DATA TABLE'!$J$13:$AC$66, MATCH('SCORE TABLE'!$B51,'DATA TABLE'!$B$13:$B$66,0),MATCH('SCORE TABLE'!H$9,'DATA TABLE'!$J$9:$AC$9,0)))-'SCORE TABLE'!$F51)/('SCORE TABLE'!$G51-'SCORE TABLE'!$F51))*100,0)","v":66.666666666666657},{"$f":"IFERROR((((INDEX('DATA TABLE'!$J$13:$AC$66, MATCH('SCORE TABLE'!$B51,'DATA TABLE'!$B$13:$B$66,0),MATCH('SCORE TABLE'!I$9,'DATA TABLE'!$J$9:$AC$9,0)))-'SCORE TABLE'!$F51)/('SCORE TABLE'!$G51-'SCORE TABLE'!$F51))*100,0)","v":100},{"$f":"IFERROR((((INDEX('DATA TABLE'!$J$13:$AC$66, MATCH('SCORE TABLE'!$B51,'DATA TABLE'!$B$13:$B$66,0),MATCH('SCORE TABLE'!J$9,'DATA TABLE'!$J$9:$AC$9,0)))-'SCORE TABLE'!$F51)/('SCORE TABLE'!$G51-'SCORE TABLE'!$F51))*100,0)","v":100},{"$f":"IFERROR((((INDEX('DATA TABLE'!$J$13:$AC$66, MATCH('SCORE TABLE'!$B51,'DATA TABLE'!$B$13:$B$66,0),MATCH('SCORE TABLE'!K$9,'DATA TABLE'!$J$9:$AC$9,0)))-'SCORE TABLE'!$F51)/('SCORE TABLE'!$G51-'SCORE TABLE'!$F51))*100,0)","v":33.333333333333329},{"$f":"IFERROR((((INDEX('DATA TABLE'!$J$13:$AC$66, MATCH('SCORE TABLE'!$B51,'DATA TABLE'!$B$13:$B$66,0),MATCH('SCORE TABLE'!L$9,'DATA TABLE'!$J$9:$AC$9,0)))-'SCORE TABLE'!$F51)/('SCORE TABLE'!$G51-'SCORE TABLE'!$F51))*100,0)","v":100},{"$f":"IFERROR((((INDEX('DATA TABLE'!$J$13:$AC$66, MATCH('SCORE TABLE'!$B51,'DATA TABLE'!$B$13:$B$66,0),MATCH('SCORE TABLE'!M$9,'DATA TABLE'!$J$9:$AC$9,0)))-'SCORE TABLE'!$F51)/('SCORE TABLE'!$G51-'SCORE TABLE'!$F51))*100,0)","v":66.666666666666657},{"$f":"IFERROR((((INDEX('DATA TABLE'!$J$13:$AC$66, MATCH('SCORE TABLE'!$B51,'DATA TABLE'!$B$13:$B$66,0),MATCH('SCORE TABLE'!N$9,'DATA TABLE'!$J$9:$AC$9,0)))-'SCORE TABLE'!$F51)/('SCORE TABLE'!$G51-'SCORE TABLE'!$F51))*100,0)","v":100},{"$f":"IFERROR((((INDEX('DATA TABLE'!$J$13:$AC$66, MATCH('SCORE TABLE'!$B51,'DATA TABLE'!$B$13:$B$66,0),MATCH('SCORE TABLE'!O$9,'DATA TABLE'!$J$9:$AC$9,0)))-'SCORE TABLE'!$F51)/('SCORE TABLE'!$G51-'SCORE TABLE'!$F51))*100,0)","v":66.666666666666657},{"$f":"IFERROR((((INDEX('DATA TABLE'!$J$13:$AC$66, MATCH('SCORE TABLE'!$B51,'DATA TABLE'!$B$13:$B$66,0),MATCH('SCORE TABLE'!P$9,'DATA TABLE'!$J$9:$AC$9,0)))-'SCORE TABLE'!$F51)/('SCORE TABLE'!$G51-'SCORE TABLE'!$F51))*100,0)","v":66.666666666666657},{"$f":"IFERROR((((INDEX('DATA TABLE'!$J$13:$AC$66, MATCH('SCORE TABLE'!$B51,'DATA TABLE'!$B$13:$B$66,0),MATCH('SCORE TABLE'!Q$9,'DATA TABLE'!$J$9:$AC$9,0)))-'SCORE TABLE'!$F51)/('SCORE TABLE'!$G51-'SCORE TABLE'!$F51))*100,0)","v":66.666666666666657},{"$f":"IFERROR((((INDEX('DATA TABLE'!$J$13:$AC$66, MATCH('SCORE TABLE'!$B51,'DATA TABLE'!$B$13:$B$66,0),MATCH('SCORE TABLE'!R$9,'DATA TABLE'!$J$9:$AC$9,0)))-'SCORE TABLE'!$F51)/('SCORE TABLE'!$G51-'SCORE TABLE'!$F51))*100,0)","v":33.333333333333329},{"$f":"IFERROR((((INDEX('DATA TABLE'!$J$13:$AC$66, MATCH('SCORE TABLE'!$B51,'DATA TABLE'!$B$13:$B$66,0),MATCH('SCORE TABLE'!S$9,'DATA TABLE'!$J$9:$AC$9,0)))-'SCORE TABLE'!$F51)/('SCORE TABLE'!$G51-'SCORE TABLE'!$F51))*100,0)","v":0},{"$f":"IFERROR((((INDEX('DATA TABLE'!$J$13:$AC$66, MATCH('SCORE TABLE'!$B51,'DATA TABLE'!$B$13:$B$66,0),MATCH('SCORE TABLE'!T$9,'DATA TABLE'!$J$9:$AC$9,0)))-'SCORE TABLE'!$F51)/('SCORE TABLE'!$G51-'SCORE TABLE'!$F51))*100,0)","v":66.666666666666657},{"$f":"IFERROR((((INDEX('DATA TABLE'!$J$13:$AC$66, MATCH('SCORE TABLE'!$B51,'DATA TABLE'!$B$13:$B$66,0),MATCH('SCORE TABLE'!U$9,'DATA TABLE'!$J$9:$AC$9,0)))-'SCORE TABLE'!$F51)/('SCORE TABLE'!$G51-'SCORE TABLE'!$F51))*100,0)","v":33.333333333333329},{"$f":"IFERROR((((INDEX('DATA TABLE'!$J$13:$AC$66, MATCH('SCORE TABLE'!$B51,'DATA TABLE'!$B$13:$B$66,0),MATCH('SCORE TABLE'!V$9,'DATA TABLE'!$J$9:$AC$9,0)))-'SCORE TABLE'!$F51)/('SCORE TABLE'!$G51-'SCORE TABLE'!$F51))*100,0)","v":33.333333333333329},{"$f":"IFERROR((((INDEX('DATA TABLE'!$J$13:$AC$66, MATCH('SCORE TABLE'!$B51,'DATA TABLE'!$B$13:$B$66,0),MATCH('SCORE TABLE'!W$9,'DATA TABLE'!$J$9:$AC$9,0)))-'SCORE TABLE'!$F51)/('SCORE TABLE'!$G51-'SCORE TABLE'!$F51))*100,0)","v":100},{"$f":"IFERROR((((INDEX('DATA TABLE'!$J$13:$AC$66, MATCH('SCORE TABLE'!$B51,'DATA TABLE'!$B$13:$B$66,0),MATCH('SCORE TABLE'!X$9,'DATA TABLE'!$J$9:$AC$9,0)))-'SCORE TABLE'!$F51)/('SCORE TABLE'!$G51-'SCORE TABLE'!$F51))*100,0)","v":100},{"$f":"IFERROR((((INDEX('DATA TABLE'!$J$13:$AC$66, MATCH('SCORE TABLE'!$B51,'DATA TABLE'!$B$13:$B$66,0),MATCH('SCORE TABLE'!Y$9,'DATA TABLE'!$J$9:$AC$9,0)))-'SCORE TABLE'!$F51)/('SCORE TABLE'!$G51-'SCORE TABLE'!$F51))*100,0)","v":33.333333333333329},{"$f":"IFERROR((((INDEX('DATA TABLE'!$J$13:$AC$66, MATCH('SCORE TABLE'!$B51,'DATA TABLE'!$B$13:$B$66,0),MATCH('SCORE TABLE'!Z$9,'DATA TABLE'!$J$9:$AC$9,0)))-'SCORE TABLE'!$F51)/('SCORE TABLE'!$G51-'SCORE TABLE'!$F51))*100,0)","v":66.666666666666657},{"$f":"IFERROR((((INDEX('DATA TABLE'!$J$13:$AC$66, MATCH('SCORE TABLE'!$B51,'DATA TABLE'!$B$13:$B$66,0),MATCH('SCORE TABLE'!AA$9,'DATA TABLE'!$J$9:$AC$9,0)))-'SCORE TABLE'!$F51)/('SCORE TABLE'!$G51-'SCORE TABLE'!$F51))*100,0)","v":66.666666666666657}]
[1041,"4.1.2","Physical activity policies that address obesity",{"$f":"1/2","v":0.5},{"$f":"$E$50*D52","v":6.25E-2},0,3,{"$f":"IFERROR((((INDEX('DATA TABLE'!$J$13:$AC$66, MATCH('SCORE TABLE'!$B52,'DATA TABLE'!$B$13:$B$66,0),MATCH('SCORE TABLE'!H$9,'DATA TABLE'!$J$9:$AC$9,0)))-'SCORE TABLE'!$F52)/('SCORE TABLE'!$G52-'SCORE TABLE'!$F52))*100,0)","v":0},{"$f":"IFERROR((((INDEX('DATA TABLE'!$J$13:$AC$66, MATCH('SCORE TABLE'!$B52,'DATA TABLE'!$B$13:$B$66,0),MATCH('SCORE TABLE'!I$9,'DATA TABLE'!$J$9:$AC$9,0)))-'SCORE TABLE'!$F52)/('SCORE TABLE'!$G52-'SCORE TABLE'!$F52))*100,0)","v":66.666666666666657},{"$f":"IFERROR((((INDEX('DATA TABLE'!$J$13:$AC$66, MATCH('SCORE TABLE'!$B52,'DATA TABLE'!$B$13:$B$66,0),MATCH('SCORE TABLE'!J$9,'DATA TABLE'!$J$9:$AC$9,0)))-'SCORE TABLE'!$F52)/('SCORE TABLE'!$G52-'SCORE TABLE'!$F52))*100,0)","v":33.333333333333329},{"$f":"IFERROR((((INDEX('DATA TABLE'!$J$13:$AC$66, MATCH('SCORE TABLE'!$B52,'DATA TABLE'!$B$13:$B$66,0),MATCH('SCORE TABLE'!K$9,'DATA TABLE'!$J$9:$AC$9,0)))-'SCORE TABLE'!$F52)/('SCORE TABLE'!$G52-'SCORE TABLE'!$F52))*100,0)","v":66.666666666666657},{"$f":"IFERROR((((INDEX('DATA TABLE'!$J$13:$AC$66, MATCH('SCORE TABLE'!$B52,'DATA TABLE'!$B$13:$B$66,0),MATCH('SCORE TABLE'!L$9,'DATA TABLE'!$J$9:$AC$9,0)))-'SCORE TABLE'!$F52)/('SCORE TABLE'!$G52-'SCORE TABLE'!$F52))*100,0)","v":0},{"$f":"IFERROR((((INDEX('DATA TABLE'!$J$13:$AC$66, MATCH('SCORE TABLE'!$B52,'DATA TABLE'!$B$13:$B$66,0),MATCH('SCORE TABLE'!M$9,'DATA TABLE'!$J$9:$AC$9,0)))-'SCORE TABLE'!$F52)/('SCORE TABLE'!$G52-'SCORE TABLE'!$F52))*100,0)","v":100},{"$f":"IFERROR((((INDEX('DATA TABLE'!$J$13:$AC$66, MATCH('SCORE TABLE'!$B52,'DATA TABLE'!$B$13:$B$66,0),MATCH('SCORE TABLE'!N$9,'DATA TABLE'!$J$9:$AC$9,0)))-'SCORE TABLE'!$F52)/('SCORE TABLE'!$G52-'SCORE TABLE'!$F52))*100,0)","v":33.333333333333329},{"$f":"IFERROR((((INDEX('DATA TABLE'!$J$13:$AC$66, MATCH('SCORE TABLE'!$B52,'DATA TABLE'!$B$13:$B$66,0),MATCH('SCORE TABLE'!O$9,'DATA TABLE'!$J$9:$AC$9,0)))-'SCORE TABLE'!$F52)/('SCORE TABLE'!$G52-'SCORE TABLE'!$F52))*100,0)","v":0},{"$f":"IFERROR((((INDEX('DATA TABLE'!$J$13:$AC$66, MATCH('SCORE TABLE'!$B52,'DATA TABLE'!$B$13:$B$66,0),MATCH('SCORE TABLE'!P$9,'DATA TABLE'!$J$9:$AC$9,0)))-'SCORE TABLE'!$F52)/('SCORE TABLE'!$G52-'SCORE TABLE'!$F52))*100,0)","v":66.666666666666657},{"$f":"IFERROR((((INDEX('DATA TABLE'!$J$13:$AC$66, MATCH('SCORE TABLE'!$B52,'DATA TABLE'!$B$13:$B$66,0),MATCH('SCORE TABLE'!Q$9,'DATA TABLE'!$J$9:$AC$9,0)))-'SCORE TABLE'!$F52)/('SCORE TABLE'!$G52-'SCORE TABLE'!$F52))*100,0)","v":33.333333333333329},{"$f":"IFERROR((((INDEX('DATA TABLE'!$J$13:$AC$66, MATCH('SCORE TABLE'!$B52,'DATA TABLE'!$B$13:$B$66,0),MATCH('SCORE TABLE'!R$9,'DATA TABLE'!$J$9:$AC$9,0)))-'SCORE TABLE'!$F52)/('SCORE TABLE'!$G52-'SCORE TABLE'!$F52))*100,0)","v":0},{"$f":"IFERROR((((INDEX('DATA TABLE'!$J$13:$AC$66, MATCH('SCORE TABLE'!$B52,'DATA TABLE'!$B$13:$B$66,0),MATCH('SCORE TABLE'!S$9,'DATA TABLE'!$J$9:$AC$9,0)))-'SCORE TABLE'!$F52)/('SCORE TABLE'!$G52-'SCORE TABLE'!$F52))*100,0)","v":0},{"$f":"IFERROR((((INDEX('DATA TABLE'!$J$13:$AC$66, MATCH('SCORE TABLE'!$B52,'DATA TABLE'!$B$13:$B$66,0),MATCH('SCORE TABLE'!T$9,'DATA TABLE'!$J$9:$AC$9,0)))-'SCORE TABLE'!$F52)/('SCORE TABLE'!$G52-'SCORE TABLE'!$F52))*100,0)","v":0},{"$f":"IFERROR((((INDEX('DATA TABLE'!$J$13:$AC$66, MATCH('SCORE TABLE'!$B52,'DATA TABLE'!$B$13:$B$66,0),MATCH('SCORE TABLE'!U$9,'DATA TABLE'!$J$9:$AC$9,0)))-'SCORE TABLE'!$F52)/('SCORE TABLE'!$G52-'SCORE TABLE'!$F52))*100,0)","v":100},{"$f":"IFERROR((((INDEX('DATA TABLE'!$J$13:$AC$66, MATCH('SCORE TABLE'!$B52,'DATA TABLE'!$B$13:$B$66,0),MATCH('SCORE TABLE'!V$9,'DATA TABLE'!$J$9:$AC$9,0)))-'SCORE TABLE'!$F52)/('SCORE TABLE'!$G52-'SCORE TABLE'!$F52))*100,0)","v":100},{"$f":"IFERROR((((INDEX('DATA TABLE'!$J$13:$AC$66, MATCH('SCORE TABLE'!$B52,'DATA TABLE'!$B$13:$B$66,0),MATCH('SCORE TABLE'!W$9,'DATA TABLE'!$J$9:$AC$9,0)))-'SCORE TABLE'!$F52)/('SCORE TABLE'!$G52-'SCORE TABLE'!$F52))*100,0)","v":0},{"$f":"IFERROR((((INDEX('DATA TABLE'!$J$13:$AC$66, MATCH('SCORE TABLE'!$B52,'DATA TABLE'!$B$13:$B$66,0),MATCH('SCORE TABLE'!X$9,'DATA TABLE'!$J$9:$AC$9,0)))-'SCORE TABLE'!$F52)/('SCORE TABLE'!$G52-'SCORE TABLE'!$F52))*100,0)","v":100},{"$f":"IFERROR((((INDEX('DATA TABLE'!$J$13:$AC$66, MATCH('SCORE TABLE'!$B52,'DATA TABLE'!$B$13:$B$66,0),MATCH('SCORE TABLE'!Y$9,'DATA TABLE'!$J$9:$AC$9,0)))-'SCORE TABLE'!$F52)/('SCORE TABLE'!$G52-'SCORE TABLE'!$F52))*100,0)","v":33.333333333333329},{"$f":"IFERROR((((INDEX('DATA TABLE'!$J$13:$AC$66, MATCH('SCORE TABLE'!$B52,'DATA TABLE'!$B$13:$B$66,0),MATCH('SCORE TABLE'!Z$9,'DATA TABLE'!$J$9:$AC$9,0)))-'SCORE TABLE'!$F52)/('SCORE TABLE'!$G52-'SCORE TABLE'!$F52))*100,0)","v":0},{"$f":"IFERROR((((INDEX('DATA TABLE'!$J$13:$AC$66, MATCH('SCORE TABLE'!$B52,'DATA TABLE'!$B$13:$B$66,0),MATCH('SCORE TABLE'!AA$9,'DATA TABLE'!$J$9:$AC$9,0)))-'SCORE TABLE'!$F52)/('SCORE TABLE'!$G52-'SCORE TABLE'!$F52))*100,0)","v":33.333333333333329}]
[1042,4.2,"Physical activity among children",{"$f":"1/2","v":0.5},{"$f":"$E$49*D53","v":0.125},null,null,{"$f":"ROUND(SUMPRODUCT($D54:$D54,H54:H54),5)","v":50},{"$f":"ROUND(SUMPRODUCT($D54:$D54,I54:I54),5)","v":50},50,100,50,50,50,50,50,50,50,0,50,0,50,50,50,50,50,0]
[1043,"4.2.1","Physical activity mandates",1,{"$f":"E53*D54","v":0.125},0,2,{"$f":"IFERROR((((INDEX('DATA TABLE'!$J$13:$AC$66, MATCH('SCORE TABLE'!$B54,'DATA TABLE'!$B$13:$B$66,0),MATCH('SCORE TABLE'!H$9,'DATA TABLE'!$J$9:$AC$9,0)))-'SCORE TABLE'!$F54)/('SCORE TABLE'!$G54-'SCORE TABLE'!$F54))*100,0)","v":50},{"$f":"IFERROR((((INDEX('DATA TABLE'!$J$13:$AC$66, MATCH('SCORE TABLE'!$B54,'DATA TABLE'!$B$13:$B$66,0),MATCH('SCORE TABLE'!I$9,'DATA TABLE'!$J$9:$AC$9,0)))-'SCORE TABLE'!$F54)/('SCORE TABLE'!$G54-'SCORE TABLE'!$F54))*100,0)","v":50},{"$f":"IFERROR((((INDEX('DATA TABLE'!$J$13:$AC$66, MATCH('SCORE TABLE'!$B54,'DATA TABLE'!$B$13:$B$66,0),MATCH('SCORE TABLE'!J$9,'DATA TABLE'!$J$9:$AC$9,0)))-'SCORE TABLE'!$F54)/('SCORE TABLE'!$G54-'SCORE TABLE'!$F54))*100,0)","v":50},{"$f":"IFERROR((((INDEX('DATA TABLE'!$J$13:$AC$66, MATCH('SCORE TABLE'!$B54,'DATA TABLE'!$B$13:$B$66,0),MATCH('SCORE TABLE'!K$9,'DATA TABLE'!$J$9:$AC$9,0)))-'SCORE TABLE'!$F54)/('SCORE TABLE'!$G54-'SCORE TABLE'!$F54))*100,0)","v":100},{"$f":"IFERROR((((INDEX('DATA TABLE'!$J$13:$AC$66, MATCH('SCORE TABLE'!$B54,'DATA TABLE'!$B$13:$B$66,0),MATCH('SCORE TABLE'!L$9,'DATA TABLE'!$J$9:$AC$9,0)))-'SCORE TABLE'!$F54)/('SCORE TABLE'!$G54-'SCORE TABLE'!$F54))*100,0)","v":50},{"$f":"IFERROR((((INDEX('DATA TABLE'!$J$13:$AC$66, MATCH('SCORE TABLE'!$B54,'DATA TABLE'!$B$13:$B$66,0),MATCH('SCORE TABLE'!M$9,'DATA TABLE'!$J$9:$AC$9,0)))-'SCORE TABLE'!$F54)/('SCORE TABLE'!$G54-'SCORE TABLE'!$F54))*100,0)","v":50},{"$f":"IFERROR((((INDEX('DATA TABLE'!$J$13:$AC$66, MATCH('SCORE TABLE'!$B54,'DATA TABLE'!$B$13:$B$66,0),MATCH('SCORE TABLE'!N$9,'DATA TABLE'!$J$9:$AC$9,0)))-'SCORE TABLE'!$F54)/('SCORE TABLE'!$G54-'SCORE TABLE'!$F54))*100,0)","v":50},{"$f":"IFERROR((((INDEX('DATA TABLE'!$J$13:$AC$66, MATCH('SCORE TABLE'!$B54,'DATA TABLE'!$B$13:$B$66,0),MATCH('SCORE TABLE'!O$9,'DATA TABLE'!$J$9:$AC$9,0)))-'SCORE TABLE'!$F54)/('SCORE TABLE'!$G54-'SCORE TABLE'!$F54))*100,0)","v":50},{"$f":"IFERROR((((INDEX('DATA TABLE'!$J$13:$AC$66, MATCH('SCORE TABLE'!$B54,'DATA TABLE'!$B$13:$B$66,0),MATCH('SCORE TABLE'!P$9,'DATA TABLE'!$J$9:$AC$9,0)))-'SCORE TABLE'!$F54)/('SCORE TABLE'!$G54-'SCORE TABLE'!$F54))*100,0)","v":50},{"$f":"IFERROR((((INDEX('DATA TABLE'!$J$13:$AC$66, MATCH('SCORE TABLE'!$B54,'DATA TABLE'!$B$13:$B$66,0),MATCH('SCORE TABLE'!Q$9,'DATA TABLE'!$J$9:$AC$9,0)))-'SCORE TABLE'!$F54)/('SCORE TABLE'!$G54-'SCORE TABLE'!$F54))*100,0)","v":50},{"$f":"IFERROR((((INDEX('DATA TABLE'!$J$13:$AC$66, MATCH('SCORE TABLE'!$B54,'DATA TABLE'!$B$13:$B$66,0),MATCH('SCORE TABLE'!R$9,'DATA TABLE'!$J$9:$AC$9,0)))-'SCORE TABLE'!$F54)/('SCORE TABLE'!$G54-'SCORE TABLE'!$F54))*100,0)","v":50},{"$f":"IFERROR((((INDEX('DATA TABLE'!$J$13:$AC$66, MATCH('SCORE TABLE'!$B54,'DATA TABLE'!$B$13:$B$66,0),MATCH('SCORE TABLE'!S$9,'DATA TABLE'!$J$9:$AC$9,0)))-'SCORE TABLE'!$F54)/('SCORE TABLE'!$G54-'SCORE TABLE'!$F54))*100,0)","v":0},{"$f":"IFERROR((((INDEX('DATA TABLE'!$J$13:$AC$66, MATCH('SCORE TABLE'!$B54,'DATA TABLE'!$B$13:$B$66,0),MATCH('SCORE TABLE'!T$9,'DATA TABLE'!$J$9:$AC$9,0)))-'SCORE TABLE'!$F54)/('SCORE TABLE'!$G54-'SCORE TABLE'!$F54))*100,0)","v":50},{"$f":"IFERROR((((INDEX('DATA TABLE'!$J$13:$AC$66, MATCH('SCORE TABLE'!$B54,'DATA TABLE'!$B$13:$B$66,0),MATCH('SCORE TABLE'!U$9,'DATA TABLE'!$J$9:$AC$9,0)))-'SCORE TABLE'!$F54)/('SCORE TABLE'!$G54-'SCORE TABLE'!$F54))*100,0)","v":0},{"$f":"IFERROR((((INDEX('DATA TABLE'!$J$13:$AC$66, MATCH('SCORE TABLE'!$B54,'DATA TABLE'!$B$13:$B$66,0),MATCH('SCORE TABLE'!V$9,'DATA TABLE'!$J$9:$AC$9,0)))-'SCORE TABLE'!$F54)/('SCORE TABLE'!$G54-'SCORE TABLE'!$F54))*100,0)","v":50},{"$f":"IFERROR((((INDEX('DATA TABLE'!$J$13:$AC$66, MATCH('SCORE TABLE'!$B54,'DATA TABLE'!$B$13:$B$66,0),MATCH('SCORE TABLE'!W$9,'DATA TABLE'!$J$9:$AC$9,0)))-'SCORE TABLE'!$F54)/('SCORE TABLE'!$G54-'SCORE TABLE'!$F54))*100,0)","v":50},{"$f":"IFERROR((((INDEX('DATA TABLE'!$J$13:$AC$66, MATCH('SCORE TABLE'!$B54,'DATA TABLE'!$B$13:$B$66,0),MATCH('SCORE TABLE'!X$9,'DATA TABLE'!$J$9:$AC$9,0)))-'SCORE TABLE'!$F54)/('SCORE TABLE'!$G54-'SCORE TABLE'!$F54))*100,0)","v":50},{"$f":"IFERROR((((INDEX('DATA TABLE'!$J$13:$AC$66, MATCH('SCORE TABLE'!$B54,'DATA TABLE'!$B$13:$B$66,0),MATCH('SCORE TABLE'!Y$9,'DATA TABLE'!$J$9:$AC$9,0)))-'SCORE TABLE'!$F54)/('SCORE TABLE'!$G54-'SCORE TABLE'!$F54))*100,0)","v":50},{"$f":"IFERROR((((INDEX('DATA TABLE'!$J$13:$AC$66, MATCH('SCORE TABLE'!$B54,'DATA TABLE'!$B$13:$B$66,0),MATCH('SCORE TABLE'!Z$9,'DATA TABLE'!$J$9:$AC$9,0)))-'SCORE TABLE'!$F54)/('SCORE TABLE'!$G54-'SCORE TABLE'!$F54))*100,0)","v":50},{"$f":"IFERROR((((INDEX('DATA TABLE'!$J$13:$AC$66, MATCH('SCORE TABLE'!$B54,'DATA TABLE'!$B$13:$B$66,0),MATCH('SCORE TABLE'!AA$9,'DATA TABLE'!$J$9:$AC$9,0)))-'SCORE TABLE'!$F54)/('SCORE TABLE'!$G54-'SCORE TABLE'!$F54))*100,0)","v":0}]

{"sheet":"Data_summary","index":7,"n_rows":47,"n_cols":24,"rows_kept":47,"cut":false,"hidden":true,"merged":[]}
["Data - summary"]
[null,"UID","No.","Indicator name","Australia","Brazil","Canada","China","Finland","France","Germany","India","Italy","Japan","Mexico","Nigeria","Rwanda","Saudi Arabia","Serbia","South Africa","South Korea","Spain","United Arab Emirates","United Kingdom"]
[null,0,0,"OVERALL"]
[null,1000,1,"Policy and governance"]
[null,1001,1.1000000000000001,"Obesity-related policy"]
[null,1002,"1.1.1","Health policy/strategy/plan that includes obesity","Australia's National Preventive Health Strategy 2021-2030 specifies obesity as a priority (Australian Government Department of Health, National Preventive Health Strategy 2021-2030, 2021).","Brazil's National Health Plan 2024-2027 incorporates a specific objective related to obesity (Federal Government of Brazil, Ministry of Health, National Health Plan—2024-2027, 2024).","Canada does not have a national-level health policy in place as of June 2025; however, health policy is a local-level responsibility, with each province and territory having its own defined plan. However, there is insufficient evidence that all jurisdictions include obesity prevention as a priority area in their local health plans.","China’s national health strategy specifies obesity as a priority area (Healthy China Action Promotion Committee, Healthy China Action Plan 2019-2030, 2019).","The Finnish national public health programme and strategy specifies obesity as a priority area (Finnish Ministry of Social Affairs and Health, For Health: National Health and Well-being Programme, 2024).","Both the 2018-2022 National Health Strategy and the proposed 2023-2033 National Health Strategy specify obesity as a priority area for public health management in France (French Ministry of Labour, Health, Solidarity and Families, National Health Strategy 2018-2022, 2018; French Ministry of Labour, Health, Solidarity and Families, National Health Strategy 2023-2033, 2023).","There is insufficient evidence that Germany has a national level health policy, strategy or plan in place, and there is insufficient evidence that state-level health policies identify obesity as a priority area.","India's National Health Policy does not mention obesity as a priority area (Ministry of Health and Family Welfare—Government of India, National Health Policy, 2017).","Italy's National Prevention Plan 2020-2025 specifies obesity as one of its focus areas (Ministry of Health, National Prevention Plan 2020-2025, 2020).","Japan's national health strategy specifies obesity as a priority area (National Institute of Health and Nutrition, Healthy Japan 21—the third term, 2024).","Although Mexico consistently mentions childhood obesity within its national-level health policies, it does not mention obesity as a priority beyond this specific group (Mexico Government, Mexico's 2024-2030 Health Sector Work Programme, 2024; Mexico Government, National Healthy Living Strategy, 2025).","Nigeria's national health strategy, the Second National Strategic Health Development Plan 2018-2022 (NSHDP II), is outdated and does not specify obesity as a priority area (Federal Government of Nigeria, Second National Strategic Health Development Plan 2018-2022).","Rwanda's national health strategy, the Health Sector Strategic Plan V 2024-2029, does not specify obesity as a priority area (Republic of Rwanda Ministry of Health, Health Sector Strategic Plan V: July 2024-June 2029, 2024).","There is insufficient evidence that Saudi Arabia's national-level health plan—contained within Vision 2030—specifies obesity as a priority area (Kingdom of Saudi Arabia, Vision 2030, Delivery Plan 2021-2025, 2021).","The Public Health Strategy of the Republic of Serbia (2016-2025) addresses rising obesity rates through a National Programme promoting proper nutrition, physical activity and healthier food choices, with initiatives targeting all age groups and focusing on education, infrastructure and policy improvements (Republic of Serbia, Healthy people, health in all policies: Public Health Strategy in the Republic of Serbia 2016-2025, 2016; Ministry of Health of the Republic of Serbia, Regulation on the National Programme for the Prevention of Obesity in Children and Adults, 2018).","South Africa's national health strategy, the National Department of Health Strategic Plan 2020/21-2024/25, does not specify obesity as a priority area (South Africa National Department of Health, Strategic Plan 2020/21-2024/25, 2020).","South Korea's national health policy specifies obesity as a priority area (Korea Health Promotion Institute, 5th Comprehensive National Health Promotion Plan, 2021).","Spain's Public Health Strategy 2022 includes tackling childhood obesity as one of its main objectives. In parallel, the Health Promotion and Prevention Strategy in the National Health System (2013)—in effect until 2026—sets out to develop specific strategies to tackle obesity (Spanish Ministry of Health, Public Health Strategy 2022, 2022; Spanish Ministry of Health, Health Promotion and Prevention Strategy in the National Health System, 2013).","The UAE's national-level health policy targets unhealthy dietary patterns and sedentary behaviours but does not make specific reference to obesity as a priority area (Government of UAE, 2022 National Policy to Promote Healthy Lifestyles, 2022).","The UK's national health strategy and NHS plan specifies \"ending the obesity epidemic\" as a priority area and commits to \"bold action on obesity\" (UK Government, Fit for the Future: The 10 Year Health Plan for England, 2025)."]
[null,1003,"1.1.2","Definition of obesity","Australia's National Preventive Health Strategy 2021-2030 defines obesity as a chronic disease and connects obesity to related chronic diseases including cancer, diabetes, asthma, cardiovascular diseases and mental disorders (Australian Government Department of Health, National Preventive Health Strategy 2021-2030, 2021).","Brazil's National Health Plan 2024-2027 categorises obesity as a chronic non-communicable disease and makes reference to other chronic diseases related to obesity, including cardiovascular diseases and type 2 diabetes (Federal Government of Brazil, Ministry of Health, National Health Plan—2024-2027, 2024).","Health Canada—the federal department responsible for helping Canadians maintain and improve their health—defines obesity as a chronic disease and recognises that obesity is a risk factor for other chronic diseases, including type 2 diabetes, cardiovascular diseases, cancer and osteoarthritis (Statistics Canada, An overview of weight and height measurements on World Obesity Day, 2024).","China defines obesity as a chronic disease and makes reference to other chronic diseases related to obesity, including diabetes, cardiovascular disease and obstructive sleep apnoea (National Health Commission, China, 2024 Guidelines for the Diagnosis and Treatment of Obesity, 2024).","The Finnish government recognises that there are several chronic diseases related to obesity (including cancer, type 2 diabetes, cardiovascular diseases and asthma), but there is insufficient evidence that it defines obesity as a chronic disease in and of itself. Nonetheless, the Finnish Medical Association Duodecim defines obesity as a chronic disease (Finnish Ministry of Social Affairs and Health, For Health: National Health and Well-being Programme, 2024).","Both the 2018-2022 National Health Strategy and the proposed 2023-2033 National Health Strategy define obesity as a chronic disease and recognise the links between obesity and related chronic diseases, including diabetes, cancer, and cardiovascular and respiratory diseases (French Ministry of Labour, Health, Solidarity and Families, National Health Strategy 2018-2022, 2018; French Ministry of Labour, Health, Solidarity and Families, National Health Strategy 2023-2033, 2023).","Germany recognises the links between obesity and other chronic diseases, including chronic obstructive pulmonary disease, hypertension, type 2 diabetes and cardiovascular disease. While the German Parliament recognised obesity as a disease in 2020, the government does not yet formally recognise obesity as a chronic disease (German Association for the Study of Obesity (DAG), Interdisciplinary S3 quality guideline on the “Prevention and treatment of obesity”, 2024; EASO, German Parliament Recognises Obesity as a Disease, 2020).","India defines obesity as a chronic disease and links it with other chronic diseases, including type 2 diabetes, heart disease, hypertension, obstructive sleep apnoea and cancer (National Centre for Disease Control—Government of India, Obesity).","The Italian government defines obesity as a multifactorial disease and makes reference to chronic diseases associated with obesity, including type 2 diabetes, arterial hypertension, and coronary artery disease (Ministry of Health, The Guidelines for the Prevention and Control of Overweight and Obesity, 2022). In addition, parliament officially recognised obesity as a chronic disease through Motion No. 1-00181, approved by the Chamber of Deputies on November 13, 2019 (European Journal of Public Health, Italy on gaining official parliamentary recognition that obesity is a chronic disease, 30 September 2020).","The Japanese government links obesity to associated chronic diseases, including diabetes, cardiovascular disease and sleep apnoea. However, it does not list obesity as a standalone disease and instead treats it as a risk factor for other diseases (Ministry of Health, Labour and Welfare, Information on lifestyle-related diseases, etc., 2024).","The Mexican government explicitly defines obesity as a chronic disease and recognises its links to other chronic diseases, including diabetes, cardiovascular diseases, bone and muscle disorders, and cancer (Mexico Government, National Healthy Living Strategy, 2025; Mexico Government, Obesity in Mexico; Mexico Government, Obesity and Overweight).","The Nigerian government connects obesity to related chronic diseases, including cardiovascular diseases, diabetes and cancer, but there is insufficient evidence that it defines obesity as a chronic disease in and of itself (Nigerian Federal Ministry of Health, National Multi-Sectoral Action Plan for the Prevention and Control of Non-Communicable Diseases (2019-2025), 2019).","The Rwandan government connects obesity to its related chronic diseases, including hypertension, diabetes and cancer, but there is insufficient evidence that it defines obesity as a chronic disease in and of itself (Republic of Rwanda Ministry of Health, Health Sector Strategic Plan V: July 2024-June 2029, 2024; Republic of Rwanda Ministry of Health, National Strategy and Costed Action Plan for the Prevention and Control of Non-Communicable Diseases in Rwanda (July 2020-June 2025), 2020).","Saudi Arabia categorises obesity as a chronic disease and connects obesity to related chronic diseases including cardiovascular disease, stroke, type 2 diabetes, high blood pressure, arthritis, sleep apnoea, cancer, gallbladder diseases and non-alcoholic fatty liver disease (Ministry of Health, Obesity, 27 May 2024; Ministry of Health, Chronic Disease).","The National Programme for the Prevention of Obesity in Children and Adults defines obesity as a chronic metabolic disease and highlights its link to other chronic diseases, including stroke and cancer (Ministry of Health of the Republic of Serbia, Regulation on the National Programme for the Prevention of Obesity in Children and Adults, 2018).","The South African government connects obesity to related chronic diseases such as diabetes, cardiovascular disease and some cancers. However, there is insufficient evidence that it defines obesity as a chronic disease. Instead it defines obesity as a \"disease of affluence\", implying that it is associated with increased wealth and specific lifestyle changes—an approach that is more of a value-judgement than a clinical definition (South Africa National Department of Health, Medium-Term Development Plan 2024-2029, 2025; South Africa National Department of Health, Strategy for the Prevention and Management of Obesity in South Africa 2023-2028, 2023).","South Korea's obesity policy defines obesity as a chronic disease and makes reference to other chronic diseases related to obesity, including cardiovascular disease and diabetes (Ministry of Health and Welfare and the Korea Health Promotion Institute, 2025 Community Integrated Health Promotion Project Guide (Obesity Prevention and Management), 2024).","Spain defines obesity as a chronic disease and recognises its links to other related chronic diseases, including osteoarthritis, obstructive sleep apnoea, liver disease, diabetes, cardiovascular disease, cancer, depression and Alzheimer's (Spanish Ministry of Health, Public Health Strategy 2022, 2022; Nutrition and Obesity Study Observatory, Spanish National Nutrition Strategy, 2025).","The UAE defines obesity as a chronic disease and makes reference to other chronic diseases related to obesity, including high cholesterol, diabetes, high blood pressure, stroke, cancer and heart disease (Ministry of Health and Prevention, National Clinical Guidelines for Weight Management and Prevention of Adulthood Obesity, 2025; Ministry of Health and Prevention (Statistic and Research Centre), Obesity Study, 2023).","The UK government connects obesity to related chronic diseases, including cancer, cardiovascular disease and type 2 diabetes, but there is insufficient evidence that it defines obesity as a chronic disease in and of itself (UK Government, Fit for the Future: The 10 Year Health Plan for England, 2025; National Health Service, Overview: Obesity, rev. 2023)."]
[null,1004,"1.1.3","Obesity-related policy/strategy/plan"]
[null,1005,"1.1.3a","Existence of an obesity-related policy/strategy/plan","Australia's National Obesity Strategy 2022-2032 includes specific goals, strategies and measurable targets for reducing obesity prevalence (Commonwealth of Australia Health Ministers Meeting, National Obesity Strategy 2022-2032, 2022).","The Obesity Prevention Strategy for Brazilians 2024-2034, developed by the Ministry of Development and Social Assistance, Family, and Fight Against Hunger in 2024, is Brazil's national-level obesity strategy (Federal Government of Brazil, Ministry of Development and Social Assistance, Family, and Fight Against Hunger, Obesity Prevention Strategy for Brazilians 2024-2034, 2024).","There is insufficient evidence that Canada has an active obesity-related strategy in place; however, the government published a plan to specifically tackle childhood obesity in 2010 (Government of Canada, Health Canada: Curbing Childhood Obesity: A Federal, Provincial and Territorial Framework for Action to Promote Healthy Weights, 2010).","China introduced a national-level campaign targeting obesity in 2024 (National Health Commission, Notice on the Issuance of the Implementation Programme of the “Weight Management Years Campaign”, 2024).","Finland's obesity-related strategies are out of date (Finnish Government, On the move: National Strategy for Physical Activity Promoting Health and Wellbeing 2020, 2013; Finnish Institute of Health and Welfare, Päivi Mäki: Wellbeing through Healthy Nutrition and Physical Activity. National Obesity Programme in Finland 2012-2018; Finnish Government, Obesity on the decline—Well-being through nutrition and exercise: National Obesity Programme—Action and Implementation Plan 2016-2018, 2016).","The French Ministry of Labour, Health, Solidarity and Families published an Obesity Management Roadmap in 2019 to serve as the guiding strategy for obesity prevention and management; however, it expired in 2022. As of June 2025, the ministry has committed to publish a new roadmap to be rolled out over a five-year period (French Ministry of Labour, Health, Solidarity and Families, Obesity Management Roadmap, 2019; National Assembly, Written Question No. 5425: Roadmap and commitments to combat obesity, 2025).","Germany has an active obesity-related plan in place—IN FORM: German national initiative to promote healthy diets and physical activity: The National Action Plan for the prevention of poor dietary habits, lack of physical activity, overweight and related diseases (Federal Ministry of Food and Agriculture, Action plan ‘Further development of IN FORM—priorities of the National Action Plan for the prevention of malnutrition, physical inactivity and obesity’, 2021).","India has a strategic framework in place for obesity prevention; it was published in 2025 (Press Information Bureau—Ministry of Information and Broadcasting, Towards a Fit and Healthy India: Combating Obesity through Collective Action, 2025).","Italy has a National Policy for the Prevention of Overweight and Obesity contained within the Guidelines for the Prevention and Control of Overweight and Obesity, published in 2022 (Ministry of Health, The Guidelines for the Prevention and Control of Overweight and Obesity, 2022).","There is insufficient evidence that Japan has a national obesity-related policy in place; however, its Basic Policy for Comprehensive Promotion of National Health contains provisions addressing obesity (Ministry of Health, Labour and Welfare, Basic Policy for Comprehensive Promotion of National Health, 2023).","Mexico's National Strategy for the Prevention and Control of Overweight, Obesity and Diabetes was adopted in 2013 and has not been updated since (Mexico Government, National Strategy for the Prevention and Control of Overweight, Obesity and Diabetes, 2013).","Nigeria's National Multi-Sectoral Action Plan for the Prevention and Control of Non-Communicable Diseases (2019-2025) specifically targets obesity as one of four major metabolic risk factors for non-communicable diseases, establishing targets and interventions for the reduction of obesity in Nigeria (Nigerian Federal Ministry of Health, National Multi-Sectoral Action Plan for the Prevention and Control of Non-Communicable Diseases (2019-2025), 2019).","Rwanda's National Strategy and Costed Action Plan for the Prevention and Control of Non-Communicable Diseases in Rwanda (July 2020-June 2025) specifically targets obesity as a metabolic risk factor for NCDs, establishing targets and interventions for the reduction of obesity (Republic of Rwanda Ministry of Health, National Strategy and Costed Action Plan for the Prevention and Control of Non-Communicable Diseases in Rwanda (July 2020-June 2025), 2020).","Saudi Arabia's Obesity Control & Prevention Strategy 2020-2030 is currently valid (The Saudi Center for Disease Prevention and Control, Obesity Control & Prevention Strategy 2020-2030, 2019).","Serbia's National Programme for the Prevention of Obesity in Children and Adults, adopted in 2018, sets targets for 2025 and outlines strategies to promote healthy lifestyles through improved nutrition, physical activity, healthcare services and public education (Ministry of Health of the Republic of Serbia, Regulation on the National Programme for the Prevention of Obesity in Children and Adults, 2018).","South Africa has a national strategic plan for reducing the prevalence of obesity—the Strategy for the Prevention and Management of Obesity in South Africa 2023-2028—that includes specific goals, strategies and measurable targets for reducing obesity prevalence (South Africa National Department of Health, Strategy for the Prevention and Management of Obesity in South Africa 2023-2028, 2023).","The 2025 Community Integrated Health Promotion Project Guide (Obesity Prevention and Management), published by the Ministry of Health and Welfare and the Korea Health Promotion Institute in 2024, outlines South Korea's national strategy to address obesity through community-based initiatives. South Korea previously had a National Comprehensive Plan for Obesity Management, which was published by the Ministry of Health and Welfare in 2018 and expired in 2022 (Obesity Prevention and Management) (Ministry of Health and Welfare and the Korea Health Promotion Institute, 2025 Community Integrated Health Promotion Project Guide (Obesity Prevention and Management), 2024; Ministry of Health and Welfare, National Comprehensive Plan for Obesity Management, 2018).","Spain's latest overarching obesity strategy has not been updated since 2005. A more recent strategy focuses exclusively on childhood obesity (Spanish Ministry of Health, Strategy for Nutrition, Physical Activity and Prevention of Obesity, 2005; Spanish Ministry of Health, National Strategic Plan to Tackle Childhood Obesity 2022-2023, 2022).","There is insufficient evidence that the United Arab Emirates has a national obesity policy in place. Its National Plan to Combat Childhood Obesity focused only on children and its National Strategy for the Prevention and Control of Non-Communicable Diseases only briefly addressed obesity, with both running from 2017 to 2021 (Ministry of Health and Prevention, National Plan to Combat Childhood Obesity, 2017; Ministry of Health and Prevention, National Strategy for the Prevention and Control of Non-Communicable Diseases 2017-2021, 2017).","The UK has a 2020-published obesity-related policy in place and launched A Moonshot to End the Obesity Epidemic in 2025 (UK Department of Health and Social Care, Tackling obesity: empowering adults and children to live healthier lives, 2020; UK Government, Fit for the Future: The 10 Year Health Plan for England, 2025)."]
[null,1006,"1.1.3b","Engagement with stakeholders during development","The development of Australia's National Obesity Strategy 2022-2032 involved stakeholders from multiple sectors, including representatives from academia, agriculture, consulting and healthcare. However, there is no evidence that individuals living with obesity were consulted (Commonwealth of Australia Health Ministers Meeting, National Obesity Strategy 2022-2032, 2022; Australian Government Department of Health, National Obesity Summit Programme, 15 February 2019)","Stakeholders from a wide range of sectors, such as health, academia, agriculture, culture, education and human rights, were consulted in the development of the Obesity Prevention Strategy for Brazilians 2024-2034 (2024), alongside people living with obesity and civil society organisations. The strategy was also open to public consultation in September 2024 (Federal Government of Brazil, Ministry of Development and Social Assistance, Family, and Fight Against Hunger, Obesity Prevention Strategy for Brazilians 2024-2034, 2024).","There is insufficient evidence that Canada has an active obesity-related strategy in place; however, the government published a plan to specifically tackle childhood obesity in 2010 (Government of Canada, Health Canada: Curbing Childhood Obesity: A Federal, Provincial and Territorial Framework for Action to Promote Healthy Weights, 2010).","Stakeholders from several government ministries and sectors were involved in developing China's national-level obesity campaign, but there is no evidence that people living with obesity were consulted in its development (National Health Commission, Notice on the Issuance of the Implementation Programme of the “Weight Management Years Campaign”, 2024).","Finland's obesity-related strategies are out of date; however, several stakeholders from various sectors were involved in their development (Finnish Government, On the move: National Strategy for Physical Activity Promoting Health and Wellbeing 2020, 2013; Finnish Institute of Health and Welfare, Päivi Mäki: Wellbeing through Healthy Nutrition and Physical Activity. National Obesity Programme in Finland 2012-2018; Finnish Government, Obesity on the decline—Well-being through nutrition and exercise: National Obesity Programme—Action and Implementation Plan 2016-2018, 2016).","The development of the Obesity Management Roadmap, published in 2019, involved consultations with a wide range of partners within the healthcare sector, medical academic institutions and patient associations of people living with obesity; however, the Roadmap expired in 2022 (French Ministry of Labour, Health, Solidarity and Families, Obesity Management Roadmap, 2019).","Stakeholders from the health, agriculture, education, consumer protection and business sectors were involved in the development of Germany's national obesity-related plan but there is no evidence that people living with obesity were consulted (Federal Ministry of Food and Agriculture, IN FORM: German national initiative to promote healthy diets and physical activity, 2013).","There is insufficient evidence available on the range of stakeholders that were involved in developing India's strategic framework for obesity prevention (Press Information Bureau—Ministry of Information and Broadcasting, Towards a Fit and Healthy India: Combating Obesity through Collective Action, 2025).","The development of Italy's National Policy for the Prevention of Overweight and Obesity—contained within the Guidelines for the Prevention and Control of Overweight and Obesity—involved stakeholders from the health, agriculture and education sectors (Ministry of Health, Decree on the formation of the Working Group, 15 April 2019; Ministry of Health, The Guidelines for the Prevention and Control of Overweight and Obesity, 2022).","There is insufficient evidence that Japan has a national obesity-related policy in place; however, its Basic Policy for Comprehensive Promotion of National Health contains provisions addressing obesity (Ministry of Health, Labour and Welfare, Basic Policy for Comprehensive Promotion of National Health, 2023).","Mexico's National Strategy for the Prevention and Control of Overweight, Obesity and Diabetes has not been updated since 2013; however, its development involved cross-sectoral consultations with ministries, civil society and private actors during its development (Mexico Government, National Strategy for the Prevention and Control of Overweight, Obesity and Diabetes, 2013).","The development of Nigeria's national strategic plan for reducing the prevalence of obesity—the National Multi-Sectoral Action Plan for the Prevention and Control of Non-Communicable Diseases (2019-2025)—involved stakeholders from multiple sectors, including from 13 health- and non-health ministries, NGOs and civil society organisations; however, there is insufficient evidence as to whether individuals living with obesity were consulted (Nigerian Federal Ministry of Health, National Multi-Sectoral Action Plan for the Prevention and Control of Non-Communicable Diseases (2019-2025), 2019).","The development of Rwanda's national obesity-related strategic plan involved stakeholders from multiple sectors, including health experts and practitioners, governmental stakeholders and community members; however, there is insufficient evidence that individuals living with obesity were specifically consulted (Republic of Rwanda Ministry of Health, National Strategy and Costed Action Plan for the Prevention and Control of Non-Communicable Diseases in Rwanda (July 2020-June 2025), 2020).","The development of Saudi Arabia's Obesity Control & Prevention Strategy 2020-2030 involved stakeholders from seven government entities across various sectors. However, there is insufficient evidence of involvement of people living with obesity (The Saudi Center for Disease Prevention and Control, Obesity Control & Prevention Strategy 2020-2030, 2019).","Serbia's National Programme for the Prevention of Obesity in Children and Adults does not mention the stakeholders that were involved in its development (Ministry of Health of the Republic of Serbia, Regulation on the National Programme for the Prevention of Obesity in Children and Adults, 2018).","The development of South Africa's national obesity-related strategy involved stakeholders from multiple sectors, including representatives from academia, government, international agencies, NGOs, civil society, and the private sector, including the food and beverage industry. However, there is no evidence that individuals living with obesity were consulted during its development (South Africa National Department of Health, Strategy for the Prevention and Management of Obesity in South Africa 2023-2028, 2023).","There is insufficient evidence that South Korea involved stakeholders from various sectors in the development of its current obesity policy, the 2025 Community Integrated Health Promotion Project Guide (Obesity Prevention and Management). However, stakeholders from multiple sectors were involved in the development of the previous National Comprehensive Plan for Obesity Management, which expired in 2022 (Ministry of Health and Welfare and the Korea Health Promotion Institute, 2025 Community Integrated Health Promotion Project Guide (Obesity Prevention and Management), 2024; Ministry of Health and Welfare, National Comprehensive Plan for Obesity Management, 2018).","Spain's overarching obesity strategy for the general population has not been updated since 2005. A more recent strategy focuses solely on childhood obesity; it was developed through several working groups involving 15 ministries, a scientific committee comprising 18 scientific societies and institutions in health, a social committee with 13 civil society organisations, and an economic committee with 25 associations and federations (Spanish Ministry of Health, Strategy for Nutrition, Physical Activity and Prevention of Obesity, 2005; Spanish Ministry of Health, National Strategic Plan to Tackle Childhood Obesity 2022-2023, 2022).","There is insufficient evidence that the United Arab Emirates has a valid national obesity policy in place. Nonetheless, the outdated National Strategy for the Prevention and Control of Non-Communicable Diseases, which only briefly addressed obesity, was developed through workshops in cooperation with \"all sectors concerned with combating non-communicable diseases\", while the outdated National Plan to Combat Childhood Obesity, which only addressed children, was developed in consultation with several government departments (Ministry of Health and Prevention, National Plan to Combat Childhood Obesity, 2017; Ministry of Health and Prevention, National Strategy for the Prevention and Control of Non-Communicable Diseases 2017-2021, 2017).","The development of the UK's 2020 obesity-related policy involved consultation with the Department for Digital, Culture, Media and Sport on the issue of marketing unhealthy foods to children. The 2025 Moonshot to End the Obesity Epidemic, part of Fit for the Future: The 10 Year Health Plan for England, was shaped through consultations with working groups made up of NHS and care staff, Royal Colleges, trade unions, think-tanks, patient representatives, frontline NHS and care leaders, charities, economists, scientists, and tech entrepreneurs (UK Department of Health and Social Care, Tackling obesity: empowering adults and children to live healthier lives, 2020; UK Government, Fit for the Future: The 10 Year Health Plan for England, 2025)."]
[null,1007,"1.1.3c","Measures for obesity prevention","Australia's National Obesity Strategy 2022-2032 contains comprehensive, well-defined measures for obesity prevention with specific targets, clear implementation strategies and defined evaluation methods (Commonwealth of Australia Health Ministers Meeting, National Obesity Strategy 2022-2032, 2022).","Axis 1 of the Obesity Prevention Strategy for Brazilians 2024-2034 (2024) is broken down into strategic actions related to obesity prevention. However, implementation plans and methods of evaluation for each of these is reportedly presented in a parallel operational plan that is not publicly available as of April 2025 (Federal Government of Brazil, Ministry of Development and Social Assistance, Family and Fight Against Hunger, Obesity Prevention Strategy for Brazilians 2024-2034, 2024).","There is insufficient evidence that Canada has an active obesity-related strategy in place; however, the government published a plan to specifically tackle childhood obesity in 2010 (Government of Canada, Health Canada: Curbing Childhood Obesity: A Federal, Provincial and Territorial Framework for Action to Promote Healthy Weights, 2010).","China’s national-level obesity campaign includes measures for obesity prevention with clear actions, but it lacks methods of evaluation (National Health Commission, Interpretation of the “Weight Management Years Campaign” Activity Implementation Plan, 2024).","Finland's obesity-related strategies are out of date; however, they include several measures for obesity prevention across the population (Finnish Government, On the move: National Strategy for Physical Activity Promoting Health and Wellbeing 2020, 2013; Finnish Government, Obesity on the decline—well-being through nutrition and exercise: National Obesity Programme—Action and Implementation Plan 2016-2018, 2016).","The Obesity Management Roadmap, which was published in 2019 but expired in 2022, primarily focused on measures for the management of obesity, rather than prevention (French Ministry of Labour, Health, Solidarity and Families, Obesity Management Roadmap, 2019).","Germany's 2013 national obesity-related plan contains measures for obesity prevention across the population that include clear actions, but the updated 2021 plan does not include specific methods of evaluation (Federal Ministry of Food and Agriculture, Action plan: Further development of IN FORM—priorities of the National Action Plan for the prevention of malnutrition, physical inactivity and obesity, 2021).","India's national strategic framework for obesity prevention summarises existing efforts at health promotion but does not contain specific measures with clear actions, specific targets or methods of evaluation for obesity prevention (Press Information Bureau—Ministry of Information and Broadcasting, Towards a Fit and Healthy India: Combating Obesity through Collective Action, 2025).","Italy's National Policy for the Prevention of Overweight and Obesity—contained within the Guidelines for the Prevention and Control of Overweight and Obesity—provides recommendations to enhance obesity prevention across various contexts, but it does not include any specific measures or mandatory targets in this regard (Ministry of Health, The Guidelines for the Prevention and Control of Overweight and Obesity, 2022).","There is insufficient evidence that Japan has a national obesity-related policy in place; however, its Basic Policy for Comprehensive Promotion of National Health contains provisions addressing obesity (Ministry of Health, Labour and Welfare, Basic Policy for Comprehensive Promotion of National Health, 2023).","Mexico's National Strategy for the Prevention and Control of Overweight, Obesity and Diabetes has not been updated since 2013; however, it contains clear actions and specific targets for obesity prevention across the population (Mexico Government, National Strategy for the Prevention and Control of Overweight, Obesity and Diabetes, 2013).","Nigeria's national strategic plan for reducing the prevalence of obesity—the National Multi-Sectoral Action Plan for the Prevention and Control of Non-Communicable Diseases (2019-2025)—contains comprehensive, well-defined measures for obesity prevention, with specific targets, clear implementation strategies and defined evaluation methods (Nigerian Federal Ministry of Health, National Multi-Sectoral Action Plan for the Prevention and Control of Non-Communicable Diseases (2019-2025), 2019).","Rwanda's national obesity-related strategic plan contains well-defined obesity prevention measures with clear implementation strategies and defined evaluation methods (Republic of Rwanda Ministry of Health, National Strategy and Costed Action Plan for the Prevention and Control of Non-Communicable Diseases in Rwanda (July 2020-June 2025), 2020).","Saudi Arabia's Obesity Control & Prevention Strategy 2020-2030 mentions programmes and actions for obesity prevention but it does not provide methods of evaluation in this regard (The Saudi Center for Disease Prevention and Control, Obesity Control & Prevention Strategy 2020-2030, 2019).","Serbia's National Programme for the Prevention of Obesity in Children and Adults outlines clear actions, specific targets and evaluation methods across multiple sectors, including education, health services, food environment and public awareness, with a focus on reducing unhealthy food consumption and increasing physical activity (Ministry of Health of the Republic of Serbia, Regulation on the National Programme for the Prevention of Obesity in Children and Adults, 2018).","South Africa's national strategic plan for reducing the prevalence of obesity contains comprehensive, well-defined measures for obesity prevention, with specific targets, clear implementation strategies, and defined evaluation methods (South Africa National Department of Health, Strategy for the Prevention and Management of Obesity in South Africa 2023-2028, 2023).","The 2025 Community Integrated Health Promotion Project Guide (Obesity Prevention and Management) contains comprehensive measures for obesity prevention across the population, including clear actions, specific targets and methods of evaluation (Ministry of Health and Welfare and the Korea Health Promotion Institute, 2025 Community Integrated Health Promotion Project Guide (Obesity Prevention and Management), 2024).","Spain's overarching obesity strategy for the general population has not been updated since 2005. A more recent strategy focuses solely on childhood obesity; however, it includes several measures for obesity prevention, with specific targets and evaluation methods (Spanish Ministry of Health, Strategy for Nutrition, Physical Activity and Prevention of Obesity, 2005; Spanish Ministry of Health, National Strategic Plan to Tackle Childhood Obesity 2022-2023, 2022).","There is insufficient evidence that the United Arab Emirates has a standalone national obesity policy. However, the outdated National Strategy for the Prevention and Control of Non-Communicable Diseases, which only briefly addressed obesity, included an objective to \"stop the increase in the prevalence of obesity and diabetes\" but did not present measures in this regard, while the outdated National Plan to Combat Childhood Obesity, which only addressed children, included a detailed list of activities for the prevention and management of obesity in that age group (Ministry of Health and Prevention, National Plan to Combat Childhood Obesity, 2017; Ministry of Health and Prevention, National Strategy for the Prevention and Control of Non-Communicable Diseases 2017-2021, 2017).","The UK's 2020 national obesity-related policy and 2025 Moonshot to End the Obesity Epidemic both contain obesity prevention measures with clear actions that are focused on the food and physical activity environments, but they lack specific evaluation methods (UK Department of Health and Social Care, Tackling obesity: empowering adults and children to live healthier lives, 2020; UK Government, Fit for the Future: The 10 Year Health Plan for England, 2025)."]
[null,1008,"1.1.3d","Measures for obesity management","Australia's National Obesity Strategy 2022-2032 contains comprehensive, well-defined measures for obesity management with well-defined evaluation methods (Commonwealth of Australia Health Ministers Meeting, National Obesity Strategy 2022-2032, 2022).","The Obesity Prevention Strategy for Brazilians 2024-2034 (2024) solely focuses on obesity prevention and makes no mention of measures for obesity management (Federal Government of Brazil, Ministry of Development and Social Assistance, Family, and Fight Against Hunger, Obesity Prevention Strategy for Brazilians 2024-2034, 2024).","There is insufficient evidence that Canada has an active obesity-related strategy in place; however, the government published a plan to specifically tackle childhood obesity in 2010 (Government of Canada, Health Canada: Curbing Childhood Obesity: A Federal, Provincial and Territorial Framework for Action to Promote Healthy Weights, 2010).","China’s national-level obesity campaign includes measures for obesity prevention with clear actions, but it lacks methods of evaluation (National Health Commission, Interpretation of the “Weight Management Years Campaign” Activity Implementation Plan, 2024).","Finland's obesity-related strategies are out of date; however, the Obesity on the decline—well-being through nutrition and exercise—National Obesity Programme 2012-2015 included several measures for obesity management across the population (Finnish Ministry of Social Affairs and Health, Reducing obesity—well-being through nutrition and exercise—National Obesity Programme 2012-2015, 2013).","The Obesity Management Roadmap, which was published in 2019 but expired in 2022, established comprehensive obesity management measures with clear actions, specific targets and detailed evaluation methods throughout its implementation framework; however, it expired in 2022 (French Ministry of Labour, Health, Solidarity and Families, Obesity Management Roadmap, 2019).","Germany's national obesity-related plan does not contain measures for obesity management (Federal Ministry of Food and Agriculture, Action plan: Further development of IN FORM - priorities of the National Action Plan for the prevention of malnutrition, physical inactivity and obesity, 2021).","India's national strategic framework for obesity prevention summarises existing efforts at health promotion but does not contain specific measures with clear actions, specific targets or methods of evaluation for obesity management (Press Information Bureau—Ministry of Information and Broadcasting, Towards a Fit and Healthy India: Combating Obesity through Collective Action, 2025).","Italy's National Policy for the Prevention of Overweight and Obesity—contained within the Guidelines for the Prevention and Control of Overweight and Obesity—outlines measures for obesity management, but it lacks specific targets and methods of evaluation in this regard (Ministry of Health, The Guidelines for the Prevention and Control of Overweight and Obesity, 2022).","There is insufficient evidence that Japan has a national obesity-related policy in place; however, its Basic Policy for Comprehensive Promotion of National Health contains provisions addressing obesity (Ministry of Health, Labour and Welfare, Basic Policy for Comprehensive Promotion of National Health, 2023).","Mexico's National Strategy for the Prevention and Control of Overweight, Obesity and Diabetes has not been updated since 2013; however, it contains clear actions and specific targets for obesity management across the population (Mexico Government, National Strategy for the Prevention and Control of Overweight, Obesity and Diabetes, 2013).","Nigeria's national strategic plan for reducing the prevalence of obesity—the National Multi-Sectoral Action Plan for the Prevention and Control of Non-Communicable Diseases (2019-2025)—contains a few measures for obesity management, but these lack specific targets, clear implementation strategies or defined evaluation methods (Nigerian Federal Ministry of Health, National Multi-Sectoral Action Plan for the Prevention and Control of Non-Communicable Diseases (2019-2025), 2019).","Rwanda's national obesity-related strategic plan does not contain measures for obesity management (Republic of Rwanda Ministry of Health, National Strategy and Costed Action Plan for the Prevention and Control of Non-Communicable Diseases in Rwanda (July 2020-June 2025), 2020).","Saudi Arabia's Obesity Control & Prevention Strategy 2020-2030 does not present specific measures for obesity management (The Saudi Center for Disease Prevention and Control, Obesity Control & Prevention Strategy 2020-2030, 2019).","Serbia's National Programme for the Prevention of Obesity in Children and Adults outlines measures to improve obesity management through early diagnosis, multidisciplinary treatment, and integration into primary care; sets a general target of improving access and quality of treatment; and lays out a plan to evaluate progress by monitoring service uptake and outcomes via national health databases (Ministry of Health of the Republic of Serbia, Regulation on the National Programme for the Prevention of Obesity in Children and Adults, 2018).","South Africa's national strategic plan for reducing the prevalence of obesity contains comprehensive, well-defined measures for obesity management with clear evaluation methods (South Africa National Department of Health, Strategy for the Prevention and Management of Obesity in South Africa 2023-2028, 2023).","The 2025 Community Integrated Health Promotion Project Guide (Obesity Prevention and Management) contains comprehensive measures for obesity management across the population, including clear actions, specific targets and methods of evaluation (Ministry of Health and Welfare and the Korea Health Promotion Institute, 2025 Community Integrated Health Promotion Project Guide (Obesity Prevention and Management), 2024).","Spain's overarching obesity strategy for the general population has not been updated since 2005. A more recent strategy focuses solely on childhood obesity; it does not contain distinct measures for obesity management across the population (Spanish Ministry of Health, Strategy for Nutrition, Physical Activity and Prevention of Obesity, 2005; Spanish Ministry of Health, National Strategic Plan to Tackle Childhood Obesity 2022-2023, 2022).","There is insufficient evidence that the United Arab Emirates has a standalone national obesity policy. However, the outdated National Strategy for the Prevention and Control of Non-Communicable Diseases, which only briefly addressed obesity, included an objective to \"stop the increase in the prevalence of obesity and diabetes\" but did not present measures in this regard, while the outdated National Plan to Combat Childhood Obesity, which only addressed children, included a detailed list of activities for the prevention and management of obesity in that age group (Ministry of Health and Prevention, National Plan to Combat Childhood Obesity, 2017; Ministry of Health and Prevention, National Strategy for the Prevention and Control of Non-Communicable Diseases 2017-2021, 2017).","The UK's 2020 national obesity-related policy and 2025 Moonshot to End the Obesity Epidemic both contain obesity management measures with clear actions, but they lack specific evaluation methods (UK Department of Health and Social Care, Tackling obesity: empowering adults and children to live healthier lives, 2020; UK Government, Fit for the Future: The 10 Year Health Plan for England, 2025)."]
[null,1009,"1.1.3e","Targets for obesity prevalence reduction","Australia's National Obesity Strategy 2022-2032 contains a clear and measurable long-term target for obesity prevalence reduction to be achieved by 2030; however, there is no evidence of short-term targets (Commonwealth of Australia Health Ministers Meeting, National Obesity Strategy 2022-2032, 2022).","Although the Obesity Prevention Strategy for Brazilians 2024-2034 (2024) has an overarching outcome objective dedicated to lowering the prevalence of obesity, it does not specify numeric targets with defined timeframes (Federal Government of Brazil, Ministry of Development and Social Assistance, Family, and Fight Against Hunger, Obesity Prevention Strategy for Brazilians 2024-2034, 2024).","There is insufficient evidence that Canada has an active obesity-related strategy in place; however, the government published a plan to specifically tackle childhood obesity in 2010 (Government of Canada, Health Canada: Curbing Childhood Obesity: A Federal, Provincial and Territorial Framework for Action to Promote Healthy Weights, 2010).","China’s national-level obesity campaign does not contain specific, numeric targets for a reduction in obesity prevalence (National Health Commission, Notice on the Issuance of the Implementation Programme of the “Weight Management Years Campaign”, 2024).","Finland's obesity-related strategies are out of date. In addition, there is no evidence that they include short- or long-term numerical targets for reduction in obesity prevalence (Finnish Government, On the move: National Strategy for Physical Activity Promoting Health and Wellbeing 2020, 2013; Finnish Government, Obesity on the decline—well-being through nutrition and exercise: National Obesity Programme—Action and Implementation Plan 2016-2018, 2016).","The Obesity Management Roadmap, which was published in 2019 but expired in 2022, did not contain specific targets for obesity prevalence reduction across the population (French Ministry of Labour, Health, Solidarity and Families, Obesity Management Roadmap, 2019).","Germany's national obesity-related plan seeks to counteract the increase in overweight and obesity by 2030 but does not set a specific, numeric target in this regard (Federal Ministry of Food and Agriculture, Action plan: Further development of IN FORM—priorities of the National Action Plan for the prevention of malnutrition, physical inactivity and obesity, 2021).","India's national strategic framework for obesity prevention does not contain specific short- or long-term targets for obesity prevalence reduction (Press Information Bureau—Ministry of Information and Broadcasting, Towards a Fit and Healthy India: Combating Obesity through Collective Action, 2025).","Italy's National Policy for the Prevention of Overweight and Obesity—contained within the Guidelines for the Prevention and Control of Overweight and Obesity—does not contain specific, numerical targets for reducing obesity prevalence across the population (Ministry of Health, The Guidelines for the Prevention and Control of Overweight and Obesity, 2022).","There is insufficient evidence that Japan has a national obesity-related policy in place; however, its Basic Policy for Comprehensive Promotion of National Health contains provisions addressing obesity (Ministry of Health, Labour and Welfare, Basic Policy for Comprehensive Promotion of National Health, 2023).","Mexico's National Strategy for the Prevention and Control of Overweight, Obesity and Diabetes has not been updated since 2013; however, it included short-term targets for 2018 (Mexico Government, National Strategy for the Prevention and Control of Overweight, Obesity, and Diabetes, 2013).","Nigeria's national strategic plan for reducing the prevalence of obesity—the National Multi-Sectoral Action Plan for the Prevention and Control of Non-Communicable Diseases (2019-2025)—establishes both annual and long-term targets for obesity prevalence reduction to be achieved by 2025 (Nigerian Federal Ministry of Health, National Multi-Sectoral Action Plan for the Prevention and Control of Non-Communicable Diseases (2019-2025), 2019).","Rwanda's national obesity-related strategic plan establishes long-term targets for obesity prevalence across the population, aiming to keep obesity prevalence at 2.8% over a period of 13 years (Republic of Rwanda Ministry of Health, National Strategy and Costed Action Plan for the Prevention and Control of Non-Communicable Diseases in Rwanda (July 2020-June 2025), 2020).","Saudi Arabia's Obesity Control & Prevention Strategy 2020-2030 outlines a long-term target to maintain the prevalence of obesity at 28.7% through to 2030 (The Saudi Center for Disease Prevention and Control, Obesity Control & Prevention Strategy 2020-2030, 2019). Saudi Arabia's National Strategy for Diet and Physical Activity 2014-2025 has long-term targets in place for lowering the prevalence of obesity by 2025, from a baseline of 2014 (Ministry of Health, KSA National Strategy for Diet and Physical Activity for the Years 2014-2025, 2014).","Serbia's National Programme for the Prevention of Obesity in Children and Adults set long-term targets aimed at increasing the number of children and adults with normal body mass by 10% within seven years (from 2018 to 2025) (Ministry of Health of the Republic of Serbia, Regulation on the National Programme for the Prevention of Obesity in Children and Adults, 2018).","South Africa's national strategic plan for reducing the prevalence of obesity does not contain specific, numeric targets for obesity prevalence reduction across the population (South Africa National Department of Health, Strategy for the Prevention and Management of Obesity in South Africa 2023-2028, 2023).","The 2025 Community Integrated Health Promotion Project Guide (Obesity Prevention and Management) contains long-term targets for obesity prevalence reduction to be achieved by 2030, from a baseline of 2018 (Ministry of Health and Welfare and the Korea Health Promotion Institute, 2025 Community Integrated Health Promotion Project Guide (Obesity Prevention and Management), 2024).","Spain's overarching obesity strategy for the general population has not been updated since 2005. A more recent strategy focuses solely on childhood obesity; it includes both short- and long-term targets for childhood obesity prevalence reduction (Spanish Ministry of Health, Strategy for Nutrition, Physical Activity and Prevention of Obesity, 2005; Spanish Ministry of Health, National Strategic Plan to Tackle Childhood Obesity 2022-2023, 2022).","There is insufficient evidence that the United Arab Emirates has a standalone national obesity policy. However, the outdated National Strategy for the Prevention and Control of Non-Communicable Diseases, which only briefly addressed obesity, included an objective to \"stop the increase in the prevalence of obesity and diabetes\" and a short-term target to reduce the incidence of childhood obesity by up to 12% by 2021 (Ministry of Health and Prevention, National Strategy for the Prevention and Control of Non-Communicable Diseases 2017-2021, 2017).","The UK's 2020 national obesity-related policy includes a long-term target to halve childhood obesity and reduce the number of adults living with obesity by 2030; however, 2025's Moonshot to End the Obesity Epidemic does not contain specific, time-bound targets for reducing obesity prevalence (UK Department of Health and Social Care, Tackling obesity: empowering adults and children to live healthier lives, 2020; UK Government, Fit for the Future: The 10 Year Health Plan for England, 2025)."]
[null,1010,"1.1.3f","Focus on vulnerable groups","Australia's National Obesity Strategy 2022-2032 includes a particular focus on the prevention and management of obesity in groups at increased risk of developing obesity, such as LGBTQ+ communities and Aboriginal and Torres Strait Islander peoples. Further, it includes tailored strategies that aim to mitigate significant health inequities across these demographic groups (Commonwealth of Australia Health Ministers Meeting, National Obesity Strategy 2022-2032, 2022).","The Obesity Prevention Strategy for Brazilians 2024-2034 (2024) explicitly recognises that obesity affects different population groups unequally (based on factors like race, gender, age and socioeconomic status) and adopts an intersectional approach. However, it does not outline concrete and actionable measures specifically addressing the needs of vulnerable and minority groups (Federal Government of Brazil, Ministry of Development and Social Assistance, Family, and Fight Against Hunger, Obesity Prevention Strategy for Brazilians 2024-2034, 2024).","There is insufficient evidence that Canada has an active obesity-related strategy in place; however, the government published a plan to specifically tackle childhood obesity in 2010 (Government of Canada, Health Canada: Curbing Childhood Obesity: A Federal, Provincial and Territorial Framework for Action to Promote Healthy Weights, 2010).","China's national-level obesity campaign outlines well-defined and actionable measures specifically addressing the needs of vulnerable and minority groups, namely pregnant women, infants and young children, students, occupational groups, and the elderly (National Health Commission, Notice on the Issuance of the Implementation Programme of the “Weight Management Years Campaign”, 2024).","Finland's obesity-related strategies are out of date; however, the Obesity on the decline—well-being through nutrition and exercise—National Obesity Programme 2012-2015 included a focus on groups at increased risk of developing obesity (Finnish Ministry of Social Affairs and Health, Reducing obesity—well-being through nutrition and exercise—National Obesity Programme 2012-2015, 2013).","The Obesity Management Roadmap, which was published in 2019 but expired in 2022, included comprehensive, well-defined measures addressed towards multiple groups at increased risk of developing obesity (French Ministry of Labour, Health, Solidarity and Families, Obesity Management Roadmap, 2019).","Germany's national obesity-related plan includes a focus on the prevention of obesity in groups at increased risk of developing obesity, and it outlines well-defined and actionable measures specifically addressing the needs of vulnerable and minority groups, namely low-income groups; people with physical, mental or psychological illnesses; and migrants (Federal Ministry of Food and Agriculture, Action plan: Further development of IN FORM—priorities of the National Action Plan for the prevention of malnutrition, physical inactivity and obesity, 2021).","India's national strategic framework for obesity prevention includes a focus on the prevention and management of obesity in groups at increased risk of developing obesity—namely children, pregnant women and lactating mothers—but it does not outline specific actions, targeted interventions or comprehensive strategies to address their unique needs (Press Information Bureau—Ministry of Information and Broadcasting, Towards a Fit and Healthy India: Combating Obesity through Collective Action, 2025).","Italy's National Policy for the Prevention of Overweight and Obesity—contained within the Guidelines for the Prevention and Control of Overweight and Obesity—contains dedicated, actionable measures and guidelines specifically addressing the needs of vulnerable groups, such as children and people living with other chronic diseases (Ministry of Health, The Guidelines for the Prevention and Control of Overweight and Obesity, 2022).","There is insufficient evidence that Japan has a national obesity-related policy in place; however, its Basic Policy for Comprehensive Promotion of National Health contains provisions addressing obesity (Ministry of Health, Labour and Welfare, Basic Policy for Comprehensive Promotion of National Health, 2023).","Mexico's National Strategy for the Prevention and Control of Overweight, Obesity and Diabetes has not been updated since 2013, but it does include well-defined actionable measures for vulnerable groups (Mexico Government, National Strategy for the Prevention and Control of Overweight, Obesity, and Diabetes, 2013).","Nigeria's national strategic plan for reducing the prevalence of obesity—the National Multi-Sectoral Action Plan for the Prevention and Control of Non-Communicable Diseases (2019-2025)—does not include a particular focus on the prevention and management of obesity in groups at increased risk of developing obesity (Nigerian Federal Ministry of Health, National Multi-Sectoral Action Plan for the Prevention and Control of Non-Communicable Diseases (2019-2025), 2019).","Rwanda's national obesity-related strategic plan mentions that obesity is more prevalent among women aged 35-54 and among urban populations, but it does not include a particular focus on the prevention and management of obesity in these groups or in any others at increased risk of developing obesity (Republic of Rwanda Ministry of Health, National Strategy and Costed Action Plan for the Prevention and Control of Non-Communicable Diseases in Rwanda (July 2020-June 2025), 2020).","Saudi Arabia's national obesity prevention and management strategies contain targeted interventions and actionable measures to address the needs of children and mothers (Ministry of Health, KSA National Strategy for Diet and Physical Activity for the Years 2014-2025, 2014; The Saudi Center for Disease Prevention and Control, Obesity Control & Prevention Strategy 2020-2030, 2019).","Serbia's National Programme for the Prevention of Obesity in Children and Adults acknowledges that factors such as age, race, early life environment and socioeconomic circumstances contribute to heightened obesity risk, and includes specific measures tailored to certain at-risk age groups—namely children, adolescents and the elderly (Ministry of Health of the Republic of Serbia, Regulation on the National Programme for the Prevention of Obesity in Children and Adults, 2018).","South Africa's national strategic plan for reducing the prevalence of obesity does not include a particular focus on the prevention and management in groups at increased risk of developing obesity (South Africa National Department of Health, Strategy for the Prevention and Management of Obesity in South Africa 2023-2028, 2023).","The 2025 Community Integrated Health Promotion Project Guide (Obesity Prevention and Management) includes a specific focus on the prevention and management of obesity in groups identified as being at increased risk, outlining well-defined and actionable measures specifically addressing the needs of vulnerable groups, particularly children/adolescents and considering socioeconomic factors (Ministry of Health and Welfare and the Korea Health Promotion Institute, 2025 Community Integrated Health Promotion Project Guide (Obesity Prevention and Management), 2024).","Spain's overarching obesity strategy for the general population has not been updated since 2005. A more recent strategy focuses solely on childhood obesity; it presents well-defined and actionable measures specifically addressing the needs of vulnerable populations—specifically children from households with lower incomes, disabled children and children of Roma or migrant origin (Spanish Ministry of Health, Strategy for Nutrition, Physical Activity and Prevention of Obesity, 2005; Spanish Ministry of Health, National Strategic Plan to Tackle Childhood Obesity 2022-2023, 2022).","There is insufficient evidence that the United Arab Emirates has a standalone national obesity policy. However, the outdated National Strategy for the Prevention and Control of Non-Communicable Diseases, which only briefly addressed obesity, included a target to reduce the incidence of childhood obesity by up to 12% by 2021, and the outdated National Plan to Combat Childhood Obesity, which only addressed children, included a detailed list of activities for the prevention and management of obesity in that age group (Ministry of Health and Prevention, National Plan to Combat Childhood Obesity, 2017; Ministry of Health and Prevention, National Strategy for the Prevention and Control of Non-Communicable Diseases 2017-2021, 2017).","The UK's 2025 Moonshot to End the Obesity Epidemic includes specific measures for vulnerable groups at increased risk of developing obesity, including pregnant women, children and low-income populations (UK Government, Fit for the Future: The 10 Year Health Plan for England, 2025)."]
[null,1011,"1.1.3g","Obesity-related stigma and discrimination","Australia's National Obesity Strategy 2022-2032 aims to reduce obesity-related stigma and discrimination and contains well-defined measures to tackle it (Commonwealth of Australia Health Ministers Meeting, National Obesity Strategy 2022-2032, 2022).","The Obesity Prevention Strategy for Brazilians 2024-2034 (2024) explicitly acknowledges obesity-related stigma/discrimination and contains specific measures to combat it under Axis 3 which aims \"to address and overcome the stigma and discrimination associated with obesity\" (Federal Government of Brazil, Ministry of Development and Social Assistance, Family, and Fight Against Hunger, Obesity Prevention Strategy for Brazilians 2024-2034, 2024).","There is insufficient evidence that Canada has an active obesity-related strategy in place; however, the government published a plan to specifically tackle childhood obesity in 2010 (Government of Canada, Health Canada: Curbing Childhood Obesity: A Federal, Provincial and Territorial Framework for Action to Promote Healthy Weights, 2010).","China's national-level obesity campaign does not make reference to obesity-related stigma or discrimination (National Health Commission, Interpretation of the “Weight Management Years Campaign” Activity Implementation Plan, 2024).","Finland's obesity-related strategies are out of date; however, the Obesity on the decline—well-being through nutrition and exercise—National Obesity Programme 2012-2015 made reference to obesity-related stigma (Finnish Ministry of Social Affairs and Health, Reducing obesity—well-being through nutrition and exercise—National Obesity Programme 2012-2015, 2013).","Although the Obesity Management Roadmap, which was published in 2019 but expired in 2022, recognised the problem of obesity-related stigma and discrimination, it did not contain specific, dedicated measures to combat it (French Ministry of Labour, Health, Solidarity and Families, Obesity Management Roadmap, 2019).","Germany's national obesity-related plan does not make reference to obesity-related stigma or discrimination (Federal Ministry of Food and Agriculture, Action plan: Further development of IN FORM—priorities of the National Action Plan for the prevention of malnutrition, physical inactivity and obesity, 2021).","India's national strategic framework for obesity prevention does not mention obesity-related stigma or discrimination (Press Information Bureau—Ministry of Information and Broadcasting, Towards a Fit and Healthy India: Combating Obesity through Collective Action, 2025).","Italy's National Policy for the Prevention of Overweight and Obesity—contained within the Guidelines for the Prevention and Control of Overweight and Obesity—specifically mentions obesity-related stigma but does not contain concrete measures to combat it (Ministry of Health, The Guidelines for the Prevention and Control of Overweight and Obesity, 27 July 2022).","There is insufficient evidence that Japan has a national obesity-related policy in place; however, its Basic Policy for Comprehensive Promotion of National Health contains provisions addressing obesity (Ministry of Health, Labour and Welfare, Basic Policy for Comprehensive Promotion of National Health, 2023).","Mexico's National Strategy for the Prevention and Control of Overweight, Obesity and Diabetes, which has not been updated since 2013, did not include measures to tackle weight-related stigma or discrimination (Mexico Government, National Strategy for the Prevention and Control of Overweight, Obesity, and Diabetes, 2013).","Nigeria's national strategic plan for reducing the prevalence of obesity—the National Multi-Sectoral Action Plan for the Prevention and Control of Non-Communicable Diseases (2019-2025)—does not contain measures to combat obesity-related stigma or discrimination (Nigerian Federal Ministry of Health, National Multi-Sectoral Action Plan for the Prevention and Control of Non-Communicable Diseases (2019-2025), 2019).","Rwanda's national obesity-related strategic plan does not make reference to obesity-related stigma or discrimination (Republic of Rwanda Ministry of Health, National Strategy and Costed Action Plan for the Prevention and Control of Non-Communicable Diseases in Rwanda (July 2020-June 2025), 2020).","Saudi Arabia's national obesity prevention and management strategies do not contain any mention of obesity-related stigma or discrimination (Ministry of Health, KSA National Strategy for Diet and Physical Activity for the Years 2014-2025, 2014; The Saudi Center for Disease Prevention and Control, Obesity Control & Prevention Strategy 2020-2030, 2019).","Serbia's National Programme for the Prevention of Obesity in Children and Adults acknowledges the risk of stigmatisation among children and young people living with obesity but does not provide concrete measures to address it (Ministry of Health of the Republic of Serbia, Regulation on the National Programme for the Prevention of Obesity in Children and Adults, 2018).","South Africa's national strategic plan for reducing the prevalence of obesity mentions obesity-related stigma and discrimination but does not include measures to combat them (South Africa National Department of Health, Strategy for the Prevention and Management of Obesity in South Africa 2023-2028, 2023).","The 2025 Community Integrated Health Promotion Project Guide (Obesity Prevention and Management) makes indirect reference to aspects related to obesity-related stigma, but it does not explicitly address it or contain specific measures designed to combat it (Ministry of Health and Welfare and the Korea Health Promotion Institute, 2025 Community Integrated Health Promotion Project Guide (Obesity Prevention and Management), 2024).","Spain's overarching obesity strategy for the general population has not been updated since 2005. A more recent strategy focuses solely on childhood obesity; it recognises that obesity can lead to stigma or discrimination (Spanish Ministry of Health, Strategy for Nutrition, Physical Activity and Prevention of Obesity, 2005; Spanish Ministry of Health, National Strategic Plan to Tackle Childhood Obesity 2022-2023, 2022).","There is insufficient evidence that the UAE has a standalone national obesity policy. Additionally, neither the outdated National Strategy for the Prevention and Control of Non-Communicable Diseases nor the outdated National Plan to Combat Childhood Obesity made reference to obesity-related stigma (Ministry of Health and Prevention, National Plan to Combat Childhood Obesity, 2017; Ministry of Health and Prevention, National Strategy for the Prevention and Control of Non-Communicable Diseases 2017-2021, 2017).","Neither the 2025 Moonshot to End the Obesity Epidemic nor the 2020 national obesity-related policy mention obesity-related stigma or discrimination (UK Government, Fit for the Future: The 10 Year Health Plan for England, 2025; UK Department of Health and Social Care, Tackling obesity: empowering adults and children to live healthier lives, 2020)."]
[null,1012,"1.1.4","Obesity-related funding","There is insufficient evidence that Australia has allocated a dedicated budget to the implementation of the National Obesity Strategy 2022-2032, the country's ten-year framework for action to prevent and reduce overweight and obesity (Commonwealth of Australia Health Ministers Meeting, National Obesity Strategy 2022-2032, 2022).","There is insufficient evidence that Brazil has allocated a dedicated budget to the implementation of the Obesity Prevention Strategy for Brazilians 2024-2034 (2024) (Federal Government of Brazil, Ministry of Development and Social Assistance, Family, and Fight Against Hunger, Obesity Prevention Strategy for Brazilians 2024-2034, 2024).","There is insufficient evidence that Canada has an active obesity-related strategy in place; however, the government published a plan to specifically tackle childhood obesity in 2010 (Government of Canada, Health Canada: Curbing Childhood Obesity: A Federal, Provincial and Territorial Framework for Action to Promote Healthy Weights, 2010).","There is insufficient evidence that China has allocated a dedicated budget to the implementation of its national obesity-related campaign (National Health Commission, Interpretation of the “Weight Management Years Campaign” Activity Implementation Plan, 2024).","Finland's obesity-related strategies are out of date, and there is insufficient evidence that the government allocated a dedicated budget for their implementation (Finnish Government, On the move: National Strategy for Physical Activity Promoting Health and Wellbeing 2020, 2013; Finnish Institute of Health and Welfare, Päivi Mäki: Wellbeing through Healthy Nutrition and Physical Activity. National Obesity Programme in Finland 2012-2018; Finnish Government, Obesity on the decline—well-being through nutrition and exercise: National Obesity Programme—Action and Implementation Plan 2016-2018, 2016).","Although the Obesity Management Roadmap, which was published in 2019 but expired in 2022, mentioned ad-hoc forms of financing for its initiatives, it did not present a comprehensive budget for the implementation of the entire plan (French Ministry of Labour, Health, Solidarity and Families, Obesity Management Roadmap, 2019).","Germany allocates a federal budget for the implementation of its IN FORM national initiative to promote healthy diets and physical activity, which includes its obesity-related strategy. However, obesity-related projects make up only a small share of the IN FORM initiative (Federal Ministry of Finance, Draft Federal Budget 2025, Section 10, Federal Ministry of Food and Agriculture, 2024).","There is insufficient evidence of a dedicated budget for the implementation of India's national strategic framework for obesity prevention (Press Information Bureau—Ministry of Information and Broadcasting, Towards a Fit and Healthy India: Combating Obesity through Collective Action, 2025).","In December 2024 the Italian Government approved the Obesity Fund, through which it has allocated €1.2m for 2025, €1.3m for 2026 and €1.7m for 2027; however, the fund is not explicitly tied to Italy's National Policy for the Prevention of Overweight and Obesity contained within the Guidelines for the Prevention and Control of Overweight and Obesity, published in 2022 (Ministry of Health, 2025 Budget Decree, 30 December 2024).","There is insufficient evidence that Japan has a national obesity-related policy in place; however, its Basic Policy for Comprehensive Promotion of National Health contains provisions addressing obesity (Ministry of Health, Labour and Welfare, Basic Policy for Comprehensive Promotion of National Health, 2023).","The National Strategy for the Prevention and Control of Overweight, Obesity and Diabetes, which has not been updated since 2013, had a budget allocated for its implementation, spanning 2013-18 (Mexico Government, National Strategy for the Prevention and Control of Overweight, Obesity, and Diabetes, 2013; Mexico Government, Technical Evaluation Document of Budget Programme U008 Prevention and Control of Overweight, Obesity and Diabetes, 2022).","There is insufficient evidence that Nigeria has allocated a budget for the implementation of the National Multi-Sectoral Action Plan for the Prevention and Control of Non-Communicable Diseases (2019-2025)—its national obesity-related strategy (Nigerian Federal Ministry of Health, National Multi-Sectoral Action Plan for the Prevention and Control of Non-Communicable Diseases (2019-2025), 2019).","Rwanda's obesity-related strategic plan—the National Strategy and Costed Action Plan for the Prevention and Control of Non-Communicable Diseases in Rwanda—provides an estimate of the cost of implementing the plan's actions, but there is insufficient evidence of actual funding allocation or a dedicated budget for its implementation (Republic of Rwanda Ministry of Health, National Strategy and Costed Action Plan for the Prevention and Control of Non-Communicable Diseases in Rwanda (July 2020-June 2025), 2020).","There is insufficient evidence that Saudi Arabia has a dedicated budget in place for the implementation of its national obesity prevention and management strategies (Ministry of Health, KSA National Strategy for Diet and Physical Activity for the Years 2014-2025, 2014; The Saudi Center for Disease Prevention and Control, Obesity Control & Prevention Strategy 2020-2030, 2019).","As per Section 10 of the Regulation on the National Programme for the Prevention of Obesity in Children and Adults, a budget of 1,000,000 dinars (US$10,000) was allocated to the implementation of the Programme in 2018 (Ministry of Health of the Republic of Serbia, Regulation on the National Programme for the Prevention of Obesity in Children and Adults, 2018).","South Africa's national strategic plan for reducing the prevalence of obesity includes costs for each proposed action and holds that many of the actions will be carried out under normal budgets of government departments. It also lists the resources needed and estimated costs of activities that cannot be covered by the normal budgets (South Africa National Department of Health, Strategy for the Prevention and Management of Obesity in South Africa 2023-2028, 2023).","There is insufficient evidence that South Korea has a budget allocated for implementing the national obesity-related policy, the 2025 Community Integrated Health Promotion Project Guide (Obesity Prevention and Management) (Ministry of Health and Welfare and the Korea Health Promotion Institute, 2025 Community Integrated Health Promotion Project Guide (Obesity Prevention and Management), 2024).","Spain's most recent obesity-related strategy is limited in scope, focusing exclusively on childhood obesity; a section on financing indicates that actions included in the Plan will have priority consideration in State budgets, while European funds and public-private collaboration may also be utilised—but no concrete budget figures or funding commitments are specified (Spanish Ministry of Health, National Strategic Plan to Tackle Childhood Obesity 2022-2023, 2022).","There is insufficient evidence that the UAE has a standalone national obesity policy in place; however, the Emirates Health Services has been allocated a budget of AED4.9bn (US$1.35 bn) for FY 2025 to be directed towards ongoing healthcare programmes, including obesity-related initiatives (Ministry of Finance, Federal General Budget Annual Report, 2025).","In March 2021 the UK Department of Health and Social Care confirmed £100m (US$134m) funding to \"support children, adults and families achieve and maintain a healthier weight\" through investment into weight management services and initiatives to help people maintain a healthy weight; however, there is no evidence of a specific budget allocated to the implementation of the UK's 2025 Moonshot to End the Obesity Epidemic (UK Department of Health and Social Care, New specialised support to help those living with obesity to lose weight, 2021; UK Government, Fit for the Future: The 10 Year Health Plan for England, 2025)."]
[null,1013,"1.1.5","Weight-related discrimination","Australian law prohibits discrimination on the basis of a number of protected characteristics; however, weight is not included in the list (Australian Government, Age Discrimination Act 2004; Australian Government, Disability Discrimination Act 1992; Australian Government, Racial Discrimination Act 1975; Australian Government, Sex Discrimination Act 1984; Australian Government, Australian Human Rights Commission Act 1986).","In 2022 a bill was introduced in Brazil's parliament to punish weight-based discrimination with imprisonment and fines; however, as of April 2025 it has not yet passed (Brazil Chamber of Deputies, PL 1786/2022, 2022).","Canadian law prohibits discrimination on the basis of a number of protected characteristics; however, weight is not included in the list (Government of Canada, Canadian Human Rights Act—RSC, 1985, c. H-6).","There is insufficient evidence that China has a law that prohibits weight-based discrimination and classifies weight as a protected characteristic.","Finland's Non-discrimination Act of 2014 prohibits discrimination based on \"state of health\" and disability, among other factors; however, it does not make specific reference to obesity (Ministry of Justice of Finland, 1325/2014 Non-discrimination Act, 2014).","Under Law No. 2001-1066 on the Fight Against Discrimination, \"physical appearance\" and \"health status\" are protected characteristics against discrimination, and under Decision No. 2019-205 of the Defender of Civil Rights, it was established that \"the principle of non-discrimination in employment and civic life extends to obesity, to fatphobia...\" (Republic of France, Law No. 2001-1066 on the Fight Against Discrimination, 2001; Defender of Civil Rights, Decision No. 2019-205 of the Defender of Civil Rights, 2019).","Germany's General Act on Equal Treatment protects individuals diagnosed with a chronic illness that constitutes a disability from discrimination. The German parliament recognised obesity as a chronic disease in 2020, but there is insufficient evidence that obesity is specifically classified as a disability (Federal Republic of Germany, General Act on Equal Treatment, 2006; EASO, German Parliament Recognises Obesity as a Disease, 2020).","India's laws prohibit discrimination on the basis of a number of protected characteristics; however, weight is not included in the list (Ministry of External Affairs, The Constitution of India: Part III—Fundamental Rights, 2023).","Italy's laws prohibit discrimination on the basis of a number of protected characteristics; however, weight is not included in the list (Senate of the Republic, Constitution of the Republic of Italy).","There is insufficient evidence that Japan's anti-discrimination laws prohibit weight-based discrimination or classify weight as a protected characteristic (Government of Japan, labour Standards Act (Act No. 49 of 1947); Government of Japan, Act on Equal Opportunity and Treatment between Men and Women in Employment (Act No. 113 of 1972); Government of Japan, Act on Childcare Leave, Caregiver Leave, and Other Measures for the Welfare of Workers Caring for Children or Other Family Members (Act No. 76 of 1991); Government of Japan, Employment Measures Act (Act No. 132 of 1966); Government of Japan, Act to Facilitate the Employment of Persons with Disabilities (Act No. 123 of 1960).","Mexico's Federal Law for the prevention and elimination of discrimination does not explicitly mention obesity but it establishes that discrimination is prohibited on the grounds of physical or mental health and physical appearance (Mexico Congress, Federal Law for the prevention and elimination of discrimination, 2003).","Nigerian law prohibits discrimination on the basis of a number of protected characteristics; however, weight is not included in the list (Federal Republic of Nigeria, Discrimination Against Persons with Disabilities (Prohibition) Act, 2018; Federal Republic of Nigeria, HIV and AIDS (Anti-Discrimination) Act, 2014; Federal Republic of Nigeria, National Commission for Women Act, 1989).","Rwandan law prohibits discrimination on the basis of a number of protected characteristics; however, weight is not included in the list (Government of the Republic of Rwanda, Law No. 47/2001 of 2001 on Prevention, Suppression and Punishment of the Crime of Discrimination and Sectarianism, 2001; Government of the Republic of Rwanda, The Constitution of the Republic of Rwanda, 2003).","Saudi Arabian law prohibits discrimination on the basis of a number of protected characteristics; however, weight is not included in the list (Ministry of Human Resource and Social Development, Justice, Equality and Non-Discrimination, 2020).","The Law on Prohibition of Discrimination in Serbia does not explicitly mention obesity, but it prohibits discrimination on the basis of health status and appearance (Sl. glasnik RS, Law on Prohibition of Discrimination in Serbia, 2009).","South African law prohibits discrimination on the basis of a number of protected characteristics; however, weight is not included in the list (Republic of South Africa, Promotion of Equality and Prevention of Unfair Discrimination Act 4 of 2000).","There is insufficient evidence that South Korea has a law that prohibits weight-based discrimination or classifies weight as a protected characteristic.","Weight-based discrimination is illegal under Article 37 of Law 17/2011 (Spanish Legislature, Law 17/2021 of July 5, \"Law on Food Security\", 2011).","There is insufficient evidence that the UAE has a law that prohibits weight-based discrimination and classifies weight as a protected characteristic.","Legislation in the UK prohibits discrimination on the basis of a number of protected characteristics; however, weight is not included in the list (Government of the UK, Equality Act, 2010)."]
[null,1014,2,"Obesity management"]
[null,1015,2.1,"Obesity management guidelines"]
[null,1016,"2.1.1","Existence of obesity management guidelines","Australia has draft guidelines in place on obesity management; they were published in 2024. The guidelines state that there is no scheduled time for review and update, and that an update is desirable when the evidence changes substantively (Australian Government Department of Health and Aged Care, Clinical Practice Guidelines for the Management of Overweight and Obesity for Adults, Adolescents and Children in Australia (Draft Guidelines), 2024).","Brazil's Ministry of Health published the Clinical Protocol and Therapeutic Guidelines for Overweight and Obesity in Adults in 2020 and the Manual for Care of Overweight and Obesity in Primary Health Care of the Unified Health System in 2022 (Brazil Ministry of Health, Clinical Protocol and Therapeutic Guidelines for Overweight and Obesity in Adults, 2020; Brazil Ministry of Health, Manual for Care of Overweight and Obesity in Primary Health Care of the Unified Health System, 2022).","Health Canada developed the Canadian Guidelines for Body Weight Classification in Adults in 2003, and Obesity Canada and the Canadian Association of Bariatric Physicians and Surgeons developed the Canadian Adult Obesity Clinical Practice Guidelines in 2020 (Health Canada, Canadian Guidelines for Body Weight Classification in Adults, 2003; Obesity Canada, Canadian Adult Obesity Clinical Practice Guideline, 2020).","China has national guidelines on obesity management that were published in 2024 (National Health Commission, China, 2024 Guidelines for the Diagnosis and Treatment of Obesity, 2024).","Finland has national guidelines on obesity management that were published by the Finnish Medical Association Duodecim in 2025 (Finnish Medical Association Duodecim, Obesity (children, adolescents and adults), 2025).","France has guidelines for obesity management in adults and guidelines for obesity management in children and adolescents, published in 2024 and 2023 respectively (French Health Authority, Care pathway guide: overweight and obesity in adults, 2024; French Health Authority, Care pathway guide: overweight and obesity in children and adolescents, 2023).","Germany has national guidelines on obesity management that were published in 2024 (German Association for the Study of Obesity (DAG), Interdisciplinary S3 quality guideline on the Prevention and treatment of obesity, 2024).","There is insufficient evidence that the government of India has national guidelines on obesity management.","Italy's Guidelines for the Prevention and Control of Overweight and Obesity were published within the last ten years (Ministry of Health, The Guidelines for the Prevention and Control of Overweight and Obesity, n.d.).","Japan's national guidelines for obesity management were published by the Japan Society for the Study of Obesity in 2022 (Japan Society for the Study of Obesity, Obesity Management Guidelines 2022, 2022).","Mexico's national obesity management guidelines were published in 2024 (Chávez-Manzanera, E.A., Vera-Zertuche, J.M., Kaufer-Horwitz, M. et al., Mexican Clinical Practice Guidelines for Adult Overweight and Obesity Management, 2024).","There is insufficient evidence that Nigeria has national guidelines in place on obesity management.","Rwanda's National Non-Communicable Diseases Management Guidelines contain information on the prevention and management of overweight and obesity (Republic of Rwanda Ministry of Health, National Non-Communicable Diseases Management Guidelines, 2024).","Saudi Arabia has national guidelines on obesity management that were published in 2022 by the Ministry of Health (Ministry of Health, Saudi Guidelines on Prevention and Management of Obesity, 2022).","Serbia's Ministry of Health published the National Guideline of Good Clinical Practice: Treatment of Obesity in 2022 (Ministry of Health of the Republic of Serbia, National Guideline of Good Clinical Practice: Treatment of Obesity, 2022).","There is insufficient evidence that South Africa has national guidelines on obesity management. However, the development of such guidelines is a goal set by the country's national strategic plan for reducing the prevalence of obesity (South Africa National Department of Health, Strategy for the Prevention and Management of Obesity in South Africa 2023-2028, 2023).","South Korea has national guidelines on obesity management that were published in 2022 (Korean Society for the Study of Obesity, Clinical Practice Guidelines for Obesity 2022, 2022).","Spain's latest national guidelines on obesity management only apply to the management of obesity in children and have not been updated since 2009 (Spanish Ministry of Health, Clinical Practice Guidelines on the Prevention and Treatment of Childhood and Adolescent Obesity, 2009).","The UAE's National Clinical Guidelines for Weight Management and Prevention of Adulthood Obesity were published in 2025 by the Ministry of Health and Prevention (Ministry of Health and Prevention, National Clinical Guidelines for Weight Management and Prevention of Adulthood Obesity, 2025).","The UK has comprehensive national guidelines on obesity management; these were last updated in 2025 (National Institute for Health and Care Excellence, NICE guideline: Overweight and obesity management, 2025)."]
[null,1017,"2.1.2","Evidence-based obesity management guidelines","Australia's draft national guidelines on obesity management were developed using an evidence-based methodology, comprising a structured review and synthesis of best available evidence, grading of the evidence, and the input of independent experts (Australian Government Department of Health and Aged Care, Clinical Practice Guidelines for the Management of Overweight and Obesity for Adults, Adolescents and Children in Australia (Draft Guidelines), 2024).","Brazil's national guidelines for obesity management are based on both a structured review of evidence per WHO guidelines and expert input from a multidisciplinary panel of specialists (Brazil Ministry of Health, Clinical Protocol and Therapeutic Guidelines for Overweight and Obesity in Adults, 2020; Brazil Ministry of Health, Manual for Care of Overweight and Obesity in Primary Health Care of the Unified Health System, 2022).","The Canadian Adult Obesity Clinical Practice Guidelines (2020) demonstrate a clear, evidence-based methodology with both structured review of evidence and expert input (Obesity Canada, Canadian Adult Obesity Clinical Practice Guideline, 2020).","China’s national obesity management guidelines are based on a review of existing clinical evidence and expert input (National Health Commission, China, 2024 Guidelines for the Diagnosis and Treatment of Obesity, 2024).","Finland's national obesity management guidelines are based on a structured review of evidence and expert input (Finnish Medical Association Duodecim, Obesity (children, adolescents and adults), 2025).","France's guidelines for obesity management in adults and guidelines for obesity management in children and adolescents are based on both a structured review of evidence that followed established best practices and consultations involving a wide range of experts (French Health Authority, Care pathway guide: overweight and obesity in adults, 2024; French Health Authority, Care pathway guide: overweight and obesity in children and adolescents, 2023).","Germany's national guidelines on obesity management are based on a structured review and grading of evidence and input from over 30 experts (German Association for the Study of Obesity (DAG), Interdisciplinary S3 quality guideline on the Prevention and treatment of obesity, 2024).","There is insufficient evidence that the government of India has national guidelines on obesity management.","Italy's Guidelines for the Prevention and Control of Overweight and Obesity were developed following an evidence-based approach, including multidisciplinary expert input (Ministry of Health, The Guidelines for the Prevention and Control of Overweight and Obesity, n.d.).","Japan's national guidelines for obesity management are based on a structured review and grading of evidence and expert input (Japan Society for the Study of Obesity, Obesity Management Guidelines 2022, 2022).","The 2024 Mexican Clinical Practice Guidelines for Adult Overweight and Obesity Management are based on a structured review of evidence utilising the GRADE Evidence-to-Decision framework and a series of expert panels and independent reviews of international standards (Chávez-Manzanera, E.A., Vera-Zertuche, J.M., Kaufer-Horwitz, M. et al., Mexican Clinical Practice Guidelines for Adult Overweight and Obesity Management, 2024).","There is insufficient evidence that Nigeria has national guidelines in place on obesity management.","Rwanda's National Non-Communicable Diseases Management Guidelines, which contain information on the prevention and management of overweight and obesity, are based on evidence-based practices, international standards and the expertise of healthcare professionals (Republic of Rwanda Ministry of Health, National Non-Communicable Diseases Management Guidelines, 2024).","Saudi Arabia's national obesity management guidelines were developed based on a structured review of evidence and expert input (Ministry of Health, Saudi Guidelines on Prevention and Management of Obesity, 2022).","Serbia’s National Guideline of Good Clinical Practice: Treatment of Obesity was developed through a structured evidence review and expert input (Ministry of Health of the Republic of Serbia, National Guideline of Good Clinical Practice: Treatment of Obesity, 2022).","There is insufficient evidence that South Africa has national guidelines on obesity management. However, the development of such guidelines is a goal set by the country's national strategic plan for reducing the prevalence of obesity (South Africa National Department of Health, Strategy for the Prevention and Management of Obesity in South Africa 2023-2028, 2023).","The Clinical Practice Guidelines for Obesity 2022, published by the Korean Society for the Study of Obesity, were developed using an evidence-based methodology involving both a structured review of evidence and expert input (Korean Society for the Study of Obesity, Clinical Practice Guidelines for Obesity 2022, 2022).","Spain's national guidelines on obesity management in children are based on both a structured review of the evidence and expert input, but they were published in 2009 (Spanish Ministry of Health, Clinical Practice Guidelines on the Prevention and Treatment of Childhood and Adolescent Obesity, 2009).","The development of the UAE's national guidelines on obesity management involved convening the national obesity taskforce of 15 experts across medicine and academia who conducted a review of existing international guidelines and research literature (Ministry of Health and Prevention, National Clinical Guidelines for Weight Management and Prevention of Adulthood Obesity, 2025).","The UK's national guidelines on obesity management were developed using an evidence-based methodology and with the input and guidance of independent experts (National Institute for Health and Care Excellence, NICE guideline: Overweight and obesity management, 2025)."]
[null,1018,"2.1.3","Clinical and cost-effectiveness of obesity management interventions","Australia's draft national guidelines on obesity management are based on an evidence-based assessment of the clinical and cost-effectiveness of the interventions (Australian Government Department of Health and Aged Care, Clinical Practice Guidelines for the Management of Overweight and Obesity for Adults, Adolescents and Children in Australia (Draft Guidelines), 2024).","Brazil's Clinical Protocol and Therapeutic Guidelines for Overweight and Obesity in Adults (2020) includes an assessment of the clinical effectiveness of various interventions and the cost-effectiveness of pharmacological interventions, while the Manual for Care of Overweight and Obesity in Primary Health Care of the Unified Health System (2020) focuses primarily on clinical effectiveness (Brazil Ministry of Health, Clinical Protocol and Therapeutic Guidelines for Overweight and Obesity in Adults, 2020; Brazil Ministry of Health, Manual for Care of Overweight and Obesity in Primary Health Care of the Unified Health System, 2022).","The Canadian Adult Obesity Clinical Practice Guidelines (2020) include detailed assessments of the clinical effectiveness of interventions, as well as an evaluation of the costs associated with particular pharmacological interventions (Obesity Canada, Canadian Adult Obesity Clinical Practice Guideline, 2020).","China’s national obesity management guidelines include an assessment of the clinical effectiveness of interventions, but they do not include an assessment of the cost-effectiveness of interventions (National Health Commission, China, 2024 Guidelines for the Diagnosis and Treatment of Obesity, 2024).","Finland's national obesity management guidelines include an assessment of the clinical effectiveness of lifestyle interventions, pharmacotherapy and surgical options, as well as the cost-effectiveness of surgical intervention (Finnish Medical Association Duodecim, Obesity (children, adolescents and adults), 2025).","France's guidelines for obesity management in adults and guidelines for obesity management in children and adolescents demonstrate an assessment of the clinical effectiveness of interventions for obesity, but lack a comprehensive cost-effectiveness analysis (French Health Authority, Care pathway guide: overweight and obesity in adults, 2024; French Health Authority, Care pathway guide: overweight and obesity in children and adolescents, 2023).","Germany's national guidelines on obesity management include an assessment of the clinical effectiveness of interventions, but not assessments of the cost-effectiveness of interventions (German Association for the Study of Obesity (DAG), Interdisciplinary S3 quality guideline on the Prevention and treatment of obesity, 2024).","There is insufficient evidence that the government of India has national guidelines on obesity management.","Italy's Guidelines for the Prevention and Control of Overweight and Obesity include an assessment of the clinical effectiveness of interventions. Although they cite that obesity accounts for 9% of Italy's health spending and reduces GDP by 2.8%, they do not include an assessment of the cost-effectiveness of interventions (Ministry of Health, The Guidelines for the Prevention and Control of Overweight and Obesity, n.d.).","Japan's national guidelines for obesity management include an assessment of the clinical effectiveness of interventions, but do not cover the cost-effectiveness of interventions (Japan Society for the Study of Obesity, Obesity Management Guidelines 2022, 2022).","The 2024 Mexican Clinical Practice Guidelines for Adult Overweight and Obesity Management evaluate the clinical effectiveness and evidence for a variety of obesity interventions. However, the guidelines do not offer any comprehensive cost-effectiveness evaluation (Chávez-Manzanera, E.A., Vera-Zertuche, J.M., Kaufer-Horwitz, M. et al., Mexican Clinical Practice Guidelines for Adult Overweight and Obesity Management, 2024).","There is insufficient evidence that Nigeria has national guidelines in place on obesity management.","Rwanda's National Non-Communicable Diseases Management Guidelines discuss the clinical and cost-effectiveness of interventions for diseases like haemophilia and heart failure; however, there is no mention of the clinical or cost-effectiveness of interventions recommended for the prevention and management of overweight and obesity (Republic of Rwanda Ministry of Health, National Non-Communicable Diseases Management Guidelines, 2024).","Saudi Arabia's national obesity management guidelines include an evidence-based assessment of the clinical effectiveness of interventions, but do not include a systematic or explicit assessment of their cost-effectiveness (Ministry of Health, Saudi Guidelines on Prevention and Management of Obesity, 2022).","Serbia’s National Guideline of Good Clinical Practice: Treatment of Obesity incorporates evidence-based assessments of obesity management interventions, including pharmacotherapy and bariatric surgery, based on clinical trials and regulatory thresholds, but does not include any assessments of cost-effectiveness (Ministry of Health of the Republic of Serbia, National Guideline of Good Clinical Practice: Treatment of Obesity, 2022).","There is insufficient evidence that South Africa has national guidelines on obesity management. However, the development of such guidelines is a goal set by the country's national strategic plan for reducing the prevalence of obesity (South Africa National Department of Health, Strategy for the Prevention and Management of Obesity in South Africa 2023-2028, 2023).","The recommendations in the Clinical Practice Guidelines for Obesity 2022 are primarily based on an assessment of clinical effectiveness. There is no evidence of an assessment of the cost-effectiveness of interventions (Korean Society for the Study of Obesity, Clinical Practice Guidelines for Obesity 2022, 2022).","Although Spain's national guidelines on obesity management in children feature an evidence-based clinical evaluation, they do not include a structured or detailed assessment of cost-effectiveness and were published in 2009 (Spanish Ministry of Health, Clinical Practice Guidelines on the Prevention and Treatment of Childhood and Adolescent Obesity, 2009).","The UAE's National Clinical Guidelines for Weight Management and Prevention of Adulthood Obesity include an assessment of the clinical and cost effectiveness of certain recommended interventions (Ministry of Health and Prevention, National Clinical Guidelines for Weight Management and Prevention of Adulthood Obesity, 2025).","The UK's national guidelines on obesity management are based on an evidence-based assessment of the clinical and cost-effectiveness of the interventions (National Institute for Health and Care Excellence, NICE guideline: Overweight and obesity management, 2025)."]
[null,1019,2.2000000000000002,"Obesity diagnosis and referral pathways"]
[null,1020,"2.2.1","Obesity management pathway","Australia's draft national guidelines on obesity management expressly exclude a clinical pathway. Instead, they emphasise flexibility, placing responsibility on healthcare professionals to interpret evidence and tailor interventions with patients according to their needs (Australian Government Department of Health and Aged Care, Clinical Practice Guidelines for the Management of Overweight and Obesity for Adults, Adolescents and Children in Australia (Draft Guidelines), 2024).","Brazil's national obesity management guidelines include clear and interdisciplinary clinical pathways (Brazil Ministry of Health, Clinical Protocol and Therapeutic Guidelines for Overweight and Obesity in Adults, 2020; Brazil Ministry of Health, Manual for Care of Overweight and Obesity in Primary Health Care of the Unified Health System, 2022).","The Canadian Adult Obesity Clinical Practice Guidelines, developed by the advocacy organisation Obesity Canada in 2020, include a clear ideal clinical pathway (Obesity Canada, Canadian Adult Obesity Clinical Practice Guideline, 2020).","China’s national obesity management guidelines include a clear clinical pathway (National Health Commission, China, 2024 Guidelines for the Diagnosis and Treatment of Obesity, 2024).","Finland's national obesity management guidelines include a clear clinical pathway (Finnish Medical Association Duodecim, Obesity (children, adolescents and adults), 2025).","France's guidelines for obesity management in adults and guidelines for obesity management in children and adolescents both establish sequential, step-by-step holistic clinical pathways for diagnosing and managing obesity (French Health Authority, Care pathway guide: overweight and obesity in adults, 2024; French Health Authority, Care pathway guide: overweight and obesity in children and adolescents, 2023).","Germany’s national guidelines on obesity management include a clear clinical pathway (German Association for the Study of Obesity (DAG), Interdisciplinary S3 quality guideline on the Prevention and treatment of obesity, 2024).","There is insufficient evidence that the government of India has national guidelines on obesity management.","Italy's Guidelines for the Prevention and Control of Overweight and Obesity include clear clinical pathways for diagnosing, treating and preventing obesity (Ministry of Health, The Guidelines for the Prevention and Control of Overweight and Obesity, n.d.).","Japan's national guidelines for obesity management include a clear clinical pathway addressing diagnosis, treatment and comorbidity management (Japan Society for the Study of Obesity, Obesity Management Guidelines 2022, 2022).","The 2024 Mexican Clinical Practice Guidelines for Adult Overweight and Obesity Management include a clinical pathway based on targeted interventions for particular patient needs (Chávez-Manzanera, E.A., Vera-Zertuche, J.M., Kaufer-Horwitz, M. et al., Mexican Clinical Practice Guidelines for Adult Overweight and Obesity Management, 2024).","There is insufficient evidence that Nigeria has national guidelines in place on obesity management.","Rwanda's National Non-Communicable Diseases Management Guidelines, which contain information on the prevention and management of overweight and obesity, include a clear clinical pathway (Republic of Rwanda Ministry of Health, National Non-Communicable Diseases Management Guidelines, 2024).","Saudi Arabia's national obesity management guidelines include clear clinical pathways for both pharmacological and bariatric interventions (Ministry of Health, Saudi Guidelines on Prevention and Management of Obesity, 2022).","Serbia’s National Guideline of Good Clinical Practice: Treatment of Obesity outlines a clear clinical pathway for obesity management that emphasises personalised care through communication, lifestyle changes, regular monitoring, and, if necessary, pharmacotherapy or bariatric surgery, with long-term strategies to prevent weight regain (Ministry of Health of the Republic of Serbia, National Guideline of Good Clinical Practice: Treatment of Obesity, 2022).","There is insufficient evidence that South Africa has national guidelines on obesity management. However, the development of such guidelines is a goal set by the country's national strategic plan for reducing the prevalence of obesity (South Africa National Department of Health, Strategy for the Prevention and Management of Obesity in South Africa 2023-2028, 2023).","The Clinical Practice Guidelines for Obesity 2022 contain a clear clinical pathway, primarily depicted as a flowchart (Korean Society for the Study of Obesity, Clinical Practice Guidelines for Obesity 2022, 2022).","Although Spain's national guidelines on obesity management in children include a clear clinical pathway for managing childhood and adolescent obesity, they do not provide equivalent pathways for the broader population and were published in 2009 (Spanish Ministry of Health, Clinical Practice Guidelines on the Prevention and Treatment of Childhood and Adolescent Obesity, 2009).","The UAE's National Clinical Guidelines for Weight Management and Prevention of Adulthood Obesity include a clear clinical pathway, starting from assessment to lifestyle modification, pharmacological and surgical interventions, evaluation, and intensification of therapy or follow-up (Ministry of Health and Prevention, National Clinical Guidelines for Weight Management and Prevention of Adulthood Obesity, 2025).","The UK's national guidelines on obesity management include a clear clinical pathway (National Institute for Health and Care Excellence, NICE guideline: Overweight and obesity management, 2025)."]
[null,1021,"2.2.2","Obesity pathway in chronic disease management","Australia's national guidelines on cardiovascular disease risk management mention the referral of patients trying to lose weight to exercise and nutrition specialists and bariatric surgery, and the national guidelines for diabetes management mention that obesity pharmacotherapy should be considered for people with diabetes and overweight or obesity, and that a dietician can provide support to people seeking to lose weight (Australian Government Department of Health and Aged Care, Australian Guideline for assessing and managing cardiovascular disease risk, 2023; Royal Australian College of General Practitioners, Management of type 2 diabetes: A handbook for general practice).","Brazil's Clinical Protocol and Therapeutic Guidelines for Overweight and Obesity in Adults (2020) integrate obesity diagnosis and referral pathways into the clinical management of multiple chronic diseases such as diabetes, cardiovascular disease and obstructive sleep apnoea. In parallel, the Manual for Care of Overweight and Obesity in Primary Health Care of the Unified Health System (2022) explicitly mentions diabetes and hypertension in the obesity evaluation pathway in primary healthcare (Brazil Ministry of Health, Clinical Protocol and Therapeutic Guidelines for Overweight and Obesity in Adults, 2020; Brazil Ministry of Health, Manual for Care of Overweight and Obesity in Primary Health Care of the Unified Health System, 2022).","There is insufficient evidence that Canada integrates obesity diagnosis and a referral pathway into the clinical pathways for associated chronic diseases.","China’s national obesity management guidelines integrate obesity diagnosis and a referral pathway into the clinical pathways for several associated chronic diseases (National Health Commission, China, 2024 Guidelines for the Diagnosis and Treatment of Obesity, 2024).","In Finland, obesity diagnosis and a referral pathway are integrated into the clinical pathways for several obesity-related chronic diseases, including hypertension, type 2 diabetes and sleep apnoea (Finnish Medical Association Duodecim, Obesity (children, adolescents and adults), 2025).","France's guidelines for obesity management in adults and guidelines for obesity management in children and adolescents consistently recognise comorbidities associated with obesity (such as diabetes, hypertension and cardiovascular diseases) and set integrated clinical pathways to tackle them (French Health Authority, Care pathway guide: overweight and obesity in adults, 2024; French Health Authority, Care pathway guide: overweight and obesity in children and adolescents, 2023). Likewise clinical guidelines for associated chronic diseases also set out common diagnosis and referral pathways (French Health Authority, Care Pathway Guide: Type 2 Diabetes in Adults, 2014; French Health Authority, Care Pathway Guide: Chronic Coronary Syndrome, 2021).","Germany’s national guidelines for obesity management have an obesity diagnosis and a referral pathway integrated into the clinical pathways for several associated chronic diseases, including chronic obstructive pulmonary disease, obstructive sleep apnoea, polycystic ovary syndrome, arterial hypertension, type 2 diabetes and cardiovascular disease (German Association for the Study of Obesity (DAG), Interdisciplinary S3 quality guideline on the Prevention and treatment of obesity, 2024).","An obesity diagnosis and a referral pathway is integrated into the clinical pathways for several chronic diseases associated with obesity—namely, type 2 diabetes, cardiovascular disease and assorted non-communicable diseases (Indian Council of Medical Research, ICMR Guidelines for management of Type 2 Diabetes, 2018; Ministry of Health and Family Welfare, Guidelines for Management of Cardiovascular Diseases in India, 2022).","Italy's Guidelines for the Prevention and Control of Overweight and Obesity have clear protocols for obesity diagnosis and a referral pathway integrated into the clinical pathways for associated chronic diseases, including diabetes, hypertension, dyslipidaemia, cardiovascular disease and obstructive sleep apnoea (Ministry of Health, The Guidelines for the Prevention and Control of Overweight and Obesity, n.d.)","The Japanese Clinical Practice Guideline for Diabetes 2019 and the JCS/JHRS 2024 Guideline Focused Update on Management of Cardiac Arrhythmias mention obesity and include referral pathways for it (Iwasaki, Yu-ki, et al. JCS/JHRS 2024 Guideline Focused Update on Management of Cardiac Arrhythmias., 2025; Araki, E., A. Goto, T. Kondo, M. Noda, H. Noto, H. Origasa, H. Osawa, et al. Japanese Clinical Practice Guideline for Diabetes 2019., 2021).","The 2024 Mexican Clinical Practice Guidelines for Adult Overweight and Obesity Management demonstrate integration of obesity diagnosis and referral pathways with multiple associated chronic diseases (Chávez-Manzanera, E.A., Vera-Zertuche, J.M., Kaufer-Horwitz, M. et al., Mexican Clinical Practice Guidelines for Adult Overweight and Obesity Management, 2024).","The Clinical Practice Guidelines for Diabetes Management in Nigeria do not contain an obesity diagnosis or a referral pathway. There is insufficient evidence that Nigeria has national guidelines in place for other chronic diseases (Diabetes Association of Nigeria, Clinical Practice Guidelines for Diabetes Management in Nigeria, 2013).","Rwanda's National Non-Communicable Diseases Management Guidelines, which contain information on the prevention and management of overweight and obesity, outline an obesity diagnosis and referral pathway integrated into the clinical pathway for diabetes, one of the chronic diseases associated with obesity (Republic of Rwanda Ministry of Health, National Non-Communicable Diseases Management Guidelines, 2024).","Saudi Arabia's national obesity management guidelines include an integrated clinical referral pathway for multiple associated chronic diseases, including diabetes, cardiovascular disease and obstructive sleep apnoea (Ministry of Health, Saudi Guidelines on Prevention and Management of Obesity, 2022).","Serbia’s National Guideline of Good Clinical Practice: Treatment of Obesity integrates obesity diagnosis and treatment into the clinical pathways for more than one chronic disease, including diabetes, cardiovascular disease and obstructive sleep apnoea (Ministry of Health of the Republic of Serbia, National Guideline of Good Clinical Practice: Treatment of Obesity, 2022).","South Africa's guidelines for the management of diabetes—one of the chronic diseases associated with obesity—discuss the importance of obesity prevention measures during diabetes treatment and outline steps that patients living with obesity can take to reduce their risk of weight gain. There is insufficient evidence of clinical guidelines for other associated chronic diseases such as cardiovascular disease or obstructive sleep apnoea (South Africa National Department of Health, Management of Type 2 Diabetes in Adults, 2014).","The Clinical Practice Guidelines for Obesity 2022 integrate the diagnosis and consideration of associated chronic diseases, including diabetes, cardiovascular disease and obstructive sleep apnoea, into the clinical pathway for managing obesity (Korean Society for the Study of Obesity, Clinical Practice Guidelines for Obesity 2022, 2022).","Although Spain's national guidelines on obesity management in children integrate obesity diagnosis and referral pathways into the clinical management of multiple associated chronic diseases, they do not provide equivalent pathways for the broader population and were published in 2009 (Spanish Ministry of Health, Clinical Practice Guidelines on the Prevention and Treatment of Childhood and Adolescent Obesity, 2009).","An obesity diagnosis and referral pathway is integrated into the clinical pathways for multiple chronic diseases in the UAE, namely type 2 diabetes, cardiovascular disease, fatty liver disease, obstructive sleep apnoea, asthma, hypertension and lymphoedema (Ministry of Health and Prevention, National Clinical Guidelines for Weight Management and Prevention of Adulthood Obesity, 2025).","The UK's national guidelines on cardiovascular disease management mention referral to exercise programmes and weight management services, while the national guidelines on type 2 diabetes and the national guidelines for cardiovascular disease contain provisions for individuals living with obesity (National Institute for Health and Care Excellence, NICE guideline: Type 2 diabetes in adults: management, 2022; National Institute for Health and Care Excellence, NICE guideline: Cardiovascular disease: risk assessment and reduction, including lipid modification, 2023)."]
[null,1022,2.2999999999999998,"Availability and affordability of obesity-related care"]
[null,1023,"2.3.1","Reimbursement/coverage of obesity care","Medicare—the main public insurance scheme—covers bariatric surgery for clinically severe obesity, nutrition counselling and behavioural therapy/psychological counselling, which are recommended in the national guidelines for obesity management; it does not cover obesity medications (Australian Government Department of Health and Aged Care, Clinical Practice Guidelines for the Management of Overweight and Obesity for Adults, Adolescents and Children in Australia (Draft Guidelines), November 2024; Australian Government Department of Health and Aged Care, Medicare Benefits Schedule).","Brazil's Unified Health System (SUS—the country's public health insurance system) covers three forms of obesity management interventions, including metabolic and bariatric surgery, nutritional therapy and counselling, and behavioural therapy (National Agency of Health, List of consultations, examinations and treatments with mandatory coverage, 2021).","At the federal level, Canada's public health insurance framework does not explicitly mandate coverage for any obesity management interventions. Coverage for these services is determined by individual provinces and territories, some of which exclude coverage.","There is insufficient evidence that China’s main public health insurance scheme, the basic medical insurance programme (BMI), reimburses obesity management interventions of any kind unless they are linked to another comorbid disease.","There are several publicly funded specialised obesity treatment centres in Finland that provide behavioural/psychosocial therapy, nutrition therapy, physical therapy, and bariatric surgery (but not obesity medications) (Kela—Social Insurance Institution of Finland, \"Sairaanhoitokorvausten taksaluettelo\" (Fee Schedule for Medical Care Reimbursements), 2025; The European Association for the Study of Obesity, Finland, 2020).","Assurance Maladie—the main public insurance scheme in France—reimburses obesity management interventions for children and offers partial reimbursement for general practitioner, hospital and surgical procedures to varying degrees based on the type of care (ranging from 70% of the official fee for general practitioner visits to 80-100% for bariatric surgery, depending on an individual's circumstances). However, obesity medications are not covered (Assurance Maladie France, « Mission : retrouve ton cap », 2025; Assurance Maladie France, Overweight and obesity coverage, 2025; Obésité Chirurgie Paris, Cost of bariatric surgery, Paris—France, n.d.).","German statutory health insurance covers behavioural therapy delivered through digital health applications and bariatric surgery under certain circumstances (Federal Institute for Drugs and Medical Devices, Find the right digital health application; Medical Service of the Association of Statutory Health Insurance Funds, Assessment Guidelines: Obesity surgery (bariatric and metabolic surgery in adults—examination of the socio-medical requirements, 2017).","India's public health insurance scheme has covered bariatric and metabolic surgery since 2019 (Mittal, T., Ahuja, A., Dey, A. et al. Bariatric and Metabolic Surgery in India: Where Do We Stand?. Indian J Surg 86 (Suppl 3), 499-506, 2024).","Italy’s National Health System reimburses bariatric surgery under certain clinical criteria; however, other obesity management interventions are not covered (The President of the Council of Ministers, Presidential Decree of the Council Ministers DPCM, 2017).","Japan's main public health insurance scheme reimburses obesity medications and surgical procedures for obesity under certain clinical circumstances (Ministry of Health, Labour and Welfare, Working Group on the Safe and Appropriate Use of Obesity Treatment Drugs, 2023).","There is insufficient evidence that Mexico's primary public healthcare provider, the Mexican Institute of Social Security, reimburses or covers obesity management interventions of any kind.","There is insufficient evidence that Nigeria's national insurance plans cover any forms of obesity management intervention.","There is insufficient evidence that Rwanda's main public insurance scheme, Community Based Health Insurance (Mutuelle de santé, or CBHI), covers any obesity management interventions.","Saudi Arabia's public health insurance scheme only covers one obesity management intervention—metabolic and bariatric surgery (Council of Health Insurance, Basic Health Insurance Policy, 2022).","Counselling, bariatric surgery and certain obesity medications are covered by Serbia's public health insurance for individuals with certain conditions, such as BMI over 35 kg/m² and related medical conditions like diabetes or kidney failure (Republic Health Insurance Fund, Insured persons, 2025; Sl. glasnik RS, Law on Health Insurance, 2023).","As of April 2025, South Africa is in the process of rolling out a universal public healthcare system called National Health Insurance (NHI) but there is insufficient evidence as to whether it will cover obesity management interventions.","South Korea's main public health insurance schemes reimburse bariatric surgery for patients with BMI ≥35 or BMI ≥30 with comorbidities, provided that they have failed non-surgical treatments; intragastric balloon insertion for patients with BMI of 30-40 with at least one comorbidity who have previously failed non-surgical treatments; and approved medications if prescribed for obesity with comorbidities (Ministry of Health and Welfare, Notice No. 2024-18: Partial Amendment to the Detailed Standards and Methods for the Application of Medical Benefits, 2024).","Spain's National Health System covers bariatric surgery and some forms of therapy, but not obesity medications (Spanish Legislature, Royal Decree 1030/2006, of September 15, establishing the portfolio of common services of the National Health System, 2006).","The UAE's national health insurance covers some obesity management interventions, including surgical management for cases of \"morbid\" obesity and counselling services from multi‐disciplinary experts (Daman, Obesity and Morbid Obesity Management, 2019). Several emirates, including Abu Dhabi, Dubai and Sharjah, have established their own health authorities that operate different rules with regards to health insurance. For instance, Abu Dhabi's Department of Health reimburses obesity medications under certain conditions, while the federal health insurance scheme does not (Abu Dhabi Department of Health, Thiqa reimbursement policy for obesity medications, 2025; Abu Dhabi Department of Health, Standard for Non-surgical Management of Obesity, 2025).","In the UK, the National Health Service (NHS)—the free public health service—provides bariatric surgery, nutrition counselling, behavioural therapy and medications for some patients based on specific eligibility criteria (National Institute for Health and Care Excellence, NICE guideline: Overweight and obesity management, 2025; National Health Service, Treatment: Obesity)."]
[null,1024,3,"Food quality and access"]
[null,1025,3.1,"Food access and affordability"]
[null,1026,"3.1.1","Level of food security","Australia had a food security rate of 87.1% in 2021-23 (FAO, IFAD, UNICEF, WFP and WHO, The State of Food Security and Nutrition in the World 2024—financing to end hunger, food insecurity and malnutrition in all its forms, 2024).","Brazil had a food security rate of 81.6% in 2021-23 (FAO, IFAD, UNICEF, WFP and WHO, The State of Food Security and Nutrition in the World 2024—financing to end hunger, food insecurity and malnutrition in all its forms, 2024).","Canada had a food security rate of 91.5% in 2021-23 (FAO, IFAD, UNICEF, WFP and WHO, The State of Food Security and Nutrition in the World 2024—financing to end hunger, food insecurity and malnutrition in all its forms, 2024).","According to the UN Food and Agriculture Organisation, China did not report its food security rate in 2021-23 (FAO, IFAD, UNICEF, WFP and WHO, The State of Food Security and Nutrition in the World 2024—financing to end hunger, food insecurity and malnutrition in all its forms, 2024).","Finland had a food security rate of 87.4% in 2021-23 (FAO, IFAD, UNICEF, WFP and WHO, The State of Food Security and Nutrition in the World 2024—financing to end hunger, food insecurity and malnutrition in all its forms, 2024).","France had a food security rate of 92.1% in 2021-23 (FAO, IFAD, UNICEF, WFP and WHO, The State of Food Security and Nutrition in the World 2024—financing to end hunger, food insecurity and malnutrition in all its forms, 2024).","Germany had a food security rate of 96% in 2021-23 (FAO, IFAD, UNICEF, WFP and WHO, The State of Food Security and Nutrition in the World 2024—financing to end hunger, food insecurity and malnutrition in all its forms, 2024).","According to the UN Food and Agriculture Organisation, India did not report its food security rate in 2021-23 (FAO, IFAD, UNICEF, WFP and WHO, The State of Food Security and Nutrition in the World 2024—financing to end hunger, food insecurity and malnutrition in all its forms, 2024).","Italy had a food security rate of 98% in 2021-23 (FAO, IFAD, UNICEF, WFP and WHO, The State of Food Security and Nutrition in the World 2024—financing to end hunger, food insecurity and malnutrition in all its forms, 2024).","Japan had a food security rate of 94.5% in 2021-23 (FAO, IFAD, UNICEF, WFP and WHO, The State of Food Security and Nutrition in the World 2024—financing to end hunger, food insecurity and malnutrition in all its forms, 2024).","Mexico had a food security rate of 79.3% in 2021-23 (FAO, IFAD, UNICEF, WFP and WHO, The State of Food Security and Nutrition in the World 2024—financing to end hunger, food insecurity and malnutrition in all its forms, 2024).","Nigeria had a food security rate of 26.1% in 2021-23 (FAO, IFAD, UNICEF, WFP and WHO, The State of Food Security and Nutrition in the World 2024—financing to end hunger, food insecurity and malnutrition in all its forms, 2024).","According to Rwanda's latest Comprehensive Food Security and Vulnerability and Nutrition Analysis Survey, conducted in 2022, 79.4% of the population is food secure (National Institute of Statistics of Rwanda, Comprehensive Food Security & Vulnerability Analysis (CFSVA)—2022, 2022).","According to the UN Food and Agriculture Organisation, Saudi Arabia did not report its food security rate in 2021-23 (FAO, IFAD, UNICEF, WFP and WHO, The State of Food Security and Nutrition in the World 2024—financing to end hunger, food insecurity and malnutrition in all its forms, 2024).","Serbia had a food security rate of 87% in 2021-2023 (FAO, IFAD, UNICEF, WFP and WHO, The State of Food Security and Nutrition in the World 2024—financing to end hunger, food insecurity and malnutrition in all its forms, 2024).","South Africa had a food security rate of 80.6% in 2021-23 (FAO, IFAD, UNICEF, WFP and WHO, The State of Food Security and Nutrition in the World 2024—financing to end hunger, food insecurity and malnutrition in all its forms, 2024).","South Korea had a food security rate of 94.3% in 2021-2023 (FAO, IFAD, UNICEF, WFP and WHO, The State of Food Security and Nutrition in the World 2024—financing to end hunger, food insecurity and malnutrition in all its forms, 2024).","Spain had a food security rate of 93.1% in 2021-23 (FAO, IFAD, UNICEF, WFP and WHO, The State of Food Security and Nutrition in the World 2024—financing to end hunger, food insecurity and malnutrition in all its forms, 2024).","The UAE had a food security rate of 90% in 2021-23 (FAO, IFAD, UNICEF, WFP and WHO, The State of Food Security and Nutrition in the World 2024—financing to end hunger, food insecurity and malnutrition in all its forms, 2024).","The UK had a food security rate of 94.3% in 2021-23 (FAO, IFAD, UNICEF, WFP and WHO, The State of Food Security and Nutrition in the World 2024—financing to end hunger, food insecurity and malnutrition in all its forms, 2024)."]
[null,1027,"3.1.2","Affordability of nutritious food","According to the World Bank's Food Prices for Nutrition DataHub, 96.8% of people in Australia could afford a healthy diet in 2022 (World Bank, The State of Food Security and Nutrition in the World 2024 and Food Prices for Nutrition Database 3.0, 2024).","According to the World Bank's Food Prices for Nutrition DataHub, 74.7% of people in Brazil could afford a healthy diet in 2022 (World Bank, The State of Food Security and Nutrition in the World 2024 and Food Prices for Nutrition Database 3.0, 2024).","According to the World Bank's Food Prices for Nutrition DataHub, 97.3% of people in Canada could afford a healthy diet in 2022 (World Bank, The State of Food Security and Nutrition in the World 2024 and Food Prices for Nutrition Database 3.0, 2024).","According to the World Bank's Food Prices for Nutrition DataHub, 82.5% of people in China could afford a healthy diet in 2022 (World Bank, The State of Food Security and Nutrition in the World 2024 and Food Prices for Nutrition Database 3.0, 2024).","According to the World Bank's Food Prices for Nutrition DataHub, 99.2% of people in Finland could afford a healthy diet in 2022 (World Bank, The State of Food Security and Nutrition in the World 2024 and Food Prices for Nutrition Database 3.0, 2024).","According to the World Bank's Food Prices for Nutrition DataHub, 96.9% of people in France could afford a healthy diet in 2022 (World Bank, The State of Food Security and Nutrition in the World 2024 and Food Prices for Nutrition Database 3.0, 2024).","According to the World Bank's Food Prices for Nutrition DataHub, 97.8% of people in Germany could afford a healthy diet in 2022 (World Bank, The State of Food Security and Nutrition in the World 2024 and Food Prices for Nutrition Database 3.0, 2024).","According to the World Bank's Food Prices for Nutrition DataHub, 44.4% of people in India could afford a healthy diet in 2022 (World Bank, The State of Food Security and Nutrition in the World 2024 and Food Prices for Nutrition Database 3.0, 2024).","According to the World Bank's Food Prices for Nutrition DataHub, 93.1% of people in Italy could afford a healthy diet in 2022 (World Bank, The State of Food Security and Nutrition in the World 2024 and Food Prices for Nutrition Database 3.0, 2024).","According to the World Bank's Food Prices for Nutrition DataHub, 92.5% of people in Japan could afford a healthy diet in 2022 (World Bank, The State of Food Security and Nutrition in the World 2024 and Food Prices for Nutrition Database 3.0, 2024).","According to the World Bank's Food Prices for Nutrition DataHub, 77.5% of people in Mexico could afford a healthy diet in 2022 (World Bank, The State of Food Security and Nutrition in the World 2024 and Food Prices for Nutrition Database 3.0, 2024).","According to the World Bank's Food Prices for Nutrition DataHub, 21.3% of people in Nigeria could afford a healthy diet in 2022 (World Bank, The State of Food Security and Nutrition in the World 2024 and Food Prices for Nutrition Database 3.0, 2024).","According to the World Bank's Food Prices for Nutrition DataHub, 24.3% of people in Rwanda could afford a healthy diet in 2022 (World Bank, The State of Food Security and Nutrition in the World 2024 and Food Prices for Nutrition Database 3.0, 2024).","According to the World Bank's Food Prices for Nutrition DataHub, Saudi Arabia does not report the percentage of its population that can afford a healthy diet (World Bank, The State of Food Security and Nutrition in the World 2024 and Food Prices for Nutrition Database 3.0, 2024).","According to the World Bank's Food Prices for Nutrition DataHub, 91.9% of people in Serbia could afford a healthy diet in 2022 (World Bank, The State of Food Security and Nutrition in the World 2024 and Food Prices for Nutrition Database 3.0, 2024).","According to the World Bank's Food Prices for Nutrition DataHub, 38.8% of people in South Africa could afford a healthy diet in 2022 (World Bank, The State of Food Security and Nutrition in the World 2024 and Food Prices for Nutrition Database 3.0, 2024).","According to the World Bank's Food Prices for Nutrition DataHub, 91% of people in South Korea could afford a healthy diet in 2022 (World Bank, The State of Food Security and Nutrition in the World 2024 and Food Prices for Nutrition Database 3.0, 2024).","According to the World Bank's Food Prices for Nutrition DataHub, 91.1% of people in Spain could afford a healthy diet in 2022 (World Bank, The State of Food Security and Nutrition in the World 2024 and Food Prices for Nutrition Database 3.0, 2024).","According to the World Bank's Food Prices for Nutrition DataHub, 97.7% of people in the UAE could afford a healthy diet in 2022 (World Bank, The State of Food Security and Nutrition in the World 2024 and Food Prices for Nutrition Database 3.0, 2024).","According to the World Bank's Food Prices for Nutrition DataHub, 97.5% of people in the UK could afford a healthy diet in 2022 (World Bank, The State of Food Security and Nutrition in the World 2024 and Food Prices for Nutrition Database 3.0, 2024)."]
[null,1028,"3.1.3","Nutrition programmes for lower-income individuals","There is insufficient evidence that Australia has any specific programmes in place for lower-income individuals to access nutritious food.","The Brazil Without Hunger Plan (2023) is the federal government's plan to address malnutrition and combat hunger in the country; it has a range of programmes specifically designed to increase access to nutritious food among lower-income individuals, such as the Unified Social Assistance System's National Food Programme, the Food Acquisition Programme and the National School Feeding Programme (Brazil Federal Government, Brazil Without Hunger Plan, 2023).","Canada has several federal programmes designed to improve access to nutritious food for lower-income individuals—namely, Nutrition North Canada, the Market Greens initiative, and the Healthy Canadians and Communities Fund (Government of Canada, Horizontal Initiative: Nutrition North Canada; Community Food Centres Canada, Market Greens Pilot Project: Evaluation Report, 2020; Government of Canada, Overview: Healthy Canadians and Communities Fund).","China has a programme to provide free meals to students in disadvantaged rural communities and provides meal support for low-income elderly groups under its Action Plan for Developing Meal Assistance Services for the Elderly (Ministry of Education, Circular of the Ministry of Education and other seven departments on the issuance of the Measures for the Implementation of the Nutrition Improvement Programme for Rural Compulsory Education Students”, 2022; The State Council of the People's Republic of China, Meal services for elderly to expand nationwide, 2023).","There is insufficient evidence that Finland has a programme for lower-income individuals to access nutritious food.","The National Coordination Committee for the Fight against Food Insecurity implements the Mieux Manger Pour Tous programme and manages the European Food Aid Support Programme for lower-income individuals to access nutritious food (French Ministry of Solidarity, The National Coordination Committee for the Fight Against Food Insecurity, 2020).","Germany has a programme for children from lower-income families to access nutritious food (Federal Ministry of Food and Agriculture, Good Food for Germany—The Federal Government’s Food and Nutrition Strategy, 2024).","India has multiple programmes for lower-income individuals to access nutritious food, including the Pradhan Mantri Garib Kalyan Anna Yojana, the Antyodaya Anna Yojana and the PM POSHAN Scheme (Press Information Bureau—Government of India, Government Initiatives to Ensure Nutrition Equity in India).","The Food Income programme, launched in 2019, distributes unsold but consumable food to individuals living in severe poverty, while combating food waste (Ministry of Labour and Social Policies, Food income).","There is insufficient evidence that Japan has a programme for lower-income individuals to access nutritious food.","Mexico has long-standing programmes to increase access to nutritious foods among lower-income individuals (Government of the State of Mexico, Food for Well-being, 2025; Government of the State of Mexico, Prospera Program, 2019; Government of the State of Mexico, Liconsa, n.d.).","Nigeria provides access to nutritious food to lower-income individuals via the National Social Investments Programmes (NSIP), which target nutrition through the provision of meals and income assistance (Federal Government of Nigeria, National Social Investment Programme).","Rwanda provides access to nutritious food to lower-income individuals via the Vision 2020 Umurenge Programme, which targets nutrition through the provision of cash transfers and direct nutrition support, as well as through a home-grown school feeding programme administered in partnership with the World Food Programme (Republic of Rwanda Ministry of Local Government Local Administrative Entities Development Agency, Vision Umurenge Programme (VUP); World Food Programme, Rwanda—Home-grown school feeding).","There is insufficient evidence that Saudi Arabia has a programme in place for lower-income individuals to access nutritious food.","While Serbia provides food support to certain vulnerable groups (namely individuals with disabilities and the elderly) through social services, there is insufficient evidence that the country has a comprehensive governmental programme that ensures access to nutritious food for lower-income individuals (Sl. glasnik RS, Rulebook on Detailed Conditions and Standards for the Provision of Social Protection Services, 2013).","South Africa provides access to nutritious food to lower-income individuals via the Social Relief of Distress (SRD) programme, which offers food parcels, food vouchers and cash, and through the National School Nutrition Programme (South African Government, Social Relief of Distress; South African Government, National School Nutrition Programme).","South Korea has programmes for lower-income individuals to access nutritious food, including the agri-food vouchers scheme and the Nutrition Plus Programme (Korea Agro-Fisheries & Food Trade Corporation, What Are Agri-food Vouchers?, 2020; Ministry of Health and Welfare, Nutrition Plus Business Operation, 2024).","Spain implements programmes and subsidies for lower-income individuals to access nutritious food, including the basic material assistance programme, which provides wallet cards or vouchers that can be used in supermarkets to purchase fresh produce (Spanish Presidency, The Wallet Card, 2025; Spanish Ministry of Agriculture, Fisheries, and Food, The Food Subsidy Programme for the Most Deprived Persons).","There is insufficient evidence that the UAE has a programme to help lower-income individuals to access nutritious food.","The UK provides access to nutritious food to lower-income individuals via the Healthy Start Scheme (England, Wales and Northern Ireland) and the Best Start Foods (Scotland), as well as indirectly through its central welfare provision programme, the Universal Credit (National Health Service, NHS Healthy Start Scheme; Scottish Government, Best Start Grant and Best Start Foods; Government of the UK, Universal Credit)."]
[null,1029,3.2,"Nutrition guidance and regulation"]
[null,1030,"3.2.1","Nutrition policy/strategy/plan that addresses obesity","Australia's National Food and Nutrition Policy was last updated in 1992, its National Food Plan was last updated in 2013, and the Australian Government's work around improving the country's nutrition relies on the National Preventive Health Strategy and the Australian Dietary Guidelines, neither of which constitute a nutrition strategy (Australian Government Department of Health, National Preventive Health Strategy 2021-2030, 2021; National Health and Medical Research Council, Department of Health and Ageing, Australian Dietary Guidelines, 2013; Australian Government, National Food Plan: Our food future, 2013).","Brazil's National Food and Nutrition Policy identifies obesity as a major and growing public health concern and outlines various preventive and therapeutic goals related to obesity; however, it does not outline specific actions with clearly delineated targets and monitoring processes. It was last updated in 2011 (Brazil Ministry of Health, National Food and Nutrition Policy, 2011).","Canada's Healthy Eating Strategy (2016) identifies obesity as a concern and outlines specific policy actions aimed at obesity prevention, but does not provide detailed evaluation frameworks or specific quantifiable targets for all initiatives (Government of Canada, Healthy Eating Strategy, 2016).","China's national nutrition plan includes measures aimed at preventing and managing obesity with clear actions and methods of evaluation (State Council, National Nutrition Plan (2017-2030), 2017).","Finland's 2024 Sustainable Health from Food—National Nutrition Recommendations include measures aimed at preventing and managing obesity, but they do not include clear actions or specific targets (Finnish Food Authority (National Nutrition Council), Nutrition recommendations and food-based dietary guidelines, 2025).","The National Food Programme (PNA) and the National Nutrition and Health Programme (PNNS) are the two main strategic tools for national nutrition in France. They combine strategic actions, measurable goals and evaluation tools related specifically to the prevention and management of obesity—they were originally set to expire in 2023 but have been extended into 2024-25 (French Ministry of Agriculture and Nutrition, National Food Programme, 2019-2023; French Ministry of Labour, Health, Solidarity and Families, National Nutrition and Health Programme, 2019-2023).","Germany’s national nutrition strategy has measures aimed at preventing and managing obesity, with clear actions and methods of evaluation (Federal Ministry of Food and Agriculture, Good Food for Germany—The Federal Government’s Food and Nutrition Strategy, 2024).","India’s National Nutrition Strategy (Nourishing India) 2017-2022 acknowledges the country’s double burden of malnutrition, as obesity and overweight are rising. It sets a 2025 goal to prevent any increase in childhood overweight, but outlines no clear steps or targets to achieve this (NITI Aayog, Government of India, National Nutrition Strategy (Nourishing India) 2017-2022, 2017).","There is insufficient evidence that Italy has a national nutrition policy, strategy or action plan.","Japan's national nutrition policy includes measures aimed at preventing and managing obesity but the measures do not include clear actions or specific targets (Ministry of Health, Labour and Welfare, Nutrition Policy in Japan to Leave No One Behind, 2021).","Although Mexico's 2024 General Law on Sustainable and Adequate Nutrition has established a national framework for nutrition that includes specific measures aimed at preventing and managing obesity, it does not contain specific targets or evaluation methods (Mexico Government, General Law on Sustainable and Adequate Nutrition, 2024).","Nigeria's national nutrition action plan—the National Strategic Plan of Action on Nutrition (2021-2025)—contains clearly defined measures aimed at preventing and managing obesity, with specific targets and methods of evaluation (Nigerian Federal Ministry of Health, National Strategic Plan of Action on Nutrition (2021-2025), 2021).","Rwanda's National Food and Nutrition Strategic Plan 2013-2018 contained measures aimed at preventing and managing obesity; however, the plan expired in 2018 and there is insufficient evidence of an updated or current nutrition policy, strategy or plan in the country (Republic of Rwanda, National Food and Nutrition Strategic Plan 2013-2018, 2014)","Saudi Arabia's national nutritional strategy contains measures for obesity prevention and management, with specific targets and methods of evaluation (Ministry of Health, KSA National Strategy for Diet and Physical Activity for the Years 2014-2025, 2014).","Serbia’s national health action plan for 2018-2026, Healthy People, Health in All Policies, recognises the need for measures to prevent and manage obesity, including through improved nutrition and physical activity, but its planned Strategy for the Improvement of Nutrition and Physical Activity has not been adopted as of April 2025 (Public Policy Secretariat of the Government of the Republic of Serbia, Healthy People, Health in All Policies Action Plan for 2018-2026, 2018).","South Africa's national nutrition plan, the National Food and Nutrition Security Plan for South Africa (2018-2023), includes measures aimed at preventing and managing obesity, with specific actions and specific targets (Government of the Republic of South Africa, National Food and Nutrition Security Plan for South Africa 2018-2023, 2017).","There is insufficient evidence that South Korea has a national nutrition strategy in place.","Spain's National Food Strategy addresses obesity prevention through dietary guidelines, education and promoting healthy food systems, but it does not provide specific evaluation frameworks to assess the impact of these interventions (Spanish Ministry of Agriculture, Fisheries, and Food, National Food Strategy, 2025).","The UAE’s National Nutrition Strategy (2017–21) sets out clear measures to prevent obesity. It targets lower childhood obesity rates among five- to 17-year-olds and fewer related non-communicable diseases. The plan presents several policy interventions to achieve this, including taxes on sugary drinks and trans fats (UAE Standard GSO 2483-2015), mandatory nutrition labelling, limits on junk-food advertising to children (Cabinet Decision No. 21/2018), and requirements for healthy school meals and physical-activity programmes (Government of UAE, National Nutrition Strategy 2017-2021, 2017).","The UK has two main nutrition strategies, the National Food Strategy (2021) and the Government Food Strategy (2022); the former outlines policy recommendations related to preventing and managing obesity, while the latter does not. Neither document contains specific targets or methods of evaluation for its measures (Henry Dimbleby, National Food Strategy: Independent Review, 2021; UK Department for Environment Food & Rural Affairs, Government food strategy, 2022)."]
[null,1031,"3.2.2","Marketing of unhealthy food and beverages to children","Australia's Responsible Children's Marketing Initiative (RCMI) is a voluntary code developed by the Australian Food and Grocery Council—an industry association—that restricts the marketing of unhealthy foods to children; however, this code is not mandatory and the government was not involved in its development (Australian Food and Grocery Council, Responsible Children's Marketing Initiative, 2014). Although a bill was submitted to parliament to prohibit the marketing of certain food or drink products on television and radio, it did not proceed (Parliament of Australia, Broadcasting Services Amendment (Healthy Kids Advertising) Bill, 2023).","In 2014 Brazil’s National Council of the Rights of the Child and the Adolescent issued Resolution No. 163, banning ads targeting children; only \"public service campaigns that concern information about good nutrition, health and other matters related to better child development\" are excluded from this prohibition (Brazil Council of the Rights of the Child and the Adolescent, Resolution No. 163, 2014).","At the federal level, Canada currently lacks mandatory legislation restricting the marketing of unhealthy foods to children. However, there are significant non-binding policy initiatives and industry-led self-regulatory measures in place that aim to limit children's exposure to such advertising (Government of Canada, Health Canada publishes policy update on restricting the advertising of food and beverages to children, 2023; Canadian Beverage Association (CBA), Food, Health & Consumer Products of Canada (FHCP), and Restaurants Canada, Code and Guide for the Responsible Advertising of Food and Beverage Products to Children, 2021).","There is insufficient evidence that China restricts the marketing of unhealthy foods to children; however, under the Advertising Law, advertising of \"health foods\" to children under 14 is prohibited (People's Republic of China, Advertising Law of the People's Republic of China, 1994).","Finland has regulations in place that restrict the marketing of unhealthy foods to children, but they are not mandatory (Finnish Food Authority, Food marketing to children, 2025).","Although Law No. 2016-1771 of 20th December 2016 prohibits commercial advertising during programmes aimed primarily at children under 12 years old and the French Public Health Code restricts the marketing of unhealthy foods in certain circumstances, France does not yet have a mandatory ban on the marketing of unhealthy foods to children (Republic of France, Law No. 2016-1771 of 20th December 2016; Republic of France, Law No.2004-806 of 9th August 2004).","Germany has regulations in place restricting the marketing of unhealthy foods to children under the age of 14, but they are not mandatory (German Advertising Standards Council, Food, 2025; German Advertising Standards Council, German Advertising Standards Council Code of Conduct on All Forms of Commercial Communication for Foods and Beverages, 2021).","India has mandatory regulations in place restricting the marketing of unhealthy foods to children (Ministry of Consumer Affairs, Food & Public Distribution, Central Consumer Protection Authority Notification, 2022).","Italy has regulations in place that restrict the marketing of unhealthy foods to children, but they are not mandatory (Institute for Advertising Self-Regulation, Regulation for Commercial Communication relating to food and beverage products, to protect children and their correct nutrition, n.d.)","There is insufficient evidence that Japan restricts the marketing of unhealthy foods to children.","Mexico has implemented mandatory regulations to restrict the marketing of unhealthy foods and beverages to children in schools, as well as regulations prohibiting the use of children's characters, animations, cartoons, celebrities, athletes or mascots in the advertising of pre-packaged food and non-alcoholic beverages that exceed nutritional criteria (Mexico Legislature, Agreement establishing the general guidelines governing the preparation, distribution and sale of prepared, processed and bulk foods and beverages, as well as the promotion of healthy eating lifestyles, within all schools of the National Education System, 2024; Mexico Legislature, Decree amending, adding to and repealing various provisions of the Regulations on Sanitary Control of Products and Services and the Regulations of the General Health Law on Advertising, 2022).","There is insufficient evidence that Nigeria restricts the marketing of unhealthy foods to children.","There is insufficient evidence that Rwanda restricts the marketing of unhealthy foods to children.","The Saudi Food and Drug Authority has instituted marketing requirements that prohibit advertising of foods with low nutritional value to children under 12 years of age (Saudi Food and Drug Authority, Marketing Requirements of Food directed to Children, 2022).","Serbia's Law on Advertising allows media providers to voluntarily adopt rules to restrict the marketing of unhealthy foods to children, particularly during or around children's programmes, but it does not impose a mandatory requirement in this regard (Sl. glasnik RS, Law on Advertising, 2016).","South Africa restricts the marketing of unhealthy foods to children via the Advertising Regulatory Board's Food and Beverage Code, a mandatory regulation applying to all broadcast advertisers that prevents advertisements from encouraging poor nutritional habits or unhealthy lifestyles in children and bans the marketing of unhealthy foods to children under 12 years of age (South Africa Advertising Regulatory Board, Appendix J: Food and Beverage Code, 2018; Parliament of the Republic of South Africa, Electronic Communications Act Section 55—Control Over Advertisements, rev. 2024).","South Korea restricts the marketing of unhealthy foods to children on television, radio and the Internet through the Special Act on Safety Management of Children's Dietary Lifestyle (Republic of Korea, Special Act on Safety Management of Children's Dietary Lifestyle (Act No. 19622), 2023).","Spain has both mandatory regulations and industry-wide codes of conduct restricting the marketing of unhealthy foods to children (Spanish Legislature, Spanish Public Health Law, 1986; Spanish Legislature, Law 34/1988, of November 11, General Advertising Law, 1988; Spanish Legislature, Law 17/2011, of July 5, on food security and nutrition, 2011; Spanish Agency on Food and Nutrition Security, Code of Co-regulation of Advertising for Food Products and Beverages Directed to Children, Prevention of Obesity and Health (PAOS Code), 2012).","There is insufficient evidence that the UAE restricts the marketing of unhealthy foods to children.","The UK Code of Broadcast Advertising is a mandatory code that restricts the marketing of unhealthy foods to children (UK Advertising Standards Authority, The UK Code of Broadcast Advertising). The UK's Health and Care Act 2022 will further restrict the marketing of unhealthy foods to children on TV and online, beginning in October 2025 (Government of the UK, Health and Care Act 2022, Schedule 18)."]
[null,1032,"3.2.3","Food labelling","Australia mandates food labelling to support healthy eating, including nutrition facts (Australian Government Federal Register of Legislation, Australia New Zealand Food Standards Code—Standard 1.2.1—Requirements to have labels or otherwise provide information, 2024). However, front-of-package labelling is voluntary under the Health Star Rating system (Food Standards Australia New Zealand, Health Star Rating System, 2021; Health Star Rating, About).","Brazil's Resolution of the Collegiate Board 429 and Normative Instruction 75 mandate front-of-package nutrition labelling of packaged food to emphasise high contents of saturated fat, added sugar and sodium (Brazil Federal Government, Resolution No. 429, 2020; Brazil Federal Government, Normative Instruction No. 75, 2020).","Canada mandates comprehensive food labelling to support healthy eating, encompassing both the Nutrition Facts table and front-of-package labelling (Government of Canada, Consolidated Regulations, Food and Drug Regulation B.01.401; Canada Gazette, SOR/2022: Regulations Amending the Food and Drug Regulations, 2022; Nutrition labelling: Front of Package nutrition symbol, 2025).","China mandates food labelling to support healthy eating, but front-of-package labelling remains voluntary (National Health Commission, GB 7718-2025, 2025; National Health Commission, GB 28050-2025, 2025).","Finland mandates food labelling to support healthy eating, but it does not require front-of-package labelling (European Parliament—European Council, Regulation (EU) No 1169/2011 of the European Parliament and of the Council of 25 October 2011 on the provision of food information to consumers, amending Regulations (EC) No 1924/2006 and (EC) No 1925/2006 of the European Parliament and of the Council, and repealing Commission Directive 87/250/EEC, Council Directive 90/496/EEC, Commission Directive 1999/10/EC, Directive 2000/13/EC of the European Parliament and of the Council, Commission Directives 2002/67/EC and 2008/5/EC and Commission Regulation (EC) No 608/2004 Text with EEA relevance, 2011).","France mandates nutrition labelling on food products but does not require front-of-package labelling, which remains voluntary as of April 2025 (Republic of France, French Consumer Code, 2016; Republic of France, French Public Health Code, 2004).","Germany mandates nutrition labelling on packaged foods but does not require front-of-package labelling (Federal Ministry of Food and Agriculture (BMEL), Food Labelling, 2025).","India requires nutrition labelling on all pre-packaged foods, but front-of-package labelling remains voluntary (Food Safety and Standards Authority of India, Guidelines on Nutrition Labelling, 2018).","Italy mandates food labelling to support healthy eating, in compliance with European Union regulations, but it does not currently mandate front-of-package labelling (Ministry of Enterprises and Made in Italy, Guidelines for Food Labelling, 2018).","Japan mandates nutrition labelling to support healthy eating—including information on calorific value, protein, fat, carbohydrates and sodium—but it does not require front-of-package labelling (Government of Japan, Food Labelling Act, 2020).","Mexico requires front-of-package labelling for pre-packaged foods and beverages that exceed specified thresholds of critical nutrients (Mexico Legislature, Mexican Official Standard NOM-051-SCFI/SSA1-2010, General labelling specifications for pre-packaged foods and non-alcoholic beverages—Commercial and health information, 2010; Mexico Legislature, Amendment to the Official Mexican Standard NOM 051 SCFI SSA1 2010, General labelling specifications for pre-packaged foods and non-alcoholic beverages Commercial and health information, 2021)","Nigeria mandates food labelling of prepackaged foods, including nutritional information; however, it does not require front-of-package labelling (Nigerian National Agency for Food and Drug Administration and Control, Pre-Packaged Food (Labelling) Regulations, 2022).","Rwanda mandates food labelling of prepackaged foods, including nutrition facts; however, front-of-package labelling is not required (Rwandan Standard East African Standard 803, Nutrition Labelling Requirements, 2023).","Saudi Arabia requires nutritional information to be present on prepackaged foods; however, front-of-packaging labelling is voluntary (Saudi Food and Drug Authority, Food Clearance Conditions and Requirements, 2018; Saudi Food and Drug Authority, Traffic Light Labelling, 2018).","Serbia mandates nutritional labelling on packaged foods, including key details like energy value, fats, sugars and salt; however, it does not mandate front-of-package labelling (Sl. glasnik RS, Regulation on the Labelling, Declaration and Advertising of Food, 2017).","South Africa mandates food labelling on pre-packaged foods to support healthy eating, including nutrition facts. Although draft regulations stipulate that all pre-packed foods must bear front-of-pack labelling when they contain added saturated fat, added sugar, added sodium, artificial sweeteners or total saturated fatty acids, these are not in force as of April 2025 (Government of the Republic of South Africa, R. 146 Regulations relating to the labelling and advertising of foodstuffs, 2010; Government of the Republic of South Africa, Draft R. 3337, 2023).","South Korea mandates food labelling to support healthy eating, but front-of-package labelling remains voluntary (Republic of Korea, Act on Labelling and Advertisement of Foods (Act No. 19916), 2024).","​Spain mandates nutrition labelling on prepackaged foods, but front-of-package labelling remains voluntary (Regulation No 1169/2011 of the European Parliament and of the Council of 25 October 2011 on the provision of food information to consumers, 2011; Spanish Legislature, Royal Decree 1334/1999, of July 31, approving the general standard for the labelling, presentation and advertising of food products, 2015).","The UAE has voluntary regulations in place requiring food labelling on prepackaged foods to support healthy eating, but it does not mandate front-of-package labelling (Government of UAE—Public Policy Document, The Food Labelling Policy, 2019).","The UK mandates food labelling to support healthy eating, including nutrition facts; however, front-of-package labelling is voluntary (Government of the UK, Regulation (EU) No 1169/2011)."]
[null,1033,"3.2.4","Menu labelling","There is insufficient evidence that Australia has legislation mandating or recommending nutrition labelling on menus to support healthy eating. At the state level, some states require nutrition labelling on menus while others do not (New South Wales Government, New South Wales Food Regulation 2015 under the Food Act of 2003; Northern Territory Government, Food Labelling).","Although Resolution of the Collegiate Board 429 and Normative Instruction 75 mandate front-of-package nutrition labelling of packaged food, including in restaurants, they do not apply to menu items served to consumers (Brazil Federal Government, Resolution No. 429, 2020; Brazil Federal Government, Normative Instruction No. 75, 2020).","Canada does not have federal legislation mandating nutrition labelling on menus in restaurants, cafes or takeaways. At the provincial/territorial level, certain jurisdictions have implemented mandatory menu labelling, while others have not (Government of Ontario, Guide to menu-labelling requirements; Yukon Food Safety Committee, Food Retail and Food Services Code 2016).","There is insufficient evidence that China mandates nutrition labelling on menus to support healthy eating in cafes, restaurants or takeaways.","Finland mandates nutrition labelling on menus in writing, although some information can be shared verbally (Finnish Food Authority, Labelling requirements in a nutshell, 2020).","There is insufficient evidence that France mandates nutrition labelling on menus in restaurants, cafes or takeaways.","There is insufficient evidence that Germany requires nutrition labelling on menus to support healthy eating in cafes, restaurants or takeaways.","India has mandatory regulations in place requiring nutrition labelling on menus in certain types of food and beverage establishments—including calorie counts, portion sizes, allergen details and vegetarian/non-vegetarian symbols (Food Safety and Standards Authority of India, Food Safety and Standards (Labelling and Display) Regulations, 2020).","There is insufficient evidence that Italy mandates nutrition labelling on menus in cafes, restaurants or takeaways.","There is insufficient evidence that Japan mandates nutrition labelling on menus to support healthy eating in cafes, restaurants or takeaways.","There is insufficient evidence that Mexico mandates nutrition labelling on menus to support healthy eating in cafes, restaurants or takeaways.","There is insufficient evidence that Nigeria mandates nutrition labelling on menus to support healthy eating in venues such as cafes, restaurants or takeaways.","There is insufficient evidence that Rwanda mandates nutrition labelling on menus to support healthy eating in venues such as cafes, restaurants or takeaways.","The Saudi Food and Drug Authority has enforced mandatory regulations for calorie labelling on menus and adopted three new technical regulations, effective as of July 1st 2025, which mandate caffeine content disclosure, high salt content labelling and physical activity calorie burn labelling on menus in all restaurants and cafes (Saudi Food and Drug Authority, Nutritional requirements for food establishments that provide food to consumers outside the home, 2024; Saudi Food and Drug Authority, The SFDA Issues Three New Regulations to Promote Healthy Community Nutrition, 2025).","There is insufficient evidence that Serbia requires nutrition labelling on menus in cafes, restaurants or takeaways.","There is insufficient evidence that South Africa mandates nutrition labelling on menus to support healthy eating in venues such as cafes, restaurants or takeaways.","South Korea mandates nutritional labelling on menus in bakeries, ice cream parlours, and hamburger and pizza chains with 100 or more locations; however, the regulations do not apply to other types of food and beverage establishments (Ministry of Food and Drug Safety, Food Labelling System).","Spain's Royal Decree 126/2015 mandates that consumers must be informed about allergens in non-prepackaged foods, but it does not require the display of nutritional information on menus in venues such as cafes, restaurants or takeaways (Spanish Legislature, Royal Decree 1334/1999, of July 31, approving the general standard for the labelling, presentation and advertising of food products, 2015).","There is insufficient evidence that the UAE mandates nutrition labelling on menus to support healthy eating. Although some emirates (e.g Dubai) mandate nutrition labelling on menus, Abu Dhabi has a voluntary system and Umm Al Quwain does not have any such regulations in place (Government of UAE—Public Policy Document, The Food Labelling Policy, 2019; Dubai Municipality, Calorie Declarations and Healthy Claims in Food Services Establishments: Requirements and Guidelines, 2020; Abu Dhabi Quality and Compliance Council (ADQCC), SEHHI programme, 2025; Umm Al Quwain, Home).","The UK mandates calorie labelling on menus to support healthy eating in cafe, restaurant and other food-service businesses with more than 250 employees (Government of the UK, The Calorie Labelling (Out of Home Sector) (England) Regulations 2021; Government of the UK, New calorie labelling rules come into force to improve nation’s health, 2022)."]
[null,1034,"3.2.5","Taxes on unhealthy food and beverages","Australian lawmakers are exploring the possibility of levying a 20% tax on sugar-sweetened beverages; however, the country does not levy taxes on unhealthy food or beverages as of April 2025 (Australian Government Parliamentary Budget Office, Policy Costing: 20% tax on sugar sweetened beverages, 2024).","Brazil levies a specific tax on sugar-sweetened beverages; however, there is insufficient evidence of a similar tax on unhealthy foods (​Brazil Federal Government, Complementary Law No. 214/2025).","Canada does not impose a federal tax on unhealthy foods or beverages. While several provinces and territories levy taxes on unhealthy beverages (Government of Newfoundland and Labrador, Sugar-Sweetened Beverage Tax; Government of British Columbia, Provincial Sales Tax Notice: Notice to Sellers of Soda Beverages, 2021), others—including Ontario and Yukon—do not.","There is insufficient evidence that China levies taxes on unhealthy foods or beverages.","Finland levies a tax on sugary and sugar-free soft drinks, with a higher rate for sugary drinks; however, there is insufficient evidence that it levies a similar tax on unhealthy food (Finnish Parliament, Soft Drink Tax Act, 2016).","France levies taxes on sugar-sweetened beverages (Republic of France, Tax Code: Non-alcoholic beverages, 2025). Despite initially approving a levy on high-sugar foods in November 2024, France did not implement this tax (Ouest France, Social Security Budget: Senate Increases Taxes on Tobacco, Sodas, and Gambling, 2024).","As of April 2025, there is insufficient evidence that Germany levies taxes on unhealthy foods or beverages.","There is insufficient evidence that India levies a tax on unhealthy foods or beverages as of April 2025; however, the government's Economic Survey 2025 proposes the idea of levying a tax on unhealthy foods (Government of India, Economic Survey 2024-2025, Chapter 11—Social Sector: Extending Reach and Driving Empowerment, 2025).","There is insufficient evidence that Italy currently levies any taxes on unhealthy food or beverage products. A Sugar Tax on sweetened non-alcoholic beverages was due to take effect on July 1, 2025 but this was postponed to January 1, 2026 (Republic of Italy, Official Gazette, 20, January 2025; EY, Italy postpones Sugar Tax, 2025).","There is insufficient evidence that Japan levies a tax on unhealthy food or beverages.","Mexico imposes a tax of 1 peso per litre on flavoured beverages with added sugars and an 8% tax on non-basic foods with a caloric density of 275 kilocalories or more per 100 grams (Mexico Legislature, Decree amending, adding to and repealing various provisions of the Special Tax on Production and Services Law, published in the Official Gazette of the Federation (DOF) on December 11, 2013).","Nigeria levies a tax of N10 (US$0.00623) per litre on all non-alcoholic, carbonated and sweetened beverages (Federal Republic of Nigeria Official Gazette, Finance Act 2021, 2022). There is no evidence that Nigeria has implemented a similar tax on unhealthy foods.","Rwanda levies an excise tax of 39% on lemonade, soda and other non-natural juices, compared with a tax of just 5% on natural fruit or vegetable juices (Government of Rwanda, Law Establishing Excise Duty—Law 25 of 2019). There is insufficient evidence that Rwanda has implemented a tax on unhealthy foods.","Saudi Arabia's Zakat, Tax and Customs Authority levies an excise tax of 50-100% on carbonated soft drinks and sweetened beverages, but not on unhealthy food (Zakat, Tax and Customs Authority, Goods Subject to Excise Tax, n.d.).","There is insufficient evidence that Serbia taxes unhealthy food and beverages directly, but it does impose excise taxes on alcohol and coffee as part of its fiscal policy (Ministry of Finance of The Republic of Serbia, Tax Administration, Value added tax law, 2004; PWC Worldwide Tax Summaries, Serbia, 2025).","South Africa levies a tax on sweetened beverages with >4g sugar per 100ml, at a rate of 2.1 cents (0.1 US cents) per gram of the sugar content that exceeds 4 grams per 100ml (South African Revenue Service, Health Promotion Levy on Sugary Beverages). There is insufficient evidence that South Africa has implemented a similar tax on unhealthy foods.","There is insufficient evidence that South Korea levies a tax on unhealthy food or beverages.","Spain levies taxes on sugar-sweetened beverages through a higher rate of VAT—21% versus the standard 10% on other goods (Spanish Tax Administration, Tax Rates, 2025).","The UAE levies taxes on both sweetened and carbonated beverages (Government of UAE, Excise tax, 2024).","The UK levies a tax of £1.94 (US$2.61) or £2.59 (US$3.48) per 10 litres on sugar-sweetened beverages, depending on the sugar content (HM Revenue & Customs, Soft Drinks Industry Levy 2018). There is no evidence that the UK has implemented a similar tax on unhealthy foods."]
[null,1035,3.3,"Nutrition in schools"]
[null,1036,"3.3.1","School nutrition standards","Australia has nutrition standards in place for school food, regulated at the state level (New South Wales Government, NSW Healthy School Canteen Strategy—Food and Drink Criteria, 4th ed., 2020; Northern Territory Government, School nutrition and healthy eating—guidelines, 2023). The national government also provides guidelines on implementing healthy food choices in schools (Australian Government Department of Health, Guidelines for healthy foods and drinks supplied in school canteens, 2014).","Brazil has set clear nutrition standards for school food, mandated through Decree Nº 11.821 and implemented through Technical Note No. 8 (Brazil Federal Government, Decree Nº 11.821, from December 12 2023; Brazil Federal Government, Technical Note No. 8, 2023).","Canada does not have mandatory federal nutrition standards in place for school food.","China has nutrition standards for school food that specify the required energy and nutrient supply, food types and quantities, and meal matching for school students (National Health and Family Planning Commission, “Nutrition Guidelines of School Meals”, 2017).","Finland has nutrition standards in place for school food (National Nutrition Council, Eating and learning together—recommendations for school meals, 2017)","To ensure that all students receive healthy meals, Decree No. 2011-1227 of 30 September 2011 and its implementing Order provide nutritional requirements for meals served in schools (French Legislature, Decree No. 2011-1227 of September 30, 2011 relating to the nutritional quality of meals served in school catering, 2011; French Legislature, Order of September 30, 2011).","Germany has voluntary nutrition standards in place for school food, but they are not due to become binding until 2030 (Federal Ministry of Food and Agriculture, Communal catering, 2025; Federal Ministry of Food and Agriculture, Good Food for Germany—The Federal Government’s Food and Nutrition Strategy, 2024) .","India has nutrition standards in place for school food that provide guidance on factors including how meals should be cooked and which ingredients are recommended (Ministry of Health and Family Welfare—Food Safety and Standards Authority of India, Food Safety and Standards (Safe food and balanced diets for children in school) Regulations, 2020).","Italy has nutritional standards in place for food available in schools (Ministry of Health, National Guidelines for Hospital, Assisted, and School Catering, 29 April 2010).","Japan has a nutritional standard for school food—the School Lunch Intake Standards—set by the Ministry of Education, Culture, Sports, Science and Technology (Ministry of Education, Culture, Sports, Science and Technology, School Lunch Intake Standards, 2020).","Mexico has established nutrition standards for school food to promote healthier eating habits among students through legislation (Mexico Legislature, Agreement establishing the general guidelines governing the preparation, distribution and sale of prepared, processed, and bulk foods and beverages, as well as the promotion of healthy eating lifestyles, within all schools of the National Education System, 2024).","There is insufficient evidence that Nigeria has nutrition standards in place for school food.","Rwanda has nutrition standards for school food, providing guidelines on implementing healthy food choices in school feeding programmes (Republic of Rwanda Ministry of Education, Rwanda School Feeding Operational Guidelines, 2021).","Saudi Arabia has nutritional standards for school canteens that apply to all food items available on a school campus (Ministry of Health, Health Requirements for School Canteens, 2019).","Serbia has nutrition standards for school food that outline recommended foods, nutritional guidelines, and the responsibilities of schools in organising and monitoring student meals (Sl. glasnik RS, Regulation on the Conditions for Organising, Implementing and Monitoring Student Nutrition in Primary Schools, 2018).","South Africa has nutrition standards for school food, established by the Department of Basic Education, and provides guidelines on implementing healthy food choices in schools through sample meals (South Africa Department of Basic Education, National School Nutrition Programme; South Africa Department of Basic Education, 2021 National School Nutrition Programme Provincial Menus, 2021).","South Korea has nutrition standards for school food that provide information on requirements for calories and macronutrient ratios per meal served (Republic of Korea, Nutritional Management Standards for South Korean School Meals, 2021).","Spain established comprehensive nutrition standards for school food through Royal Decree 315/2025, issued on April 15th 2025 (Spanish Legislature, Royal Decree 315/2025, 2025).","The UAE has nutrition standards for food available in schools (Ministry of Education, Health Standards and Requirements for Food Handling in School Canteens, 2019).","The UK has comprehensive nutrition standards for school food that regulate which types of food should be served at school and how often (Government of the UK, Requirements for School Food Regulations, 2014)."]
[null,1037,"3.3.2","Nutrition education","Australia's national curriculum includes nutrition education (Australian Curriculum, Assessment and Reporting Authority, Learning Areas: Health and Physical Education—Food and nutrition).","Brazil includes nutrition education as part of its mandated national school curriculum (Brazil Federal Senate, Law on Directives and Basis of National Education, 2020; Brazil Federal Government, Law No. 11.947, 2009; Brazil Ministry of Education, National Educational Curriculum).","Nutrition education is taught in province- and territory-level curricula (Government of Ontario, Health and Physical Education Curriculum, 2019; Government of British Columbia, Physical and Health Education Curriculum, 2022; Government of Yukon, Yukon Education Kindergarten1 to Grade 12 Pandemic Recovery Plan 2022-24, 2023).","China’s national curriculum includes nutrition education as part of its academic requirements (Ministry of Education, Compulsory Education Curriculum Programme and Standards 2022, 2022).","Finland mandates nutrition education in schools from preschool to grade 9 (Finnish National Board of Education, Food and nutrition education as a learning continuum, 2019).","The French national education curriculum mandates nutrition education in schools (Republic of France, French Education Code (Code de l'Éducation), 2025; French Ministry of Education, Education in food and taste (Éducation à l'alimentation et au goût), 2025).","Nutrition education is optional at the national level in Germany's public schools, but the federal states—including both North Rhine-Westphalia and Bremen (the states with the highest GDP and lowest GDP, respectively)—require it in their curricula (Federal Ministry of Food and Agriculture, Children, Daycare and School, 2025; Ministry of School and Education of the State of North Rhine-Westphalia, Framework Consumer Education in Schools in Primary and Secondary School in North Rhine-Westphalia, 2017; State Institute for School (Bremen), Curriculum for General Education—Primary School, 2007; State Institute for School (Bremen), Natural Sciences, Biology, Chemistry, Physics - Gymnasium 5-10, 2010; State Institute for School (Bremen), Natural Science—Secondary School 5-8, 2010).","There is insufficient evidence that India currently mandates nutrition education in schools. The National Curriculum Framework for School Education 2023 is not a binding document but serves as a framework that provides guiding principles, goals, structure and elements for curriculum development (National Steering Committee for National Curriculum Frameworks, National Curriculum Framework for School Education 2023, 2023). However, the National Education Policy recognises the critical role of nutrition education in supporting students' physical, cognitive and emotional development and includes health and nutrition as key elements that every student should be required to study (Ministry of Human Resource Development, National Education Policy, 2020).","Italy's national curriculum mandates the provision of nutrition education in all public schools but leaves implementation to local authorities (Ministry of University Research and Education, Guidelines for Nutrition Education, 2015; Youth Wiki, European Commission, 7.4 Healthy lifestyles and healthy nutrition, 2024).","Japan's national curriculum includes nutrition education (Ministry of Education, Culture, Sports, Science and Technology, Promotion of Food Education in Schools, 2023).","Nutrition education is mandated and included within the national education curriculum (Mexico Government, Curricular Framework and 2022 Plan of Study for Mexican Basic Education, 2022; Mexico Legislature, Agreement establishing the general guidelines governing the preparation, distribution and sale of prepared, processed, and bulk foods and beverages, as well as the promotion of healthy eating lifestyles, within all schools of the National Education System, 2024; Mexico Government, General Law on Sustainable and Adequate Nutrition, 2024).","There is insufficient evidence that Nigeria mandates nutrition education in schools.","There is insufficient evidence that Rwanda mandates nutrition education in schools.","There is insufficient evidence that nutrition education is mandated in public schools in Saudi Arabia.","Serbia mandates nutrition education as part of its broader health education curriculum within mandatory Physical and Health Education classes (National Policies Platform, Serbia: Healthy lifestyles and healthy nutrition, 2023; Republican Pedagogical Institute of the Republic of Serbia, Curriculum for the subject Physical and Health Education from grades II to IX of elementary school, 2025).","South Africa's national curriculum includes nutrition education, starting in the Reception year and continuing through Grade 12 (South Africa Department of Basic Education, Curriculum and Assessment Policy Statement - Life Skills, 2011; South Africa Department of Basic Education, Curriculum and Assessment Policy Statement—Life Orientation, 2011).","As per the latest 2022 National Framework for the Elementary and Secondary Curriculum, food and nutrition is an elective subject in South Korea's public schools (National Curriculum Information Centre, National Framework for the Elementary and Secondary Curriculum, 2022).","Spain mandates nutrition education across grades in schools and includes it as part of its basic curriculum for primary and secondary schools (Spanish Legislature, Law 17/2011, of July 5, on food security and nutrition; Spanish Legislature, Organic Law 3/2020, of December 29, amending Organic Law 2/2006, of May 3, on Education; Spanish Legislature, Royal Decree 157/2022, of March 1, establishing the organisation and minimum teachings of Primary Education; Spanish Legislature, Royal Decree 217/2022, of March 29, establishing the organisation and minimum teachings of compulsory secondary education; Spanish Ministry of Education, Primary School Curriculum, Physical Education: Evaluation criteria, specific competencies and basic knowledge, 2025; Spanish Ministry of Education, Secondary School Curriculum, Physical Education: Evaluation criteria, specific competencies and basic knowledge, 2025).","The national curriculum of the UAE includes nutrition education (United Arab Emirates Ministry of Education, Ministry of Education announces a brand new Physical and Health Education reform in the UAE, 2017).","In the UK, all four countries' national curricula mandate nutrition education in schools (UK Department for Education, The national curriculum in England: Key stages 1 and 2 framework document, 2013; UK Department for Education, The national curriculum in England: Key stages 3 and 4 framework document, 2014; Welsh Government, Curriculum for Wales: Health and Wellbeing; Education Scotland, Curriculum for Excellence: Health and wellbeing; Education Scotland, Curriculum for Excellence: Health and wellbeing: Food Skills Support Resource; Northern Ireland Curriculum, The Northern Ireland Curriculum: Primary, 2007; Northern Ireland Curriculum, The Statutory Curriculum at Key Stage 3: Rationale and Detail, 2007)."]
[null,1038,4,"Physical activity"]
[null,1039,4.0999999999999996,"Physical activity among the population"]
[null,1040,"4.1.1","Promotion of physical activity","Australia does not have national-level policies or strategies in place to promote physical activity among the general population. Several states have policies in place to promote physical activity, including promoting active transport, but few have measures to reduce car usage (Government of New South Wales, Active Transport Strategy, 2022; Queensland Government, Activate! Queensland 2019-2029; Northern Territory Government, Northern Territory Sport and Active Recreation Strategic Plan: 2021-25).","Brazil has a range of programmes in place to promote physical activity among the general population, including initiatives that focus on both promoting active travel and reducing car usage (Brazil Ministry of Cities, Programa Bicicleta Brasil; Brazilian Ministry of Health, Physical Activity Guide for the Brazilian Population, 2021; Brazilian Ministry of Health, Health Academy Programme).","Canada has comprehensive policies in place to promote physical activity among the general population, with a specific focus on promoting active travel and reducing car usage (Government of Canada, A Common Vision for Increasing Physical Activity and Reducing Sedentary Living in Canada, 2018; Government of Canada, National Active Transportation Strategy 2021-2026, 2021).","China has policies in place to promote physical activity among the general population, but they do not focus on promoting active travel or reducing car usage (The State Council, State Council on Issuing the National Fitness Plan Notifications (2021-2025), 2021; Healthy China Action Promotion Committee, Healthy China Action Plan 2019-2030, 2019).","Finland has policies in place to promote physical activity among the general population that focus on both promoting active travel and reducing car usage (UKK Institute for Health Promotion Research, Recommendation on Physical Activity for Children and Adolescents, 2025; UKK Institute for Health Promotion Research, Weekly Physical Activity Recommendation for 18-64-year-olds, 2025; UKK Institute for Health Promotion Research, Weekly Physical Activity Recommendation for over 65-year-olds, 2025; Ministry of Education and Culture and the UKK Institute for Health Promotion Research, National Recommendations for Reducing Sitting and Immobility, 2015).","France's programmes to promote physical activity focus on promoting active travel but not on reducing car usage (French Ministry of Labour, Health, Solidarity and Families, National Nutrition and Health Programme, 2019-2023, 2019; French Ministry of Labour, Health, Solidarity and Families, National Sport and Health Strategy (2019-2024), 2019; Ministry of Infrastructure, Active Travel Fund, 2024).","Germany has a national cycling plan in place that focuses on promoting active travel and reducing car usage, while its 2021 \"Action plan: Further development of IN FORM—priorities of the National Action Plan for the prevention of malnutrition, physical inactivity and obesity” includes measures that focus on promoting health literacy with a focus on exercise and providing targeted exercise opportunities to specific groups who engage in a sedentary lifestyle (Federal Ministry for Digital and Transport (BMDV), National cycling plan 3.0, 2022; Federal Ministry of Food and Agriculture, Action plan: Further development of IN FORM—priorities of the National Action Plan for the prevention of malnutrition, physical inactivity and obesity, 2021).","India has policies in place to promote physical activity among the general population and encourages cycling as a form of active travel through the Fit India Cycling Drive. However, there are no measures in place focused on reducing car usage (Ministry of Youth Affairs and Sports, Fit India, 2019; Press Information Bureau, Dr. Mansukh Mandaviya, Union Minister of Youth Affairs and Sports Launches ‘Fit India Cycling Drive’ Nationwide, Promoting Fitness and Sustainability; Cycling for a Greener Future: Fit India Cycling Drive Reaches 1,000 Locations Across the Country, 2024).","Italy's National Prevention Plan 2020-2025 and national Guidelines on Physical Activity promote physical activity across the general population and include measures to promote active travel. However, there are no national-level policies that explicitly promote reduced car usage (General Directorate of Health Prevention, National Prevention Plan, 2020; Ministry of Health, Guidelines on Physical Activity, 2021).","Japan has policies in place to promote physical activity among the general population that focus on promoting active travel, but they do not specifically focus on reducing car usage (Ministry of Health, Labour and Welfare, Promotion of physical activity and exercise, n.d.; Ministry of Health, Labour and Welfare, Physical Activity and Exercise Guide for Health Promotion 2023, 2023; Ministry of Health, Labour and Welfare, Physical Activity Support Environment, 2023).","In February 2025 Mexico's National Commission of Physical Culture and Sports (CONADE) launched the Ponte Pila (Get Moving) Physical Activation programme; the programme does not focus on either promoting active travel or reducing car usage (Mexico Government, Physical Activation Programme Ponte Pila, 2025).","There is insufficient evidence that Nigeria has policies in place to promote physical activity among the general population.","Rwanda has policies in place to promote physical activity among the general population, including promoting active and non-motorised transport options such as walking and cycling. However, there is no evidence of measures explicitly targeted at reducing car usage (Republic of Rwanda Ministry of Infrastructure, National Transport Policy and Strategy for Rwanda, 2021; Republic of Rwanda Ministry of Infrastructure, Sports Development Policy 2020-2030, 2021).","Saudi Arabia's National Strategy of the Saudi Sports for All Federation (2020-25) promotes physical activity among the population, primarily through sports, while the National Strategy for Diet and Physical Activity 2014-2025 seeks to lower the rate of people undertaking low levels of physical activity. However, neither document explicitly promotes active travel or a reduction of car usage (Saudi Sports for All Federation, National Strategy of the Saudi Sports for All Federation, 2020; Ministry of Health, KSA National Strategy for Diet and Physical Activity for the Years 2014-2025, 2014).","Serbia has policies promoting physical activity across various age groups, but there is no clear focus on promoting active travel or reducing car usage (Republic of Serbia, Healthy People, Health in All Policies: Public Health Strategy in the Republic of Serbia 2016-2025, 2016; Public Policy Secretariat of the Government of the Republic of Serbia, Healthy People, Health in All Policies Action Plan for 2018-2026, 2018; Ministry of Health of the Republic of Serbia, Regulation on the National Programme for the Prevention of Obesity in Children and Adults, 2018; Ministry of Tourism and Youth, Youth Strategy in the Republic of Serbia for the period 2023-2030, 2023).","South Africa's Green Transport Strategy 2018-2050 aims to promote physical activity among the general population by increasing active travel and reducing car usage (South Africa Department of Transport, Green Transport Strategy for South Africa: 2018-2050, 2018). Governmental non-motorised transport (NMT) initiatives similarly aim to increase opportunities for walking and biking, reducing reliance on motorised transport (South Africa Department of Forestry, Fisheries and the Environment, Non-Motorized Transport—South Africa).","South Korea has policies in place to promote physical activity among the general population, including a focus on both promoting active travel and reducing car usage (Ministry of Health and Welfare and the Korea Health Promotion Institute, 2025 Community Integrated Health Promotion Project Guide—Physical Activity, 2025).","Spain has numerous initiatives promoting physical activity among the general population, but they are not focused on reducing car usage or promoting active travel (Spanish Agency on Food and Nutrition Security, Movimiento Actívate; Spanish Ministry of Health, Recommendations for the Population on Physical Activity for Health and Reduction of Sedentarism, 2022). The Ministry of Health's Guía PACO y PACA and the Guide to Health Promoting Schools target both the promotion of active travel and a reduction in car usage specifically for school commutes; they focus solely on schools and children (Spanish Ministry of Health, Guía PACO y PACA, 2022; Spanish Ministry of Health and Ministry of Education, Vocational Training and Sports, Guide to Health Promoting Schools, 2023).","The UAE has policies in place to promote physical activity among the general population. They focus on promoting active travel but not reducing car usage (Government of UAE, National policy to promote healthy lifestyles in the UAE, 2022).","The UK has comprehensive national strategies in place to promote physical activity among the general population, including a specific focus on promoting active travel such as walking, cycling and rolling. However, they do not contain provisions to reduce the usage of cars or other motorised transport options (UK Department of Transport, Cycling and Walking Investment Strategy, 2017; Department for Culture, Media & Sport, Get Active: A strategy for the future of sport and physical activity, 2023)."]
[null,1041,"4.1.2","Physical activity policies that address obesity","There are no national policies in place to promote physical activity in Australia. The state-level strategies to achieve this do not include explicit measures aimed at preventing and managing obesity (Government of New South Wales, Active Transport Strategy, 2022; Queensland Government, Activate! Queensland 2019-2029; Northern Territory Government, Northern Territory Sport and Active Recreation Strategic Plan: 2021-25).","The Physical Activity Guide for the Brazilian Population (2021) explicitly mentions obesity prevention and weight management, and provides specific recommendations for incorporating physical activity into daily routines for different demographic groups, directly connecting these activities to weight management benefits. However, it does not specify evaluation methods for measuring the impact of these recommendations on obesity rates (Brazilian Ministry of Health, Physical Activity Guide for the Brazilian Population, 2021).","Canada's policies to promote physical activity state that activity can contribute to obesity prevention, but the measures do not include clear actions or specific targets directly related to obesity prevention and management (Government of Canada, A Common Vision for Increasing Physical Activity and Reducing Sedentary Living in Canada, 2018; Government of Canada, National Active Transportation Strategy 2021-2026, 2021).","China’s policies to promote physical activity among the population include explicit measures aimed at preventing and managing obesity, but they lack methods of evaluation (The State Council, State Council on Issuing the National Fitness Plan Notifications (2021-2025), 2021; Healthy China Action Promotion Committee, Healthy China Action Plan 2019-2030, 2019).","Finland has multiple policies promoting physical activity among the population but they do not include measures aimed at preventing or managing obesity (UKK Institute for Health Promotion Research, Recommendation on Physical Activity for Children and Adolescents, 2025; UKK Institute for Health Promotion Research, Weekly Physical Activity Recommendation for 18-64-year-olds, 2025; UKK Institute for Health Promotion Research, Weekly Physical Activity Recommendation for over 65-year-olds, 2025; Ministry of Education and Culture and the UKK Institute for Health Promotion Research, National Recommendations for Reducing Sitting and Immobility, 2015).","France's programmes to promote physical activity have measures with clear actions and specific targets, accompanied by clear methods of monitoring and evaluation, to prevent and manage obesity (French Ministry of Labour, Health, Solidarity and Families, National Nutrition and Health Program, 2019-2023, 2019; French Ministry of Labour, Health, Solidarity and Families, National Sport and Health Strategy (2019-2024), 2019; Ministry of Infrastructure, Active Travel Fund, 2024).","Germany has policies to promote physical activity among the population that recognise the role of activity in preventing obesity, but they lack clear actions and methods of evaluation in this regard (Federal Ministry of Food and Agriculture, Action plan: Further development of IN FORM—priorities of the National Action Plan for the prevention of malnutrition, physical inactivity and obesity, 2021).","India has policies to promote physical activity among the population, but they do not include explicit measures aimed at preventing and managing obesity (Ministry of Youth Affairs and Sports, Fit India, 2019; Ministry of Youth Affairs and Sports, Draft National Sports Policy 2024).","Italy's National Prevention Plan 2020-2025 promotes physical activity as a key (macro) strategy to prevent and manage obesity across the general population. However, it lacks clear measures of evaluation (General Directorate of Health Prevention, National Prevention Plan, 2020).","Japan's Physical Activity and Exercise Guide for Health Promotion 2023 recognises that engagement in physical activity supports obesity reduction; however, it does not contain clear actions or specific targets for obesity prevention and management through physical activity (Ministry of Health, Labour and Welfare, Physical Activity and Exercise Guide for Health Promotion 2023, 2023).","In February 2025 Mexico's National Commission of Physical Culture and Sports (CONADE) launched the Ponte Pila (Get Moving) Physical Activation programme; it does not mention any obesity-related measures (Mexico Government, Physical Activation Programme Ponte Pila, 2025).","There is insufficient evidence that Nigeria has policies in place to promote physical activity among the general population.","Rwanda's policies to promote physical activity among the general population do not include measures aimed at preventing or managing obesity.","Saudi Arabia's National Strategy for Diet and Physical Activity 2014-2025 contains explicit measures aimed at preventing and managing obesity, with clear actions and methods of evaluation (Ministry of Health, KSA National Strategy for Diet and Physical Activity for the Years 2014-2025, 2014).","Serbia’s physical activity policies include explicit measures aimed at preventing and managing obesity, with clear actions and methods of evaluation (Ministry of Health of the Republic of Serbia, Regulation on the National Programme for the Prevention of Obesity in Children and Adults, 2018).","South Africa's national policies to promote physical activity do not include explicit measures aimed at preventing and managing obesity.","South Korea's policies to promote physical activity among the population include explicit measures aimed at preventing and managing obesity, with clear actions and methods of evaluation (Ministry of Health and Welfare and the Korea Health Promotion Institute, 2025 Community Integrated Health Promotion Project Guide—Physical Activity, 2025).","Spain's initiatives promoting physical activity consistently mention obesity prevention, but are advisory in nature and do not include clear, actionable policies with defined implementation timelines, targets or evaluation mechanisms (Spanish Agency on Food and Nutrition Security, Movimiento Actívate; Spanish Ministry of Health, Recommendations for the Population on Physical Activity for Health and Reduction of Sedentarism, 2022; Spanish Ministry of Health, Guía PACO y PACA, 2022).","Policies in the UAE to promote physical activity among the population do not include explicit measures and actions aimed at preventing and managing obesity (Government of UAE, National policy to promote healthy lifestyles in the UAE, 2022).","The UK's national strategies to promote physical activity among the general population either mention obesity only briefly, or do not include clear actions or specific targets around obesity prevention and management (UK Department of Transport, Cycling and Walking Investment Strategy, 2017; Department for Culture, Media & Sport, Get Active: A strategy for the future of sport and physical activity, 2023)."]
[null,1042,4.2,"Physical activity among children"]
[null,1043,"4.2.1","Physical activity mandates","Australia mandates physical activity in schools, but does not specify a daily time requirement (Australian Curriculum, Assessment and Reporting Authority, Learning Areas: Health and Physical Education).","Although physical education is mandated in schools in Brazil, there is no minimum time requirement (Brazil Federal Senate, Law on Directives and Basis of National Education, 2020; Brazil Ministry of Education, National Educational Curriculum).","Canada does not have a national curriculum, as education is primarily a provincial and territorial responsibility, rather than a federal one. However, the majority of provinces and territories—including Ontario and Yukon—require schools to provide students with daily or weekly physical activity, ranging from 75-150 minutes per week (equivalent to 15-30 minutes per day) to 20-30 minutes per day (Canadian Partnership against Cancer, Physical Activity policies: School environments and physical activity initiatives).","China requires students to undertake one hour of physical activity in school and one hour after school every day (National Health Commission, Notice on the Issuance of the Implementation Programme of the Weight Management Years Campaign, 2024).","Finland mandates a minimum of 20 hours of physical education instruction in schools annually, which corresponds to less than 60 minutes per day (Finlex, Ministry of Justice database of Finnish legislation, 422 2012 Government Decree on the national objectives of education referred to in the Basic Education Act and the distribution of hours in basic education, 2012).","France mandates physical activity in schools for at least 30 minutes per day (Republic of France, French Education Code, 2004; French Ministry of Education, Note of Service No. MENE2220806N (Circulaire MENE2201330C du 12-1-2022), 2022).","Germany mandates physical activity in public schools, for less than 60 minutes per day (Standing Conference of the Ministers of Education and Cultural Affairs of the Länder in the Federal Republic of Germany, Schools That Promote Physical Activity: Report on the State of Development in the Federal States, 2023; European Commission Youth Wiki, Germany: 7.3 Sport, youth fitness and physical activity, 2023).","India mandates physical activity in public schools, requiring students aged 8-11 to undertake 100 hours of physical education annually, students aged 11-14 to undertake 110 hours annually, and students aged 15-18 to undertake 90 hours annually (Ministry of Education, Development of Children in Sports, 2022; National Steering Committee for National Curriculum Frameworks, National Curriculum Framework for School Education 2023, 2023).","Italy mandates 60 minutes per week (equivalent to 12 minutes per day) of physical activity in primary schools and 120 minutes per week (equivalent to 24 minutes per day) in secondary schools (Ministry of Education, University and Research, Department for the Education and Training System, Directorate-General for School Systems and Evaluation of the National Education System, National Guidelines and New Scenarios, 2021; Republic of Italy, Official Gazette—Article 34, 2021).","Japan mandates physical activity in schools, but for less than 60 minutes per day. Students from grades 1 to 6 must engage in physical activity for 2 to 2.5 hours per week (equivalent to 24-30 minutes per day), and students in high school must undertake 245-280 hours of physical activity annually (Ministry of Education, Culture, Sports, Science and Technology, Course of Study—Physical Education, 2019; Ministry of Education, Culture, Sports, Science and Technology, High School Curriculum Guidelines for Health and Physical Education, 2025).","Although Mexico mandates physical education across all educational school levels on a daily basis, the required time period is not specified (Mexico Legislature, General Education Law, 2024; Mexico Government, Curricular Framework and 2022 Plan of Study for Mexican Basic Education, 2022).","There is insufficient evidence that Nigeria mandates physical activity in schools.","Rwanda mandates physical activity in schools, requiring 40 minutes per week (equivalent to 8 minutes per day) in primary and middle school, and 80 minutes per week (equivalent to 16 minutes per day) in upper secondary school (Republic of Rwanda Ministry of Education, School Sports Policy, 2020).","Saudi Arabia's Ministry of Education recommends that school students engage in at least 60 minutes of physical activity daily, as well as activities that strengthen muscles and bones at least three times a week; however, these suggestions are not mandatory for schools to follow (Kingdom of Saudi Arabia Ministry of Education, Maintaining a healthy lifestyle, n.d.).","Serbia mandates physical activity in schools through compulsory Physical and Health Education classes, the School Sports Programme, and optional extracurricular activities, but the time allocated for physical education is less than 60 minutes per day (National Policies Platform, Serbia: Sport, youth fitness and physical activity, 2023; Republican Pedagogical Institute of the Republic of Serbia, Curriculum for the subject Physical and Health Education from grades II to IX of elementary school, 2025; Sl. glasnik RS, Law on Primary Education and Upbringing, 2013; Sl. glasnik RS, Law on Secondary Education, 2013).","South Africa mandates physical activity in schools, requiring 1 hour per week of instruction in physical education (South Africa Department of Basic Education, Curriculum and Assessment Policy Statement—Year 1-4—Life Skills: Physical Education, 2011; South Africa Department of Basic Education, Curriculum and Assessment Policy Statement—Grades 4-6—Life Skills, 2011; South Africa Department of Basic Education, Curriculum and Assessment Policy Statement—Grades 7-9—Life Orientation, 2011).","South Korea mandates physical activity in schools, but only for 24 minutes per day in elementary school and 36 minutes per day in middle school (National Curriculum Information Centre, National Framework for the Elementary and Secondary Curriculum, 2022).","Although Spain mandates physical education in schools, it does not set a daily minimum time requirement (Spanish Legislature, Royal Decree 157/2022, of March 1, establishing the organisation and minimum teachings of Primary Education; Spanish Legislature, Royal Decree 217/2022, of March 29, establishing the organisation and minimum teachings of Compulsory Secondary Education; Spanish Ministry of Education, Primary School Curriculum, Physical Education: Evaluation criteria, specific competencies and basic knowledge, 2025; Spanish Ministry of Education, Secondary School Curriculum, Physical Education: Evaluation criteria, specific competencies and basic knowledge, 2025).","The UAE mandates physical activity in schools, but for between 60 and 120 minutes per week (the equivalent of 12 to 24 minutes per day) (Government of UAE, National policy to promote healthy lifestyles in the UAE, 2022).","In line with the Education Act 2002, the UK Government is unable to prescribe a minimum time requirement for any school subject, and its current guidelines for physical education and sport in schools recommend, but do not mandate, two hours of physical education per week (equivalent to 24 minutes per day) (Government of the UK, Education Act 2002; Department of Education, Guidance: PE and sports in schools, 23 March 2024)."]

{"sheet":"Score_alphabetical","index":8,"n_rows":48,"n_cols":24,"rows_kept":48,"cut":false,"hidden":true,"merged":[]}
["Ranking - alphabetical"]
[]
[null,"UID","No.","Indicator name","Australia","Brazil","Canada","China","Finland","France","Germany","India","Italy","Japan","Mexico","Nigeria","Rwanda","Saudi Arabia","Serbia","South Africa","South Korea","Spain","United Arab Emirates","United Kingdom"]
[null,0,0,"OVERALL",1,2,3,4,5,6,7,8,9,10,11,12,13,14,15,16,17,18,19,20]
[null,1000,1,"Policy and governance",1,2,3,4,5,6,7,8,9,10,11,12,13,14,15,16,17,18,19,20]
[null,1001,1.1000000000000001,"Obesity-related policy",1,2,3,4,5,6,7,8,9,10,11,12,13,14,15,16,17,18,19,20]
[null,1002,"1.1.1","Health policy/strategy/plan that includes obesity",1,2,3,4,5,6,7,8,9,10,11,12,13,14,15,16,17,18,19,20]
[null,1003,"1.1.2","Definition of obesity",1,2,3,4,5,6,7,8,9,10,11,12,13,14,15,16,17,18,19,20]
[null,1004,"1.1.3","Obesity-related policy/strategy/plan",1,2,3,4,5,6,7,8,9,10,11,12,13,14,15,16,17,18,19,20]
[null,1005,"1.1.3a","Existence of an obesity-related policy/strategy/plan",1,2,3,4,5,6,7,8,9,10,11,12,13,14,15,16,17,18,19,20]
[null,1006,"1.1.3b","Engagement with stakeholders during development",1,2,3,4,5,6,7,8,9,10,11,12,13,14,15,16,17,18,19,20]
[null,1007,"1.1.3c","Measures for obesity prevention",1,2,3,4,5,6,7,8,9,10,11,12,13,14,15,16,17,18,19,20]
[null,1008,"1.1.3d","Measures for obesity management",1,2,3,4,5,6,7,8,9,10,11,12,13,14,15,16,17,18,19,20]
[null,1009,"1.1.3e","Targets for obesity prevalence reduction",1,2,3,4,5,6,7,8,9,10,11,12,13,14,15,16,17,18,19,20]
[null,1010,"1.1.3f","Focus on vulnerable groups",1,2,3,4,5,6,7,8,9,10,11,12,13,14,15,16,17,18,19,20]
[null,1011,"1.1.3g","Obesity-related stigma and discrimination",1,2,3,4,5,6,7,8,9,10,11,12,13,14,15,16,17,18,19,20]
[null,1012,"1.1.4","Obesity-related funding",1,2,3,4,5,6,7,8,9,10,11,12,13,14,15,16,17,18,19,20]
[null,1013,"1.1.5","Weight-related discrimination",1,2,3,4,5,6,7,8,9,10,11,12,13,14,15,16,17,18,19,20]
[null,1014,2,"Obesity management",1,2,3,4,5,6,7,8,9,10,11,12,13,14,15,16,17,18,19,20]
[null,1015,2.1,"Obesity management guidelines",1,2,3,4,5,6,7,8,9,10,11,12,13,14,15,16,17,18,19,20]
[null,1016,"2.1.1","Existence of obesity management guidelines",1,2,3,4,5,6,7,8,9,10,11,12,13,14,15,16,17,18,19,20]
[null,1017,"2.1.2","Evidence-based obesity management guidelines",1,2,3,4,5,6,7,8,9,10,11,12,13,14,15,16,17,18,19,20]
[null,1018,"2.1.3","Clinical and cost-effectiveness of obesity management interventions",1,2,3,4,5,6,7,8,9,10,11,12,13,14,15,16,17,18,19,20]
[null,1019,2.2000000000000002,"Obesity diagnosis and referral pathways",1,2,3,4,5,6,7,8,9,10,11,12,13,14,15,16,17,18,19,20]
[null,1020,"2.2.1","Obesity management pathway",1,2,3,4,5,6,7,8,9,10,11,12,13,14,15,16,17,18,19,20]
[null,1021,"2.2.2","Obesity pathway in chronic disease management",1,2,3,4,5,6,7,8,9,10,11,12,13,14,15,16,17,18,19,20]
[null,1022,2.2999999999999998,"Availability and affordability of obesity-related care",1,2,3,4,5,6,7,8,9,10,11,12,13,14,15,16,17,18,19,20]
[null,1023,"2.3.1","Reimbursement/coverage of obesity care",1,2,3,4,5,6,7,8,9,10,11,12,13,14,15,16,17,18,19,20]
[null,1024,3,"Food quality and access",1,2,3,4,5,6,7,8,9,10,11,12,13,14,15,16,17,18,19,20]
[null,1025,3.1,"Food access and affordability",1,2,3,4,5,6,7,8,9,10,11,12,13,14,15,16,17,18,19,20]
[null,1026,"3.1.1","Level of food security",1,2,3,4,5,6,7,8,9,10,11,12,13,14,15,16,17,18,19,20]
[null,1027,"3.1.2","Affordability of nutritious food",1,2,3,4,5,6,7,8,9,10,11,12,13,14,15,16,17,18,19,20]
[null,1028,"3.1.3","Nutrition programmes for lower-income individuals",1,2,3,4,5,6,7,8,9,10,11,12,13,14,15,16,17,18,19,20]
[null,1029,3.2,"Nutrition guidance and regulation",1,2,3,4,5,6,7,8,9,10,11,12,13,14,15,16,17,18,19,20]
[null,1030,"3.2.1","Nutrition policy/strategy/plan that addresses obesity",1,2,3,4,5,6,7,8,9,10,11,12,13,14,15,16,17,18,19,20]
[null,1031,"3.2.2","Marketing of unhealthy food and beverages to children",1,2,3,4,5,6,7,8,9,10,11,12,13,14,15,16,17,18,19,20]
[null,1032,"3.2.3","Food labelling",1,2,3,4,5,6,7,8,9,10,11,12,13,14,15,16,17,18,19,20]
[null,1033,"3.2.4","Menu labelling",1,2,3,4,5,6,7,8,9,10,11,12,13,14,15,16,17,18,19,20]
[null,1034,"3.2.5","Taxes on unhealthy food and beverages",1,2,3,4,5,6,7,8,9,10,11,12,13,14,15,16,17,18,19,20]
[null,1035,3.3,"Nutrition in schools",1,2,3,4,5,6,7,8,9,10,11,12,13,14,15,16,17,18,19,20]
[null,1036,"3.3.1","School nutrition standards",1,2,3,4,5,6,7,8,9,10,11,12,13,14,15,16,17,18,19,20]
[null,1037,"3.3.2","Nutrition education",1,2,3,4,5,6,7,8,9,10,11,12,13,14,15,16,17,18,19,20]
[null,1038,4,"Physical activity",1,2,3,4,5,6,7,8,9,10,11,12,13,14,15,16,17,18,19,20]
[null,1039,4.0999999999999996,"Physical activity among the population",1,2,3,4,5,6,7,8,9,10,11,12,13,14,15,16,17,18,19,20]
[null,1040,"4.1.1","Promotion of physical activity",1,2,3,4,5,6,7,8,9,10,11,12,13,14,15,16,17,18,19,20]
[null,1041,"4.1.2","Physical activity policies that address obesity",1,2,3,4,5,6,7,8,9,10,11,12,13,14,15,16,17,18,19,20]
[null,1042,4.2,"Physical activity among children",1,2,3,4,5,6,7,8,9,10,11,12,13,14,15,16,17,18,19,20]
[null,1043,"4.2.1","Physical activity mandates",1,2,3,4,5,6,7,8,9,10,11,12,13,14,15,16,17,18,19,20]

{"sheet":"Score_rank unique","index":9,"n_rows":48,"n_cols":24,"rows_kept":48,"cut":false,"hidden":true,"merged":[]}
["Ranking - unique"]
[]
[null,"UID","No.","Indicator name","Australia","Brazil","Canada","China","Finland","France","Germany","India","Italy","Japan","Mexico","Nigeria","Rwanda","Saudi Arabia","Serbia","South Africa","South Korea","Spain","United Arab Emirates","United Kingdom"]
[null,0,0,"OVERALL",{"$f":"RANK('SCORE TABLE'!H10,'SCORE TABLE'!$H10:$AA10,0)+ COUNTIF('SCORE TABLE'!$H10:H10, 'SCORE TABLE'!H10) - 1","v":10},{"$f":"RANK('SCORE TABLE'!I10,'SCORE TABLE'!$H10:$AA10,0)+ COUNTIF('SCORE TABLE'!$H10:I10, 'SCORE TABLE'!I10) - 1","v":3},{"$f":"RANK('SCORE TABLE'!J10,'SCORE TABLE'!$H10:$AA10,0)+ COUNTIF('SCORE TABLE'!$H10:J10, 'SCORE TABLE'!J10) - 1","v":15},{"$f":"RANK('SCORE TABLE'!K10,'SCORE TABLE'!$H10:$AA10,0)+ COUNTIF('SCORE TABLE'!$H10:K10, 'SCORE TABLE'!K10) - 1","v":8},{"$f":"RANK('SCORE TABLE'!L10,'SCORE TABLE'!$H10:$AA10,0)+ COUNTIF('SCORE TABLE'!$H10:L10, 'SCORE TABLE'!L10) - 1","v":5},{"$f":"RANK('SCORE TABLE'!M10,'SCORE TABLE'!$H10:$AA10,0)+ COUNTIF('SCORE TABLE'!$H10:M10, 'SCORE TABLE'!M10) - 1","v":2},{"$f":"RANK('SCORE TABLE'!N10,'SCORE TABLE'!$H10:$AA10,0)+ COUNTIF('SCORE TABLE'!$H10:N10, 'SCORE TABLE'!N10) - 1","v":6},{"$f":"RANK('SCORE TABLE'!O10,'SCORE TABLE'!$H10:$AA10,0)+ COUNTIF('SCORE TABLE'!$H10:O10, 'SCORE TABLE'!O10) - 1","v":19},{"$f":"RANK('SCORE TABLE'!P10,'SCORE TABLE'!$H10:$AA10,0)+ COUNTIF('SCORE TABLE'!$H10:P10, 'SCORE TABLE'!P10) - 1","v":9},{"$f":"RANK('SCORE TABLE'!Q10,'SCORE TABLE'!$H10:$AA10,0)+ COUNTIF('SCORE TABLE'!$H10:Q10, 'SCORE TABLE'!Q10) - 1","v":13},{"$f":"RANK('SCORE TABLE'!R10,'SCORE TABLE'!$H10:$AA10,0)+ COUNTIF('SCORE TABLE'!$H10:R10, 'SCORE TABLE'!R10) - 1","v":11},{"$f":"RANK('SCORE TABLE'!S10,'SCORE TABLE'!$H10:$AA10,0)+ COUNTIF('SCORE TABLE'!$H10:S10, 'SCORE TABLE'!S10) - 1","v":20},{"$f":"RANK('SCORE TABLE'!T10,'SCORE TABLE'!$H10:$AA10,0)+ COUNTIF('SCORE TABLE'!$H10:T10, 'SCORE TABLE'!T10) - 1","v":18},{"$f":"RANK('SCORE TABLE'!U10,'SCORE TABLE'!$H10:$AA10,0)+ COUNTIF('SCORE TABLE'!$H10:U10, 'SCORE TABLE'!U10) - 1","v":16},{"$f":"RANK('SCORE TABLE'!V10,'SCORE TABLE'!$H10:$AA10,0)+ COUNTIF('SCORE TABLE'!$H10:V10, 'SCORE TABLE'!V10) - 1","v":1},{"$f":"RANK('SCORE TABLE'!W10,'SCORE TABLE'!$H10:$AA10,0)+ COUNTIF('SCORE TABLE'!$H10:W10, 'SCORE TABLE'!W10) - 1","v":17},{"$f":"RANK('SCORE TABLE'!X10,'SCORE TABLE'!$H10:$AA10,0)+ COUNTIF('SCORE TABLE'!$H10:X10, 'SCORE TABLE'!X10) - 1","v":4},{"$f":"RANK('SCORE TABLE'!Y10,'SCORE TABLE'!$H10:$AA10,0)+ COUNTIF('SCORE TABLE'!$H10:Y10, 'SCORE TABLE'!Y10) - 1","v":14},{"$f":"RANK('SCORE TABLE'!Z10,'SCORE TABLE'!$H10:$AA10,0)+ COUNTIF('SCORE TABLE'!$H10:Z10, 'SCORE TABLE'!Z10) - 1","v":12},{"$f":"RANK('SCORE TABLE'!AA10,'SCORE TABLE'!$H10:$AA10,0)+ COUNTIF('SCORE TABLE'!$H10:AA10, 'SCORE TABLE'!AA10) - 1","v":7}]
[null,1000,1,"Policy and governance",{"$f":"RANK('SCORE TABLE'!H11,'SCORE TABLE'!$H11:$AA11,0)+ COUNTIF('SCORE TABLE'!$H11:H11, 'SCORE TABLE'!H11) - 1","v":5},{"$f":"RANK('SCORE TABLE'!I11,'SCORE TABLE'!$H11:$AA11,0)+ COUNTIF('SCORE TABLE'!$H11:I11, 'SCORE TABLE'!I11) - 1","v":7},{"$f":"RANK('SCORE TABLE'!J11,'SCORE TABLE'!$H11:$AA11,0)+ COUNTIF('SCORE TABLE'!$H11:J11, 'SCORE TABLE'!J11) - 1","v":19},{"$f":"RANK('SCORE TABLE'!K11,'SCORE TABLE'!$H11:$AA11,0)+ COUNTIF('SCORE TABLE'!$H11:K11, 'SCORE TABLE'!K11) - 1","v":8},{"$f":"RANK('SCORE TABLE'!L11,'SCORE TABLE'!$H11:$AA11,0)+ COUNTIF('SCORE TABLE'!$H11:L11, 'SCORE TABLE'!L11) - 1","v":9},{"$f":"RANK('SCORE TABLE'!M11,'SCORE TABLE'!$H11:$AA11,0)+ COUNTIF('SCORE TABLE'!$H11:M11, 'SCORE TABLE'!M11) - 1","v":2},{"$f":"RANK('SCORE TABLE'!N11,'SCORE TABLE'!$H11:$AA11,0)+ COUNTIF('SCORE TABLE'!$H11:N11, 'SCORE TABLE'!N11) - 1","v":4},{"$f":"RANK('SCORE TABLE'!O11,'SCORE TABLE'!$H11:$AA11,0)+ COUNTIF('SCORE TABLE'!$H11:O11, 'SCORE TABLE'!O11) - 1","v":16},{"$f":"RANK('SCORE TABLE'!P11,'SCORE TABLE'!$H11:$AA11,0)+ COUNTIF('SCORE TABLE'!$H11:P11, 'SCORE TABLE'!P11) - 1","v":10},{"$f":"RANK('SCORE TABLE'!Q11,'SCORE TABLE'!$H11:$AA11,0)+ COUNTIF('SCORE TABLE'!$H11:Q11, 'SCORE TABLE'!Q11) - 1","v":15},{"$f":"RANK('SCORE TABLE'!R11,'SCORE TABLE'!$H11:$AA11,0)+ COUNTIF('SCORE TABLE'!$H11:R11, 'SCORE TABLE'!R11) - 1","v":12},{"$f":"RANK('SCORE TABLE'!S11,'SCORE TABLE'!$H11:$AA11,0)+ COUNTIF('SCORE TABLE'!$H11:S11, 'SCORE TABLE'!S11) - 1","v":17},{"$f":"RANK('SCORE TABLE'!T11,'SCORE TABLE'!$H11:$AA11,0)+ COUNTIF('SCORE TABLE'!$H11:T11, 'SCORE TABLE'!T11) - 1","v":18},{"$f":"RANK('SCORE TABLE'!U11,'SCORE TABLE'!$H11:$AA11,0)+ COUNTIF('SCORE TABLE'!$H11:U11, 'SCORE TABLE'!U11) - 1","v":14},{"$f":"RANK('SCORE TABLE'!V11,'SCORE TABLE'!$H11:$AA11,0)+ COUNTIF('SCORE TABLE'!$H11:V11, 'SCORE TABLE'!V11) - 1","v":1},{"$f":"RANK('SCORE TABLE'!W11,'SCORE TABLE'!$H11:$AA11,0)+ COUNTIF('SCORE TABLE'!$H11:W11, 'SCORE TABLE'!W11) - 1","v":11},{"$f":"RANK('SCORE TABLE'!X11,'SCORE TABLE'!$H11:$AA11,0)+ COUNTIF('SCORE TABLE'!$H11:X11, 'SCORE TABLE'!X11) - 1","v":6},{"$f":"RANK('SCORE TABLE'!Y11,'SCORE TABLE'!$H11:$AA11,0)+ COUNTIF('SCORE TABLE'!$H11:Y11, 'SCORE TABLE'!Y11) - 1","v":3},{"$f":"RANK('SCORE TABLE'!Z11,'SCORE TABLE'!$H11:$AA11,0)+ COUNTIF('SCORE TABLE'!$H11:Z11, 'SCORE TABLE'!Z11) - 1","v":20},{"$f":"RANK('SCORE TABLE'!AA11,'SCORE TABLE'!$H11:$AA11,0)+ COUNTIF('SCORE TABLE'!$H11:AA11, 'SCORE TABLE'!AA11) - 1","v":13}]
[null,1001,1.1000000000000001,"Obesity-related policy",{"$f":"RANK('SCORE TABLE'!H12,'SCORE TABLE'!$H12:$AA12,0)+ COUNTIF('SCORE TABLE'!$H12:H12, 'SCORE TABLE'!H12) - 1","v":5},{"$f":"RANK('SCORE TABLE'!I12,'SCORE TABLE'!$H12:$AA12,0)+ COUNTIF('SCORE TABLE'!$H12:I12, 'SCORE TABLE'!I12) - 1","v":7},{"$f":"RANK('SCORE TABLE'!J12,'SCORE TABLE'!$H12:$AA12,0)+ COUNTIF('SCORE TABLE'!$H12:J12, 'SCORE TABLE'!J12) - 1","v":19},{"$f":"RANK('SCORE TABLE'!K12,'SCORE TABLE'!$H12:$AA12,0)+ COUNTIF('SCORE TABLE'!$H12:K12, 'SCORE TABLE'!K12) - 1","v":8},{"$f":"RANK('SCORE TABLE'!L12,'SCORE TABLE'!$H12:$AA12,0)+ COUNTIF('SCORE TABLE'!$H12:L12, 'SCORE TABLE'!L12) - 1","v":9},{"$f":"RANK('SCORE TABLE'!M12,'SCORE TABLE'!$H12:$AA12,0)+ COUNTIF('SCORE TABLE'!$H12:M12, 'SCORE TABLE'!M12) - 1","v":2},{"$f":"RANK('SCORE TABLE'!N12,'SCORE TABLE'!$H12:$AA12,0)+ COUNTIF('SCORE TABLE'!$H12:N12, 'SCORE TABLE'!N12) - 1","v":4},{"$f":"RANK('SCORE TABLE'!O12,'SCORE TABLE'!$H12:$AA12,0)+ COUNTIF('SCORE TABLE'!$H12:O12, 'SCORE TABLE'!O12) - 1","v":16},{"$f":"RANK('SCORE TABLE'!P12,'SCORE TABLE'!$H12:$AA12,0)+ COUNTIF('SCORE TABLE'!$H12:P12, 'SCORE TABLE'!P12) - 1","v":10},{"$f":"RANK('SCORE TABLE'!Q12,'SCORE TABLE'!$H12:$AA12,0)+ COUNTIF('SCORE TABLE'!$H12:Q12, 'SCORE TABLE'!Q12) - 1","v":15},{"$f":"RANK('SCORE TABLE'!R12,'SCORE TABLE'!$H12:$AA12,0)+ COUNTIF('SCORE TABLE'!$H12:R12, 'SCORE TABLE'!R12) - 1","v":12},{"$f":"RANK('SCORE TABLE'!S12,'SCORE TABLE'!$H12:$AA12,0)+ COUNTIF('SCORE TABLE'!$H12:S12, 'SCORE TABLE'!S12) - 1","v":17},{"$f":"RANK('SCORE TABLE'!T12,'SCORE TABLE'!$H12:$AA12,0)+ COUNTIF('SCORE TABLE'!$H12:T12, 'SCORE TABLE'!T12) - 1","v":18},{"$f":"RANK('SCORE TABLE'!U12,'SCORE TABLE'!$H12:$AA12,0)+ COUNTIF('SCORE TABLE'!$H12:U12, 'SCORE TABLE'!U12) - 1","v":14},{"$f":"RANK('SCORE TABLE'!V12,'SCORE TABLE'!$H12:$AA12,0)+ COUNTIF('SCORE TABLE'!$H12:V12, 'SCORE TABLE'!V12) - 1","v":1},{"$f":"RANK('SCORE TABLE'!W12,'SCORE TABLE'!$H12:$AA12,0)+ COUNTIF('SCORE TABLE'!$H12:W12, 'SCORE TABLE'!W12) - 1","v":11},{"$f":"RANK('SCORE TABLE'!X12,'SCORE TABLE'!$H12:$AA12,0)+ COUNTIF('SCORE TABLE'!$H12:X12, 'SCORE TABLE'!X12) - 1","v":6},{"$f":"RANK('SCORE TABLE'!Y12,'SCORE TABLE'!$H12:$AA12,0)+ COUNTIF('SCORE TABLE'!$H12:Y12, 'SCORE TABLE'!Y12) - 1","v":3},{"$f":"RANK('SCORE TABLE'!Z12,'SCORE TABLE'!$H12:$AA12,0)+ COUNTIF('SCORE TABLE'!$H12:Z12, 'SCORE TABLE'!Z12) - 1","v":20},{"$f":"RANK('SCORE TABLE'!AA12,'SCORE TABLE'!$H12:$AA12,0)+ COUNTIF('SCORE TABLE'!$H12:AA12, 'SCORE TABLE'!AA12) - 1","v":13}]
[null,1002,"1.1.1","Health policy/strategy/plan that includes obesity",{"$f":"RANK('SCORE TABLE'!H13,'SCORE TABLE'!$H13:$AA13,0)+ COUNTIF('SCORE TABLE'!$H13:H13, 'SCORE TABLE'!H13) - 1","v":1},{"$f":"RANK('SCORE TABLE'!I13,'SCORE TABLE'!$H13:$AA13,0)+ COUNTIF('SCORE TABLE'!$H13:I13, 'SCORE TABLE'!I13) - 1","v":2},{"$f":"RANK('SCORE TABLE'!J13,'SCORE TABLE'!$H13:$AA13,0)+ COUNTIF('SCORE TABLE'!$H13:J13, 'SCORE TABLE'!J13) - 1","v":12},{"$f":"RANK('SCORE TABLE'!K13,'SCORE TABLE'!$H13:$AA13,0)+ COUNTIF('SCORE TABLE'!$H13:K13, 'SCORE TABLE'!K13) - 1","v":3},{"$f":"RANK('SCORE TABLE'!L13,'SCORE TABLE'!$H13:$AA13,0)+ COUNTIF('SCORE TABLE'!$H13:L13, 'SCORE TABLE'!L13) - 1","v":4},{"$f":"RANK('SCORE TABLE'!M13,'SCORE TABLE'!$H13:$AA13,0)+ COUNTIF('SCORE TABLE'!$H13:M13, 'SCORE TABLE'!M13) - 1","v":5},{"$f":"RANK('SCORE TABLE'!N13,'SCORE TABLE'!$H13:$AA13,0)+ COUNTIF('SCORE TABLE'!$H13:N13, 'SCORE TABLE'!N13) - 1","v":13},{"$f":"RANK('SCORE TABLE'!O13,'SCORE TABLE'!$H13:$AA13,0)+ COUNTIF('SCORE TABLE'!$H13:O13, 'SCORE TABLE'!O13) - 1","v":14},{"$f":"RANK('SCORE TABLE'!P13,'SCORE TABLE'!$H13:$AA13,0)+ COUNTIF('SCORE TABLE'!$H13:P13, 'SCORE TABLE'!P13) - 1","v":6},{"$f":"RANK('SCORE TABLE'!Q13,'SCORE TABLE'!$H13:$AA13,0)+ COUNTIF('SCORE TABLE'!$H13:Q13, 'SCORE TABLE'!Q13) - 1","v":7},{"$f":"RANK('SCORE TABLE'!R13,'SCORE TABLE'!$H13:$AA13,0)+ COUNTIF('SCORE TABLE'!$H13:R13, 'SCORE TABLE'!R13) - 1","v":15},{"$f":"RANK('SCORE TABLE'!S13,'SCORE TABLE'!$H13:$AA13,0)+ COUNTIF('SCORE TABLE'!$H13:S13, 'SCORE TABLE'!S13) - 1","v":16},{"$f":"RANK('SCORE TABLE'!T13,'SCORE TABLE'!$H13:$AA13,0)+ COUNTIF('SCORE TABLE'!$H13:T13, 'SCORE TABLE'!T13) - 1","v":17},{"$f":"RANK('SCORE TABLE'!U13,'SCORE TABLE'!$H13:$AA13,0)+ COUNTIF('SCORE TABLE'!$H13:U13, 'SCORE TABLE'!U13) - 1","v":18},{"$f":"RANK('SCORE TABLE'!V13,'SCORE TABLE'!$H13:$AA13,0)+ COUNTIF('SCORE TABLE'!$H13:V13, 'SCORE TABLE'!V13) - 1","v":8},{"$f":"RANK('SCORE TABLE'!W13,'SCORE TABLE'!$H13:$AA13,0)+ COUNTIF('SCORE TABLE'!$H13:W13, 'SCORE TABLE'!W13) - 1","v":19},{"$f":"RANK('SCORE TABLE'!X13,'SCORE TABLE'!$H13:$AA13,0)+ COUNTIF('SCORE TABLE'!$H13:X13, 'SCORE TABLE'!X13) - 1","v":9},{"$f":"RANK('SCORE TABLE'!Y13,'SCORE TABLE'!$H13:$AA13,0)+ COUNTIF('SCORE TABLE'!$H13:Y13, 'SCORE TABLE'!Y13) - 1","v":10},{"$f":"RANK('SCORE TABLE'!Z13,'SCORE TABLE'!$H13:$AA13,0)+ COUNTIF('SCORE TABLE'!$H13:Z13, 'SCORE TABLE'!Z13) - 1","v":20},{"$f":"RANK('SCORE TABLE'!AA13,'SCORE TABLE'!$H13:$AA13,0)+ COUNTIF('SCORE TABLE'!$H13:AA13, 'SCORE TABLE'!AA13) - 1","v":11}]
[null,1003,"1.1.2","Definition of obesity",{"$f":"RANK('SCORE TABLE'!H14,'SCORE TABLE'!$H14:$AA14,0)+ COUNTIF('SCORE TABLE'!$H14:H14, 'SCORE TABLE'!H14) - 1","v":1},{"$f":"RANK('SCORE TABLE'!I14,'SCORE TABLE'!$H14:$AA14,0)+ COUNTIF('SCORE TABLE'!$H14:I14, 'SCORE TABLE'!I14) - 1","v":2},{"$f":"RANK('SCORE TABLE'!J14,'SCORE TABLE'!$H14:$AA14,0)+ COUNTIF('SCORE TABLE'!$H14:J14, 'SCORE TABLE'!J14) - 1","v":3},{"$f":"RANK('SCORE TABLE'!K14,'SCORE TABLE'!$H14:$AA14,0)+ COUNTIF('SCORE TABLE'!$H14:K14, 'SCORE TABLE'!K14) - 1","v":4},{"$f":"RANK('SCORE TABLE'!L14,'SCORE TABLE'!$H14:$AA14,0)+ COUNTIF('SCORE TABLE'!$H14:L14, 'SCORE TABLE'!L14) - 1","v":14},{"$f":"RANK('SCORE TABLE'!M14,'SCORE TABLE'!$H14:$AA14,0)+ COUNTIF('SCORE TABLE'!$H14:M14, 'SCORE TABLE'!M14) - 1","v":5},{"$f":"RANK('SCORE TABLE'!N14,'SCORE TABLE'!$H14:$AA14,0)+ COUNTIF('SCORE TABLE'!$H14:N14, 'SCORE TABLE'!N14) - 1","v":15},{"$f":"RANK('SCORE TABLE'!O14,'SCORE TABLE'!$H14:$AA14,0)+ COUNTIF('SCORE TABLE'!$H14:O14, 'SCORE TABLE'!O14) - 1","v":6},{"$f":"RANK('SCORE TABLE'!P14,'SCORE TABLE'!$H14:$AA14,0)+ COUNTIF('SCORE TABLE'!$H14:P14, 'SCORE TABLE'!P14) - 1","v":7},{"$f":"RANK('SCORE TABLE'!Q14,'SCORE TABLE'!$H14:$AA14,0)+ COUNTIF('SCORE TABLE'!$H14:Q14, 'SCORE TABLE'!Q14) - 1","v":16},{"$f":"RANK('SCORE TABLE'!R14,'SCORE TABLE'!$H14:$AA14,0)+ COUNTIF('SCORE TABLE'!$H14:R14, 'SCORE TABLE'!R14) - 1","v":8},{"$f":"RANK('SCORE TABLE'!S14,'SCORE TABLE'!$H14:$AA14,0)+ COUNTIF('SCORE TABLE'!$H14:S14, 'SCORE TABLE'!S14) - 1","v":17},{"$f":"RANK('SCORE TABLE'!T14,'SCORE TABLE'!$H14:$AA14,0)+ COUNTIF('SCORE TABLE'!$H14:T14, 'SCORE TABLE'!T14) - 1","v":18},{"$f":"RANK('SCORE TABLE'!U14,'SCORE TABLE'!$H14:$AA14,0)+ COUNTIF('SCORE TABLE'!$H14:U14, 'SCORE TABLE'!U14) - 1","v":9},{"$f":"RANK('SCORE TABLE'!V14,'SCORE TABLE'!$H14:$AA14,0)+ COUNTIF('SCORE TABLE'!$H14:V14, 'SCORE TABLE'!V14) - 1","v":10},{"$f":"RANK('SCORE TABLE'!W14,'SCORE TABLE'!$H14:$AA14,0)+ COUNTIF('SCORE TABLE'!$H14:W14, 'SCORE TABLE'!W14) - 1","v":19},{"$f":"RANK('SCORE TABLE'!X14,'SCORE TABLE'!$H14:$AA14,0)+ COUNTIF('SCORE TABLE'!$H14:X14, 'SCORE TABLE'!X14) - 1","v":11},{"$f":"RANK('SCORE TABLE'!Y14,'SCORE TABLE'!$H14:$AA14,0)+ COUNTIF('SCORE TABLE'!$H14:Y14, 'SCORE TABLE'!Y14) - 1","v":12},{"$f":"RANK('SCORE TABLE'!Z14,'SCORE TABLE'!$H14:$AA14,0)+ COUNTIF('SCORE TABLE'!$H14:Z14, 'SCORE TABLE'!Z14) - 1","v":13},{"$f":"RANK('SCORE TABLE'!AA14,'SCORE TABLE'!$H14:$AA14,0)+ COUNTIF('SCORE TABLE'!$H14:AA14, 'SCORE TABLE'!AA14) - 1","v":20}]
[null,1004,"1.1.3","Obesity-related policy/strategy/plan",{"$f":"RANK('SCORE TABLE'!H15,'SCORE TABLE'!$H15:$AA15,0)+ COUNTIF('SCORE TABLE'!$H15:H15, 'SCORE TABLE'!H15) - 1","v":1},{"$f":"RANK('SCORE TABLE'!I15,'SCORE TABLE'!$H15:$AA15,0)+ COUNTIF('SCORE TABLE'!$H15:I15, 'SCORE TABLE'!I15) - 1","v":4},{"$f":"RANK('SCORE TABLE'!J15,'SCORE TABLE'!$H15:$AA15,0)+ COUNTIF('SCORE TABLE'!$H15:J15, 'SCORE TABLE'!J15) - 1","v":18},{"$f":"RANK('SCORE TABLE'!K15,'SCORE TABLE'!$H15:$AA15,0)+ COUNTIF('SCORE TABLE'!$H15:K15, 'SCORE TABLE'!K15) - 1","v":6},{"$f":"RANK('SCORE TABLE'!L15,'SCORE TABLE'!$H15:$AA15,0)+ COUNTIF('SCORE TABLE'!$H15:L15, 'SCORE TABLE'!L15) - 1","v":14},{"$f":"RANK('SCORE TABLE'!M15,'SCORE TABLE'!$H15:$AA15,0)+ COUNTIF('SCORE TABLE'!$H15:M15, 'SCORE TABLE'!M15) - 1","v":15},{"$f":"RANK('SCORE TABLE'!N15,'SCORE TABLE'!$H15:$AA15,0)+ COUNTIF('SCORE TABLE'!$H15:N15, 'SCORE TABLE'!N15) - 1","v":12},{"$f":"RANK('SCORE TABLE'!O15,'SCORE TABLE'!$H15:$AA15,0)+ COUNTIF('SCORE TABLE'!$H15:O15, 'SCORE TABLE'!O15) - 1","v":13},{"$f":"RANK('SCORE TABLE'!P15,'SCORE TABLE'!$H15:$AA15,0)+ COUNTIF('SCORE TABLE'!$H15:P15, 'SCORE TABLE'!P15) - 1","v":9},{"$f":"RANK('SCORE TABLE'!Q15,'SCORE TABLE'!$H15:$AA15,0)+ COUNTIF('SCORE TABLE'!$H15:Q15, 'SCORE TABLE'!Q15) - 1","v":19},{"$f":"RANK('SCORE TABLE'!R15,'SCORE TABLE'!$H15:$AA15,0)+ COUNTIF('SCORE TABLE'!$H15:R15, 'SCORE TABLE'!R15) - 1","v":16},{"$f":"RANK('SCORE TABLE'!S15,'SCORE TABLE'!$H15:$AA15,0)+ COUNTIF('SCORE TABLE'!$H15:S15, 'SCORE TABLE'!S15) - 1","v":7},{"$f":"RANK('SCORE TABLE'!T15,'SCORE TABLE'!$H15:$AA15,0)+ COUNTIF('SCORE TABLE'!$H15:T15, 'SCORE TABLE'!T15) - 1","v":11},{"$f":"RANK('SCORE TABLE'!U15,'SCORE TABLE'!$H15:$AA15,0)+ COUNTIF('SCORE TABLE'!$H15:U15, 'SCORE TABLE'!U15) - 1","v":10},{"$f":"RANK('SCORE TABLE'!V15,'SCORE TABLE'!$H15:$AA15,0)+ COUNTIF('SCORE TABLE'!$H15:V15, 'SCORE TABLE'!V15) - 1","v":2},{"$f":"RANK('SCORE TABLE'!W15,'SCORE TABLE'!$H15:$AA15,0)+ COUNTIF('SCORE TABLE'!$H15:W15, 'SCORE TABLE'!W15) - 1","v":5},{"$f":"RANK('SCORE TABLE'!X15,'SCORE TABLE'!$H15:$AA15,0)+ COUNTIF('SCORE TABLE'!$H15:X15, 'SCORE TABLE'!X15) - 1","v":3},{"$f":"RANK('SCORE TABLE'!Y15,'SCORE TABLE'!$H15:$AA15,0)+ COUNTIF('SCORE TABLE'!$H15:Y15, 'SCORE TABLE'!Y15) - 1","v":17},{"$f":"RANK('SCORE TABLE'!Z15,'SCORE TABLE'!$H15:$AA15,0)+ COUNTIF('SCORE TABLE'!$H15:Z15, 'SCORE TABLE'!Z15) - 1","v":20},{"$f":"RANK('SCORE TABLE'!AA15,'SCORE TABLE'!$H15:$AA15,0)+ COUNTIF('SCORE TABLE'!$H15:AA15, 'SCORE TABLE'!AA15) - 1","v":8}]
[null,1005,"1.1.3a","Existence of an obesity-related policy/strategy/plan",{"$f":"RANK('SCORE TABLE'!H16,'SCORE TABLE'!$H16:$AA16,0)+ COUNTIF('SCORE TABLE'!$H16:H16, 'SCORE TABLE'!H16) - 1","v":1},{"$f":"RANK('SCORE TABLE'!I16,'SCORE TABLE'!$H16:$AA16,0)+ COUNTIF('SCORE TABLE'!$H16:I16, 'SCORE TABLE'!I16) - 1","v":2},{"$f":"RANK('SCORE TABLE'!J16,'SCORE TABLE'!$H16:$AA16,0)+ COUNTIF('SCORE TABLE'!$H16:J16, 'SCORE TABLE'!J16) - 1","v":18},{"$f":"RANK('SCORE TABLE'!K16,'SCORE TABLE'!$H16:$AA16,0)+ COUNTIF('SCORE TABLE'!$H16:K16, 'SCORE TABLE'!K16) - 1","v":3},{"$f":"RANK('SCORE TABLE'!L16,'SCORE TABLE'!$H16:$AA16,0)+ COUNTIF('SCORE TABLE'!$H16:L16, 'SCORE TABLE'!L16) - 1","v":14},{"$f":"RANK('SCORE TABLE'!M16,'SCORE TABLE'!$H16:$AA16,0)+ COUNTIF('SCORE TABLE'!$H16:M16, 'SCORE TABLE'!M16) - 1","v":15},{"$f":"RANK('SCORE TABLE'!N16,'SCORE TABLE'!$H16:$AA16,0)+ COUNTIF('SCORE TABLE'!$H16:N16, 'SCORE TABLE'!N16) - 1","v":4},{"$f":"RANK('SCORE TABLE'!O16,'SCORE TABLE'!$H16:$AA16,0)+ COUNTIF('SCORE TABLE'!$H16:O16, 'SCORE TABLE'!O16) - 1","v":5},{"$f":"RANK('SCORE TABLE'!P16,'SCORE TABLE'!$H16:$AA16,0)+ COUNTIF('SCORE TABLE'!$H16:P16, 'SCORE TABLE'!P16) - 1","v":6},{"$f":"RANK('SCORE TABLE'!Q16,'SCORE TABLE'!$H16:$AA16,0)+ COUNTIF('SCORE TABLE'!$H16:Q16, 'SCORE TABLE'!Q16) - 1","v":19},{"$f":"RANK('SCORE TABLE'!R16,'SCORE TABLE'!$H16:$AA16,0)+ COUNTIF('SCORE TABLE'!$H16:R16, 'SCORE TABLE'!R16) - 1","v":16},{"$f":"RANK('SCORE TABLE'!S16,'SCORE TABLE'!$H16:$AA16,0)+ COUNTIF('SCORE TABLE'!$H16:S16, 'SCORE TABLE'!S16) - 1","v":7},{"$f":"RANK('SCORE TABLE'!T16,'SCORE TABLE'!$H16:$AA16,0)+ COUNTIF('SCORE TABLE'!$H16:T16, 'SCORE TABLE'!T16) - 1","v":8},{"$f":"RANK('SCORE TABLE'!U16,'SCORE TABLE'!$H16:$AA16,0)+ COUNTIF('SCORE TABLE'!$H16:U16, 'SCORE TABLE'!U16) - 1","v":9},{"$f":"RANK('SCORE TABLE'!V16,'SCORE TABLE'!$H16:$AA16,0)+ COUNTIF('SCORE TABLE'!$H16:V16, 'SCORE TABLE'!V16) - 1","v":10},{"$f":"RANK('SCORE TABLE'!W16,'SCORE TABLE'!$H16:$AA16,0)+ COUNTIF('SCORE TABLE'!$H16:W16, 'SCORE TABLE'!W16) - 1","v":11},{"$f":"RANK('SCORE TABLE'!X16,'SCORE TABLE'!$H16:$AA16,0)+ COUNTIF('SCORE TABLE'!$H16:X16, 'SCORE TABLE'!X16) - 1","v":12},{"$f":"RANK('SCORE TABLE'!Y16,'SCORE TABLE'!$H16:$AA16,0)+ COUNTIF('SCORE TABLE'!$H16:Y16, 'SCORE TABLE'!Y16) - 1","v":17},{"$f":"RANK('SCORE TABLE'!Z16,'SCORE TABLE'!$H16:$AA16,0)+ COUNTIF('SCORE TABLE'!$H16:Z16, 'SCORE TABLE'!Z16) - 1","v":20},{"$f":"RANK('SCORE TABLE'!AA16,'SCORE TABLE'!$H16:$AA16,0)+ COUNTIF('SCORE TABLE'!$H16:AA16, 'SCORE TABLE'!AA16) - 1","v":13}]
[null,1006,"1.1.3b","Engagement with stakeholders during development",{"$f":"RANK('SCORE TABLE'!H17,'SCORE TABLE'!$H17:$AA17,0)+ COUNTIF('SCORE TABLE'!$H17:H17, 'SCORE TABLE'!H17) - 1","v":2},{"$f":"RANK('SCORE TABLE'!I17,'SCORE TABLE'!$H17:$AA17,0)+ COUNTIF('SCORE TABLE'!$H17:I17, 'SCORE TABLE'!I17) - 1","v":1},{"$f":"RANK('SCORE TABLE'!J17,'SCORE TABLE'!$H17:$AA17,0)+ COUNTIF('SCORE TABLE'!$H17:J17, 'SCORE TABLE'!J17) - 1","v":11},{"$f":"RANK('SCORE TABLE'!K17,'SCORE TABLE'!$H17:$AA17,0)+ COUNTIF('SCORE TABLE'!$H17:K17, 'SCORE TABLE'!K17) - 1","v":3},{"$f":"RANK('SCORE TABLE'!L17,'SCORE TABLE'!$H17:$AA17,0)+ COUNTIF('SCORE TABLE'!$H17:L17, 'SCORE TABLE'!L17) - 1","v":12},{"$f":"RANK('SCORE TABLE'!M17,'SCORE TABLE'!$H17:$AA17,0)+ COUNTIF('SCORE TABLE'!$H17:M17, 'SCORE TABLE'!M17) - 1","v":13},{"$f":"RANK('SCORE TABLE'!N17,'SCORE TABLE'!$H17:$AA17,0)+ COUNTIF('SCORE TABLE'!$H17:N17, 'SCORE TABLE'!N17) - 1","v":4},{"$f":"RANK('SCORE TABLE'!O17,'SCORE TABLE'!$H17:$AA17,0)+ COUNTIF('SCORE TABLE'!$H17:O17, 'SCORE TABLE'!O17) - 1","v":14},{"$f":"RANK('SCORE TABLE'!P17,'SCORE TABLE'!$H17:$AA17,0)+ COUNTIF('SCORE TABLE'!$H17:P17, 'SCORE TABLE'!P17) - 1","v":5},{"$f":"RANK('SCORE TABLE'!Q17,'SCORE TABLE'!$H17:$AA17,0)+ COUNTIF('SCORE TABLE'!$H17:Q17, 'SCORE TABLE'!Q17) - 1","v":15},{"$f":"RANK('SCORE TABLE'!R17,'SCORE TABLE'!$H17:$AA17,0)+ COUNTIF('SCORE TABLE'!$H17:R17, 'SCORE TABLE'!R17) - 1","v":16},{"$f":"RANK('SCORE TABLE'!S17,'SCORE TABLE'!$H17:$AA17,0)+ COUNTIF('SCORE TABLE'!$H17:S17, 'SCORE TABLE'!S17) - 1","v":6},{"$f":"RANK('SCORE TABLE'!T17,'SCORE TABLE'!$H17:$AA17,0)+ COUNTIF('SCORE TABLE'!$H17:T17, 'SCORE TABLE'!T17) - 1","v":7},{"$f":"RANK('SCORE TABLE'!U17,'SCORE TABLE'!$H17:$AA17,0)+ COUNTIF('SCORE TABLE'!$H17:U17, 'SCORE TABLE'!U17) - 1","v":8},{"$f":"RANK('SCORE TABLE'!V17,'SCORE TABLE'!$H17:$AA17,0)+ COUNTIF('SCORE TABLE'!$H17:V17, 'SCORE TABLE'!V17) - 1","v":17},{"$f":"RANK('SCORE TABLE'!W17,'SCORE TABLE'!$H17:$AA17,0)+ COUNTIF('SCORE TABLE'!$H17:W17, 'SCORE TABLE'!W17) - 1","v":9},{"$f":"RANK('SCORE TABLE'!X17,'SCORE TABLE'!$H17:$AA17,0)+ COUNTIF('SCORE TABLE'!$H17:X17, 'SCORE TABLE'!X17) - 1","v":18},{"$f":"RANK('SCORE TABLE'!Y17,'SCORE TABLE'!$H17:$AA17,0)+ COUNTIF('SCORE TABLE'!$H17:Y17, 'SCORE TABLE'!Y17) - 1","v":19},{"$f":"RANK('SCORE TABLE'!Z17,'SCORE TABLE'!$H17:$AA17,0)+ COUNTIF('SCORE TABLE'!$H17:Z17, 'SCORE TABLE'!Z17) - 1","v":20},{"$f":"RANK('SCORE TABLE'!AA17,'SCORE TABLE'!$H17:$AA17,0)+ COUNTIF('SCORE TABLE'!$H17:AA17, 'SCORE TABLE'!AA17) - 1","v":10}]
[null,1007,"1.1.3c","Measures for obesity prevention",{"$f":"RANK('SCORE TABLE'!H18,'SCORE TABLE'!$H18:$AA18,0)+ COUNTIF('SCORE TABLE'!$H18:H18, 'SCORE TABLE'!H18) - 1","v":1},{"$f":"RANK('SCORE TABLE'!I18,'SCORE TABLE'!$H18:$AA18,0)+ COUNTIF('SCORE TABLE'!$H18:I18, 'SCORE TABLE'!I18) - 1","v":7},{"$f":"RANK('SCORE TABLE'!J18,'SCORE TABLE'!$H18:$AA18,0)+ COUNTIF('SCORE TABLE'!$H18:J18, 'SCORE TABLE'!J18) - 1","v":13},{"$f":"RANK('SCORE TABLE'!K18,'SCORE TABLE'!$H18:$AA18,0)+ COUNTIF('SCORE TABLE'!$H18:K18, 'SCORE TABLE'!K18) - 1","v":8},{"$f":"RANK('SCORE TABLE'!L18,'SCORE TABLE'!$H18:$AA18,0)+ COUNTIF('SCORE TABLE'!$H18:L18, 'SCORE TABLE'!L18) - 1","v":14},{"$f":"RANK('SCORE TABLE'!M18,'SCORE TABLE'!$H18:$AA18,0)+ COUNTIF('SCORE TABLE'!$H18:M18, 'SCORE TABLE'!M18) - 1","v":15},{"$f":"RANK('SCORE TABLE'!N18,'SCORE TABLE'!$H18:$AA18,0)+ COUNTIF('SCORE TABLE'!$H18:N18, 'SCORE TABLE'!N18) - 1","v":9},{"$f":"RANK('SCORE TABLE'!O18,'SCORE TABLE'!$H18:$AA18,0)+ COUNTIF('SCORE TABLE'!$H18:O18, 'SCORE TABLE'!O18) - 1","v":16},{"$f":"RANK('SCORE TABLE'!P18,'SCORE TABLE'!$H18:$AA18,0)+ COUNTIF('SCORE TABLE'!$H18:P18, 'SCORE TABLE'!P18) - 1","v":12},{"$f":"RANK('SCORE TABLE'!Q18,'SCORE TABLE'!$H18:$AA18,0)+ COUNTIF('SCORE TABLE'!$H18:Q18, 'SCORE TABLE'!Q18) - 1","v":17},{"$f":"RANK('SCORE TABLE'!R18,'SCORE TABLE'!$H18:$AA18,0)+ COUNTIF('SCORE TABLE'!$H18:R18, 'SCORE TABLE'!R18) - 1","v":18},{"$f":"RANK('SCORE TABLE'!S18,'SCORE TABLE'!$H18:$AA18,0)+ COUNTIF('SCORE TABLE'!$H18:S18, 'SCORE TABLE'!S18) - 1","v":2},{"$f":"RANK('SCORE TABLE'!T18,'SCORE TABLE'!$H18:$AA18,0)+ COUNTIF('SCORE TABLE'!$H18:T18, 'SCORE TABLE'!T18) - 1","v":3},{"$f":"RANK('SCORE TABLE'!U18,'SCORE TABLE'!$H18:$AA18,0)+ COUNTIF('SCORE TABLE'!$H18:U18, 'SCORE TABLE'!U18) - 1","v":10},{"$f":"RANK('SCORE TABLE'!V18,'SCORE TABLE'!$H18:$AA18,0)+ COUNTIF('SCORE TABLE'!$H18:V18, 'SCORE TABLE'!V18) - 1","v":4},{"$f":"RANK('SCORE TABLE'!W18,'SCORE TABLE'!$H18:$AA18,0)+ COUNTIF('SCORE TABLE'!$H18:W18, 'SCORE TABLE'!W18) - 1","v":5},{"$f":"RANK('SCORE TABLE'!X18,'SCORE TABLE'!$H18:$AA18,0)+ COUNTIF('SCORE TABLE'!$H18:X18, 'SCORE TABLE'!X18) - 1","v":6},{"$f":"RANK('SCORE TABLE'!Y18,'SCORE TABLE'!$H18:$AA18,0)+ COUNTIF('SCORE TABLE'!$H18:Y18, 'SCORE TABLE'!Y18) - 1","v":19},{"$f":"RANK('SCORE TABLE'!Z18,'SCORE TABLE'!$H18:$AA18,0)+ COUNTIF('SCORE TABLE'!$H18:Z18, 'SCORE TABLE'!Z18) - 1","v":20},{"$f":"RANK('SCORE TABLE'!AA18,'SCORE TABLE'!$H18:$AA18,0)+ COUNTIF('SCORE TABLE'!$H18:AA18, 'SCORE TABLE'!AA18) - 1","v":11}]
[null,1008,"1.1.3d","Measures for obesity management",{"$f":"RANK('SCORE TABLE'!H19,'SCORE TABLE'!$H19:$AA19,0)+ COUNTIF('SCORE TABLE'!$H19:H19, 'SCORE TABLE'!H19) - 1","v":1},{"$f":"RANK('SCORE TABLE'!I19,'SCORE TABLE'!$H19:$AA19,0)+ COUNTIF('SCORE TABLE'!$H19:I19, 'SCORE TABLE'!I19) - 1","v":9},{"$f":"RANK('SCORE TABLE'!J19,'SCORE TABLE'!$H19:$AA19,0)+ COUNTIF('SCORE TABLE'!$H19:J19, 'SCORE TABLE'!J19) - 1","v":10},{"$f":"RANK('SCORE TABLE'!K19,'SCORE TABLE'!$H19:$AA19,0)+ COUNTIF('SCORE TABLE'!$H19:K19, 'SCORE TABLE'!K19) - 1","v":5},{"$f":"RANK('SCORE TABLE'!L19,'SCORE TABLE'!$H19:$AA19,0)+ COUNTIF('SCORE TABLE'!$H19:L19, 'SCORE TABLE'!L19) - 1","v":11},{"$f":"RANK('SCORE TABLE'!M19,'SCORE TABLE'!$H19:$AA19,0)+ COUNTIF('SCORE TABLE'!$H19:M19, 'SCORE TABLE'!M19) - 1","v":12},{"$f":"RANK('SCORE TABLE'!N19,'SCORE TABLE'!$H19:$AA19,0)+ COUNTIF('SCORE TABLE'!$H19:N19, 'SCORE TABLE'!N19) - 1","v":13},{"$f":"RANK('SCORE TABLE'!O19,'SCORE TABLE'!$H19:$AA19,0)+ COUNTIF('SCORE TABLE'!$H19:O19, 'SCORE TABLE'!O19) - 1","v":14},{"$f":"RANK('SCORE TABLE'!P19,'SCORE TABLE'!$H19:$AA19,0)+ COUNTIF('SCORE TABLE'!$H19:P19, 'SCORE TABLE'!P19) - 1","v":7},{"$f":"RANK('SCORE TABLE'!Q19,'SCORE TABLE'!$H19:$AA19,0)+ COUNTIF('SCORE TABLE'!$H19:Q19, 'SCORE TABLE'!Q19) - 1","v":15},{"$f":"RANK('SCORE TABLE'!R19,'SCORE TABLE'!$H19:$AA19,0)+ COUNTIF('SCORE TABLE'!$H19:R19, 'SCORE TABLE'!R19) - 1","v":16},{"$f":"RANK('SCORE TABLE'!S19,'SCORE TABLE'!$H19:$AA19,0)+ COUNTIF('SCORE TABLE'!$H19:S19, 'SCORE TABLE'!S19) - 1","v":8},{"$f":"RANK('SCORE TABLE'!T19,'SCORE TABLE'!$H19:$AA19,0)+ COUNTIF('SCORE TABLE'!$H19:T19, 'SCORE TABLE'!T19) - 1","v":17},{"$f":"RANK('SCORE TABLE'!U19,'SCORE TABLE'!$H19:$AA19,0)+ COUNTIF('SCORE TABLE'!$H19:U19, 'SCORE TABLE'!U19) - 1","v":18},{"$f":"RANK('SCORE TABLE'!V19,'SCORE TABLE'!$H19:$AA19,0)+ COUNTIF('SCORE TABLE'!$H19:V19, 'SCORE TABLE'!V19) - 1","v":2},{"$f":"RANK('SCORE TABLE'!W19,'SCORE TABLE'!$H19:$AA19,0)+ COUNTIF('SCORE TABLE'!$H19:W19, 'SCORE TABLE'!W19) - 1","v":3},{"$f":"RANK('SCORE TABLE'!X19,'SCORE TABLE'!$H19:$AA19,0)+ COUNTIF('SCORE TABLE'!$H19:X19, 'SCORE TABLE'!X19) - 1","v":4},{"$f":"RANK('SCORE TABLE'!Y19,'SCORE TABLE'!$H19:$AA19,0)+ COUNTIF('SCORE TABLE'!$H19:Y19, 'SCORE TABLE'!Y19) - 1","v":19},{"$f":"RANK('SCORE TABLE'!Z19,'SCORE TABLE'!$H19:$AA19,0)+ COUNTIF('SCORE TABLE'!$H19:Z19, 'SCORE TABLE'!Z19) - 1","v":20},{"$f":"RANK('SCORE TABLE'!AA19,'SCORE TABLE'!$H19:$AA19,0)+ COUNTIF('SCORE TABLE'!$H19:AA19, 'SCORE TABLE'!AA19) - 1","v":6}]
[null,1009,"1.1.3e","Targets for obesity prevalence reduction",{"$f":"RANK('SCORE TABLE'!H20,'SCORE TABLE'!$H20:$AA20,0)+ COUNTIF('SCORE TABLE'!$H20:H20, 'SCORE TABLE'!H20) - 1","v":2},{"$f":"RANK('SCORE TABLE'!I20,'SCORE TABLE'!$H20:$AA20,0)+ COUNTIF('SCORE TABLE'!$H20:I20, 'SCORE TABLE'!I20) - 1","v":7},{"$f":"RANK('SCORE TABLE'!J20,'SCORE TABLE'!$H20:$AA20,0)+ COUNTIF('SCORE TABLE'!$H20:J20, 'SCORE TABLE'!J20) - 1","v":8},{"$f":"RANK('SCORE TABLE'!K20,'SCORE TABLE'!$H20:$AA20,0)+ COUNTIF('SCORE TABLE'!$H20:K20, 'SCORE TABLE'!K20) - 1","v":9},{"$f":"RANK('SCORE TABLE'!L20,'SCORE TABLE'!$H20:$AA20,0)+ COUNTIF('SCORE TABLE'!$H20:L20, 'SCORE TABLE'!L20) - 1","v":10},{"$f":"RANK('SCORE TABLE'!M20,'SCORE TABLE'!$H20:$AA20,0)+ COUNTIF('SCORE TABLE'!$H20:M20, 'SCORE TABLE'!M20) - 1","v":11},{"$f":"RANK('SCORE TABLE'!N20,'SCORE TABLE'!$H20:$AA20,0)+ COUNTIF('SCORE TABLE'!$H20:N20, 'SCORE TABLE'!N20) - 1","v":12},{"$f":"RANK('SCORE TABLE'!O20,'SCORE TABLE'!$H20:$AA20,0)+ COUNTIF('SCORE TABLE'!$H20:O20, 'SCORE TABLE'!O20) - 1","v":13},{"$f":"RANK('SCORE TABLE'!P20,'SCORE TABLE'!$H20:$AA20,0)+ COUNTIF('SCORE TABLE'!$H20:P20, 'SCORE TABLE'!P20) - 1","v":14},{"$f":"RANK('SCORE TABLE'!Q20,'SCORE TABLE'!$H20:$AA20,0)+ COUNTIF('SCORE TABLE'!$H20:Q20, 'SCORE TABLE'!Q20) - 1","v":15},{"$f":"RANK('SCORE TABLE'!R20,'SCORE TABLE'!$H20:$AA20,0)+ COUNTIF('SCORE TABLE'!$H20:R20, 'SCORE TABLE'!R20) - 1","v":16},{"$f":"RANK('SCORE TABLE'!S20,'SCORE TABLE'!$H20:$AA20,0)+ COUNTIF('SCORE TABLE'!$H20:S20, 'SCORE TABLE'!S20) - 1","v":1},{"$f":"RANK('SCORE TABLE'!T20,'SCORE TABLE'!$H20:$AA20,0)+ COUNTIF('SCORE TABLE'!$H20:T20, 'SCORE TABLE'!T20) - 1","v":3},{"$f":"RANK('SCORE TABLE'!U20,'SCORE TABLE'!$H20:$AA20,0)+ COUNTIF('SCORE TABLE'!$H20:U20, 'SCORE TABLE'!U20) - 1","v":4},{"$f":"RANK('SCORE TABLE'!V20,'SCORE TABLE'!$H20:$AA20,0)+ COUNTIF('SCORE TABLE'!$H20:V20, 'SCORE TABLE'!V20) - 1","v":5},{"$f":"RANK('SCORE TABLE'!W20,'SCORE TABLE'!$H20:$AA20,0)+ COUNTIF('SCORE TABLE'!$H20:W20, 'SCORE TABLE'!W20) - 1","v":17},{"$f":"RANK('SCORE TABLE'!X20,'SCORE TABLE'!$H20:$AA20,0)+ COUNTIF('SCORE TABLE'!$H20:X20, 'SCORE TABLE'!X20) - 1","v":6},{"$f":"RANK('SCORE TABLE'!Y20,'SCORE TABLE'!$H20:$AA20,0)+ COUNTIF('SCORE TABLE'!$H20:Y20, 'SCORE TABLE'!Y20) - 1","v":18},{"$f":"RANK('SCORE TABLE'!Z20,'SCORE TABLE'!$H20:$AA20,0)+ COUNTIF('SCORE TABLE'!$H20:Z20, 'SCORE TABLE'!Z20) - 1","v":19},{"$f":"RANK('SCORE TABLE'!AA20,'SCORE TABLE'!$H20:$AA20,0)+ COUNTIF('SCORE TABLE'!$H20:AA20, 'SCORE TABLE'!AA20) - 1","v":20}]
[null,1010,"1.1.3f","Focus on vulnerable groups",{"$f":"RANK('SCORE TABLE'!H21,'SCORE TABLE'!$H21:$AA21,0)+ COUNTIF('SCORE TABLE'!$H21:H21, 'SCORE TABLE'!H21) - 1","v":1},{"$f":"RANK('SCORE TABLE'!I21,'SCORE TABLE'!$H21:$AA21,0)+ COUNTIF('SCORE TABLE'!$H21:I21, 'SCORE TABLE'!I21) - 1","v":9},{"$f":"RANK('SCORE TABLE'!J21,'SCORE TABLE'!$H21:$AA21,0)+ COUNTIF('SCORE TABLE'!$H21:J21, 'SCORE TABLE'!J21) - 1","v":12},{"$f":"RANK('SCORE TABLE'!K21,'SCORE TABLE'!$H21:$AA21,0)+ COUNTIF('SCORE TABLE'!$H21:K21, 'SCORE TABLE'!K21) - 1","v":2},{"$f":"RANK('SCORE TABLE'!L21,'SCORE TABLE'!$H21:$AA21,0)+ COUNTIF('SCORE TABLE'!$H21:L21, 'SCORE TABLE'!L21) - 1","v":13},{"$f":"RANK('SCORE TABLE'!M21,'SCORE TABLE'!$H21:$AA21,0)+ COUNTIF('SCORE TABLE'!$H21:M21, 'SCORE TABLE'!M21) - 1","v":14},{"$f":"RANK('SCORE TABLE'!N21,'SCORE TABLE'!$H21:$AA21,0)+ COUNTIF('SCORE TABLE'!$H21:N21, 'SCORE TABLE'!N21) - 1","v":3},{"$f":"RANK('SCORE TABLE'!O21,'SCORE TABLE'!$H21:$AA21,0)+ COUNTIF('SCORE TABLE'!$H21:O21, 'SCORE TABLE'!O21) - 1","v":10},{"$f":"RANK('SCORE TABLE'!P21,'SCORE TABLE'!$H21:$AA21,0)+ COUNTIF('SCORE TABLE'!$H21:P21, 'SCORE TABLE'!P21) - 1","v":4},{"$f":"RANK('SCORE TABLE'!Q21,'SCORE TABLE'!$H21:$AA21,0)+ COUNTIF('SCORE TABLE'!$H21:Q21, 'SCORE TABLE'!Q21) - 1","v":15},{"$f":"RANK('SCORE TABLE'!R21,'SCORE TABLE'!$H21:$AA21,0)+ COUNTIF('SCORE TABLE'!$H21:R21, 'SCORE TABLE'!R21) - 1","v":16},{"$f":"RANK('SCORE TABLE'!S21,'SCORE TABLE'!$H21:$AA21,0)+ COUNTIF('SCORE TABLE'!$H21:S21, 'SCORE TABLE'!S21) - 1","v":17},{"$f":"RANK('SCORE TABLE'!T21,'SCORE TABLE'!$H21:$AA21,0)+ COUNTIF('SCORE TABLE'!$H21:T21, 'SCORE TABLE'!T21) - 1","v":11},{"$f":"RANK('SCORE TABLE'!U21,'SCORE TABLE'!$H21:$AA21,0)+ COUNTIF('SCORE TABLE'!$H21:U21, 'SCORE TABLE'!U21) - 1","v":5},{"$f":"RANK('SCORE TABLE'!V21,'SCORE TABLE'!$H21:$AA21,0)+ COUNTIF('SCORE TABLE'!$H21:V21, 'SCORE TABLE'!V21) - 1","v":6},{"$f":"RANK('SCORE TABLE'!W21,'SCORE TABLE'!$H21:$AA21,0)+ COUNTIF('SCORE TABLE'!$H21:W21, 'SCORE TABLE'!W21) - 1","v":18},{"$f":"RANK('SCORE TABLE'!X21,'SCORE TABLE'!$H21:$AA21,0)+ COUNTIF('SCORE TABLE'!$H21:X21, 'SCORE TABLE'!X21) - 1","v":7},{"$f":"RANK('SCORE TABLE'!Y21,'SCORE TABLE'!$H21:$AA21,0)+ COUNTIF('SCORE TABLE'!$H21:Y21, 'SCORE TABLE'!Y21) - 1","v":19},{"$f":"RANK('SCORE TABLE'!Z21,'SCORE TABLE'!$H21:$AA21,0)+ COUNTIF('SCORE TABLE'!$H21:Z21, 'SCORE TABLE'!Z21) - 1","v":20},{"$f":"RANK('SCORE TABLE'!AA21,'SCORE TABLE'!$H21:$AA21,0)+ COUNTIF('SCORE TABLE'!$H21:AA21, 'SCORE TABLE'!AA21) - 1","v":8}]
[null,1011,"1.1.3g","Obesity-related stigma and discrimination",{"$f":"RANK('SCORE TABLE'!H22,'SCORE TABLE'!$H22:$AA22,0)+ COUNTIF('SCORE TABLE'!$H22:H22, 'SCORE TABLE'!H22) - 1","v":1},{"$f":"RANK('SCORE TABLE'!I22,'SCORE TABLE'!$H22:$AA22,0)+ COUNTIF('SCORE TABLE'!$H22:I22, 'SCORE TABLE'!I22) - 1","v":2},{"$f":"RANK('SCORE TABLE'!J22,'SCORE TABLE'!$H22:$AA22,0)+ COUNTIF('SCORE TABLE'!$H22:J22, 'SCORE TABLE'!J22) - 1","v":6},{"$f":"RANK('SCORE TABLE'!K22,'SCORE TABLE'!$H22:$AA22,0)+ COUNTIF('SCORE TABLE'!$H22:K22, 'SCORE TABLE'!K22) - 1","v":7},{"$f":"RANK('SCORE TABLE'!L22,'SCORE TABLE'!$H22:$AA22,0)+ COUNTIF('SCORE TABLE'!$H22:L22, 'SCORE TABLE'!L22) - 1","v":8},{"$f":"RANK('SCORE TABLE'!M22,'SCORE TABLE'!$H22:$AA22,0)+ COUNTIF('SCORE TABLE'!$H22:M22, 'SCORE TABLE'!M22) - 1","v":9},{"$f":"RANK('SCORE TABLE'!N22,'SCORE TABLE'!$H22:$AA22,0)+ COUNTIF('SCORE TABLE'!$H22:N22, 'SCORE TABLE'!N22) - 1","v":10},{"$f":"RANK('SCORE TABLE'!O22,'SCORE TABLE'!$H22:$AA22,0)+ COUNTIF('SCORE TABLE'!$H22:O22, 'SCORE TABLE'!O22) - 1","v":11},{"$f":"RANK('SCORE TABLE'!P22,'SCORE TABLE'!$H22:$AA22,0)+ COUNTIF('SCORE TABLE'!$H22:P22, 'SCORE TABLE'!P22) - 1","v":3},{"$f":"RANK('SCORE TABLE'!Q22,'SCORE TABLE'!$H22:$AA22,0)+ COUNTIF('SCORE TABLE'!$H22:Q22, 'SCORE TABLE'!Q22) - 1","v":12},{"$f":"RANK('SCORE TABLE'!R22,'SCORE TABLE'!$H22:$AA22,0)+ COUNTIF('SCORE TABLE'!$H22:R22, 'SCORE TABLE'!R22) - 1","v":13},{"$f":"RANK('SCORE TABLE'!S22,'SCORE TABLE'!$H22:$AA22,0)+ COUNTIF('SCORE TABLE'!$H22:S22, 'SCORE TABLE'!S22) - 1","v":14},{"$f":"RANK('SCORE TABLE'!T22,'SCORE TABLE'!$H22:$AA22,0)+ COUNTIF('SCORE TABLE'!$H22:T22, 'SCORE TABLE'!T22) - 1","v":15},{"$f":"RANK('SCORE TABLE'!U22,'SCORE TABLE'!$H22:$AA22,0)+ COUNTIF('SCORE TABLE'!$H22:U22, 'SCORE TABLE'!U22) - 1","v":16},{"$f":"RANK('SCORE TABLE'!V22,'SCORE TABLE'!$H22:$AA22,0)+ COUNTIF('SCORE TABLE'!$H22:V22, 'SCORE TABLE'!V22) - 1","v":4},{"$f":"RANK('SCORE TABLE'!W22,'SCORE TABLE'!$H22:$AA22,0)+ COUNTIF('SCORE TABLE'!$H22:W22, 'SCORE TABLE'!W22) - 1","v":5},{"$f":"RANK('SCORE TABLE'!X22,'SCORE TABLE'!$H22:$AA22,0)+ COUNTIF('SCORE TABLE'!$H22:X22, 'SCORE TABLE'!X22) - 1","v":17},{"$f":"RANK('SCORE TABLE'!Y22,'SCORE TABLE'!$H22:$AA22,0)+ COUNTIF('SCORE TABLE'!$H22:Y22, 'SCORE TABLE'!Y22) - 1","v":18},{"$f":"RANK('SCORE TABLE'!Z22,'SCORE TABLE'!$H22:$AA22,0)+ COUNTIF('SCORE TABLE'!$H22:Z22, 'SCORE TABLE'!Z22) - 1","v":19},{"$f":"RANK('SCORE TABLE'!AA22,'SCORE TABLE'!$H22:$AA22,0)+ COUNTIF('SCORE TABLE'!$H22:AA22, 'SCORE TABLE'!AA22) - 1","v":20}]
[null,1012,"1.1.4","Obesity-related funding",{"$f":"RANK('SCORE TABLE'!H23,'SCORE TABLE'!$H23:$AA23,0)+ COUNTIF('SCORE TABLE'!$H23:H23, 'SCORE TABLE'!H23) - 1","v":4},{"$f":"RANK('SCORE TABLE'!I23,'SCORE TABLE'!$H23:$AA23,0)+ COUNTIF('SCORE TABLE'!$H23:I23, 'SCORE TABLE'!I23) - 1","v":5},{"$f":"RANK('SCORE TABLE'!J23,'SCORE TABLE'!$H23:$AA23,0)+ COUNTIF('SCORE TABLE'!$H23:J23, 'SCORE TABLE'!J23) - 1","v":6},{"$f":"RANK('SCORE TABLE'!K23,'SCORE TABLE'!$H23:$AA23,0)+ COUNTIF('SCORE TABLE'!$H23:K23, 'SCORE TABLE'!K23) - 1","v":7},{"$f":"RANK('SCORE TABLE'!L23,'SCORE TABLE'!$H23:$AA23,0)+ COUNTIF('SCORE TABLE'!$H23:L23, 'SCORE TABLE'!L23) - 1","v":8},{"$f":"RANK('SCORE TABLE'!M23,'SCORE TABLE'!$H23:$AA23,0)+ COUNTIF('SCORE TABLE'!$H23:M23, 'SCORE TABLE'!M23) - 1","v":9},{"$f":"RANK('SCORE TABLE'!N23,'SCORE TABLE'!$H23:$AA23,0)+ COUNTIF('SCORE TABLE'!$H23:N23, 'SCORE TABLE'!N23) - 1","v":1},{"$f":"RANK('SCORE TABLE'!O23,'SCORE TABLE'!$H23:$AA23,0)+ COUNTIF('SCORE TABLE'!$H23:O23, 'SCORE TABLE'!O23) - 1","v":10},{"$f":"RANK('SCORE TABLE'!P23,'SCORE TABLE'!$H23:$AA23,0)+ COUNTIF('SCORE TABLE'!$H23:P23, 'SCORE TABLE'!P23) - 1","v":11},{"$f":"RANK('SCORE TABLE'!Q23,'SCORE TABLE'!$H23:$AA23,0)+ COUNTIF('SCORE TABLE'!$H23:Q23, 'SCORE TABLE'!Q23) - 1","v":12},{"$f":"RANK('SCORE TABLE'!R23,'SCORE TABLE'!$H23:$AA23,0)+ COUNTIF('SCORE TABLE'!$H23:R23, 'SCORE TABLE'!R23) - 1","v":13},{"$f":"RANK('SCORE TABLE'!S23,'SCORE TABLE'!$H23:$AA23,0)+ COUNTIF('SCORE TABLE'!$H23:S23, 'SCORE TABLE'!S23) - 1","v":14},{"$f":"RANK('SCORE TABLE'!T23,'SCORE TABLE'!$H23:$AA23,0)+ COUNTIF('SCORE TABLE'!$H23:T23, 'SCORE TABLE'!T23) - 1","v":15},{"$f":"RANK('SCORE TABLE'!U23,'SCORE TABLE'!$H23:$AA23,0)+ COUNTIF('SCORE TABLE'!$H23:U23, 'SCORE TABLE'!U23) - 1","v":16},{"$f":"RANK('SCORE TABLE'!V23,'SCORE TABLE'!$H23:$AA23,0)+ COUNTIF('SCORE TABLE'!$H23:V23, 'SCORE TABLE'!V23) - 1","v":2},{"$f":"RANK('SCORE TABLE'!W23,'SCORE TABLE'!$H23:$AA23,0)+ COUNTIF('SCORE TABLE'!$H23:W23, 'SCORE TABLE'!W23) - 1","v":3},{"$f":"RANK('SCORE TABLE'!X23,'SCORE TABLE'!$H23:$AA23,0)+ COUNTIF('SCORE TABLE'!$H23:X23, 'SCORE TABLE'!X23) - 1","v":17},{"$f":"RANK('SCORE TABLE'!Y23,'SCORE TABLE'!$H23:$AA23,0)+ COUNTIF('SCORE TABLE'!$H23:Y23, 'SCORE TABLE'!Y23) - 1","v":18},{"$f":"RANK('SCORE TABLE'!Z23,'SCORE TABLE'!$H23:$AA23,0)+ COUNTIF('SCORE TABLE'!$H23:Z23, 'SCORE TABLE'!Z23) - 1","v":19},{"$f":"RANK('SCORE TABLE'!AA23,'SCORE TABLE'!$H23:$AA23,0)+ COUNTIF('SCORE TABLE'!$H23:AA23, 'SCORE TABLE'!AA23) - 1","v":20}]
[null,1013,"1.1.5","Weight-related discrimination",{"$f":"RANK('SCORE TABLE'!H24,'SCORE TABLE'!$H24:$AA24,0)+ COUNTIF('SCORE TABLE'!$H24:H24, 'SCORE TABLE'!H24) - 1","v":7},{"$f":"RANK('SCORE TABLE'!I24,'SCORE TABLE'!$H24:$AA24,0)+ COUNTIF('SCORE TABLE'!$H24:I24, 'SCORE TABLE'!I24) - 1","v":8},{"$f":"RANK('SCORE TABLE'!J24,'SCORE TABLE'!$H24:$AA24,0)+ COUNTIF('SCORE TABLE'!$H24:J24, 'SCORE TABLE'!J24) - 1","v":9},{"$f":"RANK('SCORE TABLE'!K24,'SCORE TABLE'!$H24:$AA24,0)+ COUNTIF('SCORE TABLE'!$H24:K24, 'SCORE TABLE'!K24) - 1","v":10},{"$f":"RANK('SCORE TABLE'!L24,'SCORE TABLE'!$H24:$AA24,0)+ COUNTIF('SCORE TABLE'!$H24:L24, 'SCORE TABLE'!L24) - 1","v":1},{"$f":"RANK('SCORE TABLE'!M24,'SCORE TABLE'!$H24:$AA24,0)+ COUNTIF('SCORE TABLE'!$H24:M24, 'SCORE TABLE'!M24) - 1","v":2},{"$f":"RANK('SCORE TABLE'!N24,'SCORE TABLE'!$H24:$AA24,0)+ COUNTIF('SCORE TABLE'!$H24:N24, 'SCORE TABLE'!N24) - 1","v":3},{"$f":"RANK('SCORE TABLE'!O24,'SCORE TABLE'!$H24:$AA24,0)+ COUNTIF('SCORE TABLE'!$H24:O24, 'SCORE TABLE'!O24) - 1","v":11},{"$f":"RANK('SCORE TABLE'!P24,'SCORE TABLE'!$H24:$AA24,0)+ COUNTIF('SCORE TABLE'!$H24:P24, 'SCORE TABLE'!P24) - 1","v":12},{"$f":"RANK('SCORE TABLE'!Q24,'SCORE TABLE'!$H24:$AA24,0)+ COUNTIF('SCORE TABLE'!$H24:Q24, 'SCORE TABLE'!Q24) - 1","v":13},{"$f":"RANK('SCORE TABLE'!R24,'SCORE TABLE'!$H24:$AA24,0)+ COUNTIF('SCORE TABLE'!$H24:R24, 'SCORE TABLE'!R24) - 1","v":4},{"$f":"RANK('SCORE TABLE'!S24,'SCORE TABLE'!$H24:$AA24,0)+ COUNTIF('SCORE TABLE'!$H24:S24, 'SCORE TABLE'!S24) - 1","v":14},{"$f":"RANK('SCORE TABLE'!T24,'SCORE TABLE'!$H24:$AA24,0)+ COUNTIF('SCORE TABLE'!$H24:T24, 'SCORE TABLE'!T24) - 1","v":15},{"$f":"RANK('SCORE TABLE'!U24,'SCORE TABLE'!$H24:$AA24,0)+ COUNTIF('SCORE TABLE'!$H24:U24, 'SCORE TABLE'!U24) - 1","v":16},{"$f":"RANK('SCORE TABLE'!V24,'SCORE TABLE'!$H24:$AA24,0)+ COUNTIF('SCORE TABLE'!$H24:V24, 'SCORE TABLE'!V24) - 1","v":5},{"$f":"RANK('SCORE TABLE'!W24,'SCORE TABLE'!$H24:$AA24,0)+ COUNTIF('SCORE TABLE'!$H24:W24, 'SCORE TABLE'!W24) - 1","v":17},{"$f":"RANK('SCORE TABLE'!X24,'SCORE TABLE'!$H24:$AA24,0)+ COUNTIF('SCORE TABLE'!$H24:X24, 'SCORE TABLE'!X24) - 1","v":18},{"$f":"RANK('SCORE TABLE'!Y24,'SCORE TABLE'!$H24:$AA24,0)+ COUNTIF('SCORE TABLE'!$H24:Y24, 'SCORE TABLE'!Y24) - 1","v":6},{"$f":"RANK('SCORE TABLE'!Z24,'SCORE TABLE'!$H24:$AA24,0)+ COUNTIF('SCORE TABLE'!$H24:Z24, 'SCORE TABLE'!Z24) - 1","v":19},{"$f":"RANK('SCORE TABLE'!AA24,'SCORE TABLE'!$H24:$AA24,0)+ COUNTIF('SCORE TABLE'!$H24:AA24, 'SCORE TABLE'!AA24) - 1","v":20}]
[null,1014,2,"Obesity management",{"$f":"RANK('SCORE TABLE'!H25,'SCORE TABLE'!$H25:$AA25,0)+ COUNTIF('SCORE TABLE'!$H25:H25, 'SCORE TABLE'!H25) - 1","v":10},{"$f":"RANK('SCORE TABLE'!I25,'SCORE TABLE'!$H25:$AA25,0)+ COUNTIF('SCORE TABLE'!$H25:I25, 'SCORE TABLE'!I25) - 1","v":2},{"$f":"RANK('SCORE TABLE'!J25,'SCORE TABLE'!$H25:$AA25,0)+ COUNTIF('SCORE TABLE'!$H25:J25, 'SCORE TABLE'!J25) - 1","v":15},{"$f":"RANK('SCORE TABLE'!K25,'SCORE TABLE'!$H25:$AA25,0)+ COUNTIF('SCORE TABLE'!$H25:K25, 'SCORE TABLE'!K25) - 1","v":13},{"$f":"RANK('SCORE TABLE'!L25,'SCORE TABLE'!$H25:$AA25,0)+ COUNTIF('SCORE TABLE'!$H25:L25, 'SCORE TABLE'!L25) - 1","v":3},{"$f":"RANK('SCORE TABLE'!M25,'SCORE TABLE'!$H25:$AA25,0)+ COUNTIF('SCORE TABLE'!$H25:M25, 'SCORE TABLE'!M25) - 1","v":5},{"$f":"RANK('SCORE TABLE'!N25,'SCORE TABLE'!$H25:$AA25,0)+ COUNTIF('SCORE TABLE'!$H25:N25, 'SCORE TABLE'!N25) - 1","v":7},{"$f":"RANK('SCORE TABLE'!O25,'SCORE TABLE'!$H25:$AA25,0)+ COUNTIF('SCORE TABLE'!$H25:O25, 'SCORE TABLE'!O25) - 1","v":18},{"$f":"RANK('SCORE TABLE'!P25,'SCORE TABLE'!$H25:$AA25,0)+ COUNTIF('SCORE TABLE'!$H25:P25, 'SCORE TABLE'!P25) - 1","v":11},{"$f":"RANK('SCORE TABLE'!Q25,'SCORE TABLE'!$H25:$AA25,0)+ COUNTIF('SCORE TABLE'!$H25:Q25, 'SCORE TABLE'!Q25) - 1","v":8},{"$f":"RANK('SCORE TABLE'!R25,'SCORE TABLE'!$H25:$AA25,0)+ COUNTIF('SCORE TABLE'!$H25:R25, 'SCORE TABLE'!R25) - 1","v":14},{"$f":"RANK('SCORE TABLE'!S25,'SCORE TABLE'!$H25:$AA25,0)+ COUNTIF('SCORE TABLE'!$H25:S25, 'SCORE TABLE'!S25) - 1","v":20},{"$f":"RANK('SCORE TABLE'!T25,'SCORE TABLE'!$H25:$AA25,0)+ COUNTIF('SCORE TABLE'!$H25:T25, 'SCORE TABLE'!T25) - 1","v":16},{"$f":"RANK('SCORE TABLE'!U25,'SCORE TABLE'!$H25:$AA25,0)+ COUNTIF('SCORE TABLE'!$H25:U25, 'SCORE TABLE'!U25) - 1","v":12},{"$f":"RANK('SCORE TABLE'!V25,'SCORE TABLE'!$H25:$AA25,0)+ COUNTIF('SCORE TABLE'!$H25:V25, 'SCORE TABLE'!V25) - 1","v":6},{"$f":"RANK('SCORE TABLE'!W25,'SCORE TABLE'!$H25:$AA25,0)+ COUNTIF('SCORE TABLE'!$H25:W25, 'SCORE TABLE'!W25) - 1","v":19},{"$f":"RANK('SCORE TABLE'!X25,'SCORE TABLE'!$H25:$AA25,0)+ COUNTIF('SCORE TABLE'!$H25:X25, 'SCORE TABLE'!X25) - 1","v":9},{"$f":"RANK('SCORE TABLE'!Y25,'SCORE TABLE'!$H25:$AA25,0)+ COUNTIF('SCORE TABLE'!$H25:Y25, 'SCORE TABLE'!Y25) - 1","v":17},{"$f":"RANK('SCORE TABLE'!Z25,'SCORE TABLE'!$H25:$AA25,0)+ COUNTIF('SCORE TABLE'!$H25:Z25, 'SCORE TABLE'!Z25) - 1","v":4},{"$f":"RANK('SCORE TABLE'!AA25,'SCORE TABLE'!$H25:$AA25,0)+ COUNTIF('SCORE TABLE'!$H25:AA25, 'SCORE TABLE'!AA25) - 1","v":1}]
[null,1015,2.1,"Obesity management guidelines",{"$f":"RANK('SCORE TABLE'!H26,'SCORE TABLE'!$H26:$AA26,0)+ COUNTIF('SCORE TABLE'!$H26:H26, 'SCORE TABLE'!H26) - 1","v":1},{"$f":"RANK('SCORE TABLE'!I26,'SCORE TABLE'!$H26:$AA26,0)+ COUNTIF('SCORE TABLE'!$H26:I26, 'SCORE TABLE'!I26) - 1","v":2},{"$f":"RANK('SCORE TABLE'!J26,'SCORE TABLE'!$H26:$AA26,0)+ COUNTIF('SCORE TABLE'!$H26:J26, 'SCORE TABLE'!J26) - 1","v":3},{"$f":"RANK('SCORE TABLE'!K26,'SCORE TABLE'!$H26:$AA26,0)+ COUNTIF('SCORE TABLE'!$H26:K26, 'SCORE TABLE'!K26) - 1","v":7},{"$f":"RANK('SCORE TABLE'!L26,'SCORE TABLE'!$H26:$AA26,0)+ COUNTIF('SCORE TABLE'!$H26:L26, 'SCORE TABLE'!L26) - 1","v":4},{"$f":"RANK('SCORE TABLE'!M26,'SCORE TABLE'!$H26:$AA26,0)+ COUNTIF('SCORE TABLE'!$H26:M26, 'SCORE TABLE'!M26) - 1","v":8},{"$f":"RANK('SCORE TABLE'!N26,'SCORE TABLE'!$H26:$AA26,0)+ COUNTIF('SCORE TABLE'!$H26:N26, 'SCORE TABLE'!N26) - 1","v":9},{"$f":"RANK('SCORE TABLE'!O26,'SCORE TABLE'!$H26:$AA26,0)+ COUNTIF('SCORE TABLE'!$H26:O26, 'SCORE TABLE'!O26) - 1","v":18},{"$f":"RANK('SCORE TABLE'!P26,'SCORE TABLE'!$H26:$AA26,0)+ COUNTIF('SCORE TABLE'!$H26:P26, 'SCORE TABLE'!P26) - 1","v":10},{"$f":"RANK('SCORE TABLE'!Q26,'SCORE TABLE'!$H26:$AA26,0)+ COUNTIF('SCORE TABLE'!$H26:Q26, 'SCORE TABLE'!Q26) - 1","v":11},{"$f":"RANK('SCORE TABLE'!R26,'SCORE TABLE'!$H26:$AA26,0)+ COUNTIF('SCORE TABLE'!$H26:R26, 'SCORE TABLE'!R26) - 1","v":12},{"$f":"RANK('SCORE TABLE'!S26,'SCORE TABLE'!$H26:$AA26,0)+ COUNTIF('SCORE TABLE'!$H26:S26, 'SCORE TABLE'!S26) - 1","v":19},{"$f":"RANK('SCORE TABLE'!T26,'SCORE TABLE'!$H26:$AA26,0)+ COUNTIF('SCORE TABLE'!$H26:T26, 'SCORE TABLE'!T26) - 1","v":16},{"$f":"RANK('SCORE TABLE'!U26,'SCORE TABLE'!$H26:$AA26,0)+ COUNTIF('SCORE TABLE'!$H26:U26, 'SCORE TABLE'!U26) - 1","v":13},{"$f":"RANK('SCORE TABLE'!V26,'SCORE TABLE'!$H26:$AA26,0)+ COUNTIF('SCORE TABLE'!$H26:V26, 'SCORE TABLE'!V26) - 1","v":14},{"$f":"RANK('SCORE TABLE'!W26,'SCORE TABLE'!$H26:$AA26,0)+ COUNTIF('SCORE TABLE'!$H26:W26, 'SCORE TABLE'!W26) - 1","v":20},{"$f":"RANK('SCORE TABLE'!X26,'SCORE TABLE'!$H26:$AA26,0)+ COUNTIF('SCORE TABLE'!$H26:X26, 'SCORE TABLE'!X26) - 1","v":15},{"$f":"RANK('SCORE TABLE'!Y26,'SCORE TABLE'!$H26:$AA26,0)+ COUNTIF('SCORE TABLE'!$H26:Y26, 'SCORE TABLE'!Y26) - 1","v":17},{"$f":"RANK('SCORE TABLE'!Z26,'SCORE TABLE'!$H26:$AA26,0)+ COUNTIF('SCORE TABLE'!$H26:Z26, 'SCORE TABLE'!Z26) - 1","v":5},{"$f":"RANK('SCORE TABLE'!AA26,'SCORE TABLE'!$H26:$AA26,0)+ COUNTIF('SCORE TABLE'!$H26:AA26, 'SCORE TABLE'!AA26) - 1","v":6}]
[null,1016,"2.1.1","Existence of obesity management guidelines",{"$f":"RANK('SCORE TABLE'!H27,'SCORE TABLE'!$H27:$AA27,0)+ COUNTIF('SCORE TABLE'!$H27:H27, 'SCORE TABLE'!H27) - 1","v":1},{"$f":"RANK('SCORE TABLE'!I27,'SCORE TABLE'!$H27:$AA27,0)+ COUNTIF('SCORE TABLE'!$H27:I27, 'SCORE TABLE'!I27) - 1","v":2},{"$f":"RANK('SCORE TABLE'!J27,'SCORE TABLE'!$H27:$AA27,0)+ COUNTIF('SCORE TABLE'!$H27:J27, 'SCORE TABLE'!J27) - 1","v":3},{"$f":"RANK('SCORE TABLE'!K27,'SCORE TABLE'!$H27:$AA27,0)+ COUNTIF('SCORE TABLE'!$H27:K27, 'SCORE TABLE'!K27) - 1","v":4},{"$f":"RANK('SCORE TABLE'!L27,'SCORE TABLE'!$H27:$AA27,0)+ COUNTIF('SCORE TABLE'!$H27:L27, 'SCORE TABLE'!L27) - 1","v":5},{"$f":"RANK('SCORE TABLE'!M27,'SCORE TABLE'!$H27:$AA27,0)+ COUNTIF('SCORE TABLE'!$H27:M27, 'SCORE TABLE'!M27) - 1","v":6},{"$f":"RANK('SCORE TABLE'!N27,'SCORE TABLE'!$H27:$AA27,0)+ COUNTIF('SCORE TABLE'!$H27:N27, 'SCORE TABLE'!N27) - 1","v":7},{"$f":"RANK('SCORE TABLE'!O27,'SCORE TABLE'!$H27:$AA27,0)+ COUNTIF('SCORE TABLE'!$H27:O27, 'SCORE TABLE'!O27) - 1","v":18},{"$f":"RANK('SCORE TABLE'!P27,'SCORE TABLE'!$H27:$AA27,0)+ COUNTIF('SCORE TABLE'!$H27:P27, 'SCORE TABLE'!P27) - 1","v":8},{"$f":"RANK('SCORE TABLE'!Q27,'SCORE TABLE'!$H27:$AA27,0)+ COUNTIF('SCORE TABLE'!$H27:Q27, 'SCORE TABLE'!Q27) - 1","v":9},{"$f":"RANK('SCORE TABLE'!R27,'SCORE TABLE'!$H27:$AA27,0)+ COUNTIF('SCORE TABLE'!$H27:R27, 'SCORE TABLE'!R27) - 1","v":10},{"$f":"RANK('SCORE TABLE'!S27,'SCORE TABLE'!$H27:$AA27,0)+ COUNTIF('SCORE TABLE'!$H27:S27, 'SCORE TABLE'!S27) - 1","v":19},{"$f":"RANK('SCORE TABLE'!T27,'SCORE TABLE'!$H27:$AA27,0)+ COUNTIF('SCORE TABLE'!$H27:T27, 'SCORE TABLE'!T27) - 1","v":11},{"$f":"RANK('SCORE TABLE'!U27,'SCORE TABLE'!$H27:$AA27,0)+ COUNTIF('SCORE TABLE'!$H27:U27, 'SCORE TABLE'!U27) - 1","v":12},{"$f":"RANK('SCORE TABLE'!V27,'SCORE TABLE'!$H27:$AA27,0)+ COUNTIF('SCORE TABLE'!$H27:V27, 'SCORE TABLE'!V27) - 1","v":13},{"$f":"RANK('SCORE TABLE'!W27,'SCORE TABLE'!$H27:$AA27,0)+ COUNTIF('SCORE TABLE'!$H27:W27, 'SCORE TABLE'!W27) - 1","v":20},{"$f":"RANK('SCORE TABLE'!X27,'SCORE TABLE'!$H27:$AA27,0)+ COUNTIF('SCORE TABLE'!$H27:X27, 'SCORE TABLE'!X27) - 1","v":14},{"$f":"RANK('SCORE TABLE'!Y27,'SCORE TABLE'!$H27:$AA27,0)+ COUNTIF('SCORE TABLE'!$H27:Y27, 'SCORE TABLE'!Y27) - 1","v":17},{"$f":"RANK('SCORE TABLE'!Z27,'SCORE TABLE'!$H27:$AA27,0)+ COUNTIF('SCORE TABLE'!$H27:Z27, 'SCORE TABLE'!Z27) - 1","v":15},{"$f":"RANK('SCORE TABLE'!AA27,'SCORE TABLE'!$H27:$AA27,0)+ COUNTIF('SCORE TABLE'!$H27:AA27, 'SCORE TABLE'!AA27) - 1","v":16}]
[null,1017,"2.1.2","Evidence-based obesity management guidelines",{"$f":"RANK('SCORE TABLE'!H28,'SCORE TABLE'!$H28:$AA28,0)+ COUNTIF('SCORE TABLE'!$H28:H28, 'SCORE TABLE'!H28) - 1","v":1},{"$f":"RANK('SCORE TABLE'!I28,'SCORE TABLE'!$H28:$AA28,0)+ COUNTIF('SCORE TABLE'!$H28:I28, 'SCORE TABLE'!I28) - 1","v":2},{"$f":"RANK('SCORE TABLE'!J28,'SCORE TABLE'!$H28:$AA28,0)+ COUNTIF('SCORE TABLE'!$H28:J28, 'SCORE TABLE'!J28) - 1","v":3},{"$f":"RANK('SCORE TABLE'!K28,'SCORE TABLE'!$H28:$AA28,0)+ COUNTIF('SCORE TABLE'!$H28:K28, 'SCORE TABLE'!K28) - 1","v":4},{"$f":"RANK('SCORE TABLE'!L28,'SCORE TABLE'!$H28:$AA28,0)+ COUNTIF('SCORE TABLE'!$H28:L28, 'SCORE TABLE'!L28) - 1","v":5},{"$f":"RANK('SCORE TABLE'!M28,'SCORE TABLE'!$H28:$AA28,0)+ COUNTIF('SCORE TABLE'!$H28:M28, 'SCORE TABLE'!M28) - 1","v":6},{"$f":"RANK('SCORE TABLE'!N28,'SCORE TABLE'!$H28:$AA28,0)+ COUNTIF('SCORE TABLE'!$H28:N28, 'SCORE TABLE'!N28) - 1","v":7},{"$f":"RANK('SCORE TABLE'!O28,'SCORE TABLE'!$H28:$AA28,0)+ COUNTIF('SCORE TABLE'!$H28:O28, 'SCORE TABLE'!O28) - 1","v":17},{"$f":"RANK('SCORE TABLE'!P28,'SCORE TABLE'!$H28:$AA28,0)+ COUNTIF('SCORE TABLE'!$H28:P28, 'SCORE TABLE'!P28) - 1","v":8},{"$f":"RANK('SCORE TABLE'!Q28,'SCORE TABLE'!$H28:$AA28,0)+ COUNTIF('SCORE TABLE'!$H28:Q28, 'SCORE TABLE'!Q28) - 1","v":9},{"$f":"RANK('SCORE TABLE'!R28,'SCORE TABLE'!$H28:$AA28,0)+ COUNTIF('SCORE TABLE'!$H28:R28, 'SCORE TABLE'!R28) - 1","v":10},{"$f":"RANK('SCORE TABLE'!S28,'SCORE TABLE'!$H28:$AA28,0)+ COUNTIF('SCORE TABLE'!$H28:S28, 'SCORE TABLE'!S28) - 1","v":18},{"$f":"RANK('SCORE TABLE'!T28,'SCORE TABLE'!$H28:$AA28,0)+ COUNTIF('SCORE TABLE'!$H28:T28, 'SCORE TABLE'!T28) - 1","v":11},{"$f":"RANK('SCORE TABLE'!U28,'SCORE TABLE'!$H28:$AA28,0)+ COUNTIF('SCORE TABLE'!$H28:U28, 'SCORE TABLE'!U28) - 1","v":12},{"$f":"RANK('SCORE TABLE'!V28,'SCORE TABLE'!$H28:$AA28,0)+ COUNTIF('SCORE TABLE'!$H28:V28, 'SCORE TABLE'!V28) - 1","v":13},{"$f":"RANK('SCORE TABLE'!W28,'SCORE TABLE'!$H28:$AA28,0)+ COUNTIF('SCORE TABLE'!$H28:W28, 'SCORE TABLE'!W28) - 1","v":19},{"$f":"RANK('SCORE TABLE'!X28,'SCORE TABLE'!$H28:$AA28,0)+ COUNTIF('SCORE TABLE'!$H28:X28, 'SCORE TABLE'!X28) - 1","v":14},{"$f":"RANK('SCORE TABLE'!Y28,'SCORE TABLE'!$H28:$AA28,0)+ COUNTIF('SCORE TABLE'!$H28:Y28, 'SCORE TABLE'!Y28) - 1","v":20},{"$f":"RANK('SCORE TABLE'!Z28,'SCORE TABLE'!$H28:$AA28,0)+ COUNTIF('SCORE TABLE'!$H28:Z28, 'SCORE TABLE'!Z28) - 1","v":15},{"$f":"RANK('SCORE TABLE'!AA28,'SCORE TABLE'!$H28:$AA28,0)+ COUNTIF('SCORE TABLE'!$H28:AA28, 'SCORE TABLE'!AA28) - 1","v":16}]
[null,1018,"2.1.3","Clinical and cost-effectiveness of obesity management interventions",{"$f":"RANK('SCORE TABLE'!H29,'SCORE TABLE'!$H29:$AA29,0)+ COUNTIF('SCORE TABLE'!$H29:H29, 'SCORE TABLE'!H29) - 1","v":1},{"$f":"RANK('SCORE TABLE'!I29,'SCORE TABLE'!$H29:$AA29,0)+ COUNTIF('SCORE TABLE'!$H29:I29, 'SCORE TABLE'!I29) - 1","v":2},{"$f":"RANK('SCORE TABLE'!J29,'SCORE TABLE'!$H29:$AA29,0)+ COUNTIF('SCORE TABLE'!$H29:J29, 'SCORE TABLE'!J29) - 1","v":3},{"$f":"RANK('SCORE TABLE'!K29,'SCORE TABLE'!$H29:$AA29,0)+ COUNTIF('SCORE TABLE'!$H29:K29, 'SCORE TABLE'!K29) - 1","v":7},{"$f":"RANK('SCORE TABLE'!L29,'SCORE TABLE'!$H29:$AA29,0)+ COUNTIF('SCORE TABLE'!$H29:L29, 'SCORE TABLE'!L29) - 1","v":4},{"$f":"RANK('SCORE TABLE'!M29,'SCORE TABLE'!$H29:$AA29,0)+ COUNTIF('SCORE TABLE'!$H29:M29, 'SCORE TABLE'!M29) - 1","v":8},{"$f":"RANK('SCORE TABLE'!N29,'SCORE TABLE'!$H29:$AA29,0)+ COUNTIF('SCORE TABLE'!$H29:N29, 'SCORE TABLE'!N29) - 1","v":9},{"$f":"RANK('SCORE TABLE'!O29,'SCORE TABLE'!$H29:$AA29,0)+ COUNTIF('SCORE TABLE'!$H29:O29, 'SCORE TABLE'!O29) - 1","v":16},{"$f":"RANK('SCORE TABLE'!P29,'SCORE TABLE'!$H29:$AA29,0)+ COUNTIF('SCORE TABLE'!$H29:P29, 'SCORE TABLE'!P29) - 1","v":10},{"$f":"RANK('SCORE TABLE'!Q29,'SCORE TABLE'!$H29:$AA29,0)+ COUNTIF('SCORE TABLE'!$H29:Q29, 'SCORE TABLE'!Q29) - 1","v":11},{"$f":"RANK('SCORE TABLE'!R29,'SCORE TABLE'!$H29:$AA29,0)+ COUNTIF('SCORE TABLE'!$H29:R29, 'SCORE TABLE'!R29) - 1","v":12},{"$f":"RANK('SCORE TABLE'!S29,'SCORE TABLE'!$H29:$AA29,0)+ COUNTIF('SCORE TABLE'!$H29:S29, 'SCORE TABLE'!S29) - 1","v":17},{"$f":"RANK('SCORE TABLE'!T29,'SCORE TABLE'!$H29:$AA29,0)+ COUNTIF('SCORE TABLE'!$H29:T29, 'SCORE TABLE'!T29) - 1","v":18},{"$f":"RANK('SCORE TABLE'!U29,'SCORE TABLE'!$H29:$AA29,0)+ COUNTIF('SCORE TABLE'!$H29:U29, 'SCORE TABLE'!U29) - 1","v":13},{"$f":"RANK('SCORE TABLE'!V29,'SCORE TABLE'!$H29:$AA29,0)+ COUNTIF('SCORE TABLE'!$H29:V29, 'SCORE TABLE'!V29) - 1","v":14},{"$f":"RANK('SCORE TABLE'!W29,'SCORE TABLE'!$H29:$AA29,0)+ COUNTIF('SCORE TABLE'!$H29:W29, 'SCORE TABLE'!W29) - 1","v":19},{"$f":"RANK('SCORE TABLE'!X29,'SCORE TABLE'!$H29:$AA29,0)+ COUNTIF('SCORE TABLE'!$H29:X29, 'SCORE TABLE'!X29) - 1","v":15},{"$f":"RANK('SCORE TABLE'!Y29,'SCORE TABLE'!$H29:$AA29,0)+ COUNTIF('SCORE TABLE'!$H29:Y29, 'SCORE TABLE'!Y29) - 1","v":20},{"$f":"RANK('SCORE TABLE'!Z29,'SCORE TABLE'!$H29:$AA29,0)+ COUNTIF('SCORE TABLE'!$H29:Z29, 'SCORE TABLE'!Z29) - 1","v":5},{"$f":"RANK('SCORE TABLE'!AA29,'SCORE TABLE'!$H29:$AA29,0)+ COUNTIF('SCORE TABLE'!$H29:AA29, 'SCORE TABLE'!AA29) - 1","v":6}]
[null,1019,2.2000000000000002,"Obesity diagnosis and referral pathways",{"$f":"RANK('SCORE TABLE'!H30,'SCORE TABLE'!$H30:$AA30,0)+ COUNTIF('SCORE TABLE'!$H30:H30, 'SCORE TABLE'!H30) - 1","v":15},{"$f":"RANK('SCORE TABLE'!I30,'SCORE TABLE'!$H30:$AA30,0)+ COUNTIF('SCORE TABLE'!$H30:I30, 'SCORE TABLE'!I30) - 1","v":1},{"$f":"RANK('SCORE TABLE'!J30,'SCORE TABLE'!$H30:$AA30,0)+ COUNTIF('SCORE TABLE'!$H30:J30, 'SCORE TABLE'!J30) - 1","v":16},{"$f":"RANK('SCORE TABLE'!K30,'SCORE TABLE'!$H30:$AA30,0)+ COUNTIF('SCORE TABLE'!$H30:K30, 'SCORE TABLE'!K30) - 1","v":2},{"$f":"RANK('SCORE TABLE'!L30,'SCORE TABLE'!$H30:$AA30,0)+ COUNTIF('SCORE TABLE'!$H30:L30, 'SCORE TABLE'!L30) - 1","v":3},{"$f":"RANK('SCORE TABLE'!M30,'SCORE TABLE'!$H30:$AA30,0)+ COUNTIF('SCORE TABLE'!$H30:M30, 'SCORE TABLE'!M30) - 1","v":4},{"$f":"RANK('SCORE TABLE'!N30,'SCORE TABLE'!$H30:$AA30,0)+ COUNTIF('SCORE TABLE'!$H30:N30, 'SCORE TABLE'!N30) - 1","v":5},{"$f":"RANK('SCORE TABLE'!O30,'SCORE TABLE'!$H30:$AA30,0)+ COUNTIF('SCORE TABLE'!$H30:O30, 'SCORE TABLE'!O30) - 1","v":17},{"$f":"RANK('SCORE TABLE'!P30,'SCORE TABLE'!$H30:$AA30,0)+ COUNTIF('SCORE TABLE'!$H30:P30, 'SCORE TABLE'!P30) - 1","v":6},{"$f":"RANK('SCORE TABLE'!Q30,'SCORE TABLE'!$H30:$AA30,0)+ COUNTIF('SCORE TABLE'!$H30:Q30, 'SCORE TABLE'!Q30) - 1","v":7},{"$f":"RANK('SCORE TABLE'!R30,'SCORE TABLE'!$H30:$AA30,0)+ COUNTIF('SCORE TABLE'!$H30:R30, 'SCORE TABLE'!R30) - 1","v":8},{"$f":"RANK('SCORE TABLE'!S30,'SCORE TABLE'!$H30:$AA30,0)+ COUNTIF('SCORE TABLE'!$H30:S30, 'SCORE TABLE'!S30) - 1","v":19},{"$f":"RANK('SCORE TABLE'!T30,'SCORE TABLE'!$H30:$AA30,0)+ COUNTIF('SCORE TABLE'!$H30:T30, 'SCORE TABLE'!T30) - 1","v":14},{"$f":"RANK('SCORE TABLE'!U30,'SCORE TABLE'!$H30:$AA30,0)+ COUNTIF('SCORE TABLE'!$H30:U30, 'SCORE TABLE'!U30) - 1","v":9},{"$f":"RANK('SCORE TABLE'!V30,'SCORE TABLE'!$H30:$AA30,0)+ COUNTIF('SCORE TABLE'!$H30:V30, 'SCORE TABLE'!V30) - 1","v":10},{"$f":"RANK('SCORE TABLE'!W30,'SCORE TABLE'!$H30:$AA30,0)+ COUNTIF('SCORE TABLE'!$H30:W30, 'SCORE TABLE'!W30) - 1","v":18},{"$f":"RANK('SCORE TABLE'!X30,'SCORE TABLE'!$H30:$AA30,0)+ COUNTIF('SCORE TABLE'!$H30:X30, 'SCORE TABLE'!X30) - 1","v":11},{"$f":"RANK('SCORE TABLE'!Y30,'SCORE TABLE'!$H30:$AA30,0)+ COUNTIF('SCORE TABLE'!$H30:Y30, 'SCORE TABLE'!Y30) - 1","v":20},{"$f":"RANK('SCORE TABLE'!Z30,'SCORE TABLE'!$H30:$AA30,0)+ COUNTIF('SCORE TABLE'!$H30:Z30, 'SCORE TABLE'!Z30) - 1","v":12},{"$f":"RANK('SCORE TABLE'!AA30,'SCORE TABLE'!$H30:$AA30,0)+ COUNTIF('SCORE TABLE'!$H30:AA30, 'SCORE TABLE'!AA30) - 1","v":13}]
[null,1020,"2.2.1","Obesity management pathway",{"$f":"RANK('SCORE TABLE'!H31,'SCORE TABLE'!$H31:$AA31,0)+ COUNTIF('SCORE TABLE'!$H31:H31, 'SCORE TABLE'!H31) - 1","v":16},{"$f":"RANK('SCORE TABLE'!I31,'SCORE TABLE'!$H31:$AA31,0)+ COUNTIF('SCORE TABLE'!$H31:I31, 'SCORE TABLE'!I31) - 1","v":1},{"$f":"RANK('SCORE TABLE'!J31,'SCORE TABLE'!$H31:$AA31,0)+ COUNTIF('SCORE TABLE'!$H31:J31, 'SCORE TABLE'!J31) - 1","v":2},{"$f":"RANK('SCORE TABLE'!K31,'SCORE TABLE'!$H31:$AA31,0)+ COUNTIF('SCORE TABLE'!$H31:K31, 'SCORE TABLE'!K31) - 1","v":3},{"$f":"RANK('SCORE TABLE'!L31,'SCORE TABLE'!$H31:$AA31,0)+ COUNTIF('SCORE TABLE'!$H31:L31, 'SCORE TABLE'!L31) - 1","v":4},{"$f":"RANK('SCORE TABLE'!M31,'SCORE TABLE'!$H31:$AA31,0)+ COUNTIF('SCORE TABLE'!$H31:M31, 'SCORE TABLE'!M31) - 1","v":5},{"$f":"RANK('SCORE TABLE'!N31,'SCORE TABLE'!$H31:$AA31,0)+ COUNTIF('SCORE TABLE'!$H31:N31, 'SCORE TABLE'!N31) - 1","v":6},{"$f":"RANK('SCORE TABLE'!O31,'SCORE TABLE'!$H31:$AA31,0)+ COUNTIF('SCORE TABLE'!$H31:O31, 'SCORE TABLE'!O31) - 1","v":17},{"$f":"RANK('SCORE TABLE'!P31,'SCORE TABLE'!$H31:$AA31,0)+ COUNTIF('SCORE TABLE'!$H31:P31, 'SCORE TABLE'!P31) - 1","v":7},{"$f":"RANK('SCORE TABLE'!Q31,'SCORE TABLE'!$H31:$AA31,0)+ COUNTIF('SCORE TABLE'!$H31:Q31, 'SCORE TABLE'!Q31) - 1","v":8},{"$f":"RANK('SCORE TABLE'!R31,'SCORE TABLE'!$H31:$AA31,0)+ COUNTIF('SCORE TABLE'!$H31:R31, 'SCORE TABLE'!R31) - 1","v":9},{"$f":"RANK('SCORE TABLE'!S31,'SCORE TABLE'!$H31:$AA31,0)+ COUNTIF('SCORE TABLE'!$H31:S31, 'SCORE TABLE'!S31) - 1","v":18},{"$f":"RANK('SCORE TABLE'!T31,'SCORE TABLE'!$H31:$AA31,0)+ COUNTIF('SCORE TABLE'!$H31:T31, 'SCORE TABLE'!T31) - 1","v":10},{"$f":"RANK('SCORE TABLE'!U31,'SCORE TABLE'!$H31:$AA31,0)+ COUNTIF('SCORE TABLE'!$H31:U31, 'SCORE TABLE'!U31) - 1","v":11},{"$f":"RANK('SCORE TABLE'!V31,'SCORE TABLE'!$H31:$AA31,0)+ COUNTIF('SCORE TABLE'!$H31:V31, 'SCORE TABLE'!V31) - 1","v":12},{"$f":"RANK('SCORE TABLE'!W31,'SCORE TABLE'!$H31:$AA31,0)+ COUNTIF('SCORE TABLE'!$H31:W31, 'SCORE TABLE'!W31) - 1","v":19},{"$f":"RANK('SCORE TABLE'!X31,'SCORE TABLE'!$H31:$AA31,0)+ COUNTIF('SCORE TABLE'!$H31:X31, 'SCORE TABLE'!X31) - 1","v":13},{"$f":"RANK('SCORE TABLE'!Y31,'SCORE TABLE'!$H31:$AA31,0)+ COUNTIF('SCORE TABLE'!$H31:Y31, 'SCORE TABLE'!Y31) - 1","v":20},{"$f":"RANK('SCORE TABLE'!Z31,'SCORE TABLE'!$H31:$AA31,0)+ COUNTIF('SCORE TABLE'!$H31:Z31, 'SCORE TABLE'!Z31) - 1","v":14},{"$f":"RANK('SCORE TABLE'!AA31,'SCORE TABLE'!$H31:$AA31,0)+ COUNTIF('SCORE TABLE'!$H31:AA31, 'SCORE TABLE'!AA31) - 1","v":15}]
[null,1021,"2.2.2","Obesity pathway in chronic disease management",{"$f":"RANK('SCORE TABLE'!H32,'SCORE TABLE'!$H32:$AA32,0)+ COUNTIF('SCORE TABLE'!$H32:H32, 'SCORE TABLE'!H32) - 1","v":1},{"$f":"RANK('SCORE TABLE'!I32,'SCORE TABLE'!$H32:$AA32,0)+ COUNTIF('SCORE TABLE'!$H32:I32, 'SCORE TABLE'!I32) - 1","v":2},{"$f":"RANK('SCORE TABLE'!J32,'SCORE TABLE'!$H32:$AA32,0)+ COUNTIF('SCORE TABLE'!$H32:J32, 'SCORE TABLE'!J32) - 1","v":18},{"$f":"RANK('SCORE TABLE'!K32,'SCORE TABLE'!$H32:$AA32,0)+ COUNTIF('SCORE TABLE'!$H32:K32, 'SCORE TABLE'!K32) - 1","v":3},{"$f":"RANK('SCORE TABLE'!L32,'SCORE TABLE'!$H32:$AA32,0)+ COUNTIF('SCORE TABLE'!$H32:L32, 'SCORE TABLE'!L32) - 1","v":4},{"$f":"RANK('SCORE TABLE'!M32,'SCORE TABLE'!$H32:$AA32,0)+ COUNTIF('SCORE TABLE'!$H32:M32, 'SCORE TABLE'!M32) - 1","v":5},{"$f":"RANK('SCORE TABLE'!N32,'SCORE TABLE'!$H32:$AA32,0)+ COUNTIF('SCORE TABLE'!$H32:N32, 'SCORE TABLE'!N32) - 1","v":6},{"$f":"RANK('SCORE TABLE'!O32,'SCORE TABLE'!$H32:$AA32,0)+ COUNTIF('SCORE TABLE'!$H32:O32, 'SCORE TABLE'!O32) - 1","v":7},{"$f":"RANK('SCORE TABLE'!P32,'SCORE TABLE'!$H32:$AA32,0)+ COUNTIF('SCORE TABLE'!$H32:P32, 'SCORE TABLE'!P32) - 1","v":8},{"$f":"RANK('SCORE TABLE'!Q32,'SCORE TABLE'!$H32:$AA32,0)+ COUNTIF('SCORE TABLE'!$H32:Q32, 'SCORE TABLE'!Q32) - 1","v":9},{"$f":"RANK('SCORE TABLE'!R32,'SCORE TABLE'!$H32:$AA32,0)+ COUNTIF('SCORE TABLE'!$H32:R32, 'SCORE TABLE'!R32) - 1","v":10},{"$f":"RANK('SCORE TABLE'!S32,'SCORE TABLE'!$H32:$AA32,0)+ COUNTIF('SCORE TABLE'!$H32:S32, 'SCORE TABLE'!S32) - 1","v":19},{"$f":"RANK('SCORE TABLE'!T32,'SCORE TABLE'!$H32:$AA32,0)+ COUNTIF('SCORE TABLE'!$H32:T32, 'SCORE TABLE'!T32) - 1","v":16},{"$f":"RANK('SCORE TABLE'!U32,'SCORE TABLE'!$H32:$AA32,0)+ COUNTIF('SCORE TABLE'!$H32:U32, 'SCORE TABLE'!U32) - 1","v":11},{"$f":"RANK('SCORE TABLE'!V32,'SCORE TABLE'!$H32:$AA32,0)+ COUNTIF('SCORE TABLE'!$H32:V32, 'SCORE TABLE'!V32) - 1","v":12},{"$f":"RANK('SCORE TABLE'!W32,'SCORE TABLE'!$H32:$AA32,0)+ COUNTIF('SCORE TABLE'!$H32:W32, 'SCORE TABLE'!W32) - 1","v":17},{"$f":"RANK('SCORE TABLE'!X32,'SCORE TABLE'!$H32:$AA32,0)+ COUNTIF('SCORE TABLE'!$H32:X32, 'SCORE TABLE'!X32) - 1","v":13},{"$f":"RANK('SCORE TABLE'!Y32,'SCORE TABLE'!$H32:$AA32,0)+ COUNTIF('SCORE TABLE'!$H32:Y32, 'SCORE TABLE'!Y32) - 1","v":20},{"$f":"RANK('SCORE TABLE'!Z32,'SCORE TABLE'!$H32:$AA32,0)+ COUNTIF('SCORE TABLE'!$H32:Z32, 'SCORE TABLE'!Z32) - 1","v":14},{"$f":"RANK('SCORE TABLE'!AA32,'SCORE TABLE'!$H32:$AA32,0)+ COUNTIF('SCORE TABLE'!$H32:AA32, 'SCORE TABLE'!AA32) - 1","v":15}]
[null,1022,2.2999999999999998,"Availability and affordability of obesity-related care",{"$f":"RANK('SCORE TABLE'!H33,'SCORE TABLE'!$H33:$AA33,0)+ COUNTIF('SCORE TABLE'!$H33:H33, 'SCORE TABLE'!H33) - 1","v":2},{"$f":"RANK('SCORE TABLE'!I33,'SCORE TABLE'!$H33:$AA33,0)+ COUNTIF('SCORE TABLE'!$H33:I33, 'SCORE TABLE'!I33) - 1","v":3},{"$f":"RANK('SCORE TABLE'!J33,'SCORE TABLE'!$H33:$AA33,0)+ COUNTIF('SCORE TABLE'!$H33:J33, 'SCORE TABLE'!J33) - 1","v":15},{"$f":"RANK('SCORE TABLE'!K33,'SCORE TABLE'!$H33:$AA33,0)+ COUNTIF('SCORE TABLE'!$H33:K33, 'SCORE TABLE'!K33) - 1","v":16},{"$f":"RANK('SCORE TABLE'!L33,'SCORE TABLE'!$H33:$AA33,0)+ COUNTIF('SCORE TABLE'!$H33:L33, 'SCORE TABLE'!L33) - 1","v":4},{"$f":"RANK('SCORE TABLE'!M33,'SCORE TABLE'!$H33:$AA33,0)+ COUNTIF('SCORE TABLE'!$H33:M33, 'SCORE TABLE'!M33) - 1","v":5},{"$f":"RANK('SCORE TABLE'!N33,'SCORE TABLE'!$H33:$AA33,0)+ COUNTIF('SCORE TABLE'!$H33:N33, 'SCORE TABLE'!N33) - 1","v":9},{"$f":"RANK('SCORE TABLE'!O33,'SCORE TABLE'!$H33:$AA33,0)+ COUNTIF('SCORE TABLE'!$H33:O33, 'SCORE TABLE'!O33) - 1","v":12},{"$f":"RANK('SCORE TABLE'!P33,'SCORE TABLE'!$H33:$AA33,0)+ COUNTIF('SCORE TABLE'!$H33:P33, 'SCORE TABLE'!P33) - 1","v":13},{"$f":"RANK('SCORE TABLE'!Q33,'SCORE TABLE'!$H33:$AA33,0)+ COUNTIF('SCORE TABLE'!$H33:Q33, 'SCORE TABLE'!Q33) - 1","v":10},{"$f":"RANK('SCORE TABLE'!R33,'SCORE TABLE'!$H33:$AA33,0)+ COUNTIF('SCORE TABLE'!$H33:R33, 'SCORE TABLE'!R33) - 1","v":17},{"$f":"RANK('SCORE TABLE'!S33,'SCORE TABLE'!$H33:$AA33,0)+ COUNTIF('SCORE TABLE'!$H33:S33, 'SCORE TABLE'!S33) - 1","v":18},{"$f":"RANK('SCORE TABLE'!T33,'SCORE TABLE'!$H33:$AA33,0)+ COUNTIF('SCORE TABLE'!$H33:T33, 'SCORE TABLE'!T33) - 1","v":19},{"$f":"RANK('SCORE TABLE'!U33,'SCORE TABLE'!$H33:$AA33,0)+ COUNTIF('SCORE TABLE'!$H33:U33, 'SCORE TABLE'!U33) - 1","v":14},{"$f":"RANK('SCORE TABLE'!V33,'SCORE TABLE'!$H33:$AA33,0)+ COUNTIF('SCORE TABLE'!$H33:V33, 'SCORE TABLE'!V33) - 1","v":6},{"$f":"RANK('SCORE TABLE'!W33,'SCORE TABLE'!$H33:$AA33,0)+ COUNTIF('SCORE TABLE'!$H33:W33, 'SCORE TABLE'!W33) - 1","v":20},{"$f":"RANK('SCORE TABLE'!X33,'SCORE TABLE'!$H33:$AA33,0)+ COUNTIF('SCORE TABLE'!$H33:X33, 'SCORE TABLE'!X33) - 1","v":11},{"$f":"RANK('SCORE TABLE'!Y33,'SCORE TABLE'!$H33:$AA33,0)+ COUNTIF('SCORE TABLE'!$H33:Y33, 'SCORE TABLE'!Y33) - 1","v":7},{"$f":"RANK('SCORE TABLE'!Z33,'SCORE TABLE'!$H33:$AA33,0)+ COUNTIF('SCORE TABLE'!$H33:Z33, 'SCORE TABLE'!Z33) - 1","v":8},{"$f":"RANK('SCORE TABLE'!AA33,'SCORE TABLE'!$H33:$AA33,0)+ COUNTIF('SCORE TABLE'!$H33:AA33, 'SCORE TABLE'!AA33) - 1","v":1}]
[null,1023,"2.3.1","Reimbursement/coverage of obesity care",{"$f":"RANK('SCORE TABLE'!H34,'SCORE TABLE'!$H34:$AA34,0)+ COUNTIF('SCORE TABLE'!$H34:H34, 'SCORE TABLE'!H34) - 1","v":2},{"$f":"RANK('SCORE TABLE'!I34,'SCORE TABLE'!$H34:$AA34,0)+ COUNTIF('SCORE TABLE'!$H34:I34, 'SCORE TABLE'!I34) - 1","v":3},{"$f":"RANK('SCORE TABLE'!J34,'SCORE TABLE'!$H34:$AA34,0)+ COUNTIF('SCORE TABLE'!$H34:J34, 'SCORE TABLE'!J34) - 1","v":15},{"$f":"RANK('SCORE TABLE'!K34,'SCORE TABLE'!$H34:$AA34,0)+ COUNTIF('SCORE TABLE'!$H34:K34, 'SCORE TABLE'!K34) - 1","v":16},{"$f":"RANK('SCORE TABLE'!L34,'SCORE TABLE'!$H34:$AA34,0)+ COUNTIF('SCORE TABLE'!$H34:L34, 'SCORE TABLE'!L34) - 1","v":4},{"$f":"RANK('SCORE TABLE'!M34,'SCORE TABLE'!$H34:$AA34,0)+ COUNTIF('SCORE TABLE'!$H34:M34, 'SCORE TABLE'!M34) - 1","v":5},{"$f":"RANK('SCORE TABLE'!N34,'SCORE TABLE'!$H34:$AA34,0)+ COUNTIF('SCORE TABLE'!$H34:N34, 'SCORE TABLE'!N34) - 1","v":9},{"$f":"RANK('SCORE TABLE'!O34,'SCORE TABLE'!$H34:$AA34,0)+ COUNTIF('SCORE TABLE'!$H34:O34, 'SCORE TABLE'!O34) - 1","v":12},{"$f":"RANK('SCORE TABLE'!P34,'SCORE TABLE'!$H34:$AA34,0)+ COUNTIF('SCORE TABLE'!$H34:P34, 'SCORE TABLE'!P34) - 1","v":13},{"$f":"RANK('SCORE TABLE'!Q34,'SCORE TABLE'!$H34:$AA34,0)+ COUNTIF('SCORE TABLE'!$H34:Q34, 'SCORE TABLE'!Q34) - 1","v":10},{"$f":"RANK('SCORE TABLE'!R34,'SCORE TABLE'!$H34:$AA34,0)+ COUNTIF('SCORE TABLE'!$H34:R34, 'SCORE TABLE'!R34) - 1","v":17},{"$f":"RANK('SCORE TABLE'!S34,'SCORE TABLE'!$H34:$AA34,0)+ COUNTIF('SCORE TABLE'!$H34:S34, 'SCORE TABLE'!S34) - 1","v":18},{"$f":"RANK('SCORE TABLE'!T34,'SCORE TABLE'!$H34:$AA34,0)+ COUNTIF('SCORE TABLE'!$H34:T34, 'SCORE TABLE'!T34) - 1","v":19},{"$f":"RANK('SCORE TABLE'!U34,'SCORE TABLE'!$H34:$AA34,0)+ COUNTIF('SCORE TABLE'!$H34:U34, 'SCORE TABLE'!U34) - 1","v":14},{"$f":"RANK('SCORE TABLE'!V34,'SCORE TABLE'!$H34:$AA34,0)+ COUNTIF('SCORE TABLE'!$H34:V34, 'SCORE TABLE'!V34) - 1","v":6},{"$f":"RANK('SCORE TABLE'!W34,'SCORE TABLE'!$H34:$AA34,0)+ COUNTIF('SCORE TABLE'!$H34:W34, 'SCORE TABLE'!W34) - 1","v":20},{"$f":"RANK('SCORE TABLE'!X34,'SCORE TABLE'!$H34:$AA34,0)+ COUNTIF('SCORE TABLE'!$H34:X34, 'SCORE TABLE'!X34) - 1","v":11},{"$f":"RANK('SCORE TABLE'!Y34,'SCORE TABLE'!$H34:$AA34,0)+ COUNTIF('SCORE TABLE'!$H34:Y34, 'SCORE TABLE'!Y34) - 1","v":7},{"$f":"RANK('SCORE TABLE'!Z34,'SCORE TABLE'!$H34:$AA34,0)+ COUNTIF('SCORE TABLE'!$H34:Z34, 'SCORE TABLE'!Z34) - 1","v":8},{"$f":"RANK('SCORE TABLE'!AA34,'SCORE TABLE'!$H34:$AA34,0)+ COUNTIF('SCORE TABLE'!$H34:AA34, 'SCORE TABLE'!AA34) - 1","v":1}]
[null,1024,3,"Food quality and access",{"$f":"RANK('SCORE TABLE'!H35,'SCORE TABLE'!$H35:$AA35,0)+ COUNTIF('SCORE TABLE'!$H35:H35, 'SCORE TABLE'!H35) - 1","v":14},{"$f":"RANK('SCORE TABLE'!I35,'SCORE TABLE'!$H35:$AA35,0)+ COUNTIF('SCORE TABLE'!$H35:I35, 'SCORE TABLE'!I35) - 1","v":5},{"$f":"RANK('SCORE TABLE'!J35,'SCORE TABLE'!$H35:$AA35,0)+ COUNTIF('SCORE TABLE'!$H35:J35, 'SCORE TABLE'!J35) - 1","v":12},{"$f":"RANK('SCORE TABLE'!K35,'SCORE TABLE'!$H35:$AA35,0)+ COUNTIF('SCORE TABLE'!$H35:K35, 'SCORE TABLE'!K35) - 1","v":11},{"$f":"RANK('SCORE TABLE'!L35,'SCORE TABLE'!$H35:$AA35,0)+ COUNTIF('SCORE TABLE'!$H35:L35, 'SCORE TABLE'!L35) - 1","v":8},{"$f":"RANK('SCORE TABLE'!M35,'SCORE TABLE'!$H35:$AA35,0)+ COUNTIF('SCORE TABLE'!$H35:M35, 'SCORE TABLE'!M35) - 1","v":4},{"$f":"RANK('SCORE TABLE'!N35,'SCORE TABLE'!$H35:$AA35,0)+ COUNTIF('SCORE TABLE'!$H35:N35, 'SCORE TABLE'!N35) - 1","v":13},{"$f":"RANK('SCORE TABLE'!O35,'SCORE TABLE'!$H35:$AA35,0)+ COUNTIF('SCORE TABLE'!$H35:O35, 'SCORE TABLE'!O35) - 1","v":17},{"$f":"RANK('SCORE TABLE'!P35,'SCORE TABLE'!$H35:$AA35,0)+ COUNTIF('SCORE TABLE'!$H35:P35, 'SCORE TABLE'!P35) - 1","v":9},{"$f":"RANK('SCORE TABLE'!Q35,'SCORE TABLE'!$H35:$AA35,0)+ COUNTIF('SCORE TABLE'!$H35:Q35, 'SCORE TABLE'!Q35) - 1","v":16},{"$f":"RANK('SCORE TABLE'!R35,'SCORE TABLE'!$H35:$AA35,0)+ COUNTIF('SCORE TABLE'!$H35:R35, 'SCORE TABLE'!R35) - 1","v":2},{"$f":"RANK('SCORE TABLE'!S35,'SCORE TABLE'!$H35:$AA35,0)+ COUNTIF('SCORE TABLE'!$H35:S35, 'SCORE TABLE'!S35) - 1","v":20},{"$f":"RANK('SCORE TABLE'!T35,'SCORE TABLE'!$H35:$AA35,0)+ COUNTIF('SCORE TABLE'!$H35:T35, 'SCORE TABLE'!T35) - 1","v":18},{"$f":"RANK('SCORE TABLE'!U35,'SCORE TABLE'!$H35:$AA35,0)+ COUNTIF('SCORE TABLE'!$H35:U35, 'SCORE TABLE'!U35) - 1","v":19},{"$f":"RANK('SCORE TABLE'!V35,'SCORE TABLE'!$H35:$AA35,0)+ COUNTIF('SCORE TABLE'!$H35:V35, 'SCORE TABLE'!V35) - 1","v":15},{"$f":"RANK('SCORE TABLE'!W35,'SCORE TABLE'!$H35:$AA35,0)+ COUNTIF('SCORE TABLE'!$H35:W35, 'SCORE TABLE'!W35) - 1","v":7},{"$f":"RANK('SCORE TABLE'!X35,'SCORE TABLE'!$H35:$AA35,0)+ COUNTIF('SCORE TABLE'!$H35:X35, 'SCORE TABLE'!X35) - 1","v":6},{"$f":"RANK('SCORE TABLE'!Y35,'SCORE TABLE'!$H35:$AA35,0)+ COUNTIF('SCORE TABLE'!$H35:Y35, 'SCORE TABLE'!Y35) - 1","v":3},{"$f":"RANK('SCORE TABLE'!Z35,'SCORE TABLE'!$H35:$AA35,0)+ COUNTIF('SCORE TABLE'!$H35:Z35, 'SCORE TABLE'!Z35) - 1","v":10},{"$f":"RANK('SCORE TABLE'!AA35,'SCORE TABLE'!$H35:$AA35,0)+ COUNTIF('SCORE TABLE'!$H35:AA35, 'SCORE TABLE'!AA35) - 1","v":1}]
[null,1025,3.1,"Food access and affordability",{"$f":"RANK('SCORE TABLE'!H36,'SCORE TABLE'!$H36:$AA36,0)+ COUNTIF('SCORE TABLE'!$H36:H36, 'SCORE TABLE'!H36) - 1","v":15},{"$f":"RANK('SCORE TABLE'!I36,'SCORE TABLE'!$H36:$AA36,0)+ COUNTIF('SCORE TABLE'!$H36:I36, 'SCORE TABLE'!I36) - 1","v":9},{"$f":"RANK('SCORE TABLE'!J36,'SCORE TABLE'!$H36:$AA36,0)+ COUNTIF('SCORE TABLE'!$H36:J36, 'SCORE TABLE'!J36) - 1","v":5},{"$f":"RANK('SCORE TABLE'!K36,'SCORE TABLE'!$H36:$AA36,0)+ COUNTIF('SCORE TABLE'!$H36:K36, 'SCORE TABLE'!K36) - 1","v":16},{"$f":"RANK('SCORE TABLE'!L36,'SCORE TABLE'!$H36:$AA36,0)+ COUNTIF('SCORE TABLE'!$H36:L36, 'SCORE TABLE'!L36) - 1","v":14},{"$f":"RANK('SCORE TABLE'!M36,'SCORE TABLE'!$H36:$AA36,0)+ COUNTIF('SCORE TABLE'!$H36:M36, 'SCORE TABLE'!M36) - 1","v":4},{"$f":"RANK('SCORE TABLE'!N36,'SCORE TABLE'!$H36:$AA36,0)+ COUNTIF('SCORE TABLE'!$H36:N36, 'SCORE TABLE'!N36) - 1","v":1},{"$f":"RANK('SCORE TABLE'!O36,'SCORE TABLE'!$H36:$AA36,0)+ COUNTIF('SCORE TABLE'!$H36:O36, 'SCORE TABLE'!O36) - 1","v":19},{"$f":"RANK('SCORE TABLE'!P36,'SCORE TABLE'!$H36:$AA36,0)+ COUNTIF('SCORE TABLE'!$H36:P36, 'SCORE TABLE'!P36) - 1","v":3},{"$f":"RANK('SCORE TABLE'!Q36,'SCORE TABLE'!$H36:$AA36,0)+ COUNTIF('SCORE TABLE'!$H36:Q36, 'SCORE TABLE'!Q36) - 1","v":13},{"$f":"RANK('SCORE TABLE'!R36,'SCORE TABLE'!$H36:$AA36,0)+ COUNTIF('SCORE TABLE'!$H36:R36, 'SCORE TABLE'!R36) - 1","v":8},{"$f":"RANK('SCORE TABLE'!S36,'SCORE TABLE'!$H36:$AA36,0)+ COUNTIF('SCORE TABLE'!$H36:S36, 'SCORE TABLE'!S36) - 1","v":18},{"$f":"RANK('SCORE TABLE'!T36,'SCORE TABLE'!$H36:$AA36,0)+ COUNTIF('SCORE TABLE'!$H36:T36, 'SCORE TABLE'!T36) - 1","v":11},{"$f":"RANK('SCORE TABLE'!U36,'SCORE TABLE'!$H36:$AA36,0)+ COUNTIF('SCORE TABLE'!$H36:U36, 'SCORE TABLE'!U36) - 1","v":20},{"$f":"RANK('SCORE TABLE'!V36,'SCORE TABLE'!$H36:$AA36,0)+ COUNTIF('SCORE TABLE'!$H36:V36, 'SCORE TABLE'!V36) - 1","v":17},{"$f":"RANK('SCORE TABLE'!W36,'SCORE TABLE'!$H36:$AA36,0)+ COUNTIF('SCORE TABLE'!$H36:W36, 'SCORE TABLE'!W36) - 1","v":10},{"$f":"RANK('SCORE TABLE'!X36,'SCORE TABLE'!$H36:$AA36,0)+ COUNTIF('SCORE TABLE'!$H36:X36, 'SCORE TABLE'!X36) - 1","v":6},{"$f":"RANK('SCORE TABLE'!Y36,'SCORE TABLE'!$H36:$AA36,0)+ COUNTIF('SCORE TABLE'!$H36:Y36, 'SCORE TABLE'!Y36) - 1","v":7},{"$f":"RANK('SCORE TABLE'!Z36,'SCORE TABLE'!$H36:$AA36,0)+ COUNTIF('SCORE TABLE'!$H36:Z36, 'SCORE TABLE'!Z36) - 1","v":12},{"$f":"RANK('SCORE TABLE'!AA36,'SCORE TABLE'!$H36:$AA36,0)+ COUNTIF('SCORE TABLE'!$H36:AA36, 'SCORE TABLE'!AA36) - 1","v":2}]
[null,1026,"3.1.1","Level of food security",{"$f":"RANK('SCORE TABLE'!H37,'SCORE TABLE'!$H37:$AA37,0)+ COUNTIF('SCORE TABLE'!$H37:H37, 'SCORE TABLE'!H37) - 1","v":11},{"$f":"RANK('SCORE TABLE'!I37,'SCORE TABLE'!$H37:$AA37,0)+ COUNTIF('SCORE TABLE'!$H37:I37, 'SCORE TABLE'!I37) - 1","v":13},{"$f":"RANK('SCORE TABLE'!J37,'SCORE TABLE'!$H37:$AA37,0)+ COUNTIF('SCORE TABLE'!$H37:J37, 'SCORE TABLE'!J37) - 1","v":8},{"$f":"RANK('SCORE TABLE'!K37,'SCORE TABLE'!$H37:$AA37,0)+ COUNTIF('SCORE TABLE'!$H37:K37, 'SCORE TABLE'!K37) - 1","v":18},{"$f":"RANK('SCORE TABLE'!L37,'SCORE TABLE'!$H37:$AA37,0)+ COUNTIF('SCORE TABLE'!$H37:L37, 'SCORE TABLE'!L37) - 1","v":10},{"$f":"RANK('SCORE TABLE'!M37,'SCORE TABLE'!$H37:$AA37,0)+ COUNTIF('SCORE TABLE'!$H37:M37, 'SCORE TABLE'!M37) - 1","v":7},{"$f":"RANK('SCORE TABLE'!N37,'SCORE TABLE'!$H37:$AA37,0)+ COUNTIF('SCORE TABLE'!$H37:N37, 'SCORE TABLE'!N37) - 1","v":2},{"$f":"RANK('SCORE TABLE'!O37,'SCORE TABLE'!$H37:$AA37,0)+ COUNTIF('SCORE TABLE'!$H37:O37, 'SCORE TABLE'!O37) - 1","v":19},{"$f":"RANK('SCORE TABLE'!P37,'SCORE TABLE'!$H37:$AA37,0)+ COUNTIF('SCORE TABLE'!$H37:P37, 'SCORE TABLE'!P37) - 1","v":1},{"$f":"RANK('SCORE TABLE'!Q37,'SCORE TABLE'!$H37:$AA37,0)+ COUNTIF('SCORE TABLE'!$H37:Q37, 'SCORE TABLE'!Q37) - 1","v":3},{"$f":"RANK('SCORE TABLE'!R37,'SCORE TABLE'!$H37:$AA37,0)+ COUNTIF('SCORE TABLE'!$H37:R37, 'SCORE TABLE'!R37) - 1","v":16},{"$f":"RANK('SCORE TABLE'!S37,'SCORE TABLE'!$H37:$AA37,0)+ COUNTIF('SCORE TABLE'!$H37:S37, 'SCORE TABLE'!S37) - 1","v":17},{"$f":"RANK('SCORE TABLE'!T37,'SCORE TABLE'!$H37:$AA37,0)+ COUNTIF('SCORE TABLE'!$H37:T37, 'SCORE TABLE'!T37) - 1","v":15},{"$f":"RANK('SCORE TABLE'!U37,'SCORE TABLE'!$H37:$AA37,0)+ COUNTIF('SCORE TABLE'!$H37:U37, 'SCORE TABLE'!U37) - 1","v":20},{"$f":"RANK('SCORE TABLE'!V37,'SCORE TABLE'!$H37:$AA37,0)+ COUNTIF('SCORE TABLE'!$H37:V37, 'SCORE TABLE'!V37) - 1","v":12},{"$f":"RANK('SCORE TABLE'!W37,'SCORE TABLE'!$H37:$AA37,0)+ COUNTIF('SCORE TABLE'!$H37:W37, 'SCORE TABLE'!W37) - 1","v":14},{"$f":"RANK('SCORE TABLE'!X37,'SCORE TABLE'!$H37:$AA37,0)+ COUNTIF('SCORE TABLE'!$H37:X37, 'SCORE TABLE'!X37) - 1","v":4},{"$f":"RANK('SCORE TABLE'!Y37,'SCORE TABLE'!$H37:$AA37,0)+ COUNTIF('SCORE TABLE'!$H37:Y37, 'SCORE TABLE'!Y37) - 1","v":6},{"$f":"RANK('SCORE TABLE'!Z37,'SCORE TABLE'!$H37:$AA37,0)+ COUNTIF('SCORE TABLE'!$H37:Z37, 'SCORE TABLE'!Z37) - 1","v":9},{"$f":"RANK('SCORE TABLE'!AA37,'SCORE TABLE'!$H37:$AA37,0)+ COUNTIF('SCORE TABLE'!$H37:AA37, 'SCORE TABLE'!AA37) - 1","v":5}]
[null,1027,"3.1.2","Affordability of nutritious food",{"$f":"RANK('SCORE TABLE'!H38,'SCORE TABLE'!$H38:$AA38,0)+ COUNTIF('SCORE TABLE'!$H38:H38, 'SCORE TABLE'!H38) - 1","v":7},{"$f":"RANK('SCORE TABLE'!I38,'SCORE TABLE'!$H38:$AA38,0)+ COUNTIF('SCORE TABLE'!$H38:I38, 'SCORE TABLE'!I38) - 1","v":15},{"$f":"RANK('SCORE TABLE'!J38,'SCORE TABLE'!$H38:$AA38,0)+ COUNTIF('SCORE TABLE'!$H38:J38, 'SCORE TABLE'!J38) - 1","v":5},{"$f":"RANK('SCORE TABLE'!K38,'SCORE TABLE'!$H38:$AA38,0)+ COUNTIF('SCORE TABLE'!$H38:K38, 'SCORE TABLE'!K38) - 1","v":13},{"$f":"RANK('SCORE TABLE'!L38,'SCORE TABLE'!$H38:$AA38,0)+ COUNTIF('SCORE TABLE'!$H38:L38, 'SCORE TABLE'!L38) - 1","v":1},{"$f":"RANK('SCORE TABLE'!M38,'SCORE TABLE'!$H38:$AA38,0)+ COUNTIF('SCORE TABLE'!$H38:M38, 'SCORE TABLE'!M38) - 1","v":6},{"$f":"RANK('SCORE TABLE'!N38,'SCORE TABLE'!$H38:$AA38,0)+ COUNTIF('SCORE TABLE'!$H38:N38, 'SCORE TABLE'!N38) - 1","v":2},{"$f":"RANK('SCORE TABLE'!O38,'SCORE TABLE'!$H38:$AA38,0)+ COUNTIF('SCORE TABLE'!$H38:O38, 'SCORE TABLE'!O38) - 1","v":16},{"$f":"RANK('SCORE TABLE'!P38,'SCORE TABLE'!$H38:$AA38,0)+ COUNTIF('SCORE TABLE'!$H38:P38, 'SCORE TABLE'!P38) - 1","v":8},{"$f":"RANK('SCORE TABLE'!Q38,'SCORE TABLE'!$H38:$AA38,0)+ COUNTIF('SCORE TABLE'!$H38:Q38, 'SCORE TABLE'!Q38) - 1","v":9},{"$f":"RANK('SCORE TABLE'!R38,'SCORE TABLE'!$H38:$AA38,0)+ COUNTIF('SCORE TABLE'!$H38:R38, 'SCORE TABLE'!R38) - 1","v":14},{"$f":"RANK('SCORE TABLE'!S38,'SCORE TABLE'!$H38:$AA38,0)+ COUNTIF('SCORE TABLE'!$H38:S38, 'SCORE TABLE'!S38) - 1","v":19},{"$f":"RANK('SCORE TABLE'!T38,'SCORE TABLE'!$H38:$AA38,0)+ COUNTIF('SCORE TABLE'!$H38:T38, 'SCORE TABLE'!T38) - 1","v":18},{"$f":"RANK('SCORE TABLE'!U38,'SCORE TABLE'!$H38:$AA38,0)+ COUNTIF('SCORE TABLE'!$H38:U38, 'SCORE TABLE'!U38) - 1","v":20},{"$f":"RANK('SCORE TABLE'!V38,'SCORE TABLE'!$H38:$AA38,0)+ COUNTIF('SCORE TABLE'!$H38:V38, 'SCORE TABLE'!V38) - 1","v":10},{"$f":"RANK('SCORE TABLE'!W38,'SCORE TABLE'!$H38:$AA38,0)+ COUNTIF('SCORE TABLE'!$H38:W38, 'SCORE TABLE'!W38) - 1","v":17},{"$f":"RANK('SCORE TABLE'!X38,'SCORE TABLE'!$H38:$AA38,0)+ COUNTIF('SCORE TABLE'!$H38:X38, 'SCORE TABLE'!X38) - 1","v":12},{"$f":"RANK('SCORE TABLE'!Y38,'SCORE TABLE'!$H38:$AA38,0)+ COUNTIF('SCORE TABLE'!$H38:Y38, 'SCORE TABLE'!Y38) - 1","v":11},{"$f":"RANK('SCORE TABLE'!Z38,'SCORE TABLE'!$H38:$AA38,0)+ COUNTIF('SCORE TABLE'!$H38:Z38, 'SCORE TABLE'!Z38) - 1","v":3},{"$f":"RANK('SCORE TABLE'!AA38,'SCORE TABLE'!$H38:$AA38,0)+ COUNTIF('SCORE TABLE'!$H38:AA38, 'SCORE TABLE'!AA38) - 1","v":4}]
[null,1028,"3.1.3","Nutrition programmes for lower-income individuals",{"$f":"RANK('SCORE TABLE'!H39,'SCORE TABLE'!$H39:$AA39,0)+ COUNTIF('SCORE TABLE'!$H39:H39, 'SCORE TABLE'!H39) - 1","v":15},{"$f":"RANK('SCORE TABLE'!I39,'SCORE TABLE'!$H39:$AA39,0)+ COUNTIF('SCORE TABLE'!$H39:I39, 'SCORE TABLE'!I39) - 1","v":1},{"$f":"RANK('SCORE TABLE'!J39,'SCORE TABLE'!$H39:$AA39,0)+ COUNTIF('SCORE TABLE'!$H39:J39, 'SCORE TABLE'!J39) - 1","v":2},{"$f":"RANK('SCORE TABLE'!K39,'SCORE TABLE'!$H39:$AA39,0)+ COUNTIF('SCORE TABLE'!$H39:K39, 'SCORE TABLE'!K39) - 1","v":3},{"$f":"RANK('SCORE TABLE'!L39,'SCORE TABLE'!$H39:$AA39,0)+ COUNTIF('SCORE TABLE'!$H39:L39, 'SCORE TABLE'!L39) - 1","v":16},{"$f":"RANK('SCORE TABLE'!M39,'SCORE TABLE'!$H39:$AA39,0)+ COUNTIF('SCORE TABLE'!$H39:M39, 'SCORE TABLE'!M39) - 1","v":4},{"$f":"RANK('SCORE TABLE'!N39,'SCORE TABLE'!$H39:$AA39,0)+ COUNTIF('SCORE TABLE'!$H39:N39, 'SCORE TABLE'!N39) - 1","v":5},{"$f":"RANK('SCORE TABLE'!O39,'SCORE TABLE'!$H39:$AA39,0)+ COUNTIF('SCORE TABLE'!$H39:O39, 'SCORE TABLE'!O39) - 1","v":6},{"$f":"RANK('SCORE TABLE'!P39,'SCORE TABLE'!$H39:$AA39,0)+ COUNTIF('SCORE TABLE'!$H39:P39, 'SCORE TABLE'!P39) - 1","v":7},{"$f":"RANK('SCORE TABLE'!Q39,'SCORE TABLE'!$H39:$AA39,0)+ COUNTIF('SCORE TABLE'!$H39:Q39, 'SCORE TABLE'!Q39) - 1","v":17},{"$f":"RANK('SCORE TABLE'!R39,'SCORE TABLE'!$H39:$AA39,0)+ COUNTIF('SCORE TABLE'!$H39:R39, 'SCORE TABLE'!R39) - 1","v":8},{"$f":"RANK('SCORE TABLE'!S39,'SCORE TABLE'!$H39:$AA39,0)+ COUNTIF('SCORE TABLE'!$H39:S39, 'SCORE TABLE'!S39) - 1","v":9},{"$f":"RANK('SCORE TABLE'!T39,'SCORE TABLE'!$H39:$AA39,0)+ COUNTIF('SCORE TABLE'!$H39:T39, 'SCORE TABLE'!T39) - 1","v":10},{"$f":"RANK('SCORE TABLE'!U39,'SCORE TABLE'!$H39:$AA39,0)+ COUNTIF('SCORE TABLE'!$H39:U39, 'SCORE TABLE'!U39) - 1","v":18},{"$f":"RANK('SCORE TABLE'!V39,'SCORE TABLE'!$H39:$AA39,0)+ COUNTIF('SCORE TABLE'!$H39:V39, 'SCORE TABLE'!V39) - 1","v":19},{"$f":"RANK('SCORE TABLE'!W39,'SCORE TABLE'!$H39:$AA39,0)+ COUNTIF('SCORE TABLE'!$H39:W39, 'SCORE TABLE'!W39) - 1","v":11},{"$f":"RANK('SCORE TABLE'!X39,'SCORE TABLE'!$H39:$AA39,0)+ COUNTIF('SCORE TABLE'!$H39:X39, 'SCORE TABLE'!X39) - 1","v":12},{"$f":"RANK('SCORE TABLE'!Y39,'SCORE TABLE'!$H39:$AA39,0)+ COUNTIF('SCORE TABLE'!$H39:Y39, 'SCORE TABLE'!Y39) - 1","v":13},{"$f":"RANK('SCORE TABLE'!Z39,'SCORE TABLE'!$H39:$AA39,0)+ COUNTIF('SCORE TABLE'!$H39:Z39, 'SCORE TABLE'!Z39) - 1","v":20},{"$f":"RANK('SCORE TABLE'!AA39,'SCORE TABLE'!$H39:$AA39,0)+ COUNTIF('SCORE TABLE'!$H39:AA39, 'SCORE TABLE'!AA39) - 1","v":14}]
[null,1029,3.2,"Nutrition guidance and regulation",{"$f":"RANK('SCORE TABLE'!H40,'SCORE TABLE'!$H40:$AA40,0)+ COUNTIF('SCORE TABLE'!$H40:H40, 'SCORE TABLE'!H40) - 1","v":16},{"$f":"RANK('SCORE TABLE'!I40,'SCORE TABLE'!$H40:$AA40,0)+ COUNTIF('SCORE TABLE'!$H40:I40, 'SCORE TABLE'!I40) - 1","v":8},{"$f":"RANK('SCORE TABLE'!J40,'SCORE TABLE'!$H40:$AA40,0)+ COUNTIF('SCORE TABLE'!$H40:J40, 'SCORE TABLE'!J40) - 1","v":10},{"$f":"RANK('SCORE TABLE'!K40,'SCORE TABLE'!$H40:$AA40,0)+ COUNTIF('SCORE TABLE'!$H40:K40, 'SCORE TABLE'!K40) - 1","v":15},{"$f":"RANK('SCORE TABLE'!L40,'SCORE TABLE'!$H40:$AA40,0)+ COUNTIF('SCORE TABLE'!$H40:L40, 'SCORE TABLE'!L40) - 1","v":4},{"$f":"RANK('SCORE TABLE'!M40,'SCORE TABLE'!$H40:$AA40,0)+ COUNTIF('SCORE TABLE'!$H40:M40, 'SCORE TABLE'!M40) - 1","v":9},{"$f":"RANK('SCORE TABLE'!N40,'SCORE TABLE'!$H40:$AA40,0)+ COUNTIF('SCORE TABLE'!$H40:N40, 'SCORE TABLE'!N40) - 1","v":11},{"$f":"RANK('SCORE TABLE'!O40,'SCORE TABLE'!$H40:$AA40,0)+ COUNTIF('SCORE TABLE'!$H40:O40, 'SCORE TABLE'!O40) - 1","v":5},{"$f":"RANK('SCORE TABLE'!P40,'SCORE TABLE'!$H40:$AA40,0)+ COUNTIF('SCORE TABLE'!$H40:P40, 'SCORE TABLE'!P40) - 1","v":17},{"$f":"RANK('SCORE TABLE'!Q40,'SCORE TABLE'!$H40:$AA40,0)+ COUNTIF('SCORE TABLE'!$H40:Q40, 'SCORE TABLE'!Q40) - 1","v":20},{"$f":"RANK('SCORE TABLE'!R40,'SCORE TABLE'!$H40:$AA40,0)+ COUNTIF('SCORE TABLE'!$H40:R40, 'SCORE TABLE'!R40) - 1","v":3},{"$f":"RANK('SCORE TABLE'!S40,'SCORE TABLE'!$H40:$AA40,0)+ COUNTIF('SCORE TABLE'!$H40:S40, 'SCORE TABLE'!S40) - 1","v":12},{"$f":"RANK('SCORE TABLE'!T40,'SCORE TABLE'!$H40:$AA40,0)+ COUNTIF('SCORE TABLE'!$H40:T40, 'SCORE TABLE'!T40) - 1","v":18},{"$f":"RANK('SCORE TABLE'!U40,'SCORE TABLE'!$H40:$AA40,0)+ COUNTIF('SCORE TABLE'!$H40:U40, 'SCORE TABLE'!U40) - 1","v":1},{"$f":"RANK('SCORE TABLE'!V40,'SCORE TABLE'!$H40:$AA40,0)+ COUNTIF('SCORE TABLE'!$H40:V40, 'SCORE TABLE'!V40) - 1","v":19},{"$f":"RANK('SCORE TABLE'!W40,'SCORE TABLE'!$H40:$AA40,0)+ COUNTIF('SCORE TABLE'!$H40:W40, 'SCORE TABLE'!W40) - 1","v":6},{"$f":"RANK('SCORE TABLE'!X40,'SCORE TABLE'!$H40:$AA40,0)+ COUNTIF('SCORE TABLE'!$H40:X40, 'SCORE TABLE'!X40) - 1","v":13},{"$f":"RANK('SCORE TABLE'!Y40,'SCORE TABLE'!$H40:$AA40,0)+ COUNTIF('SCORE TABLE'!$H40:Y40, 'SCORE TABLE'!Y40) - 1","v":7},{"$f":"RANK('SCORE TABLE'!Z40,'SCORE TABLE'!$H40:$AA40,0)+ COUNTIF('SCORE TABLE'!$H40:Z40, 'SCORE TABLE'!Z40) - 1","v":14},{"$f":"RANK('SCORE TABLE'!AA40,'SCORE TABLE'!$H40:$AA40,0)+ COUNTIF('SCORE TABLE'!$H40:AA40, 'SCORE TABLE'!AA40) - 1","v":2}]
[null,1030,"3.2.1","Nutrition policy/strategy/plan that addresses obesity",{"$f":"RANK('SCORE TABLE'!H41,'SCORE TABLE'!$H41:$AA41,0)+ COUNTIF('SCORE TABLE'!$H41:H41, 'SCORE TABLE'!H41) - 1","v":15},{"$f":"RANK('SCORE TABLE'!I41,'SCORE TABLE'!$H41:$AA41,0)+ COUNTIF('SCORE TABLE'!$H41:I41, 'SCORE TABLE'!I41) - 1","v":16},{"$f":"RANK('SCORE TABLE'!J41,'SCORE TABLE'!$H41:$AA41,0)+ COUNTIF('SCORE TABLE'!$H41:J41, 'SCORE TABLE'!J41) - 1","v":6},{"$f":"RANK('SCORE TABLE'!K41,'SCORE TABLE'!$H41:$AA41,0)+ COUNTIF('SCORE TABLE'!$H41:K41, 'SCORE TABLE'!K41) - 1","v":1},{"$f":"RANK('SCORE TABLE'!L41,'SCORE TABLE'!$H41:$AA41,0)+ COUNTIF('SCORE TABLE'!$H41:L41, 'SCORE TABLE'!L41) - 1","v":11},{"$f":"RANK('SCORE TABLE'!M41,'SCORE TABLE'!$H41:$AA41,0)+ COUNTIF('SCORE TABLE'!$H41:M41, 'SCORE TABLE'!M41) - 1","v":2},{"$f":"RANK('SCORE TABLE'!N41,'SCORE TABLE'!$H41:$AA41,0)+ COUNTIF('SCORE TABLE'!$H41:N41, 'SCORE TABLE'!N41) - 1","v":3},{"$f":"RANK('SCORE TABLE'!O41,'SCORE TABLE'!$H41:$AA41,0)+ COUNTIF('SCORE TABLE'!$H41:O41, 'SCORE TABLE'!O41) - 1","v":12},{"$f":"RANK('SCORE TABLE'!P41,'SCORE TABLE'!$H41:$AA41,0)+ COUNTIF('SCORE TABLE'!$H41:P41, 'SCORE TABLE'!P41) - 1","v":17},{"$f":"RANK('SCORE TABLE'!Q41,'SCORE TABLE'!$H41:$AA41,0)+ COUNTIF('SCORE TABLE'!$H41:Q41, 'SCORE TABLE'!Q41) - 1","v":13},{"$f":"RANK('SCORE TABLE'!R41,'SCORE TABLE'!$H41:$AA41,0)+ COUNTIF('SCORE TABLE'!$H41:R41, 'SCORE TABLE'!R41) - 1","v":14},{"$f":"RANK('SCORE TABLE'!S41,'SCORE TABLE'!$H41:$AA41,0)+ COUNTIF('SCORE TABLE'!$H41:S41, 'SCORE TABLE'!S41) - 1","v":4},{"$f":"RANK('SCORE TABLE'!T41,'SCORE TABLE'!$H41:$AA41,0)+ COUNTIF('SCORE TABLE'!$H41:T41, 'SCORE TABLE'!T41) - 1","v":18},{"$f":"RANK('SCORE TABLE'!U41,'SCORE TABLE'!$H41:$AA41,0)+ COUNTIF('SCORE TABLE'!$H41:U41, 'SCORE TABLE'!U41) - 1","v":5},{"$f":"RANK('SCORE TABLE'!V41,'SCORE TABLE'!$H41:$AA41,0)+ COUNTIF('SCORE TABLE'!$H41:V41, 'SCORE TABLE'!V41) - 1","v":19},{"$f":"RANK('SCORE TABLE'!W41,'SCORE TABLE'!$H41:$AA41,0)+ COUNTIF('SCORE TABLE'!$H41:W41, 'SCORE TABLE'!W41) - 1","v":7},{"$f":"RANK('SCORE TABLE'!X41,'SCORE TABLE'!$H41:$AA41,0)+ COUNTIF('SCORE TABLE'!$H41:X41, 'SCORE TABLE'!X41) - 1","v":20},{"$f":"RANK('SCORE TABLE'!Y41,'SCORE TABLE'!$H41:$AA41,0)+ COUNTIF('SCORE TABLE'!$H41:Y41, 'SCORE TABLE'!Y41) - 1","v":8},{"$f":"RANK('SCORE TABLE'!Z41,'SCORE TABLE'!$H41:$AA41,0)+ COUNTIF('SCORE TABLE'!$H41:Z41, 'SCORE TABLE'!Z41) - 1","v":9},{"$f":"RANK('SCORE TABLE'!AA41,'SCORE TABLE'!$H41:$AA41,0)+ COUNTIF('SCORE TABLE'!$H41:AA41, 'SCORE TABLE'!AA41) - 1","v":10}]
[null,1031,"3.2.2","Marketing of unhealthy food and beverages to children",{"$f":"RANK('SCORE TABLE'!H42,'SCORE TABLE'!$H42:$AA42,0)+ COUNTIF('SCORE TABLE'!$H42:H42, 'SCORE TABLE'!H42) - 1","v":9},{"$f":"RANK('SCORE TABLE'!I42,'SCORE TABLE'!$H42:$AA42,0)+ COUNTIF('SCORE TABLE'!$H42:I42, 'SCORE TABLE'!I42) - 1","v":1},{"$f":"RANK('SCORE TABLE'!J42,'SCORE TABLE'!$H42:$AA42,0)+ COUNTIF('SCORE TABLE'!$H42:J42, 'SCORE TABLE'!J42) - 1","v":10},{"$f":"RANK('SCORE TABLE'!K42,'SCORE TABLE'!$H42:$AA42,0)+ COUNTIF('SCORE TABLE'!$H42:K42, 'SCORE TABLE'!K42) - 1","v":16},{"$f":"RANK('SCORE TABLE'!L42,'SCORE TABLE'!$H42:$AA42,0)+ COUNTIF('SCORE TABLE'!$H42:L42, 'SCORE TABLE'!L42) - 1","v":11},{"$f":"RANK('SCORE TABLE'!M42,'SCORE TABLE'!$H42:$AA42,0)+ COUNTIF('SCORE TABLE'!$H42:M42, 'SCORE TABLE'!M42) - 1","v":12},{"$f":"RANK('SCORE TABLE'!N42,'SCORE TABLE'!$H42:$AA42,0)+ COUNTIF('SCORE TABLE'!$H42:N42, 'SCORE TABLE'!N42) - 1","v":13},{"$f":"RANK('SCORE TABLE'!O42,'SCORE TABLE'!$H42:$AA42,0)+ COUNTIF('SCORE TABLE'!$H42:O42, 'SCORE TABLE'!O42) - 1","v":2},{"$f":"RANK('SCORE TABLE'!P42,'SCORE TABLE'!$H42:$AA42,0)+ COUNTIF('SCORE TABLE'!$H42:P42, 'SCORE TABLE'!P42) - 1","v":14},{"$f":"RANK('SCORE TABLE'!Q42,'SCORE TABLE'!$H42:$AA42,0)+ COUNTIF('SCORE TABLE'!$H42:Q42, 'SCORE TABLE'!Q42) - 1","v":17},{"$f":"RANK('SCORE TABLE'!R42,'SCORE TABLE'!$H42:$AA42,0)+ COUNTIF('SCORE TABLE'!$H42:R42, 'SCORE TABLE'!R42) - 1","v":3},{"$f":"RANK('SCORE TABLE'!S42,'SCORE TABLE'!$H42:$AA42,0)+ COUNTIF('SCORE TABLE'!$H42:S42, 'SCORE TABLE'!S42) - 1","v":18},{"$f":"RANK('SCORE TABLE'!T42,'SCORE TABLE'!$H42:$AA42,0)+ COUNTIF('SCORE TABLE'!$H42:T42, 'SCORE TABLE'!T42) - 1","v":19},{"$f":"RANK('SCORE TABLE'!U42,'SCORE TABLE'!$H42:$AA42,0)+ COUNTIF('SCORE TABLE'!$H42:U42, 'SCORE TABLE'!U42) - 1","v":4},{"$f":"RANK('SCORE TABLE'!V42,'SCORE TABLE'!$H42:$AA42,0)+ COUNTIF('SCORE TABLE'!$H42:V42, 'SCORE TABLE'!V42) - 1","v":15},{"$f":"RANK('SCORE TABLE'!W42,'SCORE TABLE'!$H42:$AA42,0)+ COUNTIF('SCORE TABLE'!$H42:W42, 'SCORE TABLE'!W42) - 1","v":5},{"$f":"RANK('SCORE TABLE'!X42,'SCORE TABLE'!$H42:$AA42,0)+ COUNTIF('SCORE TABLE'!$H42:X42, 'SCORE TABLE'!X42) - 1","v":6},{"$f":"RANK('SCORE TABLE'!Y42,'SCORE TABLE'!$H42:$AA42,0)+ COUNTIF('SCORE TABLE'!$H42:Y42, 'SCORE TABLE'!Y42) - 1","v":7},{"$f":"RANK('SCORE TABLE'!Z42,'SCORE TABLE'!$H42:$AA42,0)+ COUNTIF('SCORE TABLE'!$H42:Z42, 'SCORE TABLE'!Z42) - 1","v":20},{"$f":"RANK('SCORE TABLE'!AA42,'SCORE TABLE'!$H42:$AA42,0)+ COUNTIF('SCORE TABLE'!$H42:AA42, 'SCORE TABLE'!AA42) - 1","v":8}]
[null,1032,"3.2.3","Food labelling",{"$f":"RANK('SCORE TABLE'!H43,'SCORE TABLE'!$H43:$AA43,0)+ COUNTIF('SCORE TABLE'!$H43:H43, 'SCORE TABLE'!H43) - 1","v":4},{"$f":"RANK('SCORE TABLE'!I43,'SCORE TABLE'!$H43:$AA43,0)+ COUNTIF('SCORE TABLE'!$H43:I43, 'SCORE TABLE'!I43) - 1","v":1},{"$f":"RANK('SCORE TABLE'!J43,'SCORE TABLE'!$H43:$AA43,0)+ COUNTIF('SCORE TABLE'!$H43:J43, 'SCORE TABLE'!J43) - 1","v":2},{"$f":"RANK('SCORE TABLE'!K43,'SCORE TABLE'!$H43:$AA43,0)+ COUNTIF('SCORE TABLE'!$H43:K43, 'SCORE TABLE'!K43) - 1","v":5},{"$f":"RANK('SCORE TABLE'!L43,'SCORE TABLE'!$H43:$AA43,0)+ COUNTIF('SCORE TABLE'!$H43:L43, 'SCORE TABLE'!L43) - 1","v":6},{"$f":"RANK('SCORE TABLE'!M43,'SCORE TABLE'!$H43:$AA43,0)+ COUNTIF('SCORE TABLE'!$H43:M43, 'SCORE TABLE'!M43) - 1","v":7},{"$f":"RANK('SCORE TABLE'!N43,'SCORE TABLE'!$H43:$AA43,0)+ COUNTIF('SCORE TABLE'!$H43:N43, 'SCORE TABLE'!N43) - 1","v":8},{"$f":"RANK('SCORE TABLE'!O43,'SCORE TABLE'!$H43:$AA43,0)+ COUNTIF('SCORE TABLE'!$H43:O43, 'SCORE TABLE'!O43) - 1","v":9},{"$f":"RANK('SCORE TABLE'!P43,'SCORE TABLE'!$H43:$AA43,0)+ COUNTIF('SCORE TABLE'!$H43:P43, 'SCORE TABLE'!P43) - 1","v":10},{"$f":"RANK('SCORE TABLE'!Q43,'SCORE TABLE'!$H43:$AA43,0)+ COUNTIF('SCORE TABLE'!$H43:Q43, 'SCORE TABLE'!Q43) - 1","v":11},{"$f":"RANK('SCORE TABLE'!R43,'SCORE TABLE'!$H43:$AA43,0)+ COUNTIF('SCORE TABLE'!$H43:R43, 'SCORE TABLE'!R43) - 1","v":3},{"$f":"RANK('SCORE TABLE'!S43,'SCORE TABLE'!$H43:$AA43,0)+ COUNTIF('SCORE TABLE'!$H43:S43, 'SCORE TABLE'!S43) - 1","v":12},{"$f":"RANK('SCORE TABLE'!T43,'SCORE TABLE'!$H43:$AA43,0)+ COUNTIF('SCORE TABLE'!$H43:T43, 'SCORE TABLE'!T43) - 1","v":13},{"$f":"RANK('SCORE TABLE'!U43,'SCORE TABLE'!$H43:$AA43,0)+ COUNTIF('SCORE TABLE'!$H43:U43, 'SCORE TABLE'!U43) - 1","v":14},{"$f":"RANK('SCORE TABLE'!V43,'SCORE TABLE'!$H43:$AA43,0)+ COUNTIF('SCORE TABLE'!$H43:V43, 'SCORE TABLE'!V43) - 1","v":15},{"$f":"RANK('SCORE TABLE'!W43,'SCORE TABLE'!$H43:$AA43,0)+ COUNTIF('SCORE TABLE'!$H43:W43, 'SCORE TABLE'!W43) - 1","v":16},{"$f":"RANK('SCORE TABLE'!X43,'SCORE TABLE'!$H43:$AA43,0)+ COUNTIF('SCORE TABLE'!$H43:X43, 'SCORE TABLE'!X43) - 1","v":17},{"$f":"RANK('SCORE TABLE'!Y43,'SCORE TABLE'!$H43:$AA43,0)+ COUNTIF('SCORE TABLE'!$H43:Y43, 'SCORE TABLE'!Y43) - 1","v":18},{"$f":"RANK('SCORE TABLE'!Z43,'SCORE TABLE'!$H43:$AA43,0)+ COUNTIF('SCORE TABLE'!$H43:Z43, 'SCORE TABLE'!Z43) - 1","v":19},{"$f":"RANK('SCORE TABLE'!AA43,'SCORE TABLE'!$H43:$AA43,0)+ COUNTIF('SCORE TABLE'!$H43:AA43, 'SCORE TABLE'!AA43) - 1","v":20}]
[null,1033,"3.2.4","Menu labelling",{"$f":"RANK('SCORE TABLE'!H44,'SCORE TABLE'!$H44:$AA44,0)+ COUNTIF('SCORE TABLE'!$H44:H44, 'SCORE TABLE'!H44) - 1","v":6},{"$f":"RANK('SCORE TABLE'!I44,'SCORE TABLE'!$H44:$AA44,0)+ COUNTIF('SCORE TABLE'!$H44:I44, 'SCORE TABLE'!I44) - 1","v":7},{"$f":"RANK('SCORE TABLE'!J44,'SCORE TABLE'!$H44:$AA44,0)+ COUNTIF('SCORE TABLE'!$H44:J44, 'SCORE TABLE'!J44) - 1","v":8},{"$f":"RANK('SCORE TABLE'!K44,'SCORE TABLE'!$H44:$AA44,0)+ COUNTIF('SCORE TABLE'!$H44:K44, 'SCORE TABLE'!K44) - 1","v":9},{"$f":"RANK('SCORE TABLE'!L44,'SCORE TABLE'!$H44:$AA44,0)+ COUNTIF('SCORE TABLE'!$H44:L44, 'SCORE TABLE'!L44) - 1","v":1},{"$f":"RANK('SCORE TABLE'!M44,'SCORE TABLE'!$H44:$AA44,0)+ COUNTIF('SCORE TABLE'!$H44:M44, 'SCORE TABLE'!M44) - 1","v":10},{"$f":"RANK('SCORE TABLE'!N44,'SCORE TABLE'!$H44:$AA44,0)+ COUNTIF('SCORE TABLE'!$H44:N44, 'SCORE TABLE'!N44) - 1","v":11},{"$f":"RANK('SCORE TABLE'!O44,'SCORE TABLE'!$H44:$AA44,0)+ COUNTIF('SCORE TABLE'!$H44:O44, 'SCORE TABLE'!O44) - 1","v":2},{"$f":"RANK('SCORE TABLE'!P44,'SCORE TABLE'!$H44:$AA44,0)+ COUNTIF('SCORE TABLE'!$H44:P44, 'SCORE TABLE'!P44) - 1","v":12},{"$f":"RANK('SCORE TABLE'!Q44,'SCORE TABLE'!$H44:$AA44,0)+ COUNTIF('SCORE TABLE'!$H44:Q44, 'SCORE TABLE'!Q44) - 1","v":13},{"$f":"RANK('SCORE TABLE'!R44,'SCORE TABLE'!$H44:$AA44,0)+ COUNTIF('SCORE TABLE'!$H44:R44, 'SCORE TABLE'!R44) - 1","v":14},{"$f":"RANK('SCORE TABLE'!S44,'SCORE TABLE'!$H44:$AA44,0)+ COUNTIF('SCORE TABLE'!$H44:S44, 'SCORE TABLE'!S44) - 1","v":15},{"$f":"RANK('SCORE TABLE'!T44,'SCORE TABLE'!$H44:$AA44,0)+ COUNTIF('SCORE TABLE'!$H44:T44, 'SCORE TABLE'!T44) - 1","v":16},{"$f":"RANK('SCORE TABLE'!U44,'SCORE TABLE'!$H44:$AA44,0)+ COUNTIF('SCORE TABLE'!$H44:U44, 'SCORE TABLE'!U44) - 1","v":3},{"$f":"RANK('SCORE TABLE'!V44,'SCORE TABLE'!$H44:$AA44,0)+ COUNTIF('SCORE TABLE'!$H44:V44, 'SCORE TABLE'!V44) - 1","v":17},{"$f":"RANK('SCORE TABLE'!W44,'SCORE TABLE'!$H44:$AA44,0)+ COUNTIF('SCORE TABLE'!$H44:W44, 'SCORE TABLE'!W44) - 1","v":18},{"$f":"RANK('SCORE TABLE'!X44,'SCORE TABLE'!$H44:$AA44,0)+ COUNTIF('SCORE TABLE'!$H44:X44, 'SCORE TABLE'!X44) - 1","v":5},{"$f":"RANK('SCORE TABLE'!Y44,'SCORE TABLE'!$H44:$AA44,0)+ COUNTIF('SCORE TABLE'!$H44:Y44, 'SCORE TABLE'!Y44) - 1","v":19},{"$f":"RANK('SCORE TABLE'!Z44,'SCORE TABLE'!$H44:$AA44,0)+ COUNTIF('SCORE TABLE'!$H44:Z44, 'SCORE TABLE'!Z44) - 1","v":20},{"$f":"RANK('SCORE TABLE'!AA44,'SCORE TABLE'!$H44:$AA44,0)+ COUNTIF('SCORE TABLE'!$H44:AA44, 'SCORE TABLE'!AA44) - 1","v":4}]
[null,1034,"3.2.5","Taxes on unhealthy food and beverages",{"$f":"RANK('SCORE TABLE'!H45,'SCORE TABLE'!$H45:$AA45,0)+ COUNTIF('SCORE TABLE'!$H45:H45, 'SCORE TABLE'!H45) - 1","v":12},{"$f":"RANK('SCORE TABLE'!I45,'SCORE TABLE'!$H45:$AA45,0)+ COUNTIF('SCORE TABLE'!$H45:I45, 'SCORE TABLE'!I45) - 1","v":2},{"$f":"RANK('SCORE TABLE'!J45,'SCORE TABLE'!$H45:$AA45,0)+ COUNTIF('SCORE TABLE'!$H45:J45, 'SCORE TABLE'!J45) - 1","v":13},{"$f":"RANK('SCORE TABLE'!K45,'SCORE TABLE'!$H45:$AA45,0)+ COUNTIF('SCORE TABLE'!$H45:K45, 'SCORE TABLE'!K45) - 1","v":14},{"$f":"RANK('SCORE TABLE'!L45,'SCORE TABLE'!$H45:$AA45,0)+ COUNTIF('SCORE TABLE'!$H45:L45, 'SCORE TABLE'!L45) - 1","v":3},{"$f":"RANK('SCORE TABLE'!M45,'SCORE TABLE'!$H45:$AA45,0)+ COUNTIF('SCORE TABLE'!$H45:M45, 'SCORE TABLE'!M45) - 1","v":4},{"$f":"RANK('SCORE TABLE'!N45,'SCORE TABLE'!$H45:$AA45,0)+ COUNTIF('SCORE TABLE'!$H45:N45, 'SCORE TABLE'!N45) - 1","v":15},{"$f":"RANK('SCORE TABLE'!O45,'SCORE TABLE'!$H45:$AA45,0)+ COUNTIF('SCORE TABLE'!$H45:O45, 'SCORE TABLE'!O45) - 1","v":16},{"$f":"RANK('SCORE TABLE'!P45,'SCORE TABLE'!$H45:$AA45,0)+ COUNTIF('SCORE TABLE'!$H45:P45, 'SCORE TABLE'!P45) - 1","v":17},{"$f":"RANK('SCORE TABLE'!Q45,'SCORE TABLE'!$H45:$AA45,0)+ COUNTIF('SCORE TABLE'!$H45:Q45, 'SCORE TABLE'!Q45) - 1","v":18},{"$f":"RANK('SCORE TABLE'!R45,'SCORE TABLE'!$H45:$AA45,0)+ COUNTIF('SCORE TABLE'!$H45:R45, 'SCORE TABLE'!R45) - 1","v":1},{"$f":"RANK('SCORE TABLE'!S45,'SCORE TABLE'!$H45:$AA45,0)+ COUNTIF('SCORE TABLE'!$H45:S45, 'SCORE TABLE'!S45) - 1","v":5},{"$f":"RANK('SCORE TABLE'!T45,'SCORE TABLE'!$H45:$AA45,0)+ COUNTIF('SCORE TABLE'!$H45:T45, 'SCORE TABLE'!T45) - 1","v":6},{"$f":"RANK('SCORE TABLE'!U45,'SCORE TABLE'!$H45:$AA45,0)+ COUNTIF('SCORE TABLE'!$H45:U45, 'SCORE TABLE'!U45) - 1","v":7},{"$f":"RANK('SCORE TABLE'!V45,'SCORE TABLE'!$H45:$AA45,0)+ COUNTIF('SCORE TABLE'!$H45:V45, 'SCORE TABLE'!V45) - 1","v":19},{"$f":"RANK('SCORE TABLE'!W45,'SCORE TABLE'!$H45:$AA45,0)+ COUNTIF('SCORE TABLE'!$H45:W45, 'SCORE TABLE'!W45) - 1","v":8},{"$f":"RANK('SCORE TABLE'!X45,'SCORE TABLE'!$H45:$AA45,0)+ COUNTIF('SCORE TABLE'!$H45:X45, 'SCORE TABLE'!X45) - 1","v":20},{"$f":"RANK('SCORE TABLE'!Y45,'SCORE TABLE'!$H45:$AA45,0)+ COUNTIF('SCORE TABLE'!$H45:Y45, 'SCORE TABLE'!Y45) - 1","v":9},{"$f":"RANK('SCORE TABLE'!Z45,'SCORE TABLE'!$H45:$AA45,0)+ COUNTIF('SCORE TABLE'!$H45:Z45, 'SCORE TABLE'!Z45) - 1","v":10},{"$f":"RANK('SCORE TABLE'!AA45,'SCORE TABLE'!$H45:$AA45,0)+ COUNTIF('SCORE TABLE'!$H45:AA45, 'SCORE TABLE'!AA45) - 1","v":11}]
[null,1035,3.3,"Nutrition in schools",{"$f":"RANK('SCORE TABLE'!H46,'SCORE TABLE'!$H46:$AA46,0)+ COUNTIF('SCORE TABLE'!$H46:H46, 'SCORE TABLE'!H46) - 1","v":1},{"$f":"RANK('SCORE TABLE'!I46,'SCORE TABLE'!$H46:$AA46,0)+ COUNTIF('SCORE TABLE'!$H46:I46, 'SCORE TABLE'!I46) - 1","v":2},{"$f":"RANK('SCORE TABLE'!J46,'SCORE TABLE'!$H46:$AA46,0)+ COUNTIF('SCORE TABLE'!$H46:J46, 'SCORE TABLE'!J46) - 1","v":15},{"$f":"RANK('SCORE TABLE'!K46,'SCORE TABLE'!$H46:$AA46,0)+ COUNTIF('SCORE TABLE'!$H46:K46, 'SCORE TABLE'!K46) - 1","v":3},{"$f":"RANK('SCORE TABLE'!L46,'SCORE TABLE'!$H46:$AA46,0)+ COUNTIF('SCORE TABLE'!$H46:L46, 'SCORE TABLE'!L46) - 1","v":4},{"$f":"RANK('SCORE TABLE'!M46,'SCORE TABLE'!$H46:$AA46,0)+ COUNTIF('SCORE TABLE'!$H46:M46, 'SCORE TABLE'!M46) - 1","v":5},{"$f":"RANK('SCORE TABLE'!N46,'SCORE TABLE'!$H46:$AA46,0)+ COUNTIF('SCORE TABLE'!$H46:N46, 'SCORE TABLE'!N46) - 1","v":16},{"$f":"RANK('SCORE TABLE'!O46,'SCORE TABLE'!$H46:$AA46,0)+ COUNTIF('SCORE TABLE'!$H46:O46, 'SCORE TABLE'!O46) - 1","v":17},{"$f":"RANK('SCORE TABLE'!P46,'SCORE TABLE'!$H46:$AA46,0)+ COUNTIF('SCORE TABLE'!$H46:P46, 'SCORE TABLE'!P46) - 1","v":6},{"$f":"RANK('SCORE TABLE'!Q46,'SCORE TABLE'!$H46:$AA46,0)+ COUNTIF('SCORE TABLE'!$H46:Q46, 'SCORE TABLE'!Q46) - 1","v":7},{"$f":"RANK('SCORE TABLE'!R46,'SCORE TABLE'!$H46:$AA46,0)+ COUNTIF('SCORE TABLE'!$H46:R46, 'SCORE TABLE'!R46) - 1","v":8},{"$f":"RANK('SCORE TABLE'!S46,'SCORE TABLE'!$H46:$AA46,0)+ COUNTIF('SCORE TABLE'!$H46:S46, 'SCORE TABLE'!S46) - 1","v":20},{"$f":"RANK('SCORE TABLE'!T46,'SCORE TABLE'!$H46:$AA46,0)+ COUNTIF('SCORE TABLE'!$H46:T46, 'SCORE TABLE'!T46) - 1","v":18},{"$f":"RANK('SCORE TABLE'!U46,'SCORE TABLE'!$H46:$AA46,0)+ COUNTIF('SCORE TABLE'!$H46:U46, 'SCORE TABLE'!U46) - 1","v":19},{"$f":"RANK('SCORE TABLE'!V46,'SCORE TABLE'!$H46:$AA46,0)+ COUNTIF('SCORE TABLE'!$H46:V46, 'SCORE TABLE'!V46) - 1","v":9},{"$f":"RANK('SCORE TABLE'!W46,'SCORE TABLE'!$H46:$AA46,0)+ COUNTIF('SCORE TABLE'!$H46:W46, 'SCORE TABLE'!W46) - 1","v":10},{"$f":"RANK('SCORE TABLE'!X46,'SCORE TABLE'!$H46:$AA46,0)+ COUNTIF('SCORE TABLE'!$H46:X46, 'SCORE TABLE'!X46) - 1","v":11},{"$f":"RANK('SCORE TABLE'!Y46,'SCORE TABLE'!$H46:$AA46,0)+ COUNTIF('SCORE TABLE'!$H46:Y46, 'SCORE TABLE'!Y46) - 1","v":12},{"$f":"RANK('SCORE TABLE'!Z46,'SCORE TABLE'!$H46:$AA46,0)+ COUNTIF('SCORE TABLE'!$H46:Z46, 'SCORE TABLE'!Z46) - 1","v":13},{"$f":"RANK('SCORE TABLE'!AA46,'SCORE TABLE'!$H46:$AA46,0)+ COUNTIF('SCORE TABLE'!$H46:AA46, 'SCORE TABLE'!AA46) - 1","v":14}]
[null,1036,"3.3.1","School nutrition standards",{"$f":"RANK('SCORE TABLE'!H47,'SCORE TABLE'!$H47:$AA47,0)+ COUNTIF('SCORE TABLE'!$H47:H47, 'SCORE TABLE'!H47) - 1","v":1},{"$f":"RANK('SCORE TABLE'!I47,'SCORE TABLE'!$H47:$AA47,0)+ COUNTIF('SCORE TABLE'!$H47:I47, 'SCORE TABLE'!I47) - 1","v":2},{"$f":"RANK('SCORE TABLE'!J47,'SCORE TABLE'!$H47:$AA47,0)+ COUNTIF('SCORE TABLE'!$H47:J47, 'SCORE TABLE'!J47) - 1","v":18},{"$f":"RANK('SCORE TABLE'!K47,'SCORE TABLE'!$H47:$AA47,0)+ COUNTIF('SCORE TABLE'!$H47:K47, 'SCORE TABLE'!K47) - 1","v":3},{"$f":"RANK('SCORE TABLE'!L47,'SCORE TABLE'!$H47:$AA47,0)+ COUNTIF('SCORE TABLE'!$H47:L47, 'SCORE TABLE'!L47) - 1","v":4},{"$f":"RANK('SCORE TABLE'!M47,'SCORE TABLE'!$H47:$AA47,0)+ COUNTIF('SCORE TABLE'!$H47:M47, 'SCORE TABLE'!M47) - 1","v":5},{"$f":"RANK('SCORE TABLE'!N47,'SCORE TABLE'!$H47:$AA47,0)+ COUNTIF('SCORE TABLE'!$H47:N47, 'SCORE TABLE'!N47) - 1","v":19},{"$f":"RANK('SCORE TABLE'!O47,'SCORE TABLE'!$H47:$AA47,0)+ COUNTIF('SCORE TABLE'!$H47:O47, 'SCORE TABLE'!O47) - 1","v":6},{"$f":"RANK('SCORE TABLE'!P47,'SCORE TABLE'!$H47:$AA47,0)+ COUNTIF('SCORE TABLE'!$H47:P47, 'SCORE TABLE'!P47) - 1","v":7},{"$f":"RANK('SCORE TABLE'!Q47,'SCORE TABLE'!$H47:$AA47,0)+ COUNTIF('SCORE TABLE'!$H47:Q47, 'SCORE TABLE'!Q47) - 1","v":8},{"$f":"RANK('SCORE TABLE'!R47,'SCORE TABLE'!$H47:$AA47,0)+ COUNTIF('SCORE TABLE'!$H47:R47, 'SCORE TABLE'!R47) - 1","v":9},{"$f":"RANK('SCORE TABLE'!S47,'SCORE TABLE'!$H47:$AA47,0)+ COUNTIF('SCORE TABLE'!$H47:S47, 'SCORE TABLE'!S47) - 1","v":20},{"$f":"RANK('SCORE TABLE'!T47,'SCORE TABLE'!$H47:$AA47,0)+ COUNTIF('SCORE TABLE'!$H47:T47, 'SCORE TABLE'!T47) - 1","v":10},{"$f":"RANK('SCORE TABLE'!U47,'SCORE TABLE'!$H47:$AA47,0)+ COUNTIF('SCORE TABLE'!$H47:U47, 'SCORE TABLE'!U47) - 1","v":11},{"$f":"RANK('SCORE TABLE'!V47,'SCORE TABLE'!$H47:$AA47,0)+ COUNTIF('SCORE TABLE'!$H47:V47, 'SCORE TABLE'!V47) - 1","v":12},{"$f":"RANK('SCORE TABLE'!W47,'SCORE TABLE'!$H47:$AA47,0)+ COUNTIF('SCORE TABLE'!$H47:W47, 'SCORE TABLE'!W47) - 1","v":13},{"$f":"RANK('SCORE TABLE'!X47,'SCORE TABLE'!$H47:$AA47,0)+ COUNTIF('SCORE TABLE'!$H47:X47, 'SCORE TABLE'!X47) - 1","v":14},{"$f":"RANK('SCORE TABLE'!Y47,'SCORE TABLE'!$H47:$AA47,0)+ COUNTIF('SCORE TABLE'!$H47:Y47, 'SCORE TABLE'!Y47) - 1","v":15},{"$f":"RANK('SCORE TABLE'!Z47,'SCORE TABLE'!$H47:$AA47,0)+ COUNTIF('SCORE TABLE'!$H47:Z47, 'SCORE TABLE'!Z47) - 1","v":16},{"$f":"RANK('SCORE TABLE'!AA47,'SCORE TABLE'!$H47:$AA47,0)+ COUNTIF('SCORE TABLE'!$H47:AA47, 'SCORE TABLE'!AA47) - 1","v":17}]
[null,1037,"3.3.2","Nutrition education",{"$f":"RANK('SCORE TABLE'!H48,'SCORE TABLE'!$H48:$AA48,0)+ COUNTIF('SCORE TABLE'!$H48:H48, 'SCORE TABLE'!H48) - 1","v":1},{"$f":"RANK('SCORE TABLE'!I48,'SCORE TABLE'!$H48:$AA48,0)+ COUNTIF('SCORE TABLE'!$H48:I48, 'SCORE TABLE'!I48) - 1","v":2},{"$f":"RANK('SCORE TABLE'!J48,'SCORE TABLE'!$H48:$AA48,0)+ COUNTIF('SCORE TABLE'!$H48:J48, 'SCORE TABLE'!J48) - 1","v":3},{"$f":"RANK('SCORE TABLE'!K48,'SCORE TABLE'!$H48:$AA48,0)+ COUNTIF('SCORE TABLE'!$H48:K48, 'SCORE TABLE'!K48) - 1","v":4},{"$f":"RANK('SCORE TABLE'!L48,'SCORE TABLE'!$H48:$AA48,0)+ COUNTIF('SCORE TABLE'!$H48:L48, 'SCORE TABLE'!L48) - 1","v":5},{"$f":"RANK('SCORE TABLE'!M48,'SCORE TABLE'!$H48:$AA48,0)+ COUNTIF('SCORE TABLE'!$H48:M48, 'SCORE TABLE'!M48) - 1","v":6},{"$f":"RANK('SCORE TABLE'!N48,'SCORE TABLE'!$H48:$AA48,0)+ COUNTIF('SCORE TABLE'!$H48:N48, 'SCORE TABLE'!N48) - 1","v":7},{"$f":"RANK('SCORE TABLE'!O48,'SCORE TABLE'!$H48:$AA48,0)+ COUNTIF('SCORE TABLE'!$H48:O48, 'SCORE TABLE'!O48) - 1","v":17},{"$f":"RANK('SCORE TABLE'!P48,'SCORE TABLE'!$H48:$AA48,0)+ COUNTIF('SCORE TABLE'!$H48:P48, 'SCORE TABLE'!P48) - 1","v":8},{"$f":"RANK('SCORE TABLE'!Q48,'SCORE TABLE'!$H48:$AA48,0)+ COUNTIF('SCORE TABLE'!$H48:Q48, 'SCORE TABLE'!Q48) - 1","v":9},{"$f":"RANK('SCORE TABLE'!R48,'SCORE TABLE'!$H48:$AA48,0)+ COUNTIF('SCORE TABLE'!$H48:R48, 'SCORE TABLE'!R48) - 1","v":10},{"$f":"RANK('SCORE TABLE'!S48,'SCORE TABLE'!$H48:$AA48,0)+ COUNTIF('SCORE TABLE'!$H48:S48, 'SCORE TABLE'!S48) - 1","v":18},{"$f":"RANK('SCORE TABLE'!T48,'SCORE TABLE'!$H48:$AA48,0)+ COUNTIF('SCORE TABLE'!$H48:T48, 'SCORE TABLE'!T48) - 1","v":19},{"$f":"RANK('SCORE TABLE'!U48,'SCORE TABLE'!$H48:$AA48,0)+ COUNTIF('SCORE TABLE'!$H48:U48, 'SCORE TABLE'!U48) - 1","v":20},{"$f":"RANK('SCORE TABLE'!V48,'SCORE TABLE'!$H48:$AA48,0)+ COUNTIF('SCORE TABLE'!$H48:V48, 'SCORE TABLE'!V48) - 1","v":11},{"$f":"RANK('SCORE TABLE'!W48,'SCORE TABLE'!$H48:$AA48,0)+ COUNTIF('SCORE TABLE'!$H48:W48, 'SCORE TABLE'!W48) - 1","v":12},{"$f":"RANK('SCORE TABLE'!X48,'SCORE TABLE'!$H48:$AA48,0)+ COUNTIF('SCORE TABLE'!$H48:X48, 'SCORE TABLE'!X48) - 1","v":13},{"$f":"RANK('SCORE TABLE'!Y48,'SCORE TABLE'!$H48:$AA48,0)+ COUNTIF('SCORE TABLE'!$H48:Y48, 'SCORE TABLE'!Y48) - 1","v":14},{"$f":"RANK('SCORE TABLE'!Z48,'SCORE TABLE'!$H48:$AA48,0)+ COUNTIF('SCORE TABLE'!$H48:Z48, 'SCORE TABLE'!Z48) - 1","v":15},{"$f":"RANK('SCORE TABLE'!AA48,'SCORE TABLE'!$H48:$AA48,0)+ COUNTIF('SCORE TABLE'!$H48:AA48, 'SCORE TABLE'!AA48) - 1","v":16}]
[null,1038,4,"Physical activity",{"$f":"RANK('SCORE TABLE'!H49,'SCORE TABLE'!$H49:$AA49,0)+ COUNTIF('SCORE TABLE'!$H49:H49, 'SCORE TABLE'!H49) - 1","v":12},{"$f":"RANK('SCORE TABLE'!I49,'SCORE TABLE'!$H49:$AA49,0)+ COUNTIF('SCORE TABLE'!$H49:I49, 'SCORE TABLE'!I49) - 1","v":3},{"$f":"RANK('SCORE TABLE'!J49,'SCORE TABLE'!$H49:$AA49,0)+ COUNTIF('SCORE TABLE'!$H49:J49, 'SCORE TABLE'!J49) - 1","v":5},{"$f":"RANK('SCORE TABLE'!K49,'SCORE TABLE'!$H49:$AA49,0)+ COUNTIF('SCORE TABLE'!$H49:K49, 'SCORE TABLE'!K49) - 1","v":1},{"$f":"RANK('SCORE TABLE'!L49,'SCORE TABLE'!$H49:$AA49,0)+ COUNTIF('SCORE TABLE'!$H49:L49, 'SCORE TABLE'!L49) - 1","v":9},{"$f":"RANK('SCORE TABLE'!M49,'SCORE TABLE'!$H49:$AA49,0)+ COUNTIF('SCORE TABLE'!$H49:M49, 'SCORE TABLE'!M49) - 1","v":4},{"$f":"RANK('SCORE TABLE'!N49,'SCORE TABLE'!$H49:$AA49,0)+ COUNTIF('SCORE TABLE'!$H49:N49, 'SCORE TABLE'!N49) - 1","v":6},{"$f":"RANK('SCORE TABLE'!O49,'SCORE TABLE'!$H49:$AA49,0)+ COUNTIF('SCORE TABLE'!$H49:O49, 'SCORE TABLE'!O49) - 1","v":13},{"$f":"RANK('SCORE TABLE'!P49,'SCORE TABLE'!$H49:$AA49,0)+ COUNTIF('SCORE TABLE'!$H49:P49, 'SCORE TABLE'!P49) - 1","v":7},{"$f":"RANK('SCORE TABLE'!Q49,'SCORE TABLE'!$H49:$AA49,0)+ COUNTIF('SCORE TABLE'!$H49:Q49, 'SCORE TABLE'!Q49) - 1","v":10},{"$f":"RANK('SCORE TABLE'!R49,'SCORE TABLE'!$H49:$AA49,0)+ COUNTIF('SCORE TABLE'!$H49:R49, 'SCORE TABLE'!R49) - 1","v":17},{"$f":"RANK('SCORE TABLE'!S49,'SCORE TABLE'!$H49:$AA49,0)+ COUNTIF('SCORE TABLE'!$H49:S49, 'SCORE TABLE'!S49) - 1","v":20},{"$f":"RANK('SCORE TABLE'!T49,'SCORE TABLE'!$H49:$AA49,0)+ COUNTIF('SCORE TABLE'!$H49:T49, 'SCORE TABLE'!T49) - 1","v":14},{"$f":"RANK('SCORE TABLE'!U49,'SCORE TABLE'!$H49:$AA49,0)+ COUNTIF('SCORE TABLE'!$H49:U49, 'SCORE TABLE'!U49) - 1","v":18},{"$f":"RANK('SCORE TABLE'!V49,'SCORE TABLE'!$H49:$AA49,0)+ COUNTIF('SCORE TABLE'!$H49:V49, 'SCORE TABLE'!V49) - 1","v":8},{"$f":"RANK('SCORE TABLE'!W49,'SCORE TABLE'!$H49:$AA49,0)+ COUNTIF('SCORE TABLE'!$H49:W49, 'SCORE TABLE'!W49) - 1","v":11},{"$f":"RANK('SCORE TABLE'!X49,'SCORE TABLE'!$H49:$AA49,0)+ COUNTIF('SCORE TABLE'!$H49:X49, 'SCORE TABLE'!X49) - 1","v":2},{"$f":"RANK('SCORE TABLE'!Y49,'SCORE TABLE'!$H49:$AA49,0)+ COUNTIF('SCORE TABLE'!$H49:Y49, 'SCORE TABLE'!Y49) - 1","v":15},{"$f":"RANK('SCORE TABLE'!Z49,'SCORE TABLE'!$H49:$AA49,0)+ COUNTIF('SCORE TABLE'!$H49:Z49, 'SCORE TABLE'!Z49) - 1","v":16},{"$f":"RANK('SCORE TABLE'!AA49,'SCORE TABLE'!$H49:$AA49,0)+ COUNTIF('SCORE TABLE'!$H49:AA49, 'SCORE TABLE'!AA49) - 1","v":19}]
[null,1039,4.0999999999999996,"Physical activity among the population",{"$f":"RANK('SCORE TABLE'!H50,'SCORE TABLE'!$H50:$AA50,0)+ COUNTIF('SCORE TABLE'!$H50:H50, 'SCORE TABLE'!H50) - 1","v":14},{"$f":"RANK('SCORE TABLE'!I50,'SCORE TABLE'!$H50:$AA50,0)+ COUNTIF('SCORE TABLE'!$H50:I50, 'SCORE TABLE'!I50) - 1","v":2},{"$f":"RANK('SCORE TABLE'!J50,'SCORE TABLE'!$H50:$AA50,0)+ COUNTIF('SCORE TABLE'!$H50:J50, 'SCORE TABLE'!J50) - 1","v":4},{"$f":"RANK('SCORE TABLE'!K50,'SCORE TABLE'!$H50:$AA50,0)+ COUNTIF('SCORE TABLE'!$H50:K50, 'SCORE TABLE'!K50) - 1","v":9},{"$f":"RANK('SCORE TABLE'!L50,'SCORE TABLE'!$H50:$AA50,0)+ COUNTIF('SCORE TABLE'!$H50:L50, 'SCORE TABLE'!L50) - 1","v":10},{"$f":"RANK('SCORE TABLE'!M50,'SCORE TABLE'!$H50:$AA50,0)+ COUNTIF('SCORE TABLE'!$H50:M50, 'SCORE TABLE'!M50) - 1","v":3},{"$f":"RANK('SCORE TABLE'!N50,'SCORE TABLE'!$H50:$AA50,0)+ COUNTIF('SCORE TABLE'!$H50:N50, 'SCORE TABLE'!N50) - 1","v":5},{"$f":"RANK('SCORE TABLE'!O50,'SCORE TABLE'!$H50:$AA50,0)+ COUNTIF('SCORE TABLE'!$H50:O50, 'SCORE TABLE'!O50) - 1","v":15},{"$f":"RANK('SCORE TABLE'!P50,'SCORE TABLE'!$H50:$AA50,0)+ COUNTIF('SCORE TABLE'!$H50:P50, 'SCORE TABLE'!P50) - 1","v":6},{"$f":"RANK('SCORE TABLE'!Q50,'SCORE TABLE'!$H50:$AA50,0)+ COUNTIF('SCORE TABLE'!$H50:Q50, 'SCORE TABLE'!Q50) - 1","v":11},{"$f":"RANK('SCORE TABLE'!R50,'SCORE TABLE'!$H50:$AA50,0)+ COUNTIF('SCORE TABLE'!$H50:R50, 'SCORE TABLE'!R50) - 1","v":19},{"$f":"RANK('SCORE TABLE'!S50,'SCORE TABLE'!$H50:$AA50,0)+ COUNTIF('SCORE TABLE'!$H50:S50, 'SCORE TABLE'!S50) - 1","v":20},{"$f":"RANK('SCORE TABLE'!T50,'SCORE TABLE'!$H50:$AA50,0)+ COUNTIF('SCORE TABLE'!$H50:T50, 'SCORE TABLE'!T50) - 1","v":16},{"$f":"RANK('SCORE TABLE'!U50,'SCORE TABLE'!$H50:$AA50,0)+ COUNTIF('SCORE TABLE'!$H50:U50, 'SCORE TABLE'!U50) - 1","v":7},{"$f":"RANK('SCORE TABLE'!V50,'SCORE TABLE'!$H50:$AA50,0)+ COUNTIF('SCORE TABLE'!$H50:V50, 'SCORE TABLE'!V50) - 1","v":8},{"$f":"RANK('SCORE TABLE'!W50,'SCORE TABLE'!$H50:$AA50,0)+ COUNTIF('SCORE TABLE'!$H50:W50, 'SCORE TABLE'!W50) - 1","v":12},{"$f":"RANK('SCORE TABLE'!X50,'SCORE TABLE'!$H50:$AA50,0)+ COUNTIF('SCORE TABLE'!$H50:X50, 'SCORE TABLE'!X50) - 1","v":1},{"$f":"RANK('SCORE TABLE'!Y50,'SCORE TABLE'!$H50:$AA50,0)+ COUNTIF('SCORE TABLE'!$H50:Y50, 'SCORE TABLE'!Y50) - 1","v":17},{"$f":"RANK('SCORE TABLE'!Z50,'SCORE TABLE'!$H50:$AA50,0)+ COUNTIF('SCORE TABLE'!$H50:Z50, 'SCORE TABLE'!Z50) - 1","v":18},{"$f":"RANK('SCORE TABLE'!AA50,'SCORE TABLE'!$H50:$AA50,0)+ COUNTIF('SCORE TABLE'!$H50:AA50, 'SCORE TABLE'!AA50) - 1","v":13}]
[null,1040,"4.1.1","Promotion of physical activity",{"$f":"RANK('SCORE TABLE'!H51,'SCORE TABLE'!$H51:$AA51,0)+ COUNTIF('SCORE TABLE'!$H51:H51, 'SCORE TABLE'!H51) - 1","v":7},{"$f":"RANK('SCORE TABLE'!I51,'SCORE TABLE'!$H51:$AA51,0)+ COUNTIF('SCORE TABLE'!$H51:I51, 'SCORE TABLE'!I51) - 1","v":1},{"$f":"RANK('SCORE TABLE'!J51,'SCORE TABLE'!$H51:$AA51,0)+ COUNTIF('SCORE TABLE'!$H51:J51, 'SCORE TABLE'!J51) - 1","v":2},{"$f":"RANK('SCORE TABLE'!K51,'SCORE TABLE'!$H51:$AA51,0)+ COUNTIF('SCORE TABLE'!$H51:K51, 'SCORE TABLE'!K51) - 1","v":15},{"$f":"RANK('SCORE TABLE'!L51,'SCORE TABLE'!$H51:$AA51,0)+ COUNTIF('SCORE TABLE'!$H51:L51, 'SCORE TABLE'!L51) - 1","v":3},{"$f":"RANK('SCORE TABLE'!M51,'SCORE TABLE'!$H51:$AA51,0)+ COUNTIF('SCORE TABLE'!$H51:M51, 'SCORE TABLE'!M51) - 1","v":8},{"$f":"RANK('SCORE TABLE'!N51,'SCORE TABLE'!$H51:$AA51,0)+ COUNTIF('SCORE TABLE'!$H51:N51, 'SCORE TABLE'!N51) - 1","v":4},{"$f":"RANK('SCORE TABLE'!O51,'SCORE TABLE'!$H51:$AA51,0)+ COUNTIF('SCORE TABLE'!$H51:O51, 'SCORE TABLE'!O51) - 1","v":9},{"$f":"RANK('SCORE TABLE'!P51,'SCORE TABLE'!$H51:$AA51,0)+ COUNTIF('SCORE TABLE'!$H51:P51, 'SCORE TABLE'!P51) - 1","v":10},{"$f":"RANK('SCORE TABLE'!Q51,'SCORE TABLE'!$H51:$AA51,0)+ COUNTIF('SCORE TABLE'!$H51:Q51, 'SCORE TABLE'!Q51) - 1","v":11},{"$f":"RANK('SCORE TABLE'!R51,'SCORE TABLE'!$H51:$AA51,0)+ COUNTIF('SCORE TABLE'!$H51:R51, 'SCORE TABLE'!R51) - 1","v":16},{"$f":"RANK('SCORE TABLE'!S51,'SCORE TABLE'!$H51:$AA51,0)+ COUNTIF('SCORE TABLE'!$H51:S51, 'SCORE TABLE'!S51) - 1","v":20},{"$f":"RANK('SCORE TABLE'!T51,'SCORE TABLE'!$H51:$AA51,0)+ COUNTIF('SCORE TABLE'!$H51:T51, 'SCORE TABLE'!T51) - 1","v":12},{"$f":"RANK('SCORE TABLE'!U51,'SCORE TABLE'!$H51:$AA51,0)+ COUNTIF('SCORE TABLE'!$H51:U51, 'SCORE TABLE'!U51) - 1","v":17},{"$f":"RANK('SCORE TABLE'!V51,'SCORE TABLE'!$H51:$AA51,0)+ COUNTIF('SCORE TABLE'!$H51:V51, 'SCORE TABLE'!V51) - 1","v":18},{"$f":"RANK('SCORE TABLE'!W51,'SCORE TABLE'!$H51:$AA51,0)+ COUNTIF('SCORE TABLE'!$H51:W51, 'SCORE TABLE'!W51) - 1","v":5},{"$f":"RANK('SCORE TABLE'!X51,'SCORE TABLE'!$H51:$AA51,0)+ COUNTIF('SCORE TABLE'!$H51:X51, 'SCORE TABLE'!X51) - 1","v":6},{"$f":"RANK('SCORE TABLE'!Y51,'SCORE TABLE'!$H51:$AA51,0)+ COUNTIF('SCORE TABLE'!$H51:Y51, 'SCORE TABLE'!Y51) - 1","v":19},{"$f":"RANK('SCORE TABLE'!Z51,'SCORE TABLE'!$H51:$AA51,0)+ COUNTIF('SCORE TABLE'!$H51:Z51, 'SCORE TABLE'!Z51) - 1","v":13},{"$f":"RANK('SCORE TABLE'!AA51,'SCORE TABLE'!$H51:$AA51,0)+ COUNTIF('SCORE TABLE'!$H51:AA51, 'SCORE TABLE'!AA51) - 1","v":14}]
[null,1041,"4.1.2","Physical activity policies that address obesity",{"$f":"RANK('SCORE TABLE'!H52,'SCORE TABLE'!$H52:$AA52,0)+ COUNTIF('SCORE TABLE'!$H52:H52, 'SCORE TABLE'!H52) - 1","v":13},{"$f":"RANK('SCORE TABLE'!I52,'SCORE TABLE'!$H52:$AA52,0)+ COUNTIF('SCORE TABLE'!$H52:I52, 'SCORE TABLE'!I52) - 1","v":5},{"$f":"RANK('SCORE TABLE'!J52,'SCORE TABLE'!$H52:$AA52,0)+ COUNTIF('SCORE TABLE'!$H52:J52, 'SCORE TABLE'!J52) - 1","v":8},{"$f":"RANK('SCORE TABLE'!K52,'SCORE TABLE'!$H52:$AA52,0)+ COUNTIF('SCORE TABLE'!$H52:K52, 'SCORE TABLE'!K52) - 1","v":6},{"$f":"RANK('SCORE TABLE'!L52,'SCORE TABLE'!$H52:$AA52,0)+ COUNTIF('SCORE TABLE'!$H52:L52, 'SCORE TABLE'!L52) - 1","v":14},{"$f":"RANK('SCORE TABLE'!M52,'SCORE TABLE'!$H52:$AA52,0)+ COUNTIF('SCORE TABLE'!$H52:M52, 'SCORE TABLE'!M52) - 1","v":1},{"$f":"RANK('SCORE TABLE'!N52,'SCORE TABLE'!$H52:$AA52,0)+ COUNTIF('SCORE TABLE'!$H52:N52, 'SCORE TABLE'!N52) - 1","v":9},{"$f":"RANK('SCORE TABLE'!O52,'SCORE TABLE'!$H52:$AA52,0)+ COUNTIF('SCORE TABLE'!$H52:O52, 'SCORE TABLE'!O52) - 1","v":15},{"$f":"RANK('SCORE TABLE'!P52,'SCORE TABLE'!$H52:$AA52,0)+ COUNTIF('SCORE TABLE'!$H52:P52, 'SCORE TABLE'!P52) - 1","v":7},{"$f":"RANK('SCORE TABLE'!Q52,'SCORE TABLE'!$H52:$AA52,0)+ COUNTIF('SCORE TABLE'!$H52:Q52, 'SCORE TABLE'!Q52) - 1","v":10},{"$f":"RANK('SCORE TABLE'!R52,'SCORE TABLE'!$H52:$AA52,0)+ COUNTIF('SCORE TABLE'!$H52:R52, 'SCORE TABLE'!R52) - 1","v":16},{"$f":"RANK('SCORE TABLE'!S52,'SCORE TABLE'!$H52:$AA52,0)+ COUNTIF('SCORE TABLE'!$H52:S52, 'SCORE TABLE'!S52) - 1","v":17},{"$f":"RANK('SCORE TABLE'!T52,'SCORE TABLE'!$H52:$AA52,0)+ COUNTIF('SCORE TABLE'!$H52:T52, 'SCORE TABLE'!T52) - 1","v":18},{"$f":"RANK('SCORE TABLE'!U52,'SCORE TABLE'!$H52:$AA52,0)+ COUNTIF('SCORE TABLE'!$H52:U52, 'SCORE TABLE'!U52) - 1","v":2},{"$f":"RANK('SCORE TABLE'!V52,'SCORE TABLE'!$H52:$AA52,0)+ COUNTIF('SCORE TABLE'!$H52:V52, 'SCORE TABLE'!V52) - 1","v":3},{"$f":"RANK('SCORE TABLE'!W52,'SCORE TABLE'!$H52:$AA52,0)+ COUNTIF('SCORE TABLE'!$H52:W52, 'SCORE TABLE'!W52) - 1","v":19},{"$f":"RANK('SCORE TABLE'!X52,'SCORE TABLE'!$H52:$AA52,0)+ COUNTIF('SCORE TABLE'!$H52:X52, 'SCORE TABLE'!X52) - 1","v":4},{"$f":"RANK('SCORE TABLE'!Y52,'SCORE TABLE'!$H52:$AA52,0)+ COUNTIF('SCORE TABLE'!$H52:Y52, 'SCORE TABLE'!Y52) - 1","v":11},{"$f":"RANK('SCORE TABLE'!Z52,'SCORE TABLE'!$H52:$AA52,0)+ COUNTIF('SCORE TABLE'!$H52:Z52, 'SCORE TABLE'!Z52) - 1","v":20},{"$f":"RANK('SCORE TABLE'!AA52,'SCORE TABLE'!$H52:$AA52,0)+ COUNTIF('SCORE TABLE'!$H52:AA52, 'SCORE TABLE'!AA52) - 1","v":12}]
[null,1042,4.2,"Physical activity among children",{"$f":"RANK('SCORE TABLE'!H53,'SCORE TABLE'!$H53:$AA53,0)+ COUNTIF('SCORE TABLE'!$H53:H53, 'SCORE TABLE'!H53) - 1","v":2},{"$f":"RANK('SCORE TABLE'!I53,'SCORE TABLE'!$H53:$AA53,0)+ COUNTIF('SCORE TABLE'!$H53:I53, 'SCORE TABLE'!I53) - 1","v":3},{"$f":"RANK('SCORE TABLE'!J53,'SCORE TABLE'!$H53:$AA53,0)+ COUNTIF('SCORE TABLE'!$H53:J53, 'SCORE TABLE'!J53) - 1","v":4},{"$f":"RANK('SCORE TABLE'!K53,'SCORE TABLE'!$H53:$AA53,0)+ COUNTIF('SCORE TABLE'!$H53:K53, 'SCORE TABLE'!K53) - 1","v":1},{"$f":"RANK('SCORE TABLE'!L53,'SCORE TABLE'!$H53:$AA53,0)+ COUNTIF('SCORE TABLE'!$H53:L53, 'SCORE TABLE'!L53) - 1","v":5},{"$f":"RANK('SCORE TABLE'!M53,'SCORE TABLE'!$H53:$AA53,0)+ COUNTIF('SCORE TABLE'!$H53:M53, 'SCORE TABLE'!M53) - 1","v":6},{"$f":"RANK('SCORE TABLE'!N53,'SCORE TABLE'!$H53:$AA53,0)+ COUNTIF('SCORE TABLE'!$H53:N53, 'SCORE TABLE'!N53) - 1","v":7},{"$f":"RANK('SCORE TABLE'!O53,'SCORE TABLE'!$H53:$AA53,0)+ COUNTIF('SCORE TABLE'!$H53:O53, 'SCORE TABLE'!O53) - 1","v":8},{"$f":"RANK('SCORE TABLE'!P53,'SCORE TABLE'!$H53:$AA53,0)+ COUNTIF('SCORE TABLE'!$H53:P53, 'SCORE TABLE'!P53) - 1","v":9},{"$f":"RANK('SCORE TABLE'!Q53,'SCORE TABLE'!$H53:$AA53,0)+ COUNTIF('SCORE TABLE'!$H53:Q53, 'SCORE TABLE'!Q53) - 1","v":10},{"$f":"RANK('SCORE TABLE'!R53,'SCORE TABLE'!$H53:$AA53,0)+ COUNTIF('SCORE TABLE'!$H53:R53, 'SCORE TABLE'!R53) - 1","v":11},{"$f":"RANK('SCORE TABLE'!S53,'SCORE TABLE'!$H53:$AA53,0)+ COUNTIF('SCORE TABLE'!$H53:S53, 'SCORE TABLE'!S53) - 1","v":18},{"$f":"RANK('SCORE TABLE'!T53,'SCORE TABLE'!$H53:$AA53,0)+ COUNTIF('SCORE TABLE'!$H53:T53, 'SCORE TABLE'!T53) - 1","v":12},{"$f":"RANK('SCORE TABLE'!U53,'SCORE TABLE'!$H53:$AA53,0)+ COUNTIF('SCORE TABLE'!$H53:U53, 'SCORE TABLE'!U53) - 1","v":19},{"$f":"RANK('SCORE TABLE'!V53,'SCORE TABLE'!$H53:$AA53,0)+ COUNTIF('SCORE TABLE'!$H53:V53, 'SCORE TABLE'!V53) - 1","v":13},{"$f":"RANK('SCORE TABLE'!W53,'SCORE TABLE'!$H53:$AA53,0)+ COUNTIF('SCORE TABLE'!$H53:W53, 'SCORE TABLE'!W53) - 1","v":14},{"$f":"RANK('SCORE TABLE'!X53,'SCORE TABLE'!$H53:$AA53,0)+ COUNTIF('SCORE TABLE'!$H53:X53, 'SCORE TABLE'!X53) - 1","v":15},{"$f":"RANK('SCORE TABLE'!Y53,'SCORE TABLE'!$H53:$AA53,0)+ COUNTIF('SCORE TABLE'!$H53:Y53, 'SCORE TABLE'!Y53) - 1","v":16},{"$f":"RANK('SCORE TABLE'!Z53,'SCORE TABLE'!$H53:$AA53,0)+ COUNTIF('SCORE TABLE'!$H53:Z53, 'SCORE TABLE'!Z53) - 1","v":17},{"$f":"RANK('SCORE TABLE'!AA53,'SCORE TABLE'!$H53:$AA53,0)+ COUNTIF('SCORE TABLE'!$H53:AA53, 'SCORE TABLE'!AA53) - 1","v":20}]
[null,1043,"4.2.1","Physical activity mandates",{"$f":"RANK('SCORE TABLE'!H54,'SCORE TABLE'!$H54:$AA54,0)+ COUNTIF('SCORE TABLE'!$H54:H54, 'SCORE TABLE'!H54) - 1","v":2},{"$f":"RANK('SCORE TABLE'!I54,'SCORE TABLE'!$H54:$AA54,0)+ COUNTIF('SCORE TABLE'!$H54:I54, 'SCORE TABLE'!I54) - 1","v":3},{"$f":"RANK('SCORE TABLE'!J54,'SCORE TABLE'!$H54:$AA54,0)+ COUNTIF('SCORE TABLE'!$H54:J54, 'SCORE TABLE'!J54) - 1","v":4},{"$f":"RANK('SCORE TABLE'!K54,'SCORE TABLE'!$H54:$AA54,0)+ COUNTIF('SCORE TABLE'!$H54:K54, 'SCORE TABLE'!K54) - 1","v":1},{"$f":"RANK('SCORE TABLE'!L54,'SCORE TABLE'!$H54:$AA54,0)+ COUNTIF('SCORE TABLE'!$H54:L54, 'SCORE TABLE'!L54) - 1","v":5},{"$f":"RANK('SCORE TABLE'!M54,'SCORE TABLE'!$H54:$AA54,0)+ COUNTIF('SCORE TABLE'!$H54:M54, 'SCORE TABLE'!M54) - 1","v":6},{"$f":"RANK('SCORE TABLE'!N54,'SCORE TABLE'!$H54:$AA54,0)+ COUNTIF('SCORE TABLE'!$H54:N54, 'SCORE TABLE'!N54) - 1","v":7},{"$f":"RANK('SCORE TABLE'!O54,'SCORE TABLE'!$H54:$AA54,0)+ COUNTIF('SCORE TABLE'!$H54:O54, 'SCORE TABLE'!O54) - 1","v":8},{"$f":"RANK('SCORE TABLE'!P54,'SCORE TABLE'!$H54:$AA54,0)+ COUNTIF('SCORE TABLE'!$H54:P54, 'SCORE TABLE'!P54) - 1","v":9},{"$f":"RANK('SCORE TABLE'!Q54,'SCORE TABLE'!$H54:$AA54,0)+ COUNTIF('SCORE TABLE'!$H54:Q54, 'SCORE TABLE'!Q54) - 1","v":10},{"$f":"RANK('SCORE TABLE'!R54,'SCORE TABLE'!$H54:$AA54,0)+ COUNTIF('SCORE TABLE'!$H54:R54, 'SCORE TABLE'!R54) - 1","v":11},{"$f":"RANK('SCORE TABLE'!S54,'SCORE TABLE'!$H54:$AA54,0)+ COUNTIF('SCORE TABLE'!$H54:S54, 'SCORE TABLE'!S54) - 1","v":18},{"$f":"RANK('SCORE TABLE'!T54,'SCORE TABLE'!$H54:$AA54,0)+ COUNTIF('SCORE TABLE'!$H54:T54, 'SCORE TABLE'!T54) - 1","v":12},{"$f":"RANK('SCORE TABLE'!U54,'SCORE TABLE'!$H54:$AA54,0)+ COUNTIF('SCORE TABLE'!$H54:U54, 'SCORE TABLE'!U54) - 1","v":19},{"$f":"RANK('SCORE TABLE'!V54,'SCORE TABLE'!$H54:$AA54,0)+ COUNTIF('SCORE TABLE'!$H54:V54, 'SCORE TABLE'!V54) - 1","v":13},{"$f":"RANK('SCORE TABLE'!W54,'SCORE TABLE'!$H54:$AA54,0)+ COUNTIF('SCORE TABLE'!$H54:W54, 'SCORE TABLE'!W54) - 1","v":14},{"$f":"RANK('SCORE TABLE'!X54,'SCORE TABLE'!$H54:$AA54,0)+ COUNTIF('SCORE TABLE'!$H54:X54, 'SCORE TABLE'!X54) - 1","v":15},{"$f":"RANK('SCORE TABLE'!Y54,'SCORE TABLE'!$H54:$AA54,0)+ COUNTIF('SCORE TABLE'!$H54:Y54, 'SCORE TABLE'!Y54) - 1","v":16},{"$f":"RANK('SCORE TABLE'!Z54,'SCORE TABLE'!$H54:$AA54,0)+ COUNTIF('SCORE TABLE'!$H54:Z54, 'SCORE TABLE'!Z54) - 1","v":17},{"$f":"RANK('SCORE TABLE'!AA54,'SCORE TABLE'!$H54:$AA54,0)+ COUNTIF('SCORE TABLE'!$H54:AA54, 'SCORE TABLE'!AA54) - 1","v":20}]

{"sheet":"Score_rank shared","index":10,"n_rows":48,"n_cols":24,"rows_kept":48,"cut":false,"hidden":true,"merged":[]}
["Ranking - shared"]
[]
[null,"UID","No.","Indicator name","Australia","Brazil","Canada","China","Finland","France","Germany","India","Italy","Japan","Mexico","Nigeria","Rwanda","Saudi Arabia","Serbia","South Africa","South Korea","Spain","United Arab Emirates","United Kingdom"]
[null,0,0,"OVERALL",{"$f":"SUMPRODUCT(('SCORE TABLE'!H10<='SCORE TABLE'!$H10:$AA10)/COUNTIF('SCORE TABLE'!$H10:$AA10,'SCORE TABLE'!$H10:$AA10))","v":9},{"$f":"SUMPRODUCT(('SCORE TABLE'!I10<='SCORE TABLE'!$H10:$AA10)/COUNTIF('SCORE TABLE'!$H10:$AA10,'SCORE TABLE'!$H10:$AA10))","v":3},{"$f":"SUMPRODUCT(('SCORE TABLE'!J10<='SCORE TABLE'!$H10:$AA10)/COUNTIF('SCORE TABLE'!$H10:$AA10,'SCORE TABLE'!$H10:$AA10))","v":13},{"$f":"SUMPRODUCT(('SCORE TABLE'!K10<='SCORE TABLE'!$H10:$AA10)/COUNTIF('SCORE TABLE'!$H10:$AA10,'SCORE TABLE'!$H10:$AA10))","v":8},{"$f":"SUMPRODUCT(('SCORE TABLE'!L10<='SCORE TABLE'!$H10:$AA10)/COUNTIF('SCORE TABLE'!$H10:$AA10,'SCORE TABLE'!$H10:$AA10))","v":5},{"$f":"SUMPRODUCT(('SCORE TABLE'!M10<='SCORE TABLE'!$H10:$AA10)/COUNTIF('SCORE TABLE'!$H10:$AA10,'SCORE TABLE'!$H10:$AA10))","v":2},{"$f":"SUMPRODUCT(('SCORE TABLE'!N10<='SCORE TABLE'!$H10:$AA10)/COUNTIF('SCORE TABLE'!$H10:$AA10,'SCORE TABLE'!$H10:$AA10))","v":6},{"$f":"SUMPRODUCT(('SCORE TABLE'!O10<='SCORE TABLE'!$H10:$AA10)/COUNTIF('SCORE TABLE'!$H10:$AA10,'SCORE TABLE'!$H10:$AA10))","v":17},{"$f":"SUMPRODUCT(('SCORE TABLE'!P10<='SCORE TABLE'!$H10:$AA10)/COUNTIF('SCORE TABLE'!$H10:$AA10,'SCORE TABLE'!$H10:$AA10))","v":8},{"$f":"SUMPRODUCT(('SCORE TABLE'!Q10<='SCORE TABLE'!$H10:$AA10)/COUNTIF('SCORE TABLE'!$H10:$AA10,'SCORE TABLE'!$H10:$AA10))","v":12},{"$f":"SUMPRODUCT(('SCORE TABLE'!R10<='SCORE TABLE'!$H10:$AA10)/COUNTIF('SCORE TABLE'!$H10:$AA10,'SCORE TABLE'!$H10:$AA10))","v":10},{"$f":"SUMPRODUCT(('SCORE TABLE'!S10<='SCORE TABLE'!$H10:$AA10)/COUNTIF('SCORE TABLE'!$H10:$AA10,'SCORE TABLE'!$H10:$AA10))","v":18},{"$f":"SUMPRODUCT(('SCORE TABLE'!T10<='SCORE TABLE'!$H10:$AA10)/COUNTIF('SCORE TABLE'!$H10:$AA10,'SCORE TABLE'!$H10:$AA10))","v":16},{"$f":"SUMPRODUCT(('SCORE TABLE'!U10<='SCORE TABLE'!$H10:$AA10)/COUNTIF('SCORE TABLE'!$H10:$AA10,'SCORE TABLE'!$H10:$AA10))","v":14},{"$f":"SUMPRODUCT(('SCORE TABLE'!V10<='SCORE TABLE'!$H10:$AA10)/COUNTIF('SCORE TABLE'!$H10:$AA10,'SCORE TABLE'!$H10:$AA10))","v":1},{"$f":"SUMPRODUCT(('SCORE TABLE'!W10<='SCORE TABLE'!$H10:$AA10)/COUNTIF('SCORE TABLE'!$H10:$AA10,'SCORE TABLE'!$H10:$AA10))","v":15},{"$f":"SUMPRODUCT(('SCORE TABLE'!X10<='SCORE TABLE'!$H10:$AA10)/COUNTIF('SCORE TABLE'!$H10:$AA10,'SCORE TABLE'!$H10:$AA10))","v":4},{"$f":"SUMPRODUCT(('SCORE TABLE'!Y10<='SCORE TABLE'!$H10:$AA10)/COUNTIF('SCORE TABLE'!$H10:$AA10,'SCORE TABLE'!$H10:$AA10))","v":12},{"$f":"SUMPRODUCT(('SCORE TABLE'!Z10<='SCORE TABLE'!$H10:$AA10)/COUNTIF('SCORE TABLE'!$H10:$AA10,'SCORE TABLE'!$H10:$AA10))","v":11},{"$f":"SUMPRODUCT(('SCORE TABLE'!AA10<='SCORE TABLE'!$H10:$AA10)/COUNTIF('SCORE TABLE'!$H10:$AA10,'SCORE TABLE'!$H10:$AA10))","v":7}]
[null,1000,1,"Policy and governance",{"$f":"SUMPRODUCT(('SCORE TABLE'!H11<='SCORE TABLE'!$H11:$AA11)/COUNTIF('SCORE TABLE'!$H11:$AA11,'SCORE TABLE'!$H11:$AA11))","v":4},{"$f":"SUMPRODUCT(('SCORE TABLE'!I11<='SCORE TABLE'!$H11:$AA11)/COUNTIF('SCORE TABLE'!$H11:$AA11,'SCORE TABLE'!$H11:$AA11))","v":6},{"$f":"SUMPRODUCT(('SCORE TABLE'!J11<='SCORE TABLE'!$H11:$AA11)/COUNTIF('SCORE TABLE'!$H11:$AA11,'SCORE TABLE'!$H11:$AA11))","v":16},{"$f":"SUMPRODUCT(('SCORE TABLE'!K11<='SCORE TABLE'!$H11:$AA11)/COUNTIF('SCORE TABLE'!$H11:$AA11,'SCORE TABLE'!$H11:$AA11))","v":7},{"$f":"SUMPRODUCT(('SCORE TABLE'!L11<='SCORE TABLE'!$H11:$AA11)/COUNTIF('SCORE TABLE'!$H11:$AA11,'SCORE TABLE'!$H11:$AA11))","v":7},{"$f":"SUMPRODUCT(('SCORE TABLE'!M11<='SCORE TABLE'!$H11:$AA11)/COUNTIF('SCORE TABLE'!$H11:$AA11,'SCORE TABLE'!$H11:$AA11))","v":2},{"$f":"SUMPRODUCT(('SCORE TABLE'!N11<='SCORE TABLE'!$H11:$AA11)/COUNTIF('SCORE TABLE'!$H11:$AA11,'SCORE TABLE'!$H11:$AA11))","v":3},{"$f":"SUMPRODUCT(('SCORE TABLE'!O11<='SCORE TABLE'!$H11:$AA11)/COUNTIF('SCORE TABLE'!$H11:$AA11,'SCORE TABLE'!$H11:$AA11))","v":13},{"$f":"SUMPRODUCT(('SCORE TABLE'!P11<='SCORE TABLE'!$H11:$AA11)/COUNTIF('SCORE TABLE'!$H11:$AA11,'SCORE TABLE'!$H11:$AA11))","v":8},{"$f":"SUMPRODUCT(('SCORE TABLE'!Q11<='SCORE TABLE'!$H11:$AA11)/COUNTIF('SCORE TABLE'!$H11:$AA11,'SCORE TABLE'!$H11:$AA11))","v":12},{"$f":"SUMPRODUCT(('SCORE TABLE'!R11<='SCORE TABLE'!$H11:$AA11)/COUNTIF('SCORE TABLE'!$H11:$AA11,'SCORE TABLE'!$H11:$AA11))","v":10},{"$f":"SUMPRODUCT(('SCORE TABLE'!S11<='SCORE TABLE'!$H11:$AA11)/COUNTIF('SCORE TABLE'!$H11:$AA11,'SCORE TABLE'!$H11:$AA11))","v":14},{"$f":"SUMPRODUCT(('SCORE TABLE'!T11<='SCORE TABLE'!$H11:$AA11)/COUNTIF('SCORE TABLE'!$H11:$AA11,'SCORE TABLE'!$H11:$AA11))","v":15},{"$f":"SUMPRODUCT(('SCORE TABLE'!U11<='SCORE TABLE'!$H11:$AA11)/COUNTIF('SCORE TABLE'!$H11:$AA11,'SCORE TABLE'!$H11:$AA11))","v":11},{"$f":"SUMPRODUCT(('SCORE TABLE'!V11<='SCORE TABLE'!$H11:$AA11)/COUNTIF('SCORE TABLE'!$H11:$AA11,'SCORE TABLE'!$H11:$AA11))","v":1},{"$f":"SUMPRODUCT(('SCORE TABLE'!W11<='SCORE TABLE'!$H11:$AA11)/COUNTIF('SCORE TABLE'!$H11:$AA11,'SCORE TABLE'!$H11:$AA11))","v":9},{"$f":"SUMPRODUCT(('SCORE TABLE'!X11<='SCORE TABLE'!$H11:$AA11)/COUNTIF('SCORE TABLE'!$H11:$AA11,'SCORE TABLE'!$H11:$AA11))","v":5},{"$f":"SUMPRODUCT(('SCORE TABLE'!Y11<='SCORE TABLE'!$H11:$AA11)/COUNTIF('SCORE TABLE'!$H11:$AA11,'SCORE TABLE'!$H11:$AA11))","v":2},{"$f":"SUMPRODUCT(('SCORE TABLE'!Z11<='SCORE TABLE'!$H11:$AA11)/COUNTIF('SCORE TABLE'!$H11:$AA11,'SCORE TABLE'!$H11:$AA11))","v":16},{"$f":"SUMPRODUCT(('SCORE TABLE'!AA11<='SCORE TABLE'!$H11:$AA11)/COUNTIF('SCORE TABLE'!$H11:$AA11,'SCORE TABLE'!$H11:$AA11))","v":10}]
[null,1001,1.1000000000000001,"Obesity-related policy",{"$f":"SUMPRODUCT(('SCORE TABLE'!H12<='SCORE TABLE'!$H12:$AA12)/COUNTIF('SCORE TABLE'!$H12:$AA12,'SCORE TABLE'!$H12:$AA12))","v":4},{"$f":"SUMPRODUCT(('SCORE TABLE'!I12<='SCORE TABLE'!$H12:$AA12)/COUNTIF('SCORE TABLE'!$H12:$AA12,'SCORE TABLE'!$H12:$AA12))","v":6},{"$f":"SUMPRODUCT(('SCORE TABLE'!J12<='SCORE TABLE'!$H12:$AA12)/COUNTIF('SCORE TABLE'!$H12:$AA12,'SCORE TABLE'!$H12:$AA12))","v":16},{"$f":"SUMPRODUCT(('SCORE TABLE'!K12<='SCORE TABLE'!$H12:$AA12)/COUNTIF('SCORE TABLE'!$H12:$AA12,'SCORE TABLE'!$H12:$AA12))","v":7},{"$f":"SUMPRODUCT(('SCORE TABLE'!L12<='SCORE TABLE'!$H12:$AA12)/COUNTIF('SCORE TABLE'!$H12:$AA12,'SCORE TABLE'!$H12:$AA12))","v":7},{"$f":"SUMPRODUCT(('SCORE TABLE'!M12<='SCORE TABLE'!$H12:$AA12)/COUNTIF('SCORE TABLE'!$H12:$AA12,'SCORE TABLE'!$H12:$AA12))","v":2},{"$f":"SUMPRODUCT(('SCORE TABLE'!N12<='SCORE TABLE'!$H12:$AA12)/COUNTIF('SCORE TABLE'!$H12:$AA12,'SCORE TABLE'!$H12:$AA12))","v":3},{"$f":"SUMPRODUCT(('SCORE TABLE'!O12<='SCORE TABLE'!$H12:$AA12)/COUNTIF('SCORE TABLE'!$H12:$AA12,'SCORE TABLE'!$H12:$AA12))","v":13},{"$f":"SUMPRODUCT(('SCORE TABLE'!P12<='SCORE TABLE'!$H12:$AA12)/COUNTIF('SCORE TABLE'!$H12:$AA12,'SCORE TABLE'!$H12:$AA12))","v":8},{"$f":"SUMPRODUCT(('SCORE TABLE'!Q12<='SCORE TABLE'!$H12:$AA12)/COUNTIF('SCORE TABLE'!$H12:$AA12,'SCORE TABLE'!$H12:$AA12))","v":12},{"$f":"SUMPRODUCT(('SCORE TABLE'!R12<='SCORE TABLE'!$H12:$AA12)/COUNTIF('SCORE TABLE'!$H12:$AA12,'SCORE TABLE'!$H12:$AA12))","v":10},{"$f":"SUMPRODUCT(('SCORE TABLE'!S12<='SCORE TABLE'!$H12:$AA12)/COUNTIF('SCORE TABLE'!$H12:$AA12,'SCORE TABLE'!$H12:$AA12))","v":14},{"$f":"SUMPRODUCT(('SCORE TABLE'!T12<='SCORE TABLE'!$H12:$AA12)/COUNTIF('SCORE TABLE'!$H12:$AA12,'SCORE TABLE'!$H12:$AA12))","v":15},{"$f":"SUMPRODUCT(('SCORE TABLE'!U12<='SCORE TABLE'!$H12:$AA12)/COUNTIF('SCORE TABLE'!$H12:$AA12,'SCORE TABLE'!$H12:$AA12))","v":11},{"$f":"SUMPRODUCT(('SCORE TABLE'!V12<='SCORE TABLE'!$H12:$AA12)/COUNTIF('SCORE TABLE'!$H12:$AA12,'SCORE TABLE'!$H12:$AA12))","v":1},{"$f":"SUMPRODUCT(('SCORE TABLE'!W12<='SCORE TABLE'!$H12:$AA12)/COUNTIF('SCORE TABLE'!$H12:$AA12,'SCORE TABLE'!$H12:$AA12))","v":9},{"$f":"SUMPRODUCT(('SCORE TABLE'!X12<='SCORE TABLE'!$H12:$AA12)/COUNTIF('SCORE TABLE'!$H12:$AA12,'SCORE TABLE'!$H12:$AA12))","v":5},{"$f":"SUMPRODUCT(('SCORE TABLE'!Y12<='SCORE TABLE'!$H12:$AA12)/COUNTIF('SCORE TABLE'!$H12:$AA12,'SCORE TABLE'!$H12:$AA12))","v":2},{"$f":"SUMPRODUCT(('SCORE TABLE'!Z12<='SCORE TABLE'!$H12:$AA12)/COUNTIF('SCORE TABLE'!$H12:$AA12,'SCORE TABLE'!$H12:$AA12))","v":16},{"$f":"SUMPRODUCT(('SCORE TABLE'!AA12<='SCORE TABLE'!$H12:$AA12)/COUNTIF('SCORE TABLE'!$H12:$AA12,'SCORE TABLE'!$H12:$AA12))","v":10}]
[null,1002,"1.1.1","Health policy/strategy/plan that includes obesity",{"$f":"SUMPRODUCT(('SCORE TABLE'!H13<='SCORE TABLE'!$H13:$AA13)/COUNTIF('SCORE TABLE'!$H13:$AA13,'SCORE TABLE'!$H13:$AA13))","v":1.0000000000000002},{"$f":"SUMPRODUCT(('SCORE TABLE'!I13<='SCORE TABLE'!$H13:$AA13)/COUNTIF('SCORE TABLE'!$H13:$AA13,'SCORE TABLE'!$H13:$AA13))","v":1.0000000000000002},{"$f":"SUMPRODUCT(('SCORE TABLE'!J13<='SCORE TABLE'!$H13:$AA13)/COUNTIF('SCORE TABLE'!$H13:$AA13,'SCORE TABLE'!$H13:$AA13))","v":2.0000000000000004},{"$f":"SUMPRODUCT(('SCORE TABLE'!K13<='SCORE TABLE'!$H13:$AA13)/COUNTIF('SCORE TABLE'!$H13:$AA13,'SCORE TABLE'!$H13:$AA13))","v":1.0000000000000002},{"$f":"SUMPRODUCT(('SCORE TABLE'!L13<='SCORE TABLE'!$H13:$AA13)/COUNTIF('SCORE TABLE'!$H13:$AA13,'SCORE TABLE'!$H13:$AA13))","v":1.0000000000000002},{"$f":"SUMPRODUCT(('SCORE TABLE'!M13<='SCORE TABLE'!$H13:$AA13)/COUNTIF('SCORE TABLE'!$H13:$AA13,'SCORE TABLE'!$H13:$AA13))","v":1.0000000000000002},{"$f":"SUMPRODUCT(('SCORE TABLE'!N13<='SCORE TABLE'!$H13:$AA13)/COUNTIF('SCORE TABLE'!$H13:$AA13,'SCORE TABLE'!$H13:$AA13))","v":2.0000000000000004},{"$f":"SUMPRODUCT(('SCORE TABLE'!O13<='SCORE TABLE'!$H13:$AA13)/COUNTIF('SCORE TABLE'!$H13:$AA13,'SCORE TABLE'!$H13:$AA13))","v":2.0000000000000004},{"$f":"SUMPRODUCT(('SCORE TABLE'!P13<='SCORE TABLE'!$H13:$AA13)/COUNTIF('SCORE TABLE'!$H13:$AA13,'SCORE TABLE'!$H13:$AA13))","v":1.0000000000000002},{"$f":"SUMPRODUCT(('SCORE TABLE'!Q13<='SCORE TABLE'!$H13:$AA13)/COUNTIF('SCORE TABLE'!$H13:$AA13,'SCORE TABLE'!$H13:$AA13))","v":1.0000000000000002},{"$f":"SUMPRODUCT(('SCORE TABLE'!R13<='SCORE TABLE'!$H13:$AA13)/COUNTIF('SCORE TABLE'!$H13:$AA13,'SCORE TABLE'!$H13:$AA13))","v":2.0000000000000004},{"$f":"SUMPRODUCT(('SCORE TABLE'!S13<='SCORE TABLE'!$H13:$AA13)/COUNTIF('SCORE TABLE'!$H13:$AA13,'SCORE TABLE'!$H13:$AA13))","v":2.0000000000000004},{"$f":"SUMPRODUCT(('SCORE TABLE'!T13<='SCORE TABLE'!$H13:$AA13)/COUNTIF('SCORE TABLE'!$H13:$AA13,'SCORE TABLE'!$H13:$AA13))","v":2.0000000000000004},{"$f":"SUMPRODUCT(('SCORE TABLE'!U13<='SCORE TABLE'!$H13:$AA13)/COUNTIF('SCORE TABLE'!$H13:$AA13,'SCORE TABLE'!$H13:$AA13))","v":2.0000000000000004},{"$f":"SUMPRODUCT(('SCORE TABLE'!V13<='SCORE TABLE'!$H13:$AA13)/COUNTIF('SCORE TABLE'!$H13:$AA13,'SCORE TABLE'!$H13:$AA13))","v":1.0000000000000002},{"$f":"SUMPRODUCT(('SCORE TABLE'!W13<='SCORE TABLE'!$H13:$AA13)/COUNTIF('SCORE TABLE'!$H13:$AA13,'SCORE TABLE'!$H13:$AA13))","v":2.0000000000000004},{"$f":"SUMPRODUCT(('SCORE TABLE'!X13<='SCORE TABLE'!$H13:$AA13)/COUNTIF('SCORE TABLE'!$H13:$AA13,'SCORE TABLE'!$H13:$AA13))","v":1.0000000000000002},{"$f":"SUMPRODUCT(('SCORE TABLE'!Y13<='SCORE TABLE'!$H13:$AA13)/COUNTIF('SCORE TABLE'!$H13:$AA13,'SCORE TABLE'!$H13:$AA13))","v":1.0000000000000002},{"$f":"SUMPRODUCT(('SCORE TABLE'!Z13<='SCORE TABLE'!$H13:$AA13)/COUNTIF('SCORE TABLE'!$H13:$AA13,'SCORE TABLE'!$H13:$AA13))","v":2.0000000000000004},{"$f":"SUMPRODUCT(('SCORE TABLE'!AA13<='SCORE TABLE'!$H13:$AA13)/COUNTIF('SCORE TABLE'!$H13:$AA13,'SCORE TABLE'!$H13:$AA13))","v":1.0000000000000002}]
[null,1003,"1.1.2","Definition of obesity",{"$f":"SUMPRODUCT(('SCORE TABLE'!H14<='SCORE TABLE'!$H14:$AA14)/COUNTIF('SCORE TABLE'!$H14:$AA14,'SCORE TABLE'!$H14:$AA14))","v":0.99999999999999978},{"$f":"SUMPRODUCT(('SCORE TABLE'!I14<='SCORE TABLE'!$H14:$AA14)/COUNTIF('SCORE TABLE'!$H14:$AA14,'SCORE TABLE'!$H14:$AA14))","v":0.99999999999999978},{"$f":"SUMPRODUCT(('SCORE TABLE'!J14<='SCORE TABLE'!$H14:$AA14)/COUNTIF('SCORE TABLE'!$H14:$AA14,'SCORE TABLE'!$H14:$AA14))","v":0.99999999999999978},{"$f":"SUMPRODUCT(('SCORE TABLE'!K14<='SCORE TABLE'!$H14:$AA14)/COUNTIF('SCORE TABLE'!$H14:$AA14,'SCORE TABLE'!$H14:$AA14))","v":0.99999999999999978},{"$f":"SUMPRODUCT(('SCORE TABLE'!L14<='SCORE TABLE'!$H14:$AA14)/COUNTIF('SCORE TABLE'!$H14:$AA14,'SCORE TABLE'!$H14:$AA14))","v":1.9999999999999993},{"$f":"SUMPRODUCT(('SCORE TABLE'!M14<='SCORE TABLE'!$H14:$AA14)/COUNTIF('SCORE TABLE'!$H14:$AA14,'SCORE TABLE'!$H14:$AA14))","v":0.99999999999999978},{"$f":"SUMPRODUCT(('SCORE TABLE'!N14<='SCORE TABLE'!$H14:$AA14)/COUNTIF('SCORE TABLE'!$H14:$AA14,'SCORE TABLE'!$H14:$AA14))","v":1.9999999999999993},{"$f":"SUMPRODUCT(('SCORE TABLE'!O14<='SCORE TABLE'!$H14:$AA14)/COUNTIF('SCORE TABLE'!$H14:$AA14,'SCORE TABLE'!$H14:$AA14))","v":0.99999999999999978},{"$f":"SUMPRODUCT(('SCORE TABLE'!P14<='SCORE TABLE'!$H14:$AA14)/COUNTIF('SCORE TABLE'!$H14:$AA14,'SCORE TABLE'!$H14:$AA14))","v":0.99999999999999978},{"$f":"SUMPRODUCT(('SCORE TABLE'!Q14<='SCORE TABLE'!$H14:$AA14)/COUNTIF('SCORE TABLE'!$H14:$AA14,'SCORE TABLE'!$H14:$AA14))","v":1.9999999999999993},{"$f":"SUMPRODUCT(('SCORE TABLE'!R14<='SCORE TABLE'!$H14:$AA14)/COUNTIF('SCORE TABLE'!$H14:$AA14,'SCORE TABLE'!$H14:$AA14))","v":0.99999999999999978},{"$f":"SUMPRODUCT(('SCORE TABLE'!S14<='SCORE TABLE'!$H14:$AA14)/COUNTIF('SCORE TABLE'!$H14:$AA14,'SCORE TABLE'!$H14:$AA14))","v":1.9999999999999993},{"$f":"SUMPRODUCT(('SCORE TABLE'!T14<='SCORE TABLE'!$H14:$AA14)/COUNTIF('SCORE TABLE'!$H14:$AA14,'SCORE TABLE'!$H14:$AA14))","v":1.9999999999999993},{"$f":"SUMPRODUCT(('SCORE TABLE'!U14<='SCORE TABLE'!$H14:$AA14)/COUNTIF('SCORE TABLE'!$H14:$AA14,'SCORE TABLE'!$H14:$AA14))","v":0.99999999999999978},{"$f":"SUMPRODUCT(('SCORE TABLE'!V14<='SCORE TABLE'!$H14:$AA14)/COUNTIF('SCORE TABLE'!$H14:$AA14,'SCORE TABLE'!$H14:$AA14))","v":0.99999999999999978},{"$f":"SUMPRODUCT(('SCORE TABLE'!W14<='SCORE TABLE'!$H14:$AA14)/COUNTIF('SCORE TABLE'!$H14:$AA14,'SCORE TABLE'!$H14:$AA14))","v":1.9999999999999993},{"$f":"SUMPRODUCT(('SCORE TABLE'!X14<='SCORE TABLE'!$H14:$AA14)/COUNTIF('SCORE TABLE'!$H14:$AA14,'SCORE TABLE'!$H14:$AA14))","v":0.99999999999999978},{"$f":"SUMPRODUCT(('SCORE TABLE'!Y14<='SCORE TABLE'!$H14:$AA14)/COUNTIF('SCORE TABLE'!$H14:$AA14,'SCORE TABLE'!$H14:$AA14))","v":0.99999999999999978},{"$f":"SUMPRODUCT(('SCORE TABLE'!Z14<='SCORE TABLE'!$H14:$AA14)/COUNTIF('SCORE TABLE'!$H14:$AA14,'SCORE TABLE'!$H14:$AA14))","v":0.99999999999999978},{"$f":"SUMPRODUCT(('SCORE TABLE'!AA14<='SCORE TABLE'!$H14:$AA14)/COUNTIF('SCORE TABLE'!$H14:$AA14,'SCORE TABLE'!$H14:$AA14))","v":1.9999999999999993}]
[null,1004,"1.1.3","Obesity-related policy/strategy/plan",{"$f":"SUMPRODUCT(('SCORE TABLE'!H15<='SCORE TABLE'!$H15:$AA15)/COUNTIF('SCORE TABLE'!$H15:$AA15,'SCORE TABLE'!$H15:$AA15))","v":1},{"$f":"SUMPRODUCT(('SCORE TABLE'!I15<='SCORE TABLE'!$H15:$AA15)/COUNTIF('SCORE TABLE'!$H15:$AA15,'SCORE TABLE'!$H15:$AA15))","v":4},{"$f":"SUMPRODUCT(('SCORE TABLE'!J15<='SCORE TABLE'!$H15:$AA15)/COUNTIF('SCORE TABLE'!$H15:$AA15,'SCORE TABLE'!$H15:$AA15))","v":11},{"$f":"SUMPRODUCT(('SCORE TABLE'!K15<='SCORE TABLE'!$H15:$AA15)/COUNTIF('SCORE TABLE'!$H15:$AA15,'SCORE TABLE'!$H15:$AA15))","v":4.9999999999999991},{"$f":"SUMPRODUCT(('SCORE TABLE'!L15<='SCORE TABLE'!$H15:$AA15)/COUNTIF('SCORE TABLE'!$H15:$AA15,'SCORE TABLE'!$H15:$AA15))","v":10},{"$f":"SUMPRODUCT(('SCORE TABLE'!M15<='SCORE TABLE'!$H15:$AA15)/COUNTIF('SCORE TABLE'!$H15:$AA15,'SCORE TABLE'!$H15:$AA15))","v":10},{"$f":"SUMPRODUCT(('SCORE TABLE'!N15<='SCORE TABLE'!$H15:$AA15)/COUNTIF('SCORE TABLE'!$H15:$AA15,'SCORE TABLE'!$H15:$AA15))","v":7.9999999999999991},{"$f":"SUMPRODUCT(('SCORE TABLE'!O15<='SCORE TABLE'!$H15:$AA15)/COUNTIF('SCORE TABLE'!$H15:$AA15,'SCORE TABLE'!$H15:$AA15))","v":9},{"$f":"SUMPRODUCT(('SCORE TABLE'!P15<='SCORE TABLE'!$H15:$AA15)/COUNTIF('SCORE TABLE'!$H15:$AA15,'SCORE TABLE'!$H15:$AA15))","v":5.9999999999999991},{"$f":"SUMPRODUCT(('SCORE TABLE'!Q15<='SCORE TABLE'!$H15:$AA15)/COUNTIF('SCORE TABLE'!$H15:$AA15,'SCORE TABLE'!$H15:$AA15))","v":11},{"$f":"SUMPRODUCT(('SCORE TABLE'!R15<='SCORE TABLE'!$H15:$AA15)/COUNTIF('SCORE TABLE'!$H15:$AA15,'SCORE TABLE'!$H15:$AA15))","v":10},{"$f":"SUMPRODUCT(('SCORE TABLE'!S15<='SCORE TABLE'!$H15:$AA15)/COUNTIF('SCORE TABLE'!$H15:$AA15,'SCORE TABLE'!$H15:$AA15))","v":4.9999999999999991},{"$f":"SUMPRODUCT(('SCORE TABLE'!T15<='SCORE TABLE'!$H15:$AA15)/COUNTIF('SCORE TABLE'!$H15:$AA15,'SCORE TABLE'!$H15:$AA15))","v":6.9999999999999991},{"$f":"SUMPRODUCT(('SCORE TABLE'!U15<='SCORE TABLE'!$H15:$AA15)/COUNTIF('SCORE TABLE'!$H15:$AA15,'SCORE TABLE'!$H15:$AA15))","v":5.9999999999999991},{"$f":"SUMPRODUCT(('SCORE TABLE'!V15<='SCORE TABLE'!$H15:$AA15)/COUNTIF('SCORE TABLE'!$H15:$AA15,'SCORE TABLE'!$H15:$AA15))","v":2},{"$f":"SUMPRODUCT(('SCORE TABLE'!W15<='SCORE TABLE'!$H15:$AA15)/COUNTIF('SCORE TABLE'!$H15:$AA15,'SCORE TABLE'!$H15:$AA15))","v":4},{"$f":"SUMPRODUCT(('SCORE TABLE'!X15<='SCORE TABLE'!$H15:$AA15)/COUNTIF('SCORE TABLE'!$H15:$AA15,'SCORE TABLE'!$H15:$AA15))","v":3},{"$f":"SUMPRODUCT(('SCORE TABLE'!Y15<='SCORE TABLE'!$H15:$AA15)/COUNTIF('SCORE TABLE'!$H15:$AA15,'SCORE TABLE'!$H15:$AA15))","v":10},{"$f":"SUMPRODUCT(('SCORE TABLE'!Z15<='SCORE TABLE'!$H15:$AA15)/COUNTIF('SCORE TABLE'!$H15:$AA15,'SCORE TABLE'!$H15:$AA15))","v":11},{"$f":"SUMPRODUCT(('SCORE TABLE'!AA15<='SCORE TABLE'!$H15:$AA15)/COUNTIF('SCORE TABLE'!$H15:$AA15,'SCORE TABLE'!$H15:$AA15))","v":4.9999999999999991}]
[null,1005,"1.1.3a","Existence of an obesity-related policy/strategy/plan",{"$f":"SUMPRODUCT(('SCORE TABLE'!H16<='SCORE TABLE'!$H16:$AA16)/COUNTIF('SCORE TABLE'!$H16:$AA16,'SCORE TABLE'!$H16:$AA16))","v":0.99999999999999978},{"$f":"SUMPRODUCT(('SCORE TABLE'!I16<='SCORE TABLE'!$H16:$AA16)/COUNTIF('SCORE TABLE'!$H16:$AA16,'SCORE TABLE'!$H16:$AA16))","v":0.99999999999999978},{"$f":"SUMPRODUCT(('SCORE TABLE'!J16<='SCORE TABLE'!$H16:$AA16)/COUNTIF('SCORE TABLE'!$H16:$AA16,'SCORE TABLE'!$H16:$AA16))","v":3.0000000000000009},{"$f":"SUMPRODUCT(('SCORE TABLE'!K16<='SCORE TABLE'!$H16:$AA16)/COUNTIF('SCORE TABLE'!$H16:$AA16,'SCORE TABLE'!$H16:$AA16))","v":0.99999999999999978},{"$f":"SUMPRODUCT(('SCORE TABLE'!L16<='SCORE TABLE'!$H16:$AA16)/COUNTIF('SCORE TABLE'!$H16:$AA16,'SCORE TABLE'!$H16:$AA16))","v":1.9999999999999996},{"$f":"SUMPRODUCT(('SCORE TABLE'!M16<='SCORE TABLE'!$H16:$AA16)/COUNTIF('SCORE TABLE'!$H16:$AA16,'SCORE TABLE'!$H16:$AA16))","v":1.9999999999999996},{"$f":"SUMPRODUCT(('SCORE TABLE'!N16<='SCORE TABLE'!$H16:$AA16)/COUNTIF('SCORE TABLE'!$H16:$AA16,'SCORE TABLE'!$H16:$AA16))","v":0.99999999999999978},{"$f":"SUMPRODUCT(('SCORE TABLE'!O16<='SCORE TABLE'!$H16:$AA16)/COUNTIF('SCORE TABLE'!$H16:$AA16,'SCORE TABLE'!$H16:$AA16))","v":0.99999999999999978},{"$f":"SUMPRODUCT(('SCORE TABLE'!P16<='SCORE TABLE'!$H16:$AA16)/COUNTIF('SCORE TABLE'!$H16:$AA16,'SCORE TABLE'!$H16:$AA16))","v":0.99999999999999978},{"$f":"SUMPRODUCT(('SCORE TABLE'!Q16<='SCORE TABLE'!$H16:$AA16)/COUNTIF('SCORE TABLE'!$H16:$AA16,'SCORE TABLE'!$H16:$AA16))","v":3.0000000000000009},{"$f":"SUMPRODUCT(('SCORE TABLE'!R16<='SCORE TABLE'!$H16:$AA16)/COUNTIF('SCORE TABLE'!$H16:$AA16,'SCORE TABLE'!$H16:$AA16))","v":1.9999999999999996},{"$f":"SUMPRODUCT(('SCORE TABLE'!S16<='SCORE TABLE'!$H16:$AA16)/COUNTIF('SCORE TABLE'!$H16:$AA16,'SCORE TABLE'!$H16:$AA16))","v":0.99999999999999978},{"$f":"SUMPRODUCT(('SCORE TABLE'!T16<='SCORE TABLE'!$H16:$AA16)/COUNTIF('SCORE TABLE'!$H16:$AA16,'SCORE TABLE'!$H16:$AA16))","v":0.99999999999999978},{"$f":"SUMPRODUCT(('SCORE TABLE'!U16<='SCORE TABLE'!$H16:$AA16)/COUNTIF('SCORE TABLE'!$H16:$AA16,'SCORE TABLE'!$H16:$AA16))","v":0.99999999999999978},{"$f":"SUMPRODUCT(('SCORE TABLE'!V16<='SCORE TABLE'!$H16:$AA16)/COUNTIF('SCORE TABLE'!$H16:$AA16,'SCORE TABLE'!$H16:$AA16))","v":0.99999999999999978},{"$f":"SUMPRODUCT(('SCORE TABLE'!W16<='SCORE TABLE'!$H16:$AA16)/COUNTIF('SCORE TABLE'!$H16:$AA16,'SCORE TABLE'!$H16:$AA16))","v":0.99999999999999978},{"$f":"SUMPRODUCT(('SCORE TABLE'!X16<='SCORE TABLE'!$H16:$AA16)/COUNTIF('SCORE TABLE'!$H16:$AA16,'SCORE TABLE'!$H16:$AA16))","v":0.99999999999999978},{"$f":"SUMPRODUCT(('SCORE TABLE'!Y16<='SCORE TABLE'!$H16:$AA16)/COUNTIF('SCORE TABLE'!$H16:$AA16,'SCORE TABLE'!$H16:$AA16))","v":1.9999999999999996},{"$f":"SUMPRODUCT(('SCORE TABLE'!Z16<='SCORE TABLE'!$H16:$AA16)/COUNTIF('SCORE TABLE'!$H16:$AA16,'SCORE TABLE'!$H16:$AA16))","v":3.0000000000000009},{"$f":"SUMPRODUCT(('SCORE TABLE'!AA16<='SCORE TABLE'!$H16:$AA16)/COUNTIF('SCORE TABLE'!$H16:$AA16,'SCORE TABLE'!$H16:$AA16))","v":0.99999999999999978}]
[null,1006,"1.1.3b","Engagement with stakeholders during development",{"$f":"SUMPRODUCT(('SCORE TABLE'!H17<='SCORE TABLE'!$H17:$AA17)/COUNTIF('SCORE TABLE'!$H17:$AA17,'SCORE TABLE'!$H17:$AA17))","v":2.0000000000000004},{"$f":"SUMPRODUCT(('SCORE TABLE'!I17<='SCORE TABLE'!$H17:$AA17)/COUNTIF('SCORE TABLE'!$H17:$AA17,'SCORE TABLE'!$H17:$AA17))","v":1},{"$f":"SUMPRODUCT(('SCORE TABLE'!J17<='SCORE TABLE'!$H17:$AA17)/COUNTIF('SCORE TABLE'!$H17:$AA17,'SCORE TABLE'!$H17:$AA17))","v":3.0000000000000013},{"$f":"SUMPRODUCT(('SCORE TABLE'!K17<='SCORE TABLE'!$H17:$AA17)/COUNTIF('SCORE TABLE'!$H17:$AA17,'SCORE TABLE'!$H17:$AA17))","v":2.0000000000000004},{"$f":"SUMPRODUCT(('SCORE TABLE'!L17<='SCORE TABLE'!$H17:$AA17)/COUNTIF('SCORE TABLE'!$H17:$AA17,'SCORE TABLE'!$H17:$AA17))","v":3.0000000000000013},{"$f":"SUMPRODUCT(('SCORE TABLE'!M17<='SCORE TABLE'!$H17:$AA17)/COUNTIF('SCORE TABLE'!$H17:$AA17,'SCORE TABLE'!$H17:$AA17))","v":3.0000000000000013},{"$f":"SUMPRODUCT(('SCORE TABLE'!N17<='SCORE TABLE'!$H17:$AA17)/COUNTIF('SCORE TABLE'!$H17:$AA17,'SCORE TABLE'!$H17:$AA17))","v":2.0000000000000004},{"$f":"SUMPRODUCT(('SCORE TABLE'!O17<='SCORE TABLE'!$H17:$AA17)/COUNTIF('SCORE TABLE'!$H17:$AA17,'SCORE TABLE'!$H17:$AA17))","v":3.0000000000000013},{"$f":"SUMPRODUCT(('SCORE TABLE'!P17<='SCORE TABLE'!$H17:$AA17)/COUNTIF('SCORE TABLE'!$H17:$AA17,'SCORE TABLE'!$H17:$AA17))","v":2.0000000000000004},{"$f":"SUMPRODUCT(('SCORE TABLE'!Q17<='SCORE TABLE'!$H17:$AA17)/COUNTIF('SCORE TABLE'!$H17:$AA17,'SCORE TABLE'!$H17:$AA17))","v":3.0000000000000013},{"$f":"SUMPRODUCT(('SCORE TABLE'!R17<='SCORE TABLE'!$H17:$AA17)/COUNTIF('SCORE TABLE'!$H17:$AA17,'SCORE TABLE'!$H17:$AA17))","v":3.0000000000000013},{"$f":"SUMPRODUCT(('SCORE TABLE'!S17<='SCORE TABLE'!$H17:$AA17)/COUNTIF('SCORE TABLE'!$H17:$AA17,'SCORE TABLE'!$H17:$AA17))","v":2.0000000000000004},{"$f":"SUMPRODUCT(('SCORE TABLE'!T17<='SCORE TABLE'!$H17:$AA17)/COUNTIF('SCORE TABLE'!$H17:$AA17,'SCORE TABLE'!$H17:$AA17))","v":2.0000000000000004},{"$f":"SUMPRODUCT(('SCORE TABLE'!U17<='SCORE TABLE'!$H17:$AA17)/COUNTIF('SCORE TABLE'!$H17:$AA17,'SCORE TABLE'!$H17:$AA17))","v":2.0000000000000004},{"$f":"SUMPRODUCT(('SCORE TABLE'!V17<='SCORE TABLE'!$H17:$AA17)/COUNTIF('SCORE TABLE'!$H17:$AA17,'SCORE TABLE'!$H17:$AA17))","v":3.0000000000000013},{"$f":"SUMPRODUCT(('SCORE TABLE'!W17<='SCORE TABLE'!$H17:$AA17)/COUNTIF('SCORE TABLE'!$H17:$AA17,'SCORE TABLE'!$H17:$AA17))","v":2.0000000000000004},{"$f":"SUMPRODUCT(('SCORE TABLE'!X17<='SCORE TABLE'!$H17:$AA17)/COUNTIF('SCORE TABLE'!$H17:$AA17,'SCORE TABLE'!$H17:$AA17))","v":3.0000000000000013},{"$f":"SUMPRODUCT(('SCORE TABLE'!Y17<='SCORE TABLE'!$H17:$AA17)/COUNTIF('SCORE TABLE'!$H17:$AA17,'SCORE TABLE'!$H17:$AA17))","v":3.0000000000000013},{"$f":"SUMPRODUCT(('SCORE TABLE'!Z17<='SCORE TABLE'!$H17:$AA17)/COUNTIF('SCORE TABLE'!$H17:$AA17,'SCORE TABLE'!$H17:$AA17))","v":3.0000000000000013},{"$f":"SUMPRODUCT(('SCORE TABLE'!AA17<='SCORE TABLE'!$H17:$AA17)/COUNTIF('SCORE TABLE'!$H17:$AA17,'SCORE TABLE'!$H17:$AA17))","v":2.0000000000000004}]
[null,1007,"1.1.3c","Measures for obesity prevention",{"$f":"SUMPRODUCT(('SCORE TABLE'!H18<='SCORE TABLE'!$H18:$AA18)/COUNTIF('SCORE TABLE'!$H18:$AA18,'SCORE TABLE'!$H18:$AA18))","v":0.99999999999999989},{"$f":"SUMPRODUCT(('SCORE TABLE'!I18<='SCORE TABLE'!$H18:$AA18)/COUNTIF('SCORE TABLE'!$H18:$AA18,'SCORE TABLE'!$H18:$AA18))","v":2},{"$f":"SUMPRODUCT(('SCORE TABLE'!J18<='SCORE TABLE'!$H18:$AA18)/COUNTIF('SCORE TABLE'!$H18:$AA18,'SCORE TABLE'!$H18:$AA18))","v":3.9999999999999996},{"$f":"SUMPRODUCT(('SCORE TABLE'!K18<='SCORE TABLE'!$H18:$AA18)/COUNTIF('SCORE TABLE'!$H18:$AA18,'SCORE TABLE'!$H18:$AA18))","v":2},{"$f":"SUMPRODUCT(('SCORE TABLE'!L18<='SCORE TABLE'!$H18:$AA18)/COUNTIF('SCORE TABLE'!$H18:$AA18,'SCORE TABLE'!$H18:$AA18))","v":3.9999999999999996},{"$f":"SUMPRODUCT(('SCORE TABLE'!M18<='SCORE TABLE'!$H18:$AA18)/COUNTIF('SCORE TABLE'!$H18:$AA18,'SCORE TABLE'!$H18:$AA18))","v":3.9999999999999996},{"$f":"SUMPRODUCT(('SCORE TABLE'!N18<='SCORE TABLE'!$H18:$AA18)/COUNTIF('SCORE TABLE'!$H18:$AA18,'SCORE TABLE'!$H18:$AA18))","v":2},{"$f":"SUMPRODUCT(('SCORE TABLE'!O18<='SCORE TABLE'!$H18:$AA18)/COUNTIF('SCORE TABLE'!$H18:$AA18,'SCORE TABLE'!$H18:$AA18))","v":3.9999999999999996},{"$f":"SUMPRODUCT(('SCORE TABLE'!P18<='SCORE TABLE'!$H18:$AA18)/COUNTIF('SCORE TABLE'!$H18:$AA18,'SCORE TABLE'!$H18:$AA18))","v":3},{"$f":"SUMPRODUCT(('SCORE TABLE'!Q18<='SCORE TABLE'!$H18:$AA18)/COUNTIF('SCORE TABLE'!$H18:$AA18,'SCORE TABLE'!$H18:$AA18))","v":3.9999999999999996},{"$f":"SUMPRODUCT(('SCORE TABLE'!R18<='SCORE TABLE'!$H18:$AA18)/COUNTIF('SCORE TABLE'!$H18:$AA18,'SCORE TABLE'!$H18:$AA18))","v":3.9999999999999996},{"$f":"SUMPRODUCT(('SCORE TABLE'!S18<='SCORE TABLE'!$H18:$AA18)/COUNTIF('SCORE TABLE'!$H18:$AA18,'SCORE TABLE'!$H18:$AA18))","v":0.99999999999999989},{"$f":"SUMPRODUCT(('SCORE TABLE'!T18<='SCORE TABLE'!$H18:$AA18)/COUNTIF('SCORE TABLE'!$H18:$AA18,'SCORE TABLE'!$H18:$AA18))","v":0.99999999999999989},{"$f":"SUMPRODUCT(('SCORE TABLE'!U18<='SCORE TABLE'!$H18:$AA18)/COUNTIF('SCORE TABLE'!$H18:$AA18,'SCORE TABLE'!$H18:$AA18))","v":2},{"$f":"SUMPRODUCT(('SCORE TABLE'!V18<='SCORE TABLE'!$H18:$AA18)/COUNTIF('SCORE TABLE'!$H18:$AA18,'SCORE TABLE'!$H18:$AA18))","v":0.99999999999999989},{"$f":"SUMPRODUCT(('SCORE TABLE'!W18<='SCORE TABLE'!$H18:$AA18)/COUNTIF('SCORE TABLE'!$H18:$AA18,'SCORE TABLE'!$H18:$AA18))","v":0.99999999999999989},{"$f":"SUMPRODUCT(('SCORE TABLE'!X18<='SCORE TABLE'!$H18:$AA18)/COUNTIF('SCORE TABLE'!$H18:$AA18,'SCORE TABLE'!$H18:$AA18))","v":0.99999999999999989},{"$f":"SUMPRODUCT(('SCORE TABLE'!Y18<='SCORE TABLE'!$H18:$AA18)/COUNTIF('SCORE TABLE'!$H18:$AA18,'SCORE TABLE'!$H18:$AA18))","v":3.9999999999999996},{"$f":"SUMPRODUCT(('SCORE TABLE'!Z18<='SCORE TABLE'!$H18:$AA18)/COUNTIF('SCORE TABLE'!$H18:$AA18,'SCORE TABLE'!$H18:$AA18))","v":3.9999999999999996},{"$f":"SUMPRODUCT(('SCORE TABLE'!AA18<='SCORE TABLE'!$H18:$AA18)/COUNTIF('SCORE TABLE'!$H18:$AA18,'SCORE TABLE'!$H18:$AA18))","v":2}]
[null,1008,"1.1.3d","Measures for obesity management",{"$f":"SUMPRODUCT(('SCORE TABLE'!H19<='SCORE TABLE'!$H19:$AA19)/COUNTIF('SCORE TABLE'!$H19:$AA19,'SCORE TABLE'!$H19:$AA19))","v":1},{"$f":"SUMPRODUCT(('SCORE TABLE'!I19<='SCORE TABLE'!$H19:$AA19)/COUNTIF('SCORE TABLE'!$H19:$AA19,'SCORE TABLE'!$H19:$AA19))","v":4},{"$f":"SUMPRODUCT(('SCORE TABLE'!J19<='SCORE TABLE'!$H19:$AA19)/COUNTIF('SCORE TABLE'!$H19:$AA19,'SCORE TABLE'!$H19:$AA19))","v":4},{"$f":"SUMPRODUCT(('SCORE TABLE'!K19<='SCORE TABLE'!$H19:$AA19)/COUNTIF('SCORE TABLE'!$H19:$AA19,'SCORE TABLE'!$H19:$AA19))","v":2},{"$f":"SUMPRODUCT(('SCORE TABLE'!L19<='SCORE TABLE'!$H19:$AA19)/COUNTIF('SCORE TABLE'!$H19:$AA19,'SCORE TABLE'!$H19:$AA19))","v":4},{"$f":"SUMPRODUCT(('SCORE TABLE'!M19<='SCORE TABLE'!$H19:$AA19)/COUNTIF('SCORE TABLE'!$H19:$AA19,'SCORE TABLE'!$H19:$AA19))","v":4},{"$f":"SUMPRODUCT(('SCORE TABLE'!N19<='SCORE TABLE'!$H19:$AA19)/COUNTIF('SCORE TABLE'!$H19:$AA19,'SCORE TABLE'!$H19:$AA19))","v":4},{"$f":"SUMPRODUCT(('SCORE TABLE'!O19<='SCORE TABLE'!$H19:$AA19)/COUNTIF('SCORE TABLE'!$H19:$AA19,'SCORE TABLE'!$H19:$AA19))","v":4},{"$f":"SUMPRODUCT(('SCORE TABLE'!P19<='SCORE TABLE'!$H19:$AA19)/COUNTIF('SCORE TABLE'!$H19:$AA19,'SCORE TABLE'!$H19:$AA19))","v":3},{"$f":"SUMPRODUCT(('SCORE TABLE'!Q19<='SCORE TABLE'!$H19:$AA19)/COUNTIF('SCORE TABLE'!$H19:$AA19,'SCORE TABLE'!$H19:$AA19))","v":4},{"$f":"SUMPRODUCT(('SCORE TABLE'!R19<='SCORE TABLE'!$H19:$AA19)/COUNTIF('SCORE TABLE'!$H19:$AA19,'SCORE TABLE'!$H19:$AA19))","v":4},{"$f":"SUMPRODUCT(('SCORE TABLE'!S19<='SCORE TABLE'!$H19:$AA19)/COUNTIF('SCORE TABLE'!$H19:$AA19,'SCORE TABLE'!$H19:$AA19))","v":3},{"$f":"SUMPRODUCT(('SCORE TABLE'!T19<='SCORE TABLE'!$H19:$AA19)/COUNTIF('SCORE TABLE'!$H19:$AA19,'SCORE TABLE'!$H19:$AA19))","v":4},{"$f":"SUMPRODUCT(('SCORE TABLE'!U19<='SCORE TABLE'!$H19:$AA19)/COUNTIF('SCORE TABLE'!$H19:$AA19,'SCORE TABLE'!$H19:$AA19))","v":4},{"$f":"SUMPRODUCT(('SCORE TABLE'!V19<='SCORE TABLE'!$H19:$AA19)/COUNTIF('SCORE TABLE'!$H19:$AA19,'SCORE TABLE'!$H19:$AA19))","v":1},{"$f":"SUMPRODUCT(('SCORE TABLE'!W19<='SCORE TABLE'!$H19:$AA19)/COUNTIF('SCORE TABLE'!$H19:$AA19,'SCORE TABLE'!$H19:$AA19))","v":1},{"$f":"SUMPRODUCT(('SCORE TABLE'!X19<='SCORE TABLE'!$H19:$AA19)/COUNTIF('SCORE TABLE'!$H19:$AA19,'SCORE TABLE'!$H19:$AA19))","v":1},{"$f":"SUMPRODUCT(('SCORE TABLE'!Y19<='SCORE TABLE'!$H19:$AA19)/COUNTIF('SCORE TABLE'!$H19:$AA19,'SCORE TABLE'!$H19:$AA19))","v":4},{"$f":"SUMPRODUCT(('SCORE TABLE'!Z19<='SCORE TABLE'!$H19:$AA19)/COUNTIF('SCORE TABLE'!$H19:$AA19,'SCORE TABLE'!$H19:$AA19))","v":4},{"$f":"SUMPRODUCT(('SCORE TABLE'!AA19<='SCORE TABLE'!$H19:$AA19)/COUNTIF('SCORE TABLE'!$H19:$AA19,'SCORE TABLE'!$H19:$AA19))","v":2}]
[null,1009,"1.1.3e","Targets for obesity prevalence reduction",{"$f":"SUMPRODUCT(('SCORE TABLE'!H20<='SCORE TABLE'!$H20:$AA20)/COUNTIF('SCORE TABLE'!$H20:$AA20,'SCORE TABLE'!$H20:$AA20))","v":1.9999999999999998},{"$f":"SUMPRODUCT(('SCORE TABLE'!I20<='SCORE TABLE'!$H20:$AA20)/COUNTIF('SCORE TABLE'!$H20:$AA20,'SCORE TABLE'!$H20:$AA20))","v":3.0000000000000013},{"$f":"SUMPRODUCT(('SCORE TABLE'!J20<='SCORE TABLE'!$H20:$AA20)/COUNTIF('SCORE TABLE'!$H20:$AA20,'SCORE TABLE'!$H20:$AA20))","v":3.0000000000000013},{"$f":"SUMPRODUCT(('SCORE TABLE'!K20<='SCORE TABLE'!$H20:$AA20)/COUNTIF('SCORE TABLE'!$H20:$AA20,'SCORE TABLE'!$H20:$AA20))","v":3.0000000000000013},{"$f":"SUMPRODUCT(('SCORE TABLE'!L20<='SCORE TABLE'!$H20:$AA20)/COUNTIF('SCORE TABLE'!$H20:$AA20,'SCORE TABLE'!$H20:$AA20))","v":3.0000000000000013},{"$f":"SUMPRODUCT(('SCORE TABLE'!M20<='SCORE TABLE'!$H20:$AA20)/COUNTIF('SCORE TABLE'!$H20:$AA20,'SCORE TABLE'!$H20:$AA20))","v":3.0000000000000013},{"$f":"SUMPRODUCT(('SCORE TABLE'!N20<='SCORE TABLE'!$H20:$AA20)/COUNTIF('SCORE TABLE'!$H20:$AA20,'SCORE TABLE'!$H20:$AA20))","v":3.0000000000000013},{"$f":"SUMPRODUCT(('SCORE TABLE'!O20<='SCORE TABLE'!$H20:$AA20)/COUNTIF('SCORE TABLE'!$H20:$AA20,'SCORE TABLE'!$H20:$AA20))","v":3.0000000000000013},{"$f":"SUMPRODUCT(('SCORE TABLE'!P20<='SCORE TABLE'!$H20:$AA20)/COUNTIF('SCORE TABLE'!$H20:$AA20,'SCORE TABLE'!$H20:$AA20))","v":3.0000000000000013},{"$f":"SUMPRODUCT(('SCORE TABLE'!Q20<='SCORE TABLE'!$H20:$AA20)/COUNTIF('SCORE TABLE'!$H20:$AA20,'SCORE TABLE'!$H20:$AA20))","v":3.0000000000000013},{"$f":"SUMPRODUCT(('SCORE TABLE'!R20<='SCORE TABLE'!$H20:$AA20)/COUNTIF('SCORE TABLE'!$H20:$AA20,'SCORE TABLE'!$H20:$AA20))","v":3.0000000000000013},{"$f":"SUMPRODUCT(('SCORE TABLE'!S20<='SCORE TABLE'!$H20:$AA20)/COUNTIF('SCORE TABLE'!$H20:$AA20,'SCORE TABLE'!$H20:$AA20))","v":1},{"$f":"SUMPRODUCT(('SCORE TABLE'!T20<='SCORE TABLE'!$H20:$AA20)/COUNTIF('SCORE TABLE'!$H20:$AA20,'SCORE TABLE'!$H20:$AA20))","v":1.9999999999999998},{"$f":"SUMPRODUCT(('SCORE TABLE'!U20<='SCORE TABLE'!$H20:$AA20)/COUNTIF('SCORE TABLE'!$H20:$AA20,'SCORE TABLE'!$H20:$AA20))","v":1.9999999999999998},{"$f":"SUMPRODUCT(('SCORE TABLE'!V20<='SCORE TABLE'!$H20:$AA20)/COUNTIF('SCORE TABLE'!$H20:$AA20,'SCORE TABLE'!$H20:$AA20))","v":1.9999999999999998},{"$f":"SUMPRODUCT(('SCORE TABLE'!W20<='SCORE TABLE'!$H20:$AA20)/COUNTIF('SCORE TABLE'!$H20:$AA20,'SCORE TABLE'!$H20:$AA20))","v":3.0000000000000013},{"$f":"SUMPRODUCT(('SCORE TABLE'!X20<='SCORE TABLE'!$H20:$AA20)/COUNTIF('SCORE TABLE'!$H20:$AA20,'SCORE TABLE'!$H20:$AA20))","v":1.9999999999999998},{"$f":"SUMPRODUCT(('SCORE TABLE'!Y20<='SCORE TABLE'!$H20:$AA20)/COUNTIF('SCORE TABLE'!$H20:$AA20,'SCORE TABLE'!$H20:$AA20))","v":3.0000000000000013},{"$f":"SUMPRODUCT(('SCORE TABLE'!Z20<='SCORE TABLE'!$H20:$AA20)/COUNTIF('SCORE TABLE'!$H20:$AA20,'SCORE TABLE'!$H20:$AA20))","v":3.0000000000000013},{"$f":"SUMPRODUCT(('SCORE TABLE'!AA20<='SCORE TABLE'!$H20:$AA20)/COUNTIF('SCORE TABLE'!$H20:$AA20,'SCORE TABLE'!$H20:$AA20))","v":3.0000000000000013}]
[null,1010,"1.1.3f","Focus on vulnerable groups",{"$f":"SUMPRODUCT(('SCORE TABLE'!H21<='SCORE TABLE'!$H21:$AA21)/COUNTIF('SCORE TABLE'!$H21:$AA21,'SCORE TABLE'!$H21:$AA21))","v":1},{"$f":"SUMPRODUCT(('SCORE TABLE'!I21<='SCORE TABLE'!$H21:$AA21)/COUNTIF('SCORE TABLE'!$H21:$AA21,'SCORE TABLE'!$H21:$AA21))","v":1.9999999999999998},{"$f":"SUMPRODUCT(('SCORE TABLE'!J21<='SCORE TABLE'!$H21:$AA21)/COUNTIF('SCORE TABLE'!$H21:$AA21,'SCORE TABLE'!$H21:$AA21))","v":3.0000000000000004},{"$f":"SUMPRODUCT(('SCORE TABLE'!K21<='SCORE TABLE'!$H21:$AA21)/COUNTIF('SCORE TABLE'!$H21:$AA21,'SCORE TABLE'!$H21:$AA21))","v":1},{"$f":"SUMPRODUCT(('SCORE TABLE'!L21<='SCORE TABLE'!$H21:$AA21)/COUNTIF('SCORE TABLE'!$H21:$AA21,'SCORE TABLE'!$H21:$AA21))","v":3.0000000000000004},{"$f":"SUMPRODUCT(('SCORE TABLE'!M21<='SCORE TABLE'!$H21:$AA21)/COUNTIF('SCORE TABLE'!$H21:$AA21,'SCORE TABLE'!$H21:$AA21))","v":3.0000000000000004},{"$f":"SUMPRODUCT(('SCORE TABLE'!N21<='SCORE TABLE'!$H21:$AA21)/COUNTIF('SCORE TABLE'!$H21:$AA21,'SCORE TABLE'!$H21:$AA21))","v":1},{"$f":"SUMPRODUCT(('SCORE TABLE'!O21<='SCORE TABLE'!$H21:$AA21)/COUNTIF('SCORE TABLE'!$H21:$AA21,'SCORE TABLE'!$H21:$AA21))","v":1.9999999999999998},{"$f":"SUMPRODUCT(('SCORE TABLE'!P21<='SCORE TABLE'!$H21:$AA21)/COUNTIF('SCORE TABLE'!$H21:$AA21,'SCORE TABLE'!$H21:$AA21))","v":1},{"$f":"SUMPRODUCT(('SCORE TABLE'!Q21<='SCORE TABLE'!$H21:$AA21)/COUNTIF('SCORE TABLE'!$H21:$AA21,'SCORE TABLE'!$H21:$AA21))","v":3.0000000000000004},{"$f":"SUMPRODUCT(('SCORE TABLE'!R21<='SCORE TABLE'!$H21:$AA21)/COUNTIF('SCORE TABLE'!$H21:$AA21,'SCORE TABLE'!$H21:$AA21))","v":3.0000000000000004},{"$f":"SUMPRODUCT(('SCORE TABLE'!S21<='SCORE TABLE'!$H21:$AA21)/COUNTIF('SCORE TABLE'!$H21:$AA21,'SCORE TABLE'!$H21:$AA21))","v":3.0000000000000004},{"$f":"SUMPRODUCT(('SCORE TABLE'!T21<='SCORE TABLE'!$H21:$AA21)/COUNTIF('SCORE TABLE'!$H21:$AA21,'SCORE TABLE'!$H21:$AA21))","v":1.9999999999999998},{"$f":"SUMPRODUCT(('SCORE TABLE'!U21<='SCORE TABLE'!$H21:$AA21)/COUNTIF('SCORE TABLE'!$H21:$AA21,'SCORE TABLE'!$H21:$AA21))","v":1},{"$f":"SUMPRODUCT(('SCORE TABLE'!V21<='SCORE TABLE'!$H21:$AA21)/COUNTIF('SCORE TABLE'!$H21:$AA21,'SCORE TABLE'!$H21:$AA21))","v":1},{"$f":"SUMPRODUCT(('SCORE TABLE'!W21<='SCORE TABLE'!$H21:$AA21)/COUNTIF('SCORE TABLE'!$H21:$AA21,'SCORE TABLE'!$H21:$AA21))","v":3.0000000000000004},{"$f":"SUMPRODUCT(('SCORE TABLE'!X21<='SCORE TABLE'!$H21:$AA21)/COUNTIF('SCORE TABLE'!$H21:$AA21,'SCORE TABLE'!$H21:$AA21))","v":1},{"$f":"SUMPRODUCT(('SCORE TABLE'!Y21<='SCORE TABLE'!$H21:$AA21)/COUNTIF('SCORE TABLE'!$H21:$AA21,'SCORE TABLE'!$H21:$AA21))","v":3.0000000000000004},{"$f":"SUMPRODUCT(('SCORE TABLE'!Z21<='SCORE TABLE'!$H21:$AA21)/COUNTIF('SCORE TABLE'!$H21:$AA21,'SCORE TABLE'!$H21:$AA21))","v":3.0000000000000004},{"$f":"SUMPRODUCT(('SCORE TABLE'!AA21<='SCORE TABLE'!$H21:$AA21)/COUNTIF('SCORE TABLE'!$H21:$AA21,'SCORE TABLE'!$H21:$AA21))","v":1}]
[null,1011,"1.1.3g","Obesity-related stigma and discrimination",{"$f":"SUMPRODUCT(('SCORE TABLE'!H22<='SCORE TABLE'!$H22:$AA22)/COUNTIF('SCORE TABLE'!$H22:$AA22,'SCORE TABLE'!$H22:$AA22))","v":1},{"$f":"SUMPRODUCT(('SCORE TABLE'!I22<='SCORE TABLE'!$H22:$AA22)/COUNTIF('SCORE TABLE'!$H22:$AA22,'SCORE TABLE'!$H22:$AA22))","v":1},{"$f":"SUMPRODUCT(('SCORE TABLE'!J22<='SCORE TABLE'!$H22:$AA22)/COUNTIF('SCORE TABLE'!$H22:$AA22,'SCORE TABLE'!$H22:$AA22))","v":3.0000000000000009},{"$f":"SUMPRODUCT(('SCORE TABLE'!K22<='SCORE TABLE'!$H22:$AA22)/COUNTIF('SCORE TABLE'!$H22:$AA22,'SCORE TABLE'!$H22:$AA22))","v":3.0000000000000009},{"$f":"SUMPRODUCT(('SCORE TABLE'!L22<='SCORE TABLE'!$H22:$AA22)/COUNTIF('SCORE TABLE'!$H22:$AA22,'SCORE TABLE'!$H22:$AA22))","v":3.0000000000000009},{"$f":"SUMPRODUCT(('SCORE TABLE'!M22<='SCORE TABLE'!$H22:$AA22)/COUNTIF('SCORE TABLE'!$H22:$AA22,'SCORE TABLE'!$H22:$AA22))","v":3.0000000000000009},{"$f":"SUMPRODUCT(('SCORE TABLE'!N22<='SCORE TABLE'!$H22:$AA22)/COUNTIF('SCORE TABLE'!$H22:$AA22,'SCORE TABLE'!$H22:$AA22))","v":3.0000000000000009},{"$f":"SUMPRODUCT(('SCORE TABLE'!O22<='SCORE TABLE'!$H22:$AA22)/COUNTIF('SCORE TABLE'!$H22:$AA22,'SCORE TABLE'!$H22:$AA22))","v":3.0000000000000009},{"$f":"SUMPRODUCT(('SCORE TABLE'!P22<='SCORE TABLE'!$H22:$AA22)/COUNTIF('SCORE TABLE'!$H22:$AA22,'SCORE TABLE'!$H22:$AA22))","v":1.9999999999999998},{"$f":"SUMPRODUCT(('SCORE TABLE'!Q22<='SCORE TABLE'!$H22:$AA22)/COUNTIF('SCORE TABLE'!$H22:$AA22,'SCORE TABLE'!$H22:$AA22))","v":3.0000000000000009},{"$f":"SUMPRODUCT(('SCORE TABLE'!R22<='SCORE TABLE'!$H22:$AA22)/COUNTIF('SCORE TABLE'!$H22:$AA22,'SCORE TABLE'!$H22:$AA22))","v":3.0000000000000009},{"$f":"SUMPRODUCT(('SCORE TABLE'!S22<='SCORE TABLE'!$H22:$AA22)/COUNTIF('SCORE TABLE'!$H22:$AA22,'SCORE TABLE'!$H22:$AA22))","v":3.0000000000000009},{"$f":"SUMPRODUCT(('SCORE TABLE'!T22<='SCORE TABLE'!$H22:$AA22)/COUNTIF('SCORE TABLE'!$H22:$AA22,'SCORE TABLE'!$H22:$AA22))","v":3.0000000000000009},{"$f":"SUMPRODUCT(('SCORE TABLE'!U22<='SCORE TABLE'!$H22:$AA22)/COUNTIF('SCORE TABLE'!$H22:$AA22,'SCORE TABLE'!$H22:$AA22))","v":3.0000000000000009},{"$f":"SUMPRODUCT(('SCORE TABLE'!V22<='SCORE TABLE'!$H22:$AA22)/COUNTIF('SCORE TABLE'!$H22:$AA22,'SCORE TABLE'!$H22:$AA22))","v":1.9999999999999998},{"$f":"SUMPRODUCT(('SCORE TABLE'!W22<='SCORE TABLE'!$H22:$AA22)/COUNTIF('SCORE TABLE'!$H22:$AA22,'SCORE TABLE'!$H22:$AA22))","v":1.9999999999999998},{"$f":"SUMPRODUCT(('SCORE TABLE'!X22<='SCORE TABLE'!$H22:$AA22)/COUNTIF('SCORE TABLE'!$H22:$AA22,'SCORE TABLE'!$H22:$AA22))","v":3.0000000000000009},{"$f":"SUMPRODUCT(('SCORE TABLE'!Y22<='SCORE TABLE'!$H22:$AA22)/COUNTIF('SCORE TABLE'!$H22:$AA22,'SCORE TABLE'!$H22:$AA22))","v":3.0000000000000009},{"$f":"SUMPRODUCT(('SCORE TABLE'!Z22<='SCORE TABLE'!$H22:$AA22)/COUNTIF('SCORE TABLE'!$H22:$AA22,'SCORE TABLE'!$H22:$AA22))","v":3.0000000000000009},{"$f":"SUMPRODUCT(('SCORE TABLE'!AA22<='SCORE TABLE'!$H22:$AA22)/COUNTIF('SCORE TABLE'!$H22:$AA22,'SCORE TABLE'!$H22:$AA22))","v":3.0000000000000009}]
[null,1012,"1.1.4","Obesity-related funding",{"$f":"SUMPRODUCT(('SCORE TABLE'!H23<='SCORE TABLE'!$H23:$AA23)/COUNTIF('SCORE TABLE'!$H23:$AA23,'SCORE TABLE'!$H23:$AA23))","v":2},{"$f":"SUMPRODUCT(('SCORE TABLE'!I23<='SCORE TABLE'!$H23:$AA23)/COUNTIF('SCORE TABLE'!$H23:$AA23,'SCORE TABLE'!$H23:$AA23))","v":2},{"$f":"SUMPRODUCT(('SCORE TABLE'!J23<='SCORE TABLE'!$H23:$AA23)/COUNTIF('SCORE TABLE'!$H23:$AA23,'SCORE TABLE'!$H23:$AA23))","v":2},{"$f":"SUMPRODUCT(('SCORE TABLE'!K23<='SCORE TABLE'!$H23:$AA23)/COUNTIF('SCORE TABLE'!$H23:$AA23,'SCORE TABLE'!$H23:$AA23))","v":2},{"$f":"SUMPRODUCT(('SCORE TABLE'!L23<='SCORE TABLE'!$H23:$AA23)/COUNTIF('SCORE TABLE'!$H23:$AA23,'SCORE TABLE'!$H23:$AA23))","v":2},{"$f":"SUMPRODUCT(('SCORE TABLE'!M23<='SCORE TABLE'!$H23:$AA23)/COUNTIF('SCORE TABLE'!$H23:$AA23,'SCORE TABLE'!$H23:$AA23))","v":2},{"$f":"SUMPRODUCT(('SCORE TABLE'!N23<='SCORE TABLE'!$H23:$AA23)/COUNTIF('SCORE TABLE'!$H23:$AA23,'SCORE TABLE'!$H23:$AA23))","v":1},{"$f":"SUMPRODUCT(('SCORE TABLE'!O23<='SCORE TABLE'!$H23:$AA23)/COUNTIF('SCORE TABLE'!$H23:$AA23,'SCORE TABLE'!$H23:$AA23))","v":2},{"$f":"SUMPRODUCT(('SCORE TABLE'!P23<='SCORE TABLE'!$H23:$AA23)/COUNTIF('SCORE TABLE'!$H23:$AA23,'SCORE TABLE'!$H23:$AA23))","v":2},{"$f":"SUMPRODUCT(('SCORE TABLE'!Q23<='SCORE TABLE'!$H23:$AA23)/COUNTIF('SCORE TABLE'!$H23:$AA23,'SCORE TABLE'!$H23:$AA23))","v":2},{"$f":"SUMPRODUCT(('SCORE TABLE'!R23<='SCORE TABLE'!$H23:$AA23)/COUNTIF('SCORE TABLE'!$H23:$AA23,'SCORE TABLE'!$H23:$AA23))","v":2},{"$f":"SUMPRODUCT(('SCORE TABLE'!S23<='SCORE TABLE'!$H23:$AA23)/COUNTIF('SCORE TABLE'!$H23:$AA23,'SCORE TABLE'!$H23:$AA23))","v":2},{"$f":"SUMPRODUCT(('SCORE TABLE'!T23<='SCORE TABLE'!$H23:$AA23)/COUNTIF('SCORE TABLE'!$H23:$AA23,'SCORE TABLE'!$H23:$AA23))","v":2},{"$f":"SUMPRODUCT(('SCORE TABLE'!U23<='SCORE TABLE'!$H23:$AA23)/COUNTIF('SCORE TABLE'!$H23:$AA23,'SCORE TABLE'!$H23:$AA23))","v":2},{"$f":"SUMPRODUCT(('SCORE TABLE'!V23<='SCORE TABLE'!$H23:$AA23)/COUNTIF('SCORE TABLE'!$H23:$AA23,'SCORE TABLE'!$H23:$AA23))","v":1},{"$f":"SUMPRODUCT(('SCORE TABLE'!W23<='SCORE TABLE'!$H23:$AA23)/COUNTIF('SCORE TABLE'!$H23:$AA23,'SCORE TABLE'!$H23:$AA23))","v":1},{"$f":"SUMPRODUCT(('SCORE TABLE'!X23<='SCORE TABLE'!$H23:$AA23)/COUNTIF('SCORE TABLE'!$H23:$AA23,'SCORE TABLE'!$H23:$AA23))","v":2},{"$f":"SUMPRODUCT(('SCORE TABLE'!Y23<='SCORE TABLE'!$H23:$AA23)/COUNTIF('SCORE TABLE'!$H23:$AA23,'SCORE TABLE'!$H23:$AA23))","v":2},{"$f":"SUMPRODUCT(('SCORE TABLE'!Z23<='SCORE TABLE'!$H23:$AA23)/COUNTIF('SCORE TABLE'!$H23:$AA23,'SCORE TABLE'!$H23:$AA23))","v":2},{"$f":"SUMPRODUCT(('SCORE TABLE'!AA23<='SCORE TABLE'!$H23:$AA23)/COUNTIF('SCORE TABLE'!$H23:$AA23,'SCORE TABLE'!$H23:$AA23))","v":2}]
[null,1013,"1.1.5","Weight-related discrimination",{"$f":"SUMPRODUCT(('SCORE TABLE'!H24<='SCORE TABLE'!$H24:$AA24)/COUNTIF('SCORE TABLE'!$H24:$AA24,'SCORE TABLE'!$H24:$AA24))","v":1.9999999999999998},{"$f":"SUMPRODUCT(('SCORE TABLE'!I24<='SCORE TABLE'!$H24:$AA24)/COUNTIF('SCORE TABLE'!$H24:$AA24,'SCORE TABLE'!$H24:$AA24))","v":1.9999999999999998},{"$f":"SUMPRODUCT(('SCORE TABLE'!J24<='SCORE TABLE'!$H24:$AA24)/COUNTIF('SCORE TABLE'!$H24:$AA24,'SCORE TABLE'!$H24:$AA24))","v":1.9999999999999998},{"$f":"SUMPRODUCT(('SCORE TABLE'!K24<='SCORE TABLE'!$H24:$AA24)/COUNTIF('SCORE TABLE'!$H24:$AA24,'SCORE TABLE'!$H24:$AA24))","v":1.9999999999999998},{"$f":"SUMPRODUCT(('SCORE TABLE'!L24<='SCORE TABLE'!$H24:$AA24)/COUNTIF('SCORE TABLE'!$H24:$AA24,'SCORE TABLE'!$H24:$AA24))","v":0.99999999999999989},{"$f":"SUMPRODUCT(('SCORE TABLE'!M24<='SCORE TABLE'!$H24:$AA24)/COUNTIF('SCORE TABLE'!$H24:$AA24,'SCORE TABLE'!$H24:$AA24))","v":0.99999999999999989},{"$f":"SUMPRODUCT(('SCORE TABLE'!N24<='SCORE TABLE'!$H24:$AA24)/COUNTIF('SCORE TABLE'!$H24:$AA24,'SCORE TABLE'!$H24:$AA24))","v":0.99999999999999989},{"$f":"SUMPRODUCT(('SCORE TABLE'!O24<='SCORE TABLE'!$H24:$AA24)/COUNTIF('SCORE TABLE'!$H24:$AA24,'SCORE TABLE'!$H24:$AA24))","v":1.9999999999999998},{"$f":"SUMPRODUCT(('SCORE TABLE'!P24<='SCORE TABLE'!$H24:$AA24)/COUNTIF('SCORE TABLE'!$H24:$AA24,'SCORE TABLE'!$H24:$AA24))","v":1.9999999999999998},{"$f":"SUMPRODUCT(('SCORE TABLE'!Q24<='SCORE TABLE'!$H24:$AA24)/COUNTIF('SCORE TABLE'!$H24:$AA24,'SCORE TABLE'!$H24:$AA24))","v":1.9999999999999998},{"$f":"SUMPRODUCT(('SCORE TABLE'!R24<='SCORE TABLE'!$H24:$AA24)/COUNTIF('SCORE TABLE'!$H24:$AA24,'SCORE TABLE'!$H24:$AA24))","v":0.99999999999999989},{"$f":"SUMPRODUCT(('SCORE TABLE'!S24<='SCORE TABLE'!$H24:$AA24)/COUNTIF('SCORE TABLE'!$H24:$AA24,'SCORE TABLE'!$H24:$AA24))","v":1.9999999999999998},{"$f":"SUMPRODUCT(('SCORE TABLE'!T24<='SCORE TABLE'!$H24:$AA24)/COUNTIF('SCORE TABLE'!$H24:$AA24,'SCORE TABLE'!$H24:$AA24))","v":1.9999999999999998},{"$f":"SUMPRODUCT(('SCORE TABLE'!U24<='SCORE TABLE'!$H24:$AA24)/COUNTIF('SCORE TABLE'!$H24:$AA24,'SCORE TABLE'!$H24:$AA24))","v":1.9999999999999998},{"$f":"SUMPRODUCT(('SCORE TABLE'!V24<='SCORE TABLE'!$H24:$AA24)/COUNTIF('SCORE TABLE'!$H24:$AA24,'SCORE TABLE'!$H24:$AA24))","v":0.99999999999999989},{"$f":"SUMPRODUCT(('SCORE TABLE'!W24<='SCORE TABLE'!$H24:$AA24)/COUNTIF('SCORE TABLE'!$H24:$AA24,'SCORE TABLE'!$H24:$AA24))","v":1.9999999999999998},{"$f":"SUMPRODUCT(('SCORE TABLE'!X24<='SCORE TABLE'!$H24:$AA24)/COUNTIF('SCORE TABLE'!$H24:$AA24,'SCORE TABLE'!$H24:$AA24))","v":1.9999999999999998},{"$f":"SUMPRODUCT(('SCORE TABLE'!Y24<='SCORE TABLE'!$H24:$AA24)/COUNTIF('SCORE TABLE'!$H24:$AA24,'SCORE TABLE'!$H24:$AA24))","v":0.99999999999999989},{"$f":"SUMPRODUCT(('SCORE TABLE'!Z24<='SCORE TABLE'!$H24:$AA24)/COUNTIF('SCORE TABLE'!$H24:$AA24,'SCORE TABLE'!$H24:$AA24))","v":1.9999999999999998},{"$f":"SUMPRODUCT(('SCORE TABLE'!AA24<='SCORE TABLE'!$H24:$AA24)/COUNTIF('SCORE TABLE'!$H24:$AA24,'SCORE TABLE'!$H24:$AA24))","v":1.9999999999999998}]
[null,1014,2,"Obesity management",{"$f":"SUMPRODUCT(('SCORE TABLE'!H25<='SCORE TABLE'!$H25:$AA25)/COUNTIF('SCORE TABLE'!$H25:$AA25,'SCORE TABLE'!$H25:$AA25))","v":5},{"$f":"SUMPRODUCT(('SCORE TABLE'!I25<='SCORE TABLE'!$H25:$AA25)/COUNTIF('SCORE TABLE'!$H25:$AA25,'SCORE TABLE'!$H25:$AA25))","v":2},{"$f":"SUMPRODUCT(('SCORE TABLE'!J25<='SCORE TABLE'!$H25:$AA25)/COUNTIF('SCORE TABLE'!$H25:$AA25,'SCORE TABLE'!$H25:$AA25))","v":7.9999999999999991},{"$f":"SUMPRODUCT(('SCORE TABLE'!K25<='SCORE TABLE'!$H25:$AA25)/COUNTIF('SCORE TABLE'!$H25:$AA25,'SCORE TABLE'!$H25:$AA25))","v":7},{"$f":"SUMPRODUCT(('SCORE TABLE'!L25<='SCORE TABLE'!$H25:$AA25)/COUNTIF('SCORE TABLE'!$H25:$AA25,'SCORE TABLE'!$H25:$AA25))","v":2},{"$f":"SUMPRODUCT(('SCORE TABLE'!M25<='SCORE TABLE'!$H25:$AA25)/COUNTIF('SCORE TABLE'!$H25:$AA25,'SCORE TABLE'!$H25:$AA25))","v":3},{"$f":"SUMPRODUCT(('SCORE TABLE'!N25<='SCORE TABLE'!$H25:$AA25)/COUNTIF('SCORE TABLE'!$H25:$AA25,'SCORE TABLE'!$H25:$AA25))","v":4},{"$f":"SUMPRODUCT(('SCORE TABLE'!O25<='SCORE TABLE'!$H25:$AA25)/COUNTIF('SCORE TABLE'!$H25:$AA25,'SCORE TABLE'!$H25:$AA25))","v":11},{"$f":"SUMPRODUCT(('SCORE TABLE'!P25<='SCORE TABLE'!$H25:$AA25)/COUNTIF('SCORE TABLE'!$H25:$AA25,'SCORE TABLE'!$H25:$AA25))","v":6},{"$f":"SUMPRODUCT(('SCORE TABLE'!Q25<='SCORE TABLE'!$H25:$AA25)/COUNTIF('SCORE TABLE'!$H25:$AA25,'SCORE TABLE'!$H25:$AA25))","v":4},{"$f":"SUMPRODUCT(('SCORE TABLE'!R25<='SCORE TABLE'!$H25:$AA25)/COUNTIF('SCORE TABLE'!$H25:$AA25,'SCORE TABLE'!$H25:$AA25))","v":7},{"$f":"SUMPRODUCT(('SCORE TABLE'!S25<='SCORE TABLE'!$H25:$AA25)/COUNTIF('SCORE TABLE'!$H25:$AA25,'SCORE TABLE'!$H25:$AA25))","v":13},{"$f":"SUMPRODUCT(('SCORE TABLE'!T25<='SCORE TABLE'!$H25:$AA25)/COUNTIF('SCORE TABLE'!$H25:$AA25,'SCORE TABLE'!$H25:$AA25))","v":9},{"$f":"SUMPRODUCT(('SCORE TABLE'!U25<='SCORE TABLE'!$H25:$AA25)/COUNTIF('SCORE TABLE'!$H25:$AA25,'SCORE TABLE'!$H25:$AA25))","v":6},{"$f":"SUMPRODUCT(('SCORE TABLE'!V25<='SCORE TABLE'!$H25:$AA25)/COUNTIF('SCORE TABLE'!$H25:$AA25,'SCORE TABLE'!$H25:$AA25))","v":3},{"$f":"SUMPRODUCT(('SCORE TABLE'!W25<='SCORE TABLE'!$H25:$AA25)/COUNTIF('SCORE TABLE'!$H25:$AA25,'SCORE TABLE'!$H25:$AA25))","v":12},{"$f":"SUMPRODUCT(('SCORE TABLE'!X25<='SCORE TABLE'!$H25:$AA25)/COUNTIF('SCORE TABLE'!$H25:$AA25,'SCORE TABLE'!$H25:$AA25))","v":4},{"$f":"SUMPRODUCT(('SCORE TABLE'!Y25<='SCORE TABLE'!$H25:$AA25)/COUNTIF('SCORE TABLE'!$H25:$AA25,'SCORE TABLE'!$H25:$AA25))","v":10},{"$f":"SUMPRODUCT(('SCORE TABLE'!Z25<='SCORE TABLE'!$H25:$AA25)/COUNTIF('SCORE TABLE'!$H25:$AA25,'SCORE TABLE'!$H25:$AA25))","v":2},{"$f":"SUMPRODUCT(('SCORE TABLE'!AA25<='SCORE TABLE'!$H25:$AA25)/COUNTIF('SCORE TABLE'!$H25:$AA25,'SCORE TABLE'!$H25:$AA25))","v":1}]
[null,1015,2.1,"Obesity management guidelines",{"$f":"SUMPRODUCT(('SCORE TABLE'!H26<='SCORE TABLE'!$H26:$AA26)/COUNTIF('SCORE TABLE'!$H26:$AA26,'SCORE TABLE'!$H26:$AA26))","v":0.99999999999999989},{"$f":"SUMPRODUCT(('SCORE TABLE'!I26<='SCORE TABLE'!$H26:$AA26)/COUNTIF('SCORE TABLE'!$H26:$AA26,'SCORE TABLE'!$H26:$AA26))","v":0.99999999999999989},{"$f":"SUMPRODUCT(('SCORE TABLE'!J26<='SCORE TABLE'!$H26:$AA26)/COUNTIF('SCORE TABLE'!$H26:$AA26,'SCORE TABLE'!$H26:$AA26))","v":0.99999999999999989},{"$f":"SUMPRODUCT(('SCORE TABLE'!K26<='SCORE TABLE'!$H26:$AA26)/COUNTIF('SCORE TABLE'!$H26:$AA26,'SCORE TABLE'!$H26:$AA26))","v":2.0000000000000004},{"$f":"SUMPRODUCT(('SCORE TABLE'!L26<='SCORE TABLE'!$H26:$AA26)/COUNTIF('SCORE TABLE'!$H26:$AA26,'SCORE TABLE'!$H26:$AA26))","v":0.99999999999999989},{"$f":"SUMPRODUCT(('SCORE TABLE'!M26<='SCORE TABLE'!$H26:$AA26)/COUNTIF('SCORE TABLE'!$H26:$AA26,'SCORE TABLE'!$H26:$AA26))","v":2.0000000000000004},{"$f":"SUMPRODUCT(('SCORE TABLE'!N26<='SCORE TABLE'!$H26:$AA26)/COUNTIF('SCORE TABLE'!$H26:$AA26,'SCORE TABLE'!$H26:$AA26))","v":2.0000000000000004},{"$f":"SUMPRODUCT(('SCORE TABLE'!O26<='SCORE TABLE'!$H26:$AA26)/COUNTIF('SCORE TABLE'!$H26:$AA26,'SCORE TABLE'!$H26:$AA26))","v":5.0000000000000009},{"$f":"SUMPRODUCT(('SCORE TABLE'!P26<='SCORE TABLE'!$H26:$AA26)/COUNTIF('SCORE TABLE'!$H26:$AA26,'SCORE TABLE'!$H26:$AA26))","v":2.0000000000000004},{"$f":"SUMPRODUCT(('SCORE TABLE'!Q26<='SCORE TABLE'!$H26:$AA26)/COUNTIF('SCORE TABLE'!$H26:$AA26,'SCORE TABLE'!$H26:$AA26))","v":2.0000000000000004},{"$f":"SUMPRODUCT(('SCORE TABLE'!R26<='SCORE TABLE'!$H26:$AA26)/COUNTIF('SCORE TABLE'!$H26:$AA26,'SCORE TABLE'!$H26:$AA26))","v":2.0000000000000004},{"$f":"SUMPRODUCT(('SCORE TABLE'!S26<='SCORE TABLE'!$H26:$AA26)/COUNTIF('SCORE TABLE'!$H26:$AA26,'SCORE TABLE'!$H26:$AA26))","v":5.0000000000000009},{"$f":"SUMPRODUCT(('SCORE TABLE'!T26<='SCORE TABLE'!$H26:$AA26)/COUNTIF('SCORE TABLE'!$H26:$AA26,'SCORE TABLE'!$H26:$AA26))","v":3},{"$f":"SUMPRODUCT(('SCORE TABLE'!U26<='SCORE TABLE'!$H26:$AA26)/COUNTIF('SCORE TABLE'!$H26:$AA26,'SCORE TABLE'!$H26:$AA26))","v":2.0000000000000004},{"$f":"SUMPRODUCT(('SCORE TABLE'!V26<='SCORE TABLE'!$H26:$AA26)/COUNTIF('SCORE TABLE'!$H26:$AA26,'SCORE TABLE'!$H26:$AA26))","v":2.0000000000000004},{"$f":"SUMPRODUCT(('SCORE TABLE'!W26<='SCORE TABLE'!$H26:$AA26)/COUNTIF('SCORE TABLE'!$H26:$AA26,'SCORE TABLE'!$H26:$AA26))","v":5.0000000000000009},{"$f":"SUMPRODUCT(('SCORE TABLE'!X26<='SCORE TABLE'!$H26:$AA26)/COUNTIF('SCORE TABLE'!$H26:$AA26,'SCORE TABLE'!$H26:$AA26))","v":2.0000000000000004},{"$f":"SUMPRODUCT(('SCORE TABLE'!Y26<='SCORE TABLE'!$H26:$AA26)/COUNTIF('SCORE TABLE'!$H26:$AA26,'SCORE TABLE'!$H26:$AA26))","v":4},{"$f":"SUMPRODUCT(('SCORE TABLE'!Z26<='SCORE TABLE'!$H26:$AA26)/COUNTIF('SCORE TABLE'!$H26:$AA26,'SCORE TABLE'!$H26:$AA26))","v":0.99999999999999989},{"$f":"SUMPRODUCT(('SCORE TABLE'!AA26<='SCORE TABLE'!$H26:$AA26)/COUNTIF('SCORE TABLE'!$H26:$AA26,'SCORE TABLE'!$H26:$AA26))","v":0.99999999999999989}]
[null,1016,"2.1.1","Existence of obesity management guidelines",{"$f":"SUMPRODUCT(('SCORE TABLE'!H27<='SCORE TABLE'!$H27:$AA27)/COUNTIF('SCORE TABLE'!$H27:$AA27,'SCORE TABLE'!$H27:$AA27))","v":1},{"$f":"SUMPRODUCT(('SCORE TABLE'!I27<='SCORE TABLE'!$H27:$AA27)/COUNTIF('SCORE TABLE'!$H27:$AA27,'SCORE TABLE'!$H27:$AA27))","v":1},{"$f":"SUMPRODUCT(('SCORE TABLE'!J27<='SCORE TABLE'!$H27:$AA27)/COUNTIF('SCORE TABLE'!$H27:$AA27,'SCORE TABLE'!$H27:$AA27))","v":1},{"$f":"SUMPRODUCT(('SCORE TABLE'!K27<='SCORE TABLE'!$H27:$AA27)/COUNTIF('SCORE TABLE'!$H27:$AA27,'SCORE TABLE'!$H27:$AA27))","v":1},{"$f":"SUMPRODUCT(('SCORE TABLE'!L27<='SCORE TABLE'!$H27:$AA27)/COUNTIF('SCORE TABLE'!$H27:$AA27,'SCORE TABLE'!$H27:$AA27))","v":1},{"$f":"SUMPRODUCT(('SCORE TABLE'!M27<='SCORE TABLE'!$H27:$AA27)/COUNTIF('SCORE TABLE'!$H27:$AA27,'SCORE TABLE'!$H27:$AA27))","v":1},{"$f":"SUMPRODUCT(('SCORE TABLE'!N27<='SCORE TABLE'!$H27:$AA27)/COUNTIF('SCORE TABLE'!$H27:$AA27,'SCORE TABLE'!$H27:$AA27))","v":1},{"$f":"SUMPRODUCT(('SCORE TABLE'!O27<='SCORE TABLE'!$H27:$AA27)/COUNTIF('SCORE TABLE'!$H27:$AA27,'SCORE TABLE'!$H27:$AA27))","v":3},{"$f":"SUMPRODUCT(('SCORE TABLE'!P27<='SCORE TABLE'!$H27:$AA27)/COUNTIF('SCORE TABLE'!$H27:$AA27,'SCORE TABLE'!$H27:$AA27))","v":1},{"$f":"SUMPRODUCT(('SCORE TABLE'!Q27<='SCORE TABLE'!$H27:$AA27)/COUNTIF('SCORE TABLE'!$H27:$AA27,'SCORE TABLE'!$H27:$AA27))","v":1},{"$f":"SUMPRODUCT(('SCORE TABLE'!R27<='SCORE TABLE'!$H27:$AA27)/COUNTIF('SCORE TABLE'!$H27:$AA27,'SCORE TABLE'!$H27:$AA27))","v":1},{"$f":"SUMPRODUCT(('SCORE TABLE'!S27<='SCORE TABLE'!$H27:$AA27)/COUNTIF('SCORE TABLE'!$H27:$AA27,'SCORE TABLE'!$H27:$AA27))","v":3},{"$f":"SUMPRODUCT(('SCORE TABLE'!T27<='SCORE TABLE'!$H27:$AA27)/COUNTIF('SCORE TABLE'!$H27:$AA27,'SCORE TABLE'!$H27:$AA27))","v":1},{"$f":"SUMPRODUCT(('SCORE TABLE'!U27<='SCORE TABLE'!$H27:$AA27)/COUNTIF('SCORE TABLE'!$H27:$AA27,'SCORE TABLE'!$H27:$AA27))","v":1},{"$f":"SUMPRODUCT(('SCORE TABLE'!V27<='SCORE TABLE'!$H27:$AA27)/COUNTIF('SCORE TABLE'!$H27:$AA27,'SCORE TABLE'!$H27:$AA27))","v":1},{"$f":"SUMPRODUCT(('SCORE TABLE'!W27<='SCORE TABLE'!$H27:$AA27)/COUNTIF('SCORE TABLE'!$H27:$AA27,'SCORE TABLE'!$H27:$AA27))","v":3},{"$f":"SUMPRODUCT(('SCORE TABLE'!X27<='SCORE TABLE'!$H27:$AA27)/COUNTIF('SCORE TABLE'!$H27:$AA27,'SCORE TABLE'!$H27:$AA27))","v":1},{"$f":"SUMPRODUCT(('SCORE TABLE'!Y27<='SCORE TABLE'!$H27:$AA27)/COUNTIF('SCORE TABLE'!$H27:$AA27,'SCORE TABLE'!$H27:$AA27))","v":2},{"$f":"SUMPRODUCT(('SCORE TABLE'!Z27<='SCORE TABLE'!$H27:$AA27)/COUNTIF('SCORE TABLE'!$H27:$AA27,'SCORE TABLE'!$H27:$AA27))","v":1},{"$f":"SUMPRODUCT(('SCORE TABLE'!AA27<='SCORE TABLE'!$H27:$AA27)/COUNTIF('SCORE TABLE'!$H27:$AA27,'SCORE TABLE'!$H27:$AA27))","v":1}]
[null,1017,"2.1.2","Evidence-based obesity management guidelines",{"$f":"SUMPRODUCT(('SCORE TABLE'!H28<='SCORE TABLE'!$H28:$AA28)/COUNTIF('SCORE TABLE'!$H28:$AA28,'SCORE TABLE'!$H28:$AA28))","v":1},{"$f":"SUMPRODUCT(('SCORE TABLE'!I28<='SCORE TABLE'!$H28:$AA28)/COUNTIF('SCORE TABLE'!$H28:$AA28,'SCORE TABLE'!$H28:$AA28))","v":1},{"$f":"SUMPRODUCT(('SCORE TABLE'!J28<='SCORE TABLE'!$H28:$AA28)/COUNTIF('SCORE TABLE'!$H28:$AA28,'SCORE TABLE'!$H28:$AA28))","v":1},{"$f":"SUMPRODUCT(('SCORE TABLE'!K28<='SCORE TABLE'!$H28:$AA28)/COUNTIF('SCORE TABLE'!$H28:$AA28,'SCORE TABLE'!$H28:$AA28))","v":1},{"$f":"SUMPRODUCT(('SCORE TABLE'!L28<='SCORE TABLE'!$H28:$AA28)/COUNTIF('SCORE TABLE'!$H28:$AA28,'SCORE TABLE'!$H28:$AA28))","v":1},{"$f":"SUMPRODUCT(('SCORE TABLE'!M28<='SCORE TABLE'!$H28:$AA28)/COUNTIF('SCORE TABLE'!$H28:$AA28,'SCORE TABLE'!$H28:$AA28))","v":1},{"$f":"SUMPRODUCT(('SCORE TABLE'!N28<='SCORE TABLE'!$H28:$AA28)/COUNTIF('SCORE TABLE'!$H28:$AA28,'SCORE TABLE'!$H28:$AA28))","v":1},{"$f":"SUMPRODUCT(('SCORE TABLE'!O28<='SCORE TABLE'!$H28:$AA28)/COUNTIF('SCORE TABLE'!$H28:$AA28,'SCORE TABLE'!$H28:$AA28))","v":2},{"$f":"SUMPRODUCT(('SCORE TABLE'!P28<='SCORE TABLE'!$H28:$AA28)/COUNTIF('SCORE TABLE'!$H28:$AA28,'SCORE TABLE'!$H28:$AA28))","v":1},{"$f":"SUMPRODUCT(('SCORE TABLE'!Q28<='SCORE TABLE'!$H28:$AA28)/COUNTIF('SCORE TABLE'!$H28:$AA28,'SCORE TABLE'!$H28:$AA28))","v":1},{"$f":"SUMPRODUCT(('SCORE TABLE'!R28<='SCORE TABLE'!$H28:$AA28)/COUNTIF('SCORE TABLE'!$H28:$AA28,'SCORE TABLE'!$H28:$AA28))","v":1},{"$f":"SUMPRODUCT(('SCORE TABLE'!S28<='SCORE TABLE'!$H28:$AA28)/COUNTIF('SCORE TABLE'!$H28:$AA28,'SCORE TABLE'!$H28:$AA28))","v":2},{"$f":"SUMPRODUCT(('SCORE TABLE'!T28<='SCORE TABLE'!$H28:$AA28)/COUNTIF('SCORE TABLE'!$H28:$AA28,'SCORE TABLE'!$H28:$AA28))","v":1},{"$f":"SUMPRODUCT(('SCORE TABLE'!U28<='SCORE TABLE'!$H28:$AA28)/COUNTIF('SCORE TABLE'!$H28:$AA28,'SCORE TABLE'!$H28:$AA28))","v":1},{"$f":"SUMPRODUCT(('SCORE TABLE'!V28<='SCORE TABLE'!$H28:$AA28)/COUNTIF('SCORE TABLE'!$H28:$AA28,'SCORE TABLE'!$H28:$AA28))","v":1},{"$f":"SUMPRODUCT(('SCORE TABLE'!W28<='SCORE TABLE'!$H28:$AA28)/COUNTIF('SCORE TABLE'!$H28:$AA28,'SCORE TABLE'!$H28:$AA28))","v":2},{"$f":"SUMPRODUCT(('SCORE TABLE'!X28<='SCORE TABLE'!$H28:$AA28)/COUNTIF('SCORE TABLE'!$H28:$AA28,'SCORE TABLE'!$H28:$AA28))","v":1},{"$f":"SUMPRODUCT(('SCORE TABLE'!Y28<='SCORE TABLE'!$H28:$AA28)/COUNTIF('SCORE TABLE'!$H28:$AA28,'SCORE TABLE'!$H28:$AA28))","v":2},{"$f":"SUMPRODUCT(('SCORE TABLE'!Z28<='SCORE TABLE'!$H28:$AA28)/COUNTIF('SCORE TABLE'!$H28:$AA28,'SCORE TABLE'!$H28:$AA28))","v":1},{"$f":"SUMPRODUCT(('SCORE TABLE'!AA28<='SCORE TABLE'!$H28:$AA28)/COUNTIF('SCORE TABLE'!$H28:$AA28,'SCORE TABLE'!$H28:$AA28))","v":1}]
[null,1018,"2.1.3","Clinical and cost-effectiveness of obesity management interventions",{"$f":"SUMPRODUCT(('SCORE TABLE'!H29<='SCORE TABLE'!$H29:$AA29)/COUNTIF('SCORE TABLE'!$H29:$AA29,'SCORE TABLE'!$H29:$AA29))","v":0.99999999999999989},{"$f":"SUMPRODUCT(('SCORE TABLE'!I29<='SCORE TABLE'!$H29:$AA29)/COUNTIF('SCORE TABLE'!$H29:$AA29,'SCORE TABLE'!$H29:$AA29))","v":0.99999999999999989},{"$f":"SUMPRODUCT(('SCORE TABLE'!J29<='SCORE TABLE'!$H29:$AA29)/COUNTIF('SCORE TABLE'!$H29:$AA29,'SCORE TABLE'!$H29:$AA29))","v":0.99999999999999989},{"$f":"SUMPRODUCT(('SCORE TABLE'!K29<='SCORE TABLE'!$H29:$AA29)/COUNTIF('SCORE TABLE'!$H29:$AA29,'SCORE TABLE'!$H29:$AA29))","v":2.0000000000000004},{"$f":"SUMPRODUCT(('SCORE TABLE'!L29<='SCORE TABLE'!$H29:$AA29)/COUNTIF('SCORE TABLE'!$H29:$AA29,'SCORE TABLE'!$H29:$AA29))","v":0.99999999999999989},{"$f":"SUMPRODUCT(('SCORE TABLE'!M29<='SCORE TABLE'!$H29:$AA29)/COUNTIF('SCORE TABLE'!$H29:$AA29,'SCORE TABLE'!$H29:$AA29))","v":2.0000000000000004},{"$f":"SUMPRODUCT(('SCORE TABLE'!N29<='SCORE TABLE'!$H29:$AA29)/COUNTIF('SCORE TABLE'!$H29:$AA29,'SCORE TABLE'!$H29:$AA29))","v":2.0000000000000004},{"$f":"SUMPRODUCT(('SCORE TABLE'!O29<='SCORE TABLE'!$H29:$AA29)/COUNTIF('SCORE TABLE'!$H29:$AA29,'SCORE TABLE'!$H29:$AA29))","v":3},{"$f":"SUMPRODUCT(('SCORE TABLE'!P29<='SCORE TABLE'!$H29:$AA29)/COUNTIF('SCORE TABLE'!$H29:$AA29,'SCORE TABLE'!$H29:$AA29))","v":2.0000000000000004},{"$f":"SUMPRODUCT(('SCORE TABLE'!Q29<='SCORE TABLE'!$H29:$AA29)/COUNTIF('SCORE TABLE'!$H29:$AA29,'SCORE TABLE'!$H29:$AA29))","v":2.0000000000000004},{"$f":"SUMPRODUCT(('SCORE TABLE'!R29<='SCORE TABLE'!$H29:$AA29)/COUNTIF('SCORE TABLE'!$H29:$AA29,'SCORE TABLE'!$H29:$AA29))","v":2.0000000000000004},{"$f":"SUMPRODUCT(('SCORE TABLE'!S29<='SCORE TABLE'!$H29:$AA29)/COUNTIF('SCORE TABLE'!$H29:$AA29,'SCORE TABLE'!$H29:$AA29))","v":3},{"$f":"SUMPRODUCT(('SCORE TABLE'!T29<='SCORE TABLE'!$H29:$AA29)/COUNTIF('SCORE TABLE'!$H29:$AA29,'SCORE TABLE'!$H29:$AA29))","v":3},{"$f":"SUMPRODUCT(('SCORE TABLE'!U29<='SCORE TABLE'!$H29:$AA29)/COUNTIF('SCORE TABLE'!$H29:$AA29,'SCORE TABLE'!$H29:$AA29))","v":2.0000000000000004},{"$f":"SUMPRODUCT(('SCORE TABLE'!V29<='SCORE TABLE'!$H29:$AA29)/COUNTIF('SCORE TABLE'!$H29:$AA29,'SCORE TABLE'!$H29:$AA29))","v":2.0000000000000004},{"$f":"SUMPRODUCT(('SCORE TABLE'!W29<='SCORE TABLE'!$H29:$AA29)/COUNTIF('SCORE TABLE'!$H29:$AA29,'SCORE TABLE'!$H29:$AA29))","v":3},{"$f":"SUMPRODUCT(('SCORE TABLE'!X29<='SCORE TABLE'!$H29:$AA29)/COUNTIF('SCORE TABLE'!$H29:$AA29,'SCORE TABLE'!$H29:$AA29))","v":2.0000000000000004},{"$f":"SUMPRODUCT(('SCORE TABLE'!Y29<='SCORE TABLE'!$H29:$AA29)/COUNTIF('SCORE TABLE'!$H29:$AA29,'SCORE TABLE'!$H29:$AA29))","v":3},{"$f":"SUMPRODUCT(('SCORE TABLE'!Z29<='SCORE TABLE'!$H29:$AA29)/COUNTIF('SCORE TABLE'!$H29:$AA29,'SCORE TABLE'!$H29:$AA29))","v":0.99999999999999989},{"$f":"SUMPRODUCT(('SCORE TABLE'!AA29<='SCORE TABLE'!$H29:$AA29)/COUNTIF('SCORE TABLE'!$H29:$AA29,'SCORE TABLE'!$H29:$AA29))","v":0.99999999999999989}]
[null,1019,2.2000000000000002,"Obesity diagnosis and referral pathways",{"$f":"SUMPRODUCT(('SCORE TABLE'!H30<='SCORE TABLE'!$H30:$AA30)/COUNTIF('SCORE TABLE'!$H30:$AA30,'SCORE TABLE'!$H30:$AA30))","v":3.0000000000000004},{"$f":"SUMPRODUCT(('SCORE TABLE'!I30<='SCORE TABLE'!$H30:$AA30)/COUNTIF('SCORE TABLE'!$H30:$AA30,'SCORE TABLE'!$H30:$AA30))","v":0.99999999999999978},{"$f":"SUMPRODUCT(('SCORE TABLE'!J30<='SCORE TABLE'!$H30:$AA30)/COUNTIF('SCORE TABLE'!$H30:$AA30,'SCORE TABLE'!$H30:$AA30))","v":3.0000000000000004},{"$f":"SUMPRODUCT(('SCORE TABLE'!K30<='SCORE TABLE'!$H30:$AA30)/COUNTIF('SCORE TABLE'!$H30:$AA30,'SCORE TABLE'!$H30:$AA30))","v":0.99999999999999978},{"$f":"SUMPRODUCT(('SCORE TABLE'!L30<='SCORE TABLE'!$H30:$AA30)/COUNTIF('SCORE TABLE'!$H30:$AA30,'SCORE TABLE'!$H30:$AA30))","v":0.99999999999999978},{"$f":"SUMPRODUCT(('SCORE TABLE'!M30<='SCORE TABLE'!$H30:$AA30)/COUNTIF('SCORE TABLE'!$H30:$AA30,'SCORE TABLE'!$H30:$AA30))","v":0.99999999999999978},{"$f":"SUMPRODUCT(('SCORE TABLE'!N30<='SCORE TABLE'!$H30:$AA30)/COUNTIF('SCORE TABLE'!$H30:$AA30,'SCORE TABLE'!$H30:$AA30))","v":0.99999999999999978},{"$f":"SUMPRODUCT(('SCORE TABLE'!O30<='SCORE TABLE'!$H30:$AA30)/COUNTIF('SCORE TABLE'!$H30:$AA30,'SCORE TABLE'!$H30:$AA30))","v":3.0000000000000004},{"$f":"SUMPRODUCT(('SCORE TABLE'!P30<='SCORE TABLE'!$H30:$AA30)/COUNTIF('SCORE TABLE'!$H30:$AA30,'SCORE TABLE'!$H30:$AA30))","v":0.99999999999999978},{"$f":"SUMPRODUCT(('SCORE TABLE'!Q30<='SCORE TABLE'!$H30:$AA30)/COUNTIF('SCORE TABLE'!$H30:$AA30,'SCORE TABLE'!$H30:$AA30))","v":0.99999999999999978},{"$f":"SUMPRODUCT(('SCORE TABLE'!R30<='SCORE TABLE'!$H30:$AA30)/COUNTIF('SCORE TABLE'!$H30:$AA30,'SCORE TABLE'!$H30:$AA30))","v":0.99999999999999978},{"$f":"SUMPRODUCT(('SCORE TABLE'!S30<='SCORE TABLE'!$H30:$AA30)/COUNTIF('SCORE TABLE'!$H30:$AA30,'SCORE TABLE'!$H30:$AA30))","v":4.9999999999999991},{"$f":"SUMPRODUCT(('SCORE TABLE'!T30<='SCORE TABLE'!$H30:$AA30)/COUNTIF('SCORE TABLE'!$H30:$AA30,'SCORE TABLE'!$H30:$AA30))","v":1.9999999999999998},{"$f":"SUMPRODUCT(('SCORE TABLE'!U30<='SCORE TABLE'!$H30:$AA30)/COUNTIF('SCORE TABLE'!$H30:$AA30,'SCORE TABLE'!$H30:$AA30))","v":0.99999999999999978},{"$f":"SUMPRODUCT(('SCORE TABLE'!V30<='SCORE TABLE'!$H30:$AA30)/COUNTIF('SCORE TABLE'!$H30:$AA30,'SCORE TABLE'!$H30:$AA30))","v":0.99999999999999978},{"$f":"SUMPRODUCT(('SCORE TABLE'!W30<='SCORE TABLE'!$H30:$AA30)/COUNTIF('SCORE TABLE'!$H30:$AA30,'SCORE TABLE'!$H30:$AA30))","v":4},{"$f":"SUMPRODUCT(('SCORE TABLE'!X30<='SCORE TABLE'!$H30:$AA30)/COUNTIF('SCORE TABLE'!$H30:$AA30,'SCORE TABLE'!$H30:$AA30))","v":0.99999999999999978},{"$f":"SUMPRODUCT(('SCORE TABLE'!Y30<='SCORE TABLE'!$H30:$AA30)/COUNTIF('SCORE TABLE'!$H30:$AA30,'SCORE TABLE'!$H30:$AA30))","v":4.9999999999999991},{"$f":"SUMPRODUCT(('SCORE TABLE'!Z30<='SCORE TABLE'!$H30:$AA30)/COUNTIF('SCORE TABLE'!$H30:$AA30,'SCORE TABLE'!$H30:$AA30))","v":0.99999999999999978},{"$f":"SUMPRODUCT(('SCORE TABLE'!AA30<='SCORE TABLE'!$H30:$AA30)/COUNTIF('SCORE TABLE'!$H30:$AA30,'SCORE TABLE'!$H30:$AA30))","v":0.99999999999999978}]
[null,1020,"2.2.1","Obesity management pathway",{"$f":"SUMPRODUCT(('SCORE TABLE'!H31<='SCORE TABLE'!$H31:$AA31)/COUNTIF('SCORE TABLE'!$H31:$AA31,'SCORE TABLE'!$H31:$AA31))","v":1.9999999999999998},{"$f":"SUMPRODUCT(('SCORE TABLE'!I31<='SCORE TABLE'!$H31:$AA31)/COUNTIF('SCORE TABLE'!$H31:$AA31,'SCORE TABLE'!$H31:$AA31))","v":0.99999999999999989},{"$f":"SUMPRODUCT(('SCORE TABLE'!J31<='SCORE TABLE'!$H31:$AA31)/COUNTIF('SCORE TABLE'!$H31:$AA31,'SCORE TABLE'!$H31:$AA31))","v":0.99999999999999989},{"$f":"SUMPRODUCT(('SCORE TABLE'!K31<='SCORE TABLE'!$H31:$AA31)/COUNTIF('SCORE TABLE'!$H31:$AA31,'SCORE TABLE'!$H31:$AA31))","v":0.99999999999999989},{"$f":"SUMPRODUCT(('SCORE TABLE'!L31<='SCORE TABLE'!$H31:$AA31)/COUNTIF('SCORE TABLE'!$H31:$AA31,'SCORE TABLE'!$H31:$AA31))","v":0.99999999999999989},{"$f":"SUMPRODUCT(('SCORE TABLE'!M31<='SCORE TABLE'!$H31:$AA31)/COUNTIF('SCORE TABLE'!$H31:$AA31,'SCORE TABLE'!$H31:$AA31))","v":0.99999999999999989},{"$f":"SUMPRODUCT(('SCORE TABLE'!N31<='SCORE TABLE'!$H31:$AA31)/COUNTIF('SCORE TABLE'!$H31:$AA31,'SCORE TABLE'!$H31:$AA31))","v":0.99999999999999989},{"$f":"SUMPRODUCT(('SCORE TABLE'!O31<='SCORE TABLE'!$H31:$AA31)/COUNTIF('SCORE TABLE'!$H31:$AA31,'SCORE TABLE'!$H31:$AA31))","v":1.9999999999999998},{"$f":"SUMPRODUCT(('SCORE TABLE'!P31<='SCORE TABLE'!$H31:$AA31)/COUNTIF('SCORE TABLE'!$H31:$AA31,'SCORE TABLE'!$H31:$AA31))","v":0.99999999999999989},{"$f":"SUMPRODUCT(('SCORE TABLE'!Q31<='SCORE TABLE'!$H31:$AA31)/COUNTIF('SCORE TABLE'!$H31:$AA31,'SCORE TABLE'!$H31:$AA31))","v":0.99999999999999989},{"$f":"SUMPRODUCT(('SCORE TABLE'!R31<='SCORE TABLE'!$H31:$AA31)/COUNTIF('SCORE TABLE'!$H31:$AA31,'SCORE TABLE'!$H31:$AA31))","v":0.99999999999999989},{"$f":"SUMPRODUCT(('SCORE TABLE'!S31<='SCORE TABLE'!$H31:$AA31)/COUNTIF('SCORE TABLE'!$H31:$AA31,'SCORE TABLE'!$H31:$AA31))","v":1.9999999999999998},{"$f":"SUMPRODUCT(('SCORE TABLE'!T31<='SCORE TABLE'!$H31:$AA31)/COUNTIF('SCORE TABLE'!$H31:$AA31,'SCORE TABLE'!$H31:$AA31))","v":0.99999999999999989},{"$f":"SUMPRODUCT(('SCORE TABLE'!U31<='SCORE TABLE'!$H31:$AA31)/COUNTIF('SCORE TABLE'!$H31:$AA31,'SCORE TABLE'!$H31:$AA31))","v":0.99999999999999989},{"$f":"SUMPRODUCT(('SCORE TABLE'!V31<='SCORE TABLE'!$H31:$AA31)/COUNTIF('SCORE TABLE'!$H31:$AA31,'SCORE TABLE'!$H31:$AA31))","v":0.99999999999999989},{"$f":"SUMPRODUCT(('SCORE TABLE'!W31<='SCORE TABLE'!$H31:$AA31)/COUNTIF('SCORE TABLE'!$H31:$AA31,'SCORE TABLE'!$H31:$AA31))","v":1.9999999999999998},{"$f":"SUMPRODUCT(('SCORE TABLE'!X31<='SCORE TABLE'!$H31:$AA31)/COUNTIF('SCORE TABLE'!$H31:$AA31,'SCORE TABLE'!$H31:$AA31))","v":0.99999999999999989},{"$f":"SUMPRODUCT(('SCORE TABLE'!Y31<='SCORE TABLE'!$H31:$AA31)/COUNTIF('SCORE TABLE'!$H31:$AA31,'SCORE TABLE'!$H31:$AA31))","v":1.9999999999999998},{"$f":"SUMPRODUCT(('SCORE TABLE'!Z31<='SCORE TABLE'!$H31:$AA31)/COUNTIF('SCORE TABLE'!$H31:$AA31,'SCORE TABLE'!$H31:$AA31))","v":0.99999999999999989},{"$f":"SUMPRODUCT(('SCORE TABLE'!AA31<='SCORE TABLE'!$H31:$AA31)/COUNTIF('SCORE TABLE'!$H31:$AA31,'SCORE TABLE'!$H31:$AA31))","v":0.99999999999999989}]
[null,1021,"2.2.2","Obesity pathway in chronic disease management",{"$f":"SUMPRODUCT(('SCORE TABLE'!H32<='SCORE TABLE'!$H32:$AA32)/COUNTIF('SCORE TABLE'!$H32:$AA32,'SCORE TABLE'!$H32:$AA32))","v":0.99999999999999989},{"$f":"SUMPRODUCT(('SCORE TABLE'!I32<='SCORE TABLE'!$H32:$AA32)/COUNTIF('SCORE TABLE'!$H32:$AA32,'SCORE TABLE'!$H32:$AA32))","v":0.99999999999999989},{"$f":"SUMPRODUCT(('SCORE TABLE'!J32<='SCORE TABLE'!$H32:$AA32)/COUNTIF('SCORE TABLE'!$H32:$AA32,'SCORE TABLE'!$H32:$AA32))","v":3.0000000000000009},{"$f":"SUMPRODUCT(('SCORE TABLE'!K32<='SCORE TABLE'!$H32:$AA32)/COUNTIF('SCORE TABLE'!$H32:$AA32,'SCORE TABLE'!$H32:$AA32))","v":0.99999999999999989},{"$f":"SUMPRODUCT(('SCORE TABLE'!L32<='SCORE TABLE'!$H32:$AA32)/COUNTIF('SCORE TABLE'!$H32:$AA32,'SCORE TABLE'!$H32:$AA32))","v":0.99999999999999989},{"$f":"SUMPRODUCT(('SCORE TABLE'!M32<='SCORE TABLE'!$H32:$AA32)/COUNTIF('SCORE TABLE'!$H32:$AA32,'SCORE TABLE'!$H32:$AA32))","v":0.99999999999999989},{"$f":"SUMPRODUCT(('SCORE TABLE'!N32<='SCORE TABLE'!$H32:$AA32)/COUNTIF('SCORE TABLE'!$H32:$AA32,'SCORE TABLE'!$H32:$AA32))","v":0.99999999999999989},{"$f":"SUMPRODUCT(('SCORE TABLE'!O32<='SCORE TABLE'!$H32:$AA32)/COUNTIF('SCORE TABLE'!$H32:$AA32,'SCORE TABLE'!$H32:$AA32))","v":0.99999999999999989},{"$f":"SUMPRODUCT(('SCORE TABLE'!P32<='SCORE TABLE'!$H32:$AA32)/COUNTIF('SCORE TABLE'!$H32:$AA32,'SCORE TABLE'!$H32:$AA32))","v":0.99999999999999989},{"$f":"SUMPRODUCT(('SCORE TABLE'!Q32<='SCORE TABLE'!$H32:$AA32)/COUNTIF('SCORE TABLE'!$H32:$AA32,'SCORE TABLE'!$H32:$AA32))","v":0.99999999999999989},{"$f":"SUMPRODUCT(('SCORE TABLE'!R32<='SCORE TABLE'!$H32:$AA32)/COUNTIF('SCORE TABLE'!$H32:$AA32,'SCORE TABLE'!$H32:$AA32))","v":0.99999999999999989},{"$f":"SUMPRODUCT(('SCORE TABLE'!S32<='SCORE TABLE'!$H32:$AA32)/COUNTIF('SCORE TABLE'!$H32:$AA32,'SCORE TABLE'!$H32:$AA32))","v":3.0000000000000009},{"$f":"SUMPRODUCT(('SCORE TABLE'!T32<='SCORE TABLE'!$H32:$AA32)/COUNTIF('SCORE TABLE'!$H32:$AA32,'SCORE TABLE'!$H32:$AA32))","v":1.9999999999999998},{"$f":"SUMPRODUCT(('SCORE TABLE'!U32<='SCORE TABLE'!$H32:$AA32)/COUNTIF('SCORE TABLE'!$H32:$AA32,'SCORE TABLE'!$H32:$AA32))","v":0.99999999999999989},{"$f":"SUMPRODUCT(('SCORE TABLE'!V32<='SCORE TABLE'!$H32:$AA32)/COUNTIF('SCORE TABLE'!$H32:$AA32,'SCORE TABLE'!$H32:$AA32))","v":0.99999999999999989},{"$f":"SUMPRODUCT(('SCORE TABLE'!W32<='SCORE TABLE'!$H32:$AA32)/COUNTIF('SCORE TABLE'!$H32:$AA32,'SCORE TABLE'!$H32:$AA32))","v":1.9999999999999998},{"$f":"SUMPRODUCT(('SCORE TABLE'!X32<='SCORE TABLE'!$H32:$AA32)/COUNTIF('SCORE TABLE'!$H32:$AA32,'SCORE TABLE'!$H32:$AA32))","v":0.99999999999999989},{"$f":"SUMPRODUCT(('SCORE TABLE'!Y32<='SCORE TABLE'!$H32:$AA32)/COUNTIF('SCORE TABLE'!$H32:$AA32,'SCORE TABLE'!$H32:$AA32))","v":3.0000000000000009},{"$f":"SUMPRODUCT(('SCORE TABLE'!Z32<='SCORE TABLE'!$H32:$AA32)/COUNTIF('SCORE TABLE'!$H32:$AA32,'SCORE TABLE'!$H32:$AA32))","v":0.99999999999999989},{"$f":"SUMPRODUCT(('SCORE TABLE'!AA32<='SCORE TABLE'!$H32:$AA32)/COUNTIF('SCORE TABLE'!$H32:$AA32,'SCORE TABLE'!$H32:$AA32))","v":0.99999999999999989}]
[null,1022,2.2999999999999998,"Availability and affordability of obesity-related care",{"$f":"SUMPRODUCT(('SCORE TABLE'!H33<='SCORE TABLE'!$H33:$AA33)/COUNTIF('SCORE TABLE'!$H33:$AA33,'SCORE TABLE'!$H33:$AA33))","v":1.9999999999999998},{"$f":"SUMPRODUCT(('SCORE TABLE'!I33<='SCORE TABLE'!$H33:$AA33)/COUNTIF('SCORE TABLE'!$H33:$AA33,'SCORE TABLE'!$H33:$AA33))","v":1.9999999999999998},{"$f":"SUMPRODUCT(('SCORE TABLE'!J33<='SCORE TABLE'!$H33:$AA33)/COUNTIF('SCORE TABLE'!$H33:$AA33,'SCORE TABLE'!$H33:$AA33))","v":4.9999999999999991},{"$f":"SUMPRODUCT(('SCORE TABLE'!K33<='SCORE TABLE'!$H33:$AA33)/COUNTIF('SCORE TABLE'!$H33:$AA33,'SCORE TABLE'!$H33:$AA33))","v":4.9999999999999991},{"$f":"SUMPRODUCT(('SCORE TABLE'!L33<='SCORE TABLE'!$H33:$AA33)/COUNTIF('SCORE TABLE'!$H33:$AA33,'SCORE TABLE'!$H33:$AA33))","v":1.9999999999999998},{"$f":"SUMPRODUCT(('SCORE TABLE'!M33<='SCORE TABLE'!$H33:$AA33)/COUNTIF('SCORE TABLE'!$H33:$AA33,'SCORE TABLE'!$H33:$AA33))","v":1.9999999999999998},{"$f":"SUMPRODUCT(('SCORE TABLE'!N33<='SCORE TABLE'!$H33:$AA33)/COUNTIF('SCORE TABLE'!$H33:$AA33,'SCORE TABLE'!$H33:$AA33))","v":2.9999999999999996},{"$f":"SUMPRODUCT(('SCORE TABLE'!O33<='SCORE TABLE'!$H33:$AA33)/COUNTIF('SCORE TABLE'!$H33:$AA33,'SCORE TABLE'!$H33:$AA33))","v":3.9999999999999996},{"$f":"SUMPRODUCT(('SCORE TABLE'!P33<='SCORE TABLE'!$H33:$AA33)/COUNTIF('SCORE TABLE'!$H33:$AA33,'SCORE TABLE'!$H33:$AA33))","v":3.9999999999999996},{"$f":"SUMPRODUCT(('SCORE TABLE'!Q33<='SCORE TABLE'!$H33:$AA33)/COUNTIF('SCORE TABLE'!$H33:$AA33,'SCORE TABLE'!$H33:$AA33))","v":2.9999999999999996},{"$f":"SUMPRODUCT(('SCORE TABLE'!R33<='SCORE TABLE'!$H33:$AA33)/COUNTIF('SCORE TABLE'!$H33:$AA33,'SCORE TABLE'!$H33:$AA33))","v":4.9999999999999991},{"$f":"SUMPRODUCT(('SCORE TABLE'!S33<='SCORE TABLE'!$H33:$AA33)/COUNTIF('SCORE TABLE'!$H33:$AA33,'SCORE TABLE'!$H33:$AA33))","v":4.9999999999999991},{"$f":"SUMPRODUCT(('SCORE TABLE'!T33<='SCORE TABLE'!$H33:$AA33)/COUNTIF('SCORE TABLE'!$H33:$AA33,'SCORE TABLE'!$H33:$AA33))","v":4.9999999999999991},{"$f":"SUMPRODUCT(('SCORE TABLE'!U33<='SCORE TABLE'!$H33:$AA33)/COUNTIF('SCORE TABLE'!$H33:$AA33,'SCORE TABLE'!$H33:$AA33))","v":3.9999999999999996},{"$f":"SUMPRODUCT(('SCORE TABLE'!V33<='SCORE TABLE'!$H33:$AA33)/COUNTIF('SCORE TABLE'!$H33:$AA33,'SCORE TABLE'!$H33:$AA33))","v":1.9999999999999998},{"$f":"SUMPRODUCT(('SCORE TABLE'!W33<='SCORE TABLE'!$H33:$AA33)/COUNTIF('SCORE TABLE'!$H33:$AA33,'SCORE TABLE'!$H33:$AA33))","v":4.9999999999999991},{"$f":"SUMPRODUCT(('SCORE TABLE'!X33<='SCORE TABLE'!$H33:$AA33)/COUNTIF('SCORE TABLE'!$H33:$AA33,'SCORE TABLE'!$H33:$AA33))","v":2.9999999999999996},{"$f":"SUMPRODUCT(('SCORE TABLE'!Y33<='SCORE TABLE'!$H33:$AA33)/COUNTIF('SCORE TABLE'!$H33:$AA33,'SCORE TABLE'!$H33:$AA33))","v":1.9999999999999998},{"$f":"SUMPRODUCT(('SCORE TABLE'!Z33<='SCORE TABLE'!$H33:$AA33)/COUNTIF('SCORE TABLE'!$H33:$AA33,'SCORE TABLE'!$H33:$AA33))","v":1.9999999999999998},{"$f":"SUMPRODUCT(('SCORE TABLE'!AA33<='SCORE TABLE'!$H33:$AA33)/COUNTIF('SCORE TABLE'!$H33:$AA33,'SCORE TABLE'!$H33:$AA33))","v":1}]
[null,1023,"2.3.1","Reimbursement/coverage of obesity care",{"$f":"SUMPRODUCT(('SCORE TABLE'!H34<='SCORE TABLE'!$H34:$AA34)/COUNTIF('SCORE TABLE'!$H34:$AA34,'SCORE TABLE'!$H34:$AA34))","v":1.9999999999999998},{"$f":"SUMPRODUCT(('SCORE TABLE'!I34<='SCORE TABLE'!$H34:$AA34)/COUNTIF('SCORE TABLE'!$H34:$AA34,'SCORE TABLE'!$H34:$AA34))","v":1.9999999999999998},{"$f":"SUMPRODUCT(('SCORE TABLE'!J34<='SCORE TABLE'!$H34:$AA34)/COUNTIF('SCORE TABLE'!$H34:$AA34,'SCORE TABLE'!$H34:$AA34))","v":4.9999999999999991},{"$f":"SUMPRODUCT(('SCORE TABLE'!K34<='SCORE TABLE'!$H34:$AA34)/COUNTIF('SCORE TABLE'!$H34:$AA34,'SCORE TABLE'!$H34:$AA34))","v":4.9999999999999991},{"$f":"SUMPRODUCT(('SCORE TABLE'!L34<='SCORE TABLE'!$H34:$AA34)/COUNTIF('SCORE TABLE'!$H34:$AA34,'SCORE TABLE'!$H34:$AA34))","v":1.9999999999999998},{"$f":"SUMPRODUCT(('SCORE TABLE'!M34<='SCORE TABLE'!$H34:$AA34)/COUNTIF('SCORE TABLE'!$H34:$AA34,'SCORE TABLE'!$H34:$AA34))","v":1.9999999999999998},{"$f":"SUMPRODUCT(('SCORE TABLE'!N34<='SCORE TABLE'!$H34:$AA34)/COUNTIF('SCORE TABLE'!$H34:$AA34,'SCORE TABLE'!$H34:$AA34))","v":2.9999999999999996},{"$f":"SUMPRODUCT(('SCORE TABLE'!O34<='SCORE TABLE'!$H34:$AA34)/COUNTIF('SCORE TABLE'!$H34:$AA34,'SCORE TABLE'!$H34:$AA34))","v":3.9999999999999996},{"$f":"SUMPRODUCT(('SCORE TABLE'!P34<='SCORE TABLE'!$H34:$AA34)/COUNTIF('SCORE TABLE'!$H34:$AA34,'SCORE TABLE'!$H34:$AA34))","v":3.9999999999999996},{"$f":"SUMPRODUCT(('SCORE TABLE'!Q34<='SCORE TABLE'!$H34:$AA34)/COUNTIF('SCORE TABLE'!$H34:$AA34,'SCORE TABLE'!$H34:$AA34))","v":2.9999999999999996},{"$f":"SUMPRODUCT(('SCORE TABLE'!R34<='SCORE TABLE'!$H34:$AA34)/COUNTIF('SCORE TABLE'!$H34:$AA34,'SCORE TABLE'!$H34:$AA34))","v":4.9999999999999991},{"$f":"SUMPRODUCT(('SCORE TABLE'!S34<='SCORE TABLE'!$H34:$AA34)/COUNTIF('SCORE TABLE'!$H34:$AA34,'SCORE TABLE'!$H34:$AA34))","v":4.9999999999999991},{"$f":"SUMPRODUCT(('SCORE TABLE'!T34<='SCORE TABLE'!$H34:$AA34)/COUNTIF('SCORE TABLE'!$H34:$AA34,'SCORE TABLE'!$H34:$AA34))","v":4.9999999999999991},{"$f":"SUMPRODUCT(('SCORE TABLE'!U34<='SCORE TABLE'!$H34:$AA34)/COUNTIF('SCORE TABLE'!$H34:$AA34,'SCORE TABLE'!$H34:$AA34))","v":3.9999999999999996},{"$f":"SUMPRODUCT(('SCORE TABLE'!V34<='SCORE TABLE'!$H34:$AA34)/COUNTIF('SCORE TABLE'!$H34:$AA34,'SCORE TABLE'!$H34:$AA34))","v":1.9999999999999998},{"$f":"SUMPRODUCT(('SCORE TABLE'!W34<='SCORE TABLE'!$H34:$AA34)/COUNTIF('SCORE TABLE'!$H34:$AA34,'SCORE TABLE'!$H34:$AA34))","v":4.9999999999999991},{"$f":"SUMPRODUCT(('SCORE TABLE'!X34<='SCORE TABLE'!$H34:$AA34)/COUNTIF('SCORE TABLE'!$H34:$AA34,'SCORE TABLE'!$H34:$AA34))","v":2.9999999999999996},{"$f":"SUMPRODUCT(('SCORE TABLE'!Y34<='SCORE TABLE'!$H34:$AA34)/COUNTIF('SCORE TABLE'!$H34:$AA34,'SCORE TABLE'!$H34:$AA34))","v":1.9999999999999998},{"$f":"SUMPRODUCT(('SCORE TABLE'!Z34<='SCORE TABLE'!$H34:$AA34)/COUNTIF('SCORE TABLE'!$H34:$AA34,'SCORE TABLE'!$H34:$AA34))","v":1.9999999999999998},{"$f":"SUMPRODUCT(('SCORE TABLE'!AA34<='SCORE TABLE'!$H34:$AA34)/COUNTIF('SCORE TABLE'!$H34:$AA34,'SCORE TABLE'!$H34:$AA34))","v":1}]
[null,1024,3,"Food quality and access",{"$f":"SUMPRODUCT(('SCORE TABLE'!H35<='SCORE TABLE'!$H35:$AA35)/COUNTIF('SCORE TABLE'!$H35:$AA35,'SCORE TABLE'!$H35:$AA35))","v":14},{"$f":"SUMPRODUCT(('SCORE TABLE'!I35<='SCORE TABLE'!$H35:$AA35)/COUNTIF('SCORE TABLE'!$H35:$AA35,'SCORE TABLE'!$H35:$AA35))","v":5},{"$f":"SUMPRODUCT(('SCORE TABLE'!J35<='SCORE TABLE'!$H35:$AA35)/COUNTIF('SCORE TABLE'!$H35:$AA35,'SCORE TABLE'!$H35:$AA35))","v":12},{"$f":"SUMPRODUCT(('SCORE TABLE'!K35<='SCORE TABLE'!$H35:$AA35)/COUNTIF('SCORE TABLE'!$H35:$AA35,'SCORE TABLE'!$H35:$AA35))","v":11},{"$f":"SUMPRODUCT(('SCORE TABLE'!L35<='SCORE TABLE'!$H35:$AA35)/COUNTIF('SCORE TABLE'!$H35:$AA35,'SCORE TABLE'!$H35:$AA35))","v":8},{"$f":"SUMPRODUCT(('SCORE TABLE'!M35<='SCORE TABLE'!$H35:$AA35)/COUNTIF('SCORE TABLE'!$H35:$AA35,'SCORE TABLE'!$H35:$AA35))","v":4},{"$f":"SUMPRODUCT(('SCORE TABLE'!N35<='SCORE TABLE'!$H35:$AA35)/COUNTIF('SCORE TABLE'!$H35:$AA35,'SCORE TABLE'!$H35:$AA35))","v":13},{"$f":"SUMPRODUCT(('SCORE TABLE'!O35<='SCORE TABLE'!$H35:$AA35)/COUNTIF('SCORE TABLE'!$H35:$AA35,'SCORE TABLE'!$H35:$AA35))","v":17},{"$f":"SUMPRODUCT(('SCORE TABLE'!P35<='SCORE TABLE'!$H35:$AA35)/COUNTIF('SCORE TABLE'!$H35:$AA35,'SCORE TABLE'!$H35:$AA35))","v":9},{"$f":"SUMPRODUCT(('SCORE TABLE'!Q35<='SCORE TABLE'!$H35:$AA35)/COUNTIF('SCORE TABLE'!$H35:$AA35,'SCORE TABLE'!$H35:$AA35))","v":16},{"$f":"SUMPRODUCT(('SCORE TABLE'!R35<='SCORE TABLE'!$H35:$AA35)/COUNTIF('SCORE TABLE'!$H35:$AA35,'SCORE TABLE'!$H35:$AA35))","v":2},{"$f":"SUMPRODUCT(('SCORE TABLE'!S35<='SCORE TABLE'!$H35:$AA35)/COUNTIF('SCORE TABLE'!$H35:$AA35,'SCORE TABLE'!$H35:$AA35))","v":20},{"$f":"SUMPRODUCT(('SCORE TABLE'!T35<='SCORE TABLE'!$H35:$AA35)/COUNTIF('SCORE TABLE'!$H35:$AA35,'SCORE TABLE'!$H35:$AA35))","v":18},{"$f":"SUMPRODUCT(('SCORE TABLE'!U35<='SCORE TABLE'!$H35:$AA35)/COUNTIF('SCORE TABLE'!$H35:$AA35,'SCORE TABLE'!$H35:$AA35))","v":19},{"$f":"SUMPRODUCT(('SCORE TABLE'!V35<='SCORE TABLE'!$H35:$AA35)/COUNTIF('SCORE TABLE'!$H35:$AA35,'SCORE TABLE'!$H35:$AA35))","v":15},{"$f":"SUMPRODUCT(('SCORE TABLE'!W35<='SCORE TABLE'!$H35:$AA35)/COUNTIF('SCORE TABLE'!$H35:$AA35,'SCORE TABLE'!$H35:$AA35))","v":7},{"$f":"SUMPRODUCT(('SCORE TABLE'!X35<='SCORE TABLE'!$H35:$AA35)/COUNTIF('SCORE TABLE'!$H35:$AA35,'SCORE TABLE'!$H35:$AA35))","v":6},{"$f":"SUMPRODUCT(('SCORE TABLE'!Y35<='SCORE TABLE'!$H35:$AA35)/COUNTIF('SCORE TABLE'!$H35:$AA35,'SCORE TABLE'!$H35:$AA35))","v":3},{"$f":"SUMPRODUCT(('SCORE TABLE'!Z35<='SCORE TABLE'!$H35:$AA35)/COUNTIF('SCORE TABLE'!$H35:$AA35,'SCORE TABLE'!$H35:$AA35))","v":10},{"$f":"SUMPRODUCT(('SCORE TABLE'!AA35<='SCORE TABLE'!$H35:$AA35)/COUNTIF('SCORE TABLE'!$H35:$AA35,'SCORE TABLE'!$H35:$AA35))","v":1}]
[null,1025,3.1,"Food access and affordability",{"$f":"SUMPRODUCT(('SCORE TABLE'!H36<='SCORE TABLE'!$H36:$AA36)/COUNTIF('SCORE TABLE'!$H36:$AA36,'SCORE TABLE'!$H36:$AA36))","v":15},{"$f":"SUMPRODUCT(('SCORE TABLE'!I36<='SCORE TABLE'!$H36:$AA36)/COUNTIF('SCORE TABLE'!$H36:$AA36,'SCORE TABLE'!$H36:$AA36))","v":9},{"$f":"SUMPRODUCT(('SCORE TABLE'!J36<='SCORE TABLE'!$H36:$AA36)/COUNTIF('SCORE TABLE'!$H36:$AA36,'SCORE TABLE'!$H36:$AA36))","v":5},{"$f":"SUMPRODUCT(('SCORE TABLE'!K36<='SCORE TABLE'!$H36:$AA36)/COUNTIF('SCORE TABLE'!$H36:$AA36,'SCORE TABLE'!$H36:$AA36))","v":16},{"$f":"SUMPRODUCT(('SCORE TABLE'!L36<='SCORE TABLE'!$H36:$AA36)/COUNTIF('SCORE TABLE'!$H36:$AA36,'SCORE TABLE'!$H36:$AA36))","v":14},{"$f":"SUMPRODUCT(('SCORE TABLE'!M36<='SCORE TABLE'!$H36:$AA36)/COUNTIF('SCORE TABLE'!$H36:$AA36,'SCORE TABLE'!$H36:$AA36))","v":4},{"$f":"SUMPRODUCT(('SCORE TABLE'!N36<='SCORE TABLE'!$H36:$AA36)/COUNTIF('SCORE TABLE'!$H36:$AA36,'SCORE TABLE'!$H36:$AA36))","v":1},{"$f":"SUMPRODUCT(('SCORE TABLE'!O36<='SCORE TABLE'!$H36:$AA36)/COUNTIF('SCORE TABLE'!$H36:$AA36,'SCORE TABLE'!$H36:$AA36))","v":19},{"$f":"SUMPRODUCT(('SCORE TABLE'!P36<='SCORE TABLE'!$H36:$AA36)/COUNTIF('SCORE TABLE'!$H36:$AA36,'SCORE TABLE'!$H36:$AA36))","v":3},{"$f":"SUMPRODUCT(('SCORE TABLE'!Q36<='SCORE TABLE'!$H36:$AA36)/COUNTIF('SCORE TABLE'!$H36:$AA36,'SCORE TABLE'!$H36:$AA36))","v":13},{"$f":"SUMPRODUCT(('SCORE TABLE'!R36<='SCORE TABLE'!$H36:$AA36)/COUNTIF('SCORE TABLE'!$H36:$AA36,'SCORE TABLE'!$H36:$AA36))","v":8},{"$f":"SUMPRODUCT(('SCORE TABLE'!S36<='SCORE TABLE'!$H36:$AA36)/COUNTIF('SCORE TABLE'!$H36:$AA36,'SCORE TABLE'!$H36:$AA36))","v":18},{"$f":"SUMPRODUCT(('SCORE TABLE'!T36<='SCORE TABLE'!$H36:$AA36)/COUNTIF('SCORE TABLE'!$H36:$AA36,'SCORE TABLE'!$H36:$AA36))","v":11},{"$f":"SUMPRODUCT(('SCORE TABLE'!U36<='SCORE TABLE'!$H36:$AA36)/COUNTIF('SCORE TABLE'!$H36:$AA36,'SCORE TABLE'!$H36:$AA36))","v":20},{"$f":"SUMPRODUCT(('SCORE TABLE'!V36<='SCORE TABLE'!$H36:$AA36)/COUNTIF('SCORE TABLE'!$H36:$AA36,'SCORE TABLE'!$H36:$AA36))","v":17},{"$f":"SUMPRODUCT(('SCORE TABLE'!W36<='SCORE TABLE'!$H36:$AA36)/COUNTIF('SCORE TABLE'!$H36:$AA36,'SCORE TABLE'!$H36:$AA36))","v":10},{"$f":"SUMPRODUCT(('SCORE TABLE'!X36<='SCORE TABLE'!$H36:$AA36)/COUNTIF('SCORE TABLE'!$H36:$AA36,'SCORE TABLE'!$H36:$AA36))","v":6},{"$f":"SUMPRODUCT(('SCORE TABLE'!Y36<='SCORE TABLE'!$H36:$AA36)/COUNTIF('SCORE TABLE'!$H36:$AA36,'SCORE TABLE'!$H36:$AA36))","v":7},{"$f":"SUMPRODUCT(('SCORE TABLE'!Z36<='SCORE TABLE'!$H36:$AA36)/COUNTIF('SCORE TABLE'!$H36:$AA36,'SCORE TABLE'!$H36:$AA36))","v":12},{"$f":"SUMPRODUCT(('SCORE TABLE'!AA36<='SCORE TABLE'!$H36:$AA36)/COUNTIF('SCORE TABLE'!$H36:$AA36,'SCORE TABLE'!$H36:$AA36))","v":2}]
[null,1026,"3.1.1","Level of food security",{"$f":"SUMPRODUCT(('SCORE TABLE'!H37<='SCORE TABLE'!$H37:$AA37)/COUNTIF('SCORE TABLE'!$H37:$AA37,'SCORE TABLE'!$H37:$AA37))","v":10},{"$f":"SUMPRODUCT(('SCORE TABLE'!I37<='SCORE TABLE'!$H37:$AA37)/COUNTIF('SCORE TABLE'!$H37:$AA37,'SCORE TABLE'!$H37:$AA37))","v":12},{"$f":"SUMPRODUCT(('SCORE TABLE'!J37<='SCORE TABLE'!$H37:$AA37)/COUNTIF('SCORE TABLE'!$H37:$AA37,'SCORE TABLE'!$H37:$AA37))","v":7},{"$f":"SUMPRODUCT(('SCORE TABLE'!K37<='SCORE TABLE'!$H37:$AA37)/COUNTIF('SCORE TABLE'!$H37:$AA37,'SCORE TABLE'!$H37:$AA37))","v":17},{"$f":"SUMPRODUCT(('SCORE TABLE'!L37<='SCORE TABLE'!$H37:$AA37)/COUNTIF('SCORE TABLE'!$H37:$AA37,'SCORE TABLE'!$H37:$AA37))","v":9},{"$f":"SUMPRODUCT(('SCORE TABLE'!M37<='SCORE TABLE'!$H37:$AA37)/COUNTIF('SCORE TABLE'!$H37:$AA37,'SCORE TABLE'!$H37:$AA37))","v":6},{"$f":"SUMPRODUCT(('SCORE TABLE'!N37<='SCORE TABLE'!$H37:$AA37)/COUNTIF('SCORE TABLE'!$H37:$AA37,'SCORE TABLE'!$H37:$AA37))","v":2},{"$f":"SUMPRODUCT(('SCORE TABLE'!O37<='SCORE TABLE'!$H37:$AA37)/COUNTIF('SCORE TABLE'!$H37:$AA37,'SCORE TABLE'!$H37:$AA37))","v":17},{"$f":"SUMPRODUCT(('SCORE TABLE'!P37<='SCORE TABLE'!$H37:$AA37)/COUNTIF('SCORE TABLE'!$H37:$AA37,'SCORE TABLE'!$H37:$AA37))","v":1},{"$f":"SUMPRODUCT(('SCORE TABLE'!Q37<='SCORE TABLE'!$H37:$AA37)/COUNTIF('SCORE TABLE'!$H37:$AA37,'SCORE TABLE'!$H37:$AA37))","v":3},{"$f":"SUMPRODUCT(('SCORE TABLE'!R37<='SCORE TABLE'!$H37:$AA37)/COUNTIF('SCORE TABLE'!$H37:$AA37,'SCORE TABLE'!$H37:$AA37))","v":15},{"$f":"SUMPRODUCT(('SCORE TABLE'!S37<='SCORE TABLE'!$H37:$AA37)/COUNTIF('SCORE TABLE'!$H37:$AA37,'SCORE TABLE'!$H37:$AA37))","v":16},{"$f":"SUMPRODUCT(('SCORE TABLE'!T37<='SCORE TABLE'!$H37:$AA37)/COUNTIF('SCORE TABLE'!$H37:$AA37,'SCORE TABLE'!$H37:$AA37))","v":14},{"$f":"SUMPRODUCT(('SCORE TABLE'!U37<='SCORE TABLE'!$H37:$AA37)/COUNTIF('SCORE TABLE'!$H37:$AA37,'SCORE TABLE'!$H37:$AA37))","v":17},{"$f":"SUMPRODUCT(('SCORE TABLE'!V37<='SCORE TABLE'!$H37:$AA37)/COUNTIF('SCORE TABLE'!$H37:$AA37,'SCORE TABLE'!$H37:$AA37))","v":11},{"$f":"SUMPRODUCT(('SCORE TABLE'!W37<='SCORE TABLE'!$H37:$AA37)/COUNTIF('SCORE TABLE'!$H37:$AA37,'SCORE TABLE'!$H37:$AA37))","v":13},{"$f":"SUMPRODUCT(('SCORE TABLE'!X37<='SCORE TABLE'!$H37:$AA37)/COUNTIF('SCORE TABLE'!$H37:$AA37,'SCORE TABLE'!$H37:$AA37))","v":4},{"$f":"SUMPRODUCT(('SCORE TABLE'!Y37<='SCORE TABLE'!$H37:$AA37)/COUNTIF('SCORE TABLE'!$H37:$AA37,'SCORE TABLE'!$H37:$AA37))","v":5},{"$f":"SUMPRODUCT(('SCORE TABLE'!Z37<='SCORE TABLE'!$H37:$AA37)/COUNTIF('SCORE TABLE'!$H37:$AA37,'SCORE TABLE'!$H37:$AA37))","v":8},{"$f":"SUMPRODUCT(('SCORE TABLE'!AA37<='SCORE TABLE'!$H37:$AA37)/COUNTIF('SCORE TABLE'!$H37:$AA37,'SCORE TABLE'!$H37:$AA37))","v":4}]
[null,1027,"3.1.2","Affordability of nutritious food",{"$f":"SUMPRODUCT(('SCORE TABLE'!H38<='SCORE TABLE'!$H38:$AA38)/COUNTIF('SCORE TABLE'!$H38:$AA38,'SCORE TABLE'!$H38:$AA38))","v":7},{"$f":"SUMPRODUCT(('SCORE TABLE'!I38<='SCORE TABLE'!$H38:$AA38)/COUNTIF('SCORE TABLE'!$H38:$AA38,'SCORE TABLE'!$H38:$AA38))","v":15},{"$f":"SUMPRODUCT(('SCORE TABLE'!J38<='SCORE TABLE'!$H38:$AA38)/COUNTIF('SCORE TABLE'!$H38:$AA38,'SCORE TABLE'!$H38:$AA38))","v":5},{"$f":"SUMPRODUCT(('SCORE TABLE'!K38<='SCORE TABLE'!$H38:$AA38)/COUNTIF('SCORE TABLE'!$H38:$AA38,'SCORE TABLE'!$H38:$AA38))","v":13},{"$f":"SUMPRODUCT(('SCORE TABLE'!L38<='SCORE TABLE'!$H38:$AA38)/COUNTIF('SCORE TABLE'!$H38:$AA38,'SCORE TABLE'!$H38:$AA38))","v":1},{"$f":"SUMPRODUCT(('SCORE TABLE'!M38<='SCORE TABLE'!$H38:$AA38)/COUNTIF('SCORE TABLE'!$H38:$AA38,'SCORE TABLE'!$H38:$AA38))","v":6},{"$f":"SUMPRODUCT(('SCORE TABLE'!N38<='SCORE TABLE'!$H38:$AA38)/COUNTIF('SCORE TABLE'!$H38:$AA38,'SCORE TABLE'!$H38:$AA38))","v":2},{"$f":"SUMPRODUCT(('SCORE TABLE'!O38<='SCORE TABLE'!$H38:$AA38)/COUNTIF('SCORE TABLE'!$H38:$AA38,'SCORE TABLE'!$H38:$AA38))","v":16},{"$f":"SUMPRODUCT(('SCORE TABLE'!P38<='SCORE TABLE'!$H38:$AA38)/COUNTIF('SCORE TABLE'!$H38:$AA38,'SCORE TABLE'!$H38:$AA38))","v":8},{"$f":"SUMPRODUCT(('SCORE TABLE'!Q38<='SCORE TABLE'!$H38:$AA38)/COUNTIF('SCORE TABLE'!$H38:$AA38,'SCORE TABLE'!$H38:$AA38))","v":9},{"$f":"SUMPRODUCT(('SCORE TABLE'!R38<='SCORE TABLE'!$H38:$AA38)/COUNTIF('SCORE TABLE'!$H38:$AA38,'SCORE TABLE'!$H38:$AA38))","v":14},{"$f":"SUMPRODUCT(('SCORE TABLE'!S38<='SCORE TABLE'!$H38:$AA38)/COUNTIF('SCORE TABLE'!$H38:$AA38,'SCORE TABLE'!$H38:$AA38))","v":19},{"$f":"SUMPRODUCT(('SCORE TABLE'!T38<='SCORE TABLE'!$H38:$AA38)/COUNTIF('SCORE TABLE'!$H38:$AA38,'SCORE TABLE'!$H38:$AA38))","v":18},{"$f":"SUMPRODUCT(('SCORE TABLE'!U38<='SCORE TABLE'!$H38:$AA38)/COUNTIF('SCORE TABLE'!$H38:$AA38,'SCORE TABLE'!$H38:$AA38))","v":20},{"$f":"SUMPRODUCT(('SCORE TABLE'!V38<='SCORE TABLE'!$H38:$AA38)/COUNTIF('SCORE TABLE'!$H38:$AA38,'SCORE TABLE'!$H38:$AA38))","v":10},{"$f":"SUMPRODUCT(('SCORE TABLE'!W38<='SCORE TABLE'!$H38:$AA38)/COUNTIF('SCORE TABLE'!$H38:$AA38,'SCORE TABLE'!$H38:$AA38))","v":17},{"$f":"SUMPRODUCT(('SCORE TABLE'!X38<='SCORE TABLE'!$H38:$AA38)/COUNTIF('SCORE TABLE'!$H38:$AA38,'SCORE TABLE'!$H38:$AA38))","v":12},{"$f":"SUMPRODUCT(('SCORE TABLE'!Y38<='SCORE TABLE'!$H38:$AA38)/COUNTIF('SCORE TABLE'!$H38:$AA38,'SCORE TABLE'!$H38:$AA38))","v":11},{"$f":"SUMPRODUCT(('SCORE TABLE'!Z38<='SCORE TABLE'!$H38:$AA38)/COUNTIF('SCORE TABLE'!$H38:$AA38,'SCORE TABLE'!$H38:$AA38))","v":3},{"$f":"SUMPRODUCT(('SCORE TABLE'!AA38<='SCORE TABLE'!$H38:$AA38)/COUNTIF('SCORE TABLE'!$H38:$AA38,'SCORE TABLE'!$H38:$AA38))","v":4}]
[null,1028,"3.1.3","Nutrition programmes for lower-income individuals",{"$f":"SUMPRODUCT(('SCORE TABLE'!H39<='SCORE TABLE'!$H39:$AA39)/COUNTIF('SCORE TABLE'!$H39:$AA39,'SCORE TABLE'!$H39:$AA39))","v":1.9999999999999998},{"$f":"SUMPRODUCT(('SCORE TABLE'!I39<='SCORE TABLE'!$H39:$AA39)/COUNTIF('SCORE TABLE'!$H39:$AA39,'SCORE TABLE'!$H39:$AA39))","v":0.99999999999999967},{"$f":"SUMPRODUCT(('SCORE TABLE'!J39<='SCORE TABLE'!$H39:$AA39)/COUNTIF('SCORE TABLE'!$H39:$AA39,'SCORE TABLE'!$H39:$AA39))","v":0.99999999999999967},{"$f":"SUMPRODUCT(('SCORE TABLE'!K39<='SCORE TABLE'!$H39:$AA39)/COUNTIF('SCORE TABLE'!$H39:$AA39,'SCORE TABLE'!$H39:$AA39))","v":0.99999999999999967},{"$f":"SUMPRODUCT(('SCORE TABLE'!L39<='SCORE TABLE'!$H39:$AA39)/COUNTIF('SCORE TABLE'!$H39:$AA39,'SCORE TABLE'!$H39:$AA39))","v":1.9999999999999998},{"$f":"SUMPRODUCT(('SCORE TABLE'!M39<='SCORE TABLE'!$H39:$AA39)/COUNTIF('SCORE TABLE'!$H39:$AA39,'SCORE TABLE'!$H39:$AA39))","v":0.99999999999999967},{"$f":"SUMPRODUCT(('SCORE TABLE'!N39<='SCORE TABLE'!$H39:$AA39)/COUNTIF('SCORE TABLE'!$H39:$AA39,'SCORE TABLE'!$H39:$AA39))","v":0.99999999999999967},{"$f":"SUMPRODUCT(('SCORE TABLE'!O39<='SCORE TABLE'!$H39:$AA39)/COUNTIF('SCORE TABLE'!$H39:$AA39,'SCORE TABLE'!$H39:$AA39))","v":0.99999999999999967},{"$f":"SUMPRODUCT(('SCORE TABLE'!P39<='SCORE TABLE'!$H39:$AA39)/COUNTIF('SCORE TABLE'!$H39:$AA39,'SCORE TABLE'!$H39:$AA39))","v":0.99999999999999967},{"$f":"SUMPRODUCT(('SCORE TABLE'!Q39<='SCORE TABLE'!$H39:$AA39)/COUNTIF('SCORE TABLE'!$H39:$AA39,'SCORE TABLE'!$H39:$AA39))","v":1.9999999999999998},{"$f":"SUMPRODUCT(('SCORE TABLE'!R39<='SCORE TABLE'!$H39:$AA39)/COUNTIF('SCORE TABLE'!$H39:$AA39,'SCORE TABLE'!$H39:$AA39))","v":0.99999999999999967},{"$f":"SUMPRODUCT(('SCORE TABLE'!S39<='SCORE TABLE'!$H39:$AA39)/COUNTIF('SCORE TABLE'!$H39:$AA39,'SCORE TABLE'!$H39:$AA39))","v":0.99999999999999967},{"$f":"SUMPRODUCT(('SCORE TABLE'!T39<='SCORE TABLE'!$H39:$AA39)/COUNTIF('SCORE TABLE'!$H39:$AA39,'SCORE TABLE'!$H39:$AA39))","v":0.99999999999999967},{"$f":"SUMPRODUCT(('SCORE TABLE'!U39<='SCORE TABLE'!$H39:$AA39)/COUNTIF('SCORE TABLE'!$H39:$AA39,'SCORE TABLE'!$H39:$AA39))","v":1.9999999999999998},{"$f":"SUMPRODUCT(('SCORE TABLE'!V39<='SCORE TABLE'!$H39:$AA39)/COUNTIF('SCORE TABLE'!$H39:$AA39,'SCORE TABLE'!$H39:$AA39))","v":1.9999999999999998},{"$f":"SUMPRODUCT(('SCORE TABLE'!W39<='SCORE TABLE'!$H39:$AA39)/COUNTIF('SCORE TABLE'!$H39:$AA39,'SCORE TABLE'!$H39:$AA39))","v":0.99999999999999967},{"$f":"SUMPRODUCT(('SCORE TABLE'!X39<='SCORE TABLE'!$H39:$AA39)/COUNTIF('SCORE TABLE'!$H39:$AA39,'SCORE TABLE'!$H39:$AA39))","v":0.99999999999999967},{"$f":"SUMPRODUCT(('SCORE TABLE'!Y39<='SCORE TABLE'!$H39:$AA39)/COUNTIF('SCORE TABLE'!$H39:$AA39,'SCORE TABLE'!$H39:$AA39))","v":0.99999999999999967},{"$f":"SUMPRODUCT(('SCORE TABLE'!Z39<='SCORE TABLE'!$H39:$AA39)/COUNTIF('SCORE TABLE'!$H39:$AA39,'SCORE TABLE'!$H39:$AA39))","v":1.9999999999999998},{"$f":"SUMPRODUCT(('SCORE TABLE'!AA39<='SCORE TABLE'!$H39:$AA39)/COUNTIF('SCORE TABLE'!$H39:$AA39,'SCORE TABLE'!$H39:$AA39))","v":0.99999999999999967}]
[null,1029,3.2,"Nutrition guidance and regulation",{"$f":"SUMPRODUCT(('SCORE TABLE'!H40<='SCORE TABLE'!$H40:$AA40)/COUNTIF('SCORE TABLE'!$H40:$AA40,'SCORE TABLE'!$H40:$AA40))","v":11},{"$f":"SUMPRODUCT(('SCORE TABLE'!I40<='SCORE TABLE'!$H40:$AA40)/COUNTIF('SCORE TABLE'!$H40:$AA40,'SCORE TABLE'!$H40:$AA40))","v":6},{"$f":"SUMPRODUCT(('SCORE TABLE'!J40<='SCORE TABLE'!$H40:$AA40)/COUNTIF('SCORE TABLE'!$H40:$AA40,'SCORE TABLE'!$H40:$AA40))","v":7},{"$f":"SUMPRODUCT(('SCORE TABLE'!K40<='SCORE TABLE'!$H40:$AA40)/COUNTIF('SCORE TABLE'!$H40:$AA40,'SCORE TABLE'!$H40:$AA40))","v":10},{"$f":"SUMPRODUCT(('SCORE TABLE'!L40<='SCORE TABLE'!$H40:$AA40)/COUNTIF('SCORE TABLE'!$H40:$AA40,'SCORE TABLE'!$H40:$AA40))","v":4},{"$f":"SUMPRODUCT(('SCORE TABLE'!M40<='SCORE TABLE'!$H40:$AA40)/COUNTIF('SCORE TABLE'!$H40:$AA40,'SCORE TABLE'!$H40:$AA40))","v":6},{"$f":"SUMPRODUCT(('SCORE TABLE'!N40<='SCORE TABLE'!$H40:$AA40)/COUNTIF('SCORE TABLE'!$H40:$AA40,'SCORE TABLE'!$H40:$AA40))","v":8},{"$f":"SUMPRODUCT(('SCORE TABLE'!O40<='SCORE TABLE'!$H40:$AA40)/COUNTIF('SCORE TABLE'!$H40:$AA40,'SCORE TABLE'!$H40:$AA40))","v":4},{"$f":"SUMPRODUCT(('SCORE TABLE'!P40<='SCORE TABLE'!$H40:$AA40)/COUNTIF('SCORE TABLE'!$H40:$AA40,'SCORE TABLE'!$H40:$AA40))","v":11},{"$f":"SUMPRODUCT(('SCORE TABLE'!Q40<='SCORE TABLE'!$H40:$AA40)/COUNTIF('SCORE TABLE'!$H40:$AA40,'SCORE TABLE'!$H40:$AA40))","v":12},{"$f":"SUMPRODUCT(('SCORE TABLE'!R40<='SCORE TABLE'!$H40:$AA40)/COUNTIF('SCORE TABLE'!$H40:$AA40,'SCORE TABLE'!$H40:$AA40))","v":3},{"$f":"SUMPRODUCT(('SCORE TABLE'!S40<='SCORE TABLE'!$H40:$AA40)/COUNTIF('SCORE TABLE'!$H40:$AA40,'SCORE TABLE'!$H40:$AA40))","v":8},{"$f":"SUMPRODUCT(('SCORE TABLE'!T40<='SCORE TABLE'!$H40:$AA40)/COUNTIF('SCORE TABLE'!$H40:$AA40,'SCORE TABLE'!$H40:$AA40))","v":11},{"$f":"SUMPRODUCT(('SCORE TABLE'!U40<='SCORE TABLE'!$H40:$AA40)/COUNTIF('SCORE TABLE'!$H40:$AA40,'SCORE TABLE'!$H40:$AA40))","v":1},{"$f":"SUMPRODUCT(('SCORE TABLE'!V40<='SCORE TABLE'!$H40:$AA40)/COUNTIF('SCORE TABLE'!$H40:$AA40,'SCORE TABLE'!$H40:$AA40))","v":11},{"$f":"SUMPRODUCT(('SCORE TABLE'!W40<='SCORE TABLE'!$H40:$AA40)/COUNTIF('SCORE TABLE'!$H40:$AA40,'SCORE TABLE'!$H40:$AA40))","v":5},{"$f":"SUMPRODUCT(('SCORE TABLE'!X40<='SCORE TABLE'!$H40:$AA40)/COUNTIF('SCORE TABLE'!$H40:$AA40,'SCORE TABLE'!$H40:$AA40))","v":8},{"$f":"SUMPRODUCT(('SCORE TABLE'!Y40<='SCORE TABLE'!$H40:$AA40)/COUNTIF('SCORE TABLE'!$H40:$AA40,'SCORE TABLE'!$H40:$AA40))","v":5},{"$f":"SUMPRODUCT(('SCORE TABLE'!Z40<='SCORE TABLE'!$H40:$AA40)/COUNTIF('SCORE TABLE'!$H40:$AA40,'SCORE TABLE'!$H40:$AA40))","v":9},{"$f":"SUMPRODUCT(('SCORE TABLE'!AA40<='SCORE TABLE'!$H40:$AA40)/COUNTIF('SCORE TABLE'!$H40:$AA40,'SCORE TABLE'!$H40:$AA40))","v":2}]
[null,1030,"3.2.1","Nutrition policy/strategy/plan that addresses obesity",{"$f":"SUMPRODUCT(('SCORE TABLE'!H41<='SCORE TABLE'!$H41:$AA41)/COUNTIF('SCORE TABLE'!$H41:$AA41,'SCORE TABLE'!$H41:$AA41))","v":4},{"$f":"SUMPRODUCT(('SCORE TABLE'!I41<='SCORE TABLE'!$H41:$AA41)/COUNTIF('SCORE TABLE'!$H41:$AA41,'SCORE TABLE'!$H41:$AA41))","v":4},{"$f":"SUMPRODUCT(('SCORE TABLE'!J41<='SCORE TABLE'!$H41:$AA41)/COUNTIF('SCORE TABLE'!$H41:$AA41,'SCORE TABLE'!$H41:$AA41))","v":1.9999999999999998},{"$f":"SUMPRODUCT(('SCORE TABLE'!K41<='SCORE TABLE'!$H41:$AA41)/COUNTIF('SCORE TABLE'!$H41:$AA41,'SCORE TABLE'!$H41:$AA41))","v":1},{"$f":"SUMPRODUCT(('SCORE TABLE'!L41<='SCORE TABLE'!$H41:$AA41)/COUNTIF('SCORE TABLE'!$H41:$AA41,'SCORE TABLE'!$H41:$AA41))","v":3.0000000000000009},{"$f":"SUMPRODUCT(('SCORE TABLE'!M41<='SCORE TABLE'!$H41:$AA41)/COUNTIF('SCORE TABLE'!$H41:$AA41,'SCORE TABLE'!$H41:$AA41))","v":1},{"$f":"SUMPRODUCT(('SCORE TABLE'!N41<='SCORE TABLE'!$H41:$AA41)/COUNTIF('SCORE TABLE'!$H41:$AA41,'SCORE TABLE'!$H41:$AA41))","v":1},{"$f":"SUMPRODUCT(('SCORE TABLE'!O41<='SCORE TABLE'!$H41:$AA41)/COUNTIF('SCORE TABLE'!$H41:$AA41,'SCORE TABLE'!$H41:$AA41))","v":3.0000000000000009},{"$f":"SUMPRODUCT(('SCORE TABLE'!P41<='SCORE TABLE'!$H41:$AA41)/COUNTIF('SCORE TABLE'!$H41:$AA41,'SCORE TABLE'!$H41:$AA41))","v":4},{"$f":"SUMPRODUCT(('SCORE TABLE'!Q41<='SCORE TABLE'!$H41:$AA41)/COUNTIF('SCORE TABLE'!$H41:$AA41,'SCORE TABLE'!$H41:$AA41))","v":3.0000000000000009},{"$f":"SUMPRODUCT(('SCORE TABLE'!R41<='SCORE TABLE'!$H41:$AA41)/COUNTIF('SCORE TABLE'!$H41:$AA41,'SCORE TABLE'!$H41:$AA41))","v":3.0000000000000009},{"$f":"SUMPRODUCT(('SCORE TABLE'!S41<='SCORE TABLE'!$H41:$AA41)/COUNTIF('SCORE TABLE'!$H41:$AA41,'SCORE TABLE'!$H41:$AA41))","v":1},{"$f":"SUMPRODUCT(('SCORE TABLE'!T41<='SCORE TABLE'!$H41:$AA41)/COUNTIF('SCORE TABLE'!$H41:$AA41,'SCORE TABLE'!$H41:$AA41))","v":4},{"$f":"SUMPRODUCT(('SCORE TABLE'!U41<='SCORE TABLE'!$H41:$AA41)/COUNTIF('SCORE TABLE'!$H41:$AA41,'SCORE TABLE'!$H41:$AA41))","v":1},{"$f":"SUMPRODUCT(('SCORE TABLE'!V41<='SCORE TABLE'!$H41:$AA41)/COUNTIF('SCORE TABLE'!$H41:$AA41,'SCORE TABLE'!$H41:$AA41))","v":4},{"$f":"SUMPRODUCT(('SCORE TABLE'!W41<='SCORE TABLE'!$H41:$AA41)/COUNTIF('SCORE TABLE'!$H41:$AA41,'SCORE TABLE'!$H41:$AA41))","v":1.9999999999999998},{"$f":"SUMPRODUCT(('SCORE TABLE'!X41<='SCORE TABLE'!$H41:$AA41)/COUNTIF('SCORE TABLE'!$H41:$AA41,'SCORE TABLE'!$H41:$AA41))","v":4},{"$f":"SUMPRODUCT(('SCORE TABLE'!Y41<='SCORE TABLE'!$H41:$AA41)/COUNTIF('SCORE TABLE'!$H41:$AA41,'SCORE TABLE'!$H41:$AA41))","v":1.9999999999999998},{"$f":"SUMPRODUCT(('SCORE TABLE'!Z41<='SCORE TABLE'!$H41:$AA41)/COUNTIF('SCORE TABLE'!$H41:$AA41,'SCORE TABLE'!$H41:$AA41))","v":1.9999999999999998},{"$f":"SUMPRODUCT(('SCORE TABLE'!AA41<='SCORE TABLE'!$H41:$AA41)/COUNTIF('SCORE TABLE'!$H41:$AA41,'SCORE TABLE'!$H41:$AA41))","v":1.9999999999999998}]
[null,1031,"3.2.2","Marketing of unhealthy food and beverages to children",{"$f":"SUMPRODUCT(('SCORE TABLE'!H42<='SCORE TABLE'!$H42:$AA42)/COUNTIF('SCORE TABLE'!$H42:$AA42,'SCORE TABLE'!$H42:$AA42))","v":1.9999999999999998},{"$f":"SUMPRODUCT(('SCORE TABLE'!I42<='SCORE TABLE'!$H42:$AA42)/COUNTIF('SCORE TABLE'!$H42:$AA42,'SCORE TABLE'!$H42:$AA42))","v":1},{"$f":"SUMPRODUCT(('SCORE TABLE'!J42<='SCORE TABLE'!$H42:$AA42)/COUNTIF('SCORE TABLE'!$H42:$AA42,'SCORE TABLE'!$H42:$AA42))","v":1.9999999999999998},{"$f":"SUMPRODUCT(('SCORE TABLE'!K42<='SCORE TABLE'!$H42:$AA42)/COUNTIF('SCORE TABLE'!$H42:$AA42,'SCORE TABLE'!$H42:$AA42))","v":3},{"$f":"SUMPRODUCT(('SCORE TABLE'!L42<='SCORE TABLE'!$H42:$AA42)/COUNTIF('SCORE TABLE'!$H42:$AA42,'SCORE TABLE'!$H42:$AA42))","v":1.9999999999999998},{"$f":"SUMPRODUCT(('SCORE TABLE'!M42<='SCORE TABLE'!$H42:$AA42)/COUNTIF('SCORE TABLE'!$H42:$AA42,'SCORE TABLE'!$H42:$AA42))","v":1.9999999999999998},{"$f":"SUMPRODUCT(('SCORE TABLE'!N42<='SCORE TABLE'!$H42:$AA42)/COUNTIF('SCORE TABLE'!$H42:$AA42,'SCORE TABLE'!$H42:$AA42))","v":1.9999999999999998},{"$f":"SUMPRODUCT(('SCORE TABLE'!O42<='SCORE TABLE'!$H42:$AA42)/COUNTIF('SCORE TABLE'!$H42:$AA42,'SCORE TABLE'!$H42:$AA42))","v":1},{"$f":"SUMPRODUCT(('SCORE TABLE'!P42<='SCORE TABLE'!$H42:$AA42)/COUNTIF('SCORE TABLE'!$H42:$AA42,'SCORE TABLE'!$H42:$AA42))","v":1.9999999999999998},{"$f":"SUMPRODUCT(('SCORE TABLE'!Q42<='SCORE TABLE'!$H42:$AA42)/COUNTIF('SCORE TABLE'!$H42:$AA42,'SCORE TABLE'!$H42:$AA42))","v":3},{"$f":"SUMPRODUCT(('SCORE TABLE'!R42<='SCORE TABLE'!$H42:$AA42)/COUNTIF('SCORE TABLE'!$H42:$AA42,'SCORE TABLE'!$H42:$AA42))","v":1},{"$f":"SUMPRODUCT(('SCORE TABLE'!S42<='SCORE TABLE'!$H42:$AA42)/COUNTIF('SCORE TABLE'!$H42:$AA42,'SCORE TABLE'!$H42:$AA42))","v":3},{"$f":"SUMPRODUCT(('SCORE TABLE'!T42<='SCORE TABLE'!$H42:$AA42)/COUNTIF('SCORE TABLE'!$H42:$AA42,'SCORE TABLE'!$H42:$AA42))","v":3},{"$f":"SUMPRODUCT(('SCORE TABLE'!U42<='SCORE TABLE'!$H42:$AA42)/COUNTIF('SCORE TABLE'!$H42:$AA42,'SCORE TABLE'!$H42:$AA42))","v":1},{"$f":"SUMPRODUCT(('SCORE TABLE'!V42<='SCORE TABLE'!$H42:$AA42)/COUNTIF('SCORE TABLE'!$H42:$AA42,'SCORE TABLE'!$H42:$AA42))","v":1.9999999999999998},{"$f":"SUMPRODUCT(('SCORE TABLE'!W42<='SCORE TABLE'!$H42:$AA42)/COUNTIF('SCORE TABLE'!$H42:$AA42,'SCORE TABLE'!$H42:$AA42))","v":1},{"$f":"SUMPRODUCT(('SCORE TABLE'!X42<='SCORE TABLE'!$H42:$AA42)/COUNTIF('SCORE TABLE'!$H42:$AA42,'SCORE TABLE'!$H42:$AA42))","v":1},{"$f":"SUMPRODUCT(('SCORE TABLE'!Y42<='SCORE TABLE'!$H42:$AA42)/COUNTIF('SCORE TABLE'!$H42:$AA42,'SCORE TABLE'!$H42:$AA42))","v":1},{"$f":"SUMPRODUCT(('SCORE TABLE'!Z42<='SCORE TABLE'!$H42:$AA42)/COUNTIF('SCORE TABLE'!$H42:$AA42,'SCORE TABLE'!$H42:$AA42))","v":3},{"$f":"SUMPRODUCT(('SCORE TABLE'!AA42<='SCORE TABLE'!$H42:$AA42)/COUNTIF('SCORE TABLE'!$H42:$AA42,'SCORE TABLE'!$H42:$AA42))","v":1}]
[null,1032,"3.2.3","Food labelling",{"$f":"SUMPRODUCT(('SCORE TABLE'!H43<='SCORE TABLE'!$H43:$AA43)/COUNTIF('SCORE TABLE'!$H43:$AA43,'SCORE TABLE'!$H43:$AA43))","v":2},{"$f":"SUMPRODUCT(('SCORE TABLE'!I43<='SCORE TABLE'!$H43:$AA43)/COUNTIF('SCORE TABLE'!$H43:$AA43,'SCORE TABLE'!$H43:$AA43))","v":1},{"$f":"SUMPRODUCT(('SCORE TABLE'!J43<='SCORE TABLE'!$H43:$AA43)/COUNTIF('SCORE TABLE'!$H43:$AA43,'SCORE TABLE'!$H43:$AA43))","v":1},{"$f":"SUMPRODUCT(('SCORE TABLE'!K43<='SCORE TABLE'!$H43:$AA43)/COUNTIF('SCORE TABLE'!$H43:$AA43,'SCORE TABLE'!$H43:$AA43))","v":2},{"$f":"SUMPRODUCT(('SCORE TABLE'!L43<='SCORE TABLE'!$H43:$AA43)/COUNTIF('SCORE TABLE'!$H43:$AA43,'SCORE TABLE'!$H43:$AA43))","v":2},{"$f":"SUMPRODUCT(('SCORE TABLE'!M43<='SCORE TABLE'!$H43:$AA43)/COUNTIF('SCORE TABLE'!$H43:$AA43,'SCORE TABLE'!$H43:$AA43))","v":2},{"$f":"SUMPRODUCT(('SCORE TABLE'!N43<='SCORE TABLE'!$H43:$AA43)/COUNTIF('SCORE TABLE'!$H43:$AA43,'SCORE TABLE'!$H43:$AA43))","v":2},{"$f":"SUMPRODUCT(('SCORE TABLE'!O43<='SCORE TABLE'!$H43:$AA43)/COUNTIF('SCORE TABLE'!$H43:$AA43,'SCORE TABLE'!$H43:$AA43))","v":2},{"$f":"SUMPRODUCT(('SCORE TABLE'!P43<='SCORE TABLE'!$H43:$AA43)/COUNTIF('SCORE TABLE'!$H43:$AA43,'SCORE TABLE'!$H43:$AA43))","v":2},{"$f":"SUMPRODUCT(('SCORE TABLE'!Q43<='SCORE TABLE'!$H43:$AA43)/COUNTIF('SCORE TABLE'!$H43:$AA43,'SCORE TABLE'!$H43:$AA43))","v":2},{"$f":"SUMPRODUCT(('SCORE TABLE'!R43<='SCORE TABLE'!$H43:$AA43)/COUNTIF('SCORE TABLE'!$H43:$AA43,'SCORE TABLE'!$H43:$AA43))","v":1},{"$f":"SUMPRODUCT(('SCORE TABLE'!S43<='SCORE TABLE'!$H43:$AA43)/COUNTIF('SCORE TABLE'!$H43:$AA43,'SCORE TABLE'!$H43:$AA43))","v":2},{"$f":"SUMPRODUCT(('SCORE TABLE'!T43<='SCORE TABLE'!$H43:$AA43)/COUNTIF('SCORE TABLE'!$H43:$AA43,'SCORE TABLE'!$H43:$AA43))","v":2},{"$f":"SUMPRODUCT(('SCORE TABLE'!U43<='SCORE TABLE'!$H43:$AA43)/COUNTIF('SCORE TABLE'!$H43:$AA43,'SCORE TABLE'!$H43:$AA43))","v":2},{"$f":"SUMPRODUCT(('SCORE TABLE'!V43<='SCORE TABLE'!$H43:$AA43)/COUNTIF('SCORE TABLE'!$H43:$AA43,'SCORE TABLE'!$H43:$AA43))","v":2},{"$f":"SUMPRODUCT(('SCORE TABLE'!W43<='SCORE TABLE'!$H43:$AA43)/COUNTIF('SCORE TABLE'!$H43:$AA43,'SCORE TABLE'!$H43:$AA43))","v":2},{"$f":"SUMPRODUCT(('SCORE TABLE'!X43<='SCORE TABLE'!$H43:$AA43)/COUNTIF('SCORE TABLE'!$H43:$AA43,'SCORE TABLE'!$H43:$AA43))","v":2},{"$f":"SUMPRODUCT(('SCORE TABLE'!Y43<='SCORE TABLE'!$H43:$AA43)/COUNTIF('SCORE TABLE'!$H43:$AA43,'SCORE TABLE'!$H43:$AA43))","v":2},{"$f":"SUMPRODUCT(('SCORE TABLE'!Z43<='SCORE TABLE'!$H43:$AA43)/COUNTIF('SCORE TABLE'!$H43:$AA43,'SCORE TABLE'!$H43:$AA43))","v":2},{"$f":"SUMPRODUCT(('SCORE TABLE'!AA43<='SCORE TABLE'!$H43:$AA43)/COUNTIF('SCORE TABLE'!$H43:$AA43,'SCORE TABLE'!$H43:$AA43))","v":2}]
[null,1033,"3.2.4","Menu labelling",{"$f":"SUMPRODUCT(('SCORE TABLE'!H44<='SCORE TABLE'!$H44:$AA44)/COUNTIF('SCORE TABLE'!$H44:$AA44,'SCORE TABLE'!$H44:$AA44))","v":3},{"$f":"SUMPRODUCT(('SCORE TABLE'!I44<='SCORE TABLE'!$H44:$AA44)/COUNTIF('SCORE TABLE'!$H44:$AA44,'SCORE TABLE'!$H44:$AA44))","v":3},{"$f":"SUMPRODUCT(('SCORE TABLE'!J44<='SCORE TABLE'!$H44:$AA44)/COUNTIF('SCORE TABLE'!$H44:$AA44,'SCORE TABLE'!$H44:$AA44))","v":3},{"$f":"SUMPRODUCT(('SCORE TABLE'!K44<='SCORE TABLE'!$H44:$AA44)/COUNTIF('SCORE TABLE'!$H44:$AA44,'SCORE TABLE'!$H44:$AA44))","v":3},{"$f":"SUMPRODUCT(('SCORE TABLE'!L44<='SCORE TABLE'!$H44:$AA44)/COUNTIF('SCORE TABLE'!$H44:$AA44,'SCORE TABLE'!$H44:$AA44))","v":1},{"$f":"SUMPRODUCT(('SCORE TABLE'!M44<='SCORE TABLE'!$H44:$AA44)/COUNTIF('SCORE TABLE'!$H44:$AA44,'SCORE TABLE'!$H44:$AA44))","v":3},{"$f":"SUMPRODUCT(('SCORE TABLE'!N44<='SCORE TABLE'!$H44:$AA44)/COUNTIF('SCORE TABLE'!$H44:$AA44,'SCORE TABLE'!$H44:$AA44))","v":3},{"$f":"SUMPRODUCT(('SCORE TABLE'!O44<='SCORE TABLE'!$H44:$AA44)/COUNTIF('SCORE TABLE'!$H44:$AA44,'SCORE TABLE'!$H44:$AA44))","v":1},{"$f":"SUMPRODUCT(('SCORE TABLE'!P44<='SCORE TABLE'!$H44:$AA44)/COUNTIF('SCORE TABLE'!$H44:$AA44,'SCORE TABLE'!$H44:$AA44))","v":3},{"$f":"SUMPRODUCT(('SCORE TABLE'!Q44<='SCORE TABLE'!$H44:$AA44)/COUNTIF('SCORE TABLE'!$H44:$AA44,'SCORE TABLE'!$H44:$AA44))","v":3},{"$f":"SUMPRODUCT(('SCORE TABLE'!R44<='SCORE TABLE'!$H44:$AA44)/COUNTIF('SCORE TABLE'!$H44:$AA44,'SCORE TABLE'!$H44:$AA44))","v":3},{"$f":"SUMPRODUCT(('SCORE TABLE'!S44<='SCORE TABLE'!$H44:$AA44)/COUNTIF('SCORE TABLE'!$H44:$AA44,'SCORE TABLE'!$H44:$AA44))","v":3},{"$f":"SUMPRODUCT(('SCORE TABLE'!T44<='SCORE TABLE'!$H44:$AA44)/COUNTIF('SCORE TABLE'!$H44:$AA44,'SCORE TABLE'!$H44:$AA44))","v":3},{"$f":"SUMPRODUCT(('SCORE TABLE'!U44<='SCORE TABLE'!$H44:$AA44)/COUNTIF('SCORE TABLE'!$H44:$AA44,'SCORE TABLE'!$H44:$AA44))","v":1},{"$f":"SUMPRODUCT(('SCORE TABLE'!V44<='SCORE TABLE'!$H44:$AA44)/COUNTIF('SCORE TABLE'!$H44:$AA44,'SCORE TABLE'!$H44:$AA44))","v":3},{"$f":"SUMPRODUCT(('SCORE TABLE'!W44<='SCORE TABLE'!$H44:$AA44)/COUNTIF('SCORE TABLE'!$H44:$AA44,'SCORE TABLE'!$H44:$AA44))","v":3},{"$f":"SUMPRODUCT(('SCORE TABLE'!X44<='SCORE TABLE'!$H44:$AA44)/COUNTIF('SCORE TABLE'!$H44:$AA44,'SCORE TABLE'!$H44:$AA44))","v":2},{"$f":"SUMPRODUCT(('SCORE TABLE'!Y44<='SCORE TABLE'!$H44:$AA44)/COUNTIF('SCORE TABLE'!$H44:$AA44,'SCORE TABLE'!$H44:$AA44))","v":3},{"$f":"SUMPRODUCT(('SCORE TABLE'!Z44<='SCORE TABLE'!$H44:$AA44)/COUNTIF('SCORE TABLE'!$H44:$AA44,'SCORE TABLE'!$H44:$AA44))","v":3},{"$f":"SUMPRODUCT(('SCORE TABLE'!AA44<='SCORE TABLE'!$H44:$AA44)/COUNTIF('SCORE TABLE'!$H44:$AA44,'SCORE TABLE'!$H44:$AA44))","v":1}]
[null,1034,"3.2.5","Taxes on unhealthy food and beverages",{"$f":"SUMPRODUCT(('SCORE TABLE'!H45<='SCORE TABLE'!$H45:$AA45)/COUNTIF('SCORE TABLE'!$H45:$AA45,'SCORE TABLE'!$H45:$AA45))","v":3.0000000000000009},{"$f":"SUMPRODUCT(('SCORE TABLE'!I45<='SCORE TABLE'!$H45:$AA45)/COUNTIF('SCORE TABLE'!$H45:$AA45,'SCORE TABLE'!$H45:$AA45))","v":2.0000000000000004},{"$f":"SUMPRODUCT(('SCORE TABLE'!J45<='SCORE TABLE'!$H45:$AA45)/COUNTIF('SCORE TABLE'!$H45:$AA45,'SCORE TABLE'!$H45:$AA45))","v":3.0000000000000009},{"$f":"SUMPRODUCT(('SCORE TABLE'!K45<='SCORE TABLE'!$H45:$AA45)/COUNTIF('SCORE TABLE'!$H45:$AA45,'SCORE TABLE'!$H45:$AA45))","v":3.0000000000000009},{"$f":"SUMPRODUCT(('SCORE TABLE'!L45<='SCORE TABLE'!$H45:$AA45)/COUNTIF('SCORE TABLE'!$H45:$AA45,'SCORE TABLE'!$H45:$AA45))","v":2.0000000000000004},{"$f":"SUMPRODUCT(('SCORE TABLE'!M45<='SCORE TABLE'!$H45:$AA45)/COUNTIF('SCORE TABLE'!$H45:$AA45,'SCORE TABLE'!$H45:$AA45))","v":2.0000000000000004},{"$f":"SUMPRODUCT(('SCORE TABLE'!N45<='SCORE TABLE'!$H45:$AA45)/COUNTIF('SCORE TABLE'!$H45:$AA45,'SCORE TABLE'!$H45:$AA45))","v":3.0000000000000009},{"$f":"SUMPRODUCT(('SCORE TABLE'!O45<='SCORE TABLE'!$H45:$AA45)/COUNTIF('SCORE TABLE'!$H45:$AA45,'SCORE TABLE'!$H45:$AA45))","v":3.0000000000000009},{"$f":"SUMPRODUCT(('SCORE TABLE'!P45<='SCORE TABLE'!$H45:$AA45)/COUNTIF('SCORE TABLE'!$H45:$AA45,'SCORE TABLE'!$H45:$AA45))","v":3.0000000000000009},{"$f":"SUMPRODUCT(('SCORE TABLE'!Q45<='SCORE TABLE'!$H45:$AA45)/COUNTIF('SCORE TABLE'!$H45:$AA45,'SCORE TABLE'!$H45:$AA45))","v":3.0000000000000009},{"$f":"SUMPRODUCT(('SCORE TABLE'!R45<='SCORE TABLE'!$H45:$AA45)/COUNTIF('SCORE TABLE'!$H45:$AA45,'SCORE TABLE'!$H45:$AA45))","v":1},{"$f":"SUMPRODUCT(('SCORE TABLE'!S45<='SCORE TABLE'!$H45:$AA45)/COUNTIF('SCORE TABLE'!$H45:$AA45,'SCORE TABLE'!$H45:$AA45))","v":2.0000000000000004},{"$f":"SUMPRODUCT(('SCORE TABLE'!T45<='SCORE TABLE'!$H45:$AA45)/COUNTIF('SCORE TABLE'!$H45:$AA45,'SCORE TABLE'!$H45:$AA45))","v":2.0000000000000004},{"$f":"SUMPRODUCT(('SCORE TABLE'!U45<='SCORE TABLE'!$H45:$AA45)/COUNTIF('SCORE TABLE'!$H45:$AA45,'SCORE TABLE'!$H45:$AA45))","v":2.0000000000000004},{"$f":"SUMPRODUCT(('SCORE TABLE'!V45<='SCORE TABLE'!$H45:$AA45)/COUNTIF('SCORE TABLE'!$H45:$AA45,'SCORE TABLE'!$H45:$AA45))","v":3.0000000000000009},{"$f":"SUMPRODUCT(('SCORE TABLE'!W45<='SCORE TABLE'!$H45:$AA45)/COUNTIF('SCORE TABLE'!$H45:$AA45,'SCORE TABLE'!$H45:$AA45))","v":2.0000000000000004},{"$f":"SUMPRODUCT(('SCORE TABLE'!X45<='SCORE TABLE'!$H45:$AA45)/COUNTIF('SCORE TABLE'!$H45:$AA45,'SCORE TABLE'!$H45:$AA45))","v":3.0000000000000009},{"$f":"SUMPRODUCT(('SCORE TABLE'!Y45<='SCORE TABLE'!$H45:$AA45)/COUNTIF('SCORE TABLE'!$H45:$AA45,'SCORE TABLE'!$H45:$AA45))","v":2.0000000000000004},{"$f":"SUMPRODUCT(('SCORE TABLE'!Z45<='SCORE TABLE'!$H45:$AA45)/COUNTIF('SCORE TABLE'!$H45:$AA45,'SCORE TABLE'!$H45:$AA45))","v":2.0000000000000004},{"$f":"SUMPRODUCT(('SCORE TABLE'!AA45<='SCORE TABLE'!$H45:$AA45)/COUNTIF('SCORE TABLE'!$H45:$AA45,'SCORE TABLE'!$H45:$AA45))","v":2.0000000000000004}]
[null,1035,3.3,"Nutrition in schools",{"$f":"SUMPRODUCT(('SCORE TABLE'!H46<='SCORE TABLE'!$H46:$AA46)/COUNTIF('SCORE TABLE'!$H46:$AA46,'SCORE TABLE'!$H46:$AA46))","v":0.99999999999999967},{"$f":"SUMPRODUCT(('SCORE TABLE'!I46<='SCORE TABLE'!$H46:$AA46)/COUNTIF('SCORE TABLE'!$H46:$AA46,'SCORE TABLE'!$H46:$AA46))","v":0.99999999999999967},{"$f":"SUMPRODUCT(('SCORE TABLE'!J46<='SCORE TABLE'!$H46:$AA46)/COUNTIF('SCORE TABLE'!$H46:$AA46,'SCORE TABLE'!$H46:$AA46))","v":1.9999999999999996},{"$f":"SUMPRODUCT(('SCORE TABLE'!K46<='SCORE TABLE'!$H46:$AA46)/COUNTIF('SCORE TABLE'!$H46:$AA46,'SCORE TABLE'!$H46:$AA46))","v":0.99999999999999967},{"$f":"SUMPRODUCT(('SCORE TABLE'!L46<='SCORE TABLE'!$H46:$AA46)/COUNTIF('SCORE TABLE'!$H46:$AA46,'SCORE TABLE'!$H46:$AA46))","v":0.99999999999999967},{"$f":"SUMPRODUCT(('SCORE TABLE'!M46<='SCORE TABLE'!$H46:$AA46)/COUNTIF('SCORE TABLE'!$H46:$AA46,'SCORE TABLE'!$H46:$AA46))","v":0.99999999999999967},{"$f":"SUMPRODUCT(('SCORE TABLE'!N46<='SCORE TABLE'!$H46:$AA46)/COUNTIF('SCORE TABLE'!$H46:$AA46,'SCORE TABLE'!$H46:$AA46))","v":1.9999999999999996},{"$f":"SUMPRODUCT(('SCORE TABLE'!O46<='SCORE TABLE'!$H46:$AA46)/COUNTIF('SCORE TABLE'!$H46:$AA46,'SCORE TABLE'!$H46:$AA46))","v":1.9999999999999996},{"$f":"SUMPRODUCT(('SCORE TABLE'!P46<='SCORE TABLE'!$H46:$AA46)/COUNTIF('SCORE TABLE'!$H46:$AA46,'SCORE TABLE'!$H46:$AA46))","v":0.99999999999999967},{"$f":"SUMPRODUCT(('SCORE TABLE'!Q46<='SCORE TABLE'!$H46:$AA46)/COUNTIF('SCORE TABLE'!$H46:$AA46,'SCORE TABLE'!$H46:$AA46))","v":0.99999999999999967},{"$f":"SUMPRODUCT(('SCORE TABLE'!R46<='SCORE TABLE'!$H46:$AA46)/COUNTIF('SCORE TABLE'!$H46:$AA46,'SCORE TABLE'!$H46:$AA46))","v":0.99999999999999967},{"$f":"SUMPRODUCT(('SCORE TABLE'!S46<='SCORE TABLE'!$H46:$AA46)/COUNTIF('SCORE TABLE'!$H46:$AA46,'SCORE TABLE'!$H46:$AA46))","v":3.0000000000000013},{"$f":"SUMPRODUCT(('SCORE TABLE'!T46<='SCORE TABLE'!$H46:$AA46)/COUNTIF('SCORE TABLE'!$H46:$AA46,'SCORE TABLE'!$H46:$AA46))","v":1.9999999999999996},{"$f":"SUMPRODUCT(('SCORE TABLE'!U46<='SCORE TABLE'!$H46:$AA46)/COUNTIF('SCORE TABLE'!$H46:$AA46,'SCORE TABLE'!$H46:$AA46))","v":1.9999999999999996},{"$f":"SUMPRODUCT(('SCORE TABLE'!V46<='SCORE TABLE'!$H46:$AA46)/COUNTIF('SCORE TABLE'!$H46:$AA46,'SCORE TABLE'!$H46:$AA46))","v":0.99999999999999967},{"$f":"SUMPRODUCT(('SCORE TABLE'!W46<='SCORE TABLE'!$H46:$AA46)/COUNTIF('SCORE TABLE'!$H46:$AA46,'SCORE TABLE'!$H46:$AA46))","v":0.99999999999999967},{"$f":"SUMPRODUCT(('SCORE TABLE'!X46<='SCORE TABLE'!$H46:$AA46)/COUNTIF('SCORE TABLE'!$H46:$AA46,'SCORE TABLE'!$H46:$AA46))","v":0.99999999999999967},{"$f":"SUMPRODUCT(('SCORE TABLE'!Y46<='SCORE TABLE'!$H46:$AA46)/COUNTIF('SCORE TABLE'!$H46:$AA46,'SCORE TABLE'!$H46:$AA46))","v":0.99999999999999967},{"$f":"SUMPRODUCT(('SCORE TABLE'!Z46<='SCORE TABLE'!$H46:$AA46)/COUNTIF('SCORE TABLE'!$H46:$AA46,'SCORE TABLE'!$H46:$AA46))","v":0.99999999999999967},{"$f":"SUMPRODUCT(('SCORE TABLE'!AA46<='SCORE TABLE'!$H46:$AA46)/COUNTIF('SCORE TABLE'!$H46:$AA46,'SCORE TABLE'!$H46:$AA46))","v":0.99999999999999967}]
[null,1036,"3.3.1","School nutrition standards",{"$f":"SUMPRODUCT(('SCORE TABLE'!H47<='SCORE TABLE'!$H47:$AA47)/COUNTIF('SCORE TABLE'!$H47:$AA47,'SCORE TABLE'!$H47:$AA47))","v":1},{"$f":"SUMPRODUCT(('SCORE TABLE'!I47<='SCORE TABLE'!$H47:$AA47)/COUNTIF('SCORE TABLE'!$H47:$AA47,'SCORE TABLE'!$H47:$AA47))","v":1},{"$f":"SUMPRODUCT(('SCORE TABLE'!J47<='SCORE TABLE'!$H47:$AA47)/COUNTIF('SCORE TABLE'!$H47:$AA47,'SCORE TABLE'!$H47:$AA47))","v":2},{"$f":"SUMPRODUCT(('SCORE TABLE'!K47<='SCORE TABLE'!$H47:$AA47)/COUNTIF('SCORE TABLE'!$H47:$AA47,'SCORE TABLE'!$H47:$AA47))","v":1},{"$f":"SUMPRODUCT(('SCORE TABLE'!L47<='SCORE TABLE'!$H47:$AA47)/COUNTIF('SCORE TABLE'!$H47:$AA47,'SCORE TABLE'!$H47:$AA47))","v":1},{"$f":"SUMPRODUCT(('SCORE TABLE'!M47<='SCORE TABLE'!$H47:$AA47)/COUNTIF('SCORE TABLE'!$H47:$AA47,'SCORE TABLE'!$H47:$AA47))","v":1},{"$f":"SUMPRODUCT(('SCORE TABLE'!N47<='SCORE TABLE'!$H47:$AA47)/COUNTIF('SCORE TABLE'!$H47:$AA47,'SCORE TABLE'!$H47:$AA47))","v":2},{"$f":"SUMPRODUCT(('SCORE TABLE'!O47<='SCORE TABLE'!$H47:$AA47)/COUNTIF('SCORE TABLE'!$H47:$AA47,'SCORE TABLE'!$H47:$AA47))","v":1},{"$f":"SUMPRODUCT(('SCORE TABLE'!P47<='SCORE TABLE'!$H47:$AA47)/COUNTIF('SCORE TABLE'!$H47:$AA47,'SCORE TABLE'!$H47:$AA47))","v":1},{"$f":"SUMPRODUCT(('SCORE TABLE'!Q47<='SCORE TABLE'!$H47:$AA47)/COUNTIF('SCORE TABLE'!$H47:$AA47,'SCORE TABLE'!$H47:$AA47))","v":1},{"$f":"SUMPRODUCT(('SCORE TABLE'!R47<='SCORE TABLE'!$H47:$AA47)/COUNTIF('SCORE TABLE'!$H47:$AA47,'SCORE TABLE'!$H47:$AA47))","v":1},{"$f":"SUMPRODUCT(('SCORE TABLE'!S47<='SCORE TABLE'!$H47:$AA47)/COUNTIF('SCORE TABLE'!$H47:$AA47,'SCORE TABLE'!$H47:$AA47))","v":2},{"$f":"SUMPRODUCT(('SCORE TABLE'!T47<='SCORE TABLE'!$H47:$AA47)/COUNTIF('SCORE TABLE'!$H47:$AA47,'SCORE TABLE'!$H47:$AA47))","v":1},{"$f":"SUMPRODUCT(('SCORE TABLE'!U47<='SCORE TABLE'!$H47:$AA47)/COUNTIF('SCORE TABLE'!$H47:$AA47,'SCORE TABLE'!$H47:$AA47))","v":1},{"$f":"SUMPRODUCT(('SCORE TABLE'!V47<='SCORE TABLE'!$H47:$AA47)/COUNTIF('SCORE TABLE'!$H47:$AA47,'SCORE TABLE'!$H47:$AA47))","v":1},{"$f":"SUMPRODUCT(('SCORE TABLE'!W47<='SCORE TABLE'!$H47:$AA47)/COUNTIF('SCORE TABLE'!$H47:$AA47,'SCORE TABLE'!$H47:$AA47))","v":1},{"$f":"SUMPRODUCT(('SCORE TABLE'!X47<='SCORE TABLE'!$H47:$AA47)/COUNTIF('SCORE TABLE'!$H47:$AA47,'SCORE TABLE'!$H47:$AA47))","v":1},{"$f":"SUMPRODUCT(('SCORE TABLE'!Y47<='SCORE TABLE'!$H47:$AA47)/COUNTIF('SCORE TABLE'!$H47:$AA47,'SCORE TABLE'!$H47:$AA47))","v":1},{"$f":"SUMPRODUCT(('SCORE TABLE'!Z47<='SCORE TABLE'!$H47:$AA47)/COUNTIF('SCORE TABLE'!$H47:$AA47,'SCORE TABLE'!$H47:$AA47))","v":1},{"$f":"SUMPRODUCT(('SCORE TABLE'!AA47<='SCORE TABLE'!$H47:$AA47)/COUNTIF('SCORE TABLE'!$H47:$AA47,'SCORE TABLE'!$H47:$AA47))","v":1}]
[null,1037,"3.3.2","Nutrition education",{"$f":"SUMPRODUCT(('SCORE TABLE'!H48<='SCORE TABLE'!$H48:$AA48)/COUNTIF('SCORE TABLE'!$H48:$AA48,'SCORE TABLE'!$H48:$AA48))","v":1},{"$f":"SUMPRODUCT(('SCORE TABLE'!I48<='SCORE TABLE'!$H48:$AA48)/COUNTIF('SCORE TABLE'!$H48:$AA48,'SCORE TABLE'!$H48:$AA48))","v":1},{"$f":"SUMPRODUCT(('SCORE TABLE'!J48<='SCORE TABLE'!$H48:$AA48)/COUNTIF('SCORE TABLE'!$H48:$AA48,'SCORE TABLE'!$H48:$AA48))","v":1},{"$f":"SUMPRODUCT(('SCORE TABLE'!K48<='SCORE TABLE'!$H48:$AA48)/COUNTIF('SCORE TABLE'!$H48:$AA48,'SCORE TABLE'!$H48:$AA48))","v":1},{"$f":"SUMPRODUCT(('SCORE TABLE'!L48<='SCORE TABLE'!$H48:$AA48)/COUNTIF('SCORE TABLE'!$H48:$AA48,'SCORE TABLE'!$H48:$AA48))","v":1},{"$f":"SUMPRODUCT(('SCORE TABLE'!M48<='SCORE TABLE'!$H48:$AA48)/COUNTIF('SCORE TABLE'!$H48:$AA48,'SCORE TABLE'!$H48:$AA48))","v":1},{"$f":"SUMPRODUCT(('SCORE TABLE'!N48<='SCORE TABLE'!$H48:$AA48)/COUNTIF('SCORE TABLE'!$H48:$AA48,'SCORE TABLE'!$H48:$AA48))","v":1},{"$f":"SUMPRODUCT(('SCORE TABLE'!O48<='SCORE TABLE'!$H48:$AA48)/COUNTIF('SCORE TABLE'!$H48:$AA48,'SCORE TABLE'!$H48:$AA48))","v":2},{"$f":"SUMPRODUCT(('SCORE TABLE'!P48<='SCORE TABLE'!$H48:$AA48)/COUNTIF('SCORE TABLE'!$H48:$AA48,'SCORE TABLE'!$H48:$AA48))","v":1},{"$f":"SUMPRODUCT(('SCORE TABLE'!Q48<='SCORE TABLE'!$H48:$AA48)/COUNTIF('SCORE TABLE'!$H48:$AA48,'SCORE TABLE'!$H48:$AA48))","v":1},{"$f":"SUMPRODUCT(('SCORE TABLE'!R48<='SCORE TABLE'!$H48:$AA48)/COUNTIF('SCORE TABLE'!$H48:$AA48,'SCORE TABLE'!$H48:$AA48))","v":1},{"$f":"SUMPRODUCT(('SCORE TABLE'!S48<='SCORE TABLE'!$H48:$AA48)/COUNTIF('SCORE TABLE'!$H48:$AA48,'SCORE TABLE'!$H48:$AA48))","v":2},{"$f":"SUMPRODUCT(('SCORE TABLE'!T48<='SCORE TABLE'!$H48:$AA48)/COUNTIF('SCORE TABLE'!$H48:$AA48,'SCORE TABLE'!$H48:$AA48))","v":2},{"$f":"SUMPRODUCT(('SCORE TABLE'!U48<='SCORE TABLE'!$H48:$AA48)/COUNTIF('SCORE TABLE'!$H48:$AA48,'SCORE TABLE'!$H48:$AA48))","v":2},{"$f":"SUMPRODUCT(('SCORE TABLE'!V48<='SCORE TABLE'!$H48:$AA48)/COUNTIF('SCORE TABLE'!$H48:$AA48,'SCORE TABLE'!$H48:$AA48))","v":1},{"$f":"SUMPRODUCT(('SCORE TABLE'!W48<='SCORE TABLE'!$H48:$AA48)/COUNTIF('SCORE TABLE'!$H48:$AA48,'SCORE TABLE'!$H48:$AA48))","v":1},{"$f":"SUMPRODUCT(('SCORE TABLE'!X48<='SCORE TABLE'!$H48:$AA48)/COUNTIF('SCORE TABLE'!$H48:$AA48,'SCORE TABLE'!$H48:$AA48))","v":1},{"$f":"SUMPRODUCT(('SCORE TABLE'!Y48<='SCORE TABLE'!$H48:$AA48)/COUNTIF('SCORE TABLE'!$H48:$AA48,'SCORE TABLE'!$H48:$AA48))","v":1},{"$f":"SUMPRODUCT(('SCORE TABLE'!Z48<='SCORE TABLE'!$H48:$AA48)/COUNTIF('SCORE TABLE'!$H48:$AA48,'SCORE TABLE'!$H48:$AA48))","v":1},{"$f":"SUMPRODUCT(('SCORE TABLE'!AA48<='SCORE TABLE'!$H48:$AA48)/COUNTIF('SCORE TABLE'!$H48:$AA48,'SCORE TABLE'!$H48:$AA48))","v":1}]
[null,1038,4,"Physical activity",{"$f":"SUMPRODUCT(('SCORE TABLE'!H49<='SCORE TABLE'!$H49:$AA49)/COUNTIF('SCORE TABLE'!$H49:$AA49,'SCORE TABLE'!$H49:$AA49))","v":5.0000000000000009},{"$f":"SUMPRODUCT(('SCORE TABLE'!I49<='SCORE TABLE'!$H49:$AA49)/COUNTIF('SCORE TABLE'!$H49:$AA49,'SCORE TABLE'!$H49:$AA49))","v":2},{"$f":"SUMPRODUCT(('SCORE TABLE'!J49<='SCORE TABLE'!$H49:$AA49)/COUNTIF('SCORE TABLE'!$H49:$AA49,'SCORE TABLE'!$H49:$AA49))","v":3},{"$f":"SUMPRODUCT(('SCORE TABLE'!K49<='SCORE TABLE'!$H49:$AA49)/COUNTIF('SCORE TABLE'!$H49:$AA49,'SCORE TABLE'!$H49:$AA49))","v":1},{"$f":"SUMPRODUCT(('SCORE TABLE'!L49<='SCORE TABLE'!$H49:$AA49)/COUNTIF('SCORE TABLE'!$H49:$AA49,'SCORE TABLE'!$H49:$AA49))","v":4},{"$f":"SUMPRODUCT(('SCORE TABLE'!M49<='SCORE TABLE'!$H49:$AA49)/COUNTIF('SCORE TABLE'!$H49:$AA49,'SCORE TABLE'!$H49:$AA49))","v":2},{"$f":"SUMPRODUCT(('SCORE TABLE'!N49<='SCORE TABLE'!$H49:$AA49)/COUNTIF('SCORE TABLE'!$H49:$AA49,'SCORE TABLE'!$H49:$AA49))","v":3},{"$f":"SUMPRODUCT(('SCORE TABLE'!O49<='SCORE TABLE'!$H49:$AA49)/COUNTIF('SCORE TABLE'!$H49:$AA49,'SCORE TABLE'!$H49:$AA49))","v":5.0000000000000009},{"$f":"SUMPRODUCT(('SCORE TABLE'!P49<='SCORE TABLE'!$H49:$AA49)/COUNTIF('SCORE TABLE'!$H49:$AA49,'SCORE TABLE'!$H49:$AA49))","v":3},{"$f":"SUMPRODUCT(('SCORE TABLE'!Q49<='SCORE TABLE'!$H49:$AA49)/COUNTIF('SCORE TABLE'!$H49:$AA49,'SCORE TABLE'!$H49:$AA49))","v":4},{"$f":"SUMPRODUCT(('SCORE TABLE'!R49<='SCORE TABLE'!$H49:$AA49)/COUNTIF('SCORE TABLE'!$H49:$AA49,'SCORE TABLE'!$H49:$AA49))","v":6},{"$f":"SUMPRODUCT(('SCORE TABLE'!S49<='SCORE TABLE'!$H49:$AA49)/COUNTIF('SCORE TABLE'!$H49:$AA49,'SCORE TABLE'!$H49:$AA49))","v":8},{"$f":"SUMPRODUCT(('SCORE TABLE'!T49<='SCORE TABLE'!$H49:$AA49)/COUNTIF('SCORE TABLE'!$H49:$AA49,'SCORE TABLE'!$H49:$AA49))","v":5.0000000000000009},{"$f":"SUMPRODUCT(('SCORE TABLE'!U49<='SCORE TABLE'!$H49:$AA49)/COUNTIF('SCORE TABLE'!$H49:$AA49,'SCORE TABLE'!$H49:$AA49))","v":6},{"$f":"SUMPRODUCT(('SCORE TABLE'!V49<='SCORE TABLE'!$H49:$AA49)/COUNTIF('SCORE TABLE'!$H49:$AA49,'SCORE TABLE'!$H49:$AA49))","v":3},{"$f":"SUMPRODUCT(('SCORE TABLE'!W49<='SCORE TABLE'!$H49:$AA49)/COUNTIF('SCORE TABLE'!$H49:$AA49,'SCORE TABLE'!$H49:$AA49))","v":4},{"$f":"SUMPRODUCT(('SCORE TABLE'!X49<='SCORE TABLE'!$H49:$AA49)/COUNTIF('SCORE TABLE'!$H49:$AA49,'SCORE TABLE'!$H49:$AA49))","v":1},{"$f":"SUMPRODUCT(('SCORE TABLE'!Y49<='SCORE TABLE'!$H49:$AA49)/COUNTIF('SCORE TABLE'!$H49:$AA49,'SCORE TABLE'!$H49:$AA49))","v":5.0000000000000009},{"$f":"SUMPRODUCT(('SCORE TABLE'!Z49<='SCORE TABLE'!$H49:$AA49)/COUNTIF('SCORE TABLE'!$H49:$AA49,'SCORE TABLE'!$H49:$AA49))","v":5.0000000000000009},{"$f":"SUMPRODUCT(('SCORE TABLE'!AA49<='SCORE TABLE'!$H49:$AA49)/COUNTIF('SCORE TABLE'!$H49:$AA49,'SCORE TABLE'!$H49:$AA49))","v":7}]
[null,1039,4.0999999999999996,"Physical activity among the population",{"$f":"SUMPRODUCT(('SCORE TABLE'!H50<='SCORE TABLE'!$H50:$AA50)/COUNTIF('SCORE TABLE'!$H50:$AA50,'SCORE TABLE'!$H50:$AA50))","v":5.0000000000000009},{"$f":"SUMPRODUCT(('SCORE TABLE'!I50<='SCORE TABLE'!$H50:$AA50)/COUNTIF('SCORE TABLE'!$H50:$AA50,'SCORE TABLE'!$H50:$AA50))","v":2},{"$f":"SUMPRODUCT(('SCORE TABLE'!J50<='SCORE TABLE'!$H50:$AA50)/COUNTIF('SCORE TABLE'!$H50:$AA50,'SCORE TABLE'!$H50:$AA50))","v":3},{"$f":"SUMPRODUCT(('SCORE TABLE'!K50<='SCORE TABLE'!$H50:$AA50)/COUNTIF('SCORE TABLE'!$H50:$AA50,'SCORE TABLE'!$H50:$AA50))","v":4},{"$f":"SUMPRODUCT(('SCORE TABLE'!L50<='SCORE TABLE'!$H50:$AA50)/COUNTIF('SCORE TABLE'!$H50:$AA50,'SCORE TABLE'!$H50:$AA50))","v":4},{"$f":"SUMPRODUCT(('SCORE TABLE'!M50<='SCORE TABLE'!$H50:$AA50)/COUNTIF('SCORE TABLE'!$H50:$AA50,'SCORE TABLE'!$H50:$AA50))","v":2},{"$f":"SUMPRODUCT(('SCORE TABLE'!N50<='SCORE TABLE'!$H50:$AA50)/COUNTIF('SCORE TABLE'!$H50:$AA50,'SCORE TABLE'!$H50:$AA50))","v":3},{"$f":"SUMPRODUCT(('SCORE TABLE'!O50<='SCORE TABLE'!$H50:$AA50)/COUNTIF('SCORE TABLE'!$H50:$AA50,'SCORE TABLE'!$H50:$AA50))","v":5.0000000000000009},{"$f":"SUMPRODUCT(('SCORE TABLE'!P50<='SCORE TABLE'!$H50:$AA50)/COUNTIF('SCORE TABLE'!$H50:$AA50,'SCORE TABLE'!$H50:$AA50))","v":3},{"$f":"SUMPRODUCT(('SCORE TABLE'!Q50<='SCORE TABLE'!$H50:$AA50)/COUNTIF('SCORE TABLE'!$H50:$AA50,'SCORE TABLE'!$H50:$AA50))","v":4},{"$f":"SUMPRODUCT(('SCORE TABLE'!R50<='SCORE TABLE'!$H50:$AA50)/COUNTIF('SCORE TABLE'!$H50:$AA50,'SCORE TABLE'!$H50:$AA50))","v":6.0000000000000009},{"$f":"SUMPRODUCT(('SCORE TABLE'!S50<='SCORE TABLE'!$H50:$AA50)/COUNTIF('SCORE TABLE'!$H50:$AA50,'SCORE TABLE'!$H50:$AA50))","v":7.0000000000000009},{"$f":"SUMPRODUCT(('SCORE TABLE'!T50<='SCORE TABLE'!$H50:$AA50)/COUNTIF('SCORE TABLE'!$H50:$AA50,'SCORE TABLE'!$H50:$AA50))","v":5.0000000000000009},{"$f":"SUMPRODUCT(('SCORE TABLE'!U50<='SCORE TABLE'!$H50:$AA50)/COUNTIF('SCORE TABLE'!$H50:$AA50,'SCORE TABLE'!$H50:$AA50))","v":3},{"$f":"SUMPRODUCT(('SCORE TABLE'!V50<='SCORE TABLE'!$H50:$AA50)/COUNTIF('SCORE TABLE'!$H50:$AA50,'SCORE TABLE'!$H50:$AA50))","v":3},{"$f":"SUMPRODUCT(('SCORE TABLE'!W50<='SCORE TABLE'!$H50:$AA50)/COUNTIF('SCORE TABLE'!$H50:$AA50,'SCORE TABLE'!$H50:$AA50))","v":4},{"$f":"SUMPRODUCT(('SCORE TABLE'!X50<='SCORE TABLE'!$H50:$AA50)/COUNTIF('SCORE TABLE'!$H50:$AA50,'SCORE TABLE'!$H50:$AA50))","v":1},{"$f":"SUMPRODUCT(('SCORE TABLE'!Y50<='SCORE TABLE'!$H50:$AA50)/COUNTIF('SCORE TABLE'!$H50:$AA50,'SCORE TABLE'!$H50:$AA50))","v":5.0000000000000009},{"$f":"SUMPRODUCT(('SCORE TABLE'!Z50<='SCORE TABLE'!$H50:$AA50)/COUNTIF('SCORE TABLE'!$H50:$AA50,'SCORE TABLE'!$H50:$AA50))","v":5.0000000000000009},{"$f":"SUMPRODUCT(('SCORE TABLE'!AA50<='SCORE TABLE'!$H50:$AA50)/COUNTIF('SCORE TABLE'!$H50:$AA50,'SCORE TABLE'!$H50:$AA50))","v":4}]
[null,1040,"4.1.1","Promotion of physical activity",{"$f":"SUMPRODUCT(('SCORE TABLE'!H51<='SCORE TABLE'!$H51:$AA51)/COUNTIF('SCORE TABLE'!$H51:$AA51,'SCORE TABLE'!$H51:$AA51))","v":2},{"$f":"SUMPRODUCT(('SCORE TABLE'!I51<='SCORE TABLE'!$H51:$AA51)/COUNTIF('SCORE TABLE'!$H51:$AA51,'SCORE TABLE'!$H51:$AA51))","v":0.99999999999999989},{"$f":"SUMPRODUCT(('SCORE TABLE'!J51<='SCORE TABLE'!$H51:$AA51)/COUNTIF('SCORE TABLE'!$H51:$AA51,'SCORE TABLE'!$H51:$AA51))","v":0.99999999999999989},{"$f":"SUMPRODUCT(('SCORE TABLE'!K51<='SCORE TABLE'!$H51:$AA51)/COUNTIF('SCORE TABLE'!$H51:$AA51,'SCORE TABLE'!$H51:$AA51))","v":3},{"$f":"SUMPRODUCT(('SCORE TABLE'!L51<='SCORE TABLE'!$H51:$AA51)/COUNTIF('SCORE TABLE'!$H51:$AA51,'SCORE TABLE'!$H51:$AA51))","v":0.99999999999999989},{"$f":"SUMPRODUCT(('SCORE TABLE'!M51<='SCORE TABLE'!$H51:$AA51)/COUNTIF('SCORE TABLE'!$H51:$AA51,'SCORE TABLE'!$H51:$AA51))","v":2},{"$f":"SUMPRODUCT(('SCORE TABLE'!N51<='SCORE TABLE'!$H51:$AA51)/COUNTIF('SCORE TABLE'!$H51:$AA51,'SCORE TABLE'!$H51:$AA51))","v":0.99999999999999989},{"$f":"SUMPRODUCT(('SCORE TABLE'!O51<='SCORE TABLE'!$H51:$AA51)/COUNTIF('SCORE TABLE'!$H51:$AA51,'SCORE TABLE'!$H51:$AA51))","v":2},{"$f":"SUMPRODUCT(('SCORE TABLE'!P51<='SCORE TABLE'!$H51:$AA51)/COUNTIF('SCORE TABLE'!$H51:$AA51,'SCORE TABLE'!$H51:$AA51))","v":2},{"$f":"SUMPRODUCT(('SCORE TABLE'!Q51<='SCORE TABLE'!$H51:$AA51)/COUNTIF('SCORE TABLE'!$H51:$AA51,'SCORE TABLE'!$H51:$AA51))","v":2},{"$f":"SUMPRODUCT(('SCORE TABLE'!R51<='SCORE TABLE'!$H51:$AA51)/COUNTIF('SCORE TABLE'!$H51:$AA51,'SCORE TABLE'!$H51:$AA51))","v":3},{"$f":"SUMPRODUCT(('SCORE TABLE'!S51<='SCORE TABLE'!$H51:$AA51)/COUNTIF('SCORE TABLE'!$H51:$AA51,'SCORE TABLE'!$H51:$AA51))","v":4},{"$f":"SUMPRODUCT(('SCORE TABLE'!T51<='SCORE TABLE'!$H51:$AA51)/COUNTIF('SCORE TABLE'!$H51:$AA51,'SCORE TABLE'!$H51:$AA51))","v":2},{"$f":"SUMPRODUCT(('SCORE TABLE'!U51<='SCORE TABLE'!$H51:$AA51)/COUNTIF('SCORE TABLE'!$H51:$AA51,'SCORE TABLE'!$H51:$AA51))","v":3},{"$f":"SUMPRODUCT(('SCORE TABLE'!V51<='SCORE TABLE'!$H51:$AA51)/COUNTIF('SCORE TABLE'!$H51:$AA51,'SCORE TABLE'!$H51:$AA51))","v":3},{"$f":"SUMPRODUCT(('SCORE TABLE'!W51<='SCORE TABLE'!$H51:$AA51)/COUNTIF('SCORE TABLE'!$H51:$AA51,'SCORE TABLE'!$H51:$AA51))","v":0.99999999999999989},{"$f":"SUMPRODUCT(('SCORE TABLE'!X51<='SCORE TABLE'!$H51:$AA51)/COUNTIF('SCORE TABLE'!$H51:$AA51,'SCORE TABLE'!$H51:$AA51))","v":0.99999999999999989},{"$f":"SUMPRODUCT(('SCORE TABLE'!Y51<='SCORE TABLE'!$H51:$AA51)/COUNTIF('SCORE TABLE'!$H51:$AA51,'SCORE TABLE'!$H51:$AA51))","v":3},{"$f":"SUMPRODUCT(('SCORE TABLE'!Z51<='SCORE TABLE'!$H51:$AA51)/COUNTIF('SCORE TABLE'!$H51:$AA51,'SCORE TABLE'!$H51:$AA51))","v":2},{"$f":"SUMPRODUCT(('SCORE TABLE'!AA51<='SCORE TABLE'!$H51:$AA51)/COUNTIF('SCORE TABLE'!$H51:$AA51,'SCORE TABLE'!$H51:$AA51))","v":2}]
[null,1041,"4.1.2","Physical activity policies that address obesity",{"$f":"SUMPRODUCT(('SCORE TABLE'!H52<='SCORE TABLE'!$H52:$AA52)/COUNTIF('SCORE TABLE'!$H52:$AA52,'SCORE TABLE'!$H52:$AA52))","v":4},{"$f":"SUMPRODUCT(('SCORE TABLE'!I52<='SCORE TABLE'!$H52:$AA52)/COUNTIF('SCORE TABLE'!$H52:$AA52,'SCORE TABLE'!$H52:$AA52))","v":2},{"$f":"SUMPRODUCT(('SCORE TABLE'!J52<='SCORE TABLE'!$H52:$AA52)/COUNTIF('SCORE TABLE'!$H52:$AA52,'SCORE TABLE'!$H52:$AA52))","v":3},{"$f":"SUMPRODUCT(('SCORE TABLE'!K52<='SCORE TABLE'!$H52:$AA52)/COUNTIF('SCORE TABLE'!$H52:$AA52,'SCORE TABLE'!$H52:$AA52))","v":2},{"$f":"SUMPRODUCT(('SCORE TABLE'!L52<='SCORE TABLE'!$H52:$AA52)/COUNTIF('SCORE TABLE'!$H52:$AA52,'SCORE TABLE'!$H52:$AA52))","v":4},{"$f":"SUMPRODUCT(('SCORE TABLE'!M52<='SCORE TABLE'!$H52:$AA52)/COUNTIF('SCORE TABLE'!$H52:$AA52,'SCORE TABLE'!$H52:$AA52))","v":1},{"$f":"SUMPRODUCT(('SCORE TABLE'!N52<='SCORE TABLE'!$H52:$AA52)/COUNTIF('SCORE TABLE'!$H52:$AA52,'SCORE TABLE'!$H52:$AA52))","v":3},{"$f":"SUMPRODUCT(('SCORE TABLE'!O52<='SCORE TABLE'!$H52:$AA52)/COUNTIF('SCORE TABLE'!$H52:$AA52,'SCORE TABLE'!$H52:$AA52))","v":4},{"$f":"SUMPRODUCT(('SCORE TABLE'!P52<='SCORE TABLE'!$H52:$AA52)/COUNTIF('SCORE TABLE'!$H52:$AA52,'SCORE TABLE'!$H52:$AA52))","v":2},{"$f":"SUMPRODUCT(('SCORE TABLE'!Q52<='SCORE TABLE'!$H52:$AA52)/COUNTIF('SCORE TABLE'!$H52:$AA52,'SCORE TABLE'!$H52:$AA52))","v":3},{"$f":"SUMPRODUCT(('SCORE TABLE'!R52<='SCORE TABLE'!$H52:$AA52)/COUNTIF('SCORE TABLE'!$H52:$AA52,'SCORE TABLE'!$H52:$AA52))","v":4},{"$f":"SUMPRODUCT(('SCORE TABLE'!S52<='SCORE TABLE'!$H52:$AA52)/COUNTIF('SCORE TABLE'!$H52:$AA52,'SCORE TABLE'!$H52:$AA52))","v":4},{"$f":"SUMPRODUCT(('SCORE TABLE'!T52<='SCORE TABLE'!$H52:$AA52)/COUNTIF('SCORE TABLE'!$H52:$AA52,'SCORE TABLE'!$H52:$AA52))","v":4},{"$f":"SUMPRODUCT(('SCORE TABLE'!U52<='SCORE TABLE'!$H52:$AA52)/COUNTIF('SCORE TABLE'!$H52:$AA52,'SCORE TABLE'!$H52:$AA52))","v":1},{"$f":"SUMPRODUCT(('SCORE TABLE'!V52<='SCORE TABLE'!$H52:$AA52)/COUNTIF('SCORE TABLE'!$H52:$AA52,'SCORE TABLE'!$H52:$AA52))","v":1},{"$f":"SUMPRODUCT(('SCORE TABLE'!W52<='SCORE TABLE'!$H52:$AA52)/COUNTIF('SCORE TABLE'!$H52:$AA52,'SCORE TABLE'!$H52:$AA52))","v":4},{"$f":"SUMPRODUCT(('SCORE TABLE'!X52<='SCORE TABLE'!$H52:$AA52)/COUNTIF('SCORE TABLE'!$H52:$AA52,'SCORE TABLE'!$H52:$AA52))","v":1},{"$f":"SUMPRODUCT(('SCORE TABLE'!Y52<='SCORE TABLE'!$H52:$AA52)/COUNTIF('SCORE TABLE'!$H52:$AA52,'SCORE TABLE'!$H52:$AA52))","v":3},{"$f":"SUMPRODUCT(('SCORE TABLE'!Z52<='SCORE TABLE'!$H52:$AA52)/COUNTIF('SCORE TABLE'!$H52:$AA52,'SCORE TABLE'!$H52:$AA52))","v":4},{"$f":"SUMPRODUCT(('SCORE TABLE'!AA52<='SCORE TABLE'!$H52:$AA52)/COUNTIF('SCORE TABLE'!$H52:$AA52,'SCORE TABLE'!$H52:$AA52))","v":3}]
[null,1042,4.2,"Physical activity among children",{"$f":"SUMPRODUCT(('SCORE TABLE'!H53<='SCORE TABLE'!$H53:$AA53)/COUNTIF('SCORE TABLE'!$H53:$AA53,'SCORE TABLE'!$H53:$AA53))","v":2},{"$f":"SUMPRODUCT(('SCORE TABLE'!I53<='SCORE TABLE'!$H53:$AA53)/COUNTIF('SCORE TABLE'!$H53:$AA53,'SCORE TABLE'!$H53:$AA53))","v":2},{"$f":"SUMPRODUCT(('SCORE TABLE'!J53<='SCORE TABLE'!$H53:$AA53)/COUNTIF('SCORE TABLE'!$H53:$AA53,'SCORE TABLE'!$H53:$AA53))","v":2},{"$f":"SUMPRODUCT(('SCORE TABLE'!K53<='SCORE TABLE'!$H53:$AA53)/COUNTIF('SCORE TABLE'!$H53:$AA53,'SCORE TABLE'!$H53:$AA53))","v":1},{"$f":"SUMPRODUCT(('SCORE TABLE'!L53<='SCORE TABLE'!$H53:$AA53)/COUNTIF('SCORE TABLE'!$H53:$AA53,'SCORE TABLE'!$H53:$AA53))","v":2},{"$f":"SUMPRODUCT(('SCORE TABLE'!M53<='SCORE TABLE'!$H53:$AA53)/COUNTIF('SCORE TABLE'!$H53:$AA53,'SCORE TABLE'!$H53:$AA53))","v":2},{"$f":"SUMPRODUCT(('SCORE TABLE'!N53<='SCORE TABLE'!$H53:$AA53)/COUNTIF('SCORE TABLE'!$H53:$AA53,'SCORE TABLE'!$H53:$AA53))","v":2},{"$f":"SUMPRODUCT(('SCORE TABLE'!O53<='SCORE TABLE'!$H53:$AA53)/COUNTIF('SCORE TABLE'!$H53:$AA53,'SCORE TABLE'!$H53:$AA53))","v":2},{"$f":"SUMPRODUCT(('SCORE TABLE'!P53<='SCORE TABLE'!$H53:$AA53)/COUNTIF('SCORE TABLE'!$H53:$AA53,'SCORE TABLE'!$H53:$AA53))","v":2},{"$f":"SUMPRODUCT(('SCORE TABLE'!Q53<='SCORE TABLE'!$H53:$AA53)/COUNTIF('SCORE TABLE'!$H53:$AA53,'SCORE TABLE'!$H53:$AA53))","v":2},{"$f":"SUMPRODUCT(('SCORE TABLE'!R53<='SCORE TABLE'!$H53:$AA53)/COUNTIF('SCORE TABLE'!$H53:$AA53,'SCORE TABLE'!$H53:$AA53))","v":2},{"$f":"SUMPRODUCT(('SCORE TABLE'!S53<='SCORE TABLE'!$H53:$AA53)/COUNTIF('SCORE TABLE'!$H53:$AA53,'SCORE TABLE'!$H53:$AA53))","v":3},{"$f":"SUMPRODUCT(('SCORE TABLE'!T53<='SCORE TABLE'!$H53:$AA53)/COUNTIF('SCORE TABLE'!$H53:$AA53,'SCORE TABLE'!$H53:$AA53))","v":2},{"$f":"SUMPRODUCT(('SCORE TABLE'!U53<='SCORE TABLE'!$H53:$AA53)/COUNTIF('SCORE TABLE'!$H53:$AA53,'SCORE TABLE'!$H53:$AA53))","v":3},{"$f":"SUMPRODUCT(('SCORE TABLE'!V53<='SCORE TABLE'!$H53:$AA53)/COUNTIF('SCORE TABLE'!$H53:$AA53,'SCORE TABLE'!$H53:$AA53))","v":2},{"$f":"SUMPRODUCT(('SCORE TABLE'!W53<='SCORE TABLE'!$H53:$AA53)/COUNTIF('SCORE TABLE'!$H53:$AA53,'SCORE TABLE'!$H53:$AA53))","v":2},{"$f":"SUMPRODUCT(('SCORE TABLE'!X53<='SCORE TABLE'!$H53:$AA53)/COUNTIF('SCORE TABLE'!$H53:$AA53,'SCORE TABLE'!$H53:$AA53))","v":2},{"$f":"SUMPRODUCT(('SCORE TABLE'!Y53<='SCORE TABLE'!$H53:$AA53)/COUNTIF('SCORE TABLE'!$H53:$AA53,'SCORE TABLE'!$H53:$AA53))","v":2},{"$f":"SUMPRODUCT(('SCORE TABLE'!Z53<='SCORE TABLE'!$H53:$AA53)/COUNTIF('SCORE TABLE'!$H53:$AA53,'SCORE TABLE'!$H53:$AA53))","v":2},{"$f":"SUMPRODUCT(('SCORE TABLE'!AA53<='SCORE TABLE'!$H53:$AA53)/COUNTIF('SCORE TABLE'!$H53:$AA53,'SCORE TABLE'!$H53:$AA53))","v":3}]
[null,1043,"4.2.1","Physical activity mandates",{"$f":"SUMPRODUCT(('SCORE TABLE'!H54<='SCORE TABLE'!$H54:$AA54)/COUNTIF('SCORE TABLE'!$H54:$AA54,'SCORE TABLE'!$H54:$AA54))","v":2},{"$f":"SUMPRODUCT(('SCORE TABLE'!I54<='SCORE TABLE'!$H54:$AA54)/COUNTIF('SCORE TABLE'!$H54:$AA54,'SCORE TABLE'!$H54:$AA54))","v":2},{"$f":"SUMPRODUCT(('SCORE TABLE'!J54<='SCORE TABLE'!$H54:$AA54)/COUNTIF('SCORE TABLE'!$H54:$AA54,'SCORE TABLE'!$H54:$AA54))","v":2},{"$f":"SUMPRODUCT(('SCORE TABLE'!K54<='SCORE TABLE'!$H54:$AA54)/COUNTIF('SCORE TABLE'!$H54:$AA54,'SCORE TABLE'!$H54:$AA54))","v":1},{"$f":"SUMPRODUCT(('SCORE TABLE'!L54<='SCORE TABLE'!$H54:$AA54)/COUNTIF('SCORE TABLE'!$H54:$AA54,'SCORE TABLE'!$H54:$AA54))","v":2},{"$f":"SUMPRODUCT(('SCORE TABLE'!M54<='SCORE TABLE'!$H54:$AA54)/COUNTIF('SCORE TABLE'!$H54:$AA54,'SCORE TABLE'!$H54:$AA54))","v":2},{"$f":"SUMPRODUCT(('SCORE TABLE'!N54<='SCORE TABLE'!$H54:$AA54)/COUNTIF('SCORE TABLE'!$H54:$AA54,'SCORE TABLE'!$H54:$AA54))","v":2},{"$f":"SUMPRODUCT(('SCORE TABLE'!O54<='SCORE TABLE'!$H54:$AA54)/COUNTIF('SCORE TABLE'!$H54:$AA54,'SCORE TABLE'!$H54:$AA54))","v":2},{"$f":"SUMPRODUCT(('SCORE TABLE'!P54<='SCORE TABLE'!$H54:$AA54)/COUNTIF('SCORE TABLE'!$H54:$AA54,'SCORE TABLE'!$H54:$AA54))","v":2},{"$f":"SUMPRODUCT(('SCORE TABLE'!Q54<='SCORE TABLE'!$H54:$AA54)/COUNTIF('SCORE TABLE'!$H54:$AA54,'SCORE TABLE'!$H54:$AA54))","v":2},{"$f":"SUMPRODUCT(('SCORE TABLE'!R54<='SCORE TABLE'!$H54:$AA54)/COUNTIF('SCORE TABLE'!$H54:$AA54,'SCORE TABLE'!$H54:$AA54))","v":2},{"$f":"SUMPRODUCT(('SCORE TABLE'!S54<='SCORE TABLE'!$H54:$AA54)/COUNTIF('SCORE TABLE'!$H54:$AA54,'SCORE TABLE'!$H54:$AA54))","v":3},{"$f":"SUMPRODUCT(('SCORE TABLE'!T54<='SCORE TABLE'!$H54:$AA54)/COUNTIF('SCORE TABLE'!$H54:$AA54,'SCORE TABLE'!$H54:$AA54))","v":2},{"$f":"SUMPRODUCT(('SCORE TABLE'!U54<='SCORE TABLE'!$H54:$AA54)/COUNTIF('SCORE TABLE'!$H54:$AA54,'SCORE TABLE'!$H54:$AA54))","v":3},{"$f":"SUMPRODUCT(('SCORE TABLE'!V54<='SCORE TABLE'!$H54:$AA54)/COUNTIF('SCORE TABLE'!$H54:$AA54,'SCORE TABLE'!$H54:$AA54))","v":2},{"$f":"SUMPRODUCT(('SCORE TABLE'!W54<='SCORE TABLE'!$H54:$AA54)/COUNTIF('SCORE TABLE'!$H54:$AA54,'SCORE TABLE'!$H54:$AA54))","v":2},{"$f":"SUMPRODUCT(('SCORE TABLE'!X54<='SCORE TABLE'!$H54:$AA54)/COUNTIF('SCORE TABLE'!$H54:$AA54,'SCORE TABLE'!$H54:$AA54))","v":2},{"$f":"SUMPRODUCT(('SCORE TABLE'!Y54<='SCORE TABLE'!$H54:$AA54)/COUNTIF('SCORE TABLE'!$H54:$AA54,'SCORE TABLE'!$H54:$AA54))","v":2},{"$f":"SUMPRODUCT(('SCORE TABLE'!Z54<='SCORE TABLE'!$H54:$AA54)/COUNTIF('SCORE TABLE'!$H54:$AA54,'SCORE TABLE'!$H54:$AA54))","v":2},{"$f":"SUMPRODUCT(('SCORE TABLE'!AA54<='SCORE TABLE'!$H54:$AA54)/COUNTIF('SCORE TABLE'!$H54:$AA54,'SCORE TABLE'!$H54:$AA54))","v":3}]

{"sheet":"Lists","index":11,"n_rows":57,"n_cols":11,"rows_kept":57,"cut":false,"hidden":true,"merged":[]}
["Countries",null,"Pillars",null,null,"No.","Indicator",null,null,null,"Sorting"]
["Australia",null,"OVERALL","OVERALL",null,0,"OVERALL",{"$f":"G2","v":"OVERALL"},"Overall index",null,"Alphabetical"]
["Brazil",null,"1) Policy and governance","_1Policy",null,1,"Policy and governance",{"$f":"IF(F3=\"\",G3,CONCATENATE(F3,\") \",G3))","v":"1) Policy and governance"},"Policy and governance",null,"Best response to worst"]
["Canada",null,"2) Obesity management","_2Management",null,1.1000000000000001,"Obesity-related policy",{"$f":"IF(F4=\"\",G4,CONCATENATE(F4,\") \",G4))","v":"1.1) Obesity-related policy"},"Policy and governance",null,"Worst response to best"]
["China",null,"3) Food quality and access","_3QualityAccess",null,"1.1.1","Health policy/strategy/plan that includes obesity","1.1.1) Health policy/strategy/plan that includes obesity","Policy and governance >> Obesity-related policy"]
["Finland",null,"4) Physical activity","_4Activity",null,"1.1.2","Definition of obesity","1.1.2) Definition of obesity","Policy and governance >> Obesity-related policy"]
["France",null,"Background indicators","BACKGROUND",null,"1.1.3","Obesity-related policy/strategy/plan","1.1.3) Obesity-related policy/strategy/plan","Policy and governance >> Obesity-related policy"]
["Germany",null,null,null,null,"1.1.3a","Existence of an obesity-related policy/strategy/plan","1.1.3a) Existence of an obesity-related policy/strategy/plan","Policy and governance >> Obesity-related policy"]
["India",null,null,null,null,"1.1.3b","Engagement with stakeholders during development","1.1.3b) Engagement with stakeholders during development","Policy and governance >> Obesity-related policy"]
["Italy",null,null,null,null,"1.1.3c","Measures for obesity prevention","1.1.3c) Measures for obesity prevention","Policy and governance >> Obesity-related policy"]
["Japan",null,null,null,null,"1.1.3d","Measures for obesity management","1.1.3d) Measures for obesity management","Policy and governance >> Obesity-related policy"]
["Mexico",null,null,null,null,"1.1.3e","Targets for obesity prevalence reduction","1.1.3e) Targets for obesity prevalence reduction","Policy and governance >> Obesity-related policy"]
["Nigeria",null,null,null,null,"1.1.3f","Focus on vulnerable groups","1.1.3f) Focus on vulnerable groups","Policy and governance >> Obesity-related policy"]
["Rwanda",null,null,null,null,"1.1.3g","Obesity-related stigma and discrimination","1.1.3g) Obesity-related stigma and discrimination","Policy and governance >> Obesity-related policy"]
["Saudi Arabia",null,null,null,null,"1.1.4","Obesity-related funding","1.1.4) Obesity-related funding","Policy and governance >> Obesity-related policy"]
["Serbia",null,null,null,null,"1.1.5","Weight-related discrimination","1.1.5) Weight-related discrimination","Policy and governance >> Obesity-related policy"]
["South Africa",null,null,null,null,2,"Obesity management","2) Obesity management","Obesity management"]
["South Korea",null,null,null,null,2.1,"Obesity management guidelines","2.1) Obesity management guidelines","Obesity management"]
["Spain",null,null,null,null,"2.1.1","Existence of obesity management guidelines","2.1.1) Existence of obesity management guidelines","Obesity management >> Obesity management guidelines"]
["United Arab Emirates",null,null,null,null,"2.1.2","Evidence-based obesity management guidelines","2.1.2) Evidence-based obesity management guidelines","Obesity management >> Obesity management guidelines"]
["United Kingdom",null,null,null,null,"2.1.3","Clinical and cost-effectiveness of obesity management interventions","2.1.3) Clinical and cost-effectiveness of obesity management interventions","Obesity management >> Obesity management guidelines"]
[null,null,null,null,null,2.2000000000000002,"Obesity diagnosis and referral pathways","2.2) Obesity diagnosis and referral pathways","Obesity management"]
[null,null,null,null,null,"2.2.1","Obesity management pathway","2.2.1) Obesity management pathway","Obesity management >> Obesity diagnosis and referral pathways"]
[null,null,null,null,null,"2.2.2","Obesity pathway in chronic disease management","2.2.2) Obesity pathway in chronic disease management","Obesity management >> Obesity diagnosis and referral pathways"]
[null,null,null,null,null,2.2999999999999998,"Availability and affordability of obesity-related care","2.3) Availability and affordability of obesity-related care","Obesity management"]
[null,null,null,null,null,"2.3.1","Reimbursement/coverage of obesity care","2.3.1) Reimbursement/coverage of obesity care","Obesity management >> Availability and affordability of obesity-related care"]
[null,null,null,null,null,3,"Food quality and access","3) Food quality and access","Food quality and access"]
[null,null,null,null,null,3.1,"Food access and affordability","3.1) Food access and affordability","Food quality and access"]
[null,null,null,null,null,"3.1.1","Level of food security","3.1.1) Level of food security","Food quality and access >> Food access and affordability"]
[null,null,null,null,null,"3.1.2","Affordability of nutritious food","3.1.2) Affordability of nutritious food","Food quality and access >> Food access and affordability"]
[null,null,null,null,null,"3.1.3","Nutrition programmes for lower-income individuals","3.1.3) Nutrition programmes for lower-income individuals","Food quality and access >> Food access and affordability"]
[null,null,null,null,null,3.2,"Nutrition guidance and regulation","3.2) Nutrition guidance and regulation","Food quality and access"]
[null,null,null,null,null,"3.2.1","Nutrition policy/strategy/plan that addresses obesity","3.2.1) Nutrition policy/strategy/plan that addresses obesity","Food quality and access >> Nutrition guidance and regulation"]
[null,null,null,null,null,"3.2.2","Marketing of unhealthy food and beverages to children","3.2.2) Marketing of unhealthy food and beverages to children","Food quality and access >> Nutrition guidance and regulation"]
[null,null,null,null,null,"3.2.3","Food labelling","3.2.3) Food labelling","Food quality and access >> Nutrition guidance and regulation"]
[null,null,null,null,null,"3.2.4","Menu labelling","3.2.4) Menu labelling","Physical activity"]
[null,null,null,null,null,"3.2.5","Taxes on unhealthy food and beverages","3.2.5) Taxes on unhealthy food and beverages","Food quality and access >> Nutrition guidance and regulation"]
[null,null,null,null,null,3.3,"Nutrition in schools","3.3) Nutrition in schools","Food quality and access"]
[null,null,null,null,null,"3.3.1","School nutrition standards","3.3.1) School nutrition standards","Food quality and access >> Nutrition in schools"]
[null,null,null,null,null,"3.3.2","Nutrition education","3.3.2) Nutrition education","Food quality and access >> Nutrition in schools"]
[null,null,null,null,null,4,"Physical activity","4) Physical activity","Physical activity"]
[null,null,null,null,null,4.0999999999999996,"Physical activity among the population","4.1) Physical activity among the population","Physical activity"]
[null,null,null,null,null,"4.1.1","Promotion of physical activity","4.1.1) Promotion of physical activity","Physical activity >> Physical activity among the population"]
[null,null,null,null,null,"4.1.2","Physical activity policies that address obesity","4.1.2) Physical activity policies that address obesity","Physical activity >> Physical activity among the population"]
[null,null,null,null,null,4.2,"Physical activity among children","4.2) Physical activity among children","Physical activity"]
[null,null,null,null,null,"4.2.1","Physical activity mandates","4.2.1) Physical activity mandates","Physical activity >> Physical activity among children"]
[null,null,null,null,null,"BG01","Adult obesity prevalence","BG01) Adult obesity prevalence","Background indicator"]
[null,null,null,null,null,"BG02a","Obesity prevalence by gender: Men","BG02a) Obesity prevalence by gender: Men","Background indicator"]
[null,null,null,null,null,"BG02b","Obesity prevalence by gender: Women","BG02b) Obesity prevalence by gender: Women","Background indicator"]
[null,null,null,null,null,"BG03","Childhood obesity prevalence","BG03) Childhood obesity prevalence","Background indicator"]
[null,null,null,null,null,"BG04","Life expectancy","BG04) Life expectancy","Background indicator"]
[null,null,null,null,null,"BG05","GDP per capita","BG05) GDP per capita","Background indicator"]
[null,null,null,null,null,"BG06","Gini Index of Income Inequality","BG06) Gini Index of Income Inequality","Background indicator"]
[null,null,null,null,null,"BG07","Economic impact of overweight and obesity","BG07) Economic impact of overweight and obesity","Background indicator"]
[null,null,null,null,null,"BG08","Healthcare spending per capita","BG08) Healthcare spending per capita","Background indicator"]
[null,null,null,null,null,"BG09","Access to a physician","BG09) Access to a physician","Background indicator"]
[null,null,null,null,null,"BG10","Physical activity","BG10) Physical activity","Background indicator"]

{"sheet":"Selected values","index":12,"n_rows":24,"n_cols":66,"rows_kept":24,"cut":false,"hidden":true,"merged":[]}
["Selected indicator: ",null,null,null,null,null,null,null,null,null,null,"Overall",null,null,null,null,null,null,null,null,null,null,"Pillar 1",null,null,null,null,null,null,null,null,null,null,"Pillar 2",null,null,null,null,null,null,null,null,null,null,"Pillar 3",null,null,null,null,null,null,null,null,null,null,"Pillar 4"]
[{"$f":"INDICATORS!H13","v":0},{"$f":"INDEX(Lists!$I$2:$I$59,MATCH(A$2,Lists!$F$2:$F$58))","v":"Overall index"},null,null,null,null,null,null,null,null,null,0,null,null,null,null,null,null,null,null,null,null,1,null,null,null,null,null,null,null,null,null,null,2,null,null,null,null,null,null,null,null,null,null,3,null,null,null,null,null,null,null,null,null,null,4]
[null,null,"Score","Rank_alphabetical","Rank_unique","Rank_shared",null,"Re-ordered",null,null,null,null,null,"Score","Rank_alphabetical","Rank_unique","Rank_shared",null,"Re-ordered",null,null,null,null,null,"Score","Rank_alphabetical","Rank_unique","Rank_shared",null,"Re-ordered",null,null,null,null,null,"Score","Rank_alphabetical","Rank_unique","Rank_shared",null,"Re-ordered",null,null,null,null,null,"Score","Rank_alphabetical","Rank_unique","Rank_shared",null,"Re-ordered",null,null,null,null,null,"Score","Rank_alphabetical","Rank_unique","Rank_shared",null,"Re-ordered"]
[1,"Australia",{"$f":"IFERROR(INDEX('SCORE TABLE'!$H$10:$AA$54, MATCH(A$2,'SCORE TABLE'!$B$10:$B$54,0), MATCH(B4,'SCORE TABLE'!$H$9:$AA$9,0)),\"Not scored\")","v":58.8},1,{"$f":"IF(C4=\"Not scored\",D4,(RANK(C4,C$4:C$24,0)+COUNTIF(C$4:C4,C4)-1))","v":10},{"$f":"IF(C4=\"Not scored\",D4,(SUMPRODUCT((C4<=C$4:C$24)/COUNTIF(C$4:C$53,C$4:C$24))))","v":9},{"$f":"IF(C4=\"Not scored\",D4,(SUMPRODUCT((C4<=C$4:C$23)/COUNTIF(C$4:C$53,C$4:C$23))))","v":9},{"$f":"INDEX(B$4:B$53, MATCH(A4,E$4:E$53,0))","v":"Serbia"},{"$f":"IF(H4=\"AVERAGE\",\"\", IF(COUNTIF(H$4:H4, \"AVERAGE\") < 1, (ROUNDUP(INDEX(F$4:F$24,MATCH(H4,B$4:B$24,0)),1)), (ROUNDUP(INDEX(G$4:G$23,MATCH(H4,B$4:B$24,0)),1))))","v":1},{"$f":"IF(K4=K5,CONCATENATE(\"=\",K4),K4)","v":1},{"$f":"I4","v":1},1,"Australia",{"$f":"IFERROR(INDEX('SCORE TABLE'!$H$10:$AA$54, MATCH(L$2,'SCORE TABLE'!$B$10:$B$54,0), MATCH(M4,'SCORE TABLE'!$H$9:$AA$9,0)),\"Not scored\")","v":58.8},1,{"$f":"IF(N4=\"Not scored\",O4,(RANK(N4,N$4:N$24,0)+COUNTIF(N$4:N4,N4)-1))","v":10},{"$f":"IF(N4=\"Not scored\",O4,(SUMPRODUCT((N4<=N$4:N$24)/COUNTIF(N$4:N$53,N$4:N$24))))","v":9},{"$f":"IF(N4=\"Not scored\",O4,(SUMPRODUCT((N4<=N$4:N$23)/COUNTIF(N$4:N$53,N$4:N$23))))","v":9},{"$f":"INDEX(M$4:M$53, MATCH(L4,P$4:P$53,0))","v":"Serbia"},{"$f":"IF(S4=\"AVERAGE\",\"\", IF(COUNTIF(S$4:S4, \"AVERAGE\") < 1, (ROUNDUP(INDEX(Q$4:Q$24,MATCH(S4,M$4:M$24,0)),1)), (ROUNDUP(INDEX(R$4:R$23,MATCH(S4,M$4:M$24,0)),1))))","v":1},{"$f":"IF(V4=V5,CONCATENATE(\"=\",V4),V4)","v":1},{"$f":"T4","v":1},1,"Australia",{"$f":"IFERROR(INDEX('SCORE TABLE'!$H$10:$AA$54, MATCH(W$2,'SCORE TABLE'!$B$10:$B$54,0), MATCH(X4,'SCORE TABLE'!$H$9:$AA$9,0)),\"Not scored\")","v":57.916670000000003},1,{"$f":"IF(Y4=\"Not scored\",Z4,(RANK(Y4,Y$4:Y$24,0)+COUNTIF(Y$4:Y4,Y4)-1))","v":5},{"$f":"IF(Y4=\"Not scored\",Z4,(SUMPRODUCT((Y4<=Y$4:Y$24)/COUNTIF(Y$4:Y$53,Y$4:Y$24))))","v":4},{"$f":"IF(Y4=\"Not scored\",Z4,(SUMPRODUCT((Y4<=Y$4:Y$23)/COUNTIF(Y$4:Y$53,Y$4:Y$23))))","v":4},{"$f":"INDEX(X$4:X$53, MATCH(W4,AA$4:AA$53,0))","v":"Serbia"},{"$f":"IF(AD4=\"AVERAGE\",\"\", IF(COUNTIF(AD$4:AD4, \"AVERAGE\") < 1, (ROUNDUP(INDEX(AB$4:AB$24,MATCH(AD4,X$4:X$24,0)),1)), (ROUNDUP(INDEX(AC$4:AC$23,MATCH(AD4,X$4:X$24,0)),1))))","v":1},{"$f":"IF(AG4=AG5,CONCATENATE(\"=\",AG4),AG4)","v":1},{"$f":"AE4","v":1},1,"Australia",{"$f":"IFERROR(INDEX('SCORE TABLE'!$H$10:$AA$54, MATCH(AH$2,'SCORE TABLE'!$B$10:$B$54,0), MATCH(AI4,'SCORE TABLE'!$H$9:$AA$9,0)),\"Not scored\")","v":75},1,{"$f":"IF(AJ4=\"Not scored\",AK4,(RANK(AJ4,AJ$4:AJ$24,0)+COUNTIF(AJ$4:AJ4,AJ4)-1))","v":10},{"$f":"IF(AJ4=\"Not scored\",AK4,(SUMPRODUCT((AJ4<=AJ$4:AJ$24)/COUNTIF(AJ$4:AJ$53,AJ$4:AJ$24))))","v":5},{"$f":"IF(AJ4=\"Not scored\",AK4,(SUMPRODUCT((AJ4<=AJ$4:AJ$23)/COUNTIF(AJ$4:AJ$53,AJ$4:AJ$23))))","v":5},{"$f":"INDEX(AI$4:AI$53, MATCH(AH4,AL$4:AL$53,0))","v":"United Kingdom"},{"$f":"IF(AO4=\"AVERAGE\",\"\", IF(COUNTIF(AO$4:AO4, \"AVERAGE\") < 1, (ROUNDUP(INDEX(AM$4:AM$24,MATCH(AO4,AI$4:AI$24,0)),1)), (ROUNDUP(INDEX(AN$4:AN$23,MATCH(AO4,AI$4:AI$24,0)),1))))","v":1},{"$f":"IF(AR4=AR5,CONCATENATE(\"=\",AR4),AR4)","v":1},{"$f":"AP4","v":1},1,"Australia",{"$f":"IFERROR(INDEX('SCORE TABLE'!$H$10:$AA$54, MATCH(AS$2,'SCORE TABLE'!$B$10:$B$54,0), MATCH(AT4,'SCORE TABLE'!$H$9:$AA$9,0)),\"Not scored\")","v":60.433329999999998},1,{"$f":"IF(AU4=\"Not scored\",AV4,(RANK(AU4,AU$4:AU$24,0)+COUNTIF(AU$4:AU4,AU4)-1))","v":15},{"$f":"IF(AU4=\"Not scored\",AV4,(SUMPRODUCT((AU4<=AU$4:AU$24)/COUNTIF(AU$4:AU$53,AU$4:AU$24))))","v":15},{"$f":"IF(AU4=\"Not scored\",AV4,(SUMPRODUCT((AU4<=AU$4:AU$23)/COUNTIF(AU$4:AU$53,AU$4:AU$23))))","v":14},{"$f":"INDEX(AT$4:AT$53, MATCH(AS4,AW$4:AW$53,0))","v":"United Kingdom"},{"$f":"IF(AZ4=\"AVERAGE\",\"\", IF(COUNTIF(AZ$4:AZ4, \"AVERAGE\") < 1, (ROUNDUP(INDEX(AX$4:AX$24,MATCH(AZ4,AT$4:AT$24,0)),1)), (ROUNDUP(INDEX(AY$4:AY$23,MATCH(AZ4,AT$4:AT$24,0)),1))))","v":1},{"$f":"IF(BC4=BC5,CONCATENATE(\"=\",BC4),BC4)","v":1},{"$f":"BA4","v":1},1,"Australia",{"$f":"IFERROR(INDEX('SCORE TABLE'!$H$10:$AA$54, MATCH(BD$2,'SCORE TABLE'!$B$10:$B$54,0), MATCH(BE4,'SCORE TABLE'!$H$9:$AA$9,0)),\"Not scored\")","v":41.666670000000003},1,{"$f":"IF(BF4=\"Not scored\",BG4,(RANK(BF4,BF$4:BF$24,0)+COUNTIF(BF$4:BF4,BF4)-1))","v":13},{"$f":"IF(BF4=\"Not scored\",BG4,(SUMPRODUCT((BF4<=BF$4:BF$24)/COUNTIF(BF$4:BF$53,BF$4:BF$24))))","v":6.0000000000000009},{"$f":"IF(BF4=\"Not scored\",BG4,(SUMPRODUCT((BF4<=BF$4:BF$23)/COUNTIF(BF$4:BF$53,BF$4:BF$23))))","v":5.0000000000000009},{"$f":"INDEX(BE$4:BE$53, MATCH(BD4,BH$4:BH$53,0))","v":"China"},{"$f":"IF(BK4=\"AVERAGE\",\"\", IF(COUNTIF(BK$4:BK4, \"AVERAGE\") < 1, (ROUNDUP(INDEX(BI$4:BI$24,MATCH(BK4,BE$4:BE$24,0)),1)), (ROUNDUP(INDEX(BJ$4:BJ$23,MATCH(BK4,BE$4:BE$24,0)),1))))","v":1},{"$f":"IF(BN4=BN5,CONCATENATE(\"=\",BN4),BN4)","v":"=1"},{"$f":"BL4","v":1}]
[2,"Brazil",{"$f":"IFERROR(INDEX('SCORE TABLE'!$H$10:$AA$54, MATCH(A$2,'SCORE TABLE'!$B$10:$B$54,0), MATCH(B5,'SCORE TABLE'!$H$9:$AA$9,0)),\"Not scored\")","v":72.400000000000006},2,{"$f":"IF(C5=\"Not scored\",D5,(RANK(C5,C$4:C$24,0)+COUNTIF(C$4:C5,C5)-1))","v":3},{"$f":"IF(C5=\"Not scored\",D5,(SUMPRODUCT((C5<=C$4:C$24)/COUNTIF(C$4:C$53,C$4:C$24))))","v":3},{"$f":"IF(C5=\"Not scored\",D5,(SUMPRODUCT((C5<=C$4:C$23)/COUNTIF(C$4:C$53,C$4:C$23))))","v":3},"France",{"$f":"IF(H5=\"AVERAGE\",\"\", IF(COUNTIF(H$4:H5, \"AVERAGE\") < 1, (ROUNDUP(INDEX(F$4:F$24,MATCH(H5,B$4:B$24,0)),1)), (ROUNDUP(INDEX(G$4:G$23,MATCH(H5,B$4:B$24,0)),1))))","v":2},{"$f":"IF(K5=K4,CONCATENATE(\"=\",K5), IF(K5=K6,CONCATENATE(\"=\",K5),K5))","v":2},{"$f":"IF(H5=\"AVERAGE\",\"\",IF(K4=\"\",IF(I5=I3,K3,COUNTIFS(K$3:K3,K3)+K3),IF(I5=I4,K4,COUNTIFS(K$4:K4,K4)+K4)))","v":2},2,"Brazil",{"$f":"IFERROR(INDEX('SCORE TABLE'!$H$10:$AA$54, MATCH(L$2,'SCORE TABLE'!$B$10:$B$54,0), MATCH(M5,'SCORE TABLE'!$H$9:$AA$9,0)),\"Not scored\")","v":72.400000000000006},2,{"$f":"IF(N5=\"Not scored\",O5,(RANK(N5,N$4:N$24,0)+COUNTIF(N$4:N5,N5)-1))","v":3},{"$f":"IF(N5=\"Not scored\",O5,(SUMPRODUCT((N5<=N$4:N$24)/COUNTIF(N$4:N$53,N$4:N$24))))","v":3},{"$f":"IF(N5=\"Not scored\",O5,(SUMPRODUCT((N5<=N$4:N$23)/COUNTIF(N$4:N$53,N$4:N$23))))","v":3},"France",{"$f":"IF(S5=\"AVERAGE\",\"\", IF(COUNTIF(S$4:S5, \"AVERAGE\") < 1, (ROUNDUP(INDEX(Q$4:Q$24,MATCH(S5,M$4:M$24,0)),1)), (ROUNDUP(INDEX(R$4:R$23,MATCH(S5,M$4:M$24,0)),1))))","v":2},{"$f":"IF(V5=V4,CONCATENATE(\"=\",V5), IF(V5=V6,CONCATENATE(\"=\",V5),V5))","v":2},{"$f":"IF(S5=\"AVERAGE\",\"\",IF(V4=\"\",IF(T5=T3,V3,COUNTIFS(V$3:V3,V3)+V3),IF(T5=T4,V4,COUNTIFS(V$4:V4,V4)+V4)))","v":2},2,"Brazil",{"$f":"IFERROR(INDEX('SCORE TABLE'!$H$10:$AA$54, MATCH(W$2,'SCORE TABLE'!$B$10:$B$54,0), MATCH(X5,'SCORE TABLE'!$H$9:$AA$9,0)),\"Not scored\")","v":52.916670000000003},2,{"$f":"IF(Y5=\"Not scored\",Z5,(RANK(Y5,Y$4:Y$24,0)+COUNTIF(Y$4:Y5,Y5)-1))","v":7},{"$f":"IF(Y5=\"Not scored\",Z5,(SUMPRODUCT((Y5<=Y$4:Y$24)/COUNTIF(Y$4:Y$53,Y$4:Y$24))))","v":6},{"$f":"IF(Y5=\"Not scored\",Z5,(SUMPRODUCT((Y5<=Y$4:Y$23)/COUNTIF(Y$4:Y$53,Y$4:Y$23))))","v":6},"France",{"$f":"IF(AD5=\"AVERAGE\",\"\", IF(COUNTIF(AD$4:AD5, \"AVERAGE\") < 1, (ROUNDUP(INDEX(AB$4:AB$24,MATCH(AD5,X$4:X$24,0)),1)), (ROUNDUP(INDEX(AC$4:AC$23,MATCH(AD5,X$4:X$24,0)),1))))","v":2},{"$f":"IF(AG5=AG4,CONCATENATE(\"=\",AG5), IF(AG5=AG6,CONCATENATE(\"=\",AG5),AG5))","v":"=2"},{"$f":"IF(AD5=\"AVERAGE\",\"\",IF(AG4=\"\",IF(AE5=AE3,AG3,COUNTIFS(AG$3:AG3,AG3)+AG3),IF(AE5=AE4,AG4,COUNTIFS(AG$4:AG4,AG4)+AG4)))","v":2},2,"Brazil",{"$f":"IFERROR(INDEX('SCORE TABLE'!$H$10:$AA$54, MATCH(AH$2,'SCORE TABLE'!$B$10:$B$54,0), MATCH(AI5,'SCORE TABLE'!$H$9:$AA$9,0)),\"Not scored\")","v":91.666669999999996},2,{"$f":"IF(AJ5=\"Not scored\",AK5,(RANK(AJ5,AJ$4:AJ$24,0)+COUNTIF(AJ$4:AJ5,AJ5)-1))","v":2},{"$f":"IF(AJ5=\"Not scored\",AK5,(SUMPRODUCT((AJ5<=AJ$4:AJ$24)/COUNTIF(AJ$4:AJ$53,AJ$4:AJ$24))))","v":2},{"$f":"IF(AJ5=\"Not scored\",AK5,(SUMPRODUCT((AJ5<=AJ$4:AJ$23)/COUNTIF(AJ$4:AJ$53,AJ$4:AJ$23))))","v":2},"Brazil",{"$f":"IF(AO5=\"AVERAGE\",\"\", IF(COUNTIF(AO$4:AO5, \"AVERAGE\") < 1, (ROUNDUP(INDEX(AM$4:AM$24,MATCH(AO5,AI$4:AI$24,0)),1)), (ROUNDUP(INDEX(AN$4:AN$23,MATCH(AO5,AI$4:AI$24,0)),1))))","v":2},{"$f":"IF(AR5=AR4,CONCATENATE(\"=\",AR5), IF(AR5=AR6,CONCATENATE(\"=\",AR5),AR5))","v":"=2"},{"$f":"IF(AO5=\"AVERAGE\",\"\",IF(AR4=\"\",IF(AP5=AP3,AR3,COUNTIFS(AR$3:AR3,AR3)+AR3),IF(AP5=AP4,AR4,COUNTIFS(AR$4:AR4,AR4)+AR4)))","v":2},2,"Brazil",{"$f":"IFERROR(INDEX('SCORE TABLE'!$H$10:$AA$54, MATCH(AS$2,'SCORE TABLE'!$B$10:$B$54,0), MATCH(AT5,'SCORE TABLE'!$H$9:$AA$9,0)),\"Not scored\")","v":78.477779999999996},2,{"$f":"IF(AU5=\"Not scored\",AV5,(RANK(AU5,AU$4:AU$24,0)+COUNTIF(AU$4:AU5,AU5)-1))","v":5},{"$f":"IF(AU5=\"Not scored\",AV5,(SUMPRODUCT((AU5<=AU$4:AU$24)/COUNTIF(AU$4:AU$53,AU$4:AU$24))))","v":5},{"$f":"IF(AU5=\"Not scored\",AV5,(SUMPRODUCT((AU5<=AU$4:AU$23)/COUNTIF(AU$4:AU$53,AU$4:AU$23))))","v":5},"Mexico",{"$f":"IF(AZ5=\"AVERAGE\",\"\", IF(COUNTIF(AZ$4:AZ5, \"AVERAGE\") < 1, (ROUNDUP(INDEX(AX$4:AX$24,MATCH(AZ5,AT$4:AT$24,0)),1)), (ROUNDUP(INDEX(AY$4:AY$23,MATCH(AZ5,AT$4:AT$24,0)),1))))","v":2},{"$f":"IF(BC5=BC4,CONCATENATE(\"=\",BC5), IF(BC5=BC6,CONCATENATE(\"=\",BC5),BC5))","v":2},{"$f":"IF(AZ5=\"AVERAGE\",\"\",IF(BC4=\"\",IF(BA5=BA3,BC3,COUNTIFS(BC$3:BC3,BC3)+BC3),IF(BA5=BA4,BC4,COUNTIFS(BC$4:BC4,BC4)+BC4)))","v":2},2,"Brazil",{"$f":"IFERROR(INDEX('SCORE TABLE'!$H$10:$AA$54, MATCH(BD$2,'SCORE TABLE'!$B$10:$B$54,0), MATCH(BE5,'SCORE TABLE'!$H$9:$AA$9,0)),\"Not scored\")","v":66.666669999999996},2,{"$f":"IF(BF5=\"Not scored\",BG5,(RANK(BF5,BF$4:BF$24,0)+COUNTIF(BF$4:BF5,BF5)-1))","v":3},{"$f":"IF(BF5=\"Not scored\",BG5,(SUMPRODUCT((BF5<=BF$4:BF$24)/COUNTIF(BF$4:BF$53,BF$4:BF$24))))","v":2},{"$f":"IF(BF5=\"Not scored\",BG5,(SUMPRODUCT((BF5<=BF$4:BF$23)/COUNTIF(BF$4:BF$53,BF$4:BF$23))))","v":2},"South Korea",{"$f":"IF(BK5=\"AVERAGE\",\"\", IF(COUNTIF(BK$4:BK5, \"AVERAGE\") < 1, (ROUNDUP(INDEX(BI$4:BI$24,MATCH(BK5,BE$4:BE$24,0)),1)), (ROUNDUP(INDEX(BJ$4:BJ$23,MATCH(BK5,BE$4:BE$24,0)),1))))","v":1},{"$f":"IF(BN5=BN4,CONCATENATE(\"=\",BN5), IF(BN5=BN6,CONCATENATE(\"=\",BN5),BN5))","v":"=1"},{"$f":"IF(BK5=\"AVERAGE\",\"\",IF(BN4=\"\",IF(BL5=BL3,BN3,COUNTIFS(BN$3:BN3,BN3)+BN3),IF(BL5=BL4,BN4,COUNTIFS(BN$4:BN4,BN4)+BN4)))","v":1}]
[3,"Canada",{"$f":"IFERROR(INDEX('SCORE TABLE'!$H$10:$AA$54, MATCH(A$2,'SCORE TABLE'!$B$10:$B$54,0), MATCH(B6,'SCORE TABLE'!$H$9:$AA$9,0)),\"Not scored\")","v":47.9},3,{"$f":"IF(C6=\"Not scored\",D6,(RANK(C6,C$4:C$24,0)+COUNTIF(C$4:C6,C6)-1))","v":16},14,13,"Brazil",{"$f":"IF(H6=\"AVERAGE\",\"\", IF(COUNTIF(H$4:H6, \"AVERAGE\") < 1, (ROUNDUP(INDEX(F$4:F$24,MATCH(H6,B$4:B$24,0)),1)), (ROUNDUP(INDEX(G$4:G$23,MATCH(H6,B$4:B$24,0)),1))))","v":3},{"$f":"IF(K6=K5,CONCATENATE(\"=\",K6), IF(K6=K7,CONCATENATE(\"=\",K6),K6))","v":3},{"$f":"IF(H6=\"AVERAGE\",\"\",IF(K5=\"\",IF(I6=I4,K4,COUNTIFS(K$3:K4,K4)+K4),IF(I6=I5,K5,COUNTIFS(K$4:K5,K5)+K5)))","v":3},3,"Canada",{"$f":"IFERROR(INDEX('SCORE TABLE'!$H$10:$AA$54, MATCH(L$2,'SCORE TABLE'!$B$10:$B$54,0), MATCH(M6,'SCORE TABLE'!$H$9:$AA$9,0)),\"Not scored\")","v":47.9},3,{"$f":"IF(N6=\"Not scored\",O6,(RANK(N6,N$4:N$24,0)+COUNTIF(N$4:N6,N6)-1))","v":16},14,13,"Brazil",{"$f":"IF(S6=\"AVERAGE\",\"\", IF(COUNTIF(S$4:S6, \"AVERAGE\") < 1, (ROUNDUP(INDEX(Q$4:Q$24,MATCH(S6,M$4:M$24,0)),1)), (ROUNDUP(INDEX(R$4:R$23,MATCH(S6,M$4:M$24,0)),1))))","v":3},{"$f":"IF(V6=V5,CONCATENATE(\"=\",V6), IF(V6=V7,CONCATENATE(\"=\",V6),V6))","v":3},{"$f":"IF(S6=\"AVERAGE\",\"\",IF(V5=\"\",IF(T6=T4,V4,COUNTIFS(V$3:V4,V4)+V4),IF(T6=T5,V5,COUNTIFS(V$4:V5,V5)+V5)))","v":3},3,"Canada",{"$f":"IFERROR(INDEX('SCORE TABLE'!$H$10:$AA$54, MATCH(W$2,'SCORE TABLE'!$B$10:$B$54,0), MATCH(X6,'SCORE TABLE'!$H$9:$AA$9,0)),\"Not scored\")","v":20},3,{"$f":"IF(Y6=\"Not scored\",Z6,(RANK(Y6,Y$4:Y$24,0)+COUNTIF(Y$4:Y6,Y6)-1))","v":20},17,16,"Spain",{"$f":"IF(AD6=\"AVERAGE\",\"\", IF(COUNTIF(AD$4:AD6, \"AVERAGE\") < 1, (ROUNDUP(INDEX(AB$4:AB$24,MATCH(AD6,X$4:X$24,0)),1)), (ROUNDUP(INDEX(AC$4:AC$23,MATCH(AD6,X$4:X$24,0)),1))))","v":2},{"$f":"IF(AG6=AG5,CONCATENATE(\"=\",AG6), IF(AG6=AG7,CONCATENATE(\"=\",AG6),AG6))","v":"=2"},{"$f":"IF(AD6=\"AVERAGE\",\"\",IF(AG5=\"\",IF(AE6=AE4,AG4,COUNTIFS(AG$3:AG4,AG4)+AG4),IF(AE6=AE5,AG5,COUNTIFS(AG$4:AG5,AG5)+AG5)))","v":2},3,"Canada",{"$f":"IFERROR(INDEX('SCORE TABLE'!$H$10:$AA$54, MATCH(AH$2,'SCORE TABLE'!$B$10:$B$54,0), MATCH(AI6,'SCORE TABLE'!$H$9:$AA$9,0)),\"Not scored\")","v":50},3,{"$f":"IF(AJ6=\"Not scored\",AK6,(RANK(AJ6,AJ$4:AJ$24,0)+COUNTIF(AJ$4:AJ6,AJ6)-1))","v":16},9,7.9999999999999991,"Finland",{"$f":"IF(AO6=\"AVERAGE\",\"\", IF(COUNTIF(AO$4:AO6, \"AVERAGE\") < 1, (ROUNDUP(INDEX(AM$4:AM$24,MATCH(AO6,AI$4:AI$24,0)),1)), (ROUNDUP(INDEX(AN$4:AN$23,MATCH(AO6,AI$4:AI$24,0)),1))))","v":2},{"$f":"IF(AR6=AR5,CONCATENATE(\"=\",AR6), IF(AR6=AR7,CONCATENATE(\"=\",AR6),AR6))","v":"=2"},{"$f":"IF(AO6=\"AVERAGE\",\"\",IF(AR5=\"\",IF(AP6=AP4,AR4,COUNTIFS(AR$3:AR4,AR4)+AR4),IF(AP6=AP5,AR5,COUNTIFS(AR$4:AR5,AR5)+AR5)))","v":2},3,"Canada",{"$f":"IFERROR(INDEX('SCORE TABLE'!$H$10:$AA$54, MATCH(AS$2,'SCORE TABLE'!$B$10:$B$54,0), MATCH(AT6,'SCORE TABLE'!$H$9:$AA$9,0)),\"Not scored\")","v":63.2},3,{"$f":"IF(AU6=\"Not scored\",AV6,(RANK(AU6,AU$4:AU$24,0)+COUNTIF(AU$4:AU6,AU6)-1))","v":13},13,12,"Spain",{"$f":"IF(AZ6=\"AVERAGE\",\"\", IF(COUNTIF(AZ$4:AZ6, \"AVERAGE\") < 1, (ROUNDUP(INDEX(AX$4:AX$24,MATCH(AZ6,AT$4:AT$24,0)),1)), (ROUNDUP(INDEX(AY$4:AY$23,MATCH(AZ6,AT$4:AT$24,0)),1))))","v":3},{"$f":"IF(BC6=BC5,CONCATENATE(\"=\",BC6), IF(BC6=BC7,CONCATENATE(\"=\",BC6),BC6))","v":3},{"$f":"IF(AZ6=\"AVERAGE\",\"\",IF(BC5=\"\",IF(BA6=BA4,BC4,COUNTIFS(BC$3:BC4,BC4)+BC4),IF(BA6=BA5,BC5,COUNTIFS(BC$4:BC5,BC5)+BC5)))","v":3},3,"Canada",{"$f":"IFERROR(INDEX('SCORE TABLE'!$H$10:$AA$54, MATCH(BD$2,'SCORE TABLE'!$B$10:$B$54,0), MATCH(BE6,'SCORE TABLE'!$H$9:$AA$9,0)),\"Not scored\")","v":58.33334},3,{"$f":"IF(BF6=\"Not scored\",BG6,(RANK(BF6,BF$4:BF$24,0)+COUNTIF(BF$4:BF6,BF6)-1))","v":5},3,3,"Brazil",{"$f":"IF(BK6=\"AVERAGE\",\"\", IF(COUNTIF(BK$4:BK6, \"AVERAGE\") < 1, (ROUNDUP(INDEX(BI$4:BI$24,MATCH(BK6,BE$4:BE$24,0)),1)), (ROUNDUP(INDEX(BJ$4:BJ$23,MATCH(BK6,BE$4:BE$24,0)),1))))","v":2},{"$f":"IF(BN6=BN5,CONCATENATE(\"=\",BN6), IF(BN6=BN7,CONCATENATE(\"=\",BN6),BN6))","v":"=3"},{"$f":"IF(BK6=\"AVERAGE\",\"\",IF(BN5=\"\",IF(BL6=BL4,BN4,COUNTIFS(BN$3:BN4,BN4)+BN4),IF(BL6=BL5,BN5,COUNTIFS(BN$4:BN5,BN5)+BN5)))","v":3}]
[4,"China",{"$f":"IFERROR(INDEX('SCORE TABLE'!$H$10:$AA$54, MATCH(A$2,'SCORE TABLE'!$B$10:$B$54,0), MATCH(B7,'SCORE TABLE'!$H$9:$AA$9,0)),\"Not scored\")","v":63.1},4,{"$f":"IF(C7=\"Not scored\",D7,(RANK(C7,C$4:C$24,0)+COUNTIF(C$4:C7,C7)-1))","v":8},8,8,"South Korea",{"$f":"IF(H7=\"AVERAGE\",\"\", IF(COUNTIF(H$4:H7, \"AVERAGE\") < 1, (ROUNDUP(INDEX(F$4:F$24,MATCH(H7,B$4:B$24,0)),1)), (ROUNDUP(INDEX(G$4:G$23,MATCH(H7,B$4:B$24,0)),1))))","v":4},4,{"$f":"IF(H7=\"AVERAGE\",\"\",IF(K6=\"\",IF(I7=I5,K5,COUNTIFS(K$3:K5,K5)+K5),IF(I7=I6,K6,COUNTIFS(K$4:K6,K6)+K6)))","v":4},4,"China",{"$f":"IFERROR(INDEX('SCORE TABLE'!$H$10:$AA$54, MATCH(L$2,'SCORE TABLE'!$B$10:$B$54,0), MATCH(M7,'SCORE TABLE'!$H$9:$AA$9,0)),\"Not scored\")","v":63.1},4,{"$f":"IF(N7=\"Not scored\",O7,(RANK(N7,N$4:N$24,0)+COUNTIF(N$4:N7,N7)-1))","v":8},8,8,"South Korea",{"$f":"IF(S7=\"AVERAGE\",\"\", IF(COUNTIF(S$4:S7, \"AVERAGE\") < 1, (ROUNDUP(INDEX(Q$4:Q$24,MATCH(S7,M$4:M$24,0)),1)), (ROUNDUP(INDEX(R$4:R$23,MATCH(S7,M$4:M$24,0)),1))))","v":4},4,{"$f":"IF(S7=\"AVERAGE\",\"\",IF(V6=\"\",IF(T7=T5,V5,COUNTIFS(V$3:V5,V5)+V5),IF(T7=T6,V6,COUNTIFS(V$4:V6,V6)+V6)))","v":4},4,"China",{"$f":"IFERROR(INDEX('SCORE TABLE'!$H$10:$AA$54, MATCH(W$2,'SCORE TABLE'!$B$10:$B$54,0), MATCH(X7,'SCORE TABLE'!$H$9:$AA$9,0)),\"Not scored\")","v":52.5},4,{"$f":"IF(Y7=\"Not scored\",Z7,(RANK(Y7,Y$4:Y$24,0)+COUNTIF(Y$4:Y7,Y7)-1))","v":8},7,7,"Germany",{"$f":"IF(AD7=\"AVERAGE\",\"\", IF(COUNTIF(AD$4:AD7, \"AVERAGE\") < 1, (ROUNDUP(INDEX(AB$4:AB$24,MATCH(AD7,X$4:X$24,0)),1)), (ROUNDUP(INDEX(AC$4:AC$23,MATCH(AD7,X$4:X$24,0)),1))))","v":3},4,{"$f":"IF(AD7=\"AVERAGE\",\"\",IF(AG6=\"\",IF(AE7=AE5,AG5,COUNTIFS(AG$3:AG5,AG5)+AG5),IF(AE7=AE6,AG6,COUNTIFS(AG$4:AG6,AG6)+AG6)))","v":4},4,"China",{"$f":"IFERROR(INDEX('SCORE TABLE'!$H$10:$AA$54, MATCH(AH$2,'SCORE TABLE'!$B$10:$B$54,0), MATCH(AI7,'SCORE TABLE'!$H$9:$AA$9,0)),\"Not scored\")","v":61.111109999999996},4,{"$f":"IF(AJ7=\"Not scored\",AK7,(RANK(AJ7,AJ$4:AJ$24,0)+COUNTIF(AJ$4:AJ7,AJ7)-1))","v":14},8,7,"United Arab Emirates",{"$f":"IF(AO7=\"AVERAGE\",\"\", IF(COUNTIF(AO$4:AO7, \"AVERAGE\") < 1, (ROUNDUP(INDEX(AM$4:AM$24,MATCH(AO7,AI$4:AI$24,0)),1)), (ROUNDUP(INDEX(AN$4:AN$23,MATCH(AO7,AI$4:AI$24,0)),1))))","v":2},"=2",{"$f":"IF(AO7=\"AVERAGE\",\"\",IF(AR6=\"\",IF(AP7=AP5,AR5,COUNTIFS(AR$3:AR5,AR5)+AR5),IF(AP7=AP6,AR6,COUNTIFS(AR$4:AR6,AR6)+AR6)))","v":2},4,"China",{"$f":"IFERROR(INDEX('SCORE TABLE'!$H$10:$AA$54, MATCH(AS$2,'SCORE TABLE'!$B$10:$B$54,0), MATCH(AT7,'SCORE TABLE'!$H$9:$AA$9,0)),\"Not scored\")","v":63.611109999999996},4,{"$f":"IF(AU7=\"Not scored\",AV7,(RANK(AU7,AU$4:AU$24,0)+COUNTIF(AU$4:AU7,AU7)-1))","v":12},12,11,"France",{"$f":"IF(AZ7=\"AVERAGE\",\"\", IF(COUNTIF(AZ$4:AZ7, \"AVERAGE\") < 1, (ROUNDUP(INDEX(AX$4:AX$24,MATCH(AZ7,AT$4:AT$24,0)),1)), (ROUNDUP(INDEX(AY$4:AY$23,MATCH(AZ7,AT$4:AT$24,0)),1))))","v":4},4,{"$f":"IF(AZ7=\"AVERAGE\",\"\",IF(BC6=\"\",IF(BA7=BA5,BC5,COUNTIFS(BC$3:BC5,BC5)+BC5),IF(BA7=BA6,BC6,COUNTIFS(BC$4:BC6,BC6)+BC6)))","v":4},4,"China",{"$f":"IFERROR(INDEX('SCORE TABLE'!$H$10:$AA$54, MATCH(BD$2,'SCORE TABLE'!$B$10:$B$54,0), MATCH(BE7,'SCORE TABLE'!$H$9:$AA$9,0)),\"Not scored\")","v":75},4,{"$f":"IF(BF7=\"Not scored\",BG7,(RANK(BF7,BF$4:BF$24,0)+COUNTIF(BF$4:BF7,BF7)-1))","v":1},1,1,"France",{"$f":"IF(BK7=\"AVERAGE\",\"\", IF(COUNTIF(BK$4:BK7, \"AVERAGE\") < 1, (ROUNDUP(INDEX(BI$4:BI$24,MATCH(BK7,BE$4:BE$24,0)),1)), (ROUNDUP(INDEX(BJ$4:BJ$23,MATCH(BK7,BE$4:BE$24,0)),1))))","v":2},"=3",{"$f":"IF(BK7=\"AVERAGE\",\"\",IF(BN6=\"\",IF(BL7=BL5,BN5,COUNTIFS(BN$3:BN5,BN5)+BN5),IF(BL7=BL6,BN6,COUNTIFS(BN$4:BN6,BN6)+BN6)))","v":3}]
[5,"Finland",{"$f":"IFERROR(INDEX('SCORE TABLE'!$H$10:$AA$54, MATCH(A$2,'SCORE TABLE'!$B$10:$B$54,0), MATCH(B8,'SCORE TABLE'!$H$9:$AA$9,0)),\"Not scored\")","v":66.8},5,{"$f":"IF(C8=\"Not scored\",D8,(RANK(C8,C$4:C$24,0)+COUNTIF(C$4:C8,C8)-1))","v":5},5,5,"Finland",{"$f":"IF(H8=\"AVERAGE\",\"\", IF(COUNTIF(H$4:H8, \"AVERAGE\") < 1, (ROUNDUP(INDEX(F$4:F$24,MATCH(H8,B$4:B$24,0)),1)), (ROUNDUP(INDEX(G$4:G$23,MATCH(H8,B$4:B$24,0)),1))))","v":5},{"$f":"IF(K8=K7,CONCATENATE(\"=\",K8), IF(K8=K9,CONCATENATE(\"=\",K8),K8))","v":5},{"$f":"IF(H8=\"AVERAGE\",\"\",IF(K7=\"\",IF(I8=I6,K6,COUNTIFS(K$3:K6,K6)+K6),IF(I8=I7,K7,COUNTIFS(K$4:K7,K7)+K7)))","v":5},5,"Finland",{"$f":"IFERROR(INDEX('SCORE TABLE'!$H$10:$AA$54, MATCH(L$2,'SCORE TABLE'!$B$10:$B$54,0), MATCH(M8,'SCORE TABLE'!$H$9:$AA$9,0)),\"Not scored\")","v":66.8},5,{"$f":"IF(N8=\"Not scored\",O8,(RANK(N8,N$4:N$24,0)+COUNTIF(N$4:N8,N8)-1))","v":5},5,5,"Finland",{"$f":"IF(S8=\"AVERAGE\",\"\", IF(COUNTIF(S$4:S8, \"AVERAGE\") < 1, (ROUNDUP(INDEX(Q$4:Q$24,MATCH(S8,M$4:M$24,0)),1)), (ROUNDUP(INDEX(R$4:R$23,MATCH(S8,M$4:M$24,0)),1))))","v":5},{"$f":"IF(V8=V7,CONCATENATE(\"=\",V8), IF(V8=V9,CONCATENATE(\"=\",V8),V8))","v":5},{"$f":"IF(S8=\"AVERAGE\",\"\",IF(V7=\"\",IF(T8=T6,V6,COUNTIFS(V$3:V6,V6)+V6),IF(T8=T7,V7,COUNTIFS(V$4:V7,V7)+V7)))","v":5},5,"Finland",{"$f":"IFERROR(INDEX('SCORE TABLE'!$H$10:$AA$54, MATCH(W$2,'SCORE TABLE'!$B$10:$B$54,0), MATCH(X8,'SCORE TABLE'!$H$9:$AA$9,0)),\"Not scored\")","v":52.5},5,{"$f":"IF(Y8=\"Not scored\",Z8,(RANK(Y8,Y$4:Y$24,0)+COUNTIF(Y$4:Y8,Y8)-1))","v":9},7,7,"Australia",{"$f":"IF(AD8=\"AVERAGE\",\"\", IF(COUNTIF(AD$4:AD8, \"AVERAGE\") < 1, (ROUNDUP(INDEX(AB$4:AB$24,MATCH(AD8,X$4:X$24,0)),1)), (ROUNDUP(INDEX(AC$4:AC$23,MATCH(AD8,X$4:X$24,0)),1))))","v":4},{"$f":"IF(AG8=AG7,CONCATENATE(\"=\",AG8), IF(AG8=AG9,CONCATENATE(\"=\",AG8),AG8))","v":5},{"$f":"IF(AD8=\"AVERAGE\",\"\",IF(AG7=\"\",IF(AE8=AE6,AG6,COUNTIFS(AG$3:AG6,AG6)+AG6),IF(AE8=AE7,AG7,COUNTIFS(AG$4:AG7,AG7)+AG7)))","v":5},5,"Finland",{"$f":"IFERROR(INDEX('SCORE TABLE'!$H$10:$AA$54, MATCH(AH$2,'SCORE TABLE'!$B$10:$B$54,0), MATCH(AI8,'SCORE TABLE'!$H$9:$AA$9,0)),\"Not scored\")","v":91.666669999999996},5,{"$f":"IF(AJ8=\"Not scored\",AK8,(RANK(AJ8,AJ$4:AJ$24,0)+COUNTIF(AJ$4:AJ8,AJ8)-1))","v":3},2,2,"France",{"$f":"IF(AO8=\"AVERAGE\",\"\", IF(COUNTIF(AO$4:AO8, \"AVERAGE\") < 1, (ROUNDUP(INDEX(AM$4:AM$24,MATCH(AO8,AI$4:AI$24,0)),1)), (ROUNDUP(INDEX(AN$4:AN$23,MATCH(AO8,AI$4:AI$24,0)),1))))","v":3},{"$f":"IF(AR8=AR7,CONCATENATE(\"=\",AR8), IF(AR8=AR9,CONCATENATE(\"=\",AR8),AR8))","v":"=5"},{"$f":"IF(AO8=\"AVERAGE\",\"\",IF(AR7=\"\",IF(AP8=AP6,AR6,COUNTIFS(AR$3:AR6,AR6)+AR6),IF(AP8=AP7,AR7,COUNTIFS(AR$4:AR7,AR7)+AR7)))","v":5},5,"Finland",{"$f":"IFERROR(INDEX('SCORE TABLE'!$H$10:$AA$54, MATCH(AS$2,'SCORE TABLE'!$B$10:$B$54,0), MATCH(AT8,'SCORE TABLE'!$H$9:$AA$9,0)),\"Not scored\")","v":72.955560000000006},5,{"$f":"IF(AU8=\"Not scored\",AV8,(RANK(AU8,AU$4:AU$24,0)+COUNTIF(AU$4:AU8,AU8)-1))","v":8},8,8,"Brazil",{"$f":"IF(AZ8=\"AVERAGE\",\"\", IF(COUNTIF(AZ$4:AZ8, \"AVERAGE\") < 1, (ROUNDUP(INDEX(AX$4:AX$24,MATCH(AZ8,AT$4:AT$24,0)),1)), (ROUNDUP(INDEX(AY$4:AY$23,MATCH(AZ8,AT$4:AT$24,0)),1))))","v":5},{"$f":"IF(BC8=BC7,CONCATENATE(\"=\",BC8), IF(BC8=BC9,CONCATENATE(\"=\",BC8),BC8))","v":5},{"$f":"IF(AZ8=\"AVERAGE\",\"\",IF(BC7=\"\",IF(BA8=BA6,BC6,COUNTIFS(BC$3:BC6,BC6)+BC6),IF(BA8=BA7,BC7,COUNTIFS(BC$4:BC7,BC7)+BC7)))","v":5},5,"Finland",{"$f":"IFERROR(INDEX('SCORE TABLE'!$H$10:$AA$54, MATCH(BD$2,'SCORE TABLE'!$B$10:$B$54,0), MATCH(BE8,'SCORE TABLE'!$H$9:$AA$9,0)),\"Not scored\")","v":50},5,{"$f":"IF(BF8=\"Not scored\",BG8,(RANK(BF8,BF$4:BF$24,0)+COUNTIF(BF$4:BF8,BF8)-1))","v":9},4,4,"Canada",{"$f":"IF(BK8=\"AVERAGE\",\"\", IF(COUNTIF(BK$4:BK8, \"AVERAGE\") < 1, (ROUNDUP(INDEX(BI$4:BI$24,MATCH(BK8,BE$4:BE$24,0)),1)), (ROUNDUP(INDEX(BJ$4:BJ$23,MATCH(BK8,BE$4:BE$24,0)),1))))","v":3},{"$f":"IF(BN8=BN7,CONCATENATE(\"=\",BN8), IF(BN8=BN9,CONCATENATE(\"=\",BN8),BN8))","v":"=5"},{"$f":"IF(BK8=\"AVERAGE\",\"\",IF(BN7=\"\",IF(BL8=BL6,BN6,COUNTIFS(BN$3:BN6,BN6)+BN6),IF(BL8=BL7,BN7,COUNTIFS(BN$4:BN7,BN7)+BN7)))","v":5}]
[6,"France",{"$f":"IFERROR(INDEX('SCORE TABLE'!$H$10:$AA$54, MATCH(A$2,'SCORE TABLE'!$B$10:$B$54,0), MATCH(B9,'SCORE TABLE'!$H$9:$AA$9,0)),\"Not scored\")","v":74.3},6,{"$f":"IF(C9=\"Not scored\",D9,(RANK(C9,C$4:C$24,0)+COUNTIF(C$4:C9,C9)-1))","v":2},2,2,"Germany",{"$f":"IF(H9=\"AVERAGE\",\"\", IF(COUNTIF(H$4:H9, \"AVERAGE\") < 1, (ROUNDUP(INDEX(F$4:F$24,MATCH(H9,B$4:B$24,0)),1)), (ROUNDUP(INDEX(G$4:G$23,MATCH(H9,B$4:B$24,0)),1))))","v":6},6,{"$f":"IF(H9=\"AVERAGE\",\"\",IF(K8=\"\",IF(I9=I7,K7,COUNTIFS(K$3:K7,K7)+K7),IF(I9=I8,K8,COUNTIFS(K$4:K8,K8)+K8)))","v":6},6,"France",{"$f":"IFERROR(INDEX('SCORE TABLE'!$H$10:$AA$54, MATCH(L$2,'SCORE TABLE'!$B$10:$B$54,0), MATCH(M9,'SCORE TABLE'!$H$9:$AA$9,0)),\"Not scored\")","v":74.3},6,{"$f":"IF(N9=\"Not scored\",O9,(RANK(N9,N$4:N$24,0)+COUNTIF(N$4:N9,N9)-1))","v":2},2,2,"Germany",{"$f":"IF(S9=\"AVERAGE\",\"\", IF(COUNTIF(S$4:S9, \"AVERAGE\") < 1, (ROUNDUP(INDEX(Q$4:Q$24,MATCH(S9,M$4:M$24,0)),1)), (ROUNDUP(INDEX(R$4:R$23,MATCH(S9,M$4:M$24,0)),1))))","v":6},{"$f":"IF(V9=V8,CONCATENATE(\"=\",V9), IF(V9=V10,CONCATENATE(\"=\",V9),V9))","v":6},{"$f":"IF(S9=\"AVERAGE\",\"\",IF(V8=\"\",IF(T9=T7,V7,COUNTIFS(V$3:V7,V7)+V7),IF(T9=T8,V8,COUNTIFS(V$4:V8,V8)+V8)))","v":6},6,"France",{"$f":"IFERROR(INDEX('SCORE TABLE'!$H$10:$AA$54, MATCH(W$2,'SCORE TABLE'!$B$10:$B$54,0), MATCH(X9,'SCORE TABLE'!$H$9:$AA$9,0)),\"Not scored\")","v":62.5},6,{"$f":"IF(Y9=\"Not scored\",Z9,(RANK(Y9,Y$4:Y$24,0)+COUNTIF(Y$4:Y9,Y9)-1))","v":2},2,2,"South Korea",{"$f":"IF(AD9=\"AVERAGE\",\"\", IF(COUNTIF(AD$4:AD9, \"AVERAGE\") < 1, (ROUNDUP(INDEX(AB$4:AB$24,MATCH(AD9,X$4:X$24,0)),1)), (ROUNDUP(INDEX(AC$4:AC$23,MATCH(AD9,X$4:X$24,0)),1))))","v":5},{"$f":"IF(AG9=AG8,CONCATENATE(\"=\",AG9), IF(AG9=AG10,CONCATENATE(\"=\",AG9),AG9))","v":6},{"$f":"IF(AD9=\"AVERAGE\",\"\",IF(AG8=\"\",IF(AE9=AE7,AG7,COUNTIFS(AG$3:AG7,AG7)+AG7),IF(AE9=AE8,AG8,COUNTIFS(AG$4:AG8,AG8)+AG8)))","v":6},6,"France",{"$f":"IFERROR(INDEX('SCORE TABLE'!$H$10:$AA$54, MATCH(AH$2,'SCORE TABLE'!$B$10:$B$54,0), MATCH(AI9,'SCORE TABLE'!$H$9:$AA$9,0)),\"Not scored\")","v":86.111109999999996},6,{"$f":"IF(AJ9=\"Not scored\",AK9,(RANK(AJ9,AJ$4:AJ$24,0)+COUNTIF(AJ$4:AJ9,AJ9)-1))","v":5},3,3,"Serbia",{"$f":"IF(AO9=\"AVERAGE\",\"\", IF(COUNTIF(AO$4:AO9, \"AVERAGE\") < 1, (ROUNDUP(INDEX(AM$4:AM$24,MATCH(AO9,AI$4:AI$24,0)),1)), (ROUNDUP(INDEX(AN$4:AN$23,MATCH(AO9,AI$4:AI$24,0)),1))))","v":3},{"$f":"IF(AR9=AR8,CONCATENATE(\"=\",AR9), IF(AR9=AR10,CONCATENATE(\"=\",AR9),AR9))","v":"=5"},{"$f":"IF(AO9=\"AVERAGE\",\"\",IF(AR8=\"\",IF(AP9=AP7,AR7,COUNTIFS(AR$3:AR7,AR7)+AR7),IF(AP9=AP8,AR8,COUNTIFS(AR$4:AR8,AR8)+AR8)))","v":5},6,"France",{"$f":"IFERROR(INDEX('SCORE TABLE'!$H$10:$AA$54, MATCH(AS$2,'SCORE TABLE'!$B$10:$B$54,0), MATCH(AT9,'SCORE TABLE'!$H$9:$AA$9,0)),\"Not scored\")","v":82.111109999999996},6,{"$f":"IF(AU9=\"Not scored\",AV9,(RANK(AU9,AU$4:AU$24,0)+COUNTIF(AU$4:AU9,AU9)-1))","v":4},4,4,"South Korea",{"$f":"IF(AZ9=\"AVERAGE\",\"\", IF(COUNTIF(AZ$4:AZ9, \"AVERAGE\") < 1, (ROUNDUP(INDEX(AX$4:AX$24,MATCH(AZ9,AT$4:AT$24,0)),1)), (ROUNDUP(INDEX(AY$4:AY$23,MATCH(AZ9,AT$4:AT$24,0)),1))))","v":6},{"$f":"IF(BC9=BC8,CONCATENATE(\"=\",BC9), IF(BC9=BC10,CONCATENATE(\"=\",BC9),BC9))","v":6},{"$f":"IF(AZ9=\"AVERAGE\",\"\",IF(BC8=\"\",IF(BA9=BA7,BC7,COUNTIFS(BC$3:BC7,BC7)+BC7),IF(BA9=BA8,BC8,COUNTIFS(BC$4:BC8,BC8)+BC8)))","v":6},6,"France",{"$f":"IFERROR(INDEX('SCORE TABLE'!$H$10:$AA$54, MATCH(BD$2,'SCORE TABLE'!$B$10:$B$54,0), MATCH(BE9,'SCORE TABLE'!$H$9:$AA$9,0)),\"Not scored\")","v":66.666669999999996},6,{"$f":"IF(BF9=\"Not scored\",BG9,(RANK(BF9,BF$4:BF$24,0)+COUNTIF(BF$4:BF9,BF9)-1))","v":4},2,2,"Germany",{"$f":"IF(BK9=\"AVERAGE\",\"\", IF(COUNTIF(BK$4:BK9, \"AVERAGE\") < 1, (ROUNDUP(INDEX(BI$4:BI$24,MATCH(BK9,BE$4:BE$24,0)),1)), (ROUNDUP(INDEX(BJ$4:BJ$23,MATCH(BK9,BE$4:BE$24,0)),1))))","v":3},{"$f":"IF(BN9=BN8,CONCATENATE(\"=\",BN9), IF(BN9=BN10,CONCATENATE(\"=\",BN9),BN9))","v":"=5"},{"$f":"IF(BK9=\"AVERAGE\",\"\",IF(BN8=\"\",IF(BL9=BL7,BN7,COUNTIFS(BN$3:BN7,BN7)+BN7),IF(BL9=BL8,BN8,COUNTIFS(BN$4:BN8,BN8)+BN8)))","v":5}]
[7,"Germany",{"$f":"IFERROR(INDEX('SCORE TABLE'!$H$10:$AA$54, MATCH(A$2,'SCORE TABLE'!$B$10:$B$54,0), MATCH(B10,'SCORE TABLE'!$H$9:$AA$9,0)),\"Not scored\")","v":64.900000000000006},7,{"$f":"IF(C10=\"Not scored\",D10,(RANK(C10,C$4:C$24,0)+COUNTIF(C$4:C10,C10)-1))","v":6},6,6,"United Kingdom",{"$f":"IF(H10=\"AVERAGE\",\"\", IF(COUNTIF(H$4:H10, \"AVERAGE\") < 1, (ROUNDUP(INDEX(F$4:F$24,MATCH(H10,B$4:B$24,0)),1)), (ROUNDUP(INDEX(G$4:G$23,MATCH(H10,B$4:B$24,0)),1))))","v":7},7,{"$f":"IF(H10=\"AVERAGE\",\"\",IF(K9=\"\",IF(I10=I8,K8,COUNTIFS(K$3:K8,K8)+K8),IF(I10=I9,K9,COUNTIFS(K$4:K9,K9)+K9)))","v":7},7,"Germany",{"$f":"IFERROR(INDEX('SCORE TABLE'!$H$10:$AA$54, MATCH(L$2,'SCORE TABLE'!$B$10:$B$54,0), MATCH(M10,'SCORE TABLE'!$H$9:$AA$9,0)),\"Not scored\")","v":64.900000000000006},7,{"$f":"IF(N10=\"Not scored\",O10,(RANK(N10,N$4:N$24,0)+COUNTIF(N$4:N10,N10)-1))","v":6},6,6,"United Kingdom",{"$f":"IF(S10=\"AVERAGE\",\"\", IF(COUNTIF(S$4:S10, \"AVERAGE\") < 1, (ROUNDUP(INDEX(Q$4:Q$24,MATCH(S10,M$4:M$24,0)),1)), (ROUNDUP(INDEX(R$4:R$23,MATCH(S10,M$4:M$24,0)),1))))","v":7},7,{"$f":"IF(S10=\"AVERAGE\",\"\",IF(V9=\"\",IF(T10=T8,V8,COUNTIFS(V$3:V8,V8)+V8),IF(T10=T9,V9,COUNTIFS(V$4:V9,V9)+V9)))","v":7},7,"Germany",{"$f":"IFERROR(INDEX('SCORE TABLE'!$H$10:$AA$54, MATCH(W$2,'SCORE TABLE'!$B$10:$B$54,0), MATCH(X10,'SCORE TABLE'!$H$9:$AA$9,0)),\"Not scored\")","v":60.833329999999997},7,{"$f":"IF(Y10=\"Not scored\",Z10,(RANK(Y10,Y$4:Y$24,0)+COUNTIF(Y$4:Y10,Y10)-1))","v":4},3,3,"Brazil",{"$f":"IF(AD10=\"AVERAGE\",\"\", IF(COUNTIF(AD$4:AD10, \"AVERAGE\") < 1, (ROUNDUP(INDEX(AB$4:AB$24,MATCH(AD10,X$4:X$24,0)),1)), (ROUNDUP(INDEX(AC$4:AC$23,MATCH(AD10,X$4:X$24,0)),1))))","v":6},7,{"$f":"IF(AD10=\"AVERAGE\",\"\",IF(AG9=\"\",IF(AE10=AE8,AG8,COUNTIFS(AG$3:AG8,AG8)+AG8),IF(AE10=AE9,AG9,COUNTIFS(AG$4:AG9,AG9)+AG9)))","v":7},7,"Germany",{"$f":"IFERROR(INDEX('SCORE TABLE'!$H$10:$AA$54, MATCH(AH$2,'SCORE TABLE'!$B$10:$B$54,0), MATCH(AI10,'SCORE TABLE'!$H$9:$AA$9,0)),\"Not scored\")","v":77.777780000000007},7,{"$f":"IF(AJ10=\"Not scored\",AK10,(RANK(AJ10,AJ$4:AJ$24,0)+COUNTIF(AJ$4:AJ10,AJ10)-1))","v":7},4,4,"Germany",{"$f":"IF(AO10=\"AVERAGE\",\"\", IF(COUNTIF(AO$4:AO10, \"AVERAGE\") < 1, (ROUNDUP(INDEX(AM$4:AM$24,MATCH(AO10,AI$4:AI$24,0)),1)), (ROUNDUP(INDEX(AN$4:AN$23,MATCH(AO10,AI$4:AI$24,0)),1))))","v":4},"=7",{"$f":"IF(AO10=\"AVERAGE\",\"\",IF(AR9=\"\",IF(AP10=AP8,AR8,COUNTIFS(AR$3:AR8,AR8)+AR8),IF(AP10=AP9,AR9,COUNTIFS(AR$4:AR9,AR9)+AR9)))","v":7},7,"Germany",{"$f":"IFERROR(INDEX('SCORE TABLE'!$H$10:$AA$54, MATCH(AS$2,'SCORE TABLE'!$B$10:$B$54,0), MATCH(AT10,'SCORE TABLE'!$H$9:$AA$9,0)),\"Not scored\")","v":62.644440000000003},7,{"$f":"IF(AU10=\"Not scored\",AV10,(RANK(AU10,AU$4:AU$24,0)+COUNTIF(AU$4:AU10,AU10)-1))","v":14},14,13,"South Africa",{"$f":"IF(AZ10=\"AVERAGE\",\"\", IF(COUNTIF(AZ$4:AZ10, \"AVERAGE\") < 1, (ROUNDUP(INDEX(AX$4:AX$24,MATCH(AZ10,AT$4:AT$24,0)),1)), (ROUNDUP(INDEX(AY$4:AY$23,MATCH(AZ10,AT$4:AT$24,0)),1))))","v":7},7,{"$f":"IF(AZ10=\"AVERAGE\",\"\",IF(BC9=\"\",IF(BA10=BA8,BC8,COUNTIFS(BC$3:BC8,BC8)+BC8),IF(BA10=BA9,BC9,COUNTIFS(BC$4:BC9,BC9)+BC9)))","v":7},7,"Germany",{"$f":"IFERROR(INDEX('SCORE TABLE'!$H$10:$AA$54, MATCH(BD$2,'SCORE TABLE'!$B$10:$B$54,0), MATCH(BE10,'SCORE TABLE'!$H$9:$AA$9,0)),\"Not scored\")","v":58.33334},7,{"$f":"IF(BF10=\"Not scored\",BG10,(RANK(BF10,BF$4:BF$24,0)+COUNTIF(BF$4:BF10,BF10)-1))","v":6},3,3,"Italy",{"$f":"IF(BK10=\"AVERAGE\",\"\", IF(COUNTIF(BK$4:BK10, \"AVERAGE\") < 1, (ROUNDUP(INDEX(BI$4:BI$24,MATCH(BK10,BE$4:BE$24,0)),1)), (ROUNDUP(INDEX(BJ$4:BJ$23,MATCH(BK10,BE$4:BE$24,0)),1))))","v":3},"=5",{"$f":"IF(BK10=\"AVERAGE\",\"\",IF(BN9=\"\",IF(BL10=BL8,BN8,COUNTIFS(BN$3:BN8,BN8)+BN8),IF(BL10=BL9,BN9,COUNTIFS(BN$4:BN9,BN9)+BN9)))","v":5}]
[8,"India",{"$f":"IFERROR(INDEX('SCORE TABLE'!$H$10:$AA$54, MATCH(A$2,'SCORE TABLE'!$B$10:$B$54,0), MATCH(B11,'SCORE TABLE'!$H$9:$AA$9,0)),\"Not scored\")","v":36.1},8,{"$f":"IF(C11=\"Not scored\",D11,(RANK(C11,C$4:C$24,0)+COUNTIF(C$4:C11,C11)-1))","v":20},18,17,"China",{"$f":"IF(H11=\"AVERAGE\",\"\", IF(COUNTIF(H$4:H11, \"AVERAGE\") < 1, (ROUNDUP(INDEX(F$4:F$24,MATCH(H11,B$4:B$24,0)),1)), (ROUNDUP(INDEX(G$4:G$23,MATCH(H11,B$4:B$24,0)),1))))","v":8},"=8",{"$f":"IF(H11=\"AVERAGE\",\"\",IF(K10=\"\",IF(I11=I9,K9,COUNTIFS(K$3:K9,K9)+K9),IF(I11=I10,K10,COUNTIFS(K$4:K10,K10)+K10)))","v":8},8,"India",{"$f":"IFERROR(INDEX('SCORE TABLE'!$H$10:$AA$54, MATCH(L$2,'SCORE TABLE'!$B$10:$B$54,0), MATCH(M11,'SCORE TABLE'!$H$9:$AA$9,0)),\"Not scored\")","v":36.1},8,{"$f":"IF(N11=\"Not scored\",O11,(RANK(N11,N$4:N$24,0)+COUNTIF(N$4:N11,N11)-1))","v":20},18,17,"China",{"$f":"IF(S11=\"AVERAGE\",\"\", IF(COUNTIF(S$4:S11, \"AVERAGE\") < 1, (ROUNDUP(INDEX(Q$4:Q$24,MATCH(S11,M$4:M$24,0)),1)), (ROUNDUP(INDEX(R$4:R$23,MATCH(S11,M$4:M$24,0)),1))))","v":8},"=8",{"$f":"IF(S11=\"AVERAGE\",\"\",IF(V10=\"\",IF(T11=T9,V9,COUNTIFS(V$3:V9,V9)+V9),IF(T11=T10,V10,COUNTIFS(V$4:V10,V10)+V10)))","v":8},8,"India",{"$f":"IFERROR(INDEX('SCORE TABLE'!$H$10:$AA$54, MATCH(W$2,'SCORE TABLE'!$B$10:$B$54,0), MATCH(X11,'SCORE TABLE'!$H$9:$AA$9,0)),\"Not scored\")","v":26.25},8,{"$f":"IF(Y11=\"Not scored\",Z11,(RANK(Y11,Y$4:Y$24,0)+COUNTIF(Y$4:Y11,Y11)-1))","v":17},14,13,"China",{"$f":"IF(AD11=\"AVERAGE\",\"\", IF(COUNTIF(AD$4:AD11, \"AVERAGE\") < 1, (ROUNDUP(INDEX(AB$4:AB$24,MATCH(AD11,X$4:X$24,0)),1)), (ROUNDUP(INDEX(AC$4:AC$23,MATCH(AD11,X$4:X$24,0)),1))))","v":7},"=8",{"$f":"IF(AD11=\"AVERAGE\",\"\",IF(AG10=\"\",IF(AE11=AE9,AG9,COUNTIFS(AG$3:AG9,AG9)+AG9),IF(AE11=AE10,AG10,COUNTIFS(AG$4:AG10,AG10)+AG10)))","v":8},8,"India",{"$f":"IFERROR(INDEX('SCORE TABLE'!$H$10:$AA$54, MATCH(AH$2,'SCORE TABLE'!$B$10:$B$54,0), MATCH(AI11,'SCORE TABLE'!$H$9:$AA$9,0)),\"Not scored\")","v":25},8,{"$f":"IF(AJ11=\"Not scored\",AK11,(RANK(AJ11,AJ$4:AJ$24,0)+COUNTIF(AJ$4:AJ11,AJ11)-1))","v":19},12,11,"Japan",{"$f":"IF(AO11=\"AVERAGE\",\"\", IF(COUNTIF(AO$4:AO11, \"AVERAGE\") < 1, (ROUNDUP(INDEX(AM$4:AM$24,MATCH(AO11,AI$4:AI$24,0)),1)), (ROUNDUP(INDEX(AN$4:AN$23,MATCH(AO11,AI$4:AI$24,0)),1))))","v":4},"=7",{"$f":"IF(AO11=\"AVERAGE\",\"\",IF(AR10=\"\",IF(AP11=AP9,AR9,COUNTIFS(AR$3:AR9,AR9)+AR9),IF(AP11=AP10,AR10,COUNTIFS(AR$4:AR10,AR10)+AR10)))","v":7},8,"India",{"$f":"IFERROR(INDEX('SCORE TABLE'!$H$10:$AA$54, MATCH(AS$2,'SCORE TABLE'!$B$10:$B$54,0), MATCH(AT11,'SCORE TABLE'!$H$9:$AA$9,0)),\"Not scored\")","v":51.6},8,{"$f":"IF(AU11=\"Not scored\",AV11,(RANK(AU11,AU$4:AU$24,0)+COUNTIF(AU$4:AU11,AU11)-1))","v":18},18,17,"Finland",{"$f":"IF(AZ11=\"AVERAGE\",\"\", IF(COUNTIF(AZ$4:AZ11, \"AVERAGE\") < 1, (ROUNDUP(INDEX(AX$4:AX$24,MATCH(AZ11,AT$4:AT$24,0)),1)), (ROUNDUP(INDEX(AY$4:AY$23,MATCH(AZ11,AT$4:AT$24,0)),1))))","v":8},8,{"$f":"IF(AZ11=\"AVERAGE\",\"\",IF(BC10=\"\",IF(BA11=BA9,BC9,COUNTIFS(BC$3:BC9,BC9)+BC9),IF(BA11=BA10,BC10,COUNTIFS(BC$4:BC10,BC10)+BC10)))","v":8},8,"India",{"$f":"IFERROR(INDEX('SCORE TABLE'!$H$10:$AA$54, MATCH(BD$2,'SCORE TABLE'!$B$10:$B$54,0), MATCH(BE11,'SCORE TABLE'!$H$9:$AA$9,0)),\"Not scored\")","v":41.666670000000003},8,{"$f":"IF(BF11=\"Not scored\",BG11,(RANK(BF11,BF$4:BF$24,0)+COUNTIF(BF$4:BF11,BF11)-1))","v":14},6.0000000000000009,5.0000000000000009,"Serbia",{"$f":"IF(BK11=\"AVERAGE\",\"\", IF(COUNTIF(BK$4:BK11, \"AVERAGE\") < 1, (ROUNDUP(INDEX(BI$4:BI$24,MATCH(BK11,BE$4:BE$24,0)),1)), (ROUNDUP(INDEX(BJ$4:BJ$23,MATCH(BK11,BE$4:BE$24,0)),1))))","v":3},"=5",{"$f":"IF(BK11=\"AVERAGE\",\"\",IF(BN10=\"\",IF(BL11=BL9,BN9,COUNTIFS(BN$3:BN9,BN9)+BN9),IF(BL11=BL10,BN10,COUNTIFS(BN$4:BN10,BN10)+BN10)))","v":5}]
[9,"Italy",{"$f":"IFERROR(INDEX('SCORE TABLE'!$H$10:$AA$54, MATCH(A$2,'SCORE TABLE'!$B$10:$B$54,0), MATCH(B12,'SCORE TABLE'!$H$9:$AA$9,0)),\"Not scored\")","v":63.1},9,{"$f":"IF(C12=\"Not scored\",D12,(RANK(C12,C$4:C$24,0)+COUNTIF(C$4:C12,C12)-1))","v":9},8,8,"Italy",{"$f":"IF(H12=\"AVERAGE\",\"\", IF(COUNTIF(H$4:H12, \"AVERAGE\") < 1, (ROUNDUP(INDEX(F$4:F$24,MATCH(H12,B$4:B$24,0)),1)), (ROUNDUP(INDEX(G$4:G$23,MATCH(H12,B$4:B$24,0)),1))))","v":8},"=8",{"$f":"IF(H12=\"AVERAGE\",\"\",IF(K11=\"\",IF(I12=I10,K10,COUNTIFS(K$3:K10,K10)+K10),IF(I12=I11,K11,COUNTIFS(K$4:K11,K11)+K11)))","v":8},9,"Italy",{"$f":"IFERROR(INDEX('SCORE TABLE'!$H$10:$AA$54, MATCH(L$2,'SCORE TABLE'!$B$10:$B$54,0), MATCH(M12,'SCORE TABLE'!$H$9:$AA$9,0)),\"Not scored\")","v":63.1},9,{"$f":"IF(N12=\"Not scored\",O12,(RANK(N12,N$4:N$24,0)+COUNTIF(N$4:N12,N12)-1))","v":9},8,8,"Italy",{"$f":"IF(S12=\"AVERAGE\",\"\", IF(COUNTIF(S$4:S12, \"AVERAGE\") < 1, (ROUNDUP(INDEX(Q$4:Q$24,MATCH(S12,M$4:M$24,0)),1)), (ROUNDUP(INDEX(R$4:R$23,MATCH(S12,M$4:M$24,0)),1))))","v":8},"=8",{"$f":"IF(S12=\"AVERAGE\",\"\",IF(V11=\"\",IF(T12=T10,V10,COUNTIFS(V$3:V10,V10)+V10),IF(T12=T11,V11,COUNTIFS(V$4:V11,V11)+V11)))","v":8},9,"Italy",{"$f":"IFERROR(INDEX('SCORE TABLE'!$H$10:$AA$54, MATCH(W$2,'SCORE TABLE'!$B$10:$B$54,0), MATCH(X12,'SCORE TABLE'!$H$9:$AA$9,0)),\"Not scored\")","v":52.083329999999997},9,{"$f":"IF(Y12=\"Not scored\",Z12,(RANK(Y12,Y$4:Y$24,0)+COUNTIF(Y$4:Y12,Y12)-1))","v":10},8,8,"Finland",{"$f":"IF(AD12=\"AVERAGE\",\"\", IF(COUNTIF(AD$4:AD12, \"AVERAGE\") < 1, (ROUNDUP(INDEX(AB$4:AB$24,MATCH(AD12,X$4:X$24,0)),1)), (ROUNDUP(INDEX(AC$4:AC$23,MATCH(AD12,X$4:X$24,0)),1))))","v":7},"=8",{"$f":"IF(AD12=\"AVERAGE\",\"\",IF(AG11=\"\",IF(AE12=AE10,AG10,COUNTIFS(AG$3:AG10,AG10)+AG10),IF(AE12=AE11,AG11,COUNTIFS(AG$4:AG11,AG11)+AG11)))","v":8},9,"Italy",{"$f":"IFERROR(INDEX('SCORE TABLE'!$H$10:$AA$54, MATCH(AH$2,'SCORE TABLE'!$B$10:$B$54,0), MATCH(AI12,'SCORE TABLE'!$H$9:$AA$9,0)),\"Not scored\")","v":69.44444},9,{"$f":"IF(AJ12=\"Not scored\",AK12,(RANK(AJ12,AJ$4:AJ$24,0)+COUNTIF(AJ$4:AJ12,AJ12)-1))","v":11},6,6,"South Korea",{"$f":"IF(AO12=\"AVERAGE\",\"\", IF(COUNTIF(AO$4:AO12, \"AVERAGE\") < 1, (ROUNDUP(INDEX(AM$4:AM$24,MATCH(AO12,AI$4:AI$24,0)),1)), (ROUNDUP(INDEX(AN$4:AN$23,MATCH(AO12,AI$4:AI$24,0)),1))))","v":4},"=7",{"$f":"IF(AO12=\"AVERAGE\",\"\",IF(AR11=\"\",IF(AP12=AP10,AR10,COUNTIFS(AR$3:AR10,AR10)+AR10),IF(AP12=AP11,AR11,COUNTIFS(AR$4:AR11,AR11)+AR11)))","v":7},9,"Italy",{"$f":"IFERROR(INDEX('SCORE TABLE'!$H$10:$AA$54, MATCH(AS$2,'SCORE TABLE'!$B$10:$B$54,0), MATCH(AT12,'SCORE TABLE'!$H$9:$AA$9,0)),\"Not scored\")","v":72.344440000000006},9,{"$f":"IF(AU12=\"Not scored\",AV12,(RANK(AU12,AU$4:AU$24,0)+COUNTIF(AU$4:AU12,AU12)-1))","v":9},9,9,"Italy",{"$f":"IF(AZ12=\"AVERAGE\",\"\", IF(COUNTIF(AZ$4:AZ12, \"AVERAGE\") < 1, (ROUNDUP(INDEX(AX$4:AX$24,MATCH(AZ12,AT$4:AT$24,0)),1)), (ROUNDUP(INDEX(AY$4:AY$23,MATCH(AZ12,AT$4:AT$24,0)),1))))","v":9},9,{"$f":"IF(AZ12=\"AVERAGE\",\"\",IF(BC11=\"\",IF(BA12=BA10,BC10,COUNTIFS(BC$3:BC10,BC10)+BC10),IF(BA12=BA11,BC11,COUNTIFS(BC$4:BC11,BC11)+BC11)))","v":9},9,"Italy",{"$f":"IFERROR(INDEX('SCORE TABLE'!$H$10:$AA$54, MATCH(BD$2,'SCORE TABLE'!$B$10:$B$54,0), MATCH(BE12,'SCORE TABLE'!$H$9:$AA$9,0)),\"Not scored\")","v":58.33334},9,{"$f":"IF(BF12=\"Not scored\",BG12,(RANK(BF12,BF$4:BF$24,0)+COUNTIF(BF$4:BF12,BF12)-1))","v":7},3,3,"Finland",{"$f":"IF(BK12=\"AVERAGE\",\"\", IF(COUNTIF(BK$4:BK12, \"AVERAGE\") < 1, (ROUNDUP(INDEX(BI$4:BI$24,MATCH(BK12,BE$4:BE$24,0)),1)), (ROUNDUP(INDEX(BJ$4:BJ$23,MATCH(BK12,BE$4:BE$24,0)),1))))","v":4},"=9",{"$f":"IF(BK12=\"AVERAGE\",\"\",IF(BN11=\"\",IF(BL12=BL10,BN10,COUNTIFS(BN$3:BN10,BN10)+BN10),IF(BL12=BL11,BN11,COUNTIFS(BN$4:BN11,BN11)+BN11)))","v":9}]
[10,"Japan",{"$f":"IFERROR(INDEX('SCORE TABLE'!$H$10:$AA$54, MATCH(A$2,'SCORE TABLE'!$B$10:$B$54,0), MATCH(B13,'SCORE TABLE'!$H$9:$AA$9,0)),\"Not scored\")","v":54.4},10,{"$f":"IF(C13=\"Not scored\",D13,(RANK(C13,C$4:C$24,0)+COUNTIF(C$4:C13,C13)-1))","v":14},13,12,"Australia",{"$f":"IF(H13=\"AVERAGE\",\"\", IF(COUNTIF(H$4:H13, \"AVERAGE\") < 1, (ROUNDUP(INDEX(F$4:F$24,MATCH(H13,B$4:B$24,0)),1)), (ROUNDUP(INDEX(G$4:G$23,MATCH(H13,B$4:B$24,0)),1))))","v":9},10,{"$f":"IF(H13=\"AVERAGE\",\"\",IF(K12=\"\",IF(I13=I11,K11,COUNTIFS(K$3:K11,K11)+K11),IF(I13=I12,K12,COUNTIFS(K$4:K12,K12)+K12)))","v":10},10,"Japan",{"$f":"IFERROR(INDEX('SCORE TABLE'!$H$10:$AA$54, MATCH(L$2,'SCORE TABLE'!$B$10:$B$54,0), MATCH(M13,'SCORE TABLE'!$H$9:$AA$9,0)),\"Not scored\")","v":54.4},10,{"$f":"IF(N13=\"Not scored\",O13,(RANK(N13,N$4:N$24,0)+COUNTIF(N$4:N13,N13)-1))","v":14},13,12,"Australia",{"$f":"IF(S13=\"AVERAGE\",\"\", IF(COUNTIF(S$4:S13, \"AVERAGE\") < 1, (ROUNDUP(INDEX(Q$4:Q$24,MATCH(S13,M$4:M$24,0)),1)), (ROUNDUP(INDEX(R$4:R$23,MATCH(S13,M$4:M$24,0)),1))))","v":9},10,{"$f":"IF(S13=\"AVERAGE\",\"\",IF(V12=\"\",IF(T13=T11,V11,COUNTIFS(V$3:V11,V11)+V11),IF(T13=T12,V12,COUNTIFS(V$4:V12,V12)+V12)))","v":10},10,"Japan",{"$f":"IFERROR(INDEX('SCORE TABLE'!$H$10:$AA$54, MATCH(W$2,'SCORE TABLE'!$B$10:$B$54,0), MATCH(X13,'SCORE TABLE'!$H$9:$AA$9,0)),\"Not scored\")","v":30},10,{"$f":"IF(Y13=\"Not scored\",Z13,(RANK(Y13,Y$4:Y$24,0)+COUNTIF(Y$4:Y13,Y13)-1))","v":16},13,12,"Italy",{"$f":"IF(AD13=\"AVERAGE\",\"\", IF(COUNTIF(AD$4:AD13, \"AVERAGE\") < 1, (ROUNDUP(INDEX(AB$4:AB$24,MATCH(AD13,X$4:X$24,0)),1)), (ROUNDUP(INDEX(AC$4:AC$23,MATCH(AD13,X$4:X$24,0)),1))))","v":8},10,{"$f":"IF(AD13=\"AVERAGE\",\"\",IF(AG12=\"\",IF(AE13=AE11,AG11,COUNTIFS(AG$3:AG11,AG11)+AG11),IF(AE13=AE12,AG12,COUNTIFS(AG$4:AG12,AG12)+AG12)))","v":10},10,"Japan",{"$f":"IFERROR(INDEX('SCORE TABLE'!$H$10:$AA$54, MATCH(AH$2,'SCORE TABLE'!$B$10:$B$54,0), MATCH(AI13,'SCORE TABLE'!$H$9:$AA$9,0)),\"Not scored\")","v":77.777780000000007},10,{"$f":"IF(AJ13=\"Not scored\",AK13,(RANK(AJ13,AJ$4:AJ$24,0)+COUNTIF(AJ$4:AJ13,AJ13)-1))","v":8},4,4,"Australia",{"$f":"IF(AO13=\"AVERAGE\",\"\", IF(COUNTIF(AO$4:AO13, \"AVERAGE\") < 1, (ROUNDUP(INDEX(AM$4:AM$24,MATCH(AO13,AI$4:AI$24,0)),1)), (ROUNDUP(INDEX(AN$4:AN$23,MATCH(AO13,AI$4:AI$24,0)),1))))","v":5},10,{"$f":"IF(AO13=\"AVERAGE\",\"\",IF(AR12=\"\",IF(AP13=AP11,AR11,COUNTIFS(AR$3:AR11,AR11)+AR11),IF(AP13=AP12,AR12,COUNTIFS(AR$4:AR12,AR12)+AR12)))","v":10},10,"Japan",{"$f":"IFERROR(INDEX('SCORE TABLE'!$H$10:$AA$54, MATCH(AS$2,'SCORE TABLE'!$B$10:$B$54,0), MATCH(AT13,'SCORE TABLE'!$H$9:$AA$9,0)),\"Not scored\")","v":59.666670000000003},10,{"$f":"IF(AU13=\"Not scored\",AV13,(RANK(AU13,AU$4:AU$24,0)+COUNTIF(AU$4:AU13,AU13)-1))","v":17},17,16,"AVERAGE",{"$f":"IF(AZ13=\"AVERAGE\",\"\", IF(COUNTIF(AZ$4:AZ13, \"AVERAGE\") < 1, (ROUNDUP(INDEX(AX$4:AX$24,MATCH(AZ13,AT$4:AT$24,0)),1)), (ROUNDUP(INDEX(AY$4:AY$23,MATCH(AZ13,AT$4:AT$24,0)),1))))","v":""},"",{"$f":"IF(AZ13=\"AVERAGE\",\"\",IF(BC12=\"\",IF(BA13=BA11,BC11,COUNTIFS(BC$3:BC11,BC11)+BC11),IF(BA13=BA12,BC12,COUNTIFS(BC$4:BC12,BC12)+BC12)))","v":""},10,"Japan",{"$f":"IFERROR(INDEX('SCORE TABLE'!$H$10:$AA$54, MATCH(BD$2,'SCORE TABLE'!$B$10:$B$54,0), MATCH(BE13,'SCORE TABLE'!$H$9:$AA$9,0)),\"Not scored\")","v":50},10,{"$f":"IF(BF13=\"Not scored\",BG13,(RANK(BF13,BF$4:BF$24,0)+COUNTIF(BF$4:BF13,BF13)-1))","v":10},4,4,"Japan",{"$f":"IF(BK13=\"AVERAGE\",\"\", IF(COUNTIF(BK$4:BK13, \"AVERAGE\") < 1, (ROUNDUP(INDEX(BI$4:BI$24,MATCH(BK13,BE$4:BE$24,0)),1)), (ROUNDUP(INDEX(BJ$4:BJ$23,MATCH(BK13,BE$4:BE$24,0)),1))))","v":4},"=9",{"$f":"IF(BK13=\"AVERAGE\",\"\",IF(BN12=\"\",IF(BL13=BL11,BN11,COUNTIFS(BN$3:BN11,BN11)+BN11),IF(BL13=BL12,BN12,COUNTIFS(BN$4:BN12,BN12)+BN12)))","v":9}]
[11,"Mexico",{"$f":"IFERROR(INDEX('SCORE TABLE'!$H$10:$AA$54, MATCH(A$2,'SCORE TABLE'!$B$10:$B$54,0), MATCH(B14,'SCORE TABLE'!$H$9:$AA$9,0)),\"Not scored\")","v":55.3},11,{"$f":"IF(C14=\"Not scored\",D14,(RANK(C14,C$4:C$24,0)+COUNTIF(C$4:C14,C14)-1))","v":12},11,10,"AVERAGE",{"$f":"IF(H14=\"AVERAGE\",\"\", IF(COUNTIF(H$4:H14, \"AVERAGE\") < 1, (ROUNDUP(INDEX(F$4:F$24,MATCH(H14,B$4:B$24,0)),1)), (ROUNDUP(INDEX(G$4:G$23,MATCH(H14,B$4:B$24,0)),1))))","v":""},"",{"$f":"IF(H14=\"AVERAGE\",\"\",IF(K13=\"\",IF(I14=I12,K12,COUNTIFS(K$3:K12,K12)+K12),IF(I14=I13,K13,COUNTIFS(K$4:K13,K13)+K13)))","v":""},11,"Mexico",{"$f":"IFERROR(INDEX('SCORE TABLE'!$H$10:$AA$54, MATCH(L$2,'SCORE TABLE'!$B$10:$B$54,0), MATCH(M14,'SCORE TABLE'!$H$9:$AA$9,0)),\"Not scored\")","v":55.3},11,{"$f":"IF(N14=\"Not scored\",O14,(RANK(N14,N$4:N$24,0)+COUNTIF(N$4:N14,N14)-1))","v":12},11,10,"AVERAGE",{"$f":"IF(S14=\"AVERAGE\",\"\", IF(COUNTIF(S$4:S14, \"AVERAGE\") < 1, (ROUNDUP(INDEX(Q$4:Q$24,MATCH(S14,M$4:M$24,0)),1)), (ROUNDUP(INDEX(R$4:R$23,MATCH(S14,M$4:M$24,0)),1))))","v":""},"",{"$f":"IF(S14=\"AVERAGE\",\"\",IF(V13=\"\",IF(T14=T12,V12,COUNTIFS(V$3:V12,V12)+V12),IF(T14=T13,V13,COUNTIFS(V$4:V13,V13)+V13)))","v":""},11,"Mexico",{"$f":"IFERROR(INDEX('SCORE TABLE'!$H$10:$AA$54, MATCH(W$2,'SCORE TABLE'!$B$10:$B$54,0), MATCH(X14,'SCORE TABLE'!$H$9:$AA$9,0)),\"Not scored\")","v":42.5},11,{"$f":"IF(Y14=\"Not scored\",Z14,(RANK(Y14,Y$4:Y$24,0)+COUNTIF(Y$4:Y14,Y14)-1))","v":13},11,10,"AVERAGE",{"$f":"IF(AD14=\"AVERAGE\",\"\", IF(COUNTIF(AD$4:AD14, \"AVERAGE\") < 1, (ROUNDUP(INDEX(AB$4:AB$24,MATCH(AD14,X$4:X$24,0)),1)), (ROUNDUP(INDEX(AC$4:AC$23,MATCH(AD14,X$4:X$24,0)),1))))","v":""},"",{"$f":"IF(AD14=\"AVERAGE\",\"\",IF(AG13=\"\",IF(AE14=AE12,AG12,COUNTIFS(AG$3:AG12,AG12)+AG12),IF(AE14=AE13,AG13,COUNTIFS(AG$4:AG13,AG13)+AG13)))","v":""},11,"Mexico",{"$f":"IFERROR(INDEX('SCORE TABLE'!$H$10:$AA$54, MATCH(AH$2,'SCORE TABLE'!$B$10:$B$54,0), MATCH(AI14,'SCORE TABLE'!$H$9:$AA$9,0)),\"Not scored\")","v":61.111109999999996},11,{"$f":"IF(AJ14=\"Not scored\",AK14,(RANK(AJ14,AJ$4:AJ$24,0)+COUNTIF(AJ$4:AJ14,AJ14)-1))","v":15},8,7,"Italy",{"$f":"IF(AO14=\"AVERAGE\",\"\", IF(COUNTIF(AO$4:AO14, \"AVERAGE\") < 1, (ROUNDUP(INDEX(AM$4:AM$24,MATCH(AO14,AI$4:AI$24,0)),1)), (ROUNDUP(INDEX(AN$4:AN$23,MATCH(AO14,AI$4:AI$24,0)),1))))","v":6},"=11",{"$f":"IF(AO14=\"AVERAGE\",\"\",IF(AR13=\"\",IF(AP14=AP12,AR12,COUNTIFS(AR$3:AR12,AR12)+AR12),IF(AP14=AP13,AR13,COUNTIFS(AR$4:AR13,AR13)+AR13)))","v":11},11,"Mexico",{"$f":"IFERROR(INDEX('SCORE TABLE'!$H$10:$AA$54, MATCH(AS$2,'SCORE TABLE'!$B$10:$B$54,0), MATCH(AT14,'SCORE TABLE'!$H$9:$AA$9,0)),\"Not scored\")","v":84.088890000000006},11,{"$f":"IF(AU14=\"Not scored\",AV14,(RANK(AU14,AU$4:AU$24,0)+COUNTIF(AU$4:AU14,AU14)-1))","v":2},2,2,"United Arab Emirates",{"$f":"IF(AZ14=\"AVERAGE\",\"\", IF(COUNTIF(AZ$4:AZ14, \"AVERAGE\") < 1, (ROUNDUP(INDEX(AX$4:AX$24,MATCH(AZ14,AT$4:AT$24,0)),1)), (ROUNDUP(INDEX(AY$4:AY$23,MATCH(AZ14,AT$4:AT$24,0)),1))))","v":10},10,{"$f":"IF(AZ14=\"AVERAGE\",\"\",IF(BC13=\"\",IF(BA14=BA12,BC12,COUNTIFS(BC$3:BC12,BC12)+BC12),IF(BA14=BA13,BC13,COUNTIFS(BC$4:BC13,BC13)+BC13)))","v":10},11,"Mexico",{"$f":"IFERROR(INDEX('SCORE TABLE'!$H$10:$AA$54, MATCH(BD$2,'SCORE TABLE'!$B$10:$B$54,0), MATCH(BE14,'SCORE TABLE'!$H$9:$AA$9,0)),\"Not scored\")","v":33.33334},11,{"$f":"IF(BF14=\"Not scored\",BG14,(RANK(BF14,BF$4:BF$24,0)+COUNTIF(BF$4:BF14,BF14)-1))","v":18},7,6,"South Africa",{"$f":"IF(BK14=\"AVERAGE\",\"\", IF(COUNTIF(BK$4:BK14, \"AVERAGE\") < 1, (ROUNDUP(INDEX(BI$4:BI$24,MATCH(BK14,BE$4:BE$24,0)),1)), (ROUNDUP(INDEX(BJ$4:BJ$23,MATCH(BK14,BE$4:BE$24,0)),1))))","v":4},"=9",{"$f":"IF(BK14=\"AVERAGE\",\"\",IF(BN13=\"\",IF(BL14=BL12,BN12,COUNTIFS(BN$3:BN12,BN12)+BN12),IF(BL14=BL13,BN13,COUNTIFS(BN$4:BN13,BN13)+BN13)))","v":9}]
[12,"Nigeria",{"$f":"IFERROR(INDEX('SCORE TABLE'!$H$10:$AA$54, MATCH(A$2,'SCORE TABLE'!$B$10:$B$54,0), MATCH(B15,'SCORE TABLE'!$H$9:$AA$9,0)),\"Not scored\")","v":13.1},12,{"$f":"IF(C15=\"Not scored\",D15,(RANK(C15,C$4:C$24,0)+COUNTIF(C$4:C15,C15)-1))","v":21},19,18,"Mexico",{"$f":"IF(H15=\"AVERAGE\",\"\", IF(COUNTIF(H$4:H15, \"AVERAGE\") < 1, (ROUNDUP(INDEX(F$4:F$24,MATCH(H15,B$4:B$24,0)),1)), (ROUNDUP(INDEX(G$4:G$23,MATCH(H15,B$4:B$24,0)),1))))","v":10},11,{"$f":"IF(H15=\"AVERAGE\",\"\",IF(K14=\"\",IF(I15=I13,K13,COUNTIFS(K$3:K13,K13)+K13),IF(I15=I14,K14,COUNTIFS(K$4:K14,K14)+K14)))","v":11},12,"Nigeria",{"$f":"IFERROR(INDEX('SCORE TABLE'!$H$10:$AA$54, MATCH(L$2,'SCORE TABLE'!$B$10:$B$54,0), MATCH(M15,'SCORE TABLE'!$H$9:$AA$9,0)),\"Not scored\")","v":13.1},12,{"$f":"IF(N15=\"Not scored\",O15,(RANK(N15,N$4:N$24,0)+COUNTIF(N$4:N15,N15)-1))","v":21},19,18,"Mexico",{"$f":"IF(S15=\"AVERAGE\",\"\", IF(COUNTIF(S$4:S15, \"AVERAGE\") < 1, (ROUNDUP(INDEX(Q$4:Q$24,MATCH(S15,M$4:M$24,0)),1)), (ROUNDUP(INDEX(R$4:R$23,MATCH(S15,M$4:M$24,0)),1))))","v":10},11,{"$f":"IF(S15=\"AVERAGE\",\"\",IF(V14=\"\",IF(T15=T13,V13,COUNTIFS(V$3:V13,V13)+V13),IF(T15=T14,V14,COUNTIFS(V$4:V14,V14)+V14)))","v":11},12,"Nigeria",{"$f":"IFERROR(INDEX('SCORE TABLE'!$H$10:$AA$54, MATCH(W$2,'SCORE TABLE'!$B$10:$B$54,0), MATCH(X15,'SCORE TABLE'!$H$9:$AA$9,0)),\"Not scored\")","v":22.5},12,{"$f":"IF(Y15=\"Not scored\",Z15,(RANK(Y15,Y$4:Y$24,0)+COUNTIF(Y$4:Y15,Y15)-1))","v":18},15,14,"South Africa",{"$f":"IF(AD15=\"AVERAGE\",\"\", IF(COUNTIF(AD$4:AD15, \"AVERAGE\") < 1, (ROUNDUP(INDEX(AB$4:AB$24,MATCH(AD15,X$4:X$24,0)),1)), (ROUNDUP(INDEX(AC$4:AC$23,MATCH(AD15,X$4:X$24,0)),1))))","v":9},11,{"$f":"IF(AD15=\"AVERAGE\",\"\",IF(AG14=\"\",IF(AE15=AE13,AG13,COUNTIFS(AG$3:AG13,AG13)+AG13),IF(AE15=AE14,AG14,COUNTIFS(AG$4:AG14,AG14)+AG14)))","v":11},12,"Nigeria",{"$f":"IFERROR(INDEX('SCORE TABLE'!$H$10:$AA$54, MATCH(AH$2,'SCORE TABLE'!$B$10:$B$54,0), MATCH(AI15,'SCORE TABLE'!$H$9:$AA$9,0)),\"Not scored\")","v":0},12,{"$f":"IF(AJ15=\"Not scored\",AK15,(RANK(AJ15,AJ$4:AJ$24,0)+COUNTIF(AJ$4:AJ15,AJ15)-1))","v":21},14,13,"Saudi Arabia",{"$f":"IF(AO15=\"AVERAGE\",\"\", IF(COUNTIF(AO$4:AO15, \"AVERAGE\") < 1, (ROUNDUP(INDEX(AM$4:AM$24,MATCH(AO15,AI$4:AI$24,0)),1)), (ROUNDUP(INDEX(AN$4:AN$23,MATCH(AO15,AI$4:AI$24,0)),1))))","v":6},"=11",{"$f":"IF(AO15=\"AVERAGE\",\"\",IF(AR14=\"\",IF(AP15=AP13,AR13,COUNTIFS(AR$3:AR13,AR13)+AR13),IF(AP15=AP14,AR14,COUNTIFS(AR$4:AR14,AR14)+AR14)))","v":11},12,"Nigeria",{"$f":"IFERROR(INDEX('SCORE TABLE'!$H$10:$AA$54, MATCH(AS$2,'SCORE TABLE'!$B$10:$B$54,0), MATCH(AT15,'SCORE TABLE'!$H$9:$AA$9,0)),\"Not scored\")","v":29.711110000000001},12,{"$f":"IF(AU15=\"Not scored\",AV15,(RANK(AU15,AU$4:AU$24,0)+COUNTIF(AU$4:AU15,AU15)-1))","v":21},21,20,"China",{"$f":"IF(AZ15=\"AVERAGE\",\"\", IF(COUNTIF(AZ$4:AZ15, \"AVERAGE\") < 1, (ROUNDUP(INDEX(AX$4:AX$24,MATCH(AZ15,AT$4:AT$24,0)),1)), (ROUNDUP(INDEX(AY$4:AY$23,MATCH(AZ15,AT$4:AT$24,0)),1))))","v":11},11,{"$f":"IF(AZ15=\"AVERAGE\",\"\",IF(BC14=\"\",IF(BA15=BA13,BC13,COUNTIFS(BC$3:BC13,BC13)+BC13),IF(BA15=BA14,BC14,COUNTIFS(BC$4:BC14,BC14)+BC14)))","v":11},12,"Nigeria",{"$f":"IFERROR(INDEX('SCORE TABLE'!$H$10:$AA$54, MATCH(BD$2,'SCORE TABLE'!$B$10:$B$54,0), MATCH(BE15,'SCORE TABLE'!$H$9:$AA$9,0)),\"Not scored\")","v":0},12,{"$f":"IF(BF15=\"Not scored\",BG15,(RANK(BF15,BF$4:BF$24,0)+COUNTIF(BF$4:BF15,BF15)-1))","v":21},9,8,"AVERAGE",{"$f":"IF(BK15=\"AVERAGE\",\"\", IF(COUNTIF(BK$4:BK15, \"AVERAGE\") < 1, (ROUNDUP(INDEX(BI$4:BI$24,MATCH(BK15,BE$4:BE$24,0)),1)), (ROUNDUP(INDEX(BJ$4:BJ$23,MATCH(BK15,BE$4:BE$24,0)),1))))","v":""},"",{"$f":"IF(BK15=\"AVERAGE\",\"\",IF(BN14=\"\",IF(BL15=BL13,BN13,COUNTIFS(BN$3:BN13,BN13)+BN13),IF(BL15=BL14,BN14,COUNTIFS(BN$4:BN14,BN14)+BN14)))","v":""}]
[13,"Rwanda",{"$f":"IFERROR(INDEX('SCORE TABLE'!$H$10:$AA$54, MATCH(A$2,'SCORE TABLE'!$B$10:$B$54,0), MATCH(B16,'SCORE TABLE'!$H$9:$AA$9,0)),\"Not scored\")","v":39.1},13,{"$f":"IF(C16=\"Not scored\",D16,(RANK(C16,C$4:C$24,0)+COUNTIF(C$4:C16,C16)-1))","v":19},17,16,"United Arab Emirates",{"$f":"IF(H16=\"AVERAGE\",\"\", IF(COUNTIF(H$4:H16, \"AVERAGE\") < 1, (ROUNDUP(INDEX(F$4:F$24,MATCH(H16,B$4:B$24,0)),1)), (ROUNDUP(INDEX(G$4:G$23,MATCH(H16,B$4:B$24,0)),1))))","v":11},12,{"$f":"IF(H16=\"AVERAGE\",\"\",IF(K15=\"\",IF(I16=I14,K14,COUNTIFS(K$3:K14,K14)+K14),IF(I16=I15,K15,COUNTIFS(K$4:K15,K15)+K15)))","v":12},13,"Rwanda",{"$f":"IFERROR(INDEX('SCORE TABLE'!$H$10:$AA$54, MATCH(L$2,'SCORE TABLE'!$B$10:$B$54,0), MATCH(M16,'SCORE TABLE'!$H$9:$AA$9,0)),\"Not scored\")","v":39.1},13,{"$f":"IF(N16=\"Not scored\",O16,(RANK(N16,N$4:N$24,0)+COUNTIF(N$4:N16,N16)-1))","v":19},17,16,"United Arab Emirates",{"$f":"IF(S16=\"AVERAGE\",\"\", IF(COUNTIF(S$4:S16, \"AVERAGE\") < 1, (ROUNDUP(INDEX(Q$4:Q$24,MATCH(S16,M$4:M$24,0)),1)), (ROUNDUP(INDEX(R$4:R$23,MATCH(S16,M$4:M$24,0)),1))))","v":11},12,{"$f":"IF(S16=\"AVERAGE\",\"\",IF(V15=\"\",IF(T16=T14,V14,COUNTIFS(V$3:V14,V14)+V14),IF(T16=T15,V15,COUNTIFS(V$4:V15,V15)+V15)))","v":12},13,"Rwanda",{"$f":"IFERROR(INDEX('SCORE TABLE'!$H$10:$AA$54, MATCH(W$2,'SCORE TABLE'!$B$10:$B$54,0), MATCH(X16,'SCORE TABLE'!$H$9:$AA$9,0)),\"Not scored\")","v":21.66667},13,{"$f":"IF(Y16=\"Not scored\",Z16,(RANK(Y16,Y$4:Y$24,0)+COUNTIF(Y$4:Y16,Y16)-1))","v":19},16,15,"Mexico",{"$f":"IF(AD16=\"AVERAGE\",\"\", IF(COUNTIF(AD$4:AD16, \"AVERAGE\") < 1, (ROUNDUP(INDEX(AB$4:AB$24,MATCH(AD16,X$4:X$24,0)),1)), (ROUNDUP(INDEX(AC$4:AC$23,MATCH(AD16,X$4:X$24,0)),1))))","v":10},"=12",{"$f":"IF(AD16=\"AVERAGE\",\"\",IF(AG15=\"\",IF(AE16=AE14,AG14,COUNTIFS(AG$3:AG14,AG14)+AG14),IF(AE16=AE15,AG15,COUNTIFS(AG$4:AG15,AG15)+AG15)))","v":12},13,"Rwanda",{"$f":"IFERROR(INDEX('SCORE TABLE'!$H$10:$AA$54, MATCH(AH$2,'SCORE TABLE'!$B$10:$B$54,0), MATCH(AI16,'SCORE TABLE'!$H$9:$AA$9,0)),\"Not scored\")","v":47.22222},13,{"$f":"IF(AJ16=\"Not scored\",AK16,(RANK(AJ16,AJ$4:AJ$24,0)+COUNTIF(AJ$4:AJ16,AJ16)-1))","v":17},10,9,"AVERAGE",{"$f":"IF(AO16=\"AVERAGE\",\"\", IF(COUNTIF(AO$4:AO16, \"AVERAGE\") < 1, (ROUNDUP(INDEX(AM$4:AM$24,MATCH(AO16,AI$4:AI$24,0)),1)), (ROUNDUP(INDEX(AN$4:AN$23,MATCH(AO16,AI$4:AI$24,0)),1))))","v":""},"",{"$f":"IF(AO16=\"AVERAGE\",\"\",IF(AR15=\"\",IF(AP16=AP14,AR14,COUNTIFS(AR$3:AR14,AR14)+AR14),IF(AP16=AP15,AR15,COUNTIFS(AR$4:AR15,AR15)+AR15)))","v":""},13,"Rwanda",{"$f":"IFERROR(INDEX('SCORE TABLE'!$H$10:$AA$54, MATCH(AS$2,'SCORE TABLE'!$B$10:$B$54,0), MATCH(AT16,'SCORE TABLE'!$H$9:$AA$9,0)),\"Not scored\")","v":45.966670000000001},13,{"$f":"IF(AU16=\"Not scored\",AV16,(RANK(AU16,AU$4:AU$24,0)+COUNTIF(AU$4:AU16,AU16)-1))","v":19},19,18,"Canada",{"$f":"IF(AZ16=\"AVERAGE\",\"\", IF(COUNTIF(AZ$4:AZ16, \"AVERAGE\") < 1, (ROUNDUP(INDEX(AX$4:AX$24,MATCH(AZ16,AT$4:AT$24,0)),1)), (ROUNDUP(INDEX(AY$4:AY$23,MATCH(AZ16,AT$4:AT$24,0)),1))))","v":12},12,{"$f":"IF(AZ16=\"AVERAGE\",\"\",IF(BC15=\"\",IF(BA16=BA14,BC14,COUNTIFS(BC$3:BC14,BC14)+BC14),IF(BA16=BA15,BC15,COUNTIFS(BC$4:BC15,BC15)+BC15)))","v":12},13,"Rwanda",{"$f":"IFERROR(INDEX('SCORE TABLE'!$H$10:$AA$54, MATCH(BD$2,'SCORE TABLE'!$B$10:$B$54,0), MATCH(BE16,'SCORE TABLE'!$H$9:$AA$9,0)),\"Not scored\")","v":41.666670000000003},13,{"$f":"IF(BF16=\"Not scored\",BG16,(RANK(BF16,BF$4:BF$24,0)+COUNTIF(BF$4:BF16,BF16)-1))","v":15},6.0000000000000009,5.0000000000000009,"Australia",{"$f":"IF(BK16=\"AVERAGE\",\"\", IF(COUNTIF(BK$4:BK16, \"AVERAGE\") < 1, (ROUNDUP(INDEX(BI$4:BI$24,MATCH(BK16,BE$4:BE$24,0)),1)), (ROUNDUP(INDEX(BJ$4:BJ$23,MATCH(BK16,BE$4:BE$24,0)),1))))","v":5},"=12",{"$f":"IF(BK16=\"AVERAGE\",\"\",IF(BN15=\"\",IF(BL16=BL14,BN14,COUNTIFS(BN$3:BN14,BN14)+BN14),IF(BL16=BL15,BN15,COUNTIFS(BN$4:BN15,BN15)+BN15)))","v":12}]
[14,"Saudi Arabia",{"$f":"IFERROR(INDEX('SCORE TABLE'!$H$10:$AA$54, MATCH(A$2,'SCORE TABLE'!$B$10:$B$54,0), MATCH(B17,'SCORE TABLE'!$H$9:$AA$9,0)),\"Not scored\")","v":44.5},14,{"$f":"IF(C17=\"Not scored\",D17,(RANK(C17,C$4:C$24,0)+COUNTIF(C$4:C17,C17)-1))","v":17},15,14,"Japan",{"$f":"IF(H17=\"AVERAGE\",\"\", IF(COUNTIF(H$4:H17, \"AVERAGE\") < 1, (ROUNDUP(INDEX(F$4:F$24,MATCH(H17,B$4:B$24,0)),1)), (ROUNDUP(INDEX(G$4:G$23,MATCH(H17,B$4:B$24,0)),1))))","v":12},{"$f":"IF(K17=K16,CONCATENATE(\"=\",K17), IF(K17=K18,CONCATENATE(\"=\",K17),K17))","v":"=13"},{"$f":"IF(H17=\"AVERAGE\",\"\",IF(K16=\"\",IF(I17=I15,K15,COUNTIFS(K$3:K15,K15)+K15),IF(I17=I16,K16,COUNTIFS(K$4:K16,K16)+K16)))","v":13},14,"Saudi Arabia",{"$f":"IFERROR(INDEX('SCORE TABLE'!$H$10:$AA$54, MATCH(L$2,'SCORE TABLE'!$B$10:$B$54,0), MATCH(M17,'SCORE TABLE'!$H$9:$AA$9,0)),\"Not scored\")","v":44.5},14,{"$f":"IF(N17=\"Not scored\",O17,(RANK(N17,N$4:N$24,0)+COUNTIF(N$4:N17,N17)-1))","v":17},15,14,"Japan",{"$f":"IF(S17=\"AVERAGE\",\"\", IF(COUNTIF(S$4:S17, \"AVERAGE\") < 1, (ROUNDUP(INDEX(Q$4:Q$24,MATCH(S17,M$4:M$24,0)),1)), (ROUNDUP(INDEX(R$4:R$23,MATCH(S17,M$4:M$24,0)),1))))","v":12},{"$f":"IF(V17=V16,CONCATENATE(\"=\",V17), IF(V17=V18,CONCATENATE(\"=\",V17),V17))","v":"=13"},{"$f":"IF(S17=\"AVERAGE\",\"\",IF(V16=\"\",IF(T17=T15,V15,COUNTIFS(V$3:V15,V15)+V15),IF(T17=T16,V16,COUNTIFS(V$4:V16,V16)+V16)))","v":13},14,"Saudi Arabia",{"$f":"IFERROR(INDEX('SCORE TABLE'!$H$10:$AA$54, MATCH(W$2,'SCORE TABLE'!$B$10:$B$54,0), MATCH(X17,'SCORE TABLE'!$H$9:$AA$9,0)),\"Not scored\")","v":32.083329999999997},14,{"$f":"IF(Y17=\"Not scored\",Z17,(RANK(Y17,Y$4:Y$24,0)+COUNTIF(Y$4:Y17,Y17)-1))","v":15},12,11,"United Kingdom",{"$f":"IF(AD17=\"AVERAGE\",\"\", IF(COUNTIF(AD$4:AD17, \"AVERAGE\") < 1, (ROUNDUP(INDEX(AB$4:AB$24,MATCH(AD17,X$4:X$24,0)),1)), (ROUNDUP(INDEX(AC$4:AC$23,MATCH(AD17,X$4:X$24,0)),1))))","v":10},{"$f":"IF(AG17=AG16,CONCATENATE(\"=\",AG17), IF(AG17=AG18,CONCATENATE(\"=\",AG17),AG17))","v":"=12"},{"$f":"IF(AD17=\"AVERAGE\",\"\",IF(AG16=\"\",IF(AE17=AE15,AG15,COUNTIFS(AG$3:AG15,AG15)+AG15),IF(AE17=AE16,AG16,COUNTIFS(AG$4:AG16,AG16)+AG16)))","v":12},14,"Saudi Arabia",{"$f":"IFERROR(INDEX('SCORE TABLE'!$H$10:$AA$54, MATCH(AH$2,'SCORE TABLE'!$B$10:$B$54,0), MATCH(AI17,'SCORE TABLE'!$H$9:$AA$9,0)),\"Not scored\")","v":69.44444},14,{"$f":"IF(AJ17=\"Not scored\",AK17,(RANK(AJ17,AJ$4:AJ$24,0)+COUNTIF(AJ$4:AJ17,AJ17)-1))","v":12},6,6,"China",{"$f":"IF(AO17=\"AVERAGE\",\"\", IF(COUNTIF(AO$4:AO17, \"AVERAGE\") < 1, (ROUNDUP(INDEX(AM$4:AM$24,MATCH(AO17,AI$4:AI$24,0)),1)), (ROUNDUP(INDEX(AN$4:AN$23,MATCH(AO17,AI$4:AI$24,0)),1))))","v":7},{"$f":"IF(AR17=AR16,CONCATENATE(\"=\",AR17), IF(AR17=AR18,CONCATENATE(\"=\",AR17),AR17))","v":"=13"},{"$f":"IF(AO17=\"AVERAGE\",\"\",IF(AR16=\"\",IF(AP17=AP15,AR15,COUNTIFS(AR$3:AR15,AR15)+AR15),IF(AP17=AP16,AR16,COUNTIFS(AR$4:AR16,AR16)+AR16)))","v":13},14,"Saudi Arabia",{"$f":"IFERROR(INDEX('SCORE TABLE'!$H$10:$AA$54, MATCH(AS$2,'SCORE TABLE'!$B$10:$B$54,0), MATCH(AT17,'SCORE TABLE'!$H$9:$AA$9,0)),\"Not scored\")","v":43.333329999999997},14,{"$f":"IF(AU17=\"Not scored\",AV17,(RANK(AU17,AU$4:AU$24,0)+COUNTIF(AU$4:AU17,AU17)-1))","v":20},20,19,"Germany",{"$f":"IF(AZ17=\"AVERAGE\",\"\", IF(COUNTIF(AZ$4:AZ17, \"AVERAGE\") < 1, (ROUNDUP(INDEX(AX$4:AX$24,MATCH(AZ17,AT$4:AT$24,0)),1)), (ROUNDUP(INDEX(AY$4:AY$23,MATCH(AZ17,AT$4:AT$24,0)),1))))","v":13},{"$f":"IF(BC17=BC16,CONCATENATE(\"=\",BC17), IF(BC17=BC18,CONCATENATE(\"=\",BC17),BC17))","v":13},{"$f":"IF(AZ17=\"AVERAGE\",\"\",IF(BC16=\"\",IF(BA17=BA15,BC15,COUNTIFS(BC$3:BC15,BC15)+BC15),IF(BA17=BA16,BC16,COUNTIFS(BC$4:BC16,BC16)+BC16)))","v":13},14,"Saudi Arabia",{"$f":"IFERROR(INDEX('SCORE TABLE'!$H$10:$AA$54, MATCH(BD$2,'SCORE TABLE'!$B$10:$B$54,0), MATCH(BE17,'SCORE TABLE'!$H$9:$AA$9,0)),\"Not scored\")","v":33.33334},14,{"$f":"IF(BF17=\"Not scored\",BG17,(RANK(BF17,BF$4:BF$24,0)+COUNTIF(BF$4:BF17,BF17)-1))","v":19},7,6,"India",{"$f":"IF(BK17=\"AVERAGE\",\"\", IF(COUNTIF(BK$4:BK17, \"AVERAGE\") < 1, (ROUNDUP(INDEX(BI$4:BI$24,MATCH(BK17,BE$4:BE$24,0)),1)), (ROUNDUP(INDEX(BJ$4:BJ$23,MATCH(BK17,BE$4:BE$24,0)),1))))","v":5},{"$f":"IF(BN17=BN16,CONCATENATE(\"=\",BN17), IF(BN17=BN18,CONCATENATE(\"=\",BN17),BN17))","v":"=12"},{"$f":"IF(BK17=\"AVERAGE\",\"\",IF(BN16=\"\",IF(BL17=BL15,BN15,COUNTIFS(BN$3:BN15,BN15)+BN15),IF(BL17=BL16,BN16,COUNTIFS(BN$4:BN16,BN16)+BN16)))","v":12}]
[15,"Serbia",{"$f":"IFERROR(INDEX('SCORE TABLE'!$H$10:$AA$54, MATCH(A$2,'SCORE TABLE'!$B$10:$B$54,0), MATCH(B18,'SCORE TABLE'!$H$9:$AA$9,0)),\"Not scored\")","v":74.8},15,{"$f":"IF(C18=\"Not scored\",D18,(RANK(C18,C$4:C$24,0)+COUNTIF(C$4:C18,C18)-1))","v":1},1,1,"Spain",{"$f":"IF(H18=\"AVERAGE\",\"\", IF(COUNTIF(H$4:H18, \"AVERAGE\") < 1, (ROUNDUP(INDEX(F$4:F$24,MATCH(H18,B$4:B$24,0)),1)), (ROUNDUP(INDEX(G$4:G$23,MATCH(H18,B$4:B$24,0)),1))))","v":12},"=13",{"$f":"IF(H18=\"AVERAGE\",\"\",IF(K17=\"\",IF(I18=I16,K16,COUNTIFS(K$3:K16,K16)+K16),IF(I18=I17,K17,COUNTIFS(K$4:K17,K17)+K17)))","v":13},15,"Serbia",{"$f":"IFERROR(INDEX('SCORE TABLE'!$H$10:$AA$54, MATCH(L$2,'SCORE TABLE'!$B$10:$B$54,0), MATCH(M18,'SCORE TABLE'!$H$9:$AA$9,0)),\"Not scored\")","v":74.8},15,{"$f":"IF(N18=\"Not scored\",O18,(RANK(N18,N$4:N$24,0)+COUNTIF(N$4:N18,N18)-1))","v":1},1,1,"Spain",{"$f":"IF(S18=\"AVERAGE\",\"\", IF(COUNTIF(S$4:S18, \"AVERAGE\") < 1, (ROUNDUP(INDEX(Q$4:Q$24,MATCH(S18,M$4:M$24,0)),1)), (ROUNDUP(INDEX(R$4:R$23,MATCH(S18,M$4:M$24,0)),1))))","v":12},{"$f":"IF(V18=V17,CONCATENATE(\"=\",V18), IF(V18=V19,CONCATENATE(\"=\",V18),V18))","v":"=13"},{"$f":"IF(S18=\"AVERAGE\",\"\",IF(V17=\"\",IF(T18=T16,V16,COUNTIFS(V$3:V16,V16)+V16),IF(T18=T17,V17,COUNTIFS(V$4:V17,V17)+V17)))","v":13},15,"Serbia",{"$f":"IFERROR(INDEX('SCORE TABLE'!$H$10:$AA$54, MATCH(W$2,'SCORE TABLE'!$B$10:$B$54,0), MATCH(X18,'SCORE TABLE'!$H$9:$AA$9,0)),\"Not scored\")","v":95},15,{"$f":"IF(Y18=\"Not scored\",Z18,(RANK(Y18,Y$4:Y$24,0)+COUNTIF(Y$4:Y18,Y18)-1))","v":1},1,1,"Saudi Arabia",{"$f":"IF(AD18=\"AVERAGE\",\"\", IF(COUNTIF(AD$4:AD18, \"AVERAGE\") < 1, (ROUNDUP(INDEX(AB$4:AB$24,MATCH(AD18,X$4:X$24,0)),1)), (ROUNDUP(INDEX(AC$4:AC$23,MATCH(AD18,X$4:X$24,0)),1))))","v":11},{"$f":"IF(AG18=AG17,CONCATENATE(\"=\",AG18), IF(AG18=AG19,CONCATENATE(\"=\",AG18),AG18))","v":14},{"$f":"IF(AD18=\"AVERAGE\",\"\",IF(AG17=\"\",IF(AE18=AE16,AG16,COUNTIFS(AG$3:AG16,AG16)+AG16),IF(AE18=AE17,AG17,COUNTIFS(AG$4:AG17,AG17)+AG17)))","v":14},15,"Serbia",{"$f":"IFERROR(INDEX('SCORE TABLE'!$H$10:$AA$54, MATCH(AH$2,'SCORE TABLE'!$B$10:$B$54,0), MATCH(AI18,'SCORE TABLE'!$H$9:$AA$9,0)),\"Not scored\")","v":86.111109999999996},15,{"$f":"IF(AJ18=\"Not scored\",AK18,(RANK(AJ18,AJ$4:AJ$24,0)+COUNTIF(AJ$4:AJ18,AJ18)-1))","v":6},3,3,"Mexico",{"$f":"IF(AO18=\"AVERAGE\",\"\", IF(COUNTIF(AO$4:AO18, \"AVERAGE\") < 1, (ROUNDUP(INDEX(AM$4:AM$24,MATCH(AO18,AI$4:AI$24,0)),1)), (ROUNDUP(INDEX(AN$4:AN$23,MATCH(AO18,AI$4:AI$24,0)),1))))","v":7},{"$f":"IF(AR18=AR17,CONCATENATE(\"=\",AR18), IF(AR18=AR19,CONCATENATE(\"=\",AR18),AR18))","v":"=13"},{"$f":"IF(AO18=\"AVERAGE\",\"\",IF(AR17=\"\",IF(AP18=AP16,AR16,COUNTIFS(AR$3:AR16,AR16)+AR16),IF(AP18=AP17,AR17,COUNTIFS(AR$4:AR17,AR17)+AR17)))","v":13},15,"Serbia",{"$f":"IFERROR(INDEX('SCORE TABLE'!$H$10:$AA$54, MATCH(AS$2,'SCORE TABLE'!$B$10:$B$54,0), MATCH(AT18,'SCORE TABLE'!$H$9:$AA$9,0)),\"Not scored\")","v":59.877780000000001},15,{"$f":"IF(AU18=\"Not scored\",AV18,(RANK(AU18,AU$4:AU$24,0)+COUNTIF(AU$4:AU18,AU18)-1))","v":16},16,15,"Australia",{"$f":"IF(AZ18=\"AVERAGE\",\"\", IF(COUNTIF(AZ$4:AZ18, \"AVERAGE\") < 1, (ROUNDUP(INDEX(AX$4:AX$24,MATCH(AZ18,AT$4:AT$24,0)),1)), (ROUNDUP(INDEX(AY$4:AY$23,MATCH(AZ18,AT$4:AT$24,0)),1))))","v":14},{"$f":"IF(BC18=BC17,CONCATENATE(\"=\",BC18), IF(BC18=BC19,CONCATENATE(\"=\",BC18),BC18))","v":14},{"$f":"IF(AZ18=\"AVERAGE\",\"\",IF(BC17=\"\",IF(BA18=BA16,BC16,COUNTIFS(BC$3:BC16,BC16)+BC16),IF(BA18=BA17,BC17,COUNTIFS(BC$4:BC17,BC17)+BC17)))","v":14},15,"Serbia",{"$f":"IFERROR(INDEX('SCORE TABLE'!$H$10:$AA$54, MATCH(BD$2,'SCORE TABLE'!$B$10:$B$54,0), MATCH(BE18,'SCORE TABLE'!$H$9:$AA$9,0)),\"Not scored\")","v":58.33334},15,{"$f":"IF(BF18=\"Not scored\",BG18,(RANK(BF18,BF$4:BF$24,0)+COUNTIF(BF$4:BF18,BF18)-1))","v":8},3,3,"Rwanda",{"$f":"IF(BK18=\"AVERAGE\",\"\", IF(COUNTIF(BK$4:BK18, \"AVERAGE\") < 1, (ROUNDUP(INDEX(BI$4:BI$24,MATCH(BK18,BE$4:BE$24,0)),1)), (ROUNDUP(INDEX(BJ$4:BJ$23,MATCH(BK18,BE$4:BE$24,0)),1))))","v":5},{"$f":"IF(BN18=BN17,CONCATENATE(\"=\",BN18), IF(BN18=BN19,CONCATENATE(\"=\",BN18),BN18))","v":"=12"},{"$f":"IF(BK18=\"AVERAGE\",\"\",IF(BN17=\"\",IF(BL18=BL16,BN16,COUNTIFS(BN$3:BN16,BN16)+BN16),IF(BL18=BL17,BN17,COUNTIFS(BN$4:BN17,BN17)+BN17)))","v":12}]
[16,"South Africa",{"$f":"IFERROR(INDEX('SCORE TABLE'!$H$10:$AA$54, MATCH(A$2,'SCORE TABLE'!$B$10:$B$54,0), MATCH(B19,'SCORE TABLE'!$H$9:$AA$9,0)),\"Not scored\")","v":44.2},16,{"$f":"IF(C19=\"Not scored\",D19,(RANK(C19,C$4:C$24,0)+COUNTIF(C$4:C19,C19)-1))","v":18},16,15,"Canada",{"$f":"IF(H19=\"AVERAGE\",\"\", IF(COUNTIF(H$4:H19, \"AVERAGE\") < 1, (ROUNDUP(INDEX(F$4:F$24,MATCH(H19,B$4:B$24,0)),1)), (ROUNDUP(INDEX(G$4:G$23,MATCH(H19,B$4:B$24,0)),1))))","v":13},15,{"$f":"IF(H19=\"AVERAGE\",\"\",IF(K18=\"\",IF(I19=I17,K17,COUNTIFS(K$3:K17,K17)+K17),IF(I19=I18,K18,COUNTIFS(K$4:K18,K18)+K18)))","v":15},16,"South Africa",{"$f":"IFERROR(INDEX('SCORE TABLE'!$H$10:$AA$54, MATCH(L$2,'SCORE TABLE'!$B$10:$B$54,0), MATCH(M19,'SCORE TABLE'!$H$9:$AA$9,0)),\"Not scored\")","v":44.2},16,{"$f":"IF(N19=\"Not scored\",O19,(RANK(N19,N$4:N$24,0)+COUNTIF(N$4:N19,N19)-1))","v":18},16,15,"Canada",{"$f":"IF(S19=\"AVERAGE\",\"\", IF(COUNTIF(S$4:S19, \"AVERAGE\") < 1, (ROUNDUP(INDEX(Q$4:Q$24,MATCH(S19,M$4:M$24,0)),1)), (ROUNDUP(INDEX(R$4:R$23,MATCH(S19,M$4:M$24,0)),1))))","v":13},15,{"$f":"IF(S19=\"AVERAGE\",\"\",IF(V18=\"\",IF(T19=T17,V17,COUNTIFS(V$3:V17,V17)+V17),IF(T19=T18,V18,COUNTIFS(V$4:V18,V18)+V18)))","v":15},16,"South Africa",{"$f":"IFERROR(INDEX('SCORE TABLE'!$H$10:$AA$54, MATCH(W$2,'SCORE TABLE'!$B$10:$B$54,0), MATCH(X19,'SCORE TABLE'!$H$9:$AA$9,0)),\"Not scored\")","v":42.916670000000003},16,{"$f":"IF(Y19=\"Not scored\",Z19,(RANK(Y19,Y$4:Y$24,0)+COUNTIF(Y$4:Y19,Y19)-1))","v":12},10,9,"Japan",{"$f":"IF(AD19=\"AVERAGE\",\"\", IF(COUNTIF(AD$4:AD19, \"AVERAGE\") < 1, (ROUNDUP(INDEX(AB$4:AB$24,MATCH(AD19,X$4:X$24,0)),1)), (ROUNDUP(INDEX(AC$4:AC$23,MATCH(AD19,X$4:X$24,0)),1))))","v":12},15,{"$f":"IF(AD19=\"AVERAGE\",\"\",IF(AG18=\"\",IF(AE19=AE17,AG17,COUNTIFS(AG$3:AG17,AG17)+AG17),IF(AE19=AE18,AG18,COUNTIFS(AG$4:AG18,AG18)+AG18)))","v":15},16,"South Africa",{"$f":"IFERROR(INDEX('SCORE TABLE'!$H$10:$AA$54, MATCH(AH$2,'SCORE TABLE'!$B$10:$B$54,0), MATCH(AI19,'SCORE TABLE'!$H$9:$AA$9,0)),\"Not scored\")","v":8.3333300000000001},16,{"$f":"IF(AJ19=\"Not scored\",AK19,(RANK(AJ19,AJ$4:AJ$24,0)+COUNTIF(AJ$4:AJ19,AJ19)-1))","v":20},13,12,"Canada",{"$f":"IF(AO19=\"AVERAGE\",\"\", IF(COUNTIF(AO$4:AO19, \"AVERAGE\") < 1, (ROUNDUP(INDEX(AM$4:AM$24,MATCH(AO19,AI$4:AI$24,0)),1)), (ROUNDUP(INDEX(AN$4:AN$23,MATCH(AO19,AI$4:AI$24,0)),1))))","v":8},15,{"$f":"IF(AO19=\"AVERAGE\",\"\",IF(AR18=\"\",IF(AP19=AP17,AR17,COUNTIFS(AR$3:AR17,AR17)+AR17),IF(AP19=AP18,AR18,COUNTIFS(AR$4:AR18,AR18)+AR18)))","v":15},16,"South Africa",{"$f":"IFERROR(INDEX('SCORE TABLE'!$H$10:$AA$54, MATCH(AS$2,'SCORE TABLE'!$B$10:$B$54,0), MATCH(AT19,'SCORE TABLE'!$H$9:$AA$9,0)),\"Not scored\")","v":75.488889999999998},16,{"$f":"IF(AU19=\"Not scored\",AV19,(RANK(AU19,AU$4:AU$24,0)+COUNTIF(AU$4:AU19,AU19)-1))","v":7},7,7,"Serbia",{"$f":"IF(AZ19=\"AVERAGE\",\"\", IF(COUNTIF(AZ$4:AZ19, \"AVERAGE\") < 1, (ROUNDUP(INDEX(AX$4:AX$24,MATCH(AZ19,AT$4:AT$24,0)),1)), (ROUNDUP(INDEX(AY$4:AY$23,MATCH(AZ19,AT$4:AT$24,0)),1))))","v":15},15,{"$f":"IF(AZ19=\"AVERAGE\",\"\",IF(BC18=\"\",IF(BA19=BA17,BC17,COUNTIFS(BC$3:BC17,BC17)+BC17),IF(BA19=BA18,BC18,COUNTIFS(BC$4:BC18,BC18)+BC18)))","v":15},16,"South Africa",{"$f":"IFERROR(INDEX('SCORE TABLE'!$H$10:$AA$54, MATCH(BD$2,'SCORE TABLE'!$B$10:$B$54,0), MATCH(BE19,'SCORE TABLE'!$H$9:$AA$9,0)),\"Not scored\")","v":50},16,{"$f":"IF(BF19=\"Not scored\",BG19,(RANK(BF19,BF$4:BF$24,0)+COUNTIF(BF$4:BF19,BF19)-1))","v":11},4,4,"Spain",{"$f":"IF(BK19=\"AVERAGE\",\"\", IF(COUNTIF(BK$4:BK19, \"AVERAGE\") < 1, (ROUNDUP(INDEX(BI$4:BI$24,MATCH(BK19,BE$4:BE$24,0)),1)), (ROUNDUP(INDEX(BJ$4:BJ$23,MATCH(BK19,BE$4:BE$24,0)),1))))","v":5},"=12",{"$f":"IF(BK19=\"AVERAGE\",\"\",IF(BN18=\"\",IF(BL19=BL17,BN17,COUNTIFS(BN$3:BN17,BN17)+BN17),IF(BL19=BL18,BN18,COUNTIFS(BN$4:BN18,BN18)+BN18)))","v":12}]
[17,"South Korea",{"$f":"IFERROR(INDEX('SCORE TABLE'!$H$10:$AA$54, MATCH(A$2,'SCORE TABLE'!$B$10:$B$54,0), MATCH(B20,'SCORE TABLE'!$H$9:$AA$9,0)),\"Not scored\")","v":71.2},17,{"$f":"IF(C20=\"Not scored\",D20,(RANK(C20,C$4:C$24,0)+COUNTIF(C$4:C20,C20)-1))","v":4},4,4,"Saudi Arabia",{"$f":"IF(H20=\"AVERAGE\",\"\", IF(COUNTIF(H$4:H20, \"AVERAGE\") < 1, (ROUNDUP(INDEX(F$4:F$24,MATCH(H20,B$4:B$24,0)),1)), (ROUNDUP(INDEX(G$4:G$23,MATCH(H20,B$4:B$24,0)),1))))","v":14},16,{"$f":"IF(H20=\"AVERAGE\",\"\",IF(K19=\"\",IF(I20=I18,K18,COUNTIFS(K$3:K18,K18)+K18),IF(I20=I19,K19,COUNTIFS(K$4:K19,K19)+K19)))","v":16},17,"South Korea",{"$f":"IFERROR(INDEX('SCORE TABLE'!$H$10:$AA$54, MATCH(L$2,'SCORE TABLE'!$B$10:$B$54,0), MATCH(M20,'SCORE TABLE'!$H$9:$AA$9,0)),\"Not scored\")","v":71.2},17,{"$f":"IF(N20=\"Not scored\",O20,(RANK(N20,N$4:N$24,0)+COUNTIF(N$4:N20,N20)-1))","v":4},4,4,"Saudi Arabia",{"$f":"IF(S20=\"AVERAGE\",\"\", IF(COUNTIF(S$4:S20, \"AVERAGE\") < 1, (ROUNDUP(INDEX(Q$4:Q$24,MATCH(S20,M$4:M$24,0)),1)), (ROUNDUP(INDEX(R$4:R$23,MATCH(S20,M$4:M$24,0)),1))))","v":14},16,{"$f":"IF(S20=\"AVERAGE\",\"\",IF(V19=\"\",IF(T20=T18,V18,COUNTIFS(V$3:V18,V18)+V18),IF(T20=T19,V19,COUNTIFS(V$4:V19,V19)+V19)))","v":16},17,"South Korea",{"$f":"IFERROR(INDEX('SCORE TABLE'!$H$10:$AA$54, MATCH(W$2,'SCORE TABLE'!$B$10:$B$54,0), MATCH(X20,'SCORE TABLE'!$H$9:$AA$9,0)),\"Not scored\")","v":53.75},17,{"$f":"IF(Y20=\"Not scored\",Z20,(RANK(Y20,Y$4:Y$24,0)+COUNTIF(Y$4:Y20,Y20)-1))","v":6},5,5,"India",{"$f":"IF(AD20=\"AVERAGE\",\"\", IF(COUNTIF(AD$4:AD20, \"AVERAGE\") < 1, (ROUNDUP(INDEX(AB$4:AB$24,MATCH(AD20,X$4:X$24,0)),1)), (ROUNDUP(INDEX(AC$4:AC$23,MATCH(AD20,X$4:X$24,0)),1))))","v":13},16,{"$f":"IF(AD20=\"AVERAGE\",\"\",IF(AG19=\"\",IF(AE20=AE18,AG18,COUNTIFS(AG$3:AG18,AG18)+AG18),IF(AE20=AE19,AG19,COUNTIFS(AG$4:AG19,AG19)+AG19)))","v":16},17,"South Korea",{"$f":"IFERROR(INDEX('SCORE TABLE'!$H$10:$AA$54, MATCH(AH$2,'SCORE TABLE'!$B$10:$B$54,0), MATCH(AI20,'SCORE TABLE'!$H$9:$AA$9,0)),\"Not scored\")","v":77.777780000000007},17,{"$f":"IF(AJ20=\"Not scored\",AK20,(RANK(AJ20,AJ$4:AJ$24,0)+COUNTIF(AJ$4:AJ20,AJ20)-1))","v":9},4,4,"Rwanda",{"$f":"IF(AO20=\"AVERAGE\",\"\", IF(COUNTIF(AO$4:AO20, \"AVERAGE\") < 1, (ROUNDUP(INDEX(AM$4:AM$24,MATCH(AO20,AI$4:AI$24,0)),1)), (ROUNDUP(INDEX(AN$4:AN$23,MATCH(AO20,AI$4:AI$24,0)),1))))","v":9},16,{"$f":"IF(AO20=\"AVERAGE\",\"\",IF(AR19=\"\",IF(AP20=AP18,AR18,COUNTIFS(AR$3:AR18,AR18)+AR18),IF(AP20=AP19,AR19,COUNTIFS(AR$4:AR19,AR19)+AR19)))","v":16},17,"South Korea",{"$f":"IFERROR(INDEX('SCORE TABLE'!$H$10:$AA$54, MATCH(AS$2,'SCORE TABLE'!$B$10:$B$54,0), MATCH(AT20,'SCORE TABLE'!$H$9:$AA$9,0)),\"Not scored\")","v":78.366669999999999},17,{"$f":"IF(AU20=\"Not scored\",AV20,(RANK(AU20,AU$4:AU$24,0)+COUNTIF(AU$4:AU20,AU20)-1))","v":6},6,6,"Japan",{"$f":"IF(AZ20=\"AVERAGE\",\"\", IF(COUNTIF(AZ$4:AZ20, \"AVERAGE\") < 1, (ROUNDUP(INDEX(AX$4:AX$24,MATCH(AZ20,AT$4:AT$24,0)),1)), (ROUNDUP(INDEX(AY$4:AY$23,MATCH(AZ20,AT$4:AT$24,0)),1))))","v":16},16,{"$f":"IF(AZ20=\"AVERAGE\",\"\",IF(BC19=\"\",IF(BA20=BA18,BC18,COUNTIFS(BC$3:BC18,BC18)+BC18),IF(BA20=BA19,BC19,COUNTIFS(BC$4:BC19,BC19)+BC19)))","v":16},17,"South Korea",{"$f":"IFERROR(INDEX('SCORE TABLE'!$H$10:$AA$54, MATCH(BD$2,'SCORE TABLE'!$B$10:$B$54,0), MATCH(BE20,'SCORE TABLE'!$H$9:$AA$9,0)),\"Not scored\")","v":75},17,{"$f":"IF(BF20=\"Not scored\",BG20,(RANK(BF20,BF$4:BF$24,0)+COUNTIF(BF$4:BF20,BF20)-1))","v":2},1,1,"United Arab Emirates",{"$f":"IF(BK20=\"AVERAGE\",\"\", IF(COUNTIF(BK$4:BK20, \"AVERAGE\") < 1, (ROUNDUP(INDEX(BI$4:BI$24,MATCH(BK20,BE$4:BE$24,0)),1)), (ROUNDUP(INDEX(BJ$4:BJ$23,MATCH(BK20,BE$4:BE$24,0)),1))))","v":5},"=12",{"$f":"IF(BK20=\"AVERAGE\",\"\",IF(BN19=\"\",IF(BL20=BL18,BN18,COUNTIFS(BN$3:BN18,BN18)+BN18),IF(BL20=BL19,BN19,COUNTIFS(BN$4:BN19,BN19)+BN19)))","v":12}]
[18,"Spain",{"$f":"IFERROR(INDEX('SCORE TABLE'!$H$10:$AA$54, MATCH(A$2,'SCORE TABLE'!$B$10:$B$54,0), MATCH(B21,'SCORE TABLE'!$H$9:$AA$9,0)),\"Not scored\")","v":54.4},18,{"$f":"IF(C21=\"Not scored\",D21,(RANK(C21,C$4:C$24,0)+COUNTIF(C$4:C21,C21)-1))","v":15},13,12,"South Africa",{"$f":"IF(H21=\"AVERAGE\",\"\", IF(COUNTIF(H$4:H21, \"AVERAGE\") < 1, (ROUNDUP(INDEX(F$4:F$24,MATCH(H21,B$4:B$24,0)),1)), (ROUNDUP(INDEX(G$4:G$23,MATCH(H21,B$4:B$24,0)),1))))","v":15},17,{"$f":"IF(H21=\"AVERAGE\",\"\",IF(K20=\"\",IF(I21=I19,K19,COUNTIFS(K$3:K19,K19)+K19),IF(I21=I20,K20,COUNTIFS(K$4:K20,K20)+K20)))","v":17},18,"Spain",{"$f":"IFERROR(INDEX('SCORE TABLE'!$H$10:$AA$54, MATCH(L$2,'SCORE TABLE'!$B$10:$B$54,0), MATCH(M21,'SCORE TABLE'!$H$9:$AA$9,0)),\"Not scored\")","v":54.4},18,{"$f":"IF(N21=\"Not scored\",O21,(RANK(N21,N$4:N$24,0)+COUNTIF(N$4:N21,N21)-1))","v":15},13,12,"South Africa",{"$f":"IF(S21=\"AVERAGE\",\"\", IF(COUNTIF(S$4:S21, \"AVERAGE\") < 1, (ROUNDUP(INDEX(Q$4:Q$24,MATCH(S21,M$4:M$24,0)),1)), (ROUNDUP(INDEX(R$4:R$23,MATCH(S21,M$4:M$24,0)),1))))","v":15},17,{"$f":"IF(S21=\"AVERAGE\",\"\",IF(V20=\"\",IF(T21=T19,V19,COUNTIFS(V$3:V19,V19)+V19),IF(T21=T20,V20,COUNTIFS(V$4:V20,V20)+V20)))","v":17},18,"Spain",{"$f":"IFERROR(INDEX('SCORE TABLE'!$H$10:$AA$54, MATCH(W$2,'SCORE TABLE'!$B$10:$B$54,0), MATCH(X21,'SCORE TABLE'!$H$9:$AA$9,0)),\"Not scored\")","v":62.5},18,{"$f":"IF(Y21=\"Not scored\",Z21,(RANK(Y21,Y$4:Y$24,0)+COUNTIF(Y$4:Y21,Y21)-1))","v":3},2,2,"Nigeria",{"$f":"IF(AD21=\"AVERAGE\",\"\", IF(COUNTIF(AD$4:AD21, \"AVERAGE\") < 1, (ROUNDUP(INDEX(AB$4:AB$24,MATCH(AD21,X$4:X$24,0)),1)), (ROUNDUP(INDEX(AC$4:AC$23,MATCH(AD21,X$4:X$24,0)),1))))","v":14},17,{"$f":"IF(AD21=\"AVERAGE\",\"\",IF(AG20=\"\",IF(AE21=AE19,AG19,COUNTIFS(AG$3:AG19,AG19)+AG19),IF(AE21=AE20,AG20,COUNTIFS(AG$4:AG20,AG20)+AG20)))","v":17},18,"Spain",{"$f":"IFERROR(INDEX('SCORE TABLE'!$H$10:$AA$54, MATCH(AH$2,'SCORE TABLE'!$B$10:$B$54,0), MATCH(AI21,'SCORE TABLE'!$H$9:$AA$9,0)),\"Not scored\")","v":30.55556},18,{"$f":"IF(AJ21=\"Not scored\",AK21,(RANK(AJ21,AJ$4:AJ$24,0)+COUNTIF(AJ$4:AJ21,AJ21)-1))","v":18},11,10,"Spain",{"$f":"IF(AO21=\"AVERAGE\",\"\", IF(COUNTIF(AO$4:AO21, \"AVERAGE\") < 1, (ROUNDUP(INDEX(AM$4:AM$24,MATCH(AO21,AI$4:AI$24,0)),1)), (ROUNDUP(INDEX(AN$4:AN$23,MATCH(AO21,AI$4:AI$24,0)),1))))","v":10},17,{"$f":"IF(AO21=\"AVERAGE\",\"\",IF(AR20=\"\",IF(AP21=AP19,AR19,COUNTIFS(AR$3:AR19,AR19)+AR19),IF(AP21=AP20,AR20,COUNTIFS(AR$4:AR20,AR20)+AR20)))","v":17},18,"Spain",{"$f":"IFERROR(INDEX('SCORE TABLE'!$H$10:$AA$54, MATCH(AS$2,'SCORE TABLE'!$B$10:$B$54,0), MATCH(AT21,'SCORE TABLE'!$H$9:$AA$9,0)),\"Not scored\")","v":82.688890000000001},18,{"$f":"IF(AU21=\"Not scored\",AV21,(RANK(AU21,AU$4:AU$24,0)+COUNTIF(AU$4:AU21,AU21)-1))","v":3},3,3,"India",{"$f":"IF(AZ21=\"AVERAGE\",\"\", IF(COUNTIF(AZ$4:AZ21, \"AVERAGE\") < 1, (ROUNDUP(INDEX(AX$4:AX$24,MATCH(AZ21,AT$4:AT$24,0)),1)), (ROUNDUP(INDEX(AY$4:AY$23,MATCH(AZ21,AT$4:AT$24,0)),1))))","v":17},17,{"$f":"IF(AZ21=\"AVERAGE\",\"\",IF(BC20=\"\",IF(BA21=BA19,BC19,COUNTIFS(BC$3:BC19,BC19)+BC19),IF(BA21=BA20,BC20,COUNTIFS(BC$4:BC20,BC20)+BC20)))","v":17},18,"Spain",{"$f":"IFERROR(INDEX('SCORE TABLE'!$H$10:$AA$54, MATCH(BD$2,'SCORE TABLE'!$B$10:$B$54,0), MATCH(BE21,'SCORE TABLE'!$H$9:$AA$9,0)),\"Not scored\")","v":41.666670000000003},18,{"$f":"IF(BF21=\"Not scored\",BG21,(RANK(BF21,BF$4:BF$24,0)+COUNTIF(BF$4:BF21,BF21)-1))","v":16},6.0000000000000009,5.0000000000000009,"Mexico",{"$f":"IF(BK21=\"AVERAGE\",\"\", IF(COUNTIF(BK$4:BK21, \"AVERAGE\") < 1, (ROUNDUP(INDEX(BI$4:BI$24,MATCH(BK21,BE$4:BE$24,0)),1)), (ROUNDUP(INDEX(BJ$4:BJ$23,MATCH(BK21,BE$4:BE$24,0)),1))))","v":6},"=17",{"$f":"IF(BK21=\"AVERAGE\",\"\",IF(BN20=\"\",IF(BL21=BL19,BN19,COUNTIFS(BN$3:BN19,BN19)+BN19),IF(BL21=BL20,BN20,COUNTIFS(BN$4:BN20,BN20)+BN20)))","v":17}]
[19,"United Arab Emirates",{"$f":"IFERROR(INDEX('SCORE TABLE'!$H$10:$AA$54, MATCH(A$2,'SCORE TABLE'!$B$10:$B$54,0), MATCH(B22,'SCORE TABLE'!$H$9:$AA$9,0)),\"Not scored\")","v":54.7},19,{"$f":"IF(C22=\"Not scored\",D22,(RANK(C22,C$4:C$24,0)+COUNTIF(C$4:C22,C22)-1))","v":13},12,11,"Rwanda",{"$f":"IF(H22=\"AVERAGE\",\"\", IF(COUNTIF(H$4:H22, \"AVERAGE\") < 1, (ROUNDUP(INDEX(F$4:F$24,MATCH(H22,B$4:B$24,0)),1)), (ROUNDUP(INDEX(G$4:G$23,MATCH(H22,B$4:B$24,0)),1))))","v":16},18,{"$f":"IF(H22=\"AVERAGE\",\"\",IF(K21=\"\",IF(I22=I20,K20,COUNTIFS(K$3:K20,K20)+K20),IF(I22=I21,K21,COUNTIFS(K$4:K21,K21)+K21)))","v":18},19,"United Arab Emirates",{"$f":"IFERROR(INDEX('SCORE TABLE'!$H$10:$AA$54, MATCH(L$2,'SCORE TABLE'!$B$10:$B$54,0), MATCH(M22,'SCORE TABLE'!$H$9:$AA$9,0)),\"Not scored\")","v":54.7},19,{"$f":"IF(N22=\"Not scored\",O22,(RANK(N22,N$4:N$24,0)+COUNTIF(N$4:N22,N22)-1))","v":13},12,11,"Rwanda",{"$f":"IF(S22=\"AVERAGE\",\"\", IF(COUNTIF(S$4:S22, \"AVERAGE\") < 1, (ROUNDUP(INDEX(Q$4:Q$24,MATCH(S22,M$4:M$24,0)),1)), (ROUNDUP(INDEX(R$4:R$23,MATCH(S22,M$4:M$24,0)),1))))","v":16},18,{"$f":"IF(S22=\"AVERAGE\",\"\",IF(V21=\"\",IF(T22=T20,V20,COUNTIFS(V$3:V20,V20)+V20),IF(T22=T21,V21,COUNTIFS(V$4:V21,V21)+V21)))","v":18},19,"United Arab Emirates",{"$f":"IFERROR(INDEX('SCORE TABLE'!$H$10:$AA$54, MATCH(W$2,'SCORE TABLE'!$B$10:$B$54,0), MATCH(X22,'SCORE TABLE'!$H$9:$AA$9,0)),\"Not scored\")","v":20},19,{"$f":"IF(Y22=\"Not scored\",Z22,(RANK(Y22,Y$4:Y$24,0)+COUNTIF(Y$4:Y22,Y22)-1))","v":21},17,16,"Rwanda",{"$f":"IF(AD22=\"AVERAGE\",\"\", IF(COUNTIF(AD$4:AD22, \"AVERAGE\") < 1, (ROUNDUP(INDEX(AB$4:AB$24,MATCH(AD22,X$4:X$24,0)),1)), (ROUNDUP(INDEX(AC$4:AC$23,MATCH(AD22,X$4:X$24,0)),1))))","v":15},18,{"$f":"IF(AD22=\"AVERAGE\",\"\",IF(AG21=\"\",IF(AE22=AE20,AG20,COUNTIFS(AG$3:AG20,AG20)+AG20),IF(AE22=AE21,AG21,COUNTIFS(AG$4:AG21,AG21)+AG21)))","v":18},19,"United Arab Emirates",{"$f":"IFERROR(INDEX('SCORE TABLE'!$H$10:$AA$54, MATCH(AH$2,'SCORE TABLE'!$B$10:$B$54,0), MATCH(AI22,'SCORE TABLE'!$H$9:$AA$9,0)),\"Not scored\")","v":91.666669999999996},19,{"$f":"IF(AJ22=\"Not scored\",AK22,(RANK(AJ22,AJ$4:AJ$24,0)+COUNTIF(AJ$4:AJ22,AJ22)-1))","v":4},2,2,"India",{"$f":"IF(AO22=\"AVERAGE\",\"\", IF(COUNTIF(AO$4:AO22, \"AVERAGE\") < 1, (ROUNDUP(INDEX(AM$4:AM$24,MATCH(AO22,AI$4:AI$24,0)),1)), (ROUNDUP(INDEX(AN$4:AN$23,MATCH(AO22,AI$4:AI$24,0)),1))))","v":11},18,{"$f":"IF(AO22=\"AVERAGE\",\"\",IF(AR21=\"\",IF(AP22=AP20,AR20,COUNTIFS(AR$3:AR20,AR20)+AR20),IF(AP22=AP21,AR21,COUNTIFS(AR$4:AR21,AR21)+AR21)))","v":18},19,"United Arab Emirates",{"$f":"IFERROR(INDEX('SCORE TABLE'!$H$10:$AA$54, MATCH(AS$2,'SCORE TABLE'!$B$10:$B$54,0), MATCH(AT22,'SCORE TABLE'!$H$9:$AA$9,0)),\"Not scored\")","v":65.3},19,{"$f":"IF(AU22=\"Not scored\",AV22,(RANK(AU22,AU$4:AU$24,0)+COUNTIF(AU$4:AU22,AU22)-1))","v":11},11,10,"Rwanda",{"$f":"IF(AZ22=\"AVERAGE\",\"\", IF(COUNTIF(AZ$4:AZ22, \"AVERAGE\") < 1, (ROUNDUP(INDEX(AX$4:AX$24,MATCH(AZ22,AT$4:AT$24,0)),1)), (ROUNDUP(INDEX(AY$4:AY$23,MATCH(AZ22,AT$4:AT$24,0)),1))))","v":18},18,{"$f":"IF(AZ22=\"AVERAGE\",\"\",IF(BC21=\"\",IF(BA22=BA20,BC20,COUNTIFS(BC$3:BC20,BC20)+BC20),IF(BA22=BA21,BC21,COUNTIFS(BC$4:BC21,BC21)+BC21)))","v":18},19,"United Arab Emirates",{"$f":"IFERROR(INDEX('SCORE TABLE'!$H$10:$AA$54, MATCH(BD$2,'SCORE TABLE'!$B$10:$B$54,0), MATCH(BE22,'SCORE TABLE'!$H$9:$AA$9,0)),\"Not scored\")","v":41.666670000000003},19,{"$f":"IF(BF22=\"Not scored\",BG22,(RANK(BF22,BF$4:BF$24,0)+COUNTIF(BF$4:BF22,BF22)-1))","v":17},6.0000000000000009,5.0000000000000009,"Saudi Arabia",{"$f":"IF(BK22=\"AVERAGE\",\"\", IF(COUNTIF(BK$4:BK22, \"AVERAGE\") < 1, (ROUNDUP(INDEX(BI$4:BI$24,MATCH(BK22,BE$4:BE$24,0)),1)), (ROUNDUP(INDEX(BJ$4:BJ$23,MATCH(BK22,BE$4:BE$24,0)),1))))","v":6},"=17",{"$f":"IF(BK22=\"AVERAGE\",\"\",IF(BN21=\"\",IF(BL22=BL20,BN20,COUNTIFS(BN$3:BN20,BN20)+BN20),IF(BL22=BL21,BN21,COUNTIFS(BN$4:BN21,BN21)+BN21)))","v":17}]
[20,"United Kingdom",{"$f":"IFERROR(INDEX('SCORE TABLE'!$H$10:$AA$54, MATCH(A$2,'SCORE TABLE'!$B$10:$B$54,0), MATCH(B23,'SCORE TABLE'!$H$9:$AA$9,0)),\"Not scored\")","v":64.400000000000006},20,{"$f":"IF(C23=\"Not scored\",D23,(RANK(C23,C$4:C$24,0)+COUNTIF(C$4:C23,C23)-1))","v":7},7,7,"India",{"$f":"IF(H23=\"AVERAGE\",\"\", IF(COUNTIF(H$4:H23, \"AVERAGE\") < 1, (ROUNDUP(INDEX(F$4:F$24,MATCH(H23,B$4:B$24,0)),1)), (ROUNDUP(INDEX(G$4:G$23,MATCH(H23,B$4:B$24,0)),1))))","v":17},19,{"$f":"IF(H23=\"AVERAGE\",\"\",IF(K22=\"\",IF(I23=I21,K21,COUNTIFS(K$3:K21,K21)+K21),IF(I23=I22,K22,COUNTIFS(K$4:K22,K22)+K22)))","v":19},20,"United Kingdom",{"$f":"IFERROR(INDEX('SCORE TABLE'!$H$10:$AA$54, MATCH(L$2,'SCORE TABLE'!$B$10:$B$54,0), MATCH(M23,'SCORE TABLE'!$H$9:$AA$9,0)),\"Not scored\")","v":64.400000000000006},20,{"$f":"IF(N23=\"Not scored\",O23,(RANK(N23,N$4:N$24,0)+COUNTIF(N$4:N23,N23)-1))","v":7},7,7,"India",{"$f":"IF(S23=\"AVERAGE\",\"\", IF(COUNTIF(S$4:S23, \"AVERAGE\") < 1, (ROUNDUP(INDEX(Q$4:Q$24,MATCH(S23,M$4:M$24,0)),1)), (ROUNDUP(INDEX(R$4:R$23,MATCH(S23,M$4:M$24,0)),1))))","v":17},19,{"$f":"IF(S23=\"AVERAGE\",\"\",IF(V22=\"\",IF(T23=T21,V21,COUNTIFS(V$3:V21,V21)+V21),IF(T23=T22,V22,COUNTIFS(V$4:V22,V22)+V22)))","v":19},20,"United Kingdom",{"$f":"IFERROR(INDEX('SCORE TABLE'!$H$10:$AA$54, MATCH(W$2,'SCORE TABLE'!$B$10:$B$54,0), MATCH(X23,'SCORE TABLE'!$H$9:$AA$9,0)),\"Not scored\")","v":42.5},20,{"$f":"IF(Y23=\"Not scored\",Z23,(RANK(Y23,Y$4:Y$24,0)+COUNTIF(Y$4:Y23,Y23)-1))","v":14},11,10,"Canada",{"$f":"IF(AD23=\"AVERAGE\",\"\", IF(COUNTIF(AD$4:AD23, \"AVERAGE\") < 1, (ROUNDUP(INDEX(AB$4:AB$24,MATCH(AD23,X$4:X$24,0)),1)), (ROUNDUP(INDEX(AC$4:AC$23,MATCH(AD23,X$4:X$24,0)),1))))","v":16},"=19",{"$f":"IF(AD23=\"AVERAGE\",\"\",IF(AG22=\"\",IF(AE23=AE21,AG21,COUNTIFS(AG$3:AG21,AG21)+AG21),IF(AE23=AE22,AG22,COUNTIFS(AG$4:AG22,AG22)+AG22)))","v":19},20,"United Kingdom",{"$f":"IFERROR(INDEX('SCORE TABLE'!$H$10:$AA$54, MATCH(AH$2,'SCORE TABLE'!$B$10:$B$54,0), MATCH(AI23,'SCORE TABLE'!$H$9:$AA$9,0)),\"Not scored\")","v":100},20,{"$f":"IF(AJ23=\"Not scored\",AK23,(RANK(AJ23,AJ$4:AJ$24,0)+COUNTIF(AJ$4:AJ23,AJ23)-1))","v":1},1,1,"South Africa",{"$f":"IF(AO23=\"AVERAGE\",\"\", IF(COUNTIF(AO$4:AO23, \"AVERAGE\") < 1, (ROUNDUP(INDEX(AM$4:AM$24,MATCH(AO23,AI$4:AI$24,0)),1)), (ROUNDUP(INDEX(AN$4:AN$23,MATCH(AO23,AI$4:AI$24,0)),1))))","v":12},19,{"$f":"IF(AO23=\"AVERAGE\",\"\",IF(AR22=\"\",IF(AP23=AP21,AR21,COUNTIFS(AR$3:AR21,AR21)+AR21),IF(AP23=AP22,AR22,COUNTIFS(AR$4:AR22,AR22)+AR22)))","v":19},20,"United Kingdom",{"$f":"IFERROR(INDEX('SCORE TABLE'!$H$10:$AA$54, MATCH(AS$2,'SCORE TABLE'!$B$10:$B$54,0), MATCH(AT23,'SCORE TABLE'!$H$9:$AA$9,0)),\"Not scored\")","v":90.2},20,{"$f":"IF(AU23=\"Not scored\",AV23,(RANK(AU23,AU$4:AU$24,0)+COUNTIF(AU$4:AU23,AU23)-1))","v":1},1,1,"Saudi Arabia",{"$f":"IF(AZ23=\"AVERAGE\",\"\", IF(COUNTIF(AZ$4:AZ23, \"AVERAGE\") < 1, (ROUNDUP(INDEX(AX$4:AX$24,MATCH(AZ23,AT$4:AT$24,0)),1)), (ROUNDUP(INDEX(AY$4:AY$23,MATCH(AZ23,AT$4:AT$24,0)),1))))","v":19},19,{"$f":"IF(AZ23=\"AVERAGE\",\"\",IF(BC22=\"\",IF(BA23=BA21,BC21,COUNTIFS(BC$3:BC21,BC21)+BC21),IF(BA23=BA22,BC22,COUNTIFS(BC$4:BC22,BC22)+BC22)))","v":19},20,"United Kingdom",{"$f":"IFERROR(INDEX('SCORE TABLE'!$H$10:$AA$54, MATCH(BD$2,'SCORE TABLE'!$B$10:$B$54,0), MATCH(BE23,'SCORE TABLE'!$H$9:$AA$9,0)),\"Not scored\")","v":25},20,{"$f":"IF(BF23=\"Not scored\",BG23,(RANK(BF23,BF$4:BF$24,0)+COUNTIF(BF$4:BF23,BF23)-1))","v":20},8,7,"United Kingdom",{"$f":"IF(BK23=\"AVERAGE\",\"\", IF(COUNTIF(BK$4:BK23, \"AVERAGE\") < 1, (ROUNDUP(INDEX(BI$4:BI$24,MATCH(BK23,BE$4:BE$24,0)),1)), (ROUNDUP(INDEX(BJ$4:BJ$23,MATCH(BK23,BE$4:BE$24,0)),1))))","v":7},19,{"$f":"IF(BK23=\"AVERAGE\",\"\",IF(BN22=\"\",IF(BL23=BL21,BN21,COUNTIFS(BN$3:BN21,BN21)+BN21),IF(BL23=BL22,BN22,COUNTIFS(BN$4:BN22,BN22)+BN22)))","v":19}]
[21,{"$f":"IF(B2=\"Background indicator\",\"\",\"AVERAGE\")","v":"AVERAGE"},{"$f":"IFERROR(AVERAGE(C4:C23),\"Not scored\")","v":55.875000000000014},21,{"$f":"IF(C24=\"Not scored\",D24,(RANK(C24,C$4:C$24,0)+COUNTIF(C$4:C24,C24)-1))","v":11},10,null,"Nigeria",{"$f":"IF(H24=\"AVERAGE\",\"\", IF(COUNTIF(H$4:H24, \"AVERAGE\") < 1, (ROUNDUP(INDEX(F$4:F$24,MATCH(H24,B$4:B$24,0)),1)), (ROUNDUP(INDEX(G$4:G$23,MATCH(H24,B$4:B$24,0)),1))))","v":18},20,{"$f":"IF(H24=\"AVERAGE\",\"\",IF(K23=\"\",IF(I24=I22,K22,COUNTIFS(K$3:K22,K22)+K22),IF(I24=I23,K23,COUNTIFS(K$4:K23,K23)+K23)))","v":20},21,{"$f":"IF(M2=\"Background indicator\",\"\",\"AVERAGE\")","v":"AVERAGE"},{"$f":"IFERROR(AVERAGE(N4:N23),\"Not scored\")","v":55.875000000000014},21,{"$f":"IF(N24=\"Not scored\",O24,(RANK(N24,N$4:N$24,0)+COUNTIF(N$4:N24,N24)-1))","v":11},10,null,"Nigeria",{"$f":"IF(S24=\"AVERAGE\",\"\", IF(COUNTIF(S$4:S24, \"AVERAGE\") < 1, (ROUNDUP(INDEX(Q$4:Q$24,MATCH(S24,M$4:M$24,0)),1)), (ROUNDUP(INDEX(R$4:R$23,MATCH(S24,M$4:M$24,0)),1))))","v":18},20,{"$f":"IF(S24=\"AVERAGE\",\"\",IF(V23=\"\",IF(T24=T22,V22,COUNTIFS(V$3:V22,V22)+V22),IF(T24=T23,V23,COUNTIFS(V$4:V23,V23)+V23)))","v":20},21,{"$f":"IF(X2=\"Background indicator\",\"\",\"AVERAGE\")","v":"AVERAGE"},{"$f":"IFERROR(AVERAGE(Y4:Y23),\"Not scored\")","v":45.145833499999995},21,{"$f":"IF(Y24=\"Not scored\",Z24,(RANK(Y24,Y$4:Y$24,0)+COUNTIF(Y$4:Y24,Y24)-1))","v":11},9,null,"United Arab Emirates",{"$f":"IF(AD24=\"AVERAGE\",\"\", IF(COUNTIF(AD$4:AD24, \"AVERAGE\") < 1, (ROUNDUP(INDEX(AB$4:AB$24,MATCH(AD24,X$4:X$24,0)),1)), (ROUNDUP(INDEX(AC$4:AC$23,MATCH(AD24,X$4:X$24,0)),1))))","v":16},"=19",{"$f":"IF(AD24=\"AVERAGE\",\"\",IF(AG23=\"\",IF(AE24=AE22,AG22,COUNTIFS(AG$3:AG22,AG22)+AG22),IF(AE24=AE23,AG23,COUNTIFS(AG$4:AG23,AG23)+AG23)))","v":19},21,{"$f":"IF(AI2=\"Background indicator\",\"\",\"AVERAGE\")","v":"AVERAGE"},{"$f":"IFERROR(AVERAGE(AJ4:AJ23),\"Not scored\")","v":63.888889000000006},21,{"$f":"IF(AJ24=\"Not scored\",AK24,(RANK(AJ24,AJ$4:AJ$24,0)+COUNTIF(AJ$4:AJ24,AJ24)-1))","v":13},7,null,"Nigeria",{"$f":"IF(AO24=\"AVERAGE\",\"\", IF(COUNTIF(AO$4:AO24, \"AVERAGE\") < 1, (ROUNDUP(INDEX(AM$4:AM$24,MATCH(AO24,AI$4:AI$24,0)),1)), (ROUNDUP(INDEX(AN$4:AN$23,MATCH(AO24,AI$4:AI$24,0)),1))))","v":13},20,{"$f":"IF(AO24=\"AVERAGE\",\"\",IF(AR23=\"\",IF(AP24=AP22,AR22,COUNTIFS(AR$3:AR22,AR22)+AR22),IF(AP24=AP23,AR23,COUNTIFS(AR$4:AR23,AR23)+AR23)))","v":20},21,{"$f":"IF(AT2=\"Background indicator\",\"\",\"AVERAGE\")","v":"AVERAGE"},{"$f":"IFERROR(AVERAGE(AU4:AU23),\"Not scored\")","v":66.103333499999991},21,{"$f":"IF(AU24=\"Not scored\",AV24,(RANK(AU24,AU$4:AU$24,0)+COUNTIF(AU$4:AU24,AU24)-1))","v":10},10,null,"Nigeria",{"$f":"IF(AZ24=\"AVERAGE\",\"\", IF(COUNTIF(AZ$4:AZ24, \"AVERAGE\") < 1, (ROUNDUP(INDEX(AX$4:AX$24,MATCH(AZ24,AT$4:AT$24,0)),1)), (ROUNDUP(INDEX(AY$4:AY$23,MATCH(AZ24,AT$4:AT$24,0)),1))))","v":20},20,{"$f":"IF(AZ24=\"AVERAGE\",\"\",IF(BC23=\"\",IF(BA24=BA22,BC22,COUNTIFS(BC$3:BC22,BC22)+BC22),IF(BA24=BA23,BC23,COUNTIFS(BC$4:BC23,BC23)+BC23)))","v":20},21,{"$f":"IF(BE2=\"Background indicator\",\"\",\"AVERAGE\")","v":"AVERAGE"},{"$f":"IFERROR(AVERAGE(BF4:BF23),\"Not scored\")","v":48.333336499999994},21,{"$f":"IF(BF24=\"Not scored\",BG24,(RANK(BF24,BF$4:BF$24,0)+COUNTIF(BF$4:BF24,BF24)-1))","v":12},5,null,"Nigeria",{"$f":"IF(BK24=\"AVERAGE\",\"\", IF(COUNTIF(BK$4:BK24, \"AVERAGE\") < 1, (ROUNDUP(INDEX(BI$4:BI$24,MATCH(BK24,BE$4:BE$24,0)),1)), (ROUNDUP(INDEX(BJ$4:BJ$23,MATCH(BK24,BE$4:BE$24,0)),1))))","v":8},20,{"$f":"IF(BK24=\"AVERAGE\",\"\",IF(BN23=\"\",IF(BL24=BL22,BN22,COUNTIFS(BN$3:BN22,BN22)+BN22),IF(BL24=BL23,BN23,COUNTIFS(BN$4:BN23,BN23)+BN23)))","v":20}]