{"text_format":"3","workbook":"xlsx","n_sheets":13,"sheets":["HOME","ABOUT","PILLARS","INDICATORS","STATES","DATA TABLE","SCORE TABLE","Data_summary","Score_alphabetical","Score_rank unique","Score_rank shared","Lists","Selected values"],"not_rendered":{"images":2,"macros":1,"defined_names":5},"read":"whole","date_system":"1900"}

{"sheet":"HOME","index":0,"n_rows":16,"n_cols":3,"rows_kept":16}
[]
[]
[]
[]
[]
[]
[null,"THE UNITED STATES OBESITY RESPONSE INDEX"]
[]
[null,"Contents"]
[]
[null,"About","Introduction to this index."]
[null,"Pillars","Comparison of pillar performance across states."]
[null,"Indicators","Comparison across states for a single selected indicator/pillar."]
[null,"States","State-level scorecard."]
[null,"Data table","Entire dataset, in table format."]
[null,"Scores","Entire scorecard, in table format. "]

{"sheet":"ABOUT","index":1,"n_rows":15,"n_cols":3,"rows_kept":15,"merged":[[7,1,9,4],[10,1,10,4],[11,1,13,4],[14,1,16,4]]}
[null,null,{"$f":"HOME!B7","v":"THE UNITED STATES OBESITY RESPONSE INDEX"}]
[]
[]
[]
[]
[null,"About"]
[]
[null,"The United States Obesity Response Index assesses obesity prevention and management policy in all 50 US states. It seeks to address a gap in understanding the full range of factors that contribute to obesity, the associated risks and which policy interventions truly work. By examining state-level approaches, the index highlights areas where policy is strongest and weakest, signposting where states can learn from each other."]
[]
[]
[null,"The framework is organised as follows:\n"]
[null,"• Three pillars: Policy & governance, Food quality & access, Physical activity\n• Seven sub-pillars, distributed across the pillars\n• 23 indicators, distributed across the sub-pillars"]
[]
[]
[null,"In addition to these core pillars and indicators, the framework also includes 14 background indicators. These indicators are not scored, but are used to provide more context and to better understand the factors that may influence state-level scores."]

{"sheet":"PILLARS","index":2,"n_rows":72,"n_cols":20,"rows_kept":72,"merged":[[5,1,5,3],[6,1,6,3],[19,1,19,4],[19,6,19,9],[19,11,19,14],[19,16,19,19]]}
[null,{"$f":"HOME!B7","v":"THE UNITED STATES OBESITY RESPONSE INDEX"}]
[]
[]
[]
[]
[null,"SELECT SORT ORDER"]
[null,"Best response to worst"]
[]
[]
[null,"Scores 80-100 - Areas of strength",{"$nulls":3},80]
[null,"Scores 60-79",{"$nulls":3},60]
[null,"Scores 40-59",{"$nulls":3},40]
[null,"Scores 20-39",{"$nulls":3},20]
[null,"Scores 0-19 - Areas of development",{"$nulls":3},0]
[]
[null,"Score: 0-100, where 100 = strongest obesity response"]
[null,"'=' denotes tied rank"]
[null,"Average = mean score for all states shown in table"]
[]
[null,"OVERALL ",{"$nulls":4},"1) Policy and governance",{"$nulls":4},"2) Food quality and access",{"$nulls":4},"3) Physical activity"]
[null,null,"Rank","State","Score",null,null,"Rank","State","Score",null,null,"Rank","State","Score",null,null,"Rank","State","Score"]
[{"$f":"IF($B$7=Lists!$K$4, 51,1)","v":1},null,{"$f":"INDEX('Selected values'!$U$4:$U$54,MATCH(D22,'Selected values'!$S$4:$S$54,0))","v":1},{"$f":"IF($B$7=Lists!$K$2, INDEX('Selected values'!$M$4:$M$54, MATCH($A22,'Selected values'!$O$4:$O$54,0)), INDEX('Selected values'!$M$4:$M$54,MATCH($A22,'Selected values'!$P$4:$P$54,0)))","v":"Minnesota"},{"$f":"ROUND(INDEX('Selected values'!$N$4:$N$54, MATCH(D22,'Selected values'!$M$4:$M$54,0)),1)","v":69.2},null,null,{"$f":"INDEX('Selected values'!$AF$4:$AF$54,MATCH(I22,'Selected values'!$AD$4:$AD$54,0))","v":1},{"$f":"IF($B$7=Lists!$K$2, INDEX('Selected values'!$X$4:$X$54, MATCH($A22,'Selected values'!$Z$4:$Z$54,0)), INDEX('Selected values'!$X$4:$X$54,MATCH($A22,'Selected values'!$AA$4:$AA$54,0)))","v":"Oklahoma"},{"$f":"ROUND(INDEX('Selected values'!$Y$4:$Y$54, MATCH(I22,'Selected values'!$X$4:$X$54,0)),1)","v":67.7},null,null,{"$f":"INDEX('Selected values'!$AQ$4:$AQ$54,MATCH(N22,'Selected values'!$AO$4:$AO$54,0))","v":1},{"$f":"IF($B$7=Lists!$K$2, INDEX('Selected values'!$AI$4:$AI$54, MATCH($A22,'Selected values'!$AK$4:$AK$54,0)), INDEX('Selected values'!$AI$4:$AI$54,MATCH($A22,'Selected values'!$AL$4:$AL$54,0)))","v":"Iowa"},{"$f":"ROUND(INDEX('Selected values'!$AJ$4:$AJ$54, MATCH(N22,'Selected values'!$AI$4:$AI$54,0)),1)","v":89.7},null,null,{"$f":"INDEX('Selected values'!$BB$4:$BB$54,MATCH(S22,'Selected values'!$AZ$4:$AZ$54,0))","v":1},{"$f":"IF($B$7=Lists!$K$2, INDEX('Selected values'!$AT$4:$AT$54, MATCH($A22,'Selected values'!$AV$4:$AV$54,0)), INDEX('Selected values'!$AT$4:$AT$54,MATCH($A22,'Selected values'!$AW$4:$AW$54,0)))","v":"Virginia"},{"$f":"ROUND(INDEX('Selected values'!$AU$4:$AU$54, MATCH(S22,'Selected values'!$AT$4:$AT$54,0)),1)","v":87.7}]
[{"$f":"IF($B$7=Lists!$K$4, A22-1,A22+1)","v":2},null,{"$f":"INDEX('Selected values'!$U$4:$U$54,MATCH(D23,'Selected values'!$S$4:$S$54,0))","v":2},{"$f":"IF($B$7=Lists!$K$2, INDEX('Selected values'!$M$4:$M$54, MATCH($A23,'Selected values'!$O$4:$O$54,0)), INDEX('Selected values'!$M$4:$M$54,MATCH($A23,'Selected values'!$P$4:$P$54,0)))","v":"Kentucky"},{"$f":"ROUND(INDEX('Selected values'!$N$4:$N$54, MATCH(D23,'Selected values'!$M$4:$M$54,0)),1)","v":66.5},null,null,{"$f":"INDEX('Selected values'!$AF$4:$AF$54,MATCH(I23,'Selected values'!$AD$4:$AD$54,0))","v":2},{"$f":"IF($B$7=Lists!$K$2, INDEX('Selected values'!$X$4:$X$54, MATCH($A23,'Selected values'!$Z$4:$Z$54,0)), INDEX('Selected values'!$X$4:$X$54,MATCH($A23,'Selected values'!$AA$4:$AA$54,0)))","v":"New Mexico"},{"$f":"ROUND(INDEX('Selected values'!$Y$4:$Y$54, MATCH(I23,'Selected values'!$X$4:$X$54,0)),1)","v":63.8},null,null,{"$f":"INDEX('Selected values'!$AQ$4:$AQ$54,MATCH(N23,'Selected values'!$AO$4:$AO$54,0))","v":2},{"$f":"IF($B$7=Lists!$K$2, INDEX('Selected values'!$AI$4:$AI$54, MATCH($A23,'Selected values'!$AK$4:$AK$54,0)), INDEX('Selected values'!$AI$4:$AI$54,MATCH($A23,'Selected values'!$AL$4:$AL$54,0)))","v":"Minnesota"},{"$f":"INDEX('Selected values'!$AJ$4:$AJ$54, MATCH(N23,'Selected values'!$AI$4:$AI$54,0))","v":{"v":88.16666666666666,"d":"88.2"}},null,null,{"$f":"INDEX('Selected values'!$BB$4:$BB$54,MATCH(S23,'Selected values'!$AZ$4:$AZ$54,0))","v":2},{"$f":"IF($B$7=Lists!$K$2, INDEX('Selected values'!$AT$4:$AT$54, MATCH($A23,'Selected values'!$AV$4:$AV$54,0)), INDEX('Selected values'!$AT$4:$AT$54,MATCH($A23,'Selected values'!$AW$4:$AW$54,0)))","v":"California"},{"$f":"ROUND(INDEX('Selected values'!$AU$4:$AU$54, MATCH(S23,'Selected values'!$AT$4:$AT$54,0)),1)","v":73.5}]
[{"$f":"IF($B$7=Lists!$K$4, A23-1,A23+1)","v":3},null,{"$f":"INDEX('Selected values'!$U$4:$U$54,MATCH(D24,'Selected values'!$S$4:$S$54,0))","v":3},{"$f":"IF($B$7=Lists!$K$2, INDEX('Selected values'!$M$4:$M$54, MATCH($A24,'Selected values'!$O$4:$O$54,0)), INDEX('Selected values'!$M$4:$M$54,MATCH($A24,'Selected values'!$P$4:$P$54,0)))","v":"Colorado"},{"$f":"ROUND(INDEX('Selected values'!$N$4:$N$54, MATCH(D24,'Selected values'!$M$4:$M$54,0)),1)","v":65.5},null,null,{"$f":"INDEX('Selected values'!$AF$4:$AF$54,MATCH(I24,'Selected values'!$AD$4:$AD$54,0))","v":3},{"$f":"IF($B$7=Lists!$K$2, INDEX('Selected values'!$X$4:$X$54, MATCH($A24,'Selected values'!$Z$4:$Z$54,0)), INDEX('Selected values'!$X$4:$X$54,MATCH($A24,'Selected values'!$AA$4:$AA$54,0)))","v":"Nebraska"},{"$f":"ROUND(INDEX('Selected values'!$Y$4:$Y$54, MATCH(I24,'Selected values'!$X$4:$X$54,0)),1)","v":{"v":60,"d":"60.0"}},null,null,{"$f":"INDEX('Selected values'!$AQ$4:$AQ$54,MATCH(N24,'Selected values'!$AO$4:$AO$54,0))","v":3},{"$f":"IF($B$7=Lists!$K$2, INDEX('Selected values'!$AI$4:$AI$54, MATCH($A24,'Selected values'!$AK$4:$AK$54,0)), INDEX('Selected values'!$AI$4:$AI$54,MATCH($A24,'Selected values'!$AL$4:$AL$54,0)))","v":"Illinois"},{"$f":"INDEX('Selected values'!$AJ$4:$AJ$54, MATCH(N24,'Selected values'!$AI$4:$AI$54,0))","v":{"v":85.95050456511291,"d":"86.0"}},null,null,{"$f":"INDEX('Selected values'!$BB$4:$BB$54,MATCH(S24,'Selected values'!$AZ$4:$AZ$54,0))","v":"=3"},{"$f":"IF($B$7=Lists!$K$2, INDEX('Selected values'!$AT$4:$AT$54, MATCH($A24,'Selected values'!$AV$4:$AV$54,0)), INDEX('Selected values'!$AT$4:$AT$54,MATCH($A24,'Selected values'!$AW$4:$AW$54,0)))","v":"Illinois"},{"$f":"ROUND(INDEX('Selected values'!$AU$4:$AU$54, MATCH(S24,'Selected values'!$AT$4:$AT$54,0)),1)","v":72.8}]
[{"$f":"IF($B$7=Lists!$K$4, A24-1,A24+1)","v":4},null,{"$f":"INDEX('Selected values'!$U$4:$U$54,MATCH(D25,'Selected values'!$S$4:$S$54,0))","v":4},{"$f":"IF($B$7=Lists!$K$2, INDEX('Selected values'!$M$4:$M$54, MATCH($A25,'Selected values'!$O$4:$O$54,0)), INDEX('Selected values'!$M$4:$M$54,MATCH($A25,'Selected values'!$P$4:$P$54,0)))","v":"Iowa"},{"$f":"ROUND(INDEX('Selected values'!$N$4:$N$54, MATCH(D25,'Selected values'!$M$4:$M$54,0)),1)","v":64.4},null,null,{"$f":"INDEX('Selected values'!$AF$4:$AF$54,MATCH(I25,'Selected values'!$AD$4:$AD$54,0))","v":"=4"},{"$f":"IF($B$7=Lists!$K$2, INDEX('Selected values'!$X$4:$X$54, MATCH($A25,'Selected values'!$Z$4:$Z$54,0)), INDEX('Selected values'!$X$4:$X$54,MATCH($A25,'Selected values'!$AA$4:$AA$54,0)))","v":"Florida"},{"$f":"ROUND(INDEX('Selected values'!$Y$4:$Y$54, MATCH(I25,'Selected values'!$X$4:$X$54,0)),1)","v":58.8},null,null,{"$f":"INDEX('Selected values'!$AQ$4:$AQ$54,MATCH(N25,'Selected values'!$AO$4:$AO$54,0))","v":4},{"$f":"IF($B$7=Lists!$K$2, INDEX('Selected values'!$AI$4:$AI$54, MATCH($A25,'Selected values'!$AK$4:$AK$54,0)), INDEX('Selected values'!$AI$4:$AI$54,MATCH($A25,'Selected values'!$AL$4:$AL$54,0)))","v":"North Carolina"},{"$f":"INDEX('Selected values'!$AJ$4:$AJ$54, MATCH(N25,'Selected values'!$AI$4:$AI$54,0))","v":{"v":84.2655240536067,"d":"84.3"}},null,null,{"$f":"INDEX('Selected values'!$BB$4:$BB$54,MATCH(S25,'Selected values'!$AZ$4:$AZ$54,0))","v":"=3"},{"$f":"IF($B$7=Lists!$K$2, INDEX('Selected values'!$AT$4:$AT$54, MATCH($A25,'Selected values'!$AV$4:$AV$54,0)), INDEX('Selected values'!$AT$4:$AT$54,MATCH($A25,'Selected values'!$AW$4:$AW$54,0)))","v":"Nevada"},{"$f":"ROUND(INDEX('Selected values'!$AU$4:$AU$54, MATCH(S25,'Selected values'!$AT$4:$AT$54,0)),1)","v":72.8}]
[{"$f":"IF($B$7=Lists!$K$4, A25-1,A25+1)","v":5},null,{"$f":"INDEX('Selected values'!$U$4:$U$54,MATCH(D26,'Selected values'!$S$4:$S$54,0))","v":5},{"$f":"IF($B$7=Lists!$K$2, INDEX('Selected values'!$M$4:$M$54, MATCH($A26,'Selected values'!$O$4:$O$54,0)), INDEX('Selected values'!$M$4:$M$54,MATCH($A26,'Selected values'!$P$4:$P$54,0)))","v":"Florida"},{"$f":"ROUND(INDEX('Selected values'!$N$4:$N$54, MATCH(D26,'Selected values'!$M$4:$M$54,0)),1)","v":64.1},null,null,{"$f":"INDEX('Selected values'!$AF$4:$AF$54,MATCH(I26,'Selected values'!$AD$4:$AD$54,0))","v":"=4"},{"$f":"IF($B$7=Lists!$K$2, INDEX('Selected values'!$X$4:$X$54, MATCH($A26,'Selected values'!$Z$4:$Z$54,0)), INDEX('Selected values'!$X$4:$X$54,MATCH($A26,'Selected values'!$AA$4:$AA$54,0)))","v":"Idaho"},{"$f":"ROUND(INDEX('Selected values'!$Y$4:$Y$54, MATCH(I26,'Selected values'!$X$4:$X$54,0)),1)","v":58.8},null,null,{"$f":"INDEX('Selected values'!$AQ$4:$AQ$54,MATCH(N26,'Selected values'!$AO$4:$AO$54,0))","v":5},{"$f":"IF($B$7=Lists!$K$2, INDEX('Selected values'!$AI$4:$AI$54, MATCH($A26,'Selected values'!$AK$4:$AK$54,0)), INDEX('Selected values'!$AI$4:$AI$54,MATCH($A26,'Selected values'!$AL$4:$AL$54,0)))","v":"Maryland"},{"$f":"INDEX('Selected values'!$AJ$4:$AJ$54, MATCH(N26,'Selected values'!$AI$4:$AI$54,0))","v":{"v":83.9753190239735,"d":"84.0"}},null,null,{"$f":"INDEX('Selected values'!$BB$4:$BB$54,MATCH(S26,'Selected values'!$AZ$4:$AZ$54,0))","v":5},{"$f":"IF($B$7=Lists!$K$2, INDEX('Selected values'!$AT$4:$AT$54, MATCH($A26,'Selected values'!$AV$4:$AV$54,0)), INDEX('Selected values'!$AT$4:$AT$54,MATCH($A26,'Selected values'!$AW$4:$AW$54,0)))","v":"Colorado"},{"$f":"ROUND(INDEX('Selected values'!$AU$4:$AU$54, MATCH(S26,'Selected values'!$AT$4:$AT$54,0)),1)","v":72.5}]
[{"$f":"IF($B$7=Lists!$K$4, A26-1,A26+1)","v":6},null,{"$f":"INDEX('Selected values'!$U$4:$U$54,MATCH(D27,'Selected values'!$S$4:$S$54,0))","v":6},{"$f":"IF($B$7=Lists!$K$2, INDEX('Selected values'!$M$4:$M$54, MATCH($A27,'Selected values'!$O$4:$O$54,0)), INDEX('Selected values'!$M$4:$M$54,MATCH($A27,'Selected values'!$P$4:$P$54,0)))","v":"Illinois"},{"$f":"ROUND(INDEX('Selected values'!$N$4:$N$54, MATCH(D27,'Selected values'!$M$4:$M$54,0)),1)","v":63.7},null,null,{"$f":"INDEX('Selected values'!$AF$4:$AF$54,MATCH(I27,'Selected values'!$AD$4:$AD$54,0))","v":"=4"},{"$f":"IF($B$7=Lists!$K$2, INDEX('Selected values'!$X$4:$X$54, MATCH($A27,'Selected values'!$Z$4:$Z$54,0)), INDEX('Selected values'!$X$4:$X$54,MATCH($A27,'Selected values'!$AA$4:$AA$54,0)))","v":"Mississippi"},{"$f":"ROUND(INDEX('Selected values'!$Y$4:$Y$54, MATCH(I27,'Selected values'!$X$4:$X$54,0)),1)","v":58.8},null,null,{"$f":"INDEX('Selected values'!$AQ$4:$AQ$54,MATCH(N27,'Selected values'!$AO$4:$AO$54,0))","v":6},{"$f":"IF($B$7=Lists!$K$2, INDEX('Selected values'!$AI$4:$AI$54, MATCH($A27,'Selected values'!$AK$4:$AK$54,0)), INDEX('Selected values'!$AI$4:$AI$54,MATCH($A27,'Selected values'!$AL$4:$AL$54,0)))","v":"Texas"},{"$f":"INDEX('Selected values'!$AJ$4:$AJ$54, MATCH(N27,'Selected values'!$AI$4:$AI$54,0))","v":{"v":82.0257132432769,"d":"82.0"}},null,null,{"$f":"INDEX('Selected values'!$BB$4:$BB$54,MATCH(S27,'Selected values'!$AZ$4:$AZ$54,0))","v":6},{"$f":"IF($B$7=Lists!$K$2, INDEX('Selected values'!$AT$4:$AT$54, MATCH($A27,'Selected values'!$AV$4:$AV$54,0)), INDEX('Selected values'!$AT$4:$AT$54,MATCH($A27,'Selected values'!$AW$4:$AW$54,0)))","v":"Oregon"},{"$f":"ROUND(INDEX('Selected values'!$AU$4:$AU$54, MATCH(S27,'Selected values'!$AT$4:$AT$54,0)),1)","v":{"v":72,"d":"72.0"}}]
[{"$f":"IF($B$7=Lists!$K$4, A27-1,A27+1)","v":7},null,{"$f":"INDEX('Selected values'!$U$4:$U$54,MATCH(D28,'Selected values'!$S$4:$S$54,0))","v":7},{"$f":"IF($B$7=Lists!$K$2, INDEX('Selected values'!$M$4:$M$54, MATCH($A28,'Selected values'!$O$4:$O$54,0)), INDEX('Selected values'!$M$4:$M$54,MATCH($A28,'Selected values'!$P$4:$P$54,0)))","v":"Virginia"},{"$f":"ROUND(INDEX('Selected values'!$N$4:$N$54, MATCH(D28,'Selected values'!$M$4:$M$54,0)),1)","v":63.2},null,null,{"$f":"INDEX('Selected values'!$AF$4:$AF$54,MATCH(I28,'Selected values'!$AD$4:$AD$54,0))","v":7},{"$f":"IF($B$7=Lists!$K$2, INDEX('Selected values'!$X$4:$X$54, MATCH($A28,'Selected values'!$Z$4:$Z$54,0)), INDEX('Selected values'!$X$4:$X$54,MATCH($A28,'Selected values'!$AA$4:$AA$54,0)))","v":"Minnesota"},{"$f":"ROUND(INDEX('Selected values'!$Y$4:$Y$54, MATCH(I28,'Selected values'!$X$4:$X$54,0)),1)","v":56.3},null,null,{"$f":"INDEX('Selected values'!$AQ$4:$AQ$54,MATCH(N28,'Selected values'!$AO$4:$AO$54,0))","v":7},{"$f":"IF($B$7=Lists!$K$2, INDEX('Selected values'!$AI$4:$AI$54, MATCH($A28,'Selected values'!$AK$4:$AK$54,0)), INDEX('Selected values'!$AI$4:$AI$54,MATCH($A28,'Selected values'!$AL$4:$AL$54,0)))","v":"Kentucky"},{"$f":"INDEX('Selected values'!$AJ$4:$AJ$54, MATCH(N28,'Selected values'!$AI$4:$AI$54,0))","v":{"v":81.99100770640894,"d":"82.0"}},null,null,{"$f":"INDEX('Selected values'!$BB$4:$BB$54,MATCH(S28,'Selected values'!$AZ$4:$AZ$54,0))","v":7},{"$f":"IF($B$7=Lists!$K$2, INDEX('Selected values'!$AT$4:$AT$54, MATCH($A28,'Selected values'!$AV$4:$AV$54,0)), INDEX('Selected values'!$AT$4:$AT$54,MATCH($A28,'Selected values'!$AW$4:$AW$54,0)))","v":"Washington"},{"$f":"ROUND(INDEX('Selected values'!$AU$4:$AU$54, MATCH(S28,'Selected values'!$AT$4:$AT$54,0)),1)","v":71.5}]
[{"$f":"IF($B$7=Lists!$K$4, A28-1,A28+1)","v":8},null,{"$f":"INDEX('Selected values'!$U$4:$U$54,MATCH(D29,'Selected values'!$S$4:$S$54,0))","v":8},{"$f":"IF($B$7=Lists!$K$2, INDEX('Selected values'!$M$4:$M$54, MATCH($A29,'Selected values'!$O$4:$O$54,0)), INDEX('Selected values'!$M$4:$M$54,MATCH($A29,'Selected values'!$P$4:$P$54,0)))","v":"Ohio"},{"$f":"ROUND(INDEX('Selected values'!$N$4:$N$54, MATCH(D29,'Selected values'!$M$4:$M$54,0)),1)","v":{"v":63,"d":"63.0"}},null,null,{"$f":"INDEX('Selected values'!$AF$4:$AF$54,MATCH(I29,'Selected values'!$AD$4:$AD$54,0))","v":"=8"},{"$f":"IF($B$7=Lists!$K$2, INDEX('Selected values'!$X$4:$X$54, MATCH($A29,'Selected values'!$Z$4:$Z$54,0)), INDEX('Selected values'!$X$4:$X$54,MATCH($A29,'Selected values'!$AA$4:$AA$54,0)))","v":"Nevada"},{"$f":"ROUND(INDEX('Selected values'!$Y$4:$Y$54, MATCH(I29,'Selected values'!$X$4:$X$54,0)),1)","v":{"v":55,"d":"55.0"}},null,null,{"$f":"INDEX('Selected values'!$AQ$4:$AQ$54,MATCH(N29,'Selected values'!$AO$4:$AO$54,0))","v":8},{"$f":"IF($B$7=Lists!$K$2, INDEX('Selected values'!$AI$4:$AI$54, MATCH($A29,'Selected values'!$AK$4:$AK$54,0)), INDEX('Selected values'!$AI$4:$AI$54,MATCH($A29,'Selected values'!$AL$4:$AL$54,0)))","v":"Arkansas"},{"$f":"INDEX('Selected values'!$AJ$4:$AJ$54, MATCH(N29,'Selected values'!$AI$4:$AI$54,0))","v":{"v":81.23051595564809,"d":"81.2"}},null,null,{"$f":"INDEX('Selected values'!$BB$4:$BB$54,MATCH(S29,'Selected values'!$AZ$4:$AZ$54,0))","v":8},{"$f":"IF($B$7=Lists!$K$2, INDEX('Selected values'!$AT$4:$AT$54, MATCH($A29,'Selected values'!$AV$4:$AV$54,0)), INDEX('Selected values'!$AT$4:$AT$54,MATCH($A29,'Selected values'!$AW$4:$AW$54,0)))","v":"Utah"},{"$f":"ROUND(INDEX('Selected values'!$AU$4:$AU$54, MATCH(S29,'Selected values'!$AT$4:$AT$54,0)),1)","v":71.3}]
[{"$f":"IF($B$7=Lists!$K$4, A29-1,A29+1)","v":9},null,{"$f":"INDEX('Selected values'!$U$4:$U$54,MATCH(D30,'Selected values'!$S$4:$S$54,0))","v":9},{"$f":"IF($B$7=Lists!$K$2, INDEX('Selected values'!$M$4:$M$54, MATCH($A30,'Selected values'!$O$4:$O$54,0)), INDEX('Selected values'!$M$4:$M$54,MATCH($A30,'Selected values'!$P$4:$P$54,0)))","v":"Rhode Island"},{"$f":"ROUND(INDEX('Selected values'!$N$4:$N$54, MATCH(D30,'Selected values'!$M$4:$M$54,0)),1)","v":62.5},null,null,{"$f":"INDEX('Selected values'!$AF$4:$AF$54,MATCH(I30,'Selected values'!$AD$4:$AD$54,0))","v":"=8"},{"$f":"IF($B$7=Lists!$K$2, INDEX('Selected values'!$X$4:$X$54, MATCH($A30,'Selected values'!$Z$4:$Z$54,0)), INDEX('Selected values'!$X$4:$X$54,MATCH($A30,'Selected values'!$AA$4:$AA$54,0)))","v":"West Virginia"},{"$f":"ROUND(INDEX('Selected values'!$Y$4:$Y$54, MATCH(I30,'Selected values'!$X$4:$X$54,0)),1)","v":{"v":55,"d":"55.0"}},null,null,{"$f":"INDEX('Selected values'!$AQ$4:$AQ$54,MATCH(N30,'Selected values'!$AO$4:$AO$54,0))","v":9},{"$f":"IF($B$7=Lists!$K$2, INDEX('Selected values'!$AI$4:$AI$54, MATCH($A30,'Selected values'!$AK$4:$AK$54,0)), INDEX('Selected values'!$AI$4:$AI$54,MATCH($A30,'Selected values'!$AL$4:$AL$54,0)))","v":"New York"},{"$f":"INDEX('Selected values'!$AJ$4:$AJ$54, MATCH(N30,'Selected values'!$AI$4:$AI$54,0))","v":{"v":79.24823357716197,"d":"79.2"}},null,null,{"$f":"INDEX('Selected values'!$BB$4:$BB$54,MATCH(S30,'Selected values'!$AZ$4:$AZ$54,0))","v":9},{"$f":"IF($B$7=Lists!$K$2, INDEX('Selected values'!$AT$4:$AT$54, MATCH($A30,'Selected values'!$AV$4:$AV$54,0)), INDEX('Selected values'!$AT$4:$AT$54,MATCH($A30,'Selected values'!$AW$4:$AW$54,0)))","v":"Ohio"},{"$f":"ROUND(INDEX('Selected values'!$AU$4:$AU$54, MATCH(S30,'Selected values'!$AT$4:$AT$54,0)),1)","v":{"v":71,"d":"71.0"}}]
[{"$f":"IF($B$7=Lists!$K$4, A30-1,A30+1)","v":10},null,{"$f":"INDEX('Selected values'!$U$4:$U$54,MATCH(D31,'Selected values'!$S$4:$S$54,0))","v":10},{"$f":"IF($B$7=Lists!$K$2, INDEX('Selected values'!$M$4:$M$54, MATCH($A31,'Selected values'!$O$4:$O$54,0)), INDEX('Selected values'!$M$4:$M$54,MATCH($A31,'Selected values'!$P$4:$P$54,0)))","v":"Maryland"},{"$f":"ROUND(INDEX('Selected values'!$N$4:$N$54, MATCH(D31,'Selected values'!$M$4:$M$54,0)),1)","v":61.6},null,null,{"$f":"INDEX('Selected values'!$AF$4:$AF$54,MATCH(I31,'Selected values'!$AD$4:$AD$54,0))","v":10},{"$f":"IF($B$7=Lists!$K$2, INDEX('Selected values'!$X$4:$X$54, MATCH($A31,'Selected values'!$Z$4:$Z$54,0)), INDEX('Selected values'!$X$4:$X$54,MATCH($A31,'Selected values'!$AA$4:$AA$54,0)))","v":"Louisiana"},{"$f":"ROUND(INDEX('Selected values'!$Y$4:$Y$54, MATCH(I31,'Selected values'!$X$4:$X$54,0)),1)","v":52.5},null,null,{"$f":"INDEX('Selected values'!$AQ$4:$AQ$54,MATCH(N31,'Selected values'!$AO$4:$AO$54,0))","v":10},{"$f":"IF($B$7=Lists!$K$2, INDEX('Selected values'!$AI$4:$AI$54, MATCH($A31,'Selected values'!$AK$4:$AK$54,0)), INDEX('Selected values'!$AI$4:$AI$54,MATCH($A31,'Selected values'!$AL$4:$AL$54,0)))","v":"Maine"},{"$f":"INDEX('Selected values'!$AJ$4:$AJ$54, MATCH(N31,'Selected values'!$AI$4:$AI$54,0))","v":{"v":78.96832007403846,"d":"79.0"}},null,null,{"$f":"INDEX('Selected values'!$BB$4:$BB$54,MATCH(S31,'Selected values'!$AZ$4:$AZ$54,0))","v":10},{"$f":"IF($B$7=Lists!$K$2, INDEX('Selected values'!$AT$4:$AT$54, MATCH($A31,'Selected values'!$AV$4:$AV$54,0)), INDEX('Selected values'!$AT$4:$AT$54,MATCH($A31,'Selected values'!$AW$4:$AW$54,0)))","v":"Delaware"},{"$f":"ROUND(INDEX('Selected values'!$AU$4:$AU$54, MATCH(S31,'Selected values'!$AT$4:$AT$54,0)),1)","v":69.8}]
[{"$f":"IF($B$7=Lists!$K$4, A31-1,A31+1)","v":11},null,{"$f":"INDEX('Selected values'!$U$4:$U$54,MATCH(D32,'Selected values'!$S$4:$S$54,0))","v":11},{"$f":"IF($B$7=Lists!$K$2, INDEX('Selected values'!$M$4:$M$54, MATCH($A32,'Selected values'!$O$4:$O$54,0)), INDEX('Selected values'!$M$4:$M$54,MATCH($A32,'Selected values'!$P$4:$P$54,0)))","v":"New Mexico"},{"$f":"ROUND(INDEX('Selected values'!$N$4:$N$54, MATCH(D32,'Selected values'!$M$4:$M$54,0)),1)","v":60.6},null,null,{"$f":"INDEX('Selected values'!$AF$4:$AF$54,MATCH(I32,'Selected values'!$AD$4:$AD$54,0))","v":"=11"},{"$f":"IF($B$7=Lists!$K$2, INDEX('Selected values'!$X$4:$X$54, MATCH($A32,'Selected values'!$Z$4:$Z$54,0)), INDEX('Selected values'!$X$4:$X$54,MATCH($A32,'Selected values'!$AA$4:$AA$54,0)))","v":"Iowa"},{"$f":"ROUND(INDEX('Selected values'!$Y$4:$Y$54, MATCH(I32,'Selected values'!$X$4:$X$54,0)),1)","v":{"v":50,"d":"50.0"}},null,null,{"$f":"INDEX('Selected values'!$AQ$4:$AQ$54,MATCH(N32,'Selected values'!$AO$4:$AO$54,0))","v":11},{"$f":"IF($B$7=Lists!$K$2, INDEX('Selected values'!$AI$4:$AI$54, MATCH($A32,'Selected values'!$AK$4:$AK$54,0)), INDEX('Selected values'!$AI$4:$AI$54,MATCH($A32,'Selected values'!$AL$4:$AL$54,0)))","v":"Wisconsin"},{"$f":"INDEX('Selected values'!$AJ$4:$AJ$54, MATCH(N32,'Selected values'!$AI$4:$AI$54,0))","v":{"v":78.76301457632547,"d":"78.8"}},null,null,{"$f":"INDEX('Selected values'!$BB$4:$BB$54,MATCH(S32,'Selected values'!$AZ$4:$AZ$54,0))","v":11},{"$f":"IF($B$7=Lists!$K$2, INDEX('Selected values'!$AT$4:$AT$54, MATCH($A32,'Selected values'!$AV$4:$AV$54,0)), INDEX('Selected values'!$AT$4:$AT$54,MATCH($A32,'Selected values'!$AW$4:$AW$54,0)))","v":"Indiana"},{"$f":"ROUND(INDEX('Selected values'!$AU$4:$AU$54, MATCH(S32,'Selected values'!$AT$4:$AT$54,0)),1)","v":{"v":69,"d":"69.0"}}]
[{"$f":"IF($B$7=Lists!$K$4, A32-1,A32+1)","v":12},null,{"$f":"INDEX('Selected values'!$U$4:$U$54,MATCH(D33,'Selected values'!$S$4:$S$54,0))","v":12},{"$f":"IF($B$7=Lists!$K$2, INDEX('Selected values'!$M$4:$M$54, MATCH($A33,'Selected values'!$O$4:$O$54,0)), INDEX('Selected values'!$M$4:$M$54,MATCH($A33,'Selected values'!$P$4:$P$54,0)))","v":"New York"},{"$f":"ROUND(INDEX('Selected values'!$N$4:$N$54, MATCH(D33,'Selected values'!$M$4:$M$54,0)),1)","v":60.6},null,null,{"$f":"INDEX('Selected values'!$AF$4:$AF$54,MATCH(I33,'Selected values'!$AD$4:$AD$54,0))","v":"=11"},{"$f":"IF($B$7=Lists!$K$2, INDEX('Selected values'!$X$4:$X$54, MATCH($A33,'Selected values'!$Z$4:$Z$54,0)), INDEX('Selected values'!$X$4:$X$54,MATCH($A33,'Selected values'!$AA$4:$AA$54,0)))","v":"Kentucky"},{"$f":"ROUND(INDEX('Selected values'!$Y$4:$Y$54, MATCH(I33,'Selected values'!$X$4:$X$54,0)),1)","v":{"v":50,"d":"50.0"}},null,null,{"$f":"INDEX('Selected values'!$AQ$4:$AQ$54,MATCH(N33,'Selected values'!$AO$4:$AO$54,0))","v":12},{"$f":"IF($B$7=Lists!$K$2, INDEX('Selected values'!$AI$4:$AI$54, MATCH($A33,'Selected values'!$AK$4:$AK$54,0)), INDEX('Selected values'!$AI$4:$AI$54,MATCH($A33,'Selected values'!$AL$4:$AL$54,0)))","v":"Indiana"},{"$f":"INDEX('Selected values'!$AJ$4:$AJ$54, MATCH(N33,'Selected values'!$AI$4:$AI$54,0))","v":{"v":78.67532080374463,"d":"78.7"}},null,null,{"$f":"INDEX('Selected values'!$BB$4:$BB$54,MATCH(S33,'Selected values'!$AZ$4:$AZ$54,0))","v":12},{"$f":"IF($B$7=Lists!$K$2, INDEX('Selected values'!$AT$4:$AT$54, MATCH($A33,'Selected values'!$AV$4:$AV$54,0)), INDEX('Selected values'!$AT$4:$AT$54,MATCH($A33,'Selected values'!$AW$4:$AW$54,0)))","v":"Oklahoma"},{"$f":"ROUND(INDEX('Selected values'!$AU$4:$AU$54, MATCH(S33,'Selected values'!$AT$4:$AT$54,0)),1)","v":67.8}]
[{"$f":"IF($B$7=Lists!$K$4, A33-1,A33+1)","v":13},null,{"$f":"INDEX('Selected values'!$U$4:$U$54,MATCH(D34,'Selected values'!$S$4:$S$54,0))","v":13},{"$f":"IF($B$7=Lists!$K$2, INDEX('Selected values'!$M$4:$M$54, MATCH($A34,'Selected values'!$O$4:$O$54,0)), INDEX('Selected values'!$M$4:$M$54,MATCH($A34,'Selected values'!$P$4:$P$54,0)))","v":"Oklahoma"},{"$f":"ROUND(INDEX('Selected values'!$N$4:$N$54, MATCH(D34,'Selected values'!$M$4:$M$54,0)),1)","v":60.4},null,null,{"$f":"INDEX('Selected values'!$AF$4:$AF$54,MATCH(I34,'Selected values'!$AD$4:$AD$54,0))","v":"=11"},{"$f":"IF($B$7=Lists!$K$2, INDEX('Selected values'!$X$4:$X$54, MATCH($A34,'Selected values'!$Z$4:$Z$54,0)), INDEX('Selected values'!$X$4:$X$54,MATCH($A34,'Selected values'!$AA$4:$AA$54,0)))","v":"Ohio"},{"$f":"ROUND(INDEX('Selected values'!$Y$4:$Y$54, MATCH(I34,'Selected values'!$X$4:$X$54,0)),1)","v":{"v":50,"d":"50.0"}},null,null,{"$f":"INDEX('Selected values'!$AQ$4:$AQ$54,MATCH(N34,'Selected values'!$AO$4:$AO$54,0))","v":13},{"$f":"IF($B$7=Lists!$K$2, INDEX('Selected values'!$AI$4:$AI$54, MATCH($A34,'Selected values'!$AK$4:$AK$54,0)), INDEX('Selected values'!$AI$4:$AI$54,MATCH($A34,'Selected values'!$AL$4:$AL$54,0)))","v":"Colorado"},{"$f":"INDEX('Selected values'!$AJ$4:$AJ$54, MATCH(N34,'Selected values'!$AI$4:$AI$54,0))","v":{"v":78.33984729563777,"d":"78.3"}},null,null,{"$f":"INDEX('Selected values'!$BB$4:$BB$54,MATCH(S34,'Selected values'!$AZ$4:$AZ$54,0))","v":13},{"$f":"IF($B$7=Lists!$K$2, INDEX('Selected values'!$AT$4:$AT$54, MATCH($A34,'Selected values'!$AV$4:$AV$54,0)), INDEX('Selected values'!$AT$4:$AT$54,MATCH($A34,'Selected values'!$AW$4:$AW$54,0)))","v":"Kentucky"},{"$f":"ROUND(INDEX('Selected values'!$AU$4:$AU$54, MATCH(S34,'Selected values'!$AT$4:$AT$54,0)),1)","v":67.5}]
[{"$f":"IF($B$7=Lists!$K$4, A34-1,A34+1)","v":14},null,{"$f":"INDEX('Selected values'!$U$4:$U$54,MATCH(D35,'Selected values'!$S$4:$S$54,0))","v":14},{"$f":"IF($B$7=Lists!$K$2, INDEX('Selected values'!$M$4:$M$54, MATCH($A35,'Selected values'!$O$4:$O$54,0)), INDEX('Selected values'!$M$4:$M$54,MATCH($A35,'Selected values'!$P$4:$P$54,0)))","v":"Washington"},{"$f":"ROUND(INDEX('Selected values'!$N$4:$N$54, MATCH(D35,'Selected values'!$M$4:$M$54,0)),1)","v":{"v":60,"d":"60.0"}},null,null,{"$f":"INDEX('Selected values'!$AF$4:$AF$54,MATCH(I35,'Selected values'!$AD$4:$AD$54,0))","v":"=14"},{"$f":"IF($B$7=Lists!$K$2, INDEX('Selected values'!$X$4:$X$54, MATCH($A35,'Selected values'!$Z$4:$Z$54,0)), INDEX('Selected values'!$X$4:$X$54,MATCH($A35,'Selected values'!$AA$4:$AA$54,0)))","v":"California"},{"$f":"ROUND(INDEX('Selected values'!$Y$4:$Y$54, MATCH(I35,'Selected values'!$X$4:$X$54,0)),1)","v":46.3},null,null,{"$f":"INDEX('Selected values'!$AQ$4:$AQ$54,MATCH(N35,'Selected values'!$AO$4:$AO$54,0))","v":14},{"$f":"IF($B$7=Lists!$K$2, INDEX('Selected values'!$AI$4:$AI$54, MATCH($A35,'Selected values'!$AK$4:$AK$54,0)), INDEX('Selected values'!$AI$4:$AI$54,MATCH($A35,'Selected values'!$AL$4:$AL$54,0)))","v":"Florida"},{"$f":"INDEX('Selected values'!$AJ$4:$AJ$54, MATCH(N35,'Selected values'!$AI$4:$AI$54,0))","v":{"v":78.26374873191307,"d":"78.3"}},null,null,{"$f":"INDEX('Selected values'!$BB$4:$BB$54,MATCH(S35,'Selected values'!$AZ$4:$AZ$54,0))","v":"=14"},{"$f":"IF($B$7=Lists!$K$2, INDEX('Selected values'!$AT$4:$AT$54, MATCH($A35,'Selected values'!$AV$4:$AV$54,0)), INDEX('Selected values'!$AT$4:$AT$54,MATCH($A35,'Selected values'!$AW$4:$AW$54,0)))","v":"New Jersey"},{"$f":"ROUND(INDEX('Selected values'!$AU$4:$AU$54, MATCH(S35,'Selected values'!$AT$4:$AT$54,0)),1)","v":65.7}]
[{"$f":"IF($B$7=Lists!$K$4, A35-1,A35+1)","v":15},null,{"$f":"INDEX('Selected values'!$U$4:$U$54,MATCH(D36,'Selected values'!$S$4:$S$54,0))","v":15},{"$f":"IF($B$7=Lists!$K$2, INDEX('Selected values'!$M$4:$M$54, MATCH($A36,'Selected values'!$O$4:$O$54,0)), INDEX('Selected values'!$M$4:$M$54,MATCH($A36,'Selected values'!$P$4:$P$54,0)))","v":"Nevada"},{"$f":"ROUND(INDEX('Selected values'!$N$4:$N$54, MATCH(D36,'Selected values'!$M$4:$M$54,0)),1)","v":59.3},null,null,{"$f":"INDEX('Selected values'!$AF$4:$AF$54,MATCH(I36,'Selected values'!$AD$4:$AD$54,0))","v":"=14"},{"$f":"IF($B$7=Lists!$K$2, INDEX('Selected values'!$X$4:$X$54, MATCH($A36,'Selected values'!$Z$4:$Z$54,0)), INDEX('Selected values'!$X$4:$X$54,MATCH($A36,'Selected values'!$AA$4:$AA$54,0)))","v":"Rhode Island"},{"$f":"ROUND(INDEX('Selected values'!$Y$4:$Y$54, MATCH(I36,'Selected values'!$X$4:$X$54,0)),1)","v":46.3},null,null,{"$f":"INDEX('Selected values'!$AQ$4:$AQ$54,MATCH(N36,'Selected values'!$AO$4:$AO$54,0))","v":15},{"$f":"IF($B$7=Lists!$K$2, INDEX('Selected values'!$AI$4:$AI$54, MATCH($A36,'Selected values'!$AK$4:$AK$54,0)), INDEX('Selected values'!$AI$4:$AI$54,MATCH($A36,'Selected values'!$AL$4:$AL$54,0)))","v":"Rhode Island"},{"$f":"INDEX('Selected values'!$AJ$4:$AJ$54, MATCH(N36,'Selected values'!$AI$4:$AI$54,0))","v":{"v":75.55582252122376,"d":"75.6"}},null,null,{"$f":"INDEX('Selected values'!$BB$4:$BB$54,MATCH(S36,'Selected values'!$AZ$4:$AZ$54,0))","v":"=14"},{"$f":"IF($B$7=Lists!$K$2, INDEX('Selected values'!$AT$4:$AT$54, MATCH($A36,'Selected values'!$AV$4:$AV$54,0)), INDEX('Selected values'!$AT$4:$AT$54,MATCH($A36,'Selected values'!$AW$4:$AW$54,0)))","v":"Rhode Island"},{"$f":"ROUND(INDEX('Selected values'!$AU$4:$AU$54, MATCH(S36,'Selected values'!$AT$4:$AT$54,0)),1)","v":65.7}]
[{"$f":"IF($B$7=Lists!$K$4, A36-1,A36+1)","v":16},null,{"$f":"INDEX('Selected values'!$U$4:$U$54,MATCH(D37,'Selected values'!$S$4:$S$54,0))","v":16},{"$f":"IF($B$7=Lists!$K$2, INDEX('Selected values'!$M$4:$M$54, MATCH($A37,'Selected values'!$O$4:$O$54,0)), INDEX('Selected values'!$M$4:$M$54,MATCH($A37,'Selected values'!$P$4:$P$54,0)))","v":"Indiana"},{"$f":"ROUND(INDEX('Selected values'!$N$4:$N$54, MATCH(D37,'Selected values'!$M$4:$M$54,0)),1)","v":59.2},null,null,{"$f":"INDEX('Selected values'!$AF$4:$AF$54,MATCH(I37,'Selected values'!$AD$4:$AD$54,0))","v":16},{"$f":"IF($B$7=Lists!$K$2, INDEX('Selected values'!$X$4:$X$54, MATCH($A37,'Selected values'!$Z$4:$Z$54,0)), INDEX('Selected values'!$X$4:$X$54,MATCH($A37,'Selected values'!$AA$4:$AA$54,0)))","v":"Colorado"},{"$f":"ROUND(INDEX('Selected values'!$Y$4:$Y$54, MATCH(I37,'Selected values'!$X$4:$X$54,0)),1)","v":45.6},null,null,{"$f":"INDEX('Selected values'!$AQ$4:$AQ$54,MATCH(N37,'Selected values'!$AO$4:$AO$54,0))","v":16},{"$f":"IF($B$7=Lists!$K$2, INDEX('Selected values'!$AI$4:$AI$54, MATCH($A37,'Selected values'!$AK$4:$AK$54,0)), INDEX('Selected values'!$AI$4:$AI$54,MATCH($A37,'Selected values'!$AL$4:$AL$54,0)))","v":"Vermont"},{"$f":"INDEX('Selected values'!$AJ$4:$AJ$54, MATCH(N37,'Selected values'!$AI$4:$AI$54,0))","v":{"v":75.17647320554576,"d":"75.2"}},null,null,{"$f":"INDEX('Selected values'!$BB$4:$BB$54,MATCH(S37,'Selected values'!$AZ$4:$AZ$54,0))","v":"=16"},{"$f":"IF($B$7=Lists!$K$2, INDEX('Selected values'!$AT$4:$AT$54, MATCH($A37,'Selected values'!$AV$4:$AV$54,0)), INDEX('Selected values'!$AT$4:$AT$54,MATCH($A37,'Selected values'!$AW$4:$AW$54,0)))","v":"Connecticut"},{"$f":"ROUND(INDEX('Selected values'!$AU$4:$AU$54, MATCH(S37,'Selected values'!$AT$4:$AT$54,0)),1)","v":64.9}]
[{"$f":"IF($B$7=Lists!$K$4, A37-1,A37+1)","v":17},null,{"$f":"INDEX('Selected values'!$U$4:$U$54,MATCH(D38,'Selected values'!$S$4:$S$54,0))","v":17},{"$f":"IF($B$7=Lists!$K$2, INDEX('Selected values'!$M$4:$M$54, MATCH($A38,'Selected values'!$O$4:$O$54,0)), INDEX('Selected values'!$M$4:$M$54,MATCH($A38,'Selected values'!$P$4:$P$54,0)))","v":"Wisconsin"},{"$f":"ROUND(INDEX('Selected values'!$N$4:$N$54, MATCH(D38,'Selected values'!$M$4:$M$54,0)),1)","v":58.7},null,null,{"$f":"INDEX('Selected values'!$AF$4:$AF$54,MATCH(I38,'Selected values'!$AD$4:$AD$54,0))","v":17},{"$f":"IF($B$7=Lists!$K$2, INDEX('Selected values'!$X$4:$X$54, MATCH($A38,'Selected values'!$Z$4:$Z$54,0)), INDEX('Selected values'!$X$4:$X$54,MATCH($A38,'Selected values'!$AA$4:$AA$54,0)))","v":"Wyoming"},{"$f":"ROUND(INDEX('Selected values'!$Y$4:$Y$54, MATCH(I38,'Selected values'!$X$4:$X$54,0)),1)","v":43.8},null,null,{"$f":"INDEX('Selected values'!$AQ$4:$AQ$54,MATCH(N38,'Selected values'!$AO$4:$AO$54,0))","v":17},{"$f":"IF($B$7=Lists!$K$2, INDEX('Selected values'!$AI$4:$AI$54, MATCH($A38,'Selected values'!$AK$4:$AK$54,0)), INDEX('Selected values'!$AI$4:$AI$54,MATCH($A38,'Selected values'!$AL$4:$AL$54,0)))","v":"Washington"},{"$f":"INDEX('Selected values'!$AJ$4:$AJ$54, MATCH(N38,'Selected values'!$AI$4:$AI$54,0))","v":{"v":73.47805542207271,"d":"73.5"}},null,null,{"$f":"INDEX('Selected values'!$BB$4:$BB$54,MATCH(S38,'Selected values'!$AZ$4:$AZ$54,0))","v":"=16"},{"$f":"IF($B$7=Lists!$K$2, INDEX('Selected values'!$AT$4:$AT$54, MATCH($A38,'Selected values'!$AV$4:$AV$54,0)), INDEX('Selected values'!$AT$4:$AT$54,MATCH($A38,'Selected values'!$AW$4:$AW$54,0)))","v":"Hawaii"},{"$f":"ROUND(INDEX('Selected values'!$AU$4:$AU$54, MATCH(S38,'Selected values'!$AT$4:$AT$54,0)),1)","v":64.9}]
[{"$f":"IF($B$7=Lists!$K$4, A38-1,A38+1)","v":18},null,{"$f":"INDEX('Selected values'!$U$4:$U$54,MATCH(D39,'Selected values'!$S$4:$S$54,0))","v":18},{"$f":"IF($B$7=Lists!$K$2, INDEX('Selected values'!$M$4:$M$54, MATCH($A39,'Selected values'!$O$4:$O$54,0)), INDEX('Selected values'!$M$4:$M$54,MATCH($A39,'Selected values'!$P$4:$P$54,0)))","v":"North Carolina"},{"$f":"ROUND(INDEX('Selected values'!$N$4:$N$54, MATCH(D39,'Selected values'!$M$4:$M$54,0)),1)","v":58.5},null,null,{"$f":"INDEX('Selected values'!$AF$4:$AF$54,MATCH(I39,'Selected values'!$AD$4:$AD$54,0))","v":18},{"$f":"IF($B$7=Lists!$K$2, INDEX('Selected values'!$X$4:$X$54, MATCH($A39,'Selected values'!$Z$4:$Z$54,0)), INDEX('Selected values'!$X$4:$X$54,MATCH($A39,'Selected values'!$AA$4:$AA$54,0)))","v":"Michigan"},{"$f":"ROUND(INDEX('Selected values'!$Y$4:$Y$54, MATCH(I39,'Selected values'!$X$4:$X$54,0)),1)","v":42.1},null,null,{"$f":"INDEX('Selected values'!$AQ$4:$AQ$54,MATCH(N39,'Selected values'!$AO$4:$AO$54,0))","v":18},{"$f":"IF($B$7=Lists!$K$2, INDEX('Selected values'!$AI$4:$AI$54, MATCH($A39,'Selected values'!$AK$4:$AK$54,0)), INDEX('Selected values'!$AI$4:$AI$54,MATCH($A39,'Selected values'!$AL$4:$AL$54,0)))","v":"Connecticut"},{"$f":"INDEX('Selected values'!$AJ$4:$AJ$54, MATCH(N39,'Selected values'!$AI$4:$AI$54,0))","v":{"v":68.75879206933988,"d":"68.8"}},null,null,{"$f":"INDEX('Selected values'!$BB$4:$BB$54,MATCH(S39,'Selected values'!$AZ$4:$AZ$54,0))","v":"=16"},{"$f":"IF($B$7=Lists!$K$2, INDEX('Selected values'!$AT$4:$AT$54, MATCH($A39,'Selected values'!$AV$4:$AV$54,0)), INDEX('Selected values'!$AT$4:$AT$54,MATCH($A39,'Selected values'!$AW$4:$AW$54,0)))","v":"New York"},{"$f":"ROUND(INDEX('Selected values'!$AU$4:$AU$54, MATCH(S39,'Selected values'!$AT$4:$AT$54,0)),1)","v":64.9}]
[{"$f":"IF($B$7=Lists!$K$4, A39-1,A39+1)","v":19},null,{"$f":"INDEX('Selected values'!$U$4:$U$54,MATCH(D40,'Selected values'!$S$4:$S$54,0))","v":19},{"$f":"IF($B$7=Lists!$K$2, INDEX('Selected values'!$M$4:$M$54, MATCH($A40,'Selected values'!$O$4:$O$54,0)), INDEX('Selected values'!$M$4:$M$54,MATCH($A40,'Selected values'!$P$4:$P$54,0)))","v":"California"},{"$f":"ROUND(INDEX('Selected values'!$N$4:$N$54, MATCH(D40,'Selected values'!$M$4:$M$54,0)),1)","v":58.1},null,null,{"$f":"INDEX('Selected values'!$AF$4:$AF$54,MATCH(I40,'Selected values'!$AD$4:$AD$54,0))","v":19},{"$f":"IF($B$7=Lists!$K$2, INDEX('Selected values'!$X$4:$X$54, MATCH($A40,'Selected values'!$Z$4:$Z$54,0)), INDEX('Selected values'!$X$4:$X$54,MATCH($A40,'Selected values'!$AA$4:$AA$54,0)))","v":"Hawaii"},{"$f":"ROUND(INDEX('Selected values'!$Y$4:$Y$54, MATCH(I40,'Selected values'!$X$4:$X$54,0)),1)","v":41.5},null,null,{"$f":"INDEX('Selected values'!$AQ$4:$AQ$54,MATCH(N40,'Selected values'!$AO$4:$AO$54,0))","v":19},{"$f":"IF($B$7=Lists!$K$2, INDEX('Selected values'!$AI$4:$AI$54, MATCH($A40,'Selected values'!$AK$4:$AK$54,0)), INDEX('Selected values'!$AI$4:$AI$54,MATCH($A40,'Selected values'!$AL$4:$AL$54,0)))","v":"Tennessee"},{"$f":"INDEX('Selected values'!$AJ$4:$AJ$54, MATCH(N40,'Selected values'!$AI$4:$AI$54,0))","v":{"v":68.15117375905457,"d":"68.2"}},null,null,{"$f":"INDEX('Selected values'!$BB$4:$BB$54,MATCH(S40,'Selected values'!$AZ$4:$AZ$54,0))","v":19},{"$f":"IF($B$7=Lists!$K$2, INDEX('Selected values'!$AT$4:$AT$54, MATCH($A40,'Selected values'!$AV$4:$AV$54,0)), INDEX('Selected values'!$AT$4:$AT$54,MATCH($A40,'Selected values'!$AW$4:$AW$54,0)))","v":"Maryland"},{"$f":"ROUND(INDEX('Selected values'!$AU$4:$AU$54, MATCH(S40,'Selected values'!$AT$4:$AT$54,0)),1)","v":64.7}]
[{"$f":"IF($B$7=Lists!$K$4, A40-1,A40+1)","v":20},null,{"$f":"INDEX('Selected values'!$U$4:$U$54,MATCH(D41,'Selected values'!$S$4:$S$54,0))","v":20},{"$f":"IF($B$7=Lists!$K$2, INDEX('Selected values'!$M$4:$M$54, MATCH($A41,'Selected values'!$O$4:$O$54,0)), INDEX('Selected values'!$M$4:$M$54,MATCH($A41,'Selected values'!$P$4:$P$54,0)))","v":"Texas"},{"$f":"ROUND(INDEX('Selected values'!$N$4:$N$54, MATCH(D41,'Selected values'!$M$4:$M$54,0)),1)","v":57.8},null,null,{"$f":"INDEX('Selected values'!$AF$4:$AF$54,MATCH(I41,'Selected values'!$AD$4:$AD$54,0))","v":20},{"$f":"IF($B$7=Lists!$K$2, INDEX('Selected values'!$X$4:$X$54, MATCH($A41,'Selected values'!$Z$4:$Z$54,0)), INDEX('Selected values'!$X$4:$X$54,MATCH($A41,'Selected values'!$AA$4:$AA$54,0)))","v":"Montana"},{"$f":"ROUND(INDEX('Selected values'!$Y$4:$Y$54, MATCH(I41,'Selected values'!$X$4:$X$54,0)),1)","v":41.3},null,null,{"$f":"INDEX('Selected values'!$AQ$4:$AQ$54,MATCH(N41,'Selected values'!$AO$4:$AO$54,0))","v":20},{"$f":"IF($B$7=Lists!$K$2, INDEX('Selected values'!$AI$4:$AI$54, MATCH($A41,'Selected values'!$AK$4:$AK$54,0)), INDEX('Selected values'!$AI$4:$AI$54,MATCH($A41,'Selected values'!$AL$4:$AL$54,0)))","v":"Ohio"},{"$f":"INDEX('Selected values'!$AJ$4:$AJ$54, MATCH(N41,'Selected values'!$AI$4:$AI$54,0))","v":{"v":67.96632228095466,"d":"68.0"}},null,null,{"$f":"INDEX('Selected values'!$BB$4:$BB$54,MATCH(S41,'Selected values'!$AZ$4:$AZ$54,0))","v":20},{"$f":"IF($B$7=Lists!$K$2, INDEX('Selected values'!$AT$4:$AT$54, MATCH($A41,'Selected values'!$AV$4:$AV$54,0)), INDEX('Selected values'!$AT$4:$AT$54,MATCH($A41,'Selected values'!$AW$4:$AW$54,0)))","v":"Mississippi"},{"$f":"ROUND(INDEX('Selected values'!$AU$4:$AU$54, MATCH(S41,'Selected values'!$AT$4:$AT$54,0)),1)","v":64.5}]
[{"$f":"IF($B$7=Lists!$K$4, A41-1,A41+1)","v":21},null,{"$f":"INDEX('Selected values'!$U$4:$U$54,MATCH(D42,'Selected values'!$S$4:$S$54,0))","v":21},{"$f":"IF($B$7=Lists!$K$2, INDEX('Selected values'!$M$4:$M$54, MATCH($A42,'Selected values'!$O$4:$O$54,0)), INDEX('Selected values'!$M$4:$M$54,MATCH($A42,'Selected values'!$P$4:$P$54,0)))","v":"Maine"},{"$f":"ROUND(INDEX('Selected values'!$N$4:$N$54, MATCH(D42,'Selected values'!$M$4:$M$54,0)),1)","v":56.8},null,null,{"$f":"INDEX('Selected values'!$AF$4:$AF$54,MATCH(I42,'Selected values'!$AD$4:$AD$54,0))","v":21},{"$f":"IF($B$7=Lists!$K$2, INDEX('Selected values'!$X$4:$X$54, MATCH($A42,'Selected values'!$Z$4:$Z$54,0)), INDEX('Selected values'!$X$4:$X$54,MATCH($A42,'Selected values'!$AA$4:$AA$54,0)))","v":"Missouri"},{"$f":"ROUND(INDEX('Selected values'!$Y$4:$Y$54, MATCH(I42,'Selected values'!$X$4:$X$54,0)),1)","v":{"v":40,"d":"40.0"}},null,null,{"$f":"INDEX('Selected values'!$AQ$4:$AQ$54,MATCH(N42,'Selected values'!$AO$4:$AO$54,0))","v":21},{"$f":"IF($B$7=Lists!$K$2, INDEX('Selected values'!$AI$4:$AI$54, MATCH($A42,'Selected values'!$AK$4:$AK$54,0)), INDEX('Selected values'!$AI$4:$AI$54,MATCH($A42,'Selected values'!$AL$4:$AL$54,0)))","v":"North Dakota"},{"$f":"INDEX('Selected values'!$AJ$4:$AJ$54, MATCH(N42,'Selected values'!$AI$4:$AI$54,0))","v":{"v":66.85395198177514,"d":"66.9"}},null,null,{"$f":"INDEX('Selected values'!$BB$4:$BB$54,MATCH(S42,'Selected values'!$AZ$4:$AZ$54,0))","v":"=21"},{"$f":"IF($B$7=Lists!$K$2, INDEX('Selected values'!$AT$4:$AT$54, MATCH($A42,'Selected values'!$AV$4:$AV$54,0)), INDEX('Selected values'!$AT$4:$AT$54,MATCH($A42,'Selected values'!$AW$4:$AW$54,0)))","v":"Minnesota"},{"$f":"ROUND(INDEX('Selected values'!$AU$4:$AU$54, MATCH(S42,'Selected values'!$AT$4:$AT$54,0)),1)","v":63.2}]
[{"$f":"IF($B$7=Lists!$K$4, A42-1,A42+1)","v":22},null,{"$f":"INDEX('Selected values'!$U$4:$U$54,MATCH(D43,'Selected values'!$S$4:$S$54,0))","v":22},{"$f":"IF($B$7=Lists!$K$2, INDEX('Selected values'!$M$4:$M$54, MATCH($A43,'Selected values'!$O$4:$O$54,0)), INDEX('Selected values'!$M$4:$M$54,MATCH($A43,'Selected values'!$P$4:$P$54,0)))","v":"Mississippi"},{"$f":"ROUND(INDEX('Selected values'!$N$4:$N$54, MATCH(D43,'Selected values'!$M$4:$M$54,0)),1)","v":55.4},null,null,{"$f":"INDEX('Selected values'!$AF$4:$AF$54,MATCH(I43,'Selected values'!$AD$4:$AD$54,0))","v":""},{"$f":"IF($B$7=Lists!$K$2, INDEX('Selected values'!$X$4:$X$54, MATCH($A43,'Selected values'!$Z$4:$Z$54,0)), INDEX('Selected values'!$X$4:$X$54,MATCH($A43,'Selected values'!$AA$4:$AA$54,0)))","v":"AVERAGE"},{"$f":"ROUND(INDEX('Selected values'!$Y$4:$Y$54, MATCH(I43,'Selected values'!$X$4:$X$54,0)),1)","v":39.5},null,null,{"$f":"INDEX('Selected values'!$AQ$4:$AQ$54,MATCH(N43,'Selected values'!$AO$4:$AO$54,0))","v":22},{"$f":"IF($B$7=Lists!$K$2, INDEX('Selected values'!$AI$4:$AI$54, MATCH($A43,'Selected values'!$AK$4:$AK$54,0)), INDEX('Selected values'!$AI$4:$AI$54,MATCH($A43,'Selected values'!$AL$4:$AL$54,0)))","v":"Virginia"},{"$f":"INDEX('Selected values'!$AJ$4:$AJ$54, MATCH(N43,'Selected values'!$AI$4:$AI$54,0))","v":{"v":66.80616957659244,"d":"66.8"}},null,null,{"$f":"INDEX('Selected values'!$BB$4:$BB$54,MATCH(S43,'Selected values'!$AZ$4:$AZ$54,0))","v":"=21"},{"$f":"IF($B$7=Lists!$K$2, INDEX('Selected values'!$AT$4:$AT$54, MATCH($A43,'Selected values'!$AV$4:$AV$54,0)), INDEX('Selected values'!$AT$4:$AT$54,MATCH($A43,'Selected values'!$AW$4:$AW$54,0)))","v":"Pennsylvania"},{"$f":"ROUND(INDEX('Selected values'!$AU$4:$AU$54, MATCH(S43,'Selected values'!$AT$4:$AT$54,0)),1)","v":63.2}]
[{"$f":"IF($B$7=Lists!$K$4, A43-1,A43+1)","v":23},null,{"$f":"INDEX('Selected values'!$U$4:$U$54,MATCH(D44,'Selected values'!$S$4:$S$54,0))","v":23},{"$f":"IF($B$7=Lists!$K$2, INDEX('Selected values'!$M$4:$M$54, MATCH($A44,'Selected values'!$O$4:$O$54,0)), INDEX('Selected values'!$M$4:$M$54,MATCH($A44,'Selected values'!$P$4:$P$54,0)))","v":"Hawaii"},{"$f":"ROUND(INDEX('Selected values'!$N$4:$N$54, MATCH(D44,'Selected values'!$M$4:$M$54,0)),1)","v":54.8},null,null,{"$f":"INDEX('Selected values'!$AF$4:$AF$54,MATCH(I44,'Selected values'!$AD$4:$AD$54,0))","v":22},{"$f":"IF($B$7=Lists!$K$2, INDEX('Selected values'!$X$4:$X$54, MATCH($A44,'Selected values'!$Z$4:$Z$54,0)), INDEX('Selected values'!$X$4:$X$54,MATCH($A44,'Selected values'!$AA$4:$AA$54,0)))","v":"Pennsylvania"},{"$f":"ROUND(INDEX('Selected values'!$Y$4:$Y$54, MATCH(I44,'Selected values'!$X$4:$X$54,0)),1)","v":38.8},null,null,{"$f":"INDEX('Selected values'!$AQ$4:$AQ$54,MATCH(N44,'Selected values'!$AO$4:$AO$54,0))","v":""},{"$f":"IF($B$7=Lists!$K$2, INDEX('Selected values'!$AI$4:$AI$54, MATCH($A44,'Selected values'!$AK$4:$AK$54,0)), INDEX('Selected values'!$AI$4:$AI$54,MATCH($A44,'Selected values'!$AL$4:$AL$54,0)))","v":"AVERAGE"},{"$f":"INDEX('Selected values'!$AJ$4:$AJ$54, MATCH(N44,'Selected values'!$AI$4:$AI$54,0))","v":{"v":61.59226315695803,"d":"61.6"}},null,null,{"$f":"INDEX('Selected values'!$BB$4:$BB$54,MATCH(S44,'Selected values'!$AZ$4:$AZ$54,0))","v":23},{"$f":"IF($B$7=Lists!$K$2, INDEX('Selected values'!$AT$4:$AT$54, MATCH($A44,'Selected values'!$AV$4:$AV$54,0)), INDEX('Selected values'!$AT$4:$AT$54,MATCH($A44,'Selected values'!$AW$4:$AW$54,0)))","v":"New Hampshire"},{"$f":"ROUND(INDEX('Selected values'!$AU$4:$AU$54, MATCH(S44,'Selected values'!$AT$4:$AT$54,0)),1)","v":62.9}]
[{"$f":"IF($B$7=Lists!$K$4, A44-1,A44+1)","v":24},null,{"$f":"INDEX('Selected values'!$U$4:$U$54,MATCH(D45,'Selected values'!$S$4:$S$54,0))","v":24},{"$f":"IF($B$7=Lists!$K$2, INDEX('Selected values'!$M$4:$M$54, MATCH($A45,'Selected values'!$O$4:$O$54,0)), INDEX('Selected values'!$M$4:$M$54,MATCH($A45,'Selected values'!$P$4:$P$54,0)))","v":"Louisiana"},{"$f":"ROUND(INDEX('Selected values'!$N$4:$N$54, MATCH(D45,'Selected values'!$M$4:$M$54,0)),1)","v":54.8},null,null,{"$f":"INDEX('Selected values'!$AF$4:$AF$54,MATCH(I45,'Selected values'!$AD$4:$AD$54,0))","v":"=23"},{"$f":"IF($B$7=Lists!$K$2, INDEX('Selected values'!$X$4:$X$54, MATCH($A45,'Selected values'!$Z$4:$Z$54,0)), INDEX('Selected values'!$X$4:$X$54,MATCH($A45,'Selected values'!$AA$4:$AA$54,0)))","v":"New York"},{"$f":"ROUND(INDEX('Selected values'!$Y$4:$Y$54, MATCH(I45,'Selected values'!$X$4:$X$54,0)),1)","v":37.5},null,null,{"$f":"INDEX('Selected values'!$AQ$4:$AQ$54,MATCH(N45,'Selected values'!$AO$4:$AO$54,0))","v":23},{"$f":"IF($B$7=Lists!$K$2, INDEX('Selected values'!$AI$4:$AI$54, MATCH($A45,'Selected values'!$AK$4:$AK$54,0)), INDEX('Selected values'!$AI$4:$AI$54,MATCH($A45,'Selected values'!$AL$4:$AL$54,0)))","v":"Massachusetts"},{"$f":"INDEX('Selected values'!$AJ$4:$AJ$54, MATCH(N45,'Selected values'!$AI$4:$AI$54,0))","v":{"v":58.51699681420968,"d":"58.5"}},null,null,{"$f":"INDEX('Selected values'!$BB$4:$BB$54,MATCH(S45,'Selected values'!$AZ$4:$AZ$54,0))","v":24},{"$f":"IF($B$7=Lists!$K$2, INDEX('Selected values'!$AT$4:$AT$54, MATCH($A45,'Selected values'!$AV$4:$AV$54,0)), INDEX('Selected values'!$AT$4:$AT$54,MATCH($A45,'Selected values'!$AW$4:$AW$54,0)))","v":"Wisconsin"},{"$f":"ROUND(INDEX('Selected values'!$AU$4:$AU$54, MATCH(S45,'Selected values'!$AT$4:$AT$54,0)),1)","v":62.7}]
[{"$f":"IF($B$7=Lists!$K$4, A45-1,A45+1)","v":25},null,{"$f":"INDEX('Selected values'!$U$4:$U$54,MATCH(D46,'Selected values'!$S$4:$S$54,0))","v":25},{"$f":"IF($B$7=Lists!$K$2, INDEX('Selected values'!$M$4:$M$54, MATCH($A46,'Selected values'!$O$4:$O$54,0)), INDEX('Selected values'!$M$4:$M$54,MATCH($A46,'Selected values'!$P$4:$P$54,0)))","v":"Vermont"},{"$f":"ROUND(INDEX('Selected values'!$N$4:$N$54, MATCH(D46,'Selected values'!$M$4:$M$54,0)),1)","v":54.4},null,null,{"$f":"INDEX('Selected values'!$AF$4:$AF$54,MATCH(I46,'Selected values'!$AD$4:$AD$54,0))","v":"=23"},{"$f":"IF($B$7=Lists!$K$2, INDEX('Selected values'!$X$4:$X$54, MATCH($A46,'Selected values'!$Z$4:$Z$54,0)), INDEX('Selected values'!$X$4:$X$54,MATCH($A46,'Selected values'!$AA$4:$AA$54,0)))","v":"Texas"},{"$f":"ROUND(INDEX('Selected values'!$Y$4:$Y$54, MATCH(I46,'Selected values'!$X$4:$X$54,0)),1)","v":37.5},null,null,{"$f":"INDEX('Selected values'!$AQ$4:$AQ$54,MATCH(N46,'Selected values'!$AO$4:$AO$54,0))","v":24},{"$f":"IF($B$7=Lists!$K$2, INDEX('Selected values'!$AI$4:$AI$54, MATCH($A46,'Selected values'!$AK$4:$AK$54,0)), INDEX('Selected values'!$AI$4:$AI$54,MATCH($A46,'Selected values'!$AL$4:$AL$54,0)))","v":"Hawaii"},{"$f":"INDEX('Selected values'!$AJ$4:$AJ$54, MATCH(N46,'Selected values'!$AI$4:$AI$54,0))","v":{"v":58.02777777777777,"d":"58.0"}},null,null,{"$f":"INDEX('Selected values'!$BB$4:$BB$54,MATCH(S46,'Selected values'!$AZ$4:$AZ$54,0))","v":""},{"$f":"IF($B$7=Lists!$K$2, INDEX('Selected values'!$AT$4:$AT$54, MATCH($A46,'Selected values'!$AV$4:$AV$54,0)), INDEX('Selected values'!$AT$4:$AT$54,MATCH($A46,'Selected values'!$AW$4:$AW$54,0)))","v":"AVERAGE"},{"$f":"ROUND(INDEX('Selected values'!$AU$4:$AU$54, MATCH(S46,'Selected values'!$AT$4:$AT$54,0)),1)","v":61.6}]
[{"$f":"IF($B$7=Lists!$K$4, A46-1,A46+1)","v":26},null,{"$f":"INDEX('Selected values'!$U$4:$U$54,MATCH(D47,'Selected values'!$S$4:$S$54,0))","v":""},{"$f":"IF($B$7=Lists!$K$2, INDEX('Selected values'!$M$4:$M$54, MATCH($A47,'Selected values'!$O$4:$O$54,0)), INDEX('Selected values'!$M$4:$M$54,MATCH($A47,'Selected values'!$P$4:$P$54,0)))","v":"AVERAGE"},{"$f":"ROUND(INDEX('Selected values'!$N$4:$N$54, MATCH(D47,'Selected values'!$M$4:$M$54,0)),1)","v":54.2},null,null,{"$f":"INDEX('Selected values'!$AF$4:$AF$54,MATCH(I47,'Selected values'!$AD$4:$AD$54,0))","v":25},{"$f":"IF($B$7=Lists!$K$2, INDEX('Selected values'!$X$4:$X$54, MATCH($A47,'Selected values'!$Z$4:$Z$54,0)), INDEX('Selected values'!$X$4:$X$54,MATCH($A47,'Selected values'!$AA$4:$AA$54,0)))","v":"Maryland"},{"$f":"ROUND(INDEX('Selected values'!$Y$4:$Y$54, MATCH(I47,'Selected values'!$X$4:$X$54,0)),1)","v":36.3},null,null,{"$f":"INDEX('Selected values'!$AQ$4:$AQ$54,MATCH(N47,'Selected values'!$AO$4:$AO$54,0))","v":25},{"$f":"IF($B$7=Lists!$K$2, INDEX('Selected values'!$AI$4:$AI$54, MATCH($A47,'Selected values'!$AK$4:$AK$54,0)), INDEX('Selected values'!$AI$4:$AI$54,MATCH($A47,'Selected values'!$AL$4:$AL$54,0)))","v":"New Mexico"},{"$f":"INDEX('Selected values'!$AJ$4:$AJ$54, MATCH(N47,'Selected values'!$AI$4:$AI$54,0))","v":{"v":57.52730168900278,"d":"57.5"}},null,null,{"$f":"INDEX('Selected values'!$BB$4:$BB$54,MATCH(S47,'Selected values'!$AZ$4:$AZ$54,0))","v":25},{"$f":"IF($B$7=Lists!$K$2, INDEX('Selected values'!$AT$4:$AT$54, MATCH($A47,'Selected values'!$AV$4:$AV$54,0)), INDEX('Selected values'!$AT$4:$AT$54,MATCH($A47,'Selected values'!$AW$4:$AW$54,0)))","v":"Alaska"},{"$f":"ROUND(INDEX('Selected values'!$AU$4:$AU$54, MATCH(S47,'Selected values'!$AT$4:$AT$54,0)),1)","v":61.4}]
[{"$f":"IF($B$7=Lists!$K$4, A47-1,A47+1)","v":27},null,{"$f":"INDEX('Selected values'!$U$4:$U$54,MATCH(D48,'Selected values'!$S$4:$S$54,0))","v":26},{"$f":"IF($B$7=Lists!$K$2, INDEX('Selected values'!$M$4:$M$54, MATCH($A48,'Selected values'!$O$4:$O$54,0)), INDEX('Selected values'!$M$4:$M$54,MATCH($A48,'Selected values'!$P$4:$P$54,0)))","v":"Connecticut"},{"$f":"ROUND(INDEX('Selected values'!$N$4:$N$54, MATCH(D48,'Selected values'!$M$4:$M$54,0)),1)","v":54.1},null,null,{"$f":"INDEX('Selected values'!$AF$4:$AF$54,MATCH(I48,'Selected values'!$AD$4:$AD$54,0))","v":26},{"$f":"IF($B$7=Lists!$K$2, INDEX('Selected values'!$X$4:$X$54, MATCH($A48,'Selected values'!$Z$4:$Z$54,0)), INDEX('Selected values'!$X$4:$X$54,MATCH($A48,'Selected values'!$AA$4:$AA$54,0)))","v":"Oregon"},{"$f":"ROUND(INDEX('Selected values'!$Y$4:$Y$54, MATCH(I48,'Selected values'!$X$4:$X$54,0)),1)","v":35.4},null,null,{"$f":"INDEX('Selected values'!$AQ$4:$AQ$54,MATCH(N48,'Selected values'!$AO$4:$AO$54,0))","v":26},{"$f":"IF($B$7=Lists!$K$2, INDEX('Selected values'!$AI$4:$AI$54, MATCH($A48,'Selected values'!$AK$4:$AK$54,0)), INDEX('Selected values'!$AI$4:$AI$54,MATCH($A48,'Selected values'!$AL$4:$AL$54,0)))","v":"Pennsylvania"},{"$f":"INDEX('Selected values'!$AJ$4:$AJ$54, MATCH(N48,'Selected values'!$AI$4:$AI$54,0))","v":{"v":57.514469539217245,"d":"57.5"}},null,null,{"$f":"INDEX('Selected values'!$BB$4:$BB$54,MATCH(S48,'Selected values'!$AZ$4:$AZ$54,0))","v":26},{"$f":"IF($B$7=Lists!$K$2, INDEX('Selected values'!$AT$4:$AT$54, MATCH($A48,'Selected values'!$AV$4:$AV$54,0)), INDEX('Selected values'!$AT$4:$AT$54,MATCH($A48,'Selected values'!$AW$4:$AW$54,0)))","v":"North Carolina"},{"$f":"ROUND(INDEX('Selected values'!$AU$4:$AU$54, MATCH(S48,'Selected values'!$AT$4:$AT$54,0)),1)","v":61.2}]
[{"$f":"IF($B$7=Lists!$K$4, A48-1,A48+1)","v":28},null,{"$f":"INDEX('Selected values'!$U$4:$U$54,MATCH(D49,'Selected values'!$S$4:$S$54,0))","v":27},{"$f":"IF($B$7=Lists!$K$2, INDEX('Selected values'!$M$4:$M$54, MATCH($A49,'Selected values'!$O$4:$O$54,0)), INDEX('Selected values'!$M$4:$M$54,MATCH($A49,'Selected values'!$P$4:$P$54,0)))","v":"Arkansas"},{"$f":"ROUND(INDEX('Selected values'!$N$4:$N$54, MATCH(D49,'Selected values'!$M$4:$M$54,0)),1)","v":54.1},null,null,{"$f":"INDEX('Selected values'!$AF$4:$AF$54,MATCH(I49,'Selected values'!$AD$4:$AD$54,0))","v":"=27"},{"$f":"IF($B$7=Lists!$K$2, INDEX('Selected values'!$X$4:$X$54, MATCH($A49,'Selected values'!$Z$4:$Z$54,0)), INDEX('Selected values'!$X$4:$X$54,MATCH($A49,'Selected values'!$AA$4:$AA$54,0)))","v":"South Dakota"},{"$f":"ROUND(INDEX('Selected values'!$Y$4:$Y$54, MATCH(I49,'Selected values'!$X$4:$X$54,0)),1)","v":{"v":35,"d":"35.0"}},null,null,{"$f":"INDEX('Selected values'!$AQ$4:$AQ$54,MATCH(N49,'Selected values'!$AO$4:$AO$54,0))","v":27},{"$f":"IF($B$7=Lists!$K$2, INDEX('Selected values'!$AI$4:$AI$54, MATCH($A49,'Selected values'!$AK$4:$AK$54,0)), INDEX('Selected values'!$AI$4:$AI$54,MATCH($A49,'Selected values'!$AL$4:$AL$54,0)))","v":"Michigan"},{"$f":"INDEX('Selected values'!$AJ$4:$AJ$54, MATCH(N49,'Selected values'!$AI$4:$AI$54,0))","v":{"v":55.98541922508765,"d":"56.0"}},null,null,{"$f":"INDEX('Selected values'!$BB$4:$BB$54,MATCH(S49,'Selected values'!$AZ$4:$AZ$54,0))","v":"=27"},{"$f":"IF($B$7=Lists!$K$2, INDEX('Selected values'!$AT$4:$AT$54, MATCH($A49,'Selected values'!$AV$4:$AV$54,0)), INDEX('Selected values'!$AT$4:$AT$54,MATCH($A49,'Selected values'!$AW$4:$AW$54,0)))","v":"Missouri"},{"$f":"ROUND(INDEX('Selected values'!$AU$4:$AU$54, MATCH(S49,'Selected values'!$AT$4:$AT$54,0)),1)","v":60.9}]
[{"$f":"IF($B$7=Lists!$K$4, A49-1,A49+1)","v":29},null,{"$f":"INDEX('Selected values'!$U$4:$U$54,MATCH(D50,'Selected values'!$S$4:$S$54,0))","v":28},{"$f":"IF($B$7=Lists!$K$2, INDEX('Selected values'!$M$4:$M$54, MATCH($A50,'Selected values'!$O$4:$O$54,0)), INDEX('Selected values'!$M$4:$M$54,MATCH($A50,'Selected values'!$P$4:$P$54,0)))","v":"West Virginia"},{"$f":"ROUND(INDEX('Selected values'!$N$4:$N$54, MATCH(D50,'Selected values'!$M$4:$M$54,0)),1)","v":54.1},null,null,{"$f":"INDEX('Selected values'!$AF$4:$AF$54,MATCH(I50,'Selected values'!$AD$4:$AD$54,0))","v":"=27"},{"$f":"IF($B$7=Lists!$K$2, INDEX('Selected values'!$X$4:$X$54, MATCH($A50,'Selected values'!$Z$4:$Z$54,0)), INDEX('Selected values'!$X$4:$X$54,MATCH($A50,'Selected values'!$AA$4:$AA$54,0)))","v":"Tennessee"},{"$f":"ROUND(INDEX('Selected values'!$Y$4:$Y$54, MATCH(I50,'Selected values'!$X$4:$X$54,0)),1)","v":{"v":35,"d":"35.0"}},null,null,{"$f":"INDEX('Selected values'!$AQ$4:$AQ$54,MATCH(N50,'Selected values'!$AO$4:$AO$54,0))","v":28},{"$f":"IF($B$7=Lists!$K$2, INDEX('Selected values'!$AI$4:$AI$54, MATCH($A50,'Selected values'!$AK$4:$AK$54,0)), INDEX('Selected values'!$AI$4:$AI$54,MATCH($A50,'Selected values'!$AL$4:$AL$54,0)))","v":"South Carolina"},{"$f":"INDEX('Selected values'!$AJ$4:$AJ$54, MATCH(N50,'Selected values'!$AI$4:$AI$54,0))","v":{"v":54.76261857725096,"d":"54.8"}},null,null,{"$f":"INDEX('Selected values'!$BB$4:$BB$54,MATCH(S50,'Selected values'!$AZ$4:$AZ$54,0))","v":"=27"},{"$f":"IF($B$7=Lists!$K$2, INDEX('Selected values'!$AT$4:$AT$54, MATCH($A50,'Selected values'!$AV$4:$AV$54,0)), INDEX('Selected values'!$AT$4:$AT$54,MATCH($A50,'Selected values'!$AW$4:$AW$54,0)))","v":"Wyoming"},{"$f":"ROUND(INDEX('Selected values'!$AU$4:$AU$54, MATCH(S50,'Selected values'!$AT$4:$AT$54,0)),1)","v":60.9}]
[{"$f":"IF($B$7=Lists!$K$4, A50-1,A50+1)","v":30},null,{"$f":"INDEX('Selected values'!$U$4:$U$54,MATCH(D51,'Selected values'!$S$4:$S$54,0))","v":29},{"$f":"IF($B$7=Lists!$K$2, INDEX('Selected values'!$M$4:$M$54, MATCH($A51,'Selected values'!$O$4:$O$54,0)), INDEX('Selected values'!$M$4:$M$54,MATCH($A51,'Selected values'!$P$4:$P$54,0)))","v":"Tennessee"},{"$f":"ROUND(INDEX('Selected values'!$N$4:$N$54, MATCH(D51,'Selected values'!$M$4:$M$54,0)),1)","v":53.9},null,null,{"$f":"INDEX('Selected values'!$AF$4:$AF$54,MATCH(I51,'Selected values'!$AD$4:$AD$54,0))","v":"=27"},{"$f":"IF($B$7=Lists!$K$2, INDEX('Selected values'!$X$4:$X$54, MATCH($A51,'Selected values'!$Z$4:$Z$54,0)), INDEX('Selected values'!$X$4:$X$54,MATCH($A51,'Selected values'!$AA$4:$AA$54,0)))","v":"Utah"},{"$f":"ROUND(INDEX('Selected values'!$Y$4:$Y$54, MATCH(I51,'Selected values'!$X$4:$X$54,0)),1)","v":{"v":35,"d":"35.0"}},null,null,{"$f":"INDEX('Selected values'!$AQ$4:$AQ$54,MATCH(N51,'Selected values'!$AO$4:$AO$54,0))","v":29},{"$f":"IF($B$7=Lists!$K$2, INDEX('Selected values'!$AI$4:$AI$54, MATCH($A51,'Selected values'!$AK$4:$AK$54,0)), INDEX('Selected values'!$AI$4:$AI$54,MATCH($A51,'Selected values'!$AL$4:$AL$54,0)))","v":"California"},{"$f":"INDEX('Selected values'!$AJ$4:$AJ$54, MATCH(N51,'Selected values'!$AI$4:$AI$54,0))","v":{"v":54.61839927385338,"d":"54.6"}},null,null,{"$f":"INDEX('Selected values'!$BB$4:$BB$54,MATCH(S51,'Selected values'!$AZ$4:$AZ$54,0))","v":"=29"},{"$f":"IF($B$7=Lists!$K$2, INDEX('Selected values'!$AT$4:$AT$54, MATCH($A51,'Selected values'!$AV$4:$AV$54,0)), INDEX('Selected values'!$AT$4:$AT$54,MATCH($A51,'Selected values'!$AW$4:$AW$54,0)))","v":"Louisiana"},{"$f":"ROUND(INDEX('Selected values'!$AU$4:$AU$54, MATCH(S51,'Selected values'!$AT$4:$AT$54,0)),1)","v":60.7}]
[{"$f":"IF($B$7=Lists!$K$4, A51-1,A51+1)","v":31},null,{"$f":"INDEX('Selected values'!$U$4:$U$54,MATCH(D52,'Selected values'!$S$4:$S$54,0))","v":30},{"$f":"IF($B$7=Lists!$K$2, INDEX('Selected values'!$M$4:$M$54, MATCH($A52,'Selected values'!$O$4:$O$54,0)), INDEX('Selected values'!$M$4:$M$54,MATCH($A52,'Selected values'!$P$4:$P$54,0)))","v":"Pennsylvania"},{"$f":"ROUND(INDEX('Selected values'!$N$4:$N$54, MATCH(D52,'Selected values'!$M$4:$M$54,0)),1)","v":53.1},null,null,{"$f":"INDEX('Selected values'!$AF$4:$AF$54,MATCH(I52,'Selected values'!$AD$4:$AD$54,0))","v":"=27"},{"$f":"IF($B$7=Lists!$K$2, INDEX('Selected values'!$X$4:$X$54, MATCH($A52,'Selected values'!$Z$4:$Z$54,0)), INDEX('Selected values'!$X$4:$X$54,MATCH($A52,'Selected values'!$AA$4:$AA$54,0)))","v":"Virginia"},{"$f":"ROUND(INDEX('Selected values'!$Y$4:$Y$54, MATCH(I52,'Selected values'!$X$4:$X$54,0)),1)","v":{"v":35,"d":"35.0"}},null,null,{"$f":"INDEX('Selected values'!$AQ$4:$AQ$54,MATCH(N52,'Selected values'!$AO$4:$AO$54,0))","v":30},{"$f":"IF($B$7=Lists!$K$2, INDEX('Selected values'!$AI$4:$AI$54, MATCH($A52,'Selected values'!$AK$4:$AK$54,0)), INDEX('Selected values'!$AI$4:$AI$54,MATCH($A52,'Selected values'!$AL$4:$AL$54,0)))","v":"Oregon"},{"$f":"INDEX('Selected values'!$AJ$4:$AJ$54, MATCH(N52,'Selected values'!$AI$4:$AI$54,0))","v":{"v":51.233586060832565,"d":"51.2"}},null,null,{"$f":"INDEX('Selected values'!$BB$4:$BB$54,MATCH(S52,'Selected values'!$AZ$4:$AZ$54,0))","v":"=29"},{"$f":"IF($B$7=Lists!$K$2, INDEX('Selected values'!$AT$4:$AT$54, MATCH($A52,'Selected values'!$AV$4:$AV$54,0)), INDEX('Selected values'!$AT$4:$AT$54,MATCH($A52,'Selected values'!$AW$4:$AW$54,0)))","v":"New Mexico"},{"$f":"ROUND(INDEX('Selected values'!$AU$4:$AU$54, MATCH(S52,'Selected values'!$AT$4:$AT$54,0)),1)","v":60.7}]
[{"$f":"IF($B$7=Lists!$K$4, A52-1,A52+1)","v":32},null,{"$f":"INDEX('Selected values'!$U$4:$U$54,MATCH(D53,'Selected values'!$S$4:$S$54,0))","v":31},{"$f":"IF($B$7=Lists!$K$2, INDEX('Selected values'!$M$4:$M$54, MATCH($A53,'Selected values'!$O$4:$O$54,0)), INDEX('Selected values'!$M$4:$M$54,MATCH($A53,'Selected values'!$P$4:$P$54,0)))","v":"Oregon"},{"$f":"ROUND(INDEX('Selected values'!$N$4:$N$54, MATCH(D53,'Selected values'!$M$4:$M$54,0)),1)","v":52.9},null,null,{"$f":"INDEX('Selected values'!$AF$4:$AF$54,MATCH(I53,'Selected values'!$AD$4:$AD$54,0))","v":"=27"},{"$f":"IF($B$7=Lists!$K$2, INDEX('Selected values'!$X$4:$X$54, MATCH($A53,'Selected values'!$Z$4:$Z$54,0)), INDEX('Selected values'!$X$4:$X$54,MATCH($A53,'Selected values'!$AA$4:$AA$54,0)))","v":"Washington"},{"$f":"ROUND(INDEX('Selected values'!$Y$4:$Y$54, MATCH(I53,'Selected values'!$X$4:$X$54,0)),1)","v":{"v":35,"d":"35.0"}},null,null,{"$f":"INDEX('Selected values'!$AQ$4:$AQ$54,MATCH(N53,'Selected values'!$AO$4:$AO$54,0))","v":31},{"$f":"IF($B$7=Lists!$K$2, INDEX('Selected values'!$AI$4:$AI$54, MATCH($A53,'Selected values'!$AK$4:$AK$54,0)), INDEX('Selected values'!$AI$4:$AI$54,MATCH($A53,'Selected values'!$AL$4:$AL$54,0)))","v":"Louisiana"},{"$f":"INDEX('Selected values'!$AJ$4:$AJ$54, MATCH(N53,'Selected values'!$AI$4:$AI$54,0))","v":{"v":51.17411055938206,"d":"51.2"}},null,null,{"$f":"INDEX('Selected values'!$BB$4:$BB$54,MATCH(S53,'Selected values'!$AZ$4:$AZ$54,0))","v":31},{"$f":"IF($B$7=Lists!$K$2, INDEX('Selected values'!$AT$4:$AT$54, MATCH($A53,'Selected values'!$AV$4:$AV$54,0)), INDEX('Selected values'!$AT$4:$AT$54,MATCH($A53,'Selected values'!$AW$4:$AW$54,0)))","v":"Montana"},{"$f":"ROUND(INDEX('Selected values'!$AU$4:$AU$54, MATCH(S53,'Selected values'!$AT$4:$AT$54,0)),1)","v":60.2}]
[{"$f":"IF($B$7=Lists!$K$4, A53-1,A53+1)","v":33},null,{"$f":"INDEX('Selected values'!$U$4:$U$54,MATCH(D54,'Selected values'!$S$4:$S$54,0))","v":32},{"$f":"IF($B$7=Lists!$K$2, INDEX('Selected values'!$M$4:$M$54, MATCH($A54,'Selected values'!$O$4:$O$54,0)), INDEX('Selected values'!$M$4:$M$54,MATCH($A54,'Selected values'!$P$4:$P$54,0)))","v":"Idaho"},{"$f":"ROUND(INDEX('Selected values'!$N$4:$N$54, MATCH(D54,'Selected values'!$M$4:$M$54,0)),1)","v":52.1},null,null,{"$f":"INDEX('Selected values'!$AF$4:$AF$54,MATCH(I54,'Selected values'!$AD$4:$AD$54,0))","v":32},{"$f":"IF($B$7=Lists!$K$2, INDEX('Selected values'!$X$4:$X$54, MATCH($A54,'Selected values'!$Z$4:$Z$54,0)), INDEX('Selected values'!$X$4:$X$54,MATCH($A54,'Selected values'!$AA$4:$AA$54,0)))","v":"Wisconsin"},{"$f":"ROUND(INDEX('Selected values'!$Y$4:$Y$54, MATCH(I54,'Selected values'!$X$4:$X$54,0)),1)","v":34.6},null,null,{"$f":"INDEX('Selected values'!$AQ$4:$AQ$54,MATCH(N54,'Selected values'!$AO$4:$AO$54,0))","v":32},{"$f":"IF($B$7=Lists!$K$2, INDEX('Selected values'!$AI$4:$AI$54, MATCH($A54,'Selected values'!$AK$4:$AK$54,0)), INDEX('Selected values'!$AI$4:$AI$54,MATCH($A54,'Selected values'!$AL$4:$AL$54,0)))","v":"West Virginia"},{"$f":"INDEX('Selected values'!$AJ$4:$AJ$54, MATCH(N54,'Selected values'!$AI$4:$AI$54,0))","v":{"v":50.842783917988136,"d":"50.8"}},null,null,{"$f":"INDEX('Selected values'!$BB$4:$BB$54,MATCH(S54,'Selected values'!$AZ$4:$AZ$54,0))","v":32},{"$f":"IF($B$7=Lists!$K$2, INDEX('Selected values'!$AT$4:$AT$54, MATCH($A54,'Selected values'!$AV$4:$AV$54,0)), INDEX('Selected values'!$AT$4:$AT$54,MATCH($A54,'Selected values'!$AW$4:$AW$54,0)))","v":"South Dakota"},{"$f":"ROUND(INDEX('Selected values'!$AU$4:$AU$54, MATCH(S54,'Selected values'!$AT$4:$AT$54,0)),1)","v":59.9}]
[{"$f":"IF($B$7=Lists!$K$4, A54-1,A54+1)","v":34},null,{"$f":"INDEX('Selected values'!$U$4:$U$54,MATCH(D55,'Selected values'!$S$4:$S$54,0))","v":33},{"$f":"IF($B$7=Lists!$K$2, INDEX('Selected values'!$M$4:$M$54, MATCH($A55,'Selected values'!$O$4:$O$54,0)), INDEX('Selected values'!$M$4:$M$54,MATCH($A55,'Selected values'!$P$4:$P$54,0)))","v":"Michigan"},{"$f":"ROUND(INDEX('Selected values'!$N$4:$N$54, MATCH(D55,'Selected values'!$M$4:$M$54,0)),1)","v":{"v":51,"d":"51.0"}},null,null,{"$f":"INDEX('Selected values'!$AF$4:$AF$54,MATCH(I55,'Selected values'!$AD$4:$AD$54,0))","v":33},{"$f":"IF($B$7=Lists!$K$2, INDEX('Selected values'!$X$4:$X$54, MATCH($A55,'Selected values'!$Z$4:$Z$54,0)), INDEX('Selected values'!$X$4:$X$54,MATCH($A55,'Selected values'!$AA$4:$AA$54,0)))","v":"Maine"},{"$f":"ROUND(INDEX('Selected values'!$Y$4:$Y$54, MATCH(I55,'Selected values'!$X$4:$X$54,0)),1)","v":33.1},null,null,{"$f":"INDEX('Selected values'!$AQ$4:$AQ$54,MATCH(N55,'Selected values'!$AO$4:$AO$54,0))","v":33},{"$f":"IF($B$7=Lists!$K$2, INDEX('Selected values'!$AI$4:$AI$54, MATCH($A55,'Selected values'!$AK$4:$AK$54,0)), INDEX('Selected values'!$AI$4:$AI$54,MATCH($A55,'Selected values'!$AL$4:$AL$54,0)))","v":"Alaska"},{"$f":"INDEX('Selected values'!$AJ$4:$AJ$54, MATCH(N55,'Selected values'!$AI$4:$AI$54,0))","v":{"v":50.299753501699676,"d":"50.3"}},null,null,{"$f":"INDEX('Selected values'!$BB$4:$BB$54,MATCH(S55,'Selected values'!$AZ$4:$AZ$54,0))","v":33},{"$f":"IF($B$7=Lists!$K$2, INDEX('Selected values'!$AT$4:$AT$54, MATCH($A55,'Selected values'!$AV$4:$AV$54,0)), INDEX('Selected values'!$AT$4:$AT$54,MATCH($A55,'Selected values'!$AW$4:$AW$54,0)))","v":"Vermont"},{"$f":"ROUND(INDEX('Selected values'!$AU$4:$AU$54, MATCH(S55,'Selected values'!$AT$4:$AT$54,0)),1)","v":59.2}]
[{"$f":"IF($B$7=Lists!$K$4, A55-1,A55+1)","v":35},null,{"$f":"INDEX('Selected values'!$U$4:$U$54,MATCH(D56,'Selected values'!$S$4:$S$54,0))","v":34},{"$f":"IF($B$7=Lists!$K$2, INDEX('Selected values'!$M$4:$M$54, MATCH($A56,'Selected values'!$O$4:$O$54,0)), INDEX('Selected values'!$M$4:$M$54,MATCH($A56,'Selected values'!$P$4:$P$54,0)))","v":"Utah"},{"$f":"ROUND(INDEX('Selected values'!$N$4:$N$54, MATCH(D56,'Selected values'!$M$4:$M$54,0)),1)","v":50.5},null,null,{"$f":"INDEX('Selected values'!$AF$4:$AF$54,MATCH(I56,'Selected values'!$AD$4:$AD$54,0))","v":"=34"},{"$f":"IF($B$7=Lists!$K$2, INDEX('Selected values'!$X$4:$X$54, MATCH($A56,'Selected values'!$Z$4:$Z$54,0)), INDEX('Selected values'!$X$4:$X$54,MATCH($A56,'Selected values'!$AA$4:$AA$54,0)))","v":"Alaska"},{"$f":"ROUND(INDEX('Selected values'!$Y$4:$Y$54, MATCH(I56,'Selected values'!$X$4:$X$54,0)),1)","v":32.5},null,null,{"$f":"INDEX('Selected values'!$AQ$4:$AQ$54,MATCH(N56,'Selected values'!$AO$4:$AO$54,0))","v":34},{"$f":"IF($B$7=Lists!$K$2, INDEX('Selected values'!$AI$4:$AI$54, MATCH($A56,'Selected values'!$AK$4:$AK$54,0)), INDEX('Selected values'!$AI$4:$AI$54,MATCH($A56,'Selected values'!$AL$4:$AL$54,0)))","v":"Nevada"},{"$f":"INDEX('Selected values'!$AJ$4:$AJ$54, MATCH(N56,'Selected values'!$AI$4:$AI$54,0))","v":{"v":50.238409240571656,"d":"50.2"}},null,null,{"$f":"INDEX('Selected values'!$BB$4:$BB$54,MATCH(S56,'Selected values'!$AZ$4:$AZ$54,0))","v":34},{"$f":"IF($B$7=Lists!$K$2, INDEX('Selected values'!$AT$4:$AT$54, MATCH($A56,'Selected values'!$AV$4:$AV$54,0)), INDEX('Selected values'!$AT$4:$AT$54,MATCH($A56,'Selected values'!$AW$4:$AW$54,0)))","v":"Tennessee"},{"$f":"ROUND(INDEX('Selected values'!$AU$4:$AU$54, MATCH(S56,'Selected values'!$AT$4:$AT$54,0)),1)","v":58.7}]
[{"$f":"IF($B$7=Lists!$K$4, A56-1,A56+1)","v":36},null,{"$f":"INDEX('Selected values'!$U$4:$U$54,MATCH(D57,'Selected values'!$S$4:$S$54,0))","v":35},{"$f":"IF($B$7=Lists!$K$2, INDEX('Selected values'!$M$4:$M$54, MATCH($A57,'Selected values'!$O$4:$O$54,0)), INDEX('Selected values'!$M$4:$M$54,MATCH($A57,'Selected values'!$P$4:$P$54,0)))","v":"Nebraska"},{"$f":"ROUND(INDEX('Selected values'!$N$4:$N$54, MATCH(D57,'Selected values'!$M$4:$M$54,0)),1)","v":50.3},null,null,{"$f":"INDEX('Selected values'!$AF$4:$AF$54,MATCH(I57,'Selected values'!$AD$4:$AD$54,0))","v":"=34"},{"$f":"IF($B$7=Lists!$K$2, INDEX('Selected values'!$X$4:$X$54, MATCH($A57,'Selected values'!$Z$4:$Z$54,0)), INDEX('Selected values'!$X$4:$X$54,MATCH($A57,'Selected values'!$AA$4:$AA$54,0)))","v":"Illinois"},{"$f":"ROUND(INDEX('Selected values'!$Y$4:$Y$54, MATCH(I57,'Selected values'!$X$4:$X$54,0)),1)","v":32.5},null,null,{"$f":"INDEX('Selected values'!$AQ$4:$AQ$54,MATCH(N57,'Selected values'!$AO$4:$AO$54,0))","v":35},{"$f":"IF($B$7=Lists!$K$2, INDEX('Selected values'!$AI$4:$AI$54, MATCH($A57,'Selected values'!$AK$4:$AK$54,0)), INDEX('Selected values'!$AI$4:$AI$54,MATCH($A57,'Selected values'!$AL$4:$AL$54,0)))","v":"New Jersey"},{"$f":"INDEX('Selected values'!$AJ$4:$AJ$54, MATCH(N57,'Selected values'!$AI$4:$AI$54,0))","v":{"v":49.893694270916754,"d":"49.9"}},null,null,{"$f":"INDEX('Selected values'!$BB$4:$BB$54,MATCH(S57,'Selected values'!$AZ$4:$AZ$54,0))","v":35},{"$f":"IF($B$7=Lists!$K$2, INDEX('Selected values'!$AT$4:$AT$54, MATCH($A57,'Selected values'!$AV$4:$AV$54,0)), INDEX('Selected values'!$AT$4:$AT$54,MATCH($A57,'Selected values'!$AW$4:$AW$54,0)))","v":"Maine"},{"$f":"ROUND(INDEX('Selected values'!$AU$4:$AU$54, MATCH(S57,'Selected values'!$AT$4:$AT$54,0)),1)","v":58.4}]
[{"$f":"IF($B$7=Lists!$K$4, A57-1,A57+1)","v":37},null,{"$f":"INDEX('Selected values'!$U$4:$U$54,MATCH(D58,'Selected values'!$S$4:$S$54,0))","v":36},{"$f":"IF($B$7=Lists!$K$2, INDEX('Selected values'!$M$4:$M$54, MATCH($A58,'Selected values'!$O$4:$O$54,0)), INDEX('Selected values'!$M$4:$M$54,MATCH($A58,'Selected values'!$P$4:$P$54,0)))","v":"Wyoming"},{"$f":"ROUND(INDEX('Selected values'!$N$4:$N$54, MATCH(D58,'Selected values'!$M$4:$M$54,0)),1)","v":{"v":49,"d":"49.0"}},null,null,{"$f":"INDEX('Selected values'!$AF$4:$AF$54,MATCH(I58,'Selected values'!$AD$4:$AD$54,0))","v":36},{"$f":"IF($B$7=Lists!$K$2, INDEX('Selected values'!$X$4:$X$54, MATCH($A58,'Selected values'!$Z$4:$Z$54,0)), INDEX('Selected values'!$X$4:$X$54,MATCH($A58,'Selected values'!$AA$4:$AA$54,0)))","v":"Delaware"},{"$f":"ROUND(INDEX('Selected values'!$Y$4:$Y$54, MATCH(I58,'Selected values'!$X$4:$X$54,0)),1)","v":31.3},null,null,{"$f":"INDEX('Selected values'!$AQ$4:$AQ$54,MATCH(N58,'Selected values'!$AO$4:$AO$54,0))","v":36},{"$f":"IF($B$7=Lists!$K$2, INDEX('Selected values'!$AI$4:$AI$54, MATCH($A58,'Selected values'!$AK$4:$AK$54,0)), INDEX('Selected values'!$AI$4:$AI$54,MATCH($A58,'Selected values'!$AL$4:$AL$54,0)))","v":"Arizona"},{"$f":"INDEX('Selected values'!$AJ$4:$AJ$54, MATCH(N58,'Selected values'!$AI$4:$AI$54,0))","v":{"v":49.85784078167546,"d":"49.9"}},null,null,{"$f":"INDEX('Selected values'!$BB$4:$BB$54,MATCH(S58,'Selected values'!$AZ$4:$AZ$54,0))","v":36},{"$f":"IF($B$7=Lists!$K$2, INDEX('Selected values'!$AT$4:$AT$54, MATCH($A58,'Selected values'!$AV$4:$AV$54,0)), INDEX('Selected values'!$AT$4:$AT$54,MATCH($A58,'Selected values'!$AW$4:$AW$54,0)))","v":"Arkansas"},{"$f":"ROUND(INDEX('Selected values'!$AU$4:$AU$54, MATCH(S58,'Selected values'!$AT$4:$AT$54,0)),1)","v":57.4}]
[{"$f":"IF($B$7=Lists!$K$4, A58-1,A58+1)","v":38},null,{"$f":"INDEX('Selected values'!$U$4:$U$54,MATCH(D59,'Selected values'!$S$4:$S$54,0))","v":37},{"$f":"IF($B$7=Lists!$K$2, INDEX('Selected values'!$M$4:$M$54, MATCH($A59,'Selected values'!$O$4:$O$54,0)), INDEX('Selected values'!$M$4:$M$54,MATCH($A59,'Selected values'!$P$4:$P$54,0)))","v":"Missouri"},{"$f":"ROUND(INDEX('Selected values'!$N$4:$N$54, MATCH(D59,'Selected values'!$M$4:$M$54,0)),1)","v":48.9},null,null,{"$f":"INDEX('Selected values'!$AF$4:$AF$54,MATCH(I59,'Selected values'!$AD$4:$AD$54,0))","v":"=37"},{"$f":"IF($B$7=Lists!$K$2, INDEX('Selected values'!$X$4:$X$54, MATCH($A59,'Selected values'!$Z$4:$Z$54,0)), INDEX('Selected values'!$X$4:$X$54,MATCH($A59,'Selected values'!$AA$4:$AA$54,0)))","v":"Indiana"},{"$f":"ROUND(INDEX('Selected values'!$Y$4:$Y$54, MATCH(I59,'Selected values'!$X$4:$X$54,0)),1)","v":{"v":30,"d":"30.0"}},null,null,{"$f":"INDEX('Selected values'!$AQ$4:$AQ$54,MATCH(N59,'Selected values'!$AO$4:$AO$54,0))","v":37},{"$f":"IF($B$7=Lists!$K$2, INDEX('Selected values'!$AI$4:$AI$54, MATCH($A59,'Selected values'!$AK$4:$AK$54,0)), INDEX('Selected values'!$AI$4:$AI$54,MATCH($A59,'Selected values'!$AL$4:$AL$54,0)))","v":"Georgia"},{"$f":"INDEX('Selected values'!$AJ$4:$AJ$54, MATCH(N59,'Selected values'!$AI$4:$AI$54,0))","v":{"v":49.74297435349813,"d":"49.7"}},null,null,{"$f":"INDEX('Selected values'!$BB$4:$BB$54,MATCH(S59,'Selected values'!$AZ$4:$AZ$54,0))","v":37},{"$f":"IF($B$7=Lists!$K$2, INDEX('Selected values'!$AT$4:$AT$54, MATCH($A59,'Selected values'!$AV$4:$AV$54,0)), INDEX('Selected values'!$AT$4:$AT$54,MATCH($A59,'Selected values'!$AW$4:$AW$54,0)))","v":"Massachusetts"},{"$f":"ROUND(INDEX('Selected values'!$AU$4:$AU$54, MATCH(S59,'Selected values'!$AT$4:$AT$54,0)),1)","v":57.1}]
[{"$f":"IF($B$7=Lists!$K$4, A59-1,A59+1)","v":39},null,{"$f":"INDEX('Selected values'!$U$4:$U$54,MATCH(D60,'Selected values'!$S$4:$S$54,0))","v":38},{"$f":"IF($B$7=Lists!$K$2, INDEX('Selected values'!$M$4:$M$54, MATCH($A60,'Selected values'!$O$4:$O$54,0)), INDEX('Selected values'!$M$4:$M$54,MATCH($A60,'Selected values'!$P$4:$P$54,0)))","v":"Delaware"},{"$f":"ROUND(INDEX('Selected values'!$N$4:$N$54, MATCH(D60,'Selected values'!$M$4:$M$54,0)),1)","v":48.9},null,null,{"$f":"INDEX('Selected values'!$AF$4:$AF$54,MATCH(I60,'Selected values'!$AD$4:$AD$54,0))","v":"=37"},{"$f":"IF($B$7=Lists!$K$2, INDEX('Selected values'!$X$4:$X$54, MATCH($A60,'Selected values'!$Z$4:$Z$54,0)), INDEX('Selected values'!$X$4:$X$54,MATCH($A60,'Selected values'!$AA$4:$AA$54,0)))","v":"Massachusetts"},{"$f":"ROUND(INDEX('Selected values'!$Y$4:$Y$54, MATCH(I60,'Selected values'!$X$4:$X$54,0)),1)","v":{"v":30,"d":"30.0"}},null,null,{"$f":"INDEX('Selected values'!$AQ$4:$AQ$54,MATCH(N60,'Selected values'!$AO$4:$AO$54,0))","v":38},{"$f":"IF($B$7=Lists!$K$2, INDEX('Selected values'!$AI$4:$AI$54, MATCH($A60,'Selected values'!$AK$4:$AK$54,0)), INDEX('Selected values'!$AI$4:$AI$54,MATCH($A60,'Selected values'!$AL$4:$AL$54,0)))","v":"South Dakota"},{"$f":"INDEX('Selected values'!$AJ$4:$AJ$54, MATCH(N60,'Selected values'!$AI$4:$AI$54,0))","v":{"v":46.23488529375122,"d":"46.2"}},null,null,{"$f":"INDEX('Selected values'!$BB$4:$BB$54,MATCH(S60,'Selected values'!$AZ$4:$AZ$54,0))","v":38},{"$f":"IF($B$7=Lists!$K$2, INDEX('Selected values'!$AT$4:$AT$54, MATCH($A60,'Selected values'!$AV$4:$AV$54,0)), INDEX('Selected values'!$AT$4:$AT$54,MATCH($A60,'Selected values'!$AW$4:$AW$54,0)))","v":"Alabama"},{"$f":"ROUND(INDEX('Selected values'!$AU$4:$AU$54, MATCH(S60,'Selected values'!$AT$4:$AT$54,0)),1)","v":56.9}]
[{"$f":"IF($B$7=Lists!$K$4, A60-1,A60+1)","v":40},null,{"$f":"INDEX('Selected values'!$U$4:$U$54,MATCH(D61,'Selected values'!$S$4:$S$54,0))","v":39},{"$f":"IF($B$7=Lists!$K$2, INDEX('Selected values'!$M$4:$M$54, MATCH($A61,'Selected values'!$O$4:$O$54,0)), INDEX('Selected values'!$M$4:$M$54,MATCH($A61,'Selected values'!$P$4:$P$54,0)))","v":"Massachusetts"},{"$f":"ROUND(INDEX('Selected values'!$N$4:$N$54, MATCH(D61,'Selected values'!$M$4:$M$54,0)),1)","v":48.5},null,null,{"$f":"INDEX('Selected values'!$AF$4:$AF$54,MATCH(I61,'Selected values'!$AD$4:$AD$54,0))","v":"=37"},{"$f":"IF($B$7=Lists!$K$2, INDEX('Selected values'!$X$4:$X$54, MATCH($A61,'Selected values'!$Z$4:$Z$54,0)), INDEX('Selected values'!$X$4:$X$54,MATCH($A61,'Selected values'!$AA$4:$AA$54,0)))","v":"North Carolina"},{"$f":"ROUND(INDEX('Selected values'!$Y$4:$Y$54, MATCH(I61,'Selected values'!$X$4:$X$54,0)),1)","v":{"v":30,"d":"30.0"}},null,null,{"$f":"INDEX('Selected values'!$AQ$4:$AQ$54,MATCH(N61,'Selected values'!$AO$4:$AO$54,0))","v":39},{"$f":"IF($B$7=Lists!$K$2, INDEX('Selected values'!$AI$4:$AI$54, MATCH($A61,'Selected values'!$AK$4:$AK$54,0)), INDEX('Selected values'!$AI$4:$AI$54,MATCH($A61,'Selected values'!$AL$4:$AL$54,0)))","v":"Alabama"},{"$f":"INDEX('Selected values'!$AJ$4:$AJ$54, MATCH(N61,'Selected values'!$AI$4:$AI$54,0))","v":{"v":45.77550412017014,"d":"45.8"}},null,null,{"$f":"INDEX('Selected values'!$BB$4:$BB$54,MATCH(S61,'Selected values'!$AZ$4:$AZ$54,0))","v":39},{"$f":"IF($B$7=Lists!$K$2, INDEX('Selected values'!$AT$4:$AT$54, MATCH($A61,'Selected values'!$AV$4:$AV$54,0)), INDEX('Selected values'!$AT$4:$AT$54,MATCH($A61,'Selected values'!$AW$4:$AW$54,0)))","v":"West Virginia"},{"$f":"ROUND(INDEX('Selected values'!$AU$4:$AU$54, MATCH(S61,'Selected values'!$AT$4:$AT$54,0)),1)","v":56.4}]
[{"$f":"IF($B$7=Lists!$K$4, A61-1,A61+1)","v":41},null,{"$f":"INDEX('Selected values'!$U$4:$U$54,MATCH(D62,'Selected values'!$S$4:$S$54,0))","v":40},{"$f":"IF($B$7=Lists!$K$2, INDEX('Selected values'!$M$4:$M$54, MATCH($A62,'Selected values'!$O$4:$O$54,0)), INDEX('Selected values'!$M$4:$M$54,MATCH($A62,'Selected values'!$P$4:$P$54,0)))","v":"New Jersey"},{"$f":"ROUND(INDEX('Selected values'!$N$4:$N$54, MATCH(D62,'Selected values'!$M$4:$M$54,0)),1)","v":48.1},null,null,{"$f":"INDEX('Selected values'!$AF$4:$AF$54,MATCH(I62,'Selected values'!$AD$4:$AD$54,0))","v":"=40"},{"$f":"IF($B$7=Lists!$K$2, INDEX('Selected values'!$X$4:$X$54, MATCH($A62,'Selected values'!$Z$4:$Z$54,0)), INDEX('Selected values'!$X$4:$X$54,MATCH($A62,'Selected values'!$AA$4:$AA$54,0)))","v":"Connecticut"},{"$f":"ROUND(INDEX('Selected values'!$Y$4:$Y$54, MATCH(I62,'Selected values'!$X$4:$X$54,0)),1)","v":28.8},null,null,{"$f":"INDEX('Selected values'!$AQ$4:$AQ$54,MATCH(N62,'Selected values'!$AO$4:$AO$54,0))","v":40},{"$f":"IF($B$7=Lists!$K$2, INDEX('Selected values'!$AI$4:$AI$54, MATCH($A62,'Selected values'!$AK$4:$AK$54,0)), INDEX('Selected values'!$AI$4:$AI$54,MATCH($A62,'Selected values'!$AL$4:$AL$54,0)))","v":"Missouri"},{"$f":"INDEX('Selected values'!$AJ$4:$AJ$54, MATCH(N62,'Selected values'!$AI$4:$AI$54,0))","v":{"v":45.72935910441917,"d":"45.7"}},null,null,{"$f":"INDEX('Selected values'!$BB$4:$BB$54,MATCH(S62,'Selected values'!$AZ$4:$AZ$54,0))","v":40},{"$f":"IF($B$7=Lists!$K$2, INDEX('Selected values'!$AT$4:$AT$54, MATCH($A62,'Selected values'!$AV$4:$AV$54,0)), INDEX('Selected values'!$AT$4:$AT$54,MATCH($A62,'Selected values'!$AW$4:$AW$54,0)))","v":"Florida"},{"$f":"ROUND(INDEX('Selected values'!$AU$4:$AU$54, MATCH(S62,'Selected values'!$AT$4:$AT$54,0)),1)","v":55.3}]
[{"$f":"IF($B$7=Lists!$K$4, A62-1,A62+1)","v":42},null,{"$f":"INDEX('Selected values'!$U$4:$U$54,MATCH(D63,'Selected values'!$S$4:$S$54,0))","v":41},{"$f":"IF($B$7=Lists!$K$2, INDEX('Selected values'!$M$4:$M$54, MATCH($A63,'Selected values'!$O$4:$O$54,0)), INDEX('Selected values'!$M$4:$M$54,MATCH($A63,'Selected values'!$P$4:$P$54,0)))","v":"Alaska"},{"$f":"ROUND(INDEX('Selected values'!$N$4:$N$54, MATCH(D63,'Selected values'!$M$4:$M$54,0)),1)","v":48.1},null,null,{"$f":"INDEX('Selected values'!$AF$4:$AF$54,MATCH(I63,'Selected values'!$AD$4:$AD$54,0))","v":"=40"},{"$f":"IF($B$7=Lists!$K$2, INDEX('Selected values'!$X$4:$X$54, MATCH($A63,'Selected values'!$Z$4:$Z$54,0)), INDEX('Selected values'!$X$4:$X$54,MATCH($A63,'Selected values'!$AA$4:$AA$54,0)))","v":"New Hampshire"},{"$f":"ROUND(INDEX('Selected values'!$Y$4:$Y$54, MATCH(I63,'Selected values'!$X$4:$X$54,0)),1)","v":28.8},null,null,{"$f":"INDEX('Selected values'!$AQ$4:$AQ$54,MATCH(N63,'Selected values'!$AO$4:$AO$54,0))","v":41},{"$f":"IF($B$7=Lists!$K$2, INDEX('Selected values'!$AI$4:$AI$54, MATCH($A63,'Selected values'!$AK$4:$AK$54,0)), INDEX('Selected values'!$AI$4:$AI$54,MATCH($A63,'Selected values'!$AL$4:$AL$54,0)))","v":"Oklahoma"},{"$f":"INDEX('Selected values'!$AJ$4:$AJ$54, MATCH(N63,'Selected values'!$AI$4:$AI$54,0))","v":{"v":45.632290387456166,"d":"45.6"}},null,null,{"$f":"INDEX('Selected values'!$BB$4:$BB$54,MATCH(S63,'Selected values'!$AZ$4:$AZ$54,0))","v":41},{"$f":"IF($B$7=Lists!$K$2, INDEX('Selected values'!$AT$4:$AT$54, MATCH($A63,'Selected values'!$AV$4:$AV$54,0)), INDEX('Selected values'!$AT$4:$AT$54,MATCH($A63,'Selected values'!$AW$4:$AW$54,0)))","v":"Michigan"},{"$f":"ROUND(INDEX('Selected values'!$AU$4:$AU$54, MATCH(S63,'Selected values'!$AT$4:$AT$54,0)),1)","v":54.8}]
[{"$f":"IF($B$7=Lists!$K$4, A63-1,A63+1)","v":43},null,{"$f":"INDEX('Selected values'!$U$4:$U$54,MATCH(D64,'Selected values'!$S$4:$S$54,0))","v":42},{"$f":"IF($B$7=Lists!$K$2, INDEX('Selected values'!$M$4:$M$54, MATCH($A64,'Selected values'!$O$4:$O$54,0)), INDEX('Selected values'!$M$4:$M$54,MATCH($A64,'Selected values'!$P$4:$P$54,0)))","v":"South Dakota"},{"$f":"ROUND(INDEX('Selected values'!$N$4:$N$54, MATCH(D64,'Selected values'!$M$4:$M$54,0)),1)","v":47.1},null,null,{"$f":"INDEX('Selected values'!$AF$4:$AF$54,MATCH(I64,'Selected values'!$AD$4:$AD$54,0))","v":"=40"},{"$f":"IF($B$7=Lists!$K$2, INDEX('Selected values'!$X$4:$X$54, MATCH($A64,'Selected values'!$Z$4:$Z$54,0)), INDEX('Selected values'!$X$4:$X$54,MATCH($A64,'Selected values'!$AA$4:$AA$54,0)))","v":"New Jersey"},{"$f":"ROUND(INDEX('Selected values'!$Y$4:$Y$54, MATCH(I64,'Selected values'!$X$4:$X$54,0)),1)","v":28.8},null,null,{"$f":"INDEX('Selected values'!$AQ$4:$AQ$54,MATCH(N64,'Selected values'!$AO$4:$AO$54,0))","v":42},{"$f":"IF($B$7=Lists!$K$2, INDEX('Selected values'!$AI$4:$AI$54, MATCH($A64,'Selected values'!$AK$4:$AK$54,0)), INDEX('Selected values'!$AI$4:$AI$54,MATCH($A64,'Selected values'!$AL$4:$AL$54,0)))","v":"Delaware"},{"$f":"INDEX('Selected values'!$AJ$4:$AJ$54, MATCH(N64,'Selected values'!$AI$4:$AI$54,0))","v":{"v":45.578536850161065,"d":"45.6"}},null,null,{"$f":"INDEX('Selected values'!$BB$4:$BB$54,MATCH(S64,'Selected values'!$AZ$4:$AZ$54,0))","v":42},{"$f":"IF($B$7=Lists!$K$2, INDEX('Selected values'!$AT$4:$AT$54, MATCH($A64,'Selected values'!$AV$4:$AV$54,0)), INDEX('Selected values'!$AT$4:$AT$54,MATCH($A64,'Selected values'!$AW$4:$AW$54,0)))","v":"Texas"},{"$f":"ROUND(INDEX('Selected values'!$AU$4:$AU$54, MATCH(S64,'Selected values'!$AT$4:$AT$54,0)),1)","v":53.8}]
[{"$f":"IF($B$7=Lists!$K$4, A64-1,A64+1)","v":44},null,{"$f":"INDEX('Selected values'!$U$4:$U$54,MATCH(D65,'Selected values'!$S$4:$S$54,0))","v":43},{"$f":"IF($B$7=Lists!$K$2, INDEX('Selected values'!$M$4:$M$54, MATCH($A65,'Selected values'!$O$4:$O$54,0)), INDEX('Selected values'!$M$4:$M$54,MATCH($A65,'Selected values'!$P$4:$P$54,0)))","v":"North Dakota"},{"$f":"ROUND(INDEX('Selected values'!$N$4:$N$54, MATCH(D65,'Selected values'!$M$4:$M$54,0)),1)","v":45.3},null,null,{"$f":"INDEX('Selected values'!$AF$4:$AF$54,MATCH(I65,'Selected values'!$AD$4:$AD$54,0))","v":"=40"},{"$f":"IF($B$7=Lists!$K$2, INDEX('Selected values'!$X$4:$X$54, MATCH($A65,'Selected values'!$Z$4:$Z$54,0)), INDEX('Selected values'!$X$4:$X$54,MATCH($A65,'Selected values'!$AA$4:$AA$54,0)))","v":"Vermont"},{"$f":"ROUND(INDEX('Selected values'!$Y$4:$Y$54, MATCH(I65,'Selected values'!$X$4:$X$54,0)),1)","v":28.8},null,null,{"$f":"INDEX('Selected values'!$AQ$4:$AQ$54,MATCH(N65,'Selected values'!$AO$4:$AO$54,0))","v":43},{"$f":"IF($B$7=Lists!$K$2, INDEX('Selected values'!$AI$4:$AI$54, MATCH($A65,'Selected values'!$AK$4:$AK$54,0)), INDEX('Selected values'!$AI$4:$AI$54,MATCH($A65,'Selected values'!$AL$4:$AL$54,0)))","v":"Utah"},{"$f":"INDEX('Selected values'!$AJ$4:$AJ$54, MATCH(N65,'Selected values'!$AI$4:$AI$54,0))","v":{"v":45.36836812785875,"d":"45.4"}},null,null,{"$f":"INDEX('Selected values'!$BB$4:$BB$54,MATCH(S65,'Selected values'!$AZ$4:$AZ$54,0))","v":43},{"$f":"IF($B$7=Lists!$K$2, INDEX('Selected values'!$AT$4:$AT$54, MATCH($A65,'Selected values'!$AV$4:$AV$54,0)), INDEX('Selected values'!$AT$4:$AT$54,MATCH($A65,'Selected values'!$AW$4:$AW$54,0)))","v":"Iowa"},{"$f":"ROUND(INDEX('Selected values'!$AU$4:$AU$54, MATCH(S65,'Selected values'!$AT$4:$AT$54,0)),1)","v":53.3}]
[{"$f":"IF($B$7=Lists!$K$4, A65-1,A65+1)","v":45},null,{"$f":"INDEX('Selected values'!$U$4:$U$54,MATCH(D66,'Selected values'!$S$4:$S$54,0))","v":44},{"$f":"IF($B$7=Lists!$K$2, INDEX('Selected values'!$M$4:$M$54, MATCH($A66,'Selected values'!$O$4:$O$54,0)), INDEX('Selected values'!$M$4:$M$54,MATCH($A66,'Selected values'!$P$4:$P$54,0)))","v":"Montana"},{"$f":"ROUND(INDEX('Selected values'!$N$4:$N$54, MATCH(D66,'Selected values'!$M$4:$M$54,0)),1)","v":45.1},null,null,{"$f":"INDEX('Selected values'!$AF$4:$AF$54,MATCH(I66,'Selected values'!$AD$4:$AD$54,0))","v":44},{"$f":"IF($B$7=Lists!$K$2, INDEX('Selected values'!$X$4:$X$54, MATCH($A66,'Selected values'!$Z$4:$Z$54,0)), INDEX('Selected values'!$X$4:$X$54,MATCH($A66,'Selected values'!$AA$4:$AA$54,0)))","v":"Alabama"},{"$f":"ROUND(INDEX('Selected values'!$Y$4:$Y$54, MATCH(I66,'Selected values'!$X$4:$X$54,0)),1)","v":28.3},null,null,{"$f":"INDEX('Selected values'!$AQ$4:$AQ$54,MATCH(N66,'Selected values'!$AO$4:$AO$54,0))","v":44},{"$f":"IF($B$7=Lists!$K$2, INDEX('Selected values'!$AI$4:$AI$54, MATCH($A66,'Selected values'!$AK$4:$AK$54,0)), INDEX('Selected values'!$AI$4:$AI$54,MATCH($A66,'Selected values'!$AL$4:$AL$54,0)))","v":"Idaho"},{"$f":"INDEX('Selected values'!$AJ$4:$AJ$54, MATCH(N66,'Selected values'!$AI$4:$AI$54,0))","v":{"v":45.07605406944666,"d":"45.1"}},null,null,{"$f":"INDEX('Selected values'!$BB$4:$BB$54,MATCH(S66,'Selected values'!$AZ$4:$AZ$54,0))","v":44},{"$f":"IF($B$7=Lists!$K$2, INDEX('Selected values'!$AT$4:$AT$54, MATCH($A66,'Selected values'!$AV$4:$AV$54,0)), INDEX('Selected values'!$AT$4:$AT$54,MATCH($A66,'Selected values'!$AW$4:$AW$54,0)))","v":"Idaho"},{"$f":"ROUND(INDEX('Selected values'!$AU$4:$AU$54, MATCH(S66,'Selected values'!$AT$4:$AT$54,0)),1)","v":52.6}]
[{"$f":"IF($B$7=Lists!$K$4, A66-1,A66+1)","v":46},null,{"$f":"INDEX('Selected values'!$U$4:$U$54,MATCH(D67,'Selected values'!$S$4:$S$54,0))","v":45},{"$f":"IF($B$7=Lists!$K$2, INDEX('Selected values'!$M$4:$M$54, MATCH($A67,'Selected values'!$O$4:$O$54,0)), INDEX('Selected values'!$M$4:$M$54,MATCH($A67,'Selected values'!$P$4:$P$54,0)))","v":"Alabama"},{"$f":"ROUND(INDEX('Selected values'!$N$4:$N$54, MATCH(D67,'Selected values'!$M$4:$M$54,0)),1)","v":43.7},null,null,{"$f":"INDEX('Selected values'!$AF$4:$AF$54,MATCH(I67,'Selected values'!$AD$4:$AD$54,0))","v":"=45"},{"$f":"IF($B$7=Lists!$K$2, INDEX('Selected values'!$X$4:$X$54, MATCH($A67,'Selected values'!$Z$4:$Z$54,0)), INDEX('Selected values'!$X$4:$X$54,MATCH($A67,'Selected values'!$AA$4:$AA$54,0)))","v":"Kansas"},{"$f":"ROUND(INDEX('Selected values'!$Y$4:$Y$54, MATCH(I67,'Selected values'!$X$4:$X$54,0)),1)","v":{"v":25,"d":"25.0"}},null,null,{"$f":"INDEX('Selected values'!$AQ$4:$AQ$54,MATCH(N67,'Selected values'!$AO$4:$AO$54,0))","v":45},{"$f":"IF($B$7=Lists!$K$2, INDEX('Selected values'!$AI$4:$AI$54, MATCH($A67,'Selected values'!$AK$4:$AK$54,0)), INDEX('Selected values'!$AI$4:$AI$54,MATCH($A67,'Selected values'!$AL$4:$AL$54,0)))","v":"Nebraska"},{"$f":"INDEX('Selected values'!$AJ$4:$AJ$54, MATCH(N67,'Selected values'!$AI$4:$AI$54,0))","v":{"v":44.783526438500004,"d":"44.8"}},null,null,{"$f":"INDEX('Selected values'!$BB$4:$BB$54,MATCH(S67,'Selected values'!$AZ$4:$AZ$54,0))","v":45},{"$f":"IF($B$7=Lists!$K$2, INDEX('Selected values'!$AT$4:$AT$54, MATCH($A67,'Selected values'!$AV$4:$AV$54,0)), INDEX('Selected values'!$AT$4:$AT$54,MATCH($A67,'Selected values'!$AW$4:$AW$54,0)))","v":"Georgia"},{"$f":"ROUND(INDEX('Selected values'!$AU$4:$AU$54, MATCH(S67,'Selected values'!$AT$4:$AT$54,0)),1)","v":52.1}]
[{"$f":"IF($B$7=Lists!$K$4, A67-1,A67+1)","v":47},null,{"$f":"INDEX('Selected values'!$U$4:$U$54,MATCH(D68,'Selected values'!$S$4:$S$54,0))","v":46},{"$f":"IF($B$7=Lists!$K$2, INDEX('Selected values'!$M$4:$M$54, MATCH($A68,'Selected values'!$O$4:$O$54,0)), INDEX('Selected values'!$M$4:$M$54,MATCH($A68,'Selected values'!$P$4:$P$54,0)))","v":"New Hampshire"},{"$f":"ROUND(INDEX('Selected values'!$N$4:$N$54, MATCH(D68,'Selected values'!$M$4:$M$54,0)),1)","v":43.7},null,null,{"$f":"INDEX('Selected values'!$AF$4:$AF$54,MATCH(I68,'Selected values'!$AD$4:$AD$54,0))","v":"=45"},{"$f":"IF($B$7=Lists!$K$2, INDEX('Selected values'!$X$4:$X$54, MATCH($A68,'Selected values'!$Z$4:$Z$54,0)), INDEX('Selected values'!$X$4:$X$54,MATCH($A68,'Selected values'!$AA$4:$AA$54,0)))","v":"North Dakota"},{"$f":"ROUND(INDEX('Selected values'!$Y$4:$Y$54, MATCH(I68,'Selected values'!$X$4:$X$54,0)),1)","v":{"v":25,"d":"25.0"}},null,null,{"$f":"INDEX('Selected values'!$AQ$4:$AQ$54,MATCH(N68,'Selected values'!$AO$4:$AO$54,0))","v":46},{"$f":"IF($B$7=Lists!$K$2, INDEX('Selected values'!$AI$4:$AI$54, MATCH($A68,'Selected values'!$AK$4:$AK$54,0)), INDEX('Selected values'!$AI$4:$AI$54,MATCH($A68,'Selected values'!$AL$4:$AL$54,0)))","v":"Kansas"},{"$f":"INDEX('Selected values'!$AJ$4:$AJ$54, MATCH(N68,'Selected values'!$AI$4:$AI$54,0))","v":{"v":44.20636446153024,"d":"44.2"}},null,null,{"$f":"INDEX('Selected values'!$BB$4:$BB$54,MATCH(S68,'Selected values'!$AZ$4:$AZ$54,0))","v":46},{"$f":"IF($B$7=Lists!$K$2, INDEX('Selected values'!$AT$4:$AT$54, MATCH($A68,'Selected values'!$AV$4:$AV$54,0)), INDEX('Selected values'!$AT$4:$AT$54,MATCH($A68,'Selected values'!$AW$4:$AW$54,0)))","v":"Arizona"},{"$f":"ROUND(INDEX('Selected values'!$AU$4:$AU$54, MATCH(S68,'Selected values'!$AT$4:$AT$54,0)),1)","v":46.5}]
[{"$f":"IF($B$7=Lists!$K$4, A68-1,A68+1)","v":48},null,{"$f":"INDEX('Selected values'!$U$4:$U$54,MATCH(D69,'Selected values'!$S$4:$S$54,0))","v":47},{"$f":"IF($B$7=Lists!$K$2, INDEX('Selected values'!$M$4:$M$54, MATCH($A69,'Selected values'!$O$4:$O$54,0)), INDEX('Selected values'!$M$4:$M$54,MATCH($A69,'Selected values'!$P$4:$P$54,0)))","v":"South Carolina"},{"$f":"ROUND(INDEX('Selected values'!$N$4:$N$54, MATCH(D69,'Selected values'!$M$4:$M$54,0)),1)","v":40.3},null,null,{"$f":"INDEX('Selected values'!$AF$4:$AF$54,MATCH(I69,'Selected values'!$AD$4:$AD$54,0))","v":"=47"},{"$f":"IF($B$7=Lists!$K$2, INDEX('Selected values'!$X$4:$X$54, MATCH($A69,'Selected values'!$Z$4:$Z$54,0)), INDEX('Selected values'!$X$4:$X$54,MATCH($A69,'Selected values'!$AA$4:$AA$54,0)))","v":"Arkansas"},{"$f":"ROUND(INDEX('Selected values'!$Y$4:$Y$54, MATCH(I69,'Selected values'!$X$4:$X$54,0)),1)","v":23.8},null,null,{"$f":"INDEX('Selected values'!$AQ$4:$AQ$54,MATCH(N69,'Selected values'!$AO$4:$AO$54,0))","v":47},{"$f":"IF($B$7=Lists!$K$2, INDEX('Selected values'!$AI$4:$AI$54, MATCH($A69,'Selected values'!$AK$4:$AK$54,0)), INDEX('Selected values'!$AI$4:$AI$54,MATCH($A69,'Selected values'!$AL$4:$AL$54,0)))","v":"Mississippi"},{"$f":"INDEX('Selected values'!$AJ$4:$AJ$54, MATCH(N69,'Selected values'!$AI$4:$AI$54,0))","v":{"v":43.00848060939363,"d":"43.0"}},null,null,{"$f":"INDEX('Selected values'!$BB$4:$BB$54,MATCH(S69,'Selected values'!$AZ$4:$AZ$54,0))","v":47},{"$f":"IF($B$7=Lists!$K$2, INDEX('Selected values'!$AT$4:$AT$54, MATCH($A69,'Selected values'!$AV$4:$AV$54,0)), INDEX('Selected values'!$AT$4:$AT$54,MATCH($A69,'Selected values'!$AW$4:$AW$54,0)))","v":"Nebraska"},{"$f":"ROUND(INDEX('Selected values'!$AU$4:$AU$54, MATCH(S69,'Selected values'!$AT$4:$AT$54,0)),1)","v":46.3}]
[{"$f":"IF($B$7=Lists!$K$4, A69-1,A69+1)","v":49},null,{"$f":"INDEX('Selected values'!$U$4:$U$54,MATCH(D70,'Selected values'!$S$4:$S$54,0))","v":48},{"$f":"IF($B$7=Lists!$K$2, INDEX('Selected values'!$M$4:$M$54, MATCH($A70,'Selected values'!$O$4:$O$54,0)), INDEX('Selected values'!$M$4:$M$54,MATCH($A70,'Selected values'!$P$4:$P$54,0)))","v":"Georgia"},{"$f":"ROUND(INDEX('Selected values'!$N$4:$N$54, MATCH(D70,'Selected values'!$M$4:$M$54,0)),1)","v":39.8},null,null,{"$f":"INDEX('Selected values'!$AF$4:$AF$54,MATCH(I70,'Selected values'!$AD$4:$AD$54,0))","v":"=47"},{"$f":"IF($B$7=Lists!$K$2, INDEX('Selected values'!$X$4:$X$54, MATCH($A70,'Selected values'!$Z$4:$Z$54,0)), INDEX('Selected values'!$X$4:$X$54,MATCH($A70,'Selected values'!$AA$4:$AA$54,0)))","v":"South Carolina"},{"$f":"ROUND(INDEX('Selected values'!$Y$4:$Y$54, MATCH(I70,'Selected values'!$X$4:$X$54,0)),1)","v":23.8},null,null,{"$f":"INDEX('Selected values'!$AQ$4:$AQ$54,MATCH(N70,'Selected values'!$AO$4:$AO$54,0))","v":48},{"$f":"IF($B$7=Lists!$K$2, INDEX('Selected values'!$AI$4:$AI$54, MATCH($A70,'Selected values'!$AK$4:$AK$54,0)), INDEX('Selected values'!$AI$4:$AI$54,MATCH($A70,'Selected values'!$AL$4:$AL$54,0)))","v":"Wyoming"},{"$f":"INDEX('Selected values'!$AJ$4:$AJ$54, MATCH(N70,'Selected values'!$AI$4:$AI$54,0))","v":{"v":42.32948457828323,"d":"42.3"}},null,null,{"$f":"INDEX('Selected values'!$BB$4:$BB$54,MATCH(S70,'Selected values'!$AZ$4:$AZ$54,0))","v":48},{"$f":"IF($B$7=Lists!$K$2, INDEX('Selected values'!$AT$4:$AT$54, MATCH($A70,'Selected values'!$AV$4:$AV$54,0)), INDEX('Selected values'!$AT$4:$AT$54,MATCH($A70,'Selected values'!$AW$4:$AW$54,0)))","v":"Kansas"},{"$f":"ROUND(INDEX('Selected values'!$AU$4:$AU$54, MATCH(S70,'Selected values'!$AT$4:$AT$54,0)),1)","v":{"v":45,"d":"45.0"}}]
[{"$f":"IF($B$7=Lists!$K$4, A70-1,A70+1)","v":50},null,{"$f":"INDEX('Selected values'!$U$4:$U$54,MATCH(D71,'Selected values'!$S$4:$S$54,0))","v":49},{"$f":"IF($B$7=Lists!$K$2, INDEX('Selected values'!$M$4:$M$54, MATCH($A71,'Selected values'!$O$4:$O$54,0)), INDEX('Selected values'!$M$4:$M$54,MATCH($A71,'Selected values'!$P$4:$P$54,0)))","v":"Arizona"},{"$f":"ROUND(INDEX('Selected values'!$N$4:$N$54, MATCH(D71,'Selected values'!$M$4:$M$54,0)),1)","v":38.8},null,null,{"$f":"INDEX('Selected values'!$AF$4:$AF$54,MATCH(I71,'Selected values'!$AD$4:$AD$54,0))","v":49},{"$f":"IF($B$7=Lists!$K$2, INDEX('Selected values'!$X$4:$X$54, MATCH($A71,'Selected values'!$Z$4:$Z$54,0)), INDEX('Selected values'!$X$4:$X$54,MATCH($A71,'Selected values'!$AA$4:$AA$54,0)))","v":"Arizona"},{"$f":"ROUND(INDEX('Selected values'!$Y$4:$Y$54, MATCH(I71,'Selected values'!$X$4:$X$54,0)),1)","v":{"v":20,"d":"20.0"}},null,null,{"$f":"INDEX('Selected values'!$AQ$4:$AQ$54,MATCH(N71,'Selected values'!$AO$4:$AO$54,0))","v":49},{"$f":"IF($B$7=Lists!$K$2, INDEX('Selected values'!$AI$4:$AI$54, MATCH($A71,'Selected values'!$AK$4:$AK$54,0)), INDEX('Selected values'!$AI$4:$AI$54,MATCH($A71,'Selected values'!$AL$4:$AL$54,0)))","v":"New Hampshire"},{"$f":"INDEX('Selected values'!$AJ$4:$AJ$54, MATCH(N71,'Selected values'!$AI$4:$AI$54,0))","v":{"v":39.31908181607845,"d":"39.3"}},null,null,{"$f":"INDEX('Selected values'!$BB$4:$BB$54,MATCH(S71,'Selected values'!$AZ$4:$AZ$54,0))","v":49},{"$f":"IF($B$7=Lists!$K$2, INDEX('Selected values'!$AT$4:$AT$54, MATCH($A71,'Selected values'!$AV$4:$AV$54,0)), INDEX('Selected values'!$AT$4:$AT$54,MATCH($A71,'Selected values'!$AW$4:$AW$54,0)))","v":"North Dakota"},{"$f":"ROUND(INDEX('Selected values'!$AU$4:$AU$54, MATCH(S71,'Selected values'!$AT$4:$AT$54,0)),1)","v":{"v":44,"d":"44.0"}}]
[{"$f":"IF($B$7=Lists!$K$4, A71-1,A71+1)","v":51},null,{"$f":"INDEX('Selected values'!$U$4:$U$54,MATCH(D72,'Selected values'!$S$4:$S$54,0))","v":50},{"$f":"IF($B$7=Lists!$K$2, INDEX('Selected values'!$M$4:$M$54, MATCH($A72,'Selected values'!$O$4:$O$54,0)), INDEX('Selected values'!$M$4:$M$54,MATCH($A72,'Selected values'!$P$4:$P$54,0)))","v":"Kansas"},{"$f":"ROUND(INDEX('Selected values'!$N$4:$N$54, MATCH(D72,'Selected values'!$M$4:$M$54,0)),1)","v":38.1},null,null,{"$f":"INDEX('Selected values'!$AF$4:$AF$54,MATCH(I72,'Selected values'!$AD$4:$AD$54,0))","v":50},{"$f":"IF($B$7=Lists!$K$2, INDEX('Selected values'!$X$4:$X$54, MATCH($A72,'Selected values'!$Z$4:$Z$54,0)), INDEX('Selected values'!$X$4:$X$54,MATCH($A72,'Selected values'!$AA$4:$AA$54,0)))","v":"Georgia"},{"$f":"ROUND(INDEX('Selected values'!$Y$4:$Y$54, MATCH(I72,'Selected values'!$X$4:$X$54,0)),1)","v":17.5},null,null,{"$f":"INDEX('Selected values'!$AQ$4:$AQ$54,MATCH(N72,'Selected values'!$AO$4:$AO$54,0))","v":50},{"$f":"IF($B$7=Lists!$K$2, INDEX('Selected values'!$AI$4:$AI$54, MATCH($A72,'Selected values'!$AK$4:$AK$54,0)), INDEX('Selected values'!$AI$4:$AI$54,MATCH($A72,'Selected values'!$AL$4:$AL$54,0)))","v":"Montana"},{"$f":"INDEX('Selected values'!$AJ$4:$AJ$54, MATCH(N72,'Selected values'!$AI$4:$AI$54,0))","v":{"v":33.978807375371524,"d":"34.0"}},null,null,{"$f":"INDEX('Selected values'!$BB$4:$BB$54,MATCH(S72,'Selected values'!$AZ$4:$AZ$54,0))","v":50},{"$f":"IF($B$7=Lists!$K$2, INDEX('Selected values'!$AT$4:$AT$54, MATCH($A72,'Selected values'!$AV$4:$AV$54,0)), INDEX('Selected values'!$AT$4:$AT$54,MATCH($A72,'Selected values'!$AW$4:$AW$54,0)))","v":"South Carolina"},{"$f":"ROUND(INDEX('Selected values'!$AU$4:$AU$54, MATCH(S72,'Selected values'!$AT$4:$AT$54,0)),1)","v":42.3}]

{"sheet":"INDICATORS","index":3,"n_rows":78,"n_cols":12,"rows_kept":78,"merged":[[14,2,20,4],[23,2,23,4],[24,2,24,4],[25,2,25,4],[26,2,26,4],[27,2,27,4],[28,2,36,4],[38,2,38,4]]}
[null,null,{"$f":"HOME!B7","v":"THE UNITED STATES OBESITY RESPONSE INDEX"}]
[]
[]
[]
[]
[null,null,"SELECT PILLAR"]
[null,null,"OVERALL"]
[null,null,{"$f":"INDEX(Lists!D2:D6, MATCH(C7,Lists!C2:C6,0))","v":"OVERALL"}]
[null,null,"SELECT INDICATOR",null,"SELECT SORT ORDER"]
[null,null,"OVERALL",null,"Best response to worst"]
[]
[]
[{"$nulls":7},{"$f":"INDEX(Lists!$F$2:$F$59, MATCH($C10,Lists!$H$2:$H$59,0))","v":0}]
[null,null,{"$f":"IF(INDEX('DATA TABLE'!$D$10:$D$68, MATCH($H$13,'DATA TABLE'!$B$10:$B$68,0))=\"\",\"\",\"Description:\")","v":"Description:"},{"$nulls":4},{"$f":"INDEX(Lists!I2:I59, MATCH(H15,Lists!H2:H59,0))","v":"Overall index"}]
[null,null,{"$f":"IF(C7=\"Background indicators\", CONCATENATE((INDEX('DATA TABLE'!$D$10:$D$68, MATCH($H$13,'DATA TABLE'!$B$10:$B$68,0))),\" (\", (INDEX('DATA TABLE'!$I$10:$I$68, MATCH($H$13,'DATA TABLE'!$B$10:$B$68,0))),\")\",CHAR(10), CHAR(10), (INDEX('DATA TABLE'!$H$10:$H$68, MATCH($H$13,'DATA TABLE'!$B$10:$B$68,0)))),IF(INDEX('DATA TABLE'!$D$10:$D$68, MATCH($H$13,'DATA TABLE'!$B$10:$B$68,0))=\"\",\"\",INDEX('DATA TABLE'!$D$10:$D$68, MATCH($H$13,'DATA TABLE'!$B$10:$B$68,0))))","v":"Composite measure, scored as the weighted average of the following pillar scores: \n1. Policy and governance\n2. Food quality and access\n3. Physical activity"},{"$nulls":4},{"$f":"C10","v":"OVERALL"}]
[{"$nulls":6},{"$f":"IF($E$10=Lists!$K$4,50,1)","v":1}]
[{"$nulls":6},{"$f":"IF($E$10=Lists!$K$4,G16-1,G16+1)","v":2},null,"Rank","State","Score","Data"]
[{"$nulls":6},{"$f":"IF($E$10=Lists!$K$4,G17-1,G17+1)","v":3},{"$nulls":3}," 0-100, where 100 = strongest obesity response",{"$f":"IF(C27=\"\",\"\",C27)","v":""}]
[{"$nulls":6},{"$f":"IF($C$7=\"Background indicators\",1,IF($E$10=Lists!$K$4,51,1))","v":1},null,{"$f":"IF(K19=\"Not scored\",\"\",INDEX('Selected values'!$J$4:$J$54,MATCH($J19,'Selected values'!$H$4:$H$54,0)))","v":1},{"$f":"IF($E$10=Lists!$K$2, INDEX('Selected values'!$B$4:$B$54, MATCH($G19,'Selected values'!$D$4:$D$54,0)), INDEX('Selected values'!$B$4:$B$54,MATCH($G19,'Selected values'!$E$4:$E$54,0)))","v":"Minnesota"},{"$f":"IFERROR(ROUND(INDEX('Selected values'!$C$4:$C$54, MATCH($J19,'Selected values'!$B$4:$B$54,0)),1), \"Not scored\")","v":69.2},{"$f":"IF(INDEX('DATA TABLE'!$J$10:$BG$68, MATCH($H$13,'DATA TABLE'!$B$10:$B$68,0), MATCH($J19,'DATA TABLE'!$J$9:$BG$9,0))=\"\",\"\",INDEX('DATA TABLE'!$J$10:$BG$68, MATCH($H$13,'DATA TABLE'!$B$10:$B$68,0), MATCH($J19,'DATA TABLE'!$J$9:$BG$9,0)))","v":""}]
[{"$nulls":6},{"$f":"IF($C$7=\"Background indicators\",G19+1,IF($E$10=Lists!$K$4, G19-1,G19+1))","v":2},null,{"$f":"IF(K20=\"Not scored\",\"\",INDEX('Selected values'!$J$4:$J$54,MATCH($J20,'Selected values'!$H$4:$H$54,0)))","v":2},{"$f":"IF($E$10=Lists!$K$2, INDEX('Selected values'!$B$4:$B$54, MATCH($G20,'Selected values'!$D$4:$D$54,0)), INDEX('Selected values'!$B$4:$B$54,MATCH($G20,'Selected values'!$E$4:$E$54,0)))","v":"Kentucky"},{"$f":"IFERROR(ROUND(INDEX('Selected values'!$C$4:$C$54, MATCH($J20,'Selected values'!$B$4:$B$54,0)),1), \"Not scored\")","v":66.5},{"$f":"IF(J20=\"AVERAGE\",\"\",IF(INDEX('DATA TABLE'!$J$10:$BG$68, MATCH($H$13,'DATA TABLE'!$B$10:$B$68,0), MATCH($J20,'DATA TABLE'!$J$9:$BG$9,0))=\"\",\"\",INDEX('DATA TABLE'!$J$10:$BG$68, MATCH($H$13,'DATA TABLE'!$B$10:$B$68,0), MATCH($J20,'DATA TABLE'!$J$9:$BG$9,0))))","v":""}]
[{"$nulls":6},{"$f":"IF($C$7=\"Background indicators\",G20+1,IF($E$10=Lists!$K$4, G20-1,G20+1))","v":3},null,{"$f":"IF(K21=\"Not scored\",\"\",INDEX('Selected values'!$J$4:$J$54,MATCH($J21,'Selected values'!$H$4:$H$54,0)))","v":3},{"$f":"IF($E$10=Lists!$K$2, INDEX('Selected values'!$B$4:$B$54, MATCH($G21,'Selected values'!$D$4:$D$54,0)), INDEX('Selected values'!$B$4:$B$54,MATCH($G21,'Selected values'!$E$4:$E$54,0)))","v":"Colorado"},{"$f":"IFERROR(ROUND(INDEX('Selected values'!$C$4:$C$54, MATCH($J21,'Selected values'!$B$4:$B$54,0)),1), \"Not scored\")","v":65.5},{"$f":"IF(J21=\"AVERAGE\",\"\",IF(INDEX('DATA TABLE'!$J$10:$BG$68, MATCH($H$13,'DATA TABLE'!$B$10:$B$68,0), MATCH($J21,'DATA TABLE'!$J$9:$BG$9,0))=\"\",\"\",INDEX('DATA TABLE'!$J$10:$BG$68, MATCH($H$13,'DATA TABLE'!$B$10:$B$68,0), MATCH($J21,'DATA TABLE'!$J$9:$BG$9,0))))","v":""}]
[{"$nulls":6},{"$f":"IF($C$7=\"Background indicators\",G21+1,IF($E$10=Lists!$K$4, G21-1,G21+1))","v":4},null,{"$f":"IF(K22=\"Not scored\",\"\",INDEX('Selected values'!$J$4:$J$54,MATCH($J22,'Selected values'!$H$4:$H$54,0)))","v":4},{"$f":"IF($E$10=Lists!$K$2, INDEX('Selected values'!$B$4:$B$54, MATCH($G22,'Selected values'!$D$4:$D$54,0)), INDEX('Selected values'!$B$4:$B$54,MATCH($G22,'Selected values'!$E$4:$E$54,0)))","v":"Iowa"},{"$f":"IFERROR(ROUND(INDEX('Selected values'!$C$4:$C$54, MATCH($J22,'Selected values'!$B$4:$B$54,0)),1), \"Not scored\")","v":64.4},{"$f":"IF(J22=\"AVERAGE\",\"\",IF(INDEX('DATA TABLE'!$J$10:$BG$68, MATCH($H$13,'DATA TABLE'!$B$10:$B$68,0), MATCH($J22,'DATA TABLE'!$J$9:$BG$9,0))=\"\",\"\",INDEX('DATA TABLE'!$J$10:$BG$68, MATCH($H$13,'DATA TABLE'!$B$10:$B$68,0), MATCH($J22,'DATA TABLE'!$J$9:$BG$9,0))))","v":""}]
[null,null,{"$f":"IF(INDEX('DATA TABLE'!$E$10:$E$68, MATCH($H$13,'DATA TABLE'!$B$10:$B$68,0))=\"\",\"\",\"Source:\")","v":"Source:"},{"$nulls":3},{"$f":"IF($C$7=\"Background indicators\",G22+1,IF($E$10=Lists!$K$4, G22-1,G22+1))","v":5},null,{"$f":"IF(K23=\"Not scored\",\"\",INDEX('Selected values'!$J$4:$J$54,MATCH($J23,'Selected values'!$H$4:$H$54,0)))","v":5},{"$f":"IF($E$10=Lists!$K$2, INDEX('Selected values'!$B$4:$B$54, MATCH($G23,'Selected values'!$D$4:$D$54,0)), INDEX('Selected values'!$B$4:$B$54,MATCH($G23,'Selected values'!$E$4:$E$54,0)))","v":"Florida"},{"$f":"IFERROR(ROUND(INDEX('Selected values'!$C$4:$C$54, MATCH($J23,'Selected values'!$B$4:$B$54,0)),1), \"Not scored\")","v":64.1},{"$f":"IF(J23=\"AVERAGE\",\"\",IF(INDEX('DATA TABLE'!$J$10:$BG$68, MATCH($H$13,'DATA TABLE'!$B$10:$B$68,0), MATCH($J23,'DATA TABLE'!$J$9:$BG$9,0))=\"\",\"\",INDEX('DATA TABLE'!$J$10:$BG$68, MATCH($H$13,'DATA TABLE'!$B$10:$B$68,0), MATCH($J23,'DATA TABLE'!$J$9:$BG$9,0))))","v":""}]
[null,null,{"$f":"IF(INDEX('DATA TABLE'!$E$10:$E$68, MATCH($H$13,'DATA TABLE'!$B$10:$B$68,0))=\"\",\"\",INDEX('DATA TABLE'!$E$10:$E$68, MATCH($H$13,'DATA TABLE'!$B$10:$B$68,0)))","v":"Economist Impact calculations"},{"$nulls":3},{"$f":"IF($C$7=\"Background indicators\",G23+1,IF($E$10=Lists!$K$4, G23-1,G23+1))","v":6},null,{"$f":"IF(K24=\"Not scored\",\"\",INDEX('Selected values'!$J$4:$J$54,MATCH($J24,'Selected values'!$H$4:$H$54,0)))","v":6},{"$f":"IF($E$10=Lists!$K$2, INDEX('Selected values'!$B$4:$B$54, MATCH($G24,'Selected values'!$D$4:$D$54,0)), INDEX('Selected values'!$B$4:$B$54,MATCH($G24,'Selected values'!$E$4:$E$54,0)))","v":"Illinois"},{"$f":"IFERROR(ROUND(INDEX('Selected values'!$C$4:$C$54, MATCH($J24,'Selected values'!$B$4:$B$54,0)),1), \"Not scored\")","v":63.7},{"$f":"IF(J24=\"AVERAGE\",\"\",IF(INDEX('DATA TABLE'!$J$10:$BG$68, MATCH($H$13,'DATA TABLE'!$B$10:$B$68,0), MATCH($J24,'DATA TABLE'!$J$9:$BG$9,0))=\"\",\"\",INDEX('DATA TABLE'!$J$10:$BG$68, MATCH($H$13,'DATA TABLE'!$B$10:$B$68,0), MATCH($J24,'DATA TABLE'!$J$9:$BG$9,0))))","v":""}]
[{"$nulls":6},{"$f":"IF($C$7=\"Background indicators\",G24+1,IF($E$10=Lists!$K$4, G24-1,G24+1))","v":7},null,{"$f":"IF(K25=\"Not scored\",\"\",INDEX('Selected values'!$J$4:$J$54,MATCH($J25,'Selected values'!$H$4:$H$54,0)))","v":7},{"$f":"IF($E$10=Lists!$K$2, INDEX('Selected values'!$B$4:$B$54, MATCH($G25,'Selected values'!$D$4:$D$54,0)), INDEX('Selected values'!$B$4:$B$54,MATCH($G25,'Selected values'!$E$4:$E$54,0)))","v":"Virginia"},{"$f":"IFERROR(ROUND(INDEX('Selected values'!$C$4:$C$54, MATCH($J25,'Selected values'!$B$4:$B$54,0)),1), \"Not scored\")","v":63.2},{"$f":"IF(J25=\"AVERAGE\",\"\",IF(INDEX('DATA TABLE'!$J$10:$BG$68, MATCH($H$13,'DATA TABLE'!$B$10:$B$68,0), MATCH($J25,'DATA TABLE'!$J$9:$BG$9,0))=\"\",\"\",INDEX('DATA TABLE'!$J$10:$BG$68, MATCH($H$13,'DATA TABLE'!$B$10:$B$68,0), MATCH($J25,'DATA TABLE'!$J$9:$BG$9,0))))","v":""}]
[null,null,{"$f":"IF((INDEX('DATA TABLE'!$G$10:$G$68,MATCH($H$13,'DATA TABLE'!$B$10:$B$68,0)))=\"\",\"\",\"Measurement:\")","v":""},{"$nulls":3},{"$f":"IF($C$7=\"Background indicators\",G25+1,IF($E$10=Lists!$K$4, G25-1,G25+1))","v":8},null,{"$f":"IF(K26=\"Not scored\",\"\",INDEX('Selected values'!$J$4:$J$54,MATCH($J26,'Selected values'!$H$4:$H$54,0)))","v":8},{"$f":"IF($E$10=Lists!$K$2, INDEX('Selected values'!$B$4:$B$54, MATCH($G26,'Selected values'!$D$4:$D$54,0)), INDEX('Selected values'!$B$4:$B$54,MATCH($G26,'Selected values'!$E$4:$E$54,0)))","v":"Ohio"},{"$f":"IFERROR(ROUND(INDEX('Selected values'!$C$4:$C$54, MATCH($J26,'Selected values'!$B$4:$B$54,0)),1), \"Not scored\")","v":{"v":63,"d":"63.0"}},{"$f":"IF(J26=\"AVERAGE\",\"\",IF(INDEX('DATA TABLE'!$J$10:$BG$68, MATCH($H$13,'DATA TABLE'!$B$10:$B$68,0), MATCH($J26,'DATA TABLE'!$J$9:$BG$9,0))=\"\",\"\",INDEX('DATA TABLE'!$J$10:$BG$68, MATCH($H$13,'DATA TABLE'!$B$10:$B$68,0), MATCH($J26,'DATA TABLE'!$J$9:$BG$9,0))))","v":""}]
[null,null,{"$f":"IF(INDEX('DATA TABLE'!$G$10:$G$68, MATCH($H$13,'DATA TABLE'!$B$10:$B$68,0))=\"\",\"\",INDEX('DATA TABLE'!$G$10:$G$68, MATCH($H$13,'DATA TABLE'!$B$10:$B$68,0)))","v":""},{"$nulls":3},{"$f":"IF($C$7=\"Background indicators\",G26+1,IF($E$10=Lists!$K$4, G26-1,G26+1))","v":9},null,{"$f":"IF(K27=\"Not scored\",\"\",INDEX('Selected values'!$J$4:$J$54,MATCH($J27,'Selected values'!$H$4:$H$54,0)))","v":9},{"$f":"IF($E$10=Lists!$K$2, INDEX('Selected values'!$B$4:$B$54, MATCH($G27,'Selected values'!$D$4:$D$54,0)), INDEX('Selected values'!$B$4:$B$54,MATCH($G27,'Selected values'!$E$4:$E$54,0)))","v":"Rhode Island"},{"$f":"IFERROR(ROUND(INDEX('Selected values'!$C$4:$C$54, MATCH($J27,'Selected values'!$B$4:$B$54,0)),1), \"Not scored\")","v":62.5},{"$f":"IF(J27=\"AVERAGE\",\"\",IF(INDEX('DATA TABLE'!$J$10:$BG$68, MATCH($H$13,'DATA TABLE'!$B$10:$B$68,0), MATCH($J27,'DATA TABLE'!$J$9:$BG$9,0))=\"\",\"\",INDEX('DATA TABLE'!$J$10:$BG$68, MATCH($H$13,'DATA TABLE'!$B$10:$B$68,0), MATCH($J27,'DATA TABLE'!$J$9:$BG$9,0))))","v":""}]
[{"$nulls":6},{"$f":"IF($C$7=\"Background indicators\",G27+1,IF($E$10=Lists!$K$4, G27-1,G27+1))","v":10},null,{"$f":"IF(K28=\"Not scored\",\"\",INDEX('Selected values'!$J$4:$J$54,MATCH($J28,'Selected values'!$H$4:$H$54,0)))","v":10},{"$f":"IF($E$10=Lists!$K$2, INDEX('Selected values'!$B$4:$B$54, MATCH($G28,'Selected values'!$D$4:$D$54,0)), INDEX('Selected values'!$B$4:$B$54,MATCH($G28,'Selected values'!$E$4:$E$54,0)))","v":"Maryland"},{"$f":"IFERROR(ROUND(INDEX('Selected values'!$C$4:$C$54, MATCH($J28,'Selected values'!$B$4:$B$54,0)),1), \"Not scored\")","v":61.6},{"$f":"IF(J28=\"AVERAGE\",\"\",IF(INDEX('DATA TABLE'!$J$10:$BG$68, MATCH($H$13,'DATA TABLE'!$B$10:$B$68,0), MATCH($J28,'DATA TABLE'!$J$9:$BG$9,0))=\"\",\"\",INDEX('DATA TABLE'!$J$10:$BG$68, MATCH($H$13,'DATA TABLE'!$B$10:$B$68,0), MATCH($J28,'DATA TABLE'!$J$9:$BG$9,0))))","v":""}]
[null,null,{"$f":"IF(INDEX('DATA TABLE'!$F$10:$F$68, MATCH($H$13,'DATA TABLE'!$B$10:$B$68,0))=\"\",\"\",INDEX('DATA TABLE'!$F$10:$F$68, MATCH($H$13,'DATA TABLE'!$B$10:$B$68,0)))","v":""},{"$nulls":3},{"$f":"IF($C$7=\"Background indicators\",G28+1,IF($E$10=Lists!$K$4, G28-1,G28+1))","v":11},null,{"$f":"IF(K29=\"Not scored\",\"\",INDEX('Selected values'!$J$4:$J$54,MATCH($J29,'Selected values'!$H$4:$H$54,0)))","v":11},{"$f":"IF($E$10=Lists!$K$2, INDEX('Selected values'!$B$4:$B$54, MATCH($G29,'Selected values'!$D$4:$D$54,0)), INDEX('Selected values'!$B$4:$B$54,MATCH($G29,'Selected values'!$E$4:$E$54,0)))","v":"New Mexico"},{"$f":"IFERROR(ROUND(INDEX('Selected values'!$C$4:$C$54, MATCH($J29,'Selected values'!$B$4:$B$54,0)),1), \"Not scored\")","v":60.6},{"$f":"IF(J29=\"AVERAGE\",\"\",IF(INDEX('DATA TABLE'!$J$10:$BG$68, MATCH($H$13,'DATA TABLE'!$B$10:$B$68,0), MATCH($J29,'DATA TABLE'!$J$9:$BG$9,0))=\"\",\"\",INDEX('DATA TABLE'!$J$10:$BG$68, MATCH($H$13,'DATA TABLE'!$B$10:$B$68,0), MATCH($J29,'DATA TABLE'!$J$9:$BG$9,0))))","v":""}]
[{"$nulls":6},{"$f":"IF($C$7=\"Background indicators\",G29+1,IF($E$10=Lists!$K$4, G29-1,G29+1))","v":12},null,{"$f":"IF(K30=\"Not scored\",\"\",INDEX('Selected values'!$J$4:$J$54,MATCH($J30,'Selected values'!$H$4:$H$54,0)))","v":12},{"$f":"IF($E$10=Lists!$K$2, INDEX('Selected values'!$B$4:$B$54, MATCH($G30,'Selected values'!$D$4:$D$54,0)), INDEX('Selected values'!$B$4:$B$54,MATCH($G30,'Selected values'!$E$4:$E$54,0)))","v":"New York"},{"$f":"IFERROR(ROUND(INDEX('Selected values'!$C$4:$C$54, MATCH($J30,'Selected values'!$B$4:$B$54,0)),1), \"Not scored\")","v":60.6},{"$f":"IF(J30=\"AVERAGE\",\"\",IF(INDEX('DATA TABLE'!$J$10:$BG$68, MATCH($H$13,'DATA TABLE'!$B$10:$B$68,0), MATCH($J30,'DATA TABLE'!$J$9:$BG$9,0))=\"\",\"\",INDEX('DATA TABLE'!$J$10:$BG$68, MATCH($H$13,'DATA TABLE'!$B$10:$B$68,0), MATCH($J30,'DATA TABLE'!$J$9:$BG$9,0))))","v":""}]
[{"$nulls":6},{"$f":"IF($C$7=\"Background indicators\",G30+1,IF($E$10=Lists!$K$4, G30-1,G30+1))","v":13},null,{"$f":"IF(K31=\"Not scored\",\"\",INDEX('Selected values'!$J$4:$J$54,MATCH($J31,'Selected values'!$H$4:$H$54,0)))","v":13},{"$f":"IF($E$10=Lists!$K$2, INDEX('Selected values'!$B$4:$B$54, MATCH($G31,'Selected values'!$D$4:$D$54,0)), INDEX('Selected values'!$B$4:$B$54,MATCH($G31,'Selected values'!$E$4:$E$54,0)))","v":"Oklahoma"},{"$f":"IFERROR(ROUND(INDEX('Selected values'!$C$4:$C$54, MATCH($J31,'Selected values'!$B$4:$B$54,0)),1), \"Not scored\")","v":60.4},{"$f":"IF(J31=\"AVERAGE\",\"\",IF(INDEX('DATA TABLE'!$J$10:$BG$68, MATCH($H$13,'DATA TABLE'!$B$10:$B$68,0), MATCH($J31,'DATA TABLE'!$J$9:$BG$9,0))=\"\",\"\",INDEX('DATA TABLE'!$J$10:$BG$68, MATCH($H$13,'DATA TABLE'!$B$10:$B$68,0), MATCH($J31,'DATA TABLE'!$J$9:$BG$9,0))))","v":""}]
[{"$nulls":6},{"$f":"IF($C$7=\"Background indicators\",G31+1,IF($E$10=Lists!$K$4, G31-1,G31+1))","v":14},null,{"$f":"IF(K32=\"Not scored\",\"\",INDEX('Selected values'!$J$4:$J$54,MATCH($J32,'Selected values'!$H$4:$H$54,0)))","v":14},{"$f":"IF($E$10=Lists!$K$2, INDEX('Selected values'!$B$4:$B$54, MATCH($G32,'Selected values'!$D$4:$D$54,0)), INDEX('Selected values'!$B$4:$B$54,MATCH($G32,'Selected values'!$E$4:$E$54,0)))","v":"Washington"},{"$f":"IFERROR(ROUND(INDEX('Selected values'!$C$4:$C$54, MATCH($J32,'Selected values'!$B$4:$B$54,0)),1), \"Not scored\")","v":{"v":60,"d":"60.0"}},{"$f":"IF(J32=\"AVERAGE\",\"\",IF(INDEX('DATA TABLE'!$J$10:$BG$68, MATCH($H$13,'DATA TABLE'!$B$10:$B$68,0), MATCH($J32,'DATA TABLE'!$J$9:$BG$9,0))=\"\",\"\",INDEX('DATA TABLE'!$J$10:$BG$68, MATCH($H$13,'DATA TABLE'!$B$10:$B$68,0), MATCH($J32,'DATA TABLE'!$J$9:$BG$9,0))))","v":""}]
[{"$nulls":6},{"$f":"IF($C$7=\"Background indicators\",G32+1,IF($E$10=Lists!$K$4, G32-1,G32+1))","v":15},null,{"$f":"IF(K33=\"Not scored\",\"\",INDEX('Selected values'!$J$4:$J$54,MATCH($J33,'Selected values'!$H$4:$H$54,0)))","v":15},{"$f":"IF($E$10=Lists!$K$2, INDEX('Selected values'!$B$4:$B$54, MATCH($G33,'Selected values'!$D$4:$D$54,0)), INDEX('Selected values'!$B$4:$B$54,MATCH($G33,'Selected values'!$E$4:$E$54,0)))","v":"Nevada"},{"$f":"IFERROR(ROUND(INDEX('Selected values'!$C$4:$C$54, MATCH($J33,'Selected values'!$B$4:$B$54,0)),1), \"Not scored\")","v":59.3},{"$f":"IF(J33=\"AVERAGE\",\"\",IF(INDEX('DATA TABLE'!$J$10:$BG$68, MATCH($H$13,'DATA TABLE'!$B$10:$B$68,0), MATCH($J33,'DATA TABLE'!$J$9:$BG$9,0))=\"\",\"\",INDEX('DATA TABLE'!$J$10:$BG$68, MATCH($H$13,'DATA TABLE'!$B$10:$B$68,0), MATCH($J33,'DATA TABLE'!$J$9:$BG$9,0))))","v":""}]
[{"$nulls":6},{"$f":"IF($C$7=\"Background indicators\",G33+1,IF($E$10=Lists!$K$4, G33-1,G33+1))","v":16},null,{"$f":"IF(K34=\"Not scored\",\"\",INDEX('Selected values'!$J$4:$J$54,MATCH($J34,'Selected values'!$H$4:$H$54,0)))","v":16},{"$f":"IF($E$10=Lists!$K$2, INDEX('Selected values'!$B$4:$B$54, MATCH($G34,'Selected values'!$D$4:$D$54,0)), INDEX('Selected values'!$B$4:$B$54,MATCH($G34,'Selected values'!$E$4:$E$54,0)))","v":"Indiana"},{"$f":"IFERROR(ROUND(INDEX('Selected values'!$C$4:$C$54, MATCH($J34,'Selected values'!$B$4:$B$54,0)),1), \"Not scored\")","v":59.2},{"$f":"IF(J34=\"AVERAGE\",\"\",IF(INDEX('DATA TABLE'!$J$10:$BG$68, MATCH($H$13,'DATA TABLE'!$B$10:$B$68,0), MATCH($J34,'DATA TABLE'!$J$9:$BG$9,0))=\"\",\"\",INDEX('DATA TABLE'!$J$10:$BG$68, MATCH($H$13,'DATA TABLE'!$B$10:$B$68,0), MATCH($J34,'DATA TABLE'!$J$9:$BG$9,0))))","v":""}]
[{"$nulls":6},{"$f":"IF($C$7=\"Background indicators\",G34+1,IF($E$10=Lists!$K$4, G34-1,G34+1))","v":17},null,{"$f":"IF(K35=\"Not scored\",\"\",INDEX('Selected values'!$J$4:$J$54,MATCH($J35,'Selected values'!$H$4:$H$54,0)))","v":17},{"$f":"IF($E$10=Lists!$K$2, INDEX('Selected values'!$B$4:$B$54, MATCH($G35,'Selected values'!$D$4:$D$54,0)), INDEX('Selected values'!$B$4:$B$54,MATCH($G35,'Selected values'!$E$4:$E$54,0)))","v":"Wisconsin"},{"$f":"IFERROR(ROUND(INDEX('Selected values'!$C$4:$C$54, MATCH($J35,'Selected values'!$B$4:$B$54,0)),1), \"Not scored\")","v":58.7},{"$f":"IF(J35=\"AVERAGE\",\"\",IF(INDEX('DATA TABLE'!$J$10:$BG$68, MATCH($H$13,'DATA TABLE'!$B$10:$B$68,0), MATCH($J35,'DATA TABLE'!$J$9:$BG$9,0))=\"\",\"\",INDEX('DATA TABLE'!$J$10:$BG$68, MATCH($H$13,'DATA TABLE'!$B$10:$B$68,0), MATCH($J35,'DATA TABLE'!$J$9:$BG$9,0))))","v":""}]
[{"$nulls":6},{"$f":"IF($C$7=\"Background indicators\",G35+1,IF($E$10=Lists!$K$4, G35-1,G35+1))","v":18},null,{"$f":"IF(K36=\"Not scored\",\"\",INDEX('Selected values'!$J$4:$J$54,MATCH($J36,'Selected values'!$H$4:$H$54,0)))","v":18},{"$f":"IF($E$10=Lists!$K$2, INDEX('Selected values'!$B$4:$B$54, MATCH($G36,'Selected values'!$D$4:$D$54,0)), INDEX('Selected values'!$B$4:$B$54,MATCH($G36,'Selected values'!$E$4:$E$54,0)))","v":"North Carolina"},{"$f":"IFERROR(ROUND(INDEX('Selected values'!$C$4:$C$54, MATCH($J36,'Selected values'!$B$4:$B$54,0)),1), \"Not scored\")","v":58.5},{"$f":"IF(J36=\"AVERAGE\",\"\",IF(INDEX('DATA TABLE'!$J$10:$BG$68, MATCH($H$13,'DATA TABLE'!$B$10:$B$68,0), MATCH($J36,'DATA TABLE'!$J$9:$BG$9,0))=\"\",\"\",INDEX('DATA TABLE'!$J$10:$BG$68, MATCH($H$13,'DATA TABLE'!$B$10:$B$68,0), MATCH($J36,'DATA TABLE'!$J$9:$BG$9,0))))","v":""}]
[{"$nulls":6},{"$f":"IF($C$7=\"Background indicators\",G36+1,IF($E$10=Lists!$K$4, G36-1,G36+1))","v":19},null,{"$f":"IF(K37=\"Not scored\",\"\",INDEX('Selected values'!$J$4:$J$54,MATCH($J37,'Selected values'!$H$4:$H$54,0)))","v":19},{"$f":"IF($E$10=Lists!$K$2, INDEX('Selected values'!$B$4:$B$54, MATCH($G37,'Selected values'!$D$4:$D$54,0)), INDEX('Selected values'!$B$4:$B$54,MATCH($G37,'Selected values'!$E$4:$E$54,0)))","v":"California"},{"$f":"IFERROR(ROUND(INDEX('Selected values'!$C$4:$C$54, MATCH($J37,'Selected values'!$B$4:$B$54,0)),1), \"Not scored\")","v":58.1},{"$f":"IF(J37=\"AVERAGE\",\"\",IF(INDEX('DATA TABLE'!$J$10:$BG$68, MATCH($H$13,'DATA TABLE'!$B$10:$B$68,0), MATCH($J37,'DATA TABLE'!$J$9:$BG$9,0))=\"\",\"\",INDEX('DATA TABLE'!$J$10:$BG$68, MATCH($H$13,'DATA TABLE'!$B$10:$B$68,0), MATCH($J37,'DATA TABLE'!$J$9:$BG$9,0))))","v":""}]
[{"$nulls":6},{"$f":"IF($C$7=\"Background indicators\",G37+1,IF($E$10=Lists!$K$4, G37-1,G37+1))","v":20},null,{"$f":"IF(K38=\"Not scored\",\"\",INDEX('Selected values'!$J$4:$J$54,MATCH($J38,'Selected values'!$H$4:$H$54,0)))","v":20},{"$f":"IF($E$10=Lists!$K$2, INDEX('Selected values'!$B$4:$B$54, MATCH($G38,'Selected values'!$D$4:$D$54,0)), INDEX('Selected values'!$B$4:$B$54,MATCH($G38,'Selected values'!$E$4:$E$54,0)))","v":"Texas"},{"$f":"IFERROR(ROUND(INDEX('Selected values'!$C$4:$C$54, MATCH($J38,'Selected values'!$B$4:$B$54,0)),1), \"Not scored\")","v":57.8},{"$f":"IF(J38=\"AVERAGE\",\"\",IF(INDEX('DATA TABLE'!$J$10:$BG$68, MATCH($H$13,'DATA TABLE'!$B$10:$B$68,0), MATCH($J38,'DATA TABLE'!$J$9:$BG$9,0))=\"\",\"\",INDEX('DATA TABLE'!$J$10:$BG$68, MATCH($H$13,'DATA TABLE'!$B$10:$B$68,0), MATCH($J38,'DATA TABLE'!$J$9:$BG$9,0))))","v":""}]
[{"$nulls":6},{"$f":"IF($C$7=\"Background indicators\",G38+1,IF($E$10=Lists!$K$4, G38-1,G38+1))","v":21},null,{"$f":"IF(K39=\"Not scored\",\"\",INDEX('Selected values'!$J$4:$J$54,MATCH($J39,'Selected values'!$H$4:$H$54,0)))","v":21},{"$f":"IF($E$10=Lists!$K$2, INDEX('Selected values'!$B$4:$B$54, MATCH($G39,'Selected values'!$D$4:$D$54,0)), INDEX('Selected values'!$B$4:$B$54,MATCH($G39,'Selected values'!$E$4:$E$54,0)))","v":"Maine"},{"$f":"IFERROR(ROUND(INDEX('Selected values'!$C$4:$C$54, MATCH($J39,'Selected values'!$B$4:$B$54,0)),1), \"Not scored\")","v":56.8},{"$f":"IF(J39=\"AVERAGE\",\"\",IF(INDEX('DATA TABLE'!$J$10:$BG$68, MATCH($H$13,'DATA TABLE'!$B$10:$B$68,0), MATCH($J39,'DATA TABLE'!$J$9:$BG$9,0))=\"\",\"\",INDEX('DATA TABLE'!$J$10:$BG$68, MATCH($H$13,'DATA TABLE'!$B$10:$B$68,0), MATCH($J39,'DATA TABLE'!$J$9:$BG$9,0))))","v":""}]
[{"$nulls":6},{"$f":"IF($C$7=\"Background indicators\",G39+1,IF($E$10=Lists!$K$4, G39-1,G39+1))","v":22},null,{"$f":"IF(K40=\"Not scored\",\"\",INDEX('Selected values'!$J$4:$J$54,MATCH($J40,'Selected values'!$H$4:$H$54,0)))","v":22},{"$f":"IF($E$10=Lists!$K$2, INDEX('Selected values'!$B$4:$B$54, MATCH($G40,'Selected values'!$D$4:$D$54,0)), INDEX('Selected values'!$B$4:$B$54,MATCH($G40,'Selected values'!$E$4:$E$54,0)))","v":"Mississippi"},{"$f":"IFERROR(ROUND(INDEX('Selected values'!$C$4:$C$54, MATCH($J40,'Selected values'!$B$4:$B$54,0)),1), \"Not scored\")","v":55.4},{"$f":"IF(J40=\"AVERAGE\",\"\",IF(INDEX('DATA TABLE'!$J$10:$BG$68, MATCH($H$13,'DATA TABLE'!$B$10:$B$68,0), MATCH($J40,'DATA TABLE'!$J$9:$BG$9,0))=\"\",\"\",INDEX('DATA TABLE'!$J$10:$BG$68, MATCH($H$13,'DATA TABLE'!$B$10:$B$68,0), MATCH($J40,'DATA TABLE'!$J$9:$BG$9,0))))","v":""}]
[{"$nulls":6},{"$f":"IF($C$7=\"Background indicators\",G40+1,IF($E$10=Lists!$K$4, G40-1,G40+1))","v":23},null,{"$f":"IF(K41=\"Not scored\",\"\",INDEX('Selected values'!$J$4:$J$54,MATCH($J41,'Selected values'!$H$4:$H$54,0)))","v":23},{"$f":"IF($E$10=Lists!$K$2, INDEX('Selected values'!$B$4:$B$54, MATCH($G41,'Selected values'!$D$4:$D$54,0)), INDEX('Selected values'!$B$4:$B$54,MATCH($G41,'Selected values'!$E$4:$E$54,0)))","v":"Hawaii"},{"$f":"IFERROR(ROUND(INDEX('Selected values'!$C$4:$C$54, MATCH($J41,'Selected values'!$B$4:$B$54,0)),1), \"Not scored\")","v":54.8},{"$f":"IF(J41=\"AVERAGE\",\"\",IF(INDEX('DATA TABLE'!$J$10:$BG$68, MATCH($H$13,'DATA TABLE'!$B$10:$B$68,0), MATCH($J41,'DATA TABLE'!$J$9:$BG$9,0))=\"\",\"\",INDEX('DATA TABLE'!$J$10:$BG$68, MATCH($H$13,'DATA TABLE'!$B$10:$B$68,0), MATCH($J41,'DATA TABLE'!$J$9:$BG$9,0))))","v":""}]
[{"$nulls":6},{"$f":"IF($C$7=\"Background indicators\",G41+1,IF($E$10=Lists!$K$4, G41-1,G41+1))","v":24},null,{"$f":"IF(K42=\"Not scored\",\"\",INDEX('Selected values'!$J$4:$J$54,MATCH($J42,'Selected values'!$H$4:$H$54,0)))","v":24},{"$f":"IF($E$10=Lists!$K$2, INDEX('Selected values'!$B$4:$B$54, MATCH($G42,'Selected values'!$D$4:$D$54,0)), INDEX('Selected values'!$B$4:$B$54,MATCH($G42,'Selected values'!$E$4:$E$54,0)))","v":"Louisiana"},{"$f":"IFERROR(ROUND(INDEX('Selected values'!$C$4:$C$54, MATCH($J42,'Selected values'!$B$4:$B$54,0)),1), \"Not scored\")","v":54.8},{"$f":"IF(J42=\"AVERAGE\",\"\",IF(INDEX('DATA TABLE'!$J$10:$BG$68, MATCH($H$13,'DATA TABLE'!$B$10:$B$68,0), MATCH($J42,'DATA TABLE'!$J$9:$BG$9,0))=\"\",\"\",INDEX('DATA TABLE'!$J$10:$BG$68, MATCH($H$13,'DATA TABLE'!$B$10:$B$68,0), MATCH($J42,'DATA TABLE'!$J$9:$BG$9,0))))","v":""}]
[{"$nulls":6},{"$f":"IF($C$7=\"Background indicators\",G42+1,IF($E$10=Lists!$K$4, G42-1,G42+1))","v":25},null,{"$f":"IF(K43=\"Not scored\",\"\",INDEX('Selected values'!$J$4:$J$54,MATCH($J43,'Selected values'!$H$4:$H$54,0)))","v":25},{"$f":"IF($E$10=Lists!$K$2, INDEX('Selected values'!$B$4:$B$54, MATCH($G43,'Selected values'!$D$4:$D$54,0)), INDEX('Selected values'!$B$4:$B$54,MATCH($G43,'Selected values'!$E$4:$E$54,0)))","v":"Vermont"},{"$f":"IFERROR(ROUND(INDEX('Selected values'!$C$4:$C$54, MATCH($J43,'Selected values'!$B$4:$B$54,0)),1), \"Not scored\")","v":54.4},{"$f":"IF(J43=\"AVERAGE\",\"\",IF(INDEX('DATA TABLE'!$J$10:$BG$68, MATCH($H$13,'DATA TABLE'!$B$10:$B$68,0), MATCH($J43,'DATA TABLE'!$J$9:$BG$9,0))=\"\",\"\",INDEX('DATA TABLE'!$J$10:$BG$68, MATCH($H$13,'DATA TABLE'!$B$10:$B$68,0), MATCH($J43,'DATA TABLE'!$J$9:$BG$9,0))))","v":""}]
[{"$nulls":6},{"$f":"IF($C$7=\"Background indicators\",G43+1,IF($E$10=Lists!$K$4, G43-1,G43+1))","v":26},null,{"$f":"IF(K44=\"Not scored\",\"\",INDEX('Selected values'!$J$4:$J$54,MATCH($J44,'Selected values'!$H$4:$H$54,0)))","v":""},{"$f":"IF($E$10=Lists!$K$2, INDEX('Selected values'!$B$4:$B$54, MATCH($G44,'Selected values'!$D$4:$D$54,0)), INDEX('Selected values'!$B$4:$B$54,MATCH($G44,'Selected values'!$E$4:$E$54,0)))","v":"AVERAGE"},{"$f":"IFERROR(ROUND(INDEX('Selected values'!$C$4:$C$54, MATCH($J44,'Selected values'!$B$4:$B$54,0)),1), \"Not scored\")","v":54.2},{"$f":"IF(J44=\"AVERAGE\",\"\",IF(INDEX('DATA TABLE'!$J$10:$BG$68, MATCH($H$13,'DATA TABLE'!$B$10:$B$68,0), MATCH($J44,'DATA TABLE'!$J$9:$BG$9,0))=\"\",\"\",INDEX('DATA TABLE'!$J$10:$BG$68, MATCH($H$13,'DATA TABLE'!$B$10:$B$68,0), MATCH($J44,'DATA TABLE'!$J$9:$BG$9,0))))","v":""}]
[{"$nulls":6},{"$f":"IF($C$7=\"Background indicators\",G44+1,IF($E$10=Lists!$K$4, G44-1,G44+1))","v":27},null,{"$f":"IF(K45=\"Not scored\",\"\",INDEX('Selected values'!$J$4:$J$54,MATCH($J45,'Selected values'!$H$4:$H$54,0)))","v":26},{"$f":"IF($E$10=Lists!$K$2, INDEX('Selected values'!$B$4:$B$54, MATCH($G45,'Selected values'!$D$4:$D$54,0)), INDEX('Selected values'!$B$4:$B$54,MATCH($G45,'Selected values'!$E$4:$E$54,0)))","v":"Connecticut"},{"$f":"IFERROR(ROUND(INDEX('Selected values'!$C$4:$C$54, MATCH($J45,'Selected values'!$B$4:$B$54,0)),1), \"Not scored\")","v":54.1},{"$f":"IF(J45=\"AVERAGE\",\"\",IF(INDEX('DATA TABLE'!$J$10:$BG$68, MATCH($H$13,'DATA TABLE'!$B$10:$B$68,0), MATCH($J45,'DATA TABLE'!$J$9:$BG$9,0))=\"\",\"\",INDEX('DATA TABLE'!$J$10:$BG$68, MATCH($H$13,'DATA TABLE'!$B$10:$B$68,0), MATCH($J45,'DATA TABLE'!$J$9:$BG$9,0))))","v":""}]
[{"$nulls":6},{"$f":"IF($C$7=\"Background indicators\",G45+1,IF($E$10=Lists!$K$4, G45-1,G45+1))","v":28},null,{"$f":"IF(K46=\"Not scored\",\"\",INDEX('Selected values'!$J$4:$J$54,MATCH($J46,'Selected values'!$H$4:$H$54,0)))","v":27},{"$f":"IF($E$10=Lists!$K$2, INDEX('Selected values'!$B$4:$B$54, MATCH($G46,'Selected values'!$D$4:$D$54,0)), INDEX('Selected values'!$B$4:$B$54,MATCH($G46,'Selected values'!$E$4:$E$54,0)))","v":"Arkansas"},{"$f":"IFERROR(ROUND(INDEX('Selected values'!$C$4:$C$54, MATCH($J46,'Selected values'!$B$4:$B$54,0)),1), \"Not scored\")","v":54.1},{"$f":"IF(J46=\"AVERAGE\",\"\",IF(INDEX('DATA TABLE'!$J$10:$BG$68, MATCH($H$13,'DATA TABLE'!$B$10:$B$68,0), MATCH($J46,'DATA TABLE'!$J$9:$BG$9,0))=\"\",\"\",INDEX('DATA TABLE'!$J$10:$BG$68, MATCH($H$13,'DATA TABLE'!$B$10:$B$68,0), MATCH($J46,'DATA TABLE'!$J$9:$BG$9,0))))","v":""}]
[{"$nulls":6},{"$f":"IF($C$7=\"Background indicators\",G46+1,IF($E$10=Lists!$K$4, G46-1,G46+1))","v":29},null,{"$f":"IF(K47=\"Not scored\",\"\",INDEX('Selected values'!$J$4:$J$54,MATCH($J47,'Selected values'!$H$4:$H$54,0)))","v":28},{"$f":"IF($E$10=Lists!$K$2, INDEX('Selected values'!$B$4:$B$54, MATCH($G47,'Selected values'!$D$4:$D$54,0)), INDEX('Selected values'!$B$4:$B$54,MATCH($G47,'Selected values'!$E$4:$E$54,0)))","v":"West Virginia"},{"$f":"IFERROR(ROUND(INDEX('Selected values'!$C$4:$C$54, MATCH($J47,'Selected values'!$B$4:$B$54,0)),1), \"Not scored\")","v":54.1},{"$f":"IF(J47=\"AVERAGE\",\"\",IF(INDEX('DATA TABLE'!$J$10:$BG$68, MATCH($H$13,'DATA TABLE'!$B$10:$B$68,0), MATCH($J47,'DATA TABLE'!$J$9:$BG$9,0))=\"\",\"\",INDEX('DATA TABLE'!$J$10:$BG$68, MATCH($H$13,'DATA TABLE'!$B$10:$B$68,0), MATCH($J47,'DATA TABLE'!$J$9:$BG$9,0))))","v":""}]
[{"$nulls":6},{"$f":"IF($C$7=\"Background indicators\",G47+1,IF($E$10=Lists!$K$4, G47-1,G47+1))","v":30},null,{"$f":"IF(K48=\"Not scored\",\"\",INDEX('Selected values'!$J$4:$J$54,MATCH($J48,'Selected values'!$H$4:$H$54,0)))","v":29},{"$f":"IF($E$10=Lists!$K$2, INDEX('Selected values'!$B$4:$B$54, MATCH($G48,'Selected values'!$D$4:$D$54,0)), INDEX('Selected values'!$B$4:$B$54,MATCH($G48,'Selected values'!$E$4:$E$54,0)))","v":"Tennessee"},{"$f":"IFERROR(ROUND(INDEX('Selected values'!$C$4:$C$54, MATCH($J48,'Selected values'!$B$4:$B$54,0)),1), \"Not scored\")","v":53.9},{"$f":"IF(J48=\"AVERAGE\",\"\",IF(INDEX('DATA TABLE'!$J$10:$BG$68, MATCH($H$13,'DATA TABLE'!$B$10:$B$68,0), MATCH($J48,'DATA TABLE'!$J$9:$BG$9,0))=\"\",\"\",INDEX('DATA TABLE'!$J$10:$BG$68, MATCH($H$13,'DATA TABLE'!$B$10:$B$68,0), MATCH($J48,'DATA TABLE'!$J$9:$BG$9,0))))","v":""}]
[{"$nulls":6},{"$f":"IF($C$7=\"Background indicators\",G48+1,IF($E$10=Lists!$K$4, G48-1,G48+1))","v":31},null,{"$f":"IF(K49=\"Not scored\",\"\",INDEX('Selected values'!$J$4:$J$54,MATCH($J49,'Selected values'!$H$4:$H$54,0)))","v":30},{"$f":"IF($E$10=Lists!$K$2, INDEX('Selected values'!$B$4:$B$54, MATCH($G49,'Selected values'!$D$4:$D$54,0)), INDEX('Selected values'!$B$4:$B$54,MATCH($G49,'Selected values'!$E$4:$E$54,0)))","v":"Pennsylvania"},{"$f":"IFERROR(ROUND(INDEX('Selected values'!$C$4:$C$54, MATCH($J49,'Selected values'!$B$4:$B$54,0)),1), \"Not scored\")","v":53.1},{"$f":"IF(J49=\"AVERAGE\",\"\",IF(INDEX('DATA TABLE'!$J$10:$BG$68, MATCH($H$13,'DATA TABLE'!$B$10:$B$68,0), MATCH($J49,'DATA TABLE'!$J$9:$BG$9,0))=\"\",\"\",INDEX('DATA TABLE'!$J$10:$BG$68, MATCH($H$13,'DATA TABLE'!$B$10:$B$68,0), MATCH($J49,'DATA TABLE'!$J$9:$BG$9,0))))","v":""}]
[{"$nulls":6},{"$f":"IF($C$7=\"Background indicators\",G49+1,IF($E$10=Lists!$K$4, G49-1,G49+1))","v":32},null,{"$f":"IF(K50=\"Not scored\",\"\",INDEX('Selected values'!$J$4:$J$54,MATCH($J50,'Selected values'!$H$4:$H$54,0)))","v":31},{"$f":"IF($E$10=Lists!$K$2, INDEX('Selected values'!$B$4:$B$54, MATCH($G50,'Selected values'!$D$4:$D$54,0)), INDEX('Selected values'!$B$4:$B$54,MATCH($G50,'Selected values'!$E$4:$E$54,0)))","v":"Oregon"},{"$f":"IFERROR(ROUND(INDEX('Selected values'!$C$4:$C$54, MATCH($J50,'Selected values'!$B$4:$B$54,0)),1), \"Not scored\")","v":52.9},{"$f":"IF(J50=\"AVERAGE\",\"\",IF(INDEX('DATA TABLE'!$J$10:$BG$68, MATCH($H$13,'DATA TABLE'!$B$10:$B$68,0), MATCH($J50,'DATA TABLE'!$J$9:$BG$9,0))=\"\",\"\",INDEX('DATA TABLE'!$J$10:$BG$68, MATCH($H$13,'DATA TABLE'!$B$10:$B$68,0), MATCH($J50,'DATA TABLE'!$J$9:$BG$9,0))))","v":""}]
[{"$nulls":6},{"$f":"IF($C$7=\"Background indicators\",G50+1,IF($E$10=Lists!$K$4, G50-1,G50+1))","v":33},null,{"$f":"IF(K51=\"Not scored\",\"\",INDEX('Selected values'!$J$4:$J$54,MATCH($J51,'Selected values'!$H$4:$H$54,0)))","v":32},{"$f":"IF($E$10=Lists!$K$2, INDEX('Selected values'!$B$4:$B$54, MATCH($G51,'Selected values'!$D$4:$D$54,0)), INDEX('Selected values'!$B$4:$B$54,MATCH($G51,'Selected values'!$E$4:$E$54,0)))","v":"Idaho"},{"$f":"IFERROR(ROUND(INDEX('Selected values'!$C$4:$C$54, MATCH($J51,'Selected values'!$B$4:$B$54,0)),1), \"Not scored\")","v":52.1},{"$f":"IF(J51=\"AVERAGE\",\"\",IF(INDEX('DATA TABLE'!$J$10:$BG$68, MATCH($H$13,'DATA TABLE'!$B$10:$B$68,0), MATCH($J51,'DATA TABLE'!$J$9:$BG$9,0))=\"\",\"\",INDEX('DATA TABLE'!$J$10:$BG$68, MATCH($H$13,'DATA TABLE'!$B$10:$B$68,0), MATCH($J51,'DATA TABLE'!$J$9:$BG$9,0))))","v":""}]
[{"$nulls":6},{"$f":"IF($C$7=\"Background indicators\",G51+1,IF($E$10=Lists!$K$4, G51-1,G51+1))","v":34},null,{"$f":"IF(K52=\"Not scored\",\"\",INDEX('Selected values'!$J$4:$J$54,MATCH($J52,'Selected values'!$H$4:$H$54,0)))","v":33},{"$f":"IF($E$10=Lists!$K$2, INDEX('Selected values'!$B$4:$B$54, MATCH($G52,'Selected values'!$D$4:$D$54,0)), INDEX('Selected values'!$B$4:$B$54,MATCH($G52,'Selected values'!$E$4:$E$54,0)))","v":"Michigan"},{"$f":"IFERROR(ROUND(INDEX('Selected values'!$C$4:$C$54, MATCH($J52,'Selected values'!$B$4:$B$54,0)),1), \"Not scored\")","v":{"v":51,"d":"51.0"}},{"$f":"IF(J52=\"AVERAGE\",\"\",IF(INDEX('DATA TABLE'!$J$10:$BG$68, MATCH($H$13,'DATA TABLE'!$B$10:$B$68,0), MATCH($J52,'DATA TABLE'!$J$9:$BG$9,0))=\"\",\"\",INDEX('DATA TABLE'!$J$10:$BG$68, MATCH($H$13,'DATA TABLE'!$B$10:$B$68,0), MATCH($J52,'DATA TABLE'!$J$9:$BG$9,0))))","v":""}]
[{"$nulls":6},{"$f":"IF($C$7=\"Background indicators\",G52+1,IF($E$10=Lists!$K$4, G52-1,G52+1))","v":35},null,{"$f":"IF(K53=\"Not scored\",\"\",INDEX('Selected values'!$J$4:$J$54,MATCH($J53,'Selected values'!$H$4:$H$54,0)))","v":34},{"$f":"IF($E$10=Lists!$K$2, INDEX('Selected values'!$B$4:$B$54, MATCH($G53,'Selected values'!$D$4:$D$54,0)), INDEX('Selected values'!$B$4:$B$54,MATCH($G53,'Selected values'!$E$4:$E$54,0)))","v":"Utah"},{"$f":"IFERROR(ROUND(INDEX('Selected values'!$C$4:$C$54, MATCH($J53,'Selected values'!$B$4:$B$54,0)),1), \"Not scored\")","v":50.5},{"$f":"IF(J53=\"AVERAGE\",\"\",IF(INDEX('DATA TABLE'!$J$10:$BG$68, MATCH($H$13,'DATA TABLE'!$B$10:$B$68,0), MATCH($J53,'DATA TABLE'!$J$9:$BG$9,0))=\"\",\"\",INDEX('DATA TABLE'!$J$10:$BG$68, MATCH($H$13,'DATA TABLE'!$B$10:$B$68,0), MATCH($J53,'DATA TABLE'!$J$9:$BG$9,0))))","v":""}]
[{"$nulls":6},{"$f":"IF($C$7=\"Background indicators\",G53+1,IF($E$10=Lists!$K$4, G53-1,G53+1))","v":36},null,{"$f":"IF(K54=\"Not scored\",\"\",INDEX('Selected values'!$J$4:$J$54,MATCH($J54,'Selected values'!$H$4:$H$54,0)))","v":35},{"$f":"IF($E$10=Lists!$K$2, INDEX('Selected values'!$B$4:$B$54, MATCH($G54,'Selected values'!$D$4:$D$54,0)), INDEX('Selected values'!$B$4:$B$54,MATCH($G54,'Selected values'!$E$4:$E$54,0)))","v":"Nebraska"},{"$f":"IFERROR(ROUND(INDEX('Selected values'!$C$4:$C$54, MATCH($J54,'Selected values'!$B$4:$B$54,0)),1), \"Not scored\")","v":50.3},{"$f":"IF(J54=\"AVERAGE\",\"\",IF(INDEX('DATA TABLE'!$J$10:$BG$68, MATCH($H$13,'DATA TABLE'!$B$10:$B$68,0), MATCH($J54,'DATA TABLE'!$J$9:$BG$9,0))=\"\",\"\",INDEX('DATA TABLE'!$J$10:$BG$68, MATCH($H$13,'DATA TABLE'!$B$10:$B$68,0), MATCH($J54,'DATA TABLE'!$J$9:$BG$9,0))))","v":""}]
[{"$nulls":6},{"$f":"IF($C$7=\"Background indicators\",G54+1,IF($E$10=Lists!$K$4, G54-1,G54+1))","v":37},null,{"$f":"IF(K55=\"Not scored\",\"\",INDEX('Selected values'!$J$4:$J$54,MATCH($J55,'Selected values'!$H$4:$H$54,0)))","v":36},{"$f":"IF($E$10=Lists!$K$2, INDEX('Selected values'!$B$4:$B$54, MATCH($G55,'Selected values'!$D$4:$D$54,0)), INDEX('Selected values'!$B$4:$B$54,MATCH($G55,'Selected values'!$E$4:$E$54,0)))","v":"Wyoming"},{"$f":"IFERROR(ROUND(INDEX('Selected values'!$C$4:$C$54, MATCH($J55,'Selected values'!$B$4:$B$54,0)),1), \"Not scored\")","v":{"v":49,"d":"49.0"}},{"$f":"IF(J55=\"AVERAGE\",\"\",IF(INDEX('DATA TABLE'!$J$10:$BG$68, MATCH($H$13,'DATA TABLE'!$B$10:$B$68,0), MATCH($J55,'DATA TABLE'!$J$9:$BG$9,0))=\"\",\"\",INDEX('DATA TABLE'!$J$10:$BG$68, MATCH($H$13,'DATA TABLE'!$B$10:$B$68,0), MATCH($J55,'DATA TABLE'!$J$9:$BG$9,0))))","v":""}]
[{"$nulls":6},{"$f":"IF($C$7=\"Background indicators\",G55+1,IF($E$10=Lists!$K$4, G55-1,G55+1))","v":38},null,{"$f":"IF(K56=\"Not scored\",\"\",INDEX('Selected values'!$J$4:$J$54,MATCH($J56,'Selected values'!$H$4:$H$54,0)))","v":37},{"$f":"IF($E$10=Lists!$K$2, INDEX('Selected values'!$B$4:$B$54, MATCH($G56,'Selected values'!$D$4:$D$54,0)), INDEX('Selected values'!$B$4:$B$54,MATCH($G56,'Selected values'!$E$4:$E$54,0)))","v":"Missouri"},{"$f":"IFERROR(ROUND(INDEX('Selected values'!$C$4:$C$54, MATCH($J56,'Selected values'!$B$4:$B$54,0)),1), \"Not scored\")","v":48.9},{"$f":"IF(J56=\"AVERAGE\",\"\",IF(INDEX('DATA TABLE'!$J$10:$BG$68, MATCH($H$13,'DATA TABLE'!$B$10:$B$68,0), MATCH($J56,'DATA TABLE'!$J$9:$BG$9,0))=\"\",\"\",INDEX('DATA TABLE'!$J$10:$BG$68, MATCH($H$13,'DATA TABLE'!$B$10:$B$68,0), MATCH($J56,'DATA TABLE'!$J$9:$BG$9,0))))","v":""}]
[{"$nulls":6},{"$f":"IF($C$7=\"Background indicators\",G56+1,IF($E$10=Lists!$K$4, G56-1,G56+1))","v":39},null,{"$f":"IF(K57=\"Not scored\",\"\",INDEX('Selected values'!$J$4:$J$54,MATCH($J57,'Selected values'!$H$4:$H$54,0)))","v":38},{"$f":"IF($E$10=Lists!$K$2, INDEX('Selected values'!$B$4:$B$54, MATCH($G57,'Selected values'!$D$4:$D$54,0)), INDEX('Selected values'!$B$4:$B$54,MATCH($G57,'Selected values'!$E$4:$E$54,0)))","v":"Delaware"},{"$f":"IFERROR(ROUND(INDEX('Selected values'!$C$4:$C$54, MATCH($J57,'Selected values'!$B$4:$B$54,0)),1), \"Not scored\")","v":48.9},{"$f":"IF(J57=\"AVERAGE\",\"\",IF(INDEX('DATA TABLE'!$J$10:$BG$68, MATCH($H$13,'DATA TABLE'!$B$10:$B$68,0), MATCH($J57,'DATA TABLE'!$J$9:$BG$9,0))=\"\",\"\",INDEX('DATA TABLE'!$J$10:$BG$68, MATCH($H$13,'DATA TABLE'!$B$10:$B$68,0), MATCH($J57,'DATA TABLE'!$J$9:$BG$9,0))))","v":""}]
[{"$nulls":6},{"$f":"IF($C$7=\"Background indicators\",G57+1,IF($E$10=Lists!$K$4, G57-1,G57+1))","v":40},null,{"$f":"IF(K58=\"Not scored\",\"\",INDEX('Selected values'!$J$4:$J$54,MATCH($J58,'Selected values'!$H$4:$H$54,0)))","v":39},{"$f":"IF($E$10=Lists!$K$2, INDEX('Selected values'!$B$4:$B$54, MATCH($G58,'Selected values'!$D$4:$D$54,0)), INDEX('Selected values'!$B$4:$B$54,MATCH($G58,'Selected values'!$E$4:$E$54,0)))","v":"Massachusetts"},{"$f":"IFERROR(ROUND(INDEX('Selected values'!$C$4:$C$54, MATCH($J58,'Selected values'!$B$4:$B$54,0)),1), \"Not scored\")","v":48.5},{"$f":"IF(J58=\"AVERAGE\",\"\",IF(INDEX('DATA TABLE'!$J$10:$BG$68, MATCH($H$13,'DATA TABLE'!$B$10:$B$68,0), MATCH($J58,'DATA TABLE'!$J$9:$BG$9,0))=\"\",\"\",INDEX('DATA TABLE'!$J$10:$BG$68, MATCH($H$13,'DATA TABLE'!$B$10:$B$68,0), MATCH($J58,'DATA TABLE'!$J$9:$BG$9,0))))","v":""}]
[{"$nulls":6},{"$f":"IF($C$7=\"Background indicators\",G58+1,IF($E$10=Lists!$K$4, G58-1,G58+1))","v":41},null,{"$f":"IF(K59=\"Not scored\",\"\",INDEX('Selected values'!$J$4:$J$54,MATCH($J59,'Selected values'!$H$4:$H$54,0)))","v":40},{"$f":"IF($E$10=Lists!$K$2, INDEX('Selected values'!$B$4:$B$54, MATCH($G59,'Selected values'!$D$4:$D$54,0)), INDEX('Selected values'!$B$4:$B$54,MATCH($G59,'Selected values'!$E$4:$E$54,0)))","v":"New Jersey"},{"$f":"IFERROR(ROUND(INDEX('Selected values'!$C$4:$C$54, MATCH($J59,'Selected values'!$B$4:$B$54,0)),1), \"Not scored\")","v":48.1},{"$f":"IF(J59=\"AVERAGE\",\"\",IF(INDEX('DATA TABLE'!$J$10:$BG$68, MATCH($H$13,'DATA TABLE'!$B$10:$B$68,0), MATCH($J59,'DATA TABLE'!$J$9:$BG$9,0))=\"\",\"\",INDEX('DATA TABLE'!$J$10:$BG$68, MATCH($H$13,'DATA TABLE'!$B$10:$B$68,0), MATCH($J59,'DATA TABLE'!$J$9:$BG$9,0))))","v":""}]
[{"$nulls":6},{"$f":"IF($C$7=\"Background indicators\",G59+1,IF($E$10=Lists!$K$4, G59-1,G59+1))","v":42},null,{"$f":"IF(K60=\"Not scored\",\"\",INDEX('Selected values'!$J$4:$J$54,MATCH($J60,'Selected values'!$H$4:$H$54,0)))","v":41},{"$f":"IF($E$10=Lists!$K$2, INDEX('Selected values'!$B$4:$B$54, MATCH($G60,'Selected values'!$D$4:$D$54,0)), INDEX('Selected values'!$B$4:$B$54,MATCH($G60,'Selected values'!$E$4:$E$54,0)))","v":"Alaska"},{"$f":"IFERROR(ROUND(INDEX('Selected values'!$C$4:$C$54, MATCH($J60,'Selected values'!$B$4:$B$54,0)),1), \"Not scored\")","v":48.1},{"$f":"IF(J60=\"AVERAGE\",\"\",IF(INDEX('DATA TABLE'!$J$10:$BG$68, MATCH($H$13,'DATA TABLE'!$B$10:$B$68,0), MATCH($J60,'DATA TABLE'!$J$9:$BG$9,0))=\"\",\"\",INDEX('DATA TABLE'!$J$10:$BG$68, MATCH($H$13,'DATA TABLE'!$B$10:$B$68,0), MATCH($J60,'DATA TABLE'!$J$9:$BG$9,0))))","v":""}]
[{"$nulls":6},{"$f":"IF($C$7=\"Background indicators\",G60+1,IF($E$10=Lists!$K$4, G60-1,G60+1))","v":43},null,{"$f":"IF(K61=\"Not scored\",\"\",INDEX('Selected values'!$J$4:$J$54,MATCH($J61,'Selected values'!$H$4:$H$54,0)))","v":42},{"$f":"IF($E$10=Lists!$K$2, INDEX('Selected values'!$B$4:$B$54, MATCH($G61,'Selected values'!$D$4:$D$54,0)), INDEX('Selected values'!$B$4:$B$54,MATCH($G61,'Selected values'!$E$4:$E$54,0)))","v":"South Dakota"},{"$f":"IFERROR(ROUND(INDEX('Selected values'!$C$4:$C$54, MATCH($J61,'Selected values'!$B$4:$B$54,0)),1), \"Not scored\")","v":47.1},{"$f":"IF(J61=\"AVERAGE\",\"\",IF(INDEX('DATA TABLE'!$J$10:$BG$68, MATCH($H$13,'DATA TABLE'!$B$10:$B$68,0), MATCH($J61,'DATA TABLE'!$J$9:$BG$9,0))=\"\",\"\",INDEX('DATA TABLE'!$J$10:$BG$68, MATCH($H$13,'DATA TABLE'!$B$10:$B$68,0), MATCH($J61,'DATA TABLE'!$J$9:$BG$9,0))))","v":""}]
[{"$nulls":6},{"$f":"IF($C$7=\"Background indicators\",G61+1,IF($E$10=Lists!$K$4, G61-1,G61+1))","v":44},null,{"$f":"IF(K62=\"Not scored\",\"\",INDEX('Selected values'!$J$4:$J$54,MATCH($J62,'Selected values'!$H$4:$H$54,0)))","v":43},{"$f":"IF($E$10=Lists!$K$2, INDEX('Selected values'!$B$4:$B$54, MATCH($G62,'Selected values'!$D$4:$D$54,0)), INDEX('Selected values'!$B$4:$B$54,MATCH($G62,'Selected values'!$E$4:$E$54,0)))","v":"North Dakota"},{"$f":"IFERROR(ROUND(INDEX('Selected values'!$C$4:$C$54, MATCH($J62,'Selected values'!$B$4:$B$54,0)),1), \"Not scored\")","v":45.3},{"$f":"IF(J62=\"AVERAGE\",\"\",IF(INDEX('DATA TABLE'!$J$10:$BG$68, MATCH($H$13,'DATA TABLE'!$B$10:$B$68,0), MATCH($J62,'DATA TABLE'!$J$9:$BG$9,0))=\"\",\"\",INDEX('DATA TABLE'!$J$10:$BG$68, MATCH($H$13,'DATA TABLE'!$B$10:$B$68,0), MATCH($J62,'DATA TABLE'!$J$9:$BG$9,0))))","v":""}]
[{"$nulls":6},{"$f":"IF($C$7=\"Background indicators\",G62+1,IF($E$10=Lists!$K$4, G62-1,G62+1))","v":45},null,{"$f":"IF(K63=\"Not scored\",\"\",INDEX('Selected values'!$J$4:$J$54,MATCH($J63,'Selected values'!$H$4:$H$54,0)))","v":44},{"$f":"IF($E$10=Lists!$K$2, INDEX('Selected values'!$B$4:$B$54, MATCH($G63,'Selected values'!$D$4:$D$54,0)), INDEX('Selected values'!$B$4:$B$54,MATCH($G63,'Selected values'!$E$4:$E$54,0)))","v":"Montana"},{"$f":"IFERROR(ROUND(INDEX('Selected values'!$C$4:$C$54, MATCH($J63,'Selected values'!$B$4:$B$54,0)),1), \"Not scored\")","v":45.1},{"$f":"IF(J63=\"AVERAGE\",\"\",IF(INDEX('DATA TABLE'!$J$10:$BG$68, MATCH($H$13,'DATA TABLE'!$B$10:$B$68,0), MATCH($J63,'DATA TABLE'!$J$9:$BG$9,0))=\"\",\"\",INDEX('DATA TABLE'!$J$10:$BG$68, MATCH($H$13,'DATA TABLE'!$B$10:$B$68,0), MATCH($J63,'DATA TABLE'!$J$9:$BG$9,0))))","v":""}]
[{"$nulls":6},{"$f":"IF($C$7=\"Background indicators\",G63+1,IF($E$10=Lists!$K$4, G63-1,G63+1))","v":46},null,{"$f":"IF(K64=\"Not scored\",\"\",INDEX('Selected values'!$J$4:$J$54,MATCH($J64,'Selected values'!$H$4:$H$54,0)))","v":45},{"$f":"IF($E$10=Lists!$K$2, INDEX('Selected values'!$B$4:$B$54, MATCH($G64,'Selected values'!$D$4:$D$54,0)), INDEX('Selected values'!$B$4:$B$54,MATCH($G64,'Selected values'!$E$4:$E$54,0)))","v":"Alabama"},{"$f":"IFERROR(ROUND(INDEX('Selected values'!$C$4:$C$54, MATCH($J64,'Selected values'!$B$4:$B$54,0)),1), \"Not scored\")","v":43.7},{"$f":"IF(J64=\"AVERAGE\",\"\",IF(INDEX('DATA TABLE'!$J$10:$BG$68, MATCH($H$13,'DATA TABLE'!$B$10:$B$68,0), MATCH($J64,'DATA TABLE'!$J$9:$BG$9,0))=\"\",\"\",INDEX('DATA TABLE'!$J$10:$BG$68, MATCH($H$13,'DATA TABLE'!$B$10:$B$68,0), MATCH($J64,'DATA TABLE'!$J$9:$BG$9,0))))","v":""}]
[{"$nulls":6},{"$f":"IF($C$7=\"Background indicators\",G64+1,IF($E$10=Lists!$K$4, G64-1,G64+1))","v":47},null,{"$f":"IF(K65=\"Not scored\",\"\",INDEX('Selected values'!$J$4:$J$54,MATCH($J65,'Selected values'!$H$4:$H$54,0)))","v":46},{"$f":"IF($E$10=Lists!$K$2, INDEX('Selected values'!$B$4:$B$54, MATCH($G65,'Selected values'!$D$4:$D$54,0)), INDEX('Selected values'!$B$4:$B$54,MATCH($G65,'Selected values'!$E$4:$E$54,0)))","v":"New Hampshire"},{"$f":"IFERROR(ROUND(INDEX('Selected values'!$C$4:$C$54, MATCH($J65,'Selected values'!$B$4:$B$54,0)),1), \"Not scored\")","v":43.7},{"$f":"IF(J65=\"AVERAGE\",\"\",IF(INDEX('DATA TABLE'!$J$10:$BG$68, MATCH($H$13,'DATA TABLE'!$B$10:$B$68,0), MATCH($J65,'DATA TABLE'!$J$9:$BG$9,0))=\"\",\"\",INDEX('DATA TABLE'!$J$10:$BG$68, MATCH($H$13,'DATA TABLE'!$B$10:$B$68,0), MATCH($J65,'DATA TABLE'!$J$9:$BG$9,0))))","v":""}]
[{"$nulls":6},{"$f":"IF($C$7=\"Background indicators\",G65+1,IF($E$10=Lists!$K$4, G65-1,G65+1))","v":48},null,{"$f":"IF(K66=\"Not scored\",\"\",INDEX('Selected values'!$J$4:$J$54,MATCH($J66,'Selected values'!$H$4:$H$54,0)))","v":47},{"$f":"IF($E$10=Lists!$K$2, INDEX('Selected values'!$B$4:$B$54, MATCH($G66,'Selected values'!$D$4:$D$54,0)), INDEX('Selected values'!$B$4:$B$54,MATCH($G66,'Selected values'!$E$4:$E$54,0)))","v":"South Carolina"},{"$f":"IFERROR(ROUND(INDEX('Selected values'!$C$4:$C$54, MATCH($J66,'Selected values'!$B$4:$B$54,0)),1), \"Not scored\")","v":40.3},{"$f":"IF(J66=\"AVERAGE\",\"\",IF(INDEX('DATA TABLE'!$J$10:$BG$68, MATCH($H$13,'DATA TABLE'!$B$10:$B$68,0), MATCH($J66,'DATA TABLE'!$J$9:$BG$9,0))=\"\",\"\",INDEX('DATA TABLE'!$J$10:$BG$68, MATCH($H$13,'DATA TABLE'!$B$10:$B$68,0), MATCH($J66,'DATA TABLE'!$J$9:$BG$9,0))))","v":""}]
[{"$nulls":6},{"$f":"IF($C$7=\"Background indicators\",G66+1,IF($E$10=Lists!$K$4, G66-1,G66+1))","v":49},null,{"$f":"IF(K67=\"Not scored\",\"\",INDEX('Selected values'!$J$4:$J$54,MATCH($J67,'Selected values'!$H$4:$H$54,0)))","v":48},{"$f":"IF($E$10=Lists!$K$2, INDEX('Selected values'!$B$4:$B$54, MATCH($G67,'Selected values'!$D$4:$D$54,0)), INDEX('Selected values'!$B$4:$B$54,MATCH($G67,'Selected values'!$E$4:$E$54,0)))","v":"Georgia"},{"$f":"IFERROR(ROUND(INDEX('Selected values'!$C$4:$C$54, MATCH($J67,'Selected values'!$B$4:$B$54,0)),1), \"Not scored\")","v":39.8},{"$f":"IF(J67=\"AVERAGE\",\"\",IF(INDEX('DATA TABLE'!$J$10:$BG$68, MATCH($H$13,'DATA TABLE'!$B$10:$B$68,0), MATCH($J67,'DATA TABLE'!$J$9:$BG$9,0))=\"\",\"\",INDEX('DATA TABLE'!$J$10:$BG$68, MATCH($H$13,'DATA TABLE'!$B$10:$B$68,0), MATCH($J67,'DATA TABLE'!$J$9:$BG$9,0))))","v":""}]
[{"$nulls":6},{"$f":"IF($C$7=\"Background indicators\",G67+1,IF($E$10=Lists!$K$4, G67-1,G67+1))","v":50},null,{"$f":"IF(K68=\"Not scored\",\"\",INDEX('Selected values'!$J$4:$J$54,MATCH($J68,'Selected values'!$H$4:$H$54,0)))","v":49},{"$f":"IF($E$10=Lists!$K$2, INDEX('Selected values'!$B$4:$B$54, MATCH($G68,'Selected values'!$D$4:$D$54,0)), INDEX('Selected values'!$B$4:$B$54,MATCH($G68,'Selected values'!$E$4:$E$54,0)))","v":"Arizona"},{"$f":"IFERROR(ROUND(INDEX('Selected values'!$C$4:$C$54, MATCH($J68,'Selected values'!$B$4:$B$54,0)),1), \"Not scored\")","v":38.8},{"$f":"IF(J68=\"AVERAGE\",\"\",IF(INDEX('DATA TABLE'!$J$10:$BG$68, MATCH($H$13,'DATA TABLE'!$B$10:$B$68,0), MATCH($J68,'DATA TABLE'!$J$9:$BG$9,0))=\"\",\"\",INDEX('DATA TABLE'!$J$10:$BG$68, MATCH($H$13,'DATA TABLE'!$B$10:$B$68,0), MATCH($J68,'DATA TABLE'!$J$9:$BG$9,0))))","v":""}]
[{"$nulls":6},{"$f":"IF($C$7=\"Background indicators\",G68+1,IF($E$10=Lists!$K$4, G68-1,G68+1))","v":51},null,{"$f":"IF(K69=\"Not scored\",\"\",INDEX('Selected values'!$J$4:$J$54,MATCH($J69,'Selected values'!$H$4:$H$54,0)))","v":50},{"$f":"IF($E$10=Lists!$K$2, INDEX('Selected values'!$B$4:$B$54, MATCH($G69,'Selected values'!$D$4:$D$54,0)), INDEX('Selected values'!$B$4:$B$54,MATCH($G69,'Selected values'!$E$4:$E$54,0)))","v":"Kansas"},{"$f":"IFERROR(ROUND(INDEX('Selected values'!$C$4:$C$54, MATCH($J69,'Selected values'!$B$4:$B$54,0)),1), \"Not scored\")","v":38.1},{"$f":"IF(C7=\"Background indicators\",\"\",IF(J69=\"AVERAGE\",\"\",IF(INDEX('DATA TABLE'!$J$10:$BG$68, MATCH($H$13,'DATA TABLE'!$B$10:$B$68,0), MATCH($J69,'DATA TABLE'!$J$9:$BG$9,0))=\"\",\"\",INDEX('DATA TABLE'!$J$10:$BG$68, MATCH($H$13,'DATA TABLE'!$B$10:$B$68,0), MATCH($J69,'DATA TABLE'!$J$9:$BG$9,0)))))","v":""}]
[]
[{"$nulls":7},"'=' denotes tied rank"]
[{"$nulls":7},"Average = mean score for all states shown in table"]
[]
[{"$nulls":8},"Scores 80-100 - Areas of strength",null,80]
[{"$nulls":8},"Scores 60-79",null,60]
[{"$nulls":8},"Scores 40-59",null,40]
[{"$nulls":8},"Scores 20-39",null,20]
[{"$nulls":8},"Scores 0-19 - Areas of development",null,0]

{"sheet":"STATES","index":4,"n_rows":96,"n_cols":10,"rows_kept":96,"merged":[[38,2,38,9],[39,2,39,9],[52,2,52,9],[55,2,55,9],[56,2,56,9],[61,2,61,9],[63,2,63,9],[67,2,67,9],[68,2,68,9],[71,2,71,9],[73,2,73,9]]}
[null,null,{"$f":"HOME!B7","v":"THE UNITED STATES OBESITY RESPONSE INDEX"}]
[]
[]
[]
[]
[null,null,"SELECT STATE"]
[null,null,"Alabama"]
[]
[]
[null,null,{"$f":"C7","v":"Alabama"}]
[]
[null,null,"Scores 80-100 - Areas of strength",null,80]
[null,null,"Scores 60-79",null,60]
[null,null,"Scores 40-59",null,40]
[null,null,"Scores 20-39",null,20]
[null,null,"Scores 0-19 - Areas of development",null,0]
[]
[null,null,"Overall pillar and subpillar scores"]
[]
[{"$nulls":4},"Score"]
[{"$nulls":4}," 0-100, where 100 = strongest obesity response"]
[null,0,{"$f":"INDEX(Lists!$H$2:$H$59,MATCH($B22,Lists!$F$2:$F$59,0))","v":"OVERALL"},null,{"$f":"ROUND(INDEX('SCORE TABLE'!$F$10:$BC$45, MATCH($B22,'SCORE TABLE'!$B$10:$B$45,0), MATCH($C$10,'SCORE TABLE'!$F$9:$BC$9,0)),1)","v":43.7}]
[null,1,{"$f":"INDEX(Lists!$H$2:$H$59,MATCH($B23,Lists!$F$2:$F$59,0))","v":"1) Policy and governance"},null,{"$f":"ROUND(INDEX('SCORE TABLE'!$F$10:$BC$45, MATCH($B23,'SCORE TABLE'!$B$10:$B$45,0), MATCH($C$10,'SCORE TABLE'!$F$9:$BC$9,0)),1)","v":28.3}]
[null,1.1,{"$f":"INDEX(Lists!$H$2:$H$59,MATCH($B24,Lists!$F$2:$F$59,0))","v":"1.1) Obesity-related policy"},null,{"$f":"ROUND(INDEX('SCORE TABLE'!$F$10:$BC$45, MATCH($B24,'SCORE TABLE'!$B$10:$B$45,0), MATCH($C$10,'SCORE TABLE'!$F$9:$BC$9,0)),1)","v":31.7}]
[null,1.2,{"$f":"INDEX(Lists!$H$2:$H$59,MATCH($B25,Lists!$F$2:$F$59,0))","v":"1.2) Availability and affordability of obesity-related care"},null,{"$f":"ROUND(INDEX('SCORE TABLE'!$F$10:$BC$45, MATCH($B25,'SCORE TABLE'!$B$10:$B$45,0), MATCH($C$10,'SCORE TABLE'!$F$9:$BC$9,0)),1)","v":{"v":25,"d":"25.0"}}]
[null,2,{"$f":"INDEX(Lists!$H$2:$H$59,MATCH($B26,Lists!$F$2:$F$59,0))","v":"2) Food quality and access"},null,{"$f":"ROUND(INDEX('SCORE TABLE'!$F$10:$BC$45, MATCH($B26,'SCORE TABLE'!$B$10:$B$45,0), MATCH($C$10,'SCORE TABLE'!$F$9:$BC$9,0)),1)","v":45.8}]
[null,2.1,{"$f":"INDEX(Lists!$H$2:$H$59,MATCH($B27,Lists!$F$2:$F$59,0))","v":"2.1) Food access and affordability"},null,{"$f":"ROUND(INDEX('SCORE TABLE'!$F$10:$BC$45, MATCH($B27,'SCORE TABLE'!$B$10:$B$45,0), MATCH($C$10,'SCORE TABLE'!$F$9:$BC$9,0)),1)","v":70.7}]
[null,2.2,{"$f":"INDEX(Lists!$H$2:$H$59,MATCH($B28,Lists!$F$2:$F$59,0))","v":"2.2) Nutrition regulation"},null,{"$f":"ROUND(INDEX('SCORE TABLE'!$F$10:$BC$45, MATCH($B28,'SCORE TABLE'!$B$10:$B$45,0), MATCH($C$10,'SCORE TABLE'!$F$9:$BC$9,0)),1)","v":{"v":0,"d":"0.0"}}]
[null,2.3,{"$f":"INDEX(Lists!$H$2:$H$59,MATCH($B29,Lists!$F$2:$F$59,0))","v":"2.3) Nutrition in schools"},null,{"$f":"ROUND(INDEX('SCORE TABLE'!$F$10:$BC$45, MATCH($B29,'SCORE TABLE'!$B$10:$B$45,0), MATCH($C$10,'SCORE TABLE'!$F$9:$BC$9,0)),1)","v":66.7}]
[null,3,{"$f":"INDEX(Lists!$H$2:$H$59,MATCH($B30,Lists!$F$2:$F$59,0))","v":"3) Physical activity"},null,{"$f":"ROUND(INDEX('SCORE TABLE'!$F$10:$BC$45, MATCH($B30,'SCORE TABLE'!$B$10:$B$45,0), MATCH($C$10,'SCORE TABLE'!$F$9:$BC$9,0)),1)","v":56.9}]
[null,3.1,{"$f":"INDEX(Lists!$H$2:$H$59,MATCH($B31,Lists!$F$2:$F$59,0))","v":"3.1) Physical activity among the population"},null,{"$f":"ROUND(INDEX('SCORE TABLE'!$F$10:$BC$45, MATCH($B31,'SCORE TABLE'!$B$10:$B$45,0), MATCH($C$10,'SCORE TABLE'!$F$9:$BC$9,0)),1)","v":63.8}]
[null,3.2,{"$f":"INDEX(Lists!$H$2:$H$59,MATCH($B32,Lists!$F$2:$F$59,0))","v":"3.2) Physical activity among children"},null,{"$f":"ROUND(INDEX('SCORE TABLE'!$F$10:$BC$45, MATCH($B32,'SCORE TABLE'!$B$10:$B$45,0), MATCH($C$10,'SCORE TABLE'!$F$9:$BC$9,0)),1)","v":{"v":50,"d":"50.0"}}]
[]
[]
[null,null,"Detailed scorecard"]
[]
[{"$nulls":4},"Score",null,"Data"]
[{"$nulls":4}," 0-100, where 100 = strongest obesity response"]
[null,1,{"$f":"INDEX(Lists!$H$2:$H$59,MATCH($B39,Lists!$F$2:$F$59,0))","v":"1) Policy and governance"},{"$f":"INDEX(Lists!$H$2:$H$59,MATCH($B39,Lists!$F$2:$F$59,0))","v":"1) Policy and governance"},{"$f":"INDEX(Lists!$H$2:$H$59,MATCH($B39,Lists!$F$2:$F$59,0))","v":"1) Policy and governance"},{"$f":"INDEX(Lists!$H$2:$H$59,MATCH($B39,Lists!$F$2:$F$59,0))","v":"1) Policy and governance"},{"$f":"INDEX(Lists!$H$2:$H$59,MATCH($B39,Lists!$F$2:$F$59,0))","v":"1) Policy and governance"},{"$f":"INDEX(Lists!$H$2:$H$59,MATCH($B39,Lists!$F$2:$F$59,0))","v":"1) Policy and governance"},{"$f":"INDEX(Lists!$H$2:$H$59,MATCH($B39,Lists!$F$2:$F$59,0))","v":"1) Policy and governance"},{"$f":"INDEX(Lists!$H$2:$H$59,MATCH($B39,Lists!$F$2:$F$59,0))","v":"1) Policy and governance"}]
[null,1.1,{"$f":"INDEX(Lists!$H$2:$H$59,MATCH($B40,Lists!$F$2:$F$59,0))","v":"1.1) Obesity-related policy"},{"$f":"INDEX(Lists!$H$2:$H$59,MATCH($B40,Lists!$F$2:$F$59,0))","v":"1.1) Obesity-related policy"},{"$f":"INDEX(Lists!$H$2:$H$59,MATCH($B40,Lists!$F$2:$F$59,0))","v":"1.1) Obesity-related policy"},{"$f":"INDEX(Lists!$H$2:$H$59,MATCH($B40,Lists!$F$2:$F$59,0))","v":"1.1) Obesity-related policy"},{"$f":"INDEX(Lists!$H$2:$H$59,MATCH($B40,Lists!$F$2:$F$59,0))","v":"1.1) Obesity-related policy"},{"$f":"INDEX(Lists!$H$2:$H$59,MATCH($B40,Lists!$F$2:$F$59,0))","v":"1.1) Obesity-related policy"},{"$f":"INDEX(Lists!$H$2:$H$59,MATCH($B40,Lists!$F$2:$F$59,0))","v":"1.1) Obesity-related policy"},{"$f":"INDEX(Lists!$H$2:$H$59,MATCH($B40,Lists!$F$2:$F$59,0))","v":"1.1) Obesity-related policy"}]
[null,"1.1.1",{"$f":"INDEX(Lists!$H$2:$H$59,MATCH($B41,Lists!$F$2:$F$59,0))","v":"1.1.1) Health policy/strategy/plan that includes obesity"},null,{"$f":"IFERROR(ROUND(INDEX('SCORE TABLE'!$F$10:$BC$45, MATCH($B41,'SCORE TABLE'!$B$10:$B$45,0), MATCH($C$10,'SCORE TABLE'!$F$9:$BC$9,0)),1),\"Not scored\")","v":{"v":0,"d":"0.0"}},null,{"$f":"IF(INDEX('DATA TABLE'!$J$10:$BG$68, MATCH($B41,'DATA TABLE'!$B$10:$B$68,0), MATCH($C$10,'DATA TABLE'!$J$9:$BG$9,0))=\"\",\"\",INDEX('DATA TABLE'!$J$10:$BG$68, MATCH($B41,'DATA TABLE'!$B$10:$B$68,0), MATCH($C$10,'DATA TABLE'!$J$9:$BG$9,0)))","v":0},{"$f":"IF(INDEX(Data_summary!$G$3:$BD$38, MATCH($B41,Data_summary!$C$3:$C$38,0),MATCH($C$10,Data_summary!$G$2:$BD$2,0))=\"\",\"\",INDEX(Data_summary!$G$3:$BD$38, MATCH($B41,Data_summary!$C$3:$C$38,0),MATCH($C$10,Data_summary!$G$2:$BD$2,0)))","v":"While obesity was identified as a priority area in the 2015 State of Alabama Community Health Improvement Plan - which was valid from 2015 to 2019 - obesity is not included among the priority areas in the 2024-2029 State Health Improvement Plan (Alabama Department of Public Health, State Health Improvement Plan 2024-2029, 2024)."},null,{"$f":"IF(INDEX('DATA TABLE'!$G$10:$G$68,MATCH($B41,'DATA TABLE'!$B$10:$B$68,0))=\"\",CONCATENATE(\"(\",INDEX('DATA TABLE'!$E$10:$E$68,MATCH($B41,'DATA TABLE'!$B$10:$B$68,0)),\")\"), CONCATENATE(INDEX('DATA TABLE'!$G$10:$G$68,MATCH($B41,'DATA TABLE'!$B$10:$B$68,0)),\" (\",INDEX('DATA TABLE'!$E$10:$E$68,MATCH($B41,'DATA TABLE'!$B$10:$B$68,0)),\")\"))","v":"Qualitative rating 0-1; 1=best (Economist Impact research)"}]
[null,"1.1.2",{"$f":"INDEX(Lists!$H$2:$H$59,MATCH($B42,Lists!$F$2:$F$59,0))","v":"1.1.2) Definition of obesity"},null,{"$f":"IFERROR(ROUND(INDEX('SCORE TABLE'!$F$10:$BC$45, MATCH($B42,'SCORE TABLE'!$B$10:$B$45,0), MATCH($C$10,'SCORE TABLE'!$F$9:$BC$9,0)),1),\"Not scored\")","v":{"v":100,"d":"100.0"}},null,{"$f":"IF(INDEX('DATA TABLE'!$J$10:$BG$68, MATCH($B42,'DATA TABLE'!$B$10:$B$68,0), MATCH($C$10,'DATA TABLE'!$J$9:$BG$9,0))=\"\",\"\",INDEX('DATA TABLE'!$J$10:$BG$68, MATCH($B42,'DATA TABLE'!$B$10:$B$68,0), MATCH($C$10,'DATA TABLE'!$J$9:$BG$9,0)))","v":2},{"$f":"IF(INDEX(Data_summary!$G$3:$BD$38, MATCH($B42,Data_summary!$C$3:$C$38,0),MATCH($C$10,Data_summary!$G$2:$BD$2,0))=\"\",\"\",INDEX(Data_summary!$G$3:$BD$38, MATCH($B42,Data_summary!$C$3:$C$38,0),MATCH($C$10,Data_summary!$G$2:$BD$2,0)))","v":"Alabama's state-level plan for reducing the prevalence of obesity - the Alabama Physical Activity and Nutrition Plan 2023-2033 - defines obesity as a chronic disease and connects obesity to its related chronic diseases, including heart disease, cancer, stroke and diabetes (Alabama Wellness Alliance, Alabama Physical Activity and Nutrition Plan 2023-2033, 2022)."},null,{"$f":"IF(INDEX('DATA TABLE'!$G$10:$G$68,MATCH($B42,'DATA TABLE'!$B$10:$B$68,0))=\"\",CONCATENATE(\"(\",INDEX('DATA TABLE'!$E$10:$E$68,MATCH($B42,'DATA TABLE'!$B$10:$B$68,0)),\")\"), CONCATENATE(INDEX('DATA TABLE'!$G$10:$G$68,MATCH($B42,'DATA TABLE'!$B$10:$B$68,0)),\" (\",INDEX('DATA TABLE'!$E$10:$E$68,MATCH($B42,'DATA TABLE'!$B$10:$B$68,0)),\")\"))","v":"Qualitative rating 0-2; 2=best (Economist Impact research)"}]
[null,"1.1.3",{"$f":"INDEX(Lists!$H$2:$H$59,MATCH($B43,Lists!$F$2:$F$59,0))","v":"1.1.3) Obesity-related policy/strategy/plan"},null,{"$f":"IFERROR(ROUND(INDEX('SCORE TABLE'!$F$10:$BC$45, MATCH($B43,'SCORE TABLE'!$B$10:$B$45,0), MATCH($C$10,'SCORE TABLE'!$F$9:$BC$9,0)),1),\"Not scored\")","v":58.3},null,{"$f":"IF(INDEX('DATA TABLE'!$J$10:$BG$68, MATCH($B43,'DATA TABLE'!$B$10:$B$68,0), MATCH($C$10,'DATA TABLE'!$J$9:$BG$9,0))=\"\",\"\",INDEX('DATA TABLE'!$J$10:$BG$68, MATCH($B43,'DATA TABLE'!$B$10:$B$68,0), MATCH($C$10,'DATA TABLE'!$J$9:$BG$9,0)))","v":""},{"$f":"IF(INDEX(Data_summary!$G$3:$BD$38, MATCH($B43,Data_summary!$C$3:$C$38,0),MATCH($C$10,Data_summary!$G$2:$BD$2,0))=\"\",\"\",INDEX(Data_summary!$G$3:$BD$38, MATCH($B43,Data_summary!$C$3:$C$38,0),MATCH($C$10,Data_summary!$G$2:$BD$2,0)))","v":""},null,{"$f":"IF(INDEX('DATA TABLE'!$G$10:$G$68,MATCH($B43,'DATA TABLE'!$B$10:$B$68,0))=\"\",CONCATENATE(\"(\",INDEX('DATA TABLE'!$E$10:$E$68,MATCH($B43,'DATA TABLE'!$B$10:$B$68,0)),\")\"), CONCATENATE(INDEX('DATA TABLE'!$G$10:$G$68,MATCH($B43,'DATA TABLE'!$B$10:$B$68,0)),\" (\",INDEX('DATA TABLE'!$E$10:$E$68,MATCH($B43,'DATA TABLE'!$B$10:$B$68,0)),\")\"))","v":"(Economist Impact calculations)"}]
[null,"1.1.3a",{"$f":"INDEX(Lists!$H$2:$H$59,MATCH($B44,Lists!$F$2:$F$59,0))","v":"1.1.3a) Existence of an obesity-related policy/strategy/plan"},null,{"$f":"IFERROR(ROUND(INDEX('SCORE TABLE'!$F$10:$BC$45, MATCH($B44,'SCORE TABLE'!$B$10:$B$45,0), MATCH($C$10,'SCORE TABLE'!$F$9:$BC$9,0)),1),\"Not scored\")","v":{"v":100,"d":"100.0"}},null,{"$f":"IF(INDEX('DATA TABLE'!$J$10:$BG$68, MATCH($B44,'DATA TABLE'!$B$10:$B$68,0), MATCH($C$10,'DATA TABLE'!$J$9:$BG$9,0))=\"\",\"\",INDEX('DATA TABLE'!$J$10:$BG$68, MATCH($B44,'DATA TABLE'!$B$10:$B$68,0), MATCH($C$10,'DATA TABLE'!$J$9:$BG$9,0)))","v":2},{"$f":"IF(INDEX(Data_summary!$G$3:$BD$38, MATCH($B44,Data_summary!$C$3:$C$38,0),MATCH($C$10,Data_summary!$G$2:$BD$2,0))=\"\",\"\",INDEX(Data_summary!$G$3:$BD$38, MATCH($B44,Data_summary!$C$3:$C$38,0),MATCH($C$10,Data_summary!$G$2:$BD$2,0)))","v":"Alabama has a valid state-level plan in place containing specific goals and strategies for reducing obesity prevalence - the Alabama Physical Activity and Nutrition Plan 2023-2033 (Alabama Wellness Alliance, Alabama Physical Activity and Nutrition Plan 2023-2033, 2022)."},null,{"$f":"IF(INDEX('DATA TABLE'!$G$10:$G$68,MATCH($B44,'DATA TABLE'!$B$10:$B$68,0))=\"\",CONCATENATE(\"(\",INDEX('DATA TABLE'!$E$10:$E$68,MATCH($B44,'DATA TABLE'!$B$10:$B$68,0)),\")\"), CONCATENATE(INDEX('DATA TABLE'!$G$10:$G$68,MATCH($B44,'DATA TABLE'!$B$10:$B$68,0)),\" (\",INDEX('DATA TABLE'!$E$10:$E$68,MATCH($B44,'DATA TABLE'!$B$10:$B$68,0)),\")\"))","v":"Qualitative rating 0-2; 2=best (Economist Impact research)"}]
[null,"1.1.3b",{"$f":"INDEX(Lists!$H$2:$H$59,MATCH($B45,Lists!$F$2:$F$59,0))","v":"1.1.3b) Engagement with stakeholders during development"},null,{"$f":"IFERROR(ROUND(INDEX('SCORE TABLE'!$F$10:$BC$45, MATCH($B45,'SCORE TABLE'!$B$10:$B$45,0), MATCH($C$10,'SCORE TABLE'!$F$9:$BC$9,0)),1),\"Not scored\")","v":66.7},null,{"$f":"IF(INDEX('DATA TABLE'!$J$10:$BG$68, MATCH($B45,'DATA TABLE'!$B$10:$B$68,0), MATCH($C$10,'DATA TABLE'!$J$9:$BG$9,0))=\"\",\"\",INDEX('DATA TABLE'!$J$10:$BG$68, MATCH($B45,'DATA TABLE'!$B$10:$B$68,0), MATCH($C$10,'DATA TABLE'!$J$9:$BG$9,0)))","v":2},{"$f":"IF(INDEX(Data_summary!$G$3:$BD$38, MATCH($B45,Data_summary!$C$3:$C$38,0),MATCH($C$10,Data_summary!$G$2:$BD$2,0))=\"\",\"\",INDEX(Data_summary!$G$3:$BD$38, MATCH($B45,Data_summary!$C$3:$C$38,0),MATCH($C$10,Data_summary!$G$2:$BD$2,0)))","v":"The development of Alabama's state-level plan for reducing the prevalence of obesity - the Alabama Physical Activity and Nutrition Plan 2023-2033 - involved stakeholders from multiple sectors, including representatives from healthcare, education, business/industry, agriculture, public health, transportation/community planning, recreation/sports, and faith-based organisations. However, there is no evidence that individuals living with obesity were consulted (Alabama Wellness Alliance, Alabama Physical Activity and Nutrition Plan 2023-2033, 2022)."},null,{"$f":"IF(INDEX('DATA TABLE'!$G$10:$G$68,MATCH($B45,'DATA TABLE'!$B$10:$B$68,0))=\"\",CONCATENATE(\"(\",INDEX('DATA TABLE'!$E$10:$E$68,MATCH($B45,'DATA TABLE'!$B$10:$B$68,0)),\")\"), CONCATENATE(INDEX('DATA TABLE'!$G$10:$G$68,MATCH($B45,'DATA TABLE'!$B$10:$B$68,0)),\" (\",INDEX('DATA TABLE'!$E$10:$E$68,MATCH($B45,'DATA TABLE'!$B$10:$B$68,0)),\")\"))","v":"Qualitative rating 0-3; 3=best (Economist Impact research)"}]
[null,"1.1.3c",{"$f":"INDEX(Lists!$H$2:$H$59,MATCH($B46,Lists!$F$2:$F$59,0))","v":"1.1.3c) Measures for obesity prevention"},null,{"$f":"IFERROR(ROUND(INDEX('SCORE TABLE'!$F$10:$BC$45, MATCH($B46,'SCORE TABLE'!$B$10:$B$45,0), MATCH($C$10,'SCORE TABLE'!$F$9:$BC$9,0)),1),\"Not scored\")","v":{"v":100,"d":"100.0"}},null,{"$f":"IF(INDEX('DATA TABLE'!$J$10:$BG$68, MATCH($B46,'DATA TABLE'!$B$10:$B$68,0), MATCH($C$10,'DATA TABLE'!$J$9:$BG$9,0))=\"\",\"\",INDEX('DATA TABLE'!$J$10:$BG$68, MATCH($B46,'DATA TABLE'!$B$10:$B$68,0), MATCH($C$10,'DATA TABLE'!$J$9:$BG$9,0)))","v":3},{"$f":"IF(INDEX(Data_summary!$G$3:$BD$38, MATCH($B46,Data_summary!$C$3:$C$38,0),MATCH($C$10,Data_summary!$G$2:$BD$2,0))=\"\",\"\",INDEX(Data_summary!$G$3:$BD$38, MATCH($B46,Data_summary!$C$3:$C$38,0),MATCH($C$10,Data_summary!$G$2:$BD$2,0)))","v":"Alabama's state-level plan for reducing the prevalence of obesity - the Alabama Physical Activity and Nutrition Plan 2023-2033 - contains several measures for obesity prevention across the population, with specific targets, implementation strategies and methods of evaluation (Alabama Wellness Alliance, Alabama Physical Activity and Nutrition Plan 2023-2033, 2022)."},null,{"$f":"IF(INDEX('DATA TABLE'!$G$10:$G$68,MATCH($B46,'DATA TABLE'!$B$10:$B$68,0))=\"\",CONCATENATE(\"(\",INDEX('DATA TABLE'!$E$10:$E$68,MATCH($B46,'DATA TABLE'!$B$10:$B$68,0)),\")\"), CONCATENATE(INDEX('DATA TABLE'!$G$10:$G$68,MATCH($B46,'DATA TABLE'!$B$10:$B$68,0)),\" (\",INDEX('DATA TABLE'!$E$10:$E$68,MATCH($B46,'DATA TABLE'!$B$10:$B$68,0)),\")\"))","v":"Qualitative rating 0-3; 3=best (Economist Impact research)"}]
[null,"1.1.3d",{"$f":"INDEX(Lists!$H$2:$H$59,MATCH($B47,Lists!$F$2:$F$59,0))","v":"1.1.3d) Measures for obesity management"},null,{"$f":"IFERROR(ROUND(INDEX('SCORE TABLE'!$F$10:$BC$45, MATCH($B47,'SCORE TABLE'!$B$10:$B$45,0), MATCH($C$10,'SCORE TABLE'!$F$9:$BC$9,0)),1),\"Not scored\")","v":{"v":0,"d":"0.0"}},null,{"$f":"IF(INDEX('DATA TABLE'!$J$10:$BG$68, MATCH($B47,'DATA TABLE'!$B$10:$B$68,0), MATCH($C$10,'DATA TABLE'!$J$9:$BG$9,0))=\"\",\"\",INDEX('DATA TABLE'!$J$10:$BG$68, MATCH($B47,'DATA TABLE'!$B$10:$B$68,0), MATCH($C$10,'DATA TABLE'!$J$9:$BG$9,0)))","v":0},{"$f":"IF(INDEX(Data_summary!$G$3:$BD$38, MATCH($B47,Data_summary!$C$3:$C$38,0),MATCH($C$10,Data_summary!$G$2:$BD$2,0))=\"\",\"\",INDEX(Data_summary!$G$3:$BD$38, MATCH($B47,Data_summary!$C$3:$C$38,0),MATCH($C$10,Data_summary!$G$2:$BD$2,0)))","v":"Alabama's state-level plan for reducing the prevalence of obesity - the Alabama Physical Activity and Nutrition Plan 2023-2033 - does not contain measures for obesity management (Alabama Wellness Alliance, Alabama Physical Activity and Nutrition Plan 2023-2033, 2022)."},null,{"$f":"IF(INDEX('DATA TABLE'!$G$10:$G$68,MATCH($B47,'DATA TABLE'!$B$10:$B$68,0))=\"\",CONCATENATE(\"(\",INDEX('DATA TABLE'!$E$10:$E$68,MATCH($B47,'DATA TABLE'!$B$10:$B$68,0)),\")\"), CONCATENATE(INDEX('DATA TABLE'!$G$10:$G$68,MATCH($B47,'DATA TABLE'!$B$10:$B$68,0)),\" (\",INDEX('DATA TABLE'!$E$10:$E$68,MATCH($B47,'DATA TABLE'!$B$10:$B$68,0)),\")\"))","v":"Qualitative rating 0-3; 3=best (Economist Impact research)"}]
[null,"1.1.3e",{"$f":"INDEX(Lists!$H$2:$H$59,MATCH($B48,Lists!$F$2:$F$59,0))","v":"1.1.3e) Targets for obesity prevalence reduction"},null,{"$f":"IFERROR(ROUND(INDEX('SCORE TABLE'!$F$10:$BC$45, MATCH($B48,'SCORE TABLE'!$B$10:$B$45,0), MATCH($C$10,'SCORE TABLE'!$F$9:$BC$9,0)),1),\"Not scored\")","v":{"v":0,"d":"0.0"}},null,{"$f":"IF(INDEX('DATA TABLE'!$J$10:$BG$68, MATCH($B48,'DATA TABLE'!$B$10:$B$68,0), MATCH($C$10,'DATA TABLE'!$J$9:$BG$9,0))=\"\",\"\",INDEX('DATA TABLE'!$J$10:$BG$68, MATCH($B48,'DATA TABLE'!$B$10:$B$68,0), MATCH($C$10,'DATA TABLE'!$J$9:$BG$9,0)))","v":0},{"$f":"IF(INDEX(Data_summary!$G$3:$BD$38, MATCH($B48,Data_summary!$C$3:$C$38,0),MATCH($C$10,Data_summary!$G$2:$BD$2,0))=\"\",\"\",INDEX(Data_summary!$G$3:$BD$38, MATCH($B48,Data_summary!$C$3:$C$38,0),MATCH($C$10,Data_summary!$G$2:$BD$2,0)))","v":"Alabama's state-level plan for reducing the prevalence of obesity - the Alabama Physical Activity and Nutrition Plan 2023-2033 - does not contain numerical, time-bound targets for obesity prevalence reduction (Alabama Wellness Alliance, Alabama Physical Activity and Nutrition Plan 2023-2033, 2022)."},null,{"$f":"IF(INDEX('DATA TABLE'!$G$10:$G$68,MATCH($B48,'DATA TABLE'!$B$10:$B$68,0))=\"\",CONCATENATE(\"(\",INDEX('DATA TABLE'!$E$10:$E$68,MATCH($B48,'DATA TABLE'!$B$10:$B$68,0)),\")\"), CONCATENATE(INDEX('DATA TABLE'!$G$10:$G$68,MATCH($B48,'DATA TABLE'!$B$10:$B$68,0)),\" (\",INDEX('DATA TABLE'!$E$10:$E$68,MATCH($B48,'DATA TABLE'!$B$10:$B$68,0)),\")\"))","v":"Qualitative rating 0-2; 2=best (Economist Impact research)"}]
[null,"1.1.3f",{"$f":"INDEX(Lists!$H$2:$H$59,MATCH($B49,Lists!$F$2:$F$59,0))","v":"1.1.3f) Focus on vulnerable groups"},null,{"$f":"IFERROR(ROUND(INDEX('SCORE TABLE'!$F$10:$BC$45, MATCH($B49,'SCORE TABLE'!$B$10:$B$45,0), MATCH($C$10,'SCORE TABLE'!$F$9:$BC$9,0)),1),\"Not scored\")","v":{"v":100,"d":"100.0"}},null,{"$f":"IF(INDEX('DATA TABLE'!$J$10:$BG$68, MATCH($B49,'DATA TABLE'!$B$10:$B$68,0), MATCH($C$10,'DATA TABLE'!$J$9:$BG$9,0))=\"\",\"\",INDEX('DATA TABLE'!$J$10:$BG$68, MATCH($B49,'DATA TABLE'!$B$10:$B$68,0), MATCH($C$10,'DATA TABLE'!$J$9:$BG$9,0)))","v":2},{"$f":"IF(INDEX(Data_summary!$G$3:$BD$38, MATCH($B49,Data_summary!$C$3:$C$38,0),MATCH($C$10,Data_summary!$G$2:$BD$2,0))=\"\",\"\",INDEX(Data_summary!$G$3:$BD$38, MATCH($B49,Data_summary!$C$3:$C$38,0),MATCH($C$10,Data_summary!$G$2:$BD$2,0)))","v":"Alabama's state-level plan for reducing the prevalence of obesity - the Alabama Physical Activity and Nutrition Plan 2023-2033 - includes a particular focus on the prevention of obesity in groups at increased risk of developing obesity. The plan explicitly recognises health disparities across marginalised groups and establishes specific, actionable recommendations to improve access to resources and healthy opportunities for at-risk groups (Alabama Wellness Alliance, Alabama Physical Activity and Nutrition Plan 2023-2033, 2022)."},null,{"$f":"IF(INDEX('DATA TABLE'!$G$10:$G$68,MATCH($B49,'DATA TABLE'!$B$10:$B$68,0))=\"\",CONCATENATE(\"(\",INDEX('DATA TABLE'!$E$10:$E$68,MATCH($B49,'DATA TABLE'!$B$10:$B$68,0)),\")\"), CONCATENATE(INDEX('DATA TABLE'!$G$10:$G$68,MATCH($B49,'DATA TABLE'!$B$10:$B$68,0)),\" (\",INDEX('DATA TABLE'!$E$10:$E$68,MATCH($B49,'DATA TABLE'!$B$10:$B$68,0)),\")\"))","v":"Qualitative rating 0-2; 2=best (Economist Impact research)"}]
[null,"1.1.3g",{"$f":"INDEX(Lists!$H$2:$H$59,MATCH($B50,Lists!$F$2:$F$59,0))","v":"1.1.3g) Obesity-related stigma and discrimination"},null,{"$f":"IFERROR(ROUND(INDEX('SCORE TABLE'!$F$10:$BC$45, MATCH($B50,'SCORE TABLE'!$B$10:$B$45,0), MATCH($C$10,'SCORE TABLE'!$F$9:$BC$9,0)),1),\"Not scored\")","v":{"v":0,"d":"0.0"}},null,{"$f":"IF(INDEX('DATA TABLE'!$J$10:$BG$68, MATCH($B50,'DATA TABLE'!$B$10:$B$68,0), MATCH($C$10,'DATA TABLE'!$J$9:$BG$9,0))=\"\",\"\",INDEX('DATA TABLE'!$J$10:$BG$68, MATCH($B50,'DATA TABLE'!$B$10:$B$68,0), MATCH($C$10,'DATA TABLE'!$J$9:$BG$9,0)))","v":0},{"$f":"IF(INDEX(Data_summary!$G$3:$BD$38, MATCH($B50,Data_summary!$C$3:$C$38,0),MATCH($C$10,Data_summary!$G$2:$BD$2,0))=\"\",\"\",INDEX(Data_summary!$G$3:$BD$38, MATCH($B50,Data_summary!$C$3:$C$38,0),MATCH($C$10,Data_summary!$G$2:$BD$2,0)))","v":"Alabama's state-level plan for reducing obesity prevalence - the Alabama Physical Activity and Nutrition Plan 2023-2033 - does not mention obesity-related stigma or discrimination (Alabama Wellness Alliance, Alabama Physical Activity and Nutrition Plan 2023-2033, 2022)."},null,{"$f":"IF(INDEX('DATA TABLE'!$G$10:$G$68,MATCH($B50,'DATA TABLE'!$B$10:$B$68,0))=\"\",CONCATENATE(\"(\",INDEX('DATA TABLE'!$E$10:$E$68,MATCH($B50,'DATA TABLE'!$B$10:$B$68,0)),\")\"), CONCATENATE(INDEX('DATA TABLE'!$G$10:$G$68,MATCH($B50,'DATA TABLE'!$B$10:$B$68,0)),\" (\",INDEX('DATA TABLE'!$E$10:$E$68,MATCH($B50,'DATA TABLE'!$B$10:$B$68,0)),\")\"))","v":"Qualitative rating 0-2; 2=best (Economist Impact research)"}]
[null,"1.1.4",{"$f":"INDEX(Lists!$H$2:$H$59,MATCH($B51,Lists!$F$2:$F$59,0))","v":"1.1.4) Obesity-related funding"},null,{"$f":"IFERROR(ROUND(INDEX('SCORE TABLE'!$F$10:$BC$45, MATCH($B51,'SCORE TABLE'!$B$10:$B$45,0), MATCH($C$10,'SCORE TABLE'!$F$9:$BC$9,0)),1),\"Not scored\")","v":{"v":0,"d":"0.0"}},null,{"$f":"IF(INDEX('DATA TABLE'!$J$10:$BG$68, MATCH($B51,'DATA TABLE'!$B$10:$B$68,0), MATCH($C$10,'DATA TABLE'!$J$9:$BG$9,0))=\"\",\"\",INDEX('DATA TABLE'!$J$10:$BG$68, MATCH($B51,'DATA TABLE'!$B$10:$B$68,0), MATCH($C$10,'DATA TABLE'!$J$9:$BG$9,0)))","v":0},{"$f":"IF(INDEX(Data_summary!$G$3:$BD$38, MATCH($B51,Data_summary!$C$3:$C$38,0),MATCH($C$10,Data_summary!$G$2:$BD$2,0))=\"\",\"\",INDEX(Data_summary!$G$3:$BD$38, MATCH($B51,Data_summary!$C$3:$C$38,0),MATCH($C$10,Data_summary!$G$2:$BD$2,0)))","v":"There is no evidence that Alabama has allocated a dedicated budget or funding for the implementation of the Alabama Physical Activity and Nutrition Plan (ALPAN) 2023-2033, its state-level plan for reducing the prevalence of obesity (Alabama Wellness Alliance, Alabama Physical Activity and Nutrition Plan 2023-2033, 2022)."},null,{"$f":"IF(INDEX('DATA TABLE'!$G$10:$G$68,MATCH($B51,'DATA TABLE'!$B$10:$B$68,0))=\"\",CONCATENATE(\"(\",INDEX('DATA TABLE'!$E$10:$E$68,MATCH($B51,'DATA TABLE'!$B$10:$B$68,0)),\")\"), CONCATENATE(INDEX('DATA TABLE'!$G$10:$G$68,MATCH($B51,'DATA TABLE'!$B$10:$B$68,0)),\" (\",INDEX('DATA TABLE'!$E$10:$E$68,MATCH($B51,'DATA TABLE'!$B$10:$B$68,0)),\")\"))","v":"Qualitative rating 0-1; 1=best (Economist Impact research)"}]
[null,"1.1.5",{"$f":"INDEX(Lists!$H$2:$H$59,MATCH($B52,Lists!$F$2:$F$59,0))","v":"1.1.5) Weight-related discrimination"},null,{"$f":"IFERROR(ROUND(INDEX('SCORE TABLE'!$F$10:$BC$45, MATCH($B52,'SCORE TABLE'!$B$10:$B$45,0), MATCH($C$10,'SCORE TABLE'!$F$9:$BC$9,0)),1),\"Not scored\")","v":{"v":0,"d":"0.0"}},null,{"$f":"IF(INDEX('DATA TABLE'!$J$10:$BG$68, MATCH($B52,'DATA TABLE'!$B$10:$B$68,0), MATCH($C$10,'DATA TABLE'!$J$9:$BG$9,0))=\"\",\"\",INDEX('DATA TABLE'!$J$10:$BG$68, MATCH($B52,'DATA TABLE'!$B$10:$B$68,0), MATCH($C$10,'DATA TABLE'!$J$9:$BG$9,0)))","v":0},{"$f":"IF(INDEX(Data_summary!$G$3:$BD$38, MATCH($B52,Data_summary!$C$3:$C$38,0),MATCH($C$10,Data_summary!$G$2:$BD$2,0))=\"\",\"\",INDEX(Data_summary!$G$3:$BD$38, MATCH($B52,Data_summary!$C$3:$C$38,0),MATCH($C$10,Data_summary!$G$2:$BD$2,0)))","v":"Alabama does not have a state-level law that prohibits weight-based discrimination or classifies weight as a protected characteristic."},null,{"$f":"IF(INDEX('DATA TABLE'!$G$10:$G$68,MATCH($B52,'DATA TABLE'!$B$10:$B$68,0))=\"\",CONCATENATE(\"(\",INDEX('DATA TABLE'!$E$10:$E$68,MATCH($B52,'DATA TABLE'!$B$10:$B$68,0)),\")\"), CONCATENATE(INDEX('DATA TABLE'!$G$10:$G$68,MATCH($B52,'DATA TABLE'!$B$10:$B$68,0)),\" (\",INDEX('DATA TABLE'!$E$10:$E$68,MATCH($B52,'DATA TABLE'!$B$10:$B$68,0)),\")\"))","v":"Qualitative rating 0-1; 1=best (Economist Impact research)"}]
[null,1.2,{"$f":"INDEX(Lists!$H$2:$H$59,MATCH($B53,Lists!$F$2:$F$59,0))","v":"1.2) Availability and affordability of obesity-related care"},{"$f":"INDEX(Lists!$H$2:$H$59,MATCH($B53,Lists!$F$2:$F$59,0))","v":"1.2) Availability and affordability of obesity-related care"},{"$f":"INDEX(Lists!$H$2:$H$59,MATCH($B53,Lists!$F$2:$F$59,0))","v":"1.2) Availability and affordability of obesity-related care"},{"$f":"INDEX(Lists!$H$2:$H$59,MATCH($B53,Lists!$F$2:$F$59,0))","v":"1.2) Availability and affordability of obesity-related care"},{"$f":"INDEX(Lists!$H$2:$H$59,MATCH($B53,Lists!$F$2:$F$59,0))","v":"1.2) Availability and affordability of obesity-related care"},{"$f":"INDEX(Lists!$H$2:$H$59,MATCH($B53,Lists!$F$2:$F$59,0))","v":"1.2) Availability and affordability of obesity-related care"},{"$f":"INDEX(Lists!$H$2:$H$59,MATCH($B53,Lists!$F$2:$F$59,0))","v":"1.2) Availability and affordability of obesity-related care"},{"$f":"INDEX(Lists!$H$2:$H$59,MATCH($B53,Lists!$F$2:$F$59,0))","v":"1.2) Availability and affordability of obesity-related care"}]
[null,"1.2.1",{"$f":"INDEX(Lists!$H$2:$H$59,MATCH($B54,Lists!$F$2:$F$59,0))","v":"1.2.1) Obesity treatment coverage"},null,{"$f":"IFERROR(ROUND(INDEX('SCORE TABLE'!$F$10:$BC$45, MATCH($B54,'SCORE TABLE'!$B$10:$B$45,0), MATCH($C$10,'SCORE TABLE'!$F$9:$BC$9,0)),1),\"Not scored\")","v":{"v":50,"d":"50.0"}},null,{"$f":"IF(INDEX('DATA TABLE'!$J$10:$BG$68, MATCH($B54,'DATA TABLE'!$B$10:$B$68,0), MATCH($C$10,'DATA TABLE'!$J$9:$BG$9,0))=\"\",\"\",INDEX('DATA TABLE'!$J$10:$BG$68, MATCH($B54,'DATA TABLE'!$B$10:$B$68,0), MATCH($C$10,'DATA TABLE'!$J$9:$BG$9,0)))","v":2},{"$f":"IF(INDEX(Data_summary!$G$3:$BD$38, MATCH($B54,Data_summary!$C$3:$C$38,0),MATCH($C$10,Data_summary!$G$2:$BD$2,0))=\"\",\"\",INDEX(Data_summary!$G$3:$BD$38, MATCH($B54,Data_summary!$C$3:$C$38,0),MATCH($C$10,Data_summary!$G$2:$BD$2,0)))","v":"In Alabama, Medicaid covers bariatric surgery and intensive behavioural therapy with limitations (Alabama Medicaid, Frequently Asked Questions - Medicaid Benefits; STOP Obesity Alliance, Medicaid Obesity Coverage State Snapshot: Alabama, 2024)."},null,{"$f":"IF(INDEX('DATA TABLE'!$G$10:$G$68,MATCH($B54,'DATA TABLE'!$B$10:$B$68,0))=\"\",CONCATENATE(\"(\",INDEX('DATA TABLE'!$E$10:$E$68,MATCH($B54,'DATA TABLE'!$B$10:$B$68,0)),\")\"), CONCATENATE(INDEX('DATA TABLE'!$G$10:$G$68,MATCH($B54,'DATA TABLE'!$B$10:$B$68,0)),\" (\",INDEX('DATA TABLE'!$E$10:$E$68,MATCH($B54,'DATA TABLE'!$B$10:$B$68,0)),\")\"))","v":"Qualitative rating 0-4; 4=best (Economist Impact research)"}]
[null,"1.2.2",{"$f":"INDEX(Lists!$H$2:$H$59,MATCH($B55,Lists!$F$2:$F$59,0))","v":"1.2.2) State-level weight loss programmes"},null,{"$f":"IFERROR(ROUND(INDEX('SCORE TABLE'!$F$10:$BC$45, MATCH($B55,'SCORE TABLE'!$B$10:$B$45,0), MATCH($C$10,'SCORE TABLE'!$F$9:$BC$9,0)),1),\"Not scored\")","v":{"v":0,"d":"0.0"}},null,{"$f":"IF(INDEX('DATA TABLE'!$J$10:$BG$68, MATCH($B55,'DATA TABLE'!$B$10:$B$68,0), MATCH($C$10,'DATA TABLE'!$J$9:$BG$9,0))=\"\",\"\",INDEX('DATA TABLE'!$J$10:$BG$68, MATCH($B55,'DATA TABLE'!$B$10:$B$68,0), MATCH($C$10,'DATA TABLE'!$J$9:$BG$9,0)))","v":0},{"$f":"IF(INDEX(Data_summary!$G$3:$BD$38, MATCH($B55,Data_summary!$C$3:$C$38,0),MATCH($C$10,Data_summary!$G$2:$BD$2,0))=\"\",\"\",INDEX(Data_summary!$G$3:$BD$38, MATCH($B55,Data_summary!$C$3:$C$38,0),MATCH($C$10,Data_summary!$G$2:$BD$2,0)))","v":"There is no evidence that Alabama has implemented Healthy Behaviour Incentive Programmes (HBIPs) in Medicaid to encourage weight loss."},null,{"$f":"IF(INDEX('DATA TABLE'!$G$10:$G$68,MATCH($B55,'DATA TABLE'!$B$10:$B$68,0))=\"\",CONCATENATE(\"(\",INDEX('DATA TABLE'!$E$10:$E$68,MATCH($B55,'DATA TABLE'!$B$10:$B$68,0)),\")\"), CONCATENATE(INDEX('DATA TABLE'!$G$10:$G$68,MATCH($B55,'DATA TABLE'!$B$10:$B$68,0)),\" (\",INDEX('DATA TABLE'!$E$10:$E$68,MATCH($B55,'DATA TABLE'!$B$10:$B$68,0)),\")\"))","v":"Qualitative rating 0-1; 1=best (Economist Impact research)"}]
[null,2,{"$f":"INDEX(Lists!$H$2:$H$59,MATCH($B56,Lists!$F$2:$F$59,0))","v":"2) Food quality and access"},{"$f":"INDEX(Lists!$H$2:$H$59,MATCH($B56,Lists!$F$2:$F$59,0))","v":"2) Food quality and access"},{"$f":"INDEX(Lists!$H$2:$H$59,MATCH($B56,Lists!$F$2:$F$59,0))","v":"2) Food quality and access"},{"$f":"INDEX(Lists!$H$2:$H$59,MATCH($B56,Lists!$F$2:$F$59,0))","v":"2) Food quality and access"},{"$f":"INDEX(Lists!$H$2:$H$59,MATCH($B56,Lists!$F$2:$F$59,0))","v":"2) Food quality and access"},{"$f":"INDEX(Lists!$H$2:$H$59,MATCH($B56,Lists!$F$2:$F$59,0))","v":"2) Food quality and access"},{"$f":"INDEX(Lists!$H$2:$H$59,MATCH($B56,Lists!$F$2:$F$59,0))","v":"2) Food quality and access"},{"$f":"INDEX(Lists!$H$2:$H$59,MATCH($B56,Lists!$F$2:$F$59,0))","v":"2) Food quality and access"}]
[null,2.1,{"$f":"INDEX(Lists!$H$2:$H$59,MATCH($B57,Lists!$F$2:$F$59,0))","v":"2.1) Food access and affordability"},{"$f":"INDEX(Lists!$H$2:$H$59,MATCH($B57,Lists!$F$2:$F$59,0))","v":"2.1) Food access and affordability"},{"$f":"INDEX(Lists!$H$2:$H$59,MATCH($B57,Lists!$F$2:$F$59,0))","v":"2.1) Food access and affordability"},{"$f":"INDEX(Lists!$H$2:$H$59,MATCH($B57,Lists!$F$2:$F$59,0))","v":"2.1) Food access and affordability"},{"$f":"INDEX(Lists!$H$2:$H$59,MATCH($B57,Lists!$F$2:$F$59,0))","v":"2.1) Food access and affordability"},{"$f":"INDEX(Lists!$H$2:$H$59,MATCH($B57,Lists!$F$2:$F$59,0))","v":"2.1) Food access and affordability"},{"$f":"INDEX(Lists!$H$2:$H$59,MATCH($B57,Lists!$F$2:$F$59,0))","v":"2.1) Food access and affordability"},{"$f":"INDEX(Lists!$H$2:$H$59,MATCH($B57,Lists!$F$2:$F$59,0))","v":"2.1) Food access and affordability"}]
[null,"2.1.1",{"$f":"INDEX(Lists!$H$2:$H$59,MATCH($B58,Lists!$F$2:$F$59,0))","v":"2.1.1) Level of food security"},null,{"$f":"IFERROR(ROUND(INDEX('SCORE TABLE'!$F$10:$BC$45, MATCH($B58,'SCORE TABLE'!$B$10:$B$45,0), MATCH($C$10,'SCORE TABLE'!$F$9:$BC$9,0)),1),\"Not scored\")","v":{"v":88,"d":"88.0"}},null,{"$f":"IF(INDEX('DATA TABLE'!$J$10:$BG$68, MATCH($B58,'DATA TABLE'!$B$10:$B$68,0), MATCH($C$10,'DATA TABLE'!$J$9:$BG$9,0))=\"\",\"\",INDEX('DATA TABLE'!$J$10:$BG$68, MATCH($B58,'DATA TABLE'!$B$10:$B$68,0), MATCH($C$10,'DATA TABLE'!$J$9:$BG$9,0)))","v":88},{"$f":"IF(INDEX(Data_summary!$G$3:$BD$38, MATCH($B58,Data_summary!$C$3:$C$38,0),MATCH($C$10,Data_summary!$G$2:$BD$2,0))=\"\",\"\",INDEX(Data_summary!$G$3:$BD$38, MATCH($B58,Data_summary!$C$3:$C$38,0),MATCH($C$10,Data_summary!$G$2:$BD$2,0)))","v":"According to the U.S. Department of Agriculture (USDA) Economic Research Service, 88% of households in Alabama are food secure (USDA, Economic Research Service, Household food security in the United States in 2023, 2024)."},null,{"$f":"IF(INDEX('DATA TABLE'!$G$10:$G$68,MATCH($B58,'DATA TABLE'!$B$10:$B$68,0))=\"\",CONCATENATE(\"(\",INDEX('DATA TABLE'!$E$10:$E$68,MATCH($B58,'DATA TABLE'!$B$10:$B$68,0)),\")\"), CONCATENATE(INDEX('DATA TABLE'!$G$10:$G$68,MATCH($B58,'DATA TABLE'!$B$10:$B$68,0)),\" (\",INDEX('DATA TABLE'!$E$10:$E$68,MATCH($B58,'DATA TABLE'!$B$10:$B$68,0)),\")\"))","v":"% of households experiencing food security (United States Department of Agriculture)"}]
[null,"2.1.2",{"$f":"INDEX(Lists!$H$2:$H$59,MATCH($B59,Lists!$F$2:$F$59,0))","v":"2.1.2) Nutrition programmes for lower-income individuals"},null,{"$f":"IFERROR(ROUND(INDEX('SCORE TABLE'!$F$10:$BC$45, MATCH($B59,'SCORE TABLE'!$B$10:$B$45,0), MATCH($C$10,'SCORE TABLE'!$F$9:$BC$9,0)),1),\"Not scored\")","v":53.3},null,{"$f":"IF(INDEX('DATA TABLE'!$J$10:$BG$68, MATCH($B59,'DATA TABLE'!$B$10:$B$68,0), MATCH($C$10,'DATA TABLE'!$J$9:$BG$9,0))=\"\",\"\",INDEX('DATA TABLE'!$J$10:$BG$68, MATCH($B59,'DATA TABLE'!$B$10:$B$68,0), MATCH($C$10,'DATA TABLE'!$J$9:$BG$9,0)))","v":""},{"$f":"IF(INDEX(Data_summary!$G$3:$BD$38, MATCH($B59,Data_summary!$C$3:$C$38,0),MATCH($C$10,Data_summary!$G$2:$BD$2,0))=\"\",\"\",INDEX(Data_summary!$G$3:$BD$38, MATCH($B59,Data_summary!$C$3:$C$38,0),MATCH($C$10,Data_summary!$G$2:$BD$2,0)))","v":""},null,{"$f":"IF(INDEX('DATA TABLE'!$G$10:$G$68,MATCH($B59,'DATA TABLE'!$B$10:$B$68,0))=\"\",CONCATENATE(\"(\",INDEX('DATA TABLE'!$E$10:$E$68,MATCH($B59,'DATA TABLE'!$B$10:$B$68,0)),\")\"), CONCATENATE(INDEX('DATA TABLE'!$G$10:$G$68,MATCH($B59,'DATA TABLE'!$B$10:$B$68,0)),\" (\",INDEX('DATA TABLE'!$E$10:$E$68,MATCH($B59,'DATA TABLE'!$B$10:$B$68,0)),\")\"))","v":"(Economist Impact calculations)"}]
[null,"2.1.2a",{"$f":"INDEX(Lists!$H$2:$H$59,MATCH($B60,Lists!$F$2:$F$59,0))","v":"2.1.2a) Supplemental Nutrition Assistance Program (SNAP): monthly benefit per person, adjusted for regional price parities\n"},null,{"$f":"IFERROR(ROUND(INDEX('SCORE TABLE'!$F$10:$BC$45, MATCH($B60,'SCORE TABLE'!$B$10:$B$45,0), MATCH($C$10,'SCORE TABLE'!$F$9:$BC$9,0)),1),\"Not scored\")","v":25.6},null,{"$f":"IF(INDEX('DATA TABLE'!$J$10:$BG$68, MATCH($B60,'DATA TABLE'!$B$10:$B$68,0), MATCH($C$10,'DATA TABLE'!$J$9:$BG$9,0))=\"\",\"\",INDEX('DATA TABLE'!$J$10:$BG$68, MATCH($B60,'DATA TABLE'!$B$10:$B$68,0), MATCH($C$10,'DATA TABLE'!$J$9:$BG$9,0)))","v":207.07},{"$f":"IF(INDEX(Data_summary!$G$3:$BD$38, MATCH($B60,Data_summary!$C$3:$C$38,0),MATCH($C$10,Data_summary!$G$2:$BD$2,0))=\"\",\"\",INDEX(Data_summary!$G$3:$BD$38, MATCH($B60,Data_summary!$C$3:$C$38,0),MATCH($C$10,Data_summary!$G$2:$BD$2,0)))","v":"The average benefit for SNAP per person in Alabama is 197.83 USD (USDA, SNAP Data Tables, 2024). When adjusted for regional price parities, this is equivalent to 207.07 USD (United States Bureau of Economic Analysis, 2023)."},null,{"$f":"IF(INDEX('DATA TABLE'!$G$10:$G$68,MATCH($B60,'DATA TABLE'!$B$10:$B$68,0))=\"\",CONCATENATE(\"(\",INDEX('DATA TABLE'!$E$10:$E$68,MATCH($B60,'DATA TABLE'!$B$10:$B$68,0)),\")\"), CONCATENATE(INDEX('DATA TABLE'!$G$10:$G$68,MATCH($B60,'DATA TABLE'!$B$10:$B$68,0)),\" (\",INDEX('DATA TABLE'!$E$10:$E$68,MATCH($B60,'DATA TABLE'!$B$10:$B$68,0)),\")\"))","v":"Average monthly SNAP benefit per person (US$), adjusted for regional price parities (United States Department of Agriculture; United States Bureau of Economic Analysis)"}]
[null,"2.1.2b",{"$f":"INDEX(Lists!$H$2:$H$59,MATCH($B61,Lists!$F$2:$F$59,0))","v":"2.1.2b) Supplemental Nutrition Assistance Program (SNAP): participation rate"},null,{"$f":"IFERROR(ROUND(INDEX('SCORE TABLE'!$F$10:$BC$45, MATCH($B61,'SCORE TABLE'!$B$10:$B$45,0), MATCH($C$10,'SCORE TABLE'!$F$9:$BC$9,0)),1),\"Not scored\")","v":{"v":81,"d":"81.0"}},null,{"$f":"IF(INDEX('DATA TABLE'!$J$10:$BG$68, MATCH($B61,'DATA TABLE'!$B$10:$B$68,0), MATCH($C$10,'DATA TABLE'!$J$9:$BG$9,0))=\"\",\"\",INDEX('DATA TABLE'!$J$10:$BG$68, MATCH($B61,'DATA TABLE'!$B$10:$B$68,0), MATCH($C$10,'DATA TABLE'!$J$9:$BG$9,0)))","v":81},{"$f":"IF(INDEX(Data_summary!$G$3:$BD$38, MATCH($B61,Data_summary!$C$3:$C$38,0),MATCH($C$10,Data_summary!$G$2:$BD$2,0))=\"\",\"\",INDEX(Data_summary!$G$3:$BD$38, MATCH($B61,Data_summary!$C$3:$C$38,0),MATCH($C$10,Data_summary!$G$2:$BD$2,0)))","v":"According to the USDA, 81% of eligible participants in Alabama use SNAP (USDA, Reaching Those in Need: Estimates of SNAP Participation Rates in 2020, 2020)."},null,{"$f":"IF(INDEX('DATA TABLE'!$G$10:$G$68,MATCH($B61,'DATA TABLE'!$B$10:$B$68,0))=\"\",CONCATENATE(\"(\",INDEX('DATA TABLE'!$E$10:$E$68,MATCH($B61,'DATA TABLE'!$B$10:$B$68,0)),\")\"), CONCATENATE(INDEX('DATA TABLE'!$G$10:$G$68,MATCH($B61,'DATA TABLE'!$B$10:$B$68,0)),\" (\",INDEX('DATA TABLE'!$E$10:$E$68,MATCH($B61,'DATA TABLE'!$B$10:$B$68,0)),\")\"))","v":"SNAP participation rate (%) (United States Department of Agriculture)"}]
[null,2.2,{"$f":"INDEX(Lists!$H$2:$H$59,MATCH($B62,Lists!$F$2:$F$59,0))","v":"2.2) Nutrition regulation"},{"$f":"INDEX(Lists!$H$2:$H$59,MATCH($B62,Lists!$F$2:$F$59,0))","v":"2.2) Nutrition regulation"},{"$f":"INDEX(Lists!$H$2:$H$59,MATCH($B62,Lists!$F$2:$F$59,0))","v":"2.2) Nutrition regulation"},{"$f":"INDEX(Lists!$H$2:$H$59,MATCH($B62,Lists!$F$2:$F$59,0))","v":"2.2) Nutrition regulation"},{"$f":"INDEX(Lists!$H$2:$H$59,MATCH($B62,Lists!$F$2:$F$59,0))","v":"2.2) Nutrition regulation"},{"$f":"INDEX(Lists!$H$2:$H$59,MATCH($B62,Lists!$F$2:$F$59,0))","v":"2.2) Nutrition regulation"},{"$f":"INDEX(Lists!$H$2:$H$59,MATCH($B62,Lists!$F$2:$F$59,0))","v":"2.2) Nutrition regulation"},{"$f":"INDEX(Lists!$H$2:$H$59,MATCH($B62,Lists!$F$2:$F$59,0))","v":"2.2) Nutrition regulation"}]
[null,"2.2.1",{"$f":"INDEX(Lists!$H$2:$H$59,MATCH($B63,Lists!$F$2:$F$59,0))","v":"2.2.1) Taxes on unhealthy food and beverages"},null,{"$f":"IFERROR(ROUND(INDEX('SCORE TABLE'!$F$10:$BC$45, MATCH($B63,'SCORE TABLE'!$B$10:$B$45,0), MATCH($C$10,'SCORE TABLE'!$F$9:$BC$9,0)),1),\"Not scored\")","v":{"v":0,"d":"0.0"}},null,{"$f":"IF(INDEX('DATA TABLE'!$J$10:$BG$68, MATCH($B63,'DATA TABLE'!$B$10:$B$68,0), MATCH($C$10,'DATA TABLE'!$J$9:$BG$9,0))=\"\",\"\",INDEX('DATA TABLE'!$J$10:$BG$68, MATCH($B63,'DATA TABLE'!$B$10:$B$68,0), MATCH($C$10,'DATA TABLE'!$J$9:$BG$9,0)))","v":0},{"$f":"IF(INDEX(Data_summary!$G$3:$BD$38, MATCH($B63,Data_summary!$C$3:$C$38,0),MATCH($C$10,Data_summary!$G$2:$BD$2,0))=\"\",\"\",INDEX(Data_summary!$G$3:$BD$38, MATCH($B63,Data_summary!$C$3:$C$38,0),MATCH($C$10,Data_summary!$G$2:$BD$2,0)))","v":"Alabama does not levy higher taxes on unhealthy food or beverages than other products for human consumption (Alabama Department of Revenue, Sales and Use Tax Rates)."},null,{"$f":"IF(INDEX('DATA TABLE'!$G$10:$G$68,MATCH($B63,'DATA TABLE'!$B$10:$B$68,0))=\"\",CONCATENATE(\"(\",INDEX('DATA TABLE'!$E$10:$E$68,MATCH($B63,'DATA TABLE'!$B$10:$B$68,0)),\")\"), CONCATENATE(INDEX('DATA TABLE'!$G$10:$G$68,MATCH($B63,'DATA TABLE'!$B$10:$B$68,0)),\" (\",INDEX('DATA TABLE'!$E$10:$E$68,MATCH($B63,'DATA TABLE'!$B$10:$B$68,0)),\")\"))","v":"Qualitative rating 0-2; 2=best (Economist Impact research)"}]
[null,2.3,{"$f":"INDEX(Lists!$H$2:$H$59,MATCH($B64,Lists!$F$2:$F$59,0))","v":"2.3) Nutrition in schools"},{"$f":"INDEX(Lists!$H$2:$H$59,MATCH($B64,Lists!$F$2:$F$59,0))","v":"2.3) Nutrition in schools"},{"$f":"INDEX(Lists!$H$2:$H$59,MATCH($B64,Lists!$F$2:$F$59,0))","v":"2.3) Nutrition in schools"},{"$f":"INDEX(Lists!$H$2:$H$59,MATCH($B64,Lists!$F$2:$F$59,0))","v":"2.3) Nutrition in schools"},{"$f":"INDEX(Lists!$H$2:$H$59,MATCH($B64,Lists!$F$2:$F$59,0))","v":"2.3) Nutrition in schools"},{"$f":"INDEX(Lists!$H$2:$H$59,MATCH($B64,Lists!$F$2:$F$59,0))","v":"2.3) Nutrition in schools"},{"$f":"INDEX(Lists!$H$2:$H$59,MATCH($B64,Lists!$F$2:$F$59,0))","v":"2.3) Nutrition in schools"},{"$f":"INDEX(Lists!$H$2:$H$59,MATCH($B64,Lists!$F$2:$F$59,0))","v":"2.3) Nutrition in schools"}]
[null,"2.3.1",{"$f":"INDEX(Lists!$H$2:$H$59,MATCH($B65,Lists!$F$2:$F$59,0))","v":"2.3.1) School nutrition standards"},null,{"$f":"IFERROR(ROUND(INDEX('SCORE TABLE'!$F$10:$BC$45, MATCH($B65,'SCORE TABLE'!$B$10:$B$45,0), MATCH($C$10,'SCORE TABLE'!$F$9:$BC$9,0)),1),\"Not scored\")","v":{"v":100,"d":"100.0"}},null,{"$f":"IF(INDEX('DATA TABLE'!$J$10:$BG$68, MATCH($B65,'DATA TABLE'!$B$10:$B$68,0), MATCH($C$10,'DATA TABLE'!$J$9:$BG$9,0))=\"\",\"\",INDEX('DATA TABLE'!$J$10:$BG$68, MATCH($B65,'DATA TABLE'!$B$10:$B$68,0), MATCH($C$10,'DATA TABLE'!$J$9:$BG$9,0)))","v":1},{"$f":"IF(INDEX(Data_summary!$G$3:$BD$38, MATCH($B65,Data_summary!$C$3:$C$38,0),MATCH($C$10,Data_summary!$G$2:$BD$2,0))=\"\",\"\",INDEX(Data_summary!$G$3:$BD$38, MATCH($B65,Data_summary!$C$3:$C$38,0),MATCH($C$10,Data_summary!$G$2:$BD$2,0)))","v":"Alabama adheres to federal standards establishing nutritional guidelines for school foods, and publishes detailed meal standards for school meals (Alabama Legislature, Ala. Admin. Code 290-080-030-.01; Alabama Child Nutrition Program, USDA Meal Pattern, 2023)."},null,{"$f":"IF(INDEX('DATA TABLE'!$G$10:$G$68,MATCH($B65,'DATA TABLE'!$B$10:$B$68,0))=\"\",CONCATENATE(\"(\",INDEX('DATA TABLE'!$E$10:$E$68,MATCH($B65,'DATA TABLE'!$B$10:$B$68,0)),\")\"), CONCATENATE(INDEX('DATA TABLE'!$G$10:$G$68,MATCH($B65,'DATA TABLE'!$B$10:$B$68,0)),\" (\",INDEX('DATA TABLE'!$E$10:$E$68,MATCH($B65,'DATA TABLE'!$B$10:$B$68,0)),\")\"))","v":"Qualitative rating 0-1; 1=best (Economist Impact research)"}]
[null,"2.3.2",{"$f":"INDEX(Lists!$H$2:$H$59,MATCH($B66,Lists!$F$2:$F$59,0))","v":"2.3.2) Nutrition education"},null,{"$f":"IFERROR(ROUND(INDEX('SCORE TABLE'!$F$10:$BC$45, MATCH($B66,'SCORE TABLE'!$B$10:$B$45,0), MATCH($C$10,'SCORE TABLE'!$F$9:$BC$9,0)),1),\"Not scored\")","v":{"v":100,"d":"100.0"}},null,{"$f":"IF(INDEX('DATA TABLE'!$J$10:$BG$68, MATCH($B66,'DATA TABLE'!$B$10:$B$68,0), MATCH($C$10,'DATA TABLE'!$J$9:$BG$9,0))=\"\",\"\",INDEX('DATA TABLE'!$J$10:$BG$68, MATCH($B66,'DATA TABLE'!$B$10:$B$68,0), MATCH($C$10,'DATA TABLE'!$J$9:$BG$9,0)))","v":1},{"$f":"IF(INDEX(Data_summary!$G$3:$BD$38, MATCH($B66,Data_summary!$C$3:$C$38,0),MATCH($C$10,Data_summary!$G$2:$BD$2,0))=\"\",\"\",INDEX(Data_summary!$G$3:$BD$38, MATCH($B66,Data_summary!$C$3:$C$38,0),MATCH($C$10,Data_summary!$G$2:$BD$2,0)))","v":"Alabama mandates nutrition education in schools for grades Kindergarten to Grade 12 (Alabama State Department of Education, Course of Study: Health Education, 2019)."},null,{"$f":"IF(INDEX('DATA TABLE'!$G$10:$G$68,MATCH($B66,'DATA TABLE'!$B$10:$B$68,0))=\"\",CONCATENATE(\"(\",INDEX('DATA TABLE'!$E$10:$E$68,MATCH($B66,'DATA TABLE'!$B$10:$B$68,0)),\")\"), CONCATENATE(INDEX('DATA TABLE'!$G$10:$G$68,MATCH($B66,'DATA TABLE'!$B$10:$B$68,0)),\" (\",INDEX('DATA TABLE'!$E$10:$E$68,MATCH($B66,'DATA TABLE'!$B$10:$B$68,0)),\")\"))","v":"Qualitative rating 0-1; 1=best (Economist Impact research)"}]
[null,"2.3.3",{"$f":"INDEX(Lists!$H$2:$H$59,MATCH($B67,Lists!$F$2:$F$59,0))","v":"2.3.3) Universal free school meals"},null,{"$f":"IFERROR(ROUND(INDEX('SCORE TABLE'!$F$10:$BC$45, MATCH($B67,'SCORE TABLE'!$B$10:$B$45,0), MATCH($C$10,'SCORE TABLE'!$F$9:$BC$9,0)),1),\"Not scored\")","v":{"v":0,"d":"0.0"}},null,{"$f":"IF(INDEX('DATA TABLE'!$J$10:$BG$68, MATCH($B67,'DATA TABLE'!$B$10:$B$68,0), MATCH($C$10,'DATA TABLE'!$J$9:$BG$9,0))=\"\",\"\",INDEX('DATA TABLE'!$J$10:$BG$68, MATCH($B67,'DATA TABLE'!$B$10:$B$68,0), MATCH($C$10,'DATA TABLE'!$J$9:$BG$9,0)))","v":0},{"$f":"IF(INDEX(Data_summary!$G$3:$BD$38, MATCH($B67,Data_summary!$C$3:$C$38,0),MATCH($C$10,Data_summary!$G$2:$BD$2,0))=\"\",\"\",INDEX(Data_summary!$G$3:$BD$38, MATCH($B67,Data_summary!$C$3:$C$38,0),MATCH($C$10,Data_summary!$G$2:$BD$2,0)))","v":"In Alabama, students are eligible to receive free or reduced-price meals at school based on their family's income, provided that their school participates in the federal free lunch programme. However, the provision of free school meals is not mandated in the state (Alabama State Department of Education, Frequently Asked Questions About Free and Reduced Price School Meals, 2022)."},null,{"$f":"IF(INDEX('DATA TABLE'!$G$10:$G$68,MATCH($B67,'DATA TABLE'!$B$10:$B$68,0))=\"\",CONCATENATE(\"(\",INDEX('DATA TABLE'!$E$10:$E$68,MATCH($B67,'DATA TABLE'!$B$10:$B$68,0)),\")\"), CONCATENATE(INDEX('DATA TABLE'!$G$10:$G$68,MATCH($B67,'DATA TABLE'!$B$10:$B$68,0)),\" (\",INDEX('DATA TABLE'!$E$10:$E$68,MATCH($B67,'DATA TABLE'!$B$10:$B$68,0)),\")\"))","v":"Qualitative rating 0-2; 2=best (Economist Impact research)"}]
[null,3,{"$f":"INDEX(Lists!$H$2:$H$59,MATCH($B68,Lists!$F$2:$F$59,0))","v":"3) Physical activity"},{"$f":"INDEX(Lists!$H$2:$H$59,MATCH($B68,Lists!$F$2:$F$59,0))","v":"3) Physical activity"},{"$f":"INDEX(Lists!$H$2:$H$59,MATCH($B68,Lists!$F$2:$F$59,0))","v":"3) Physical activity"},{"$f":"INDEX(Lists!$H$2:$H$59,MATCH($B68,Lists!$F$2:$F$59,0))","v":"3) Physical activity"},{"$f":"INDEX(Lists!$H$2:$H$59,MATCH($B68,Lists!$F$2:$F$59,0))","v":"3) Physical activity"},{"$f":"INDEX(Lists!$H$2:$H$59,MATCH($B68,Lists!$F$2:$F$59,0))","v":"3) Physical activity"},{"$f":"INDEX(Lists!$H$2:$H$59,MATCH($B68,Lists!$F$2:$F$59,0))","v":"3) Physical activity"},{"$f":"INDEX(Lists!$H$2:$H$59,MATCH($B68,Lists!$F$2:$F$59,0))","v":"3) Physical activity"}]
[null,3.1,{"$f":"INDEX(Lists!$H$2:$H$59,MATCH($B69,Lists!$F$2:$F$59,0))","v":"3.1) Physical activity among the population"},{"$f":"INDEX(Lists!$H$2:$H$59,MATCH($B69,Lists!$F$2:$F$59,0))","v":"3.1) Physical activity among the population"},{"$f":"INDEX(Lists!$H$2:$H$59,MATCH($B69,Lists!$F$2:$F$59,0))","v":"3.1) Physical activity among the population"},{"$f":"INDEX(Lists!$H$2:$H$59,MATCH($B69,Lists!$F$2:$F$59,0))","v":"3.1) Physical activity among the population"},{"$f":"INDEX(Lists!$H$2:$H$59,MATCH($B69,Lists!$F$2:$F$59,0))","v":"3.1) Physical activity among the population"},{"$f":"INDEX(Lists!$H$2:$H$59,MATCH($B69,Lists!$F$2:$F$59,0))","v":"3.1) Physical activity among the population"},{"$f":"INDEX(Lists!$H$2:$H$59,MATCH($B69,Lists!$F$2:$F$59,0))","v":"3.1) Physical activity among the population"},{"$f":"INDEX(Lists!$H$2:$H$59,MATCH($B69,Lists!$F$2:$F$59,0))","v":"3.1) Physical activity among the population"}]
[null,"3.1.1",{"$f":"INDEX(Lists!$H$2:$H$59,MATCH($B70,Lists!$F$2:$F$59,0))","v":"3.1.1) Promotion of physical activity"},null,{"$f":"IFERROR(ROUND(INDEX('SCORE TABLE'!$F$10:$BC$45, MATCH($B70,'SCORE TABLE'!$B$10:$B$45,0), MATCH($C$10,'SCORE TABLE'!$F$9:$BC$9,0)),1),\"Not scored\")","v":66.7},null,{"$f":"IF(INDEX('DATA TABLE'!$J$10:$BG$68, MATCH($B70,'DATA TABLE'!$B$10:$B$68,0), MATCH($C$10,'DATA TABLE'!$J$9:$BG$9,0))=\"\",\"\",INDEX('DATA TABLE'!$J$10:$BG$68, MATCH($B70,'DATA TABLE'!$B$10:$B$68,0), MATCH($C$10,'DATA TABLE'!$J$9:$BG$9,0)))","v":2},{"$f":"IF(INDEX(Data_summary!$G$3:$BD$38, MATCH($B70,Data_summary!$C$3:$C$38,0),MATCH($C$10,Data_summary!$G$2:$BD$2,0))=\"\",\"\",INDEX(Data_summary!$G$3:$BD$38, MATCH($B70,Data_summary!$C$3:$C$38,0),MATCH($C$10,Data_summary!$G$2:$BD$2,0)))","v":"The Alabama Physical Activity and Nutrition Plan (ALPAN) 2023-2033 seeks to promote physical activity amongst the population, and Alabama has established statewide policies promoting physical activity through initiatives like the For Every Body campaign and Get Alabama Moving programme. Further, the state is committed to promoting active travel, such as walking and biking, through the implementation of its Alabama Statewide Bicycle and Pedestrian Plan. However, there are no specific policies in place focused on reducing car usage (Alabama Wellness Alliance, Alabama Physical Activity and Nutrition Plan 2023-2033, 2022; Alabama Department of Public Health, For Every Body Campaign; Alabama Department of Public Health, Get Moving Alabama; Alabama Department of Transportation, Alabama Statewide Bicycle and Pedestrian Plan, 2017)."},null,{"$f":"IF(INDEX('DATA TABLE'!$G$10:$G$68,MATCH($B70,'DATA TABLE'!$B$10:$B$68,0))=\"\",CONCATENATE(\"(\",INDEX('DATA TABLE'!$E$10:$E$68,MATCH($B70,'DATA TABLE'!$B$10:$B$68,0)),\")\"), CONCATENATE(INDEX('DATA TABLE'!$G$10:$G$68,MATCH($B70,'DATA TABLE'!$B$10:$B$68,0)),\" (\",INDEX('DATA TABLE'!$E$10:$E$68,MATCH($B70,'DATA TABLE'!$B$10:$B$68,0)),\")\"))","v":"Qualitative rating 0-3; 3=best (Economist Impact research)"}]
[null,"3.1.2",{"$f":"INDEX(Lists!$H$2:$H$59,MATCH($B71,Lists!$F$2:$F$59,0))","v":"3.1.2) Access to exercise facilities"},null,{"$f":"IFERROR(ROUND(INDEX('SCORE TABLE'!$F$10:$BC$45, MATCH($B71,'SCORE TABLE'!$B$10:$B$45,0), MATCH($C$10,'SCORE TABLE'!$F$9:$BC$9,0)),1),\"Not scored\")","v":{"v":61,"d":"61.0"}},null,{"$f":"IF(INDEX('DATA TABLE'!$J$10:$BG$68, MATCH($B71,'DATA TABLE'!$B$10:$B$68,0), MATCH($C$10,'DATA TABLE'!$J$9:$BG$9,0))=\"\",\"\",INDEX('DATA TABLE'!$J$10:$BG$68, MATCH($B71,'DATA TABLE'!$B$10:$B$68,0), MATCH($C$10,'DATA TABLE'!$J$9:$BG$9,0)))","v":61},{"$f":"IF(INDEX(Data_summary!$G$3:$BD$38, MATCH($B71,Data_summary!$C$3:$C$38,0),MATCH($C$10,Data_summary!$G$2:$BD$2,0))=\"\",\"\",INDEX(Data_summary!$G$3:$BD$38, MATCH($B71,Data_summary!$C$3:$C$38,0),MATCH($C$10,Data_summary!$G$2:$BD$2,0)))","v":"61% of people in Alabama have adequate access to locations for physical activity as of 2025. (University of Wisconsin Population Health Institute, County Health Rankings & Roadmaps, Alabama, 2025)."},null,{"$f":"IF(INDEX('DATA TABLE'!$G$10:$G$68,MATCH($B71,'DATA TABLE'!$B$10:$B$68,0))=\"\",CONCATENATE(\"(\",INDEX('DATA TABLE'!$E$10:$E$68,MATCH($B71,'DATA TABLE'!$B$10:$B$68,0)),\")\"), CONCATENATE(INDEX('DATA TABLE'!$G$10:$G$68,MATCH($B71,'DATA TABLE'!$B$10:$B$68,0)),\" (\",INDEX('DATA TABLE'!$E$10:$E$68,MATCH($B71,'DATA TABLE'!$B$10:$B$68,0)),\")\"))","v":"% of population with adequate access to locations for physical activity (University of Wisconsin Population Health Institute)"}]
[null,3.2,{"$f":"INDEX(Lists!$H$2:$H$59,MATCH($B72,Lists!$F$2:$F$59,0))","v":"3.2) Physical activity among children"},{"$f":"INDEX(Lists!$H$2:$H$59,MATCH($B72,Lists!$F$2:$F$59,0))","v":"3.2) Physical activity among children"},{"$f":"INDEX(Lists!$H$2:$H$59,MATCH($B72,Lists!$F$2:$F$59,0))","v":"3.2) Physical activity among children"},{"$f":"INDEX(Lists!$H$2:$H$59,MATCH($B72,Lists!$F$2:$F$59,0))","v":"3.2) Physical activity among children"},{"$f":"INDEX(Lists!$H$2:$H$59,MATCH($B72,Lists!$F$2:$F$59,0))","v":"3.2) Physical activity among children"},{"$f":"INDEX(Lists!$H$2:$H$59,MATCH($B72,Lists!$F$2:$F$59,0))","v":"3.2) Physical activity among children"},{"$f":"INDEX(Lists!$H$2:$H$59,MATCH($B72,Lists!$F$2:$F$59,0))","v":"3.2) Physical activity among children"},{"$f":"INDEX(Lists!$H$2:$H$59,MATCH($B72,Lists!$F$2:$F$59,0))","v":"3.2) Physical activity among children"}]
[null,"3.2.1",{"$f":"INDEX(Lists!$H$2:$H$59,MATCH($B73,Lists!$F$2:$F$59,0))","v":"3.2.1) Physical activity mandates"},null,{"$f":"IFERROR(ROUND(INDEX('SCORE TABLE'!$F$10:$BC$45, MATCH($B73,'SCORE TABLE'!$B$10:$B$45,0), MATCH($C$10,'SCORE TABLE'!$F$9:$BC$9,0)),1),\"Not scored\")","v":{"v":50,"d":"50.0"}},null,{"$f":"IF(INDEX('DATA TABLE'!$J$10:$BG$68, MATCH($B73,'DATA TABLE'!$B$10:$B$68,0), MATCH($C$10,'DATA TABLE'!$J$9:$BG$9,0))=\"\",\"\",INDEX('DATA TABLE'!$J$10:$BG$68, MATCH($B73,'DATA TABLE'!$B$10:$B$68,0), MATCH($C$10,'DATA TABLE'!$J$9:$BG$9,0)))","v":1},{"$f":"IF(INDEX(Data_summary!$G$3:$BD$38, MATCH($B73,Data_summary!$C$3:$C$38,0),MATCH($C$10,Data_summary!$G$2:$BD$2,0))=\"\",\"\",INDEX(Data_summary!$G$3:$BD$38, MATCH($B73,Data_summary!$C$3:$C$38,0),MATCH($C$10,Data_summary!$G$2:$BD$2,0)))","v":"Alabama mandates public schools to provide students with a minimum of 30 minutes of physical activity daily for grades Kindergarten to Grade 5 and a minimum of 50 minutes daily for Grades 6 to 8 (Alabama State Department of Education, Alabama Course of Study: Physical Education, 2019)."},null,{"$f":"IF(INDEX('DATA TABLE'!$G$10:$G$68,MATCH($B73,'DATA TABLE'!$B$10:$B$68,0))=\"\",CONCATENATE(\"(\",INDEX('DATA TABLE'!$E$10:$E$68,MATCH($B73,'DATA TABLE'!$B$10:$B$68,0)),\")\"), CONCATENATE(INDEX('DATA TABLE'!$G$10:$G$68,MATCH($B73,'DATA TABLE'!$B$10:$B$68,0)),\" (\",INDEX('DATA TABLE'!$E$10:$E$68,MATCH($B73,'DATA TABLE'!$B$10:$B$68,0)),\")\"))","v":"Qualitative rating 0-2; 2=best (Economist Impact research)"}]
[null,null,"Background indicators"]
[null,"BG01",{"$f":"INDEX(Lists!$H$2:$H$59,MATCH($B75,Lists!$F$2:$F$59,0))","v":"BG01) Adult obesity prevalence"},null,{"$f":"IFERROR(INDEX('SCORE TABLE'!$F$10:$BC$45, MATCH($B75,'SCORE TABLE'!$B$10:$B$45,0), MATCH($C$10,'SCORE TABLE'!$F$9:$BC$9,0)),\"Not scored\")","v":"Not scored"},null,{"$f":"IF(INDEX('DATA TABLE'!$J$10:$BG$68, MATCH($B75,'DATA TABLE'!$B$10:$B$68,0), MATCH($C$10,'DATA TABLE'!$J$9:$BG$9,0))=\"\",\"\",INDEX('DATA TABLE'!$J$10:$BG$68, MATCH($B75,'DATA TABLE'!$B$10:$B$68,0), MATCH($C$10,'DATA TABLE'!$J$9:$BG$9,0)))","v":39.2},null,null,{"$f":"IF(INDEX('DATA TABLE'!$G$10:$G$68,MATCH($B75,'DATA TABLE'!$B$10:$B$68,0))=\"\",CONCATENATE(\"(\",INDEX('DATA TABLE'!$E$10:$E$68,MATCH($B75,'DATA TABLE'!$B$10:$B$68,0)),\")\"), CONCATENATE(INDEX('DATA TABLE'!$G$10:$G$68,MATCH($B75,'DATA TABLE'!$B$10:$B$68,0)),\" (\",INDEX('DATA TABLE'!$E$10:$E$68,MATCH($B75,'DATA TABLE'!$B$10:$B$68,0)),\")\"))","v":"% of people (CDC 2023 Behavioral Risk Factor Surveillance System)"}]
[null,"BG02a",{"$f":"INDEX(Lists!$H$2:$H$59,MATCH($B76,Lists!$F$2:$F$59,0))","v":"BG02a) Obesity prevalence by gender: Men"},null,{"$f":"IFERROR(INDEX('SCORE TABLE'!$F$10:$BC$45, MATCH($B76,'SCORE TABLE'!$B$10:$B$45,0), MATCH($C$10,'SCORE TABLE'!$F$9:$BC$9,0)),\"Not scored\")","v":"Not scored"},null,{"$f":"IF(INDEX('DATA TABLE'!$J$10:$BG$68, MATCH($B76,'DATA TABLE'!$B$10:$B$68,0), MATCH($C$10,'DATA TABLE'!$J$9:$BG$9,0))=\"\",\"\",INDEX('DATA TABLE'!$J$10:$BG$68, MATCH($B76,'DATA TABLE'!$B$10:$B$68,0), MATCH($C$10,'DATA TABLE'!$J$9:$BG$9,0)))","v":37.8},null,null,{"$f":"IF(INDEX('DATA TABLE'!$G$10:$G$68,MATCH($B76,'DATA TABLE'!$B$10:$B$68,0))=\"\",CONCATENATE(\"(\",INDEX('DATA TABLE'!$E$10:$E$68,MATCH($B76,'DATA TABLE'!$B$10:$B$68,0)),\")\"), CONCATENATE(INDEX('DATA TABLE'!$G$10:$G$68,MATCH($B76,'DATA TABLE'!$B$10:$B$68,0)),\" (\",INDEX('DATA TABLE'!$E$10:$E$68,MATCH($B76,'DATA TABLE'!$B$10:$B$68,0)),\")\"))","v":"% of men (CDC 2023 Behavioral Risk Factor Surveillance System)"}]
[null,"BG02b",{"$f":"INDEX(Lists!$H$2:$H$59,MATCH($B77,Lists!$F$2:$F$59,0))","v":"BG02b) Obesity prevalence by gender: Women"},null,{"$f":"IFERROR(INDEX('SCORE TABLE'!$F$10:$BC$45, MATCH($B77,'SCORE TABLE'!$B$10:$B$45,0), MATCH($C$10,'SCORE TABLE'!$F$9:$BC$9,0)),\"Not scored\")","v":"Not scored"},null,{"$f":"IF(INDEX('DATA TABLE'!$J$10:$BG$68, MATCH($B77,'DATA TABLE'!$B$10:$B$68,0), MATCH($C$10,'DATA TABLE'!$J$9:$BG$9,0))=\"\",\"\",INDEX('DATA TABLE'!$J$10:$BG$68, MATCH($B77,'DATA TABLE'!$B$10:$B$68,0), MATCH($C$10,'DATA TABLE'!$J$9:$BG$9,0)))","v":40.7},null,null,{"$f":"IF(INDEX('DATA TABLE'!$G$10:$G$68,MATCH($B77,'DATA TABLE'!$B$10:$B$68,0))=\"\",CONCATENATE(\"(\",INDEX('DATA TABLE'!$E$10:$E$68,MATCH($B77,'DATA TABLE'!$B$10:$B$68,0)),\")\"), CONCATENATE(INDEX('DATA TABLE'!$G$10:$G$68,MATCH($B77,'DATA TABLE'!$B$10:$B$68,0)),\" (\",INDEX('DATA TABLE'!$E$10:$E$68,MATCH($B77,'DATA TABLE'!$B$10:$B$68,0)),\")\"))","v":"% of women (CDC 2023 Behavioral Risk Factor Surveillance System)"}]
[null,"BG03a",{"$f":"INDEX(Lists!$H$2:$H$59,MATCH($B78,Lists!$F$2:$F$59,0))","v":"BG03a) Obesity prevalence by race/ethnicity: White"},null,{"$f":"IFERROR(INDEX('SCORE TABLE'!$F$10:$BC$45, MATCH($B78,'SCORE TABLE'!$B$10:$B$45,0), MATCH($C$10,'SCORE TABLE'!$F$9:$BC$9,0)),\"Not scored\")","v":"Not scored"},null,{"$f":"IF(INDEX('DATA TABLE'!$J$10:$BG$68, MATCH($B78,'DATA TABLE'!$B$10:$B$68,0), MATCH($C$10,'DATA TABLE'!$J$9:$BG$9,0))=\"\",\"\",INDEX('DATA TABLE'!$J$10:$BG$68, MATCH($B78,'DATA TABLE'!$B$10:$B$68,0), MATCH($C$10,'DATA TABLE'!$J$9:$BG$9,0)))","v":36},null,null,{"$f":"IF(INDEX('DATA TABLE'!$G$10:$G$68,MATCH($B78,'DATA TABLE'!$B$10:$B$68,0))=\"\",CONCATENATE(\"(\",INDEX('DATA TABLE'!$E$10:$E$68,MATCH($B78,'DATA TABLE'!$B$10:$B$68,0)),\")\"), CONCATENATE(INDEX('DATA TABLE'!$G$10:$G$68,MATCH($B78,'DATA TABLE'!$B$10:$B$68,0)),\" (\",INDEX('DATA TABLE'!$E$10:$E$68,MATCH($B78,'DATA TABLE'!$B$10:$B$68,0)),\")\"))","v":"% of people by race/ethnicity (CDC 2023 Behavioral Risk Factor Surveillance System)"}]
[null,"BG03b",{"$f":"INDEX(Lists!$H$2:$H$59,MATCH($B79,Lists!$F$2:$F$59,0))","v":"BG03b) Obesity prevalence by race/ethnicity: Black"},null,{"$f":"IFERROR(INDEX('SCORE TABLE'!$F$10:$BC$45, MATCH($B79,'SCORE TABLE'!$B$10:$B$45,0), MATCH($C$10,'SCORE TABLE'!$F$9:$BC$9,0)),\"Not scored\")","v":"Not scored"},null,{"$f":"IF(INDEX('DATA TABLE'!$J$10:$BG$68, MATCH($B79,'DATA TABLE'!$B$10:$B$68,0), MATCH($C$10,'DATA TABLE'!$J$9:$BG$9,0))=\"\",\"\",INDEX('DATA TABLE'!$J$10:$BG$68, MATCH($B79,'DATA TABLE'!$B$10:$B$68,0), MATCH($C$10,'DATA TABLE'!$J$9:$BG$9,0)))","v":49.1},null,null,{"$f":"IF(INDEX('DATA TABLE'!$G$10:$G$68,MATCH($B79,'DATA TABLE'!$B$10:$B$68,0))=\"\",CONCATENATE(\"(\",INDEX('DATA TABLE'!$E$10:$E$68,MATCH($B79,'DATA TABLE'!$B$10:$B$68,0)),\")\"), CONCATENATE(INDEX('DATA TABLE'!$G$10:$G$68,MATCH($B79,'DATA TABLE'!$B$10:$B$68,0)),\" (\",INDEX('DATA TABLE'!$E$10:$E$68,MATCH($B79,'DATA TABLE'!$B$10:$B$68,0)),\")\"))","v":"% of people by race/ethnicity (CDC 2023 Behavioral Risk Factor Surveillance System)"}]
[null,"BG03c",{"$f":"INDEX(Lists!$H$2:$H$59,MATCH($B80,Lists!$F$2:$F$59,0))","v":"BG03c) Obesity prevalence by race/ethnicity: Hispanic"},null,{"$f":"IFERROR(INDEX('SCORE TABLE'!$F$10:$BC$45, MATCH($B80,'SCORE TABLE'!$B$10:$B$45,0), MATCH($C$10,'SCORE TABLE'!$F$9:$BC$9,0)),\"Not scored\")","v":"Not scored"},null,{"$f":"IF(INDEX('DATA TABLE'!$J$10:$BG$68, MATCH($B80,'DATA TABLE'!$B$10:$B$68,0), MATCH($C$10,'DATA TABLE'!$J$9:$BG$9,0))=\"\",\"\",INDEX('DATA TABLE'!$J$10:$BG$68, MATCH($B80,'DATA TABLE'!$B$10:$B$68,0), MATCH($C$10,'DATA TABLE'!$J$9:$BG$9,0)))","v":36.6},null,null,{"$f":"IF(INDEX('DATA TABLE'!$G$10:$G$68,MATCH($B80,'DATA TABLE'!$B$10:$B$68,0))=\"\",CONCATENATE(\"(\",INDEX('DATA TABLE'!$E$10:$E$68,MATCH($B80,'DATA TABLE'!$B$10:$B$68,0)),\")\"), CONCATENATE(INDEX('DATA TABLE'!$G$10:$G$68,MATCH($B80,'DATA TABLE'!$B$10:$B$68,0)),\" (\",INDEX('DATA TABLE'!$E$10:$E$68,MATCH($B80,'DATA TABLE'!$B$10:$B$68,0)),\")\"))","v":"% of people by race/ethnicity (CDC 2023 Behavioral Risk Factor Surveillance System)"}]
[null,"BG03d",{"$f":"INDEX(Lists!$H$2:$H$59,MATCH($B81,Lists!$F$2:$F$59,0))","v":"BG03d) Obesity prevalence by race/ethnicity: Asian/Native Hawaiian or Pacific Islander"},null,{"$f":"IFERROR(INDEX('SCORE TABLE'!$F$10:$BC$45, MATCH($B81,'SCORE TABLE'!$B$10:$B$45,0), MATCH($C$10,'SCORE TABLE'!$F$9:$BC$9,0)),\"Not scored\")","v":"Not scored"},null,{"$f":"IF(INDEX('DATA TABLE'!$J$10:$BG$68, MATCH($B81,'DATA TABLE'!$B$10:$B$68,0), MATCH($C$10,'DATA TABLE'!$J$9:$BG$9,0))=\"\",\"\",INDEX('DATA TABLE'!$J$10:$BG$68, MATCH($B81,'DATA TABLE'!$B$10:$B$68,0), MATCH($C$10,'DATA TABLE'!$J$9:$BG$9,0)))","v":"No data"},null,null,{"$f":"IF(INDEX('DATA TABLE'!$G$10:$G$68,MATCH($B81,'DATA TABLE'!$B$10:$B$68,0))=\"\",CONCATENATE(\"(\",INDEX('DATA TABLE'!$E$10:$E$68,MATCH($B81,'DATA TABLE'!$B$10:$B$68,0)),\")\"), CONCATENATE(INDEX('DATA TABLE'!$G$10:$G$68,MATCH($B81,'DATA TABLE'!$B$10:$B$68,0)),\" (\",INDEX('DATA TABLE'!$E$10:$E$68,MATCH($B81,'DATA TABLE'!$B$10:$B$68,0)),\")\"))","v":"% of people by race/ethnicity (CDC 2023 Behavioral Risk Factor Surveillance System)"}]
[null,"BG04a",{"$f":"INDEX(Lists!$H$2:$H$59,MATCH($B82,Lists!$F$2:$F$59,0))","v":"BG04a) Obesity prevalence by education level: Less than high school"},null,{"$f":"IFERROR(INDEX('SCORE TABLE'!$F$10:$BC$45, MATCH($B82,'SCORE TABLE'!$B$10:$B$45,0), MATCH($C$10,'SCORE TABLE'!$F$9:$BC$9,0)),\"Not scored\")","v":"Not scored"},null,{"$f":"IF(INDEX('DATA TABLE'!$J$10:$BG$68, MATCH($B82,'DATA TABLE'!$B$10:$B$68,0), MATCH($C$10,'DATA TABLE'!$J$9:$BG$9,0))=\"\",\"\",INDEX('DATA TABLE'!$J$10:$BG$68, MATCH($B82,'DATA TABLE'!$B$10:$B$68,0), MATCH($C$10,'DATA TABLE'!$J$9:$BG$9,0)))","v":39.8},null,null,{"$f":"IF(INDEX('DATA TABLE'!$G$10:$G$68,MATCH($B82,'DATA TABLE'!$B$10:$B$68,0))=\"\",CONCATENATE(\"(\",INDEX('DATA TABLE'!$E$10:$E$68,MATCH($B82,'DATA TABLE'!$B$10:$B$68,0)),\")\"), CONCATENATE(INDEX('DATA TABLE'!$G$10:$G$68,MATCH($B82,'DATA TABLE'!$B$10:$B$68,0)),\" (\",INDEX('DATA TABLE'!$E$10:$E$68,MATCH($B82,'DATA TABLE'!$B$10:$B$68,0)),\")\"))","v":"% of people by education level (CDC 2022 Behavioral Risk Factor Surveillance System)"}]
[null,"BG04b",{"$f":"INDEX(Lists!$H$2:$H$59,MATCH($B83,Lists!$F$2:$F$59,0))","v":"BG04b) Obesity prevalence by education level: High school or GED"},null,{"$f":"IFERROR(INDEX('SCORE TABLE'!$F$10:$BC$45, MATCH($B83,'SCORE TABLE'!$B$10:$B$45,0), MATCH($C$10,'SCORE TABLE'!$F$9:$BC$9,0)),\"Not scored\")","v":"Not scored"},null,{"$f":"IF(INDEX('DATA TABLE'!$J$10:$BG$68, MATCH($B83,'DATA TABLE'!$B$10:$B$68,0), MATCH($C$10,'DATA TABLE'!$J$9:$BG$9,0))=\"\",\"\",INDEX('DATA TABLE'!$J$10:$BG$68, MATCH($B83,'DATA TABLE'!$B$10:$B$68,0), MATCH($C$10,'DATA TABLE'!$J$9:$BG$9,0)))","v":42.2},null,null,{"$f":"IF(INDEX('DATA TABLE'!$G$10:$G$68,MATCH($B83,'DATA TABLE'!$B$10:$B$68,0))=\"\",CONCATENATE(\"(\",INDEX('DATA TABLE'!$E$10:$E$68,MATCH($B83,'DATA TABLE'!$B$10:$B$68,0)),\")\"), CONCATENATE(INDEX('DATA TABLE'!$G$10:$G$68,MATCH($B83,'DATA TABLE'!$B$10:$B$68,0)),\" (\",INDEX('DATA TABLE'!$E$10:$E$68,MATCH($B83,'DATA TABLE'!$B$10:$B$68,0)),\")\"))","v":"% of people by education level (CDC 2022 Behavioral Risk Factor Surveillance System)"}]
[null,"BG04c",{"$f":"INDEX(Lists!$H$2:$H$59,MATCH($B84,Lists!$F$2:$F$59,0))","v":"BG04c) Obesity prevalence by education level: Some post-high school"},null,{"$f":"IFERROR(INDEX('SCORE TABLE'!$F$10:$BC$45, MATCH($B84,'SCORE TABLE'!$B$10:$B$45,0), MATCH($C$10,'SCORE TABLE'!$F$9:$BC$9,0)),\"Not scored\")","v":"Not scored"},null,{"$f":"IF(INDEX('DATA TABLE'!$J$10:$BG$68, MATCH($B84,'DATA TABLE'!$B$10:$B$68,0), MATCH($C$10,'DATA TABLE'!$J$9:$BG$9,0))=\"\",\"\",INDEX('DATA TABLE'!$J$10:$BG$68, MATCH($B84,'DATA TABLE'!$B$10:$B$68,0), MATCH($C$10,'DATA TABLE'!$J$9:$BG$9,0)))","v":44.2},null,null,{"$f":"IF(INDEX('DATA TABLE'!$G$10:$G$68,MATCH($B84,'DATA TABLE'!$B$10:$B$68,0))=\"\",CONCATENATE(\"(\",INDEX('DATA TABLE'!$E$10:$E$68,MATCH($B84,'DATA TABLE'!$B$10:$B$68,0)),\")\"), CONCATENATE(INDEX('DATA TABLE'!$G$10:$G$68,MATCH($B84,'DATA TABLE'!$B$10:$B$68,0)),\" (\",INDEX('DATA TABLE'!$E$10:$E$68,MATCH($B84,'DATA TABLE'!$B$10:$B$68,0)),\")\"))","v":"% of people by education level (CDC 2022 Behavioral Risk Factor Surveillance System)"}]
[null,"BG04d",{"$f":"INDEX(Lists!$H$2:$H$59,MATCH($B85,Lists!$F$2:$F$59,0))","v":"BG04d) Obesity prevalence by education level: College grad"},null,{"$f":"IFERROR(INDEX('SCORE TABLE'!$F$10:$BC$45, MATCH($B85,'SCORE TABLE'!$B$10:$B$45,0), MATCH($C$10,'SCORE TABLE'!$F$9:$BC$9,0)),\"Not scored\")","v":"Not scored"},null,{"$f":"IF(INDEX('DATA TABLE'!$J$10:$BG$68, MATCH($B85,'DATA TABLE'!$B$10:$B$68,0), MATCH($C$10,'DATA TABLE'!$J$9:$BG$9,0))=\"\",\"\",INDEX('DATA TABLE'!$J$10:$BG$68, MATCH($B85,'DATA TABLE'!$B$10:$B$68,0), MATCH($C$10,'DATA TABLE'!$J$9:$BG$9,0)))","v":36.9},null,null,{"$f":"IF(INDEX('DATA TABLE'!$G$10:$G$68,MATCH($B85,'DATA TABLE'!$B$10:$B$68,0))=\"\",CONCATENATE(\"(\",INDEX('DATA TABLE'!$E$10:$E$68,MATCH($B85,'DATA TABLE'!$B$10:$B$68,0)),\")\"), CONCATENATE(INDEX('DATA TABLE'!$G$10:$G$68,MATCH($B85,'DATA TABLE'!$B$10:$B$68,0)),\" (\",INDEX('DATA TABLE'!$E$10:$E$68,MATCH($B85,'DATA TABLE'!$B$10:$B$68,0)),\")\"))","v":"% of people by education level (CDC 2022 Behavioral Risk Factor Surveillance System)"}]
[null,"BG05a",{"$f":"INDEX(Lists!$H$2:$H$59,MATCH($B86,Lists!$F$2:$F$59,0))","v":"BG05a) Obesity prevalence by rural/urban area: Metro"},null,{"$f":"IFERROR(INDEX('SCORE TABLE'!$F$10:$BC$45, MATCH($B86,'SCORE TABLE'!$B$10:$B$45,0), MATCH($C$10,'SCORE TABLE'!$F$9:$BC$9,0)),\"Not scored\")","v":"Not scored"},null,{"$f":"IF(INDEX('DATA TABLE'!$J$10:$BG$68, MATCH($B86,'DATA TABLE'!$B$10:$B$68,0), MATCH($C$10,'DATA TABLE'!$J$9:$BG$9,0))=\"\",\"\",INDEX('DATA TABLE'!$J$10:$BG$68, MATCH($B86,'DATA TABLE'!$B$10:$B$68,0), MATCH($C$10,'DATA TABLE'!$J$9:$BG$9,0)))","v":38.7},null,null,{"$f":"IF(INDEX('DATA TABLE'!$G$10:$G$68,MATCH($B86,'DATA TABLE'!$B$10:$B$68,0))=\"\",CONCATENATE(\"(\",INDEX('DATA TABLE'!$E$10:$E$68,MATCH($B86,'DATA TABLE'!$B$10:$B$68,0)),\")\"), CONCATENATE(INDEX('DATA TABLE'!$G$10:$G$68,MATCH($B86,'DATA TABLE'!$B$10:$B$68,0)),\" (\",INDEX('DATA TABLE'!$E$10:$E$68,MATCH($B86,'DATA TABLE'!$B$10:$B$68,0)),\")\"))","v":"% of people in metropolitan areas (CDC 2022 Behavioral Risk Factor Surveillance System)"}]
[null,"BG05b",{"$f":"INDEX(Lists!$H$2:$H$59,MATCH($B87,Lists!$F$2:$F$59,0))","v":"BG05b) Obesity prevalence by rural/urban area: Non-metro"},null,{"$f":"IFERROR(INDEX('SCORE TABLE'!$F$10:$BC$45, MATCH($B87,'SCORE TABLE'!$B$10:$B$45,0), MATCH($C$10,'SCORE TABLE'!$F$9:$BC$9,0)),\"Not scored\")","v":"Not scored"},null,{"$f":"IF(INDEX('DATA TABLE'!$J$10:$BG$68, MATCH($B87,'DATA TABLE'!$B$10:$B$68,0), MATCH($C$10,'DATA TABLE'!$J$9:$BG$9,0))=\"\",\"\",INDEX('DATA TABLE'!$J$10:$BG$68, MATCH($B87,'DATA TABLE'!$B$10:$B$68,0), MATCH($C$10,'DATA TABLE'!$J$9:$BG$9,0)))","v":40.9},null,null,{"$f":"IF(INDEX('DATA TABLE'!$G$10:$G$68,MATCH($B87,'DATA TABLE'!$B$10:$B$68,0))=\"\",CONCATENATE(\"(\",INDEX('DATA TABLE'!$E$10:$E$68,MATCH($B87,'DATA TABLE'!$B$10:$B$68,0)),\")\"), CONCATENATE(INDEX('DATA TABLE'!$G$10:$G$68,MATCH($B87,'DATA TABLE'!$B$10:$B$68,0)),\" (\",INDEX('DATA TABLE'!$E$10:$E$68,MATCH($B87,'DATA TABLE'!$B$10:$B$68,0)),\")\"))","v":"% of people in non-metropolitan areas (CDC 2022 Behavioral Risk Factor Surveillance System)"}]
[null,"BG06",{"$f":"INDEX(Lists!$H$2:$H$59,MATCH($B88,Lists!$F$2:$F$59,0))","v":"BG06) Childhood obesity prevalence"},null,{"$f":"IFERROR(INDEX('SCORE TABLE'!$F$10:$BC$45, MATCH($B88,'SCORE TABLE'!$B$10:$B$45,0), MATCH($C$10,'SCORE TABLE'!$F$9:$BC$9,0)),\"Not scored\")","v":"Not scored"},null,{"$f":"IF(INDEX('DATA TABLE'!$J$10:$BG$68, MATCH($B88,'DATA TABLE'!$B$10:$B$68,0), MATCH($C$10,'DATA TABLE'!$J$9:$BG$9,0))=\"\",\"\",INDEX('DATA TABLE'!$J$10:$BG$68, MATCH($B88,'DATA TABLE'!$B$10:$B$68,0), MATCH($C$10,'DATA TABLE'!$J$9:$BG$9,0)))","v":22.8},null,null,{"$f":"IF(INDEX('DATA TABLE'!$G$10:$G$68,MATCH($B88,'DATA TABLE'!$B$10:$B$68,0))=\"\",CONCATENATE(\"(\",INDEX('DATA TABLE'!$E$10:$E$68,MATCH($B88,'DATA TABLE'!$B$10:$B$68,0)),\")\"), CONCATENATE(INDEX('DATA TABLE'!$G$10:$G$68,MATCH($B88,'DATA TABLE'!$B$10:$B$68,0)),\" (\",INDEX('DATA TABLE'!$E$10:$E$68,MATCH($B88,'DATA TABLE'!$B$10:$B$68,0)),\")\"))","v":"% of children (National Survey of Children’s Health)"}]
[null,"BG07",{"$f":"INDEX(Lists!$H$2:$H$59,MATCH($B89,Lists!$F$2:$F$59,0))","v":"BG07) Life expectancy"},null,{"$f":"IFERROR(INDEX('SCORE TABLE'!$F$10:$BC$45, MATCH($B89,'SCORE TABLE'!$B$10:$B$45,0), MATCH($C$10,'SCORE TABLE'!$F$9:$BC$9,0)),\"Not scored\")","v":"Not scored"},null,{"$f":"IF(INDEX('DATA TABLE'!$J$10:$BG$68, MATCH($B89,'DATA TABLE'!$B$10:$B$68,0), MATCH($C$10,'DATA TABLE'!$J$9:$BG$9,0))=\"\",\"\",INDEX('DATA TABLE'!$J$10:$BG$68, MATCH($B89,'DATA TABLE'!$B$10:$B$68,0), MATCH($C$10,'DATA TABLE'!$J$9:$BG$9,0)))","v":72},null,null,{"$f":"IF(INDEX('DATA TABLE'!$G$10:$G$68,MATCH($B89,'DATA TABLE'!$B$10:$B$68,0))=\"\",CONCATENATE(\"(\",INDEX('DATA TABLE'!$E$10:$E$68,MATCH($B89,'DATA TABLE'!$B$10:$B$68,0)),\")\"), CONCATENATE(INDEX('DATA TABLE'!$G$10:$G$68,MATCH($B89,'DATA TABLE'!$B$10:$B$68,0)),\" (\",INDEX('DATA TABLE'!$E$10:$E$68,MATCH($B89,'DATA TABLE'!$B$10:$B$68,0)),\")\"))","v":"Years (CDC National Vital Statistics Reports)"}]
[null,"BG08",{"$f":"INDEX(Lists!$H$2:$H$59,MATCH($B90,Lists!$F$2:$F$59,0))","v":"BG08) Household income"},null,{"$f":"IFERROR(INDEX('SCORE TABLE'!$F$10:$BC$45, MATCH($B90,'SCORE TABLE'!$B$10:$B$45,0), MATCH($C$10,'SCORE TABLE'!$F$9:$BC$9,0)),\"Not scored\")","v":"Not scored"},null,{"$f":"IF(INDEX('DATA TABLE'!$J$10:$BG$68, MATCH($B90,'DATA TABLE'!$B$10:$B$68,0), MATCH($C$10,'DATA TABLE'!$J$9:$BG$9,0))=\"\",\"\",INDEX('DATA TABLE'!$J$10:$BG$68, MATCH($B90,'DATA TABLE'!$B$10:$B$68,0), MATCH($C$10,'DATA TABLE'!$J$9:$BG$9,0)))","v":60660},null,null,{"$f":"IF(INDEX('DATA TABLE'!$G$10:$G$68,MATCH($B90,'DATA TABLE'!$B$10:$B$68,0))=\"\",CONCATENATE(\"(\",INDEX('DATA TABLE'!$E$10:$E$68,MATCH($B90,'DATA TABLE'!$B$10:$B$68,0)),\")\"), CONCATENATE(INDEX('DATA TABLE'!$G$10:$G$68,MATCH($B90,'DATA TABLE'!$B$10:$B$68,0)),\" (\",INDEX('DATA TABLE'!$E$10:$E$68,MATCH($B90,'DATA TABLE'!$B$10:$B$68,0)),\")\"))","v":"USD (Federal Reserve Bank of St. Louis)"}]
[null,"BG09",{"$f":"INDEX(Lists!$H$2:$H$59,MATCH($B91,Lists!$F$2:$F$59,0))","v":"BG09) Gini Index of Income Inequality"},null,{"$f":"IFERROR(INDEX('SCORE TABLE'!$F$10:$BC$45, MATCH($B91,'SCORE TABLE'!$B$10:$B$45,0), MATCH($C$10,'SCORE TABLE'!$F$9:$BC$9,0)),\"Not scored\")","v":"Not scored"},null,{"$f":"IF(INDEX('DATA TABLE'!$J$10:$BG$68, MATCH($B91,'DATA TABLE'!$B$10:$B$68,0), MATCH($C$10,'DATA TABLE'!$J$9:$BG$9,0))=\"\",\"\",INDEX('DATA TABLE'!$J$10:$BG$68, MATCH($B91,'DATA TABLE'!$B$10:$B$68,0), MATCH($C$10,'DATA TABLE'!$J$9:$BG$9,0)))","v":0.4771},null,null,{"$f":"IF(INDEX('DATA TABLE'!$G$10:$G$68,MATCH($B91,'DATA TABLE'!$B$10:$B$68,0))=\"\",CONCATENATE(\"(\",INDEX('DATA TABLE'!$E$10:$E$68,MATCH($B91,'DATA TABLE'!$B$10:$B$68,0)),\")\"), CONCATENATE(INDEX('DATA TABLE'!$G$10:$G$68,MATCH($B91,'DATA TABLE'!$B$10:$B$68,0)),\" (\",INDEX('DATA TABLE'!$E$10:$E$68,MATCH($B91,'DATA TABLE'!$B$10:$B$68,0)),\")\"))","v":"0-1 (U.S. Census Bureau, 2023 American Community Survey)"}]
[null,"BG10",{"$f":"INDEX(Lists!$H$2:$H$59,MATCH($B92,Lists!$F$2:$F$59,0))","v":"BG10) Location quotient for dietitians and nutritionists"},null,{"$f":"IFERROR(INDEX('SCORE TABLE'!$F$10:$BC$45, MATCH($B92,'SCORE TABLE'!$B$10:$B$45,0), MATCH($C$10,'SCORE TABLE'!$F$9:$BC$9,0)),\"Not scored\")","v":"Not scored"},null,{"$f":"IF(INDEX('DATA TABLE'!$J$10:$BG$68, MATCH($B92,'DATA TABLE'!$B$10:$B$68,0), MATCH($C$10,'DATA TABLE'!$J$9:$BG$9,0))=\"\",\"\",INDEX('DATA TABLE'!$J$10:$BG$68, MATCH($B92,'DATA TABLE'!$B$10:$B$68,0), MATCH($C$10,'DATA TABLE'!$J$9:$BG$9,0)))","v":0.8},null,null,{"$f":"IF(INDEX('DATA TABLE'!$G$10:$G$68,MATCH($B92,'DATA TABLE'!$B$10:$B$68,0))=\"\",CONCATENATE(\"(\",INDEX('DATA TABLE'!$E$10:$E$68,MATCH($B92,'DATA TABLE'!$B$10:$B$68,0)),\")\"), CONCATENATE(INDEX('DATA TABLE'!$G$10:$G$68,MATCH($B92,'DATA TABLE'!$B$10:$B$68,0)),\" (\",INDEX('DATA TABLE'!$E$10:$E$68,MATCH($B92,'DATA TABLE'!$B$10:$B$68,0)),\")\"))","v":"(U.S. Bureau of Labor Statistics, 2023)"}]
[null,"BG11",{"$f":"INDEX(Lists!$H$2:$H$59,MATCH($B93,Lists!$F$2:$F$59,0))","v":"BG11) Healthcare spending per capita"},null,{"$f":"IFERROR(INDEX('SCORE TABLE'!$F$10:$BC$45, MATCH($B93,'SCORE TABLE'!$B$10:$B$45,0), MATCH($C$10,'SCORE TABLE'!$F$9:$BC$9,0)),\"Not scored\")","v":"Not scored"},null,{"$f":"IF(INDEX('DATA TABLE'!$J$10:$BG$68, MATCH($B93,'DATA TABLE'!$B$10:$B$68,0), MATCH($C$10,'DATA TABLE'!$J$9:$BG$9,0))=\"\",\"\",INDEX('DATA TABLE'!$J$10:$BG$68, MATCH($B93,'DATA TABLE'!$B$10:$B$68,0), MATCH($C$10,'DATA TABLE'!$J$9:$BG$9,0)))","v":137},null,null,{"$f":"IF(INDEX('DATA TABLE'!$G$10:$G$68,MATCH($B93,'DATA TABLE'!$B$10:$B$68,0))=\"\",CONCATENATE(\"(\",INDEX('DATA TABLE'!$E$10:$E$68,MATCH($B93,'DATA TABLE'!$B$10:$B$68,0)),\")\"), CONCATENATE(INDEX('DATA TABLE'!$G$10:$G$68,MATCH($B93,'DATA TABLE'!$B$10:$B$68,0)),\" (\",INDEX('DATA TABLE'!$E$10:$E$68,MATCH($B93,'DATA TABLE'!$B$10:$B$68,0)),\")\"))","v":"USD (CDC, HRSA and Trust for America's Health)"}]
[null,"BG12",{"$f":"INDEX(Lists!$H$2:$H$59,MATCH($B94,Lists!$F$2:$F$59,0))","v":"BG12) Health insured population"},null,{"$f":"IFERROR(INDEX('SCORE TABLE'!$F$10:$BC$45, MATCH($B94,'SCORE TABLE'!$B$10:$B$45,0), MATCH($C$10,'SCORE TABLE'!$F$9:$BC$9,0)),\"Not scored\")","v":"Not scored"},null,{"$f":"IF(INDEX('DATA TABLE'!$J$10:$BG$68, MATCH($B94,'DATA TABLE'!$B$10:$B$68,0), MATCH($C$10,'DATA TABLE'!$J$9:$BG$9,0))=\"\",\"\",INDEX('DATA TABLE'!$J$10:$BG$68, MATCH($B94,'DATA TABLE'!$B$10:$B$68,0), MATCH($C$10,'DATA TABLE'!$J$9:$BG$9,0)))","v":13.3},null,null,{"$f":"IF(INDEX('DATA TABLE'!$G$10:$G$68,MATCH($B94,'DATA TABLE'!$B$10:$B$68,0))=\"\",CONCATENATE(\"(\",INDEX('DATA TABLE'!$E$10:$E$68,MATCH($B94,'DATA TABLE'!$B$10:$B$68,0)),\")\"), CONCATENATE(INDEX('DATA TABLE'!$G$10:$G$68,MATCH($B94,'DATA TABLE'!$B$10:$B$68,0)),\" (\",INDEX('DATA TABLE'!$E$10:$E$68,MATCH($B94,'DATA TABLE'!$B$10:$B$68,0)),\")\"))","v":"% of people (U.S. Census Bureau, 2023 American Community Survey)"}]
[null,"BG13",{"$f":"INDEX(Lists!$H$2:$H$59,MATCH($B95,Lists!$F$2:$F$59,0))","v":"BG13) Access to a personal doctor"},null,{"$f":"IFERROR(INDEX('SCORE TABLE'!$F$10:$BC$45, MATCH($B95,'SCORE TABLE'!$B$10:$B$45,0), MATCH($C$10,'SCORE TABLE'!$F$9:$BC$9,0)),\"Not scored\")","v":"Not scored"},null,{"$f":"IF(INDEX('DATA TABLE'!$J$10:$BG$68, MATCH($B95,'DATA TABLE'!$B$10:$B$68,0), MATCH($C$10,'DATA TABLE'!$J$9:$BG$9,0))=\"\",\"\",INDEX('DATA TABLE'!$J$10:$BG$68, MATCH($B95,'DATA TABLE'!$B$10:$B$68,0), MATCH($C$10,'DATA TABLE'!$J$9:$BG$9,0)))","v":82.4},null,null,{"$f":"IF(INDEX('DATA TABLE'!$G$10:$G$68,MATCH($B95,'DATA TABLE'!$B$10:$B$68,0))=\"\",CONCATENATE(\"(\",INDEX('DATA TABLE'!$E$10:$E$68,MATCH($B95,'DATA TABLE'!$B$10:$B$68,0)),\")\"), CONCATENATE(INDEX('DATA TABLE'!$G$10:$G$68,MATCH($B95,'DATA TABLE'!$B$10:$B$68,0)),\" (\",INDEX('DATA TABLE'!$E$10:$E$68,MATCH($B95,'DATA TABLE'!$B$10:$B$68,0)),\")\"))","v":"% of people (CDC 2023 Behavioral Risk Factor Surveillance System)"}]
[null,"BG14",{"$f":"INDEX(Lists!$H$2:$H$59,MATCH($B96,Lists!$F$2:$F$59,0))","v":"BG14) Physical activity"},null,{"$f":"IFERROR(INDEX('SCORE TABLE'!$F$10:$BC$45, MATCH($B96,'SCORE TABLE'!$B$10:$B$45,0), MATCH($C$10,'SCORE TABLE'!$F$9:$BC$9,0)),\"Not scored\")","v":"Not scored"},null,{"$f":"IF(INDEX('DATA TABLE'!$J$10:$BG$68, MATCH($B96,'DATA TABLE'!$B$10:$B$68,0), MATCH($C$10,'DATA TABLE'!$J$9:$BG$9,0))=\"\",\"\",INDEX('DATA TABLE'!$J$10:$BG$68, MATCH($B96,'DATA TABLE'!$B$10:$B$68,0), MATCH($C$10,'DATA TABLE'!$J$9:$BG$9,0)))","v":25},null,null,{"$f":"IF(INDEX('DATA TABLE'!$G$10:$G$68,MATCH($B96,'DATA TABLE'!$B$10:$B$68,0))=\"\",CONCATENATE(\"(\",INDEX('DATA TABLE'!$E$10:$E$68,MATCH($B96,'DATA TABLE'!$B$10:$B$68,0)),\")\"), CONCATENATE(INDEX('DATA TABLE'!$G$10:$G$68,MATCH($B96,'DATA TABLE'!$B$10:$B$68,0)),\" (\",INDEX('DATA TABLE'!$E$10:$E$68,MATCH($B96,'DATA TABLE'!$B$10:$B$68,0)),\")\"))","v":"% of people (CDC 2023 Behavioral Risk Factor Surveillance System)"}]

{"sheet":"DATA TABLE","index":5,"n_rows":68,"n_cols":59,"rows_kept":68}
[null,null,{"$f":"HOME!B7","v":"THE UNITED STATES OBESITY RESPONSE INDEX"}]
[]
[]
[]
[]
[null,"Data table"]
[]
[]
[null,"No.","Indicator name","Question","Source","Scoring system","Unit","Notes","Year","Alabama","Alaska","Arizona","Arkansas","California","Colorado","Connecticut","Delaware","Florida","Georgia","Hawaii","Idaho","Illinois","Indiana","Iowa","Kansas","Kentucky","Louisiana","Maine","Maryland","Massachusetts","Michigan","Minnesota","Mississippi","Missouri","Montana","Nebraska","Nevada","New Hampshire","New Jersey","New Mexico","New York","North Carolina","North Dakota","Ohio","Oklahoma","Oregon","Pennsylvania","Rhode Island","South Carolina","South Dakota","Tennessee","Texas","Utah","Vermont","Virginia","Washington","West Virginia","Wisconsin","Wyoming"]
[null,0,"OVERALL","Composite measure, scored as the weighted average of the following pillar scores: \n1. Policy and governance\n2. Food quality and access\n3. Physical activity","Economist Impact calculations"]
[null,1,"Policy and governance"]
[null,1.1,"Obesity-related policy"]
[null,"1.1.1","Health policy/strategy/plan that includes obesity","Does the state-level health policy/strategy/plan specify obesity as a priority area?","Economist Impact research","0 = No, or there is either no state-level health policy/strategy/plan in place OR one that is currently valid\n1 = Yes","Qualitative rating 0-1; 1=best",null,null,0,1,0,1,1,0,0,0,1,0,1,1,1,0,0,0,0,1,0,0,0,0,0,1,1,1,1,0,0,1,1,0,0,0,0,1,0,1,1,0,1,1,0,0,0,1,0,0,0,0]
[null,"1.1.2","Definition of obesity","Does the state define obesity as a chronic disease and connect obesity to its related chronic diseases (e.g cardiovascular disease, diabetes)?","Economist Impact research","0 = No\n1 = Yes, it defines obesity as a chronic disease OR makes reference to other chronic diseases related to obesity (e.g diabetes, cardiovascular disease, obstructive sleep apnea)\n2 = Yes, it defines obesity as a chronic disease AND makes reference to other chronic diseases related to obesity (e.g diabetes, cardiovascular disease, obstructive sleep apnea)","Qualitative rating 0-2; 2=best",null,null,2,2,0,0,2,2,2,1,1,1,1,1,2,2,1,0,1,1,2,2,1,2,1,2,1,0,1,2,2,1,2,1,1,0,1,1,2,2,1,1,1,1,1,2,2,0,1,2,1,0]
[null,"1.1.3","Obesity-related policy/strategy/plan","Composite measure: comprehensiveness of the obesity-related policy/strategy/plan","Economist Impact calculations"]
[null,"1.1.3a","Existence of an obesity-related policy/strategy/plan","Does the state have an obesity-related policy/strategy/plan?","Economist Impact research","0 = No\n1 = Yes, but the document is not periodically updated or currently valid\n2 = Yes, the document is periodically updated or currently valid","Qualitative rating 0-2; 2=best",null,null,2,0,1,1,1,2,0,1,0,0,2,0,0,1,1,0,1,0,2,1,0,2,1,1,0,0,1,1,0,1,0,1,0,0,1,2,2,0,2,0,1,1,2,2,0,0,1,1,2,0]
[null,"1.1.3b","Engagement with stakeholders during development","Were stakeholders from various sectors involved in the development of the state-level obesity-related policy/strategy/plan?","Economist Impact research","0 = No, only health-focused stakeholders were involved in developing the policy OR there is either no state-level obesity-related policy/strategy/plan in place or one that is periodically updated or currently valid\n1 = Yes, stakeholders from at least two sectors (e.g health, agriculture, education, finance, urban planning) were involved in developing the policy\n2 = Yes, stakeholders from three or more sectors (e.g health, agriculture, education, finance, urban planning) OR people living with obesity were involved in developing the policy\n3 = Yes, stakeholders from three or more sectors (e.g health, agriculture, education, finance, urban planning) AND people living with obesity were involved in developing the policy","Qualitative rating 0-3; 3=best",null,null,2,0,0,0,0,2,0,0,0,0,2,0,0,0,0,0,0,0,2,0,0,0,0,0,0,0,0,0,0,0,0,0,0,0,0,2,0,0,2,0,0,0,0,2,0,0,0,0,1,0]
[null,"1.1.3c","Measures for obesity prevention","Does the state-level obesity-related policy/strategy/plan contain measures for obesity prevention across the population?","Economist Impact research","0 = No, or there is either no state-level obesity-related policy/strategy/plan in place OR one that is periodically updated or currently valid\n1 = Yes, but the measures do not include clear actions or specific targets\n2 = Yes, there are measures with clear actions or specific targets, but they lack methods of evaluation\n3 = Yes, there are measures with clear actions or specific targets AND methods of evaluation","Qualitative rating 0-3; 3=best",null,null,3,0,0,0,0,2,0,0,0,0,3,0,0,0,0,0,0,0,1,0,0,1,0,0,0,0,0,0,0,0,0,0,0,0,0,3,3,0,3,0,0,0,2,2,0,0,0,0,1,0]
[null,"1.1.3d","Measures for obesity management","Does the state-level obesity-related policy/strategy/plan contain measures for obesity management across the population?","Economist Impact research","0 = No, or there is either no state-level obesity-related policy/strategy/plan in place OR one that is periodically updated or currently valid\n1 = Yes, but the measures do not include clear actions or specific targets\n2 = Yes, there are measures with clear actions or specific targets, but they lack methods of evaluation\n3 = Yes, there are measures with clear actions or specific targets AND methods of evaluation","Qualitative rating 0-3; 3=best",null,null,0,0,0,0,0,2,0,0,0,0,3,0,0,0,0,0,0,0,0,0,0,1,0,0,0,0,0,0,0,0,0,0,0,0,0,3,1,0,1,0,0,0,1,2,0,0,0,0,0,0]
[null,"1.1.3e","Targets for obesity prevalence reduction","Does the state-level obesity-related policy/strategy/plan contain targets for obesity prevalence reduction across the population?","Economist Impact research","0 = No, or there is either no state-level obesity-related policy/strategy/plan in place OR one that is periodically updated or currently valid\n1 = Yes, short-term targets (0-5 years) OR long-term targets (6 years+)\n2 = Yes, short-term targets (0-5 years) AND long-term targets (6 years+)","Qualitative rating 0-2; 2=best",null,null,0,0,0,0,0,1,0,0,0,0,1,0,0,0,0,0,0,0,0,0,0,0,0,0,0,0,0,0,0,0,0,0,0,0,0,1,1,0,0,0,0,0,0,0,0,0,0,0,0,0]
[null,"1.1.3f","Focus on vulnerable groups","Does the state-level obesity-related policy/strategy/plan include a particular focus on the prevention and management of obesity in groups at increased risk of developing obesity?","Economist Impact research","0 = No, or there is either no state-level obesity-related policy/strategy/plan in place OR one that is periodically updated or currently valid\n1 = Yes, but it does not outline specific actions, targeted interventions or comprehensive strategies to address the unique needs of vulnerable and minority groups (e.g children; low-income populations; ethnic or racial minorities)\n2 = Yes, it outlines well-defined and actionable measures specifically addressing the needs of vulnerable and minority groups (e.g children; low-income populations; ethnic or racial minorities)","Qualitative rating 0-2; 2=best",null,null,2,0,0,0,0,1,0,0,0,0,2,0,0,0,0,0,0,0,1,0,0,0,0,0,0,0,0,0,0,0,0,0,0,0,0,2,2,0,2,0,0,0,0,2,0,0,0,0,2,0]
[null,"1.1.3g","Obesity-related stigma and discrimination","Does the state-level obesity-related policy/strategy/plan make reference to obesity-related stigma/discrimination and contain measures to combat it?","Economist Impact research","0 = No, or there is either no state-level obesity-related policy/strategy/plan in place OR one that is periodically updated or currently valid\n1 = Yes, it mentions obesity-related stigma/discrimination BUT does not contain any measures to combat it\n2 = Yes, it mentions obesity-related stigma/discrimination AND contains measures to combat it","Qualitative rating 0-2; 2=best",null,null,0,0,0,0,0,1,0,0,0,0,0,0,0,0,0,0,0,0,0,0,0,0,0,0,0,0,0,0,0,0,0,0,0,0,0,2,1,0,0,0,0,0,0,0,0,0,0,0,0,0]
[null,"1.1.4","Obesity-related funding","Is there a budget allocated to implement the state-level obesity-related policy/strategy/plan?","Economist Impact research","0 = No, or there is either no state-level obesity-related policy/strategy/plan in place OR one that is periodically updated or currently valid\n1 = Yes","Qualitative rating 0-1; 1=best",null,null,0,0,0,0,0,1,0,0,0,0,0,0,0,0,0,0,0,0,0,0,0,0,0,0,0,0,0,0,0,0,0,0,0,0,0,0,0,0,0,0,0,0,1,0,0,0,0,0,0,0]
[null,"1.1.5","Weight-related discrimination","Does the state have a law that prohibits weight-based discrimination and classifies weight as a protected characteristic?","Economist Impact research","0 = No\n1 = Yes","Qualitative rating 0-1; 1=best",null,null,0,0,0,0,0,0,0,0,0,0,0,0,0,0,0,0,0,0,0,0,0,1,0,0,0,0,0,0,0,0,0,0,0,0,0,0,0,0,0,0,0,0,0,0,0,0,1,0,0,0]
[null,1.2,"Availability and affordability of obesity-related care"]
[null,"1.2.1","Obesity treatment coverage","Are the four elements of comprehensive obesity care (nutrition counseling, intensive behavioral therapy, obesity medications, and metabolic and bariatric surgery) covered by state Medicaid?","Economist Impact research","0 = No\n1 = Yes, one element is covered\n2 = Yes, two elements are covered\n3 = Yes, three elements are covered\n4 = Yes, all four elements are covered","Qualitative rating 0-4; 4=best",null,null,2,2,3,2,4,3,3,4,3,2,3,3,2,3,3,4,3,2,3,4,4,3,4,2,4,1,3,3,3,2,3,1,4,4,3,3,3,3,4,3,3,3,3,3,3,4,3,3,4,3]
[null,"1.2.2","State-level weight loss programmes","Does the state implement Healthy Behaviour Incentive Programmes (HBIPs) in Medicaid to encourage weight loss (e.g. through HBIPs that promote physical activity and healthy eating)?","Economist Impact research","0 = No, the state has not implemented Healthy Behaviour Incentive Programmes (HBIPs) in Medicaid OR the HBIP does not target weight loss\n1 = Yes","Qualitative rating 0-1; 1=best",null,null,0,0,0,0,0,0,0,0,1,0,0,1,0,0,1,0,1,1,0,0,0,0,1,1,0,1,1,1,0,0,1,1,0,0,1,1,0,0,0,0,0,0,0,0,0,0,0,1,0,1]
[null,2,"Food quality and access"]
[null,2.1,"Food access and affordability"]
[null,"2.1.1","Level of food security","What is the level of food security in the state? ","United States Department of Agriculture","Higher = better","% of households experiencing food security",null,2023,88,90,88,81,89,90,90,89,88,87,90,89,88,88,90,89,85,84,89,90,91,87,91,84,87,91,87,87,93,90,87,88,89,91,87,85,87,89,90,86,91,88,83,88,91,90,90,86,89,87]
[null,"2.1.2","Nutrition programmes for lower-income individuals","Composite measure: Supplemental Nutrition Assistance Program monthly benefit and participation rate","Economist Impact calculations"]
[null,"2.1.2a","Supplemental Nutrition Assistance Program (SNAP): monthly benefit per person, adjusted for regional price parities","How much does the Supplemental Nutrition Assistance Program (SNAP) cover monthly per person in the state?","United States Department of Agriculture; United States Bureau of Economic Analysis","Higher = better","Average monthly SNAP benefit per person (US$), adjusted for regional price parities",null,2024,207.07,301.26,187.07,191.7,180.44,191.66,201.7,187.66,203.06,191.98,346.34,191.35,200.39,212.31,181.43,188.66,188.19,214.78,183.31,176.6,196.89,183.07,159.05,195.45,204.16,184.17,194.14,180.64,171.84,184.13,189.63,208.33,207.47,198.22,210.11,209.47,173.04,181.85,209,314.16,208.03,204.9,188.97,211.03,204.22,180.29,173.54,179.24,174.95,193.3]
[null,"2.1.2b","Supplemental Nutrition Assistance Program (SNAP): participation rate","What is the Supplemental Nutrition Assistance Program (SNAP) participation rate in the state?","United States Department of Agriculture","Higher = better","SNAP participation rate (%)",null,2020,81,81,74,62,66,76,89,87,73,72,83,79,100,73,85,70,65,83,90,85,100,85,76,62,84,79,78,84,79,72,100,82,74,66,81,84,100,100,100,69,80,84,69,74,96,77,94,94,92,49]
[null,2.2,"Nutrition regulation"]
[null,"2.2.1","Taxes on unhealthy food and beverages","Does the state levy higher taxes on unhealthy food or beverages than other food or beverage products? ","Economist Impact research","0 = No\n1 = The state levies higher taxes on unhealthy food OR unhealthy beverages\n2 = The state levies higher taxes on both unhealthy food AND unhealthy beverages","Qualitative rating 0-2; 2=best",null,null,0,0,0,2,0,2,2,0,2,0,0,0,2,2,2,0,2,0,2,2,0,0,2,0,0,0,0,0,0,0,0,2,2,2,1,0,0,0,2,0,0,1,2,0,1,1,1,0,2,0]
[null,2.3,"Nutrition in schools"]
[null,"2.3.1","School nutrition standards","Does the state have its own nutrition standards for school food and/or adhere to federal nutrition standards for school food?","Economist Impact research","0 = No\n1 = Yes, the state has its own nutrition standards for school food AND/OR adheres to federal nutrition standards for school food","Qualitative rating 0-1; 1=best",null,null,1,1,1,1,1,1,1,1,1,1,1,1,1,1,1,1,1,1,1,1,1,1,1,1,1,0,1,1,1,1,1,1,1,1,1,1,1,1,1,1,1,1,1,1,1,1,1,1,1,1]
[null,"2.3.2","Nutrition education","Does the state mandate nutrition education in schools?","Economist Impact research","0 = No \n1 = Yes, the state's curriculum includes nutrition education","Qualitative rating 0-1; 1=best",null,null,1,1,1,1,1,1,0,1,1,1,1,1,1,1,1,0,1,1,0,1,1,1,1,1,1,1,1,1,0,1,1,1,1,0,1,1,1,1,0,1,1,1,1,1,1,1,1,1,1,1]
[null,"2.3.3","Universal free school meals","Does the state mandate the provision of free or reduced-price meals in schools?","Economist Impact research","0 = No\n1 = Yes, but only certain students are eligible\n2 = Yes, for all students","Qualitative rating 0-2; 2=best",null,null,0,0,1,1,2,0,0,0,0,1,1,0,1,0,2,2,1,1,2,1,2,2,2,0,0,0,0,1,1,1,2,0,1,0,1,0,1,2,1,1,0,1,1,0,2,1,2,1,0,0]
[null,3,"Physical activity"]
[null,3.1,"Physical activity among the population"]
[null,"3.1.1","Promotion of physical activity","Does the state have policies in place to promote physical activity amongst the general population?","Economist Impact research","0 = No\n1 = Yes, but they do not focus on promoting active travel (e.g walking, cycling) or reducing car usage\n2 = Yes, they focus on either promoting active travel (e.g walking, cycling) OR reducing car usage\n3 = Yes, they focus on both promoting active travel (e.g walking, cycling) AND reducing car usage","Qualitative rating 0-3; 3=best",null,null,2,2,3,2,3,3,2,3,1,1,2,1,3,3,1,3,3,2,2,2,1,1,2,3,2,2,0,3,2,2,2,2,2,0,3,3,3,2,2,0,2,2,1,3,2,2,3,2,2,2]
[null,"3.1.2","Access to exercise facilities","What is the level of access to exercise opportunities in the state?","University of Wisconsin Population Health Institute","Higher = better","% of population with adequate access to locations for physical activity",null,2025,61,79,86,63,94,90,93,79,88,75,93,77,91,76,80,80,70,76,67,92,95,86,86,58,77,74,85,91,85,96,76,93,78,76,84,71,88,86,96,69,73,68,82,85,70,84,86,59,84,77]
[null,3.2,"Physical activity among children"]
[null,"3.2.1","Physical activity mandates","Does the state mandate physical activity in schools?","Economist Impact research","0 = No\n1 = Yes, but less than 60 minutes per day OR the time period is not specified\n2 = Yes, 60 minutes per day (or more), in line with WHO recommendations","Qualitative rating 0-2; 2=best",null,null,1,1,0,1,1,1,1,1,1,1,1,1,1,1,1,0,1,1,1,1,1,1,1,1,1,1,1,1,1,1,1,1,1,1,1,1,1,1,1,1,1,1,1,1,1,2,1,1,1,1]
[null,null,"BACKGROUND INDICATORS"]
[null,"BG01","Adult obesity prevalence","% of adults with a body mass index (BMI) greater than or equal to 30","CDC 2023 Behavioral Risk Factor Surveillance System",null,"% of people",null,2023,39.2,{"v":35.2,"d":"35.20"},{"v":31.9,"d":"31.90"},{"v":40,"d":"40.00"},{"v":27.7,"d":"27.70"},{"v":24.9,"d":"24.90"},{"v":29.4,"d":"29.40"},{"v":35.7,"d":"35.70"},{"v":30.1,"d":"30.10"},{"v":35,"d":"35.00"},{"v":26.1,"d":"26.10"},{"v":31,"d":"31.00"},{"v":36,"d":"36.00"},{"v":37.8,"d":"37.80"},{"v":37.8,"d":"37.80"},{"v":35.9,"d":"35.90"},{"v":37.7,"d":"37.70"},{"v":39.9,"d":"39.90"},{"v":32.6,"d":"32.60"},{"v":34.1,"d":"34.10"},{"v":27.4,"d":"27.40"},{"v":35.4,"d":"35.40"},{"v":33.3,"d":"33.30"},{"v":40.1,"d":"40.10"},{"v":35.3,"d":"35.30"},{"v":30.5,"d":"30.50"},{"v":36.6,"d":"36.60"},{"v":30.8,"d":"30.80"},{"v":32.8,"d":"32.80"},{"v":28.9,"d":"28.90"},{"v":35.3,"d":"35.30"},{"v":28,"d":"28.00"},{"v":34,"d":"34.00"},{"v":35.6,"d":"35.60"},{"v":36.4,"d":"36.40"},{"v":38.7,"d":"38.70"},{"v":33.6,"d":"33.60"},{"v":33.4,"d":"33.40"},{"v":31.6,"d":"31.60"},{"v":36,"d":"36.00"},{"v":36,"d":"36.00"},{"v":37.6,"d":"37.60"},{"v":34.4,"d":"34.40"},{"v":30.2,"d":"30.20"},{"v":28.8,"d":"28.80"},{"v":34.3,"d":"34.30"},{"v":30.6,"d":"30.60"},{"v":41.2,"d":"41.20"},{"v":35.9,"d":"35.90"},{"v":33.3,"d":"33.30"}]
[null,"BG02a","Obesity prevalence by gender: Men","% of men with a body mass index (BMI) greater than or equal to 30","CDC 2023 Behavioral Risk Factor Surveillance System",null,"% of men",null,2023,37.8,35.9,32.1,38.4,28.4,24.5,28.8,33.6,30.9,31.7,26.9,30.9,35.9,35.2,37,35.7,38.6,38,31.8,32.8,27,33.3,33.4,38,34.5,30,36.6,29.6,34.7,29.2,37.4,27.3,31.4,35.8,35.8,38.2,33.1,32.4,31.6,32.3,37.8,35.8,33.4,30.1,29.4,32.6,30.4,40.1,34.5,32.1]
[null,"BG02b","Obesity prevalence by gender: Women","% of women with a body mass index (BMI) greater than or equal to 30","CDC 2023 Behavioral Risk Factor Surveillance System",null,"% of women",null,2023,40.7,34.3,31.6,41.7,26.9,25.3,30,37.7,29.3,38.2,25.3,31,36,40.5,38.6,36.1,36.7,41.8,33.5,35.2,27.8,37.5,33.1,42,36.1,30.9,36.6,32,30.7,28.6,33.3,28.7,36.6,35.2,37,39.3,34.2,34.3,31.5,39.6,34.1,39.4,35.5,30.2,28.1,35.9,30.9,42.2,37.5,34.7]
[null,"BG03a","Obesity prevalence by race/ethnicity: White","% of adults with a body mass index (BMI) greater than or equal to 30, by race/ethnicity","CDC 2023 Behavioral Risk Factor Surveillance System",null,"% of people by race/ethnicity",null,2023,36,34.5,29.4,38.1,25,23.4,27.2,35.4,29.6,32.7,19.8,30.1,36.1,37.8,37.8,35.2,37.4,35.7,33.1,31.6,26.9,34.7,34,37.1,34.8,29.8,37.2,29.9,33.2,27.3,30.2,28.2,31.9,35.4,36.3,37.9,33,34.1,30.8,32.9,36.5,36.3,33.6,29.3,28.6,34,30.9,41.5,36.2,32.4]
[null,"BG03b","Obesity prevalence by race/ethnicity: Black","% of adults with a body mass index (BMI) greater than or equal to 30, by race/ethnicity","CDC 2023 Behavioral Risk Factor Surveillance System",null,"% of people by race/ethnicity",null,2023,49.1,46.3,33.8,50.7,36.9,28.8,42.8,45.1,39.2,43.2,25.7,"No data",44.2,45.2,40.8,42.8,41.6,49.2,24.4,41.4,32.1,43.8,34.3,47.7,43,"No data",36,39.4,"No data",36.1,35.6,35.6,46.9,27.9,42.3,45.6,35.7,38.3,33.6,46.6,30.8,45.6,42.1,32.2,20.8,42.9,38.9,42.2,43.1,"No data"]
[null,"BG03c","Obesity prevalence by race/ethnicity: Hispanic","% of adults with a body mass index (BMI) greater than or equal to 30, by race/ethnicity","CDC 2023 Behavioral Risk Factor Surveillance System",null,"% of people by race/ethnicity",null,2023,36.6,37.1,37,40.1,36.1,30.7,36.9,28.8,28.5,35.6,33.4,36.2,38.9,38.8,37.4,37.2,43.7,36.5,32.2,37.8,39.4,43,31.8,30.6,33.5,38.7,37.1,33.4,41.9,35.3,39.4,30.7,34.3,30.9,37.3,42.7,41.2,36.1,38.1,34,29.2,39.6,35.9,35.7,40.1,31.7,37.9,43.6,36.3,36.9]
[null,"BG03d","Obesity prevalence by race/ethnicity: Asian/Native Hawaiian or Pacific Islander","% of adults with a body mass index (BMI) greater than or equal to 30, by race/ethnicity","CDC 2023 Behavioral Risk Factor Surveillance System",null,"% of people by race/ethnicity",null,2023,"No data",35.4,14.5,"No data",13.4,14.4,14.8,"No data","No data","No data",24.4,"No data",9.9,12.1,19,14.3,"No data",19.9,"No data",14.8,12.1,12.7,18.2,"No data","No data","No data",17.8,"No data","No data",16.6,"No data",13.9,"No data","No data",16.6,17.4,18,17.4,"No data","No data","No data","No data",14.1,31.1,"No data",13.5,15.5,"No data",12.1,"No data"]
[null,"BG04a","Obesity prevalence by education level: Less than high school","% of adults with a body mass index (BMI) greater than or equal to 30, by education level","CDC 2022 Behavioral Risk Factor Surveillance System",null,"% of people by education level",null,2022,39.8,36.6,37.2,49.4,35.8,30.3,35.9,31.6,35.2,41.2,30.3,37.7,42.4,43.9,38.6,36.9,34.5,46.3,37.1,41.3,40.1,35.5,36.5,49.8,39.9,30.8,40.4,29.8,46.6,39,46,31.2,44.4,38.9,35.7,43,48.8,45.5,40.5,41,33,36.5,41,37.9,38.2,42.1,41.8,39.2,42.2,40.9]
[null,"BG04b","Obesity prevalence by education level: High school or GED","% of adults with a body mass index (BMI) greater than or equal to 30, by education level","CDC 2022 Behavioral Risk Factor Surveillance System",null,"% of people by education level",null,2022,42.2,38.1,31.3,41.8,36.6,31.5,36.4,44.4,32.6,41.9,34.1,36,43.3,41.3,42,42.3,40.9,42.2,37.5,40.1,34.7,39.9,39.2,41,38.1,36,40.8,34,39.1,36,40.9,35,35.8,38,40.3,41.3,37.9,36.1,39.7,38.4,35.4,40.9,40.5,35.1,34.4,42.1,36.7,46.3,40,37.7]
[null,"BG04c","Obesity prevalence by education level: Some post-high school","% of adults with a body mass index (BMI) greater than or equal to 30, by education level","CDC 2022 Behavioral Risk Factor Surveillance System",null,"% of people by education level",null,2022,44.2,40.6,39.3,43.5,33.4,31.2,35.9,44.3,34.8,40,27.3,35,42.7,41.1,42,41.8,40.1,43.9,38.8,39.8,31.2,41.2,39.8,43.4,40.7,34.6,42,35.8,36.6,32.3,36,34.3,39.6,41.3,44.4,38,32.1,34.8,32.1,41.3,42.3,42.8,37.9,36.4,34.4,40.1,36,45.4,39.4,37.4]
[null,"BG04d","Obesity prevalence by education level: College grad","% of adults with a body mass index (BMI) greater than or equal to 30, by education level","CDC 2022 Behavioral Risk Factor Surveillance System",null,"% of people by education level",null,2022,36.9,31.8,27.2,35.3,19.9,20.4,24.5,28.1,25.9,30.4,20.3,26,31,35.2,35,32,31.6,36.5,25.5,30,22.6,32.2,28.7,36.8,33.2,25.4,35.1,27.5,27.5,25.1,29.7,23,32.2,33.6,32.6,33.4,28,25.5,27.8,30.6,37.2,34,31,27.2,24.3,30.1,24.5,36.7,34.4,27.4]
[null,"BG05a","Obesity prevalence by rural/urban area: Metro","% of adults in metropolitan areas with a body mass index (BMI) greater than or equal to 30","CDC 2022 Behavioral Risk Factor Surveillance System",null,"% of people in metropolitan areas",null,2022,38.7,35.7,31.7,38.2,27.6,25.1,29.4,35.7,29.9,34.6,26,30.8,35,36.8,35.8,34.3,33.1,39.3,31.3,34,27.5,34.8,32.3,38.3,34.9,32.2,35.5,29.9,32.9,28.9,34,27.5,32.2,33.3,35.2,37.8,33,30.1,31.6,35.4,33.5,36,34.1,30.4,26.5,33.1,30.3,40.5,35.5,34.7]
[null,"BG05b","Obesity prevalence by rural/urban area: Non-metro","% of adults in non-metropolitan areas with a body mass index (BMI) greater than or equal to 30","CDC 2022 Behavioral Risk Factor Surveillance System",null,"% of people in non-metropolitan areas",null,2022,40.9,34,35.3,42.7,30.6,23.4,26.2,"No data",35.8,37,26.5,31.3,42.9,41.4,40.4,39.5,30.2,42.8,34.6,36.3,23.2,37.8,36.4,41.4,36.3,26.8,38.7,38.8,32.6,"No data",38.1,34.2,40.5,38,41.4,40.5,36.4,29.4,"No data",39.7,38.7,42,37.6,27.9,30,40.7,33.6,42.2,37,32.7]
[null,"BG06","Childhood obesity prevalence","% of children with a body mass index (BMI) greater than or equal to 30","National Survey of Children’s Health",null,"% of children",null,2023,22.8,17.9,18.7,22.7,16.9,12.5,15.8,20.2,13.8,17.2,18.5,14.7,17,16.3,16.5,15.1,18.7,23.1,18.9,16.5,12.9,15.5,11.8,25,15.2,14.1,14,15.6,11.2,16.7,17.2,17,15.6,13.4,18.3,19.3,14.7,15.5,19.3,18.1,13.1,19.9,21,12.1,11.2,13.7,14.8,24.1,18.4,13.5]
[null,"BG07","Life expectancy","Life expectancy at birth","CDC National Vital Statistics Reports",null,"Years",null,2021,72,74.5,75,72.5,78.3,77.7,79.2,76.3,76.1,74.3,79.9,77.2,77.1,74.6,77.7,76,72.3,72.2,76.7,77.2,79.6,75.7,78.8,70.9,74.6,75.8,77.8,75.1,78.5,79,73,79,74.9,77.6,74.5,72.7,77.4,76.4,78.5,73.5,76.6,72.4,75.4,78.2,78.4,76.8,78.2,71,77.8,75]
[null,"BG08","Household income","Real median household income","Federal Reserve Bank of St. Louis",null,"USD",null,2023,{"v":60660,"d":"60,660"},{"v":98190,"d":"98,190"},{"v":82660,"d":"82,660"},{"v":63250,"d":"63,250"},{"v":89870,"d":"89,870"},{"v":96640,"d":"96,640"},{"v":92240,"d":"92,240"},{"v":86340,"d":"86,340"},{"v":72200,"d":"72,200"},{"v":72420,"d":"72,420"},{"v":97360,"d":"97,360"},{"v":73910,"d":"73,910"},{"v":87820,"d":"87,820"},{"v":76910,"d":"76,910"},{"v":80860,"d":"80,860"},{"v":84830,"d":"84,830"},{"v":61980,"d":"61,980"},{"v":57650,"d":"57,650"},{"v":75740,"d":"75,740"},{"v":102000,"d":"102,000"},{"v":106500,"d":"106,500"},{"v":76960,"d":"76,960"},{"v":90340,"d":"90,340"},{"v":55060,"d":"55,060"},{"v":78290,"d":"78,290"},{"v":79220,"d":"79,220"},{"v":89190,"d":"89,190"},{"v":81310,"d":"81,310"},{"v":98780,"d":"98,780"},{"v":91590,"d":"91,590"},{"v":60980,"d":"60,980"},{"v":81600,"d":"81,600"},{"v":68610,"d":"68,610"},{"v":76960,"d":"76,960"},{"v":73770,"d":"73,770"},{"v":67330,"d":"67,330"},{"v":88740,"d":"88,740"},{"v":79820,"d":"79,820"},{"v":81860,"d":"81,860"},{"v":69100,"d":"69,100"},{"v":81740,"d":"81,740"},{"v":72700,"d":"72,700"},{"v":79060,"d":"79,060"},{"v":101200,"d":"101,200"},{"v":85190,"d":"85,190"},{"v":96490,"d":"96,490"},{"v":93440,"d":"93,440"},{"v":60410,"d":"60,410"},{"v":79690,"d":"79,690"},{"v":77200,"d":"77,200"}]
[null,"BG09","Gini Index of Income Inequality","Gini coefficient","U.S. Census Bureau, 2023 American Community Survey",null,"0-1","Note: The Gini coefficient measures inequality on a scale from 0 to 1. Higher values indicate higher inequality.",2023,{"v":0.4771,"d":"0.5"},{"v":0.4492,"d":"0.4"},{"v":0.465,"d":"0.5"},{"v":0.474,"d":"0.5"},{"v":0.487,"d":"0.5"},{"v":0.4575,"d":"0.5"},{"v":0.4954,"d":"0.5"},{"v":0.4557,"d":"0.5"},{"v":0.4829,"d":"0.5"},{"v":0.4787,"d":"0.5"},{"v":0.4512,"d":"0.5"},{"v":0.4404,"d":"0.4"},{"v":0.481,"d":"0.5"},{"v":0.4536,"d":"0.5"},{"v":0.4464,"d":"0.4"},{"v":0.4518,"d":"0.5"},{"v":0.4759,"d":"0.5"},{"v":0.4967,"d":"0.5"},{"v":0.4509,"d":"0.5"},{"v":0.4561,"d":"0.5"},{"v":0.4879,"d":"0.5"},{"v":0.4658,"d":"0.5"},{"v":0.4541,"d":"0.5"},{"v":0.4843,"d":"0.5"},{"v":0.4608,"d":"0.5"},{"v":0.4601,"d":"0.5"},{"v":0.4634,"d":"0.5"},{"v":0.4632,"d":"0.5"},{"v":0.4446,"d":"0.4"},{"v":0.4794,"d":"0.5"},{"v":0.4771,"d":"0.5"},{"v":0.5157,"d":"0.5"},{"v":0.4732,"d":"0.5"},{"v":0.4451,"d":"0.4"},{"v":0.4695,"d":"0.5"},{"v":0.4737,"d":"0.5"},{"v":0.4636,"d":"0.5"},{"v":0.4774,"d":"0.5"},{"v":0.4661,"d":"0.5"},{"v":0.4715,"d":"0.5"},{"v":0.462,"d":"0.5"},{"v":0.476,"d":"0.5"},{"v":0.479,"d":"0.5"},{"v":0.4225,"d":"0.4"},{"v":0.4549,"d":"0.5"},{"v":0.4723,"d":"0.5"},{"v":0.4703,"d":"0.5"},{"v":0.4679,"d":"0.5"},{"v":0.4479,"d":"0.4"},{"v":0.4455,"d":"0.4"}]
[null,"BG10","Location quotient for dietitians and nutritionists","The ratio of the area concentration of occupational employment to the national average concentration","U.S. Bureau of Labor Statistics, 2023",null,null,"Note: A location quotient greater than 1 indicates the occupation has a higher share of employment than average, and a location quotient less than 1 indicates the occupation is less prevalent in the area than average.",2023,0.8,0.9,0.8,1.1,1.1,1,1.1,1.5,0.9,0.7,1.2,0.6,0.8,1,0.8,0.7,1.1,0.7,0.8,1,1.3,1,1.2,1,1.6,1.2,1,0.7,0.9,1.1,1.1,1.1,0.9,0.8,1.1,0.9,0.7,1.3,1.4,0.8,0.9,1,0.8,1.6,1.2,0.8,1,1.4,1,0.8]
[null,"BG11","Healthcare spending per capita","State dollars dedicated to public health per person","CDC, HRSA and Trust for America's Health",null,"USD",null,"2022-2023",137,334,84,128,173,132,119,149,77,122,156,119,110,73,105,95,108,130,157,210,205,79,127,119,92,143,118,66,109,95,300,178,78,162,97,143,191,79,333,102,136,132,78,95,206,107,139,161,69,123]
[null,"BG12","Health insured population","% of adults with health insurance","U.S. Census Bureau, 2023 American Community Survey",null,"% of people",null,2023,13.3,15.4,14.4,13,10.1,9.8,7.3,10.1,16.5,17.2,4.9,12.9,9.6,9.5,7.5,12.7,8.2,10.6,9,9.3,4.2,6.8,6,15.8,11,12.3,9.4,16.4,6.9,11.4,14.2,7.6,14.1,6.5,8.9,16.8,8.4,7.7,6.9,13.7,11.8,13.9,23.6,10.7,5.2,9.6,9.6,9.3,7,15.8]
[null,"BG13","Access to a personal doctor","% of adults who report having a personal doctor/healthcare provider","CDC 2023 Behavioral Risk Factor Surveillance System",null,"% of people",null,2023,82.4,79.1,79.8,84.8,81.5,81,87.2,87.4,80,81.6,86.9,82.8,83.4,86.4,82.2,84.9,88.8,86.3,90.3,89,91,88,83.2,82.3,83.8,80.7,80.3,73.5,92,85.2,73.5,87.1,83.1,84,87.4,81.5,84.1,89.8,88.6,82.7,86.3,83,74.6,71.6,91.6,84.2,85.8,81.3,84.1,76.5]
[null,"BG14","Physical activity","% of adults who met the federal physical activity guidelines (150 minutes of moderate or 75 minutes of vigorous aerobic activity and two days of muscle strengthening per week) in the past 30 days","CDC 2023 Behavioral Risk Factor Surveillance System",null,"% of people",null,2023,25,33.9,33.3,26.8,30.1,35.4,31.4,28.3,31.5,29.6,31.8,29.4,29.1,29.3,25.9,26.8,35.3,26.9,31,30.8,31.1,30.2,30.2,23.4,23.7,32.2,28.2,31,33.1,31.3,30.4,30.8,26,30.9,30.6,23.4,32.4,49.9,29.9,31.6,26.5,27.4,30.9,33.1,33.7,31.8,31.8,20.6,27.5,30.1]

{"sheet":"SCORE TABLE","index":6,"n_rows":45,"n_cols":55,"rows_kept":45}
[null,null,{"$f":"HOME!B7","v":"THE UNITED STATES OBESITY RESPONSE INDEX"}]
[]
[]
[]
[]
[null,"Score table"]
[]
[]
[null,"No.","Indicator name","Weight","Contribution to overall score","Alabama","Alaska","Arizona","Arkansas","California","Colorado","Connecticut","Delaware","Florida","Georgia","Hawaii","Idaho","Illinois","Indiana","Iowa","Kansas","Kentucky","Louisiana","Maine","Maryland","Massachusetts","Michigan","Minnesota","Mississippi","Missouri","Montana","Nebraska","Nevada","New Hampshire","New Jersey","New Mexico","New York","North Carolina","North Dakota","Ohio","Oklahoma","Oregon","Pennsylvania","Rhode Island","South Carolina","South Dakota","Tennessee","Texas","Utah","Vermont","Virginia","Washington","West Virginia","Wisconsin","Wyoming"]
[null,0,"OVERALL",null,null,{"$f":"SUM($D11*F11,$D28*F28,$D40*F40)","v":{"v":43.67517026227893,"d":"44"}},{"v":48.07214005612211,"d":"48"},{"v":38.785946927225154,"d":"39"},{"v":54.132394207438246,"d":"54"},{"v":58.12279975795112,"d":"58"},{"v":65.48828243187924,"d":"65"},{"v":54.141819578668844,"d":"54"},{"v":48.85951228338702,"d":"49"},{"v":64.1156940217488,"d":"64"},{"v":39.775435895610485,"d":"40"},{"v":54.80092814814814,"d":"55"},{"v":52.13646246759333,"d":"52"},{"v":63.7335015217043,"d":"64"},{"v":59.22510693458154,"d":"59"},{"v":64.35970509192516,"d":"64"},{"v":38.068788153843414,"d":"38"},{"v":66.49700256880297,"d":"66"},{"v":54.78025907534957,"d":"55"},{"v":56.8366622469017,"d":"57"},{"v":61.63066189688005,"d":"62"},{"v":48.533443382514335,"d":"49"},{"v":50.967364186140315,"d":"51"},{"v":69.19444444444444,"d":"69"},{"v":55.41949353646454,"d":"55"},{"v":48.88200859036194,"d":"49"},{"v":45.131824680679394,"d":"45"},{"v":50.34450881283333,"d":"50"},{"v":59.329469746857214,"d":"59"},{"v":43.66191616091504,"d":"44"},{"v":48.10345364586114,"d":"48"},{"v":60.64798945188981,"d":"61"},{"v":60.55496674794287,"d":"61"},{"$f":"SUM($D11*AL11,$D28*AL28,$D40*AL40)","v":{"v":58.47739690675778,"d":"58"}},{"v":45.28465066059171,"d":"45"},{"v":62.98877409365155,"d":"63"},{"v":60.36354346248538,"d":"60"},{"v":52.88341868694419,"d":"53"},{"v":53.14371206862796,"d":"53"},{"v":62.490829729296806,"d":"62"},{"v":40.25420619241699,"d":"40"},{"v":47.05051732013929,"d":"47"},{"v":53.939280141907076,"d":"54"},{"v":57.78634885887007,"d":"58"},{"v":50.539456042619584,"d":"51"},{"v":54.36437995740414,"d":"54"},{"v":63.157612081086356,"d":"63"},{"v":59.992685140690895,"d":"60"},{"v":54.08648352821827,"d":"54"},{"v":58.67100708099738,"d":"59"},{"v":48.99871708164996,"d":"49"}]
[null,1,"Policy and governance",{"$f":"1/3","v":{"v":0.3333333333333333,"d":"33%"}},{"$f":"1/3","v":{"v":0.3333333333333333,"d":"33%"}},{"$f":"ROUND(SUM($D12*F12,$D25*F25),5)","v":{"v":28.33334,"d":"28"}},{"v":32.5,"d":"33"},20,{"v":23.75,"d":"24"},{"v":46.25,"d":"46"},{"v":45.625,"d":"46"},{"v":28.75,"d":"29"},{"v":31.25,"d":"31"},{"v":58.75,"d":"59"},{"v":17.5,"d":"18"},{"v":41.45834,"d":"41"},{"v":58.75,"d":"59"},{"v":32.5,"d":"33"},30,50,25,50,{"v":52.5,"d":"53"},{"v":33.125,"d":"33"},{"v":36.25,"d":"36"},30,{"v":42.08334,"d":"42"},{"v":56.25,"d":"56"},{"v":58.75,"d":"59"},40,{"v":41.25,"d":"41"},60,55,{"v":28.75,"d":"29"},{"v":28.75,"d":"29"},{"v":63.75,"d":"64"},{"v":37.5,"d":"38"},{"$f":"ROUND(SUM($D12*AL12,$D25*AL25),5)","v":30},25,50,{"v":67.70834,"d":"68"},{"v":35.41667,"d":"35"},{"v":38.75,"d":"39"},{"v":46.25,"d":"46"},{"v":23.75,"d":"24"},35,35,{"v":37.5,"d":"38"},35,{"v":28.75,"d":"29"},35,35,55,{"v":34.58334,"d":"35"},{"v":43.75,"d":"44"}]
[null,1.1,"Obesity-related policy",{"v":0.5,"d":"50%"},{"$f":"0.5*$E$11","v":{"v":0.16666666666666666,"d":"17%"}},{"$f":"ROUND(SUM($D13*F13,$D14*F14,$D15*F15,$D23*F23,$D24*F24),5)","v":{"v":31.66667,"d":"32"}},40,{"v":2.5,"d":"3"},{"v":22.5,"d":"23"},{"v":42.5,"d":"43"},{"v":53.75,"d":"54"},20,{"v":12.5,"d":"13"},30,10,{"v":45.41667,"d":"45"},30,40,{"v":22.5,"d":"23"},{"v":12.5,"d":"13"},0,{"v":12.5,"d":"13"},30,{"v":28.75,"d":"29"},{"v":22.5,"d":"23"},10,{"v":46.66667,"d":"47"},{"v":12.5,"d":"13"},{"v":42.5,"d":"43"},30,20,{"v":32.5,"d":"33"},{"v":22.5,"d":"23"},20,{"v":32.5,"d":"33"},40,{"v":12.5,"d":"13"},{"$f":"ROUND(SUM($D13*AL13,$D14*AL14,$D15*AL15,$D23*AL23,$D24*AL24),5)","v":10},0,{"v":12.5,"d":"13"},{"v":47.91667,"d":"48"},{"v":33.33333,"d":"33"},40,{"v":42.5,"d":"43"},10,{"v":32.5,"d":"33"},{"v":32.5,"d":"33"},{"v":37.5,"d":"38"},{"v":32.5,"d":"33"},20,20,{"v":32.5,"d":"33"},{"v":22.5,"d":"23"},{"v":19.16667,"d":"19"},0]
[null,"1.1.1","Health policy/strategy/plan that includes obesity",{"$f":"1/5","v":{"v":0.2,"d":"20%"}},{"$f":"$E$12/5","v":{"v":0.03333333333333333,"d":"3%"}},{"$f":"(('DATA TABLE'!J13-0)/(1-0))*100","v":0},{"$f":"(('DATA TABLE'!K13-0)/(1-0))*100","v":100},{"$f":"(('DATA TABLE'!L13-0)/(1-0))*100","v":0},{"$f":"(('DATA TABLE'!M13-0)/(1-0))*100","v":100},{"$f":"(('DATA TABLE'!N13-0)/(1-0))*100","v":100},{"$f":"(('DATA TABLE'!O13-0)/(1-0))*100","v":0},{"$f":"(('DATA TABLE'!P13-0)/(1-0))*100","v":0},{"$f":"(('DATA TABLE'!Q13-0)/(1-0))*100","v":0},{"$f":"(('DATA TABLE'!R13-0)/(1-0))*100","v":100},{"$f":"(('DATA TABLE'!S13-0)/(1-0))*100","v":0},{"$f":"(('DATA TABLE'!T13-0)/(1-0))*100","v":100},{"$f":"(('DATA TABLE'!U13-0)/(1-0))*100","v":100},{"$f":"(('DATA TABLE'!V13-0)/(1-0))*100","v":100},{"$f":"(('DATA TABLE'!W13-0)/(1-0))*100","v":0},{"$f":"(('DATA TABLE'!X13-0)/(1-0))*100","v":0},{"$f":"(('DATA TABLE'!Y13-0)/(1-0))*100","v":0},{"$f":"(('DATA TABLE'!Z13-0)/(1-0))*100","v":0},{"$f":"(('DATA TABLE'!AA13-0)/(1-0))*100","v":100},{"$f":"(('DATA TABLE'!AB13-0)/(1-0))*100","v":0},{"$f":"(('DATA TABLE'!AC13-0)/(1-0))*100","v":0},{"$f":"(('DATA TABLE'!AD13-0)/(1-0))*100","v":0},{"$f":"(('DATA TABLE'!AE13-0)/(1-0))*100","v":0},{"$f":"(('DATA TABLE'!AF13-0)/(1-0))*100","v":0},{"$f":"(('DATA TABLE'!AG13-0)/(1-0))*100","v":100},{"$f":"(('DATA TABLE'!AH13-0)/(1-0))*100","v":100},{"$f":"(('DATA TABLE'!AI13-0)/(1-0))*100","v":100},{"$f":"(('DATA TABLE'!AJ13-0)/(1-0))*100","v":100},{"$f":"(('DATA TABLE'!AK13-0)/(1-0))*100","v":0},{"$f":"(('DATA TABLE'!AL13-0)/(1-0))*100","v":0},{"$f":"(('DATA TABLE'!AM13-0)/(1-0))*100","v":100},{"$f":"(('DATA TABLE'!AN13-0)/(1-0))*100","v":100},{"$f":"(('DATA TABLE'!AO13-0)/(1-0))*100","v":0},{"$f":"(('DATA TABLE'!AP13-0)/(1-0))*100","v":0},{"$f":"(('DATA TABLE'!AQ13-0)/(1-0))*100","v":0},{"$f":"(('DATA TABLE'!AR13-0)/(1-0))*100","v":0},{"$f":"(('DATA TABLE'!AS13-0)/(1-0))*100","v":100},{"$f":"(('DATA TABLE'!AT13-0)/(1-0))*100","v":0},{"$f":"(('DATA TABLE'!AU13-0)/(1-0))*100","v":100},{"$f":"(('DATA TABLE'!AV13-0)/(1-0))*100","v":100},{"$f":"(('DATA TABLE'!AW13-0)/(1-0))*100","v":0},{"$f":"(('DATA TABLE'!AX13-0)/(1-0))*100","v":100},{"$f":"(('DATA TABLE'!AY13-0)/(1-0))*100","v":100},{"$f":"(('DATA TABLE'!AZ13-0)/(1-0))*100","v":0},{"$f":"(('DATA TABLE'!BA13-0)/(1-0))*100","v":0},{"$f":"(('DATA TABLE'!BB13-0)/(1-0))*100","v":0},{"$f":"(('DATA TABLE'!BC13-0)/(1-0))*100","v":100},{"$f":"(('DATA TABLE'!BD13-0)/(1-0))*100","v":0},{"$f":"(('DATA TABLE'!BE13-0)/(1-0))*100","v":0},{"$f":"(('DATA TABLE'!BF13-0)/(1-0))*100","v":0},{"$f":"(('DATA TABLE'!BG13-0)/(1-0))*100","v":0}]
[null,"1.1.2","Definition of obesity",{"$f":"1/5","v":{"v":0.2,"d":"20%"}},{"$f":"$E$12/5","v":{"v":0.03333333333333333,"d":"3%"}},{"$f":"(('DATA TABLE'!J14-0)/(2-0))*100","v":100},{"$f":"(('DATA TABLE'!K14-0)/(2-0))*100","v":100},{"$f":"(('DATA TABLE'!L14-0)/(2-0))*100","v":0},{"$f":"(('DATA TABLE'!M14-0)/(2-0))*100","v":0},{"$f":"(('DATA TABLE'!N14-0)/(2-0))*100","v":100},{"$f":"(('DATA TABLE'!O14-0)/(2-0))*100","v":100},{"$f":"(('DATA TABLE'!P14-0)/(2-0))*100","v":100},{"$f":"(('DATA TABLE'!Q14-0)/(2-0))*100","v":50},{"$f":"(('DATA TABLE'!R14-0)/(2-0))*100","v":50},{"$f":"(('DATA TABLE'!S14-0)/(2-0))*100","v":50},{"$f":"(('DATA TABLE'!T14-0)/(2-0))*100","v":50},{"$f":"(('DATA TABLE'!U14-0)/(2-0))*100","v":50},{"$f":"(('DATA TABLE'!V14-0)/(2-0))*100","v":100},{"$f":"(('DATA TABLE'!W14-0)/(2-0))*100","v":100},{"$f":"(('DATA TABLE'!X14-0)/(2-0))*100","v":50},{"$f":"(('DATA TABLE'!Y14-0)/(2-0))*100","v":0},{"$f":"(('DATA TABLE'!Z14-0)/(2-0))*100","v":50},{"$f":"(('DATA TABLE'!AA14-0)/(2-0))*100","v":50},{"$f":"(('DATA TABLE'!AB14-0)/(2-0))*100","v":100},{"$f":"(('DATA TABLE'!AC14-0)/(2-0))*100","v":100},{"$f":"(('DATA TABLE'!AD14-0)/(2-0))*100","v":50},{"$f":"(('DATA TABLE'!AE14-0)/(2-0))*100","v":100},{"$f":"(('DATA TABLE'!AF14-0)/(2-0))*100","v":50},{"$f":"(('DATA TABLE'!AG14-0)/(2-0))*100","v":100},{"$f":"(('DATA TABLE'!AH14-0)/(2-0))*100","v":50},{"$f":"(('DATA TABLE'!AI14-0)/(2-0))*100","v":0},{"$f":"(('DATA TABLE'!AJ14-0)/(2-0))*100","v":50},{"$f":"(('DATA TABLE'!AK14-0)/(2-0))*100","v":100},{"$f":"(('DATA TABLE'!AL14-0)/(2-0))*100","v":100},{"$f":"(('DATA TABLE'!AM14-0)/(2-0))*100","v":50},{"$f":"(('DATA TABLE'!AN14-0)/(2-0))*100","v":100},{"$f":"(('DATA TABLE'!AO14-0)/(2-0))*100","v":50},{"$f":"(('DATA TABLE'!AP14-0)/(2-0))*100","v":50},{"$f":"(('DATA TABLE'!AQ14-0)/(2-0))*100","v":0},{"$f":"(('DATA TABLE'!AR14-0)/(2-0))*100","v":50},{"$f":"(('DATA TABLE'!AS14-0)/(2-0))*100","v":50},{"$f":"(('DATA TABLE'!AT14-0)/(2-0))*100","v":100},{"$f":"(('DATA TABLE'!AU14-0)/(2-0))*100","v":100},{"$f":"(('DATA TABLE'!AV14-0)/(2-0))*100","v":50},{"$f":"(('DATA TABLE'!AW14-0)/(2-0))*100","v":50},{"$f":"(('DATA TABLE'!AX14-0)/(2-0))*100","v":50},{"$f":"(('DATA TABLE'!AY14-0)/(2-0))*100","v":50},{"$f":"(('DATA TABLE'!AZ14-0)/(2-0))*100","v":50},{"$f":"(('DATA TABLE'!BA14-0)/(2-0))*100","v":100},{"$f":"(('DATA TABLE'!BB14-0)/(2-0))*100","v":100},{"$f":"(('DATA TABLE'!BC14-0)/(2-0))*100","v":0},{"$f":"(('DATA TABLE'!BD14-0)/(2-0))*100","v":50},{"$f":"(('DATA TABLE'!BE14-0)/(2-0))*100","v":100},{"$f":"(('DATA TABLE'!BF14-0)/(2-0))*100","v":50},{"$f":"(('DATA TABLE'!BG14-0)/(2-0))*100","v":0}]
[null,"1.1.3","Obesity-related policy/strategy/plan",{"$f":"1/5","v":{"v":0.2,"d":"20%"}},{"$f":"$E$12/5","v":{"v":0.03333333333333333,"d":"3%"}},{"$f":"ROUND(SUMPRODUCT($D16:$D22,F16:F22),5)","v":{"v":58.33333,"d":"58"}},{"$f":"ROUND(SUMPRODUCT($D16:$D22,G16:G22),5)","v":0},{"v":12.5,"d":"13"},{"v":12.5,"d":"13"},{"v":12.5,"d":"13"},{"v":68.75,"d":"69"},0,{"v":12.5,"d":"13"},0,0,{"v":77.08333,"d":"77"},0,0,{"v":12.5,"d":"13"},{"v":12.5,"d":"13"},0,{"v":12.5,"d":"13"},0,{"v":43.75,"d":"44"},{"v":12.5,"d":"13"},0,{"v":33.33333,"d":"33"},{"v":12.5,"d":"13"},{"v":12.5,"d":"13"},0,0,{"v":12.5,"d":"13"},{"v":12.5,"d":"13"},0,{"v":12.5,"d":"13"},0,{"v":12.5,"d":"13"},{"$f":"ROUND(SUMPRODUCT($D16:$D22,AL16:AL22),5)","v":0},0,{"v":12.5,"d":"13"},{"v":89.58333,"d":"90"},{"v":66.66667,"d":"67"},0,{"v":62.5,"d":"63"},0,{"v":12.5,"d":"13"},{"v":12.5,"d":"13"},{"v":37.5,"d":"38"},{"v":62.5,"d":"63"},0,0,{"v":12.5,"d":"13"},{"v":12.5,"d":"13"},{"v":45.83333,"d":"46"},0]
[null,"1.1.3a","Existence of an obesity-related policy/strategy/plan",{"v":0.25,"d":"25%"},{"$f":"D16*$E$15","v":{"v":0.008333333333333333,"d":"0.8%"}},{"$f":"(('DATA TABLE'!J16-0)/(2-0))*100","v":100},{"$f":"(('DATA TABLE'!K16-0)/(2-0))*100","v":0},{"$f":"(('DATA TABLE'!L16-0)/(2-0))*100","v":50},{"$f":"(('DATA TABLE'!M16-0)/(2-0))*100","v":50},{"$f":"(('DATA TABLE'!N16-0)/(2-0))*100","v":50},{"$f":"(('DATA TABLE'!O16-0)/(2-0))*100","v":100},{"$f":"(('DATA TABLE'!P16-0)/(2-0))*100","v":0},{"$f":"(('DATA TABLE'!Q16-0)/(2-0))*100","v":50},{"$f":"(('DATA TABLE'!R16-0)/(2-0))*100","v":0},{"$f":"(('DATA TABLE'!S16-0)/(2-0))*100","v":0},{"$f":"(('DATA TABLE'!T16-0)/(2-0))*100","v":100},{"$f":"(('DATA TABLE'!U16-0)/(2-0))*100","v":0},{"$f":"(('DATA TABLE'!V16-0)/(2-0))*100","v":0},{"$f":"(('DATA TABLE'!W16-0)/(2-0))*100","v":50},{"$f":"(('DATA TABLE'!X16-0)/(2-0))*100","v":50},{"$f":"(('DATA TABLE'!Y16-0)/(2-0))*100","v":0},{"$f":"(('DATA TABLE'!Z16-0)/(2-0))*100","v":50},{"$f":"(('DATA TABLE'!AA16-0)/(2-0))*100","v":0},{"$f":"(('DATA TABLE'!AB16-0)/(2-0))*100","v":100},{"$f":"(('DATA TABLE'!AC16-0)/(2-0))*100","v":50},{"$f":"(('DATA TABLE'!AD16-0)/(2-0))*100","v":0},{"$f":"(('DATA TABLE'!AE16-0)/(2-0))*100","v":100},{"$f":"(('DATA TABLE'!AF16-0)/(2-0))*100","v":50},{"$f":"(('DATA TABLE'!AG16-0)/(2-0))*100","v":50},{"$f":"(('DATA TABLE'!AH16-0)/(2-0))*100","v":0},{"$f":"(('DATA TABLE'!AI16-0)/(2-0))*100","v":0},{"$f":"(('DATA TABLE'!AJ16-0)/(2-0))*100","v":50},{"$f":"(('DATA TABLE'!AK16-0)/(2-0))*100","v":50},{"$f":"(('DATA TABLE'!AL16-0)/(2-0))*100","v":0},{"$f":"(('DATA TABLE'!AM16-0)/(2-0))*100","v":50},{"$f":"(('DATA TABLE'!AN16-0)/(2-0))*100","v":0},{"$f":"(('DATA TABLE'!AO16-0)/(2-0))*100","v":50},{"$f":"(('DATA TABLE'!AP16-0)/(2-0))*100","v":0},{"$f":"(('DATA TABLE'!AQ16-0)/(2-0))*100","v":0},{"$f":"(('DATA TABLE'!AR16-0)/(2-0))*100","v":50},{"$f":"(('DATA TABLE'!AS16-0)/(2-0))*100","v":100},{"$f":"(('DATA TABLE'!AT16-0)/(2-0))*100","v":100},{"$f":"(('DATA TABLE'!AU16-0)/(2-0))*100","v":0},{"$f":"(('DATA TABLE'!AV16-0)/(2-0))*100","v":100},{"$f":"(('DATA TABLE'!AW16-0)/(2-0))*100","v":0},{"$f":"(('DATA TABLE'!AX16-0)/(2-0))*100","v":50},{"$f":"(('DATA TABLE'!AY16-0)/(2-0))*100","v":50},{"$f":"(('DATA TABLE'!AZ16-0)/(2-0))*100","v":100},{"$f":"(('DATA TABLE'!BA16-0)/(2-0))*100","v":100},{"$f":"(('DATA TABLE'!BB16-0)/(2-0))*100","v":0},{"$f":"(('DATA TABLE'!BC16-0)/(2-0))*100","v":0},{"$f":"(('DATA TABLE'!BD16-0)/(2-0))*100","v":50},{"$f":"(('DATA TABLE'!BE16-0)/(2-0))*100","v":50},{"$f":"(('DATA TABLE'!BF16-0)/(2-0))*100","v":100},{"$f":"(('DATA TABLE'!BG16-0)/(2-0))*100","v":0}]
[null,"1.1.3b","Engagement with stakeholders during development",{"v":0.125,"d":"13%"},{"$f":"D17*$E$15","v":{"v":0.004166666666666667,"d":"0.4%"}},{"$f":"(('DATA TABLE'!J17-0)/(3-0))*100","v":{"v":66.66666666666666,"d":"67"}},{"$f":"(('DATA TABLE'!K17-0)/(3-0))*100","v":0},{"$f":"(('DATA TABLE'!L17-0)/(3-0))*100","v":0},{"$f":"(('DATA TABLE'!M17-0)/(3-0))*100","v":0},{"$f":"(('DATA TABLE'!N17-0)/(3-0))*100","v":0},{"$f":"(('DATA TABLE'!O17-0)/(3-0))*100","v":{"v":66.66666666666666,"d":"67"}},{"$f":"(('DATA TABLE'!P17-0)/(3-0))*100","v":0},{"$f":"(('DATA TABLE'!Q17-0)/(3-0))*100","v":0},{"$f":"(('DATA TABLE'!R17-0)/(3-0))*100","v":0},{"$f":"(('DATA TABLE'!S17-0)/(3-0))*100","v":0},{"$f":"(('DATA TABLE'!T17-0)/(3-0))*100","v":{"v":66.66666666666666,"d":"67"}},{"$f":"(('DATA TABLE'!U17-0)/(3-0))*100","v":0},{"$f":"(('DATA TABLE'!V17-0)/(3-0))*100","v":0},{"$f":"(('DATA TABLE'!W17-0)/(3-0))*100","v":0},{"$f":"(('DATA TABLE'!X17-0)/(3-0))*100","v":0},{"$f":"(('DATA TABLE'!Y17-0)/(3-0))*100","v":0},{"$f":"(('DATA TABLE'!Z17-0)/(3-0))*100","v":0},{"$f":"(('DATA TABLE'!AA17-0)/(3-0))*100","v":0},{"$f":"(('DATA TABLE'!AB17-0)/(3-0))*100","v":{"v":66.66666666666666,"d":"67"}},{"$f":"(('DATA TABLE'!AC17-0)/(3-0))*100","v":0},{"$f":"(('DATA TABLE'!AD17-0)/(3-0))*100","v":0},{"$f":"(('DATA TABLE'!AE17-0)/(3-0))*100","v":0},{"$f":"(('DATA TABLE'!AF17-0)/(3-0))*100","v":0},{"$f":"(('DATA TABLE'!AG17-0)/(3-0))*100","v":0},{"$f":"(('DATA TABLE'!AH17-0)/(3-0))*100","v":0},{"$f":"(('DATA TABLE'!AI17-0)/(3-0))*100","v":0},{"$f":"(('DATA TABLE'!AJ17-0)/(3-0))*100","v":0},{"$f":"(('DATA TABLE'!AK17-0)/(3-0))*100","v":0},{"$f":"(('DATA TABLE'!AL17-0)/(3-0))*100","v":0},{"$f":"(('DATA TABLE'!AM17-0)/(3-0))*100","v":0},{"$f":"(('DATA TABLE'!AN17-0)/(3-0))*100","v":0},{"$f":"(('DATA TABLE'!AO17-0)/(3-0))*100","v":0},{"$f":"(('DATA TABLE'!AP17-0)/(3-0))*100","v":0},{"$f":"(('DATA TABLE'!AQ17-0)/(3-0))*100","v":0},{"$f":"(('DATA TABLE'!AR17-0)/(3-0))*100","v":0},{"$f":"(('DATA TABLE'!AS17-0)/(3-0))*100","v":{"v":66.66666666666666,"d":"67"}},{"$f":"(('DATA TABLE'!AT17-0)/(3-0))*100","v":0},{"$f":"(('DATA TABLE'!AU17-0)/(3-0))*100","v":0},{"$f":"(('DATA TABLE'!AV17-0)/(3-0))*100","v":{"v":66.66666666666666,"d":"67"}},{"$f":"(('DATA TABLE'!AW17-0)/(3-0))*100","v":0},{"$f":"(('DATA TABLE'!AX17-0)/(3-0))*100","v":0},{"$f":"(('DATA TABLE'!AY17-0)/(3-0))*100","v":0},{"$f":"(('DATA TABLE'!AZ17-0)/(3-0))*100","v":0},{"$f":"(('DATA TABLE'!BA17-0)/(3-0))*100","v":{"v":66.66666666666666,"d":"67"}},{"$f":"(('DATA TABLE'!BB17-0)/(3-0))*100","v":0},{"$f":"(('DATA TABLE'!BC17-0)/(3-0))*100","v":0},{"$f":"(('DATA TABLE'!BD17-0)/(3-0))*100","v":0},{"$f":"(('DATA TABLE'!BE17-0)/(3-0))*100","v":0},{"$f":"(('DATA TABLE'!BF17-0)/(3-0))*100","v":{"v":33.33333333333333,"d":"33"}},{"$f":"(('DATA TABLE'!BG17-0)/(3-0))*100","v":0}]
[null,"1.1.3c","Measures for obesity prevention",{"v":0.125,"d":"13%"},{"v":0.004166666666666667,"d":"0.4%"},{"$f":"(('DATA TABLE'!J18-0)/(3-0))*100","v":100},{"$f":"(('DATA TABLE'!K18-0)/(3-0))*100","v":0},{"$f":"(('DATA TABLE'!L18-0)/(3-0))*100","v":0},{"$f":"(('DATA TABLE'!M18-0)/(3-0))*100","v":0},{"$f":"(('DATA TABLE'!N18-0)/(3-0))*100","v":0},{"$f":"(('DATA TABLE'!O18-0)/(3-0))*100","v":{"v":66.66666666666666,"d":"67"}},{"$f":"(('DATA TABLE'!P18-0)/(3-0))*100","v":0},{"$f":"(('DATA TABLE'!Q18-0)/(3-0))*100","v":0},{"$f":"(('DATA TABLE'!R18-0)/(3-0))*100","v":0},{"$f":"(('DATA TABLE'!S18-0)/(3-0))*100","v":0},{"$f":"(('DATA TABLE'!T18-0)/(3-0))*100","v":100},{"$f":"(('DATA TABLE'!U18-0)/(3-0))*100","v":0},{"$f":"(('DATA TABLE'!V18-0)/(3-0))*100","v":0},{"$f":"(('DATA TABLE'!W18-0)/(3-0))*100","v":0},{"$f":"(('DATA TABLE'!X18-0)/(3-0))*100","v":0},{"$f":"(('DATA TABLE'!Y18-0)/(3-0))*100","v":0},{"$f":"(('DATA TABLE'!Z18-0)/(3-0))*100","v":0},{"$f":"(('DATA TABLE'!AA18-0)/(3-0))*100","v":0},{"$f":"(('DATA TABLE'!AB18-0)/(3-0))*100","v":{"v":33.33333333333333,"d":"33"}},{"$f":"(('DATA TABLE'!AC18-0)/(3-0))*100","v":0},{"$f":"(('DATA TABLE'!AD18-0)/(3-0))*100","v":0},{"$f":"(('DATA TABLE'!AE18-0)/(3-0))*100","v":{"v":33.33333333333333,"d":"33"}},{"$f":"(('DATA TABLE'!AF18-0)/(3-0))*100","v":0},{"$f":"(('DATA TABLE'!AG18-0)/(3-0))*100","v":0},{"$f":"(('DATA TABLE'!AH18-0)/(3-0))*100","v":0},{"$f":"(('DATA TABLE'!AI18-0)/(3-0))*100","v":0},{"$f":"(('DATA TABLE'!AJ18-0)/(3-0))*100","v":0},{"$f":"(('DATA TABLE'!AK18-0)/(3-0))*100","v":0},{"$f":"(('DATA TABLE'!AL18-0)/(3-0))*100","v":0},{"$f":"(('DATA TABLE'!AM18-0)/(3-0))*100","v":0},{"$f":"(('DATA TABLE'!AN18-0)/(3-0))*100","v":0},{"$f":"(('DATA TABLE'!AO18-0)/(3-0))*100","v":0},{"$f":"(('DATA TABLE'!AP18-0)/(3-0))*100","v":0},{"$f":"(('DATA TABLE'!AQ18-0)/(3-0))*100","v":0},{"$f":"(('DATA TABLE'!AR18-0)/(3-0))*100","v":0},{"$f":"(('DATA TABLE'!AS18-0)/(3-0))*100","v":100},{"$f":"(('DATA TABLE'!AT18-0)/(3-0))*100","v":100},{"$f":"(('DATA TABLE'!AU18-0)/(3-0))*100","v":0},{"$f":"(('DATA TABLE'!AV18-0)/(3-0))*100","v":100},{"$f":"(('DATA TABLE'!AW18-0)/(3-0))*100","v":0},{"$f":"(('DATA TABLE'!AX18-0)/(3-0))*100","v":0},{"$f":"(('DATA TABLE'!AY18-0)/(3-0))*100","v":0},{"$f":"(('DATA TABLE'!AZ18-0)/(3-0))*100","v":{"v":66.66666666666666,"d":"67"}},{"$f":"(('DATA TABLE'!BA18-0)/(3-0))*100","v":{"v":66.66666666666666,"d":"67"}},{"$f":"(('DATA TABLE'!BB18-0)/(3-0))*100","v":0},{"$f":"(('DATA TABLE'!BC18-0)/(3-0))*100","v":0},{"$f":"(('DATA TABLE'!BD18-0)/(3-0))*100","v":0},{"$f":"(('DATA TABLE'!BE18-0)/(3-0))*100","v":0},{"$f":"(('DATA TABLE'!BF18-0)/(3-0))*100","v":{"v":33.33333333333333,"d":"33"}},{"$f":"(('DATA TABLE'!BG18-0)/(3-0))*100","v":0}]
[null,"1.1.3d","Measures for obesity management",{"v":0.125,"d":"13%"},{"v":0.004166666666666667,"d":"0.4%"},{"$f":"(('DATA TABLE'!J19-0)/(3-0))*100","v":0},{"$f":"(('DATA TABLE'!K19-0)/(3-0))*100","v":0},{"$f":"(('DATA TABLE'!L19-0)/(3-0))*100","v":0},{"$f":"(('DATA TABLE'!M19-0)/(3-0))*100","v":0},{"$f":"(('DATA TABLE'!N19-0)/(3-0))*100","v":0},{"$f":"(('DATA TABLE'!O19-0)/(3-0))*100","v":{"v":66.66666666666666,"d":"67"}},{"$f":"(('DATA TABLE'!P19-0)/(3-0))*100","v":0},{"$f":"(('DATA TABLE'!Q19-0)/(3-0))*100","v":0},{"$f":"(('DATA TABLE'!R19-0)/(3-0))*100","v":0},{"$f":"(('DATA TABLE'!S19-0)/(3-0))*100","v":0},{"$f":"(('DATA TABLE'!T19-0)/(3-0))*100","v":100},{"$f":"(('DATA TABLE'!U19-0)/(3-0))*100","v":0},{"$f":"(('DATA TABLE'!V19-0)/(3-0))*100","v":0},{"$f":"(('DATA TABLE'!W19-0)/(3-0))*100","v":0},{"$f":"(('DATA TABLE'!X19-0)/(3-0))*100","v":0},{"$f":"(('DATA TABLE'!Y19-0)/(3-0))*100","v":0},{"$f":"(('DATA TABLE'!Z19-0)/(3-0))*100","v":0},{"$f":"(('DATA TABLE'!AA19-0)/(3-0))*100","v":0},{"$f":"(('DATA TABLE'!AB19-0)/(3-0))*100","v":0},{"$f":"(('DATA TABLE'!AC19-0)/(3-0))*100","v":0},{"$f":"(('DATA TABLE'!AD19-0)/(3-0))*100","v":0},{"$f":"(('DATA TABLE'!AE19-0)/(3-0))*100","v":{"v":33.33333333333333,"d":"33"}},{"$f":"(('DATA TABLE'!AF19-0)/(3-0))*100","v":0},{"$f":"(('DATA TABLE'!AG19-0)/(3-0))*100","v":0},{"$f":"(('DATA TABLE'!AH19-0)/(3-0))*100","v":0},{"$f":"(('DATA TABLE'!AI19-0)/(3-0))*100","v":0},{"$f":"(('DATA TABLE'!AJ19-0)/(3-0))*100","v":0},{"$f":"(('DATA TABLE'!AK19-0)/(3-0))*100","v":0},{"$f":"(('DATA TABLE'!AL19-0)/(3-0))*100","v":0},{"$f":"(('DATA TABLE'!AM19-0)/(3-0))*100","v":0},{"$f":"(('DATA TABLE'!AN19-0)/(3-0))*100","v":0},{"$f":"(('DATA TABLE'!AO19-0)/(3-0))*100","v":0},{"$f":"(('DATA TABLE'!AP19-0)/(3-0))*100","v":0},{"$f":"(('DATA TABLE'!AQ19-0)/(3-0))*100","v":0},{"$f":"(('DATA TABLE'!AR19-0)/(3-0))*100","v":0},{"$f":"(('DATA TABLE'!AS19-0)/(3-0))*100","v":100},{"$f":"(('DATA TABLE'!AT19-0)/(3-0))*100","v":{"v":33.33333333333333,"d":"33"}},{"$f":"(('DATA TABLE'!AU19-0)/(3-0))*100","v":0},{"$f":"(('DATA TABLE'!AV19-0)/(3-0))*100","v":{"v":33.33333333333333,"d":"33"}},{"$f":"(('DATA TABLE'!AW19-0)/(3-0))*100","v":0},{"$f":"(('DATA TABLE'!AX19-0)/(3-0))*100","v":0},{"$f":"(('DATA TABLE'!AY19-0)/(3-0))*100","v":0},{"$f":"(('DATA TABLE'!AZ19-0)/(3-0))*100","v":{"v":33.33333333333333,"d":"33"}},{"$f":"(('DATA TABLE'!BA19-0)/(3-0))*100","v":{"v":66.66666666666666,"d":"67"}},{"$f":"(('DATA TABLE'!BB19-0)/(3-0))*100","v":0},{"$f":"(('DATA TABLE'!BC19-0)/(3-0))*100","v":0},{"$f":"(('DATA TABLE'!BD19-0)/(3-0))*100","v":0},{"$f":"(('DATA TABLE'!BE19-0)/(3-0))*100","v":0},{"$f":"(('DATA TABLE'!BF19-0)/(3-0))*100","v":0},{"$f":"(('DATA TABLE'!BG19-0)/(3-0))*100","v":0}]
[null,"1.1.3e","Targets for obesity prevalence reduction",{"v":0.125,"d":"13%"},{"v":0.004166666666666667,"d":"0.4%"},{"$f":"(('DATA TABLE'!J20-0)/(2-0))*100","v":0},{"$f":"(('DATA TABLE'!K20-0)/(2-0))*100","v":0},{"$f":"(('DATA TABLE'!L20-0)/(2-0))*100","v":0},{"$f":"(('DATA TABLE'!M20-0)/(2-0))*100","v":0},{"$f":"(('DATA TABLE'!N20-0)/(2-0))*100","v":0},{"$f":"(('DATA TABLE'!O20-0)/(2-0))*100","v":50},{"$f":"(('DATA TABLE'!P20-0)/(2-0))*100","v":0},{"$f":"(('DATA TABLE'!Q20-0)/(2-0))*100","v":0},{"$f":"(('DATA TABLE'!R20-0)/(2-0))*100","v":0},{"$f":"(('DATA TABLE'!S20-0)/(2-0))*100","v":0},{"$f":"(('DATA TABLE'!T20-0)/(2-0))*100","v":50},{"$f":"(('DATA TABLE'!U20-0)/(2-0))*100","v":0},{"$f":"(('DATA TABLE'!V20-0)/(2-0))*100","v":0},{"$f":"(('DATA TABLE'!W20-0)/(2-0))*100","v":0},{"$f":"(('DATA TABLE'!X20-0)/(2-0))*100","v":0},{"$f":"(('DATA TABLE'!Y20-0)/(2-0))*100","v":0},{"$f":"(('DATA TABLE'!Z20-0)/(2-0))*100","v":0},{"$f":"(('DATA TABLE'!AA20-0)/(2-0))*100","v":0},{"$f":"(('DATA TABLE'!AB20-0)/(2-0))*100","v":0},{"$f":"(('DATA TABLE'!AC20-0)/(2-0))*100","v":0},{"$f":"(('DATA TABLE'!AD20-0)/(2-0))*100","v":0},{"$f":"(('DATA TABLE'!AE20-0)/(2-0))*100","v":0},{"$f":"(('DATA TABLE'!AF20-0)/(2-0))*100","v":0},{"$f":"(('DATA TABLE'!AG20-0)/(2-0))*100","v":0},{"$f":"(('DATA TABLE'!AH20-0)/(2-0))*100","v":0},{"$f":"(('DATA TABLE'!AI20-0)/(2-0))*100","v":0},{"$f":"(('DATA TABLE'!AJ20-0)/(2-0))*100","v":0},{"$f":"(('DATA TABLE'!AK20-0)/(2-0))*100","v":0},{"$f":"(('DATA TABLE'!AL20-0)/(2-0))*100","v":0},{"$f":"(('DATA TABLE'!AM20-0)/(2-0))*100","v":0},{"$f":"(('DATA TABLE'!AN20-0)/(2-0))*100","v":0},{"$f":"(('DATA TABLE'!AO20-0)/(2-0))*100","v":0},{"$f":"(('DATA TABLE'!AP20-0)/(2-0))*100","v":0},{"$f":"(('DATA TABLE'!AQ20-0)/(2-0))*100","v":0},{"$f":"(('DATA TABLE'!AR20-0)/(2-0))*100","v":0},{"$f":"(('DATA TABLE'!AS20-0)/(2-0))*100","v":50},{"$f":"(('DATA TABLE'!AT20-0)/(2-0))*100","v":50},{"$f":"(('DATA TABLE'!AU20-0)/(2-0))*100","v":0},{"$f":"(('DATA TABLE'!AV20-0)/(2-0))*100","v":0},{"$f":"(('DATA TABLE'!AW20-0)/(2-0))*100","v":0},{"$f":"(('DATA TABLE'!AX20-0)/(2-0))*100","v":0},{"$f":"(('DATA TABLE'!AY20-0)/(2-0))*100","v":0},{"$f":"(('DATA TABLE'!AZ20-0)/(2-0))*100","v":0},{"$f":"(('DATA TABLE'!BA20-0)/(2-0))*100","v":0},{"$f":"(('DATA TABLE'!BB20-0)/(2-0))*100","v":0},{"$f":"(('DATA TABLE'!BC20-0)/(2-0))*100","v":0},{"$f":"(('DATA TABLE'!BD20-0)/(2-0))*100","v":0},{"$f":"(('DATA TABLE'!BE20-0)/(2-0))*100","v":0},{"$f":"(('DATA TABLE'!BF20-0)/(2-0))*100","v":0},{"$f":"(('DATA TABLE'!BG20-0)/(2-0))*100","v":0}]
[null,"1.1.3f","Focus on vulnerable groups",{"v":0.125,"d":"13%"},{"v":0.004166666666666667,"d":"0.4%"},{"$f":"(('DATA TABLE'!J21-0)/(2-0))*100","v":100},{"$f":"(('DATA TABLE'!K21-0)/(2-0))*100","v":0},{"$f":"(('DATA TABLE'!L21-0)/(2-0))*100","v":0},{"$f":"(('DATA TABLE'!M21-0)/(2-0))*100","v":0},{"$f":"(('DATA TABLE'!N21-0)/(2-0))*100","v":0},{"$f":"(('DATA TABLE'!O21-0)/(2-0))*100","v":50},{"$f":"(('DATA TABLE'!P21-0)/(2-0))*100","v":0},{"$f":"(('DATA TABLE'!Q21-0)/(2-0))*100","v":0},{"$f":"(('DATA TABLE'!R21-0)/(2-0))*100","v":0},{"$f":"(('DATA TABLE'!S21-0)/(2-0))*100","v":0},{"$f":"(('DATA TABLE'!T21-0)/(2-0))*100","v":100},{"$f":"(('DATA TABLE'!U21-0)/(2-0))*100","v":0},{"$f":"(('DATA TABLE'!V21-0)/(2-0))*100","v":0},{"$f":"(('DATA TABLE'!W21-0)/(2-0))*100","v":0},{"$f":"(('DATA TABLE'!X21-0)/(2-0))*100","v":0},{"$f":"(('DATA TABLE'!Y21-0)/(2-0))*100","v":0},{"$f":"(('DATA TABLE'!Z21-0)/(2-0))*100","v":0},{"$f":"(('DATA TABLE'!AA21-0)/(2-0))*100","v":0},{"$f":"(('DATA TABLE'!AB21-0)/(2-0))*100","v":50},{"$f":"(('DATA TABLE'!AC21-0)/(2-0))*100","v":0},{"$f":"(('DATA TABLE'!AD21-0)/(2-0))*100","v":0},{"$f":"(('DATA TABLE'!AE21-0)/(2-0))*100","v":0},{"$f":"(('DATA TABLE'!AF21-0)/(2-0))*100","v":0},{"$f":"(('DATA TABLE'!AG21-0)/(2-0))*100","v":0},{"$f":"(('DATA TABLE'!AH21-0)/(2-0))*100","v":0},{"$f":"(('DATA TABLE'!AI21-0)/(2-0))*100","v":0},{"$f":"(('DATA TABLE'!AJ21-0)/(2-0))*100","v":0},{"$f":"(('DATA TABLE'!AK21-0)/(2-0))*100","v":0},{"$f":"(('DATA TABLE'!AL21-0)/(2-0))*100","v":0},{"$f":"(('DATA TABLE'!AM21-0)/(2-0))*100","v":0},{"$f":"(('DATA TABLE'!AN21-0)/(2-0))*100","v":0},{"$f":"(('DATA TABLE'!AO21-0)/(2-0))*100","v":0},{"$f":"(('DATA TABLE'!AP21-0)/(2-0))*100","v":0},{"$f":"(('DATA TABLE'!AQ21-0)/(2-0))*100","v":0},{"$f":"(('DATA TABLE'!AR21-0)/(2-0))*100","v":0},{"$f":"(('DATA TABLE'!AS21-0)/(2-0))*100","v":100},{"$f":"(('DATA TABLE'!AT21-0)/(2-0))*100","v":100},{"$f":"(('DATA TABLE'!AU21-0)/(2-0))*100","v":0},{"$f":"(('DATA TABLE'!AV21-0)/(2-0))*100","v":100},{"$f":"(('DATA TABLE'!AW21-0)/(2-0))*100","v":0},{"$f":"(('DATA TABLE'!AX21-0)/(2-0))*100","v":0},{"$f":"(('DATA TABLE'!AY21-0)/(2-0))*100","v":0},{"$f":"(('DATA TABLE'!AZ21-0)/(2-0))*100","v":0},{"$f":"(('DATA TABLE'!BA21-0)/(2-0))*100","v":100},{"$f":"(('DATA TABLE'!BB21-0)/(2-0))*100","v":0},{"$f":"(('DATA TABLE'!BC21-0)/(2-0))*100","v":0},{"$f":"(('DATA TABLE'!BD21-0)/(2-0))*100","v":0},{"$f":"(('DATA TABLE'!BE21-0)/(2-0))*100","v":0},{"$f":"(('DATA TABLE'!BF21-0)/(2-0))*100","v":100},{"$f":"(('DATA TABLE'!BG21-0)/(2-0))*100","v":0}]
[null,"1.1.3g","Obesity-related stigma and discrimination",{"v":0.125,"d":"13%"},{"v":0.004166666666666667,"d":"0.4%"},{"$f":"(('DATA TABLE'!J22-0)/(2-0))*100","v":0},{"$f":"(('DATA TABLE'!K22-0)/(2-0))*100","v":0},{"$f":"(('DATA TABLE'!L22-0)/(2-0))*100","v":0},{"$f":"(('DATA TABLE'!M22-0)/(2-0))*100","v":0},{"$f":"(('DATA TABLE'!N22-0)/(2-0))*100","v":0},{"$f":"(('DATA TABLE'!O22-0)/(2-0))*100","v":50},{"$f":"(('DATA TABLE'!P22-0)/(2-0))*100","v":0},{"$f":"(('DATA TABLE'!Q22-0)/(2-0))*100","v":0},{"$f":"(('DATA TABLE'!R22-0)/(2-0))*100","v":0},{"$f":"(('DATA TABLE'!S22-0)/(2-0))*100","v":0},{"$f":"(('DATA TABLE'!T22-0)/(2-0))*100","v":0},{"$f":"(('DATA TABLE'!U22-0)/(2-0))*100","v":0},{"$f":"(('DATA TABLE'!V22-0)/(2-0))*100","v":0},{"$f":"(('DATA TABLE'!W22-0)/(2-0))*100","v":0},{"$f":"(('DATA TABLE'!X22-0)/(2-0))*100","v":0},{"$f":"(('DATA TABLE'!Y22-0)/(2-0))*100","v":0},{"$f":"(('DATA TABLE'!Z22-0)/(2-0))*100","v":0},{"$f":"(('DATA TABLE'!AA22-0)/(2-0))*100","v":0},{"$f":"(('DATA TABLE'!AB22-0)/(2-0))*100","v":0},{"$f":"(('DATA TABLE'!AC22-0)/(2-0))*100","v":0},{"$f":"(('DATA TABLE'!AD22-0)/(2-0))*100","v":0},{"$f":"(('DATA TABLE'!AE22-0)/(2-0))*100","v":0},{"$f":"(('DATA TABLE'!AF22-0)/(2-0))*100","v":0},{"$f":"(('DATA TABLE'!AG22-0)/(2-0))*100","v":0},{"$f":"(('DATA TABLE'!AH22-0)/(2-0))*100","v":0},{"$f":"(('DATA TABLE'!AI22-0)/(2-0))*100","v":0},{"$f":"(('DATA TABLE'!AJ22-0)/(2-0))*100","v":0},{"$f":"(('DATA TABLE'!AK22-0)/(2-0))*100","v":0},{"$f":"(('DATA TABLE'!AL22-0)/(2-0))*100","v":0},{"$f":"(('DATA TABLE'!AM22-0)/(2-0))*100","v":0},{"$f":"(('DATA TABLE'!AN22-0)/(2-0))*100","v":0},{"$f":"(('DATA TABLE'!AO22-0)/(2-0))*100","v":0},{"$f":"(('DATA TABLE'!AP22-0)/(2-0))*100","v":0},{"$f":"(('DATA TABLE'!AQ22-0)/(2-0))*100","v":0},{"$f":"(('DATA TABLE'!AR22-0)/(2-0))*100","v":0},{"$f":"(('DATA TABLE'!AS22-0)/(2-0))*100","v":100},{"$f":"(('DATA TABLE'!AT22-0)/(2-0))*100","v":50},{"$f":"(('DATA TABLE'!AU22-0)/(2-0))*100","v":0},{"$f":"(('DATA TABLE'!AV22-0)/(2-0))*100","v":0},{"$f":"(('DATA TABLE'!AW22-0)/(2-0))*100","v":0},{"$f":"(('DATA TABLE'!AX22-0)/(2-0))*100","v":0},{"$f":"(('DATA TABLE'!AY22-0)/(2-0))*100","v":0},{"$f":"(('DATA TABLE'!AZ22-0)/(2-0))*100","v":0},{"$f":"(('DATA TABLE'!BA22-0)/(2-0))*100","v":0},{"$f":"(('DATA TABLE'!BB22-0)/(2-0))*100","v":0},{"$f":"(('DATA TABLE'!BC22-0)/(2-0))*100","v":0},{"$f":"(('DATA TABLE'!BD22-0)/(2-0))*100","v":0},{"$f":"(('DATA TABLE'!BE22-0)/(2-0))*100","v":0},{"$f":"(('DATA TABLE'!BF22-0)/(2-0))*100","v":0},{"$f":"(('DATA TABLE'!BG22-0)/(2-0))*100","v":0}]
[null,"1.1.4","Obesity-related funding",{"$f":"1/5","v":{"v":0.2,"d":"20%"}},{"$f":"$E$12/5","v":{"v":0.03333333333333333,"d":"3%"}},{"$f":"(('DATA TABLE'!J23-0)/(1-0))*100","v":0},{"$f":"(('DATA TABLE'!K23-0)/(1-0))*100","v":0},{"$f":"(('DATA TABLE'!L23-0)/(1-0))*100","v":0},{"$f":"(('DATA TABLE'!M23-0)/(1-0))*100","v":0},{"$f":"(('DATA TABLE'!N23-0)/(1-0))*100","v":0},{"$f":"(('DATA TABLE'!O23-0)/(1-0))*100","v":100},{"$f":"(('DATA TABLE'!P23-0)/(1-0))*100","v":0},{"$f":"(('DATA TABLE'!Q23-0)/(1-0))*100","v":0},{"$f":"(('DATA TABLE'!R23-0)/(1-0))*100","v":0},{"$f":"(('DATA TABLE'!S23-0)/(1-0))*100","v":0},{"$f":"(('DATA TABLE'!T23-0)/(1-0))*100","v":0},{"$f":"(('DATA TABLE'!U23-0)/(1-0))*100","v":0},{"$f":"(('DATA TABLE'!V23-0)/(1-0))*100","v":0},{"$f":"(('DATA TABLE'!W23-0)/(1-0))*100","v":0},{"$f":"(('DATA TABLE'!X23-0)/(1-0))*100","v":0},{"$f":"(('DATA TABLE'!Y23-0)/(1-0))*100","v":0},{"$f":"(('DATA TABLE'!Z23-0)/(1-0))*100","v":0},{"$f":"(('DATA TABLE'!AA23-0)/(1-0))*100","v":0},{"$f":"(('DATA TABLE'!AB23-0)/(1-0))*100","v":0},{"$f":"(('DATA TABLE'!AC23-0)/(1-0))*100","v":0},{"$f":"(('DATA TABLE'!AD23-0)/(1-0))*100","v":0},{"$f":"(('DATA TABLE'!AE23-0)/(1-0))*100","v":0},{"$f":"(('DATA TABLE'!AF23-0)/(1-0))*100","v":0},{"$f":"(('DATA TABLE'!AG23-0)/(1-0))*100","v":0},{"$f":"(('DATA TABLE'!AH23-0)/(1-0))*100","v":0},{"$f":"(('DATA TABLE'!AI23-0)/(1-0))*100","v":0},{"$f":"(('DATA TABLE'!AJ23-0)/(1-0))*100","v":0},{"$f":"(('DATA TABLE'!AK23-0)/(1-0))*100","v":0},{"$f":"(('DATA TABLE'!AL23-0)/(1-0))*100","v":0},{"$f":"(('DATA TABLE'!AM23-0)/(1-0))*100","v":0},{"$f":"(('DATA TABLE'!AN23-0)/(1-0))*100","v":0},{"$f":"(('DATA TABLE'!AO23-0)/(1-0))*100","v":0},{"$f":"(('DATA TABLE'!AP23-0)/(1-0))*100","v":0},{"$f":"(('DATA TABLE'!AQ23-0)/(1-0))*100","v":0},{"$f":"(('DATA TABLE'!AR23-0)/(1-0))*100","v":0},{"$f":"(('DATA TABLE'!AS23-0)/(1-0))*100","v":0},{"$f":"(('DATA TABLE'!AT23-0)/(1-0))*100","v":0},{"$f":"(('DATA TABLE'!AU23-0)/(1-0))*100","v":0},{"$f":"(('DATA TABLE'!AV23-0)/(1-0))*100","v":0},{"$f":"(('DATA TABLE'!AW23-0)/(1-0))*100","v":0},{"$f":"(('DATA TABLE'!AX23-0)/(1-0))*100","v":0},{"$f":"(('DATA TABLE'!AY23-0)/(1-0))*100","v":0},{"$f":"(('DATA TABLE'!AZ23-0)/(1-0))*100","v":100},{"$f":"(('DATA TABLE'!BA23-0)/(1-0))*100","v":0},{"$f":"(('DATA TABLE'!BB23-0)/(1-0))*100","v":0},{"$f":"(('DATA TABLE'!BC23-0)/(1-0))*100","v":0},{"$f":"(('DATA TABLE'!BD23-0)/(1-0))*100","v":0},{"$f":"(('DATA TABLE'!BE23-0)/(1-0))*100","v":0},{"$f":"(('DATA TABLE'!BF23-0)/(1-0))*100","v":0},{"$f":"(('DATA TABLE'!BG23-0)/(1-0))*100","v":0}]
[null,"1.1.5","Weight-related discrimination",{"$f":"1/5","v":{"v":0.2,"d":"20%"}},{"$f":"$E$12/5","v":{"v":0.03333333333333333,"d":"3%"}},{"$f":"(('DATA TABLE'!J24-0)/(1-0))*100","v":0},{"$f":"(('DATA TABLE'!K24-0)/(1-0))*100","v":0},{"$f":"(('DATA TABLE'!L24-0)/(1-0))*100","v":0},{"$f":"(('DATA TABLE'!M24-0)/(1-0))*100","v":0},{"$f":"(('DATA TABLE'!N24-0)/(1-0))*100","v":0},{"$f":"(('DATA TABLE'!O24-0)/(1-0))*100","v":0},{"$f":"(('DATA TABLE'!P24-0)/(1-0))*100","v":0},{"$f":"(('DATA TABLE'!Q24-0)/(1-0))*100","v":0},{"$f":"(('DATA TABLE'!R24-0)/(1-0))*100","v":0},{"$f":"(('DATA TABLE'!S24-0)/(1-0))*100","v":0},{"$f":"(('DATA TABLE'!T24-0)/(1-0))*100","v":0},{"$f":"(('DATA TABLE'!U24-0)/(1-0))*100","v":0},{"$f":"(('DATA TABLE'!V24-0)/(1-0))*100","v":0},{"$f":"(('DATA TABLE'!W24-0)/(1-0))*100","v":0},{"$f":"(('DATA TABLE'!X24-0)/(1-0))*100","v":0},{"$f":"(('DATA TABLE'!Y24-0)/(1-0))*100","v":0},{"$f":"(('DATA TABLE'!Z24-0)/(1-0))*100","v":0},{"$f":"(('DATA TABLE'!AA24-0)/(1-0))*100","v":0},{"$f":"(('DATA TABLE'!AB24-0)/(1-0))*100","v":0},{"$f":"(('DATA TABLE'!AC24-0)/(1-0))*100","v":0},{"$f":"(('DATA TABLE'!AD24-0)/(1-0))*100","v":0},{"$f":"(('DATA TABLE'!AE24-0)/(1-0))*100","v":100},{"$f":"(('DATA TABLE'!AF24-0)/(1-0))*100","v":0},{"$f":"(('DATA TABLE'!AG24-0)/(1-0))*100","v":0},{"$f":"(('DATA TABLE'!AH24-0)/(1-0))*100","v":0},{"$f":"(('DATA TABLE'!AI24-0)/(1-0))*100","v":0},{"$f":"(('DATA TABLE'!AJ24-0)/(1-0))*100","v":0},{"$f":"(('DATA TABLE'!AK24-0)/(1-0))*100","v":0},{"$f":"(('DATA TABLE'!AL24-0)/(1-0))*100","v":0},{"$f":"(('DATA TABLE'!AM24-0)/(1-0))*100","v":0},{"$f":"(('DATA TABLE'!AN24-0)/(1-0))*100","v":0},{"$f":"(('DATA TABLE'!AO24-0)/(1-0))*100","v":0},{"$f":"(('DATA TABLE'!AP24-0)/(1-0))*100","v":0},{"$f":"(('DATA TABLE'!AQ24-0)/(1-0))*100","v":0},{"$f":"(('DATA TABLE'!AR24-0)/(1-0))*100","v":0},{"$f":"(('DATA TABLE'!AS24-0)/(1-0))*100","v":0},{"$f":"(('DATA TABLE'!AT24-0)/(1-0))*100","v":0},{"$f":"(('DATA TABLE'!AU24-0)/(1-0))*100","v":0},{"$f":"(('DATA TABLE'!AV24-0)/(1-0))*100","v":0},{"$f":"(('DATA TABLE'!AW24-0)/(1-0))*100","v":0},{"$f":"(('DATA TABLE'!AX24-0)/(1-0))*100","v":0},{"$f":"(('DATA TABLE'!AY24-0)/(1-0))*100","v":0},{"$f":"(('DATA TABLE'!AZ24-0)/(1-0))*100","v":0},{"$f":"(('DATA TABLE'!BA24-0)/(1-0))*100","v":0},{"$f":"(('DATA TABLE'!BB24-0)/(1-0))*100","v":0},{"$f":"(('DATA TABLE'!BC24-0)/(1-0))*100","v":0},{"$f":"(('DATA TABLE'!BD24-0)/(1-0))*100","v":100},{"$f":"(('DATA TABLE'!BE24-0)/(1-0))*100","v":0},{"$f":"(('DATA TABLE'!BF24-0)/(1-0))*100","v":0},{"$f":"(('DATA TABLE'!BG24-0)/(1-0))*100","v":0}]
[null,1.2,"Availability and affordability of obesity-related care",{"v":0.5,"d":"50%"},{"$f":"0.5*$E$11","v":{"v":0.16666666666666666,"d":"17%"}},{"$f":"SUMPRODUCT($D26:$D27,F26:F27)","v":25},25,{"v":37.5,"d":"38"},25,50,{"v":37.5,"d":"38"},{"v":37.5,"d":"38"},50,{"v":87.5,"d":"88"},25,{"v":37.5,"d":"38"},{"v":87.5,"d":"88"},25,{"v":37.5,"d":"38"},{"v":87.5,"d":"88"},50,{"v":87.5,"d":"88"},75,{"v":37.5,"d":"38"},50,50,{"v":37.5,"d":"38"},100,75,50,{"v":62.5,"d":"63"},{"v":87.5,"d":"88"},{"v":87.5,"d":"88"},{"v":37.5,"d":"38"},25,{"v":87.5,"d":"88"},{"v":62.5,"d":"63"},{"$f":"SUMPRODUCT($D26:$D27,AL26:AL27)","v":50},50,{"v":87.5,"d":"88"},{"v":87.5,"d":"88"},{"v":37.5,"d":"38"},{"v":37.5,"d":"38"},50,{"v":37.5,"d":"38"},{"v":37.5,"d":"38"},{"v":37.5,"d":"38"},{"v":37.5,"d":"38"},{"v":37.5,"d":"38"},{"v":37.5,"d":"38"},50,{"v":37.5,"d":"38"},{"v":87.5,"d":"88"},50,{"v":87.5,"d":"88"}]
[null,"1.2.1","Obesity treatment coverage",{"$f":"1/2","v":{"v":0.5,"d":"50%"}},{"$f":"$E$25/2","v":{"v":0.08333333333333333,"d":"8%"}},{"$f":"(('DATA TABLE'!J26-0)/(4-0))*100","v":50},{"$f":"(('DATA TABLE'!K26-0)/(4-0))*100","v":50},{"$f":"(('DATA TABLE'!L26-0)/(4-0))*100","v":75},{"$f":"(('DATA TABLE'!M26-0)/(4-0))*100","v":50},{"$f":"(('DATA TABLE'!N26-0)/(4-0))*100","v":100},{"$f":"(('DATA TABLE'!O26-0)/(4-0))*100","v":75},{"$f":"(('DATA TABLE'!P26-0)/(4-0))*100","v":75},{"$f":"(('DATA TABLE'!Q26-0)/(4-0))*100","v":100},{"$f":"(('DATA TABLE'!R26-0)/(4-0))*100","v":75},{"$f":"(('DATA TABLE'!S26-0)/(4-0))*100","v":50},{"$f":"(('DATA TABLE'!T26-0)/(4-0))*100","v":75},{"$f":"(('DATA TABLE'!U26-0)/(4-0))*100","v":75},{"$f":"(('DATA TABLE'!V26-0)/(4-0))*100","v":50},{"$f":"(('DATA TABLE'!W26-0)/(4-0))*100","v":75},{"$f":"(('DATA TABLE'!X26-0)/(4-0))*100","v":75},{"$f":"(('DATA TABLE'!Y26-0)/(4-0))*100","v":100},{"$f":"(('DATA TABLE'!Z26-0)/(4-0))*100","v":75},{"$f":"(('DATA TABLE'!AA26-0)/(4-0))*100","v":50},{"$f":"(('DATA TABLE'!AB26-0)/(4-0))*100","v":75},{"$f":"(('DATA TABLE'!AC26-0)/(4-0))*100","v":100},{"$f":"(('DATA TABLE'!AD26-0)/(4-0))*100","v":100},{"$f":"(('DATA TABLE'!AE26-0)/(4-0))*100","v":75},{"$f":"(('DATA TABLE'!AF26-0)/(4-0))*100","v":100},{"$f":"(('DATA TABLE'!AG26-0)/(4-0))*100","v":50},{"$f":"(('DATA TABLE'!AH26-0)/(4-0))*100","v":100},{"$f":"(('DATA TABLE'!AI26-0)/(4-0))*100","v":25},{"$f":"(('DATA TABLE'!AJ26-0)/(4-0))*100","v":75},{"$f":"(('DATA TABLE'!AK26-0)/(4-0))*100","v":75},{"$f":"(('DATA TABLE'!AL26-0)/(4-0))*100","v":75},{"$f":"(('DATA TABLE'!AM26-0)/(4-0))*100","v":50},{"$f":"(('DATA TABLE'!AN26-0)/(4-0))*100","v":75},{"$f":"(('DATA TABLE'!AO26-0)/(4-0))*100","v":25},{"$f":"(('DATA TABLE'!AP26-0)/(4-0))*100","v":100},{"$f":"(('DATA TABLE'!AQ26-0)/(4-0))*100","v":100},{"$f":"(('DATA TABLE'!AR26-0)/(4-0))*100","v":75},{"$f":"(('DATA TABLE'!AS26-0)/(4-0))*100","v":75},{"$f":"(('DATA TABLE'!AT26-0)/(4-0))*100","v":75},{"$f":"(('DATA TABLE'!AU26-0)/(4-0))*100","v":75},{"$f":"(('DATA TABLE'!AV26-0)/(4-0))*100","v":100},{"$f":"(('DATA TABLE'!AW26-0)/(4-0))*100","v":75},{"$f":"(('DATA TABLE'!AX26-0)/(4-0))*100","v":75},{"$f":"(('DATA TABLE'!AY26-0)/(4-0))*100","v":75},{"$f":"(('DATA TABLE'!AZ26-0)/(4-0))*100","v":75},{"$f":"(('DATA TABLE'!BA26-0)/(4-0))*100","v":75},{"$f":"(('DATA TABLE'!BB26-0)/(4-0))*100","v":75},{"$f":"(('DATA TABLE'!BC26-0)/(4-0))*100","v":100},{"$f":"(('DATA TABLE'!BD26-0)/(4-0))*100","v":75},{"$f":"(('DATA TABLE'!BE26-0)/(4-0))*100","v":75},{"$f":"(('DATA TABLE'!BF26-0)/(4-0))*100","v":100},{"$f":"(('DATA TABLE'!BG26-0)/(4-0))*100","v":75}]
[null,"1.2.2","State-level weight loss programmes",{"$f":"1/2","v":{"v":0.5,"d":"50%"}},{"$f":"$E$25/2","v":{"v":0.08333333333333333,"d":"8%"}},{"$f":"(('DATA TABLE'!J27-0)/(1-0))*100","v":0},{"$f":"(('DATA TABLE'!K27-0)/(1-0))*100","v":0},{"$f":"(('DATA TABLE'!L27-0)/(1-0))*100","v":0},{"$f":"(('DATA TABLE'!M27-0)/(1-0))*100","v":0},{"$f":"(('DATA TABLE'!N27-0)/(1-0))*100","v":0},{"$f":"(('DATA TABLE'!O27-0)/(1-0))*100","v":0},{"$f":"(('DATA TABLE'!P27-0)/(1-0))*100","v":0},{"$f":"(('DATA TABLE'!Q27-0)/(1-0))*100","v":0},{"$f":"(('DATA TABLE'!R27-0)/(1-0))*100","v":100},{"$f":"(('DATA TABLE'!S27-0)/(1-0))*100","v":0},{"$f":"(('DATA TABLE'!T27-0)/(1-0))*100","v":0},{"$f":"(('DATA TABLE'!U27-0)/(1-0))*100","v":100},{"$f":"(('DATA TABLE'!V27-0)/(1-0))*100","v":0},{"$f":"(('DATA TABLE'!W27-0)/(1-0))*100","v":0},{"$f":"(('DATA TABLE'!X27-0)/(1-0))*100","v":100},{"$f":"(('DATA TABLE'!Y27-0)/(1-0))*100","v":0},{"$f":"(('DATA TABLE'!Z27-0)/(1-0))*100","v":100},{"$f":"(('DATA TABLE'!AA27-0)/(1-0))*100","v":100},{"$f":"(('DATA TABLE'!AB27-0)/(1-0))*100","v":0},{"$f":"(('DATA TABLE'!AC27-0)/(1-0))*100","v":0},{"$f":"(('DATA TABLE'!AD27-0)/(1-0))*100","v":0},{"$f":"(('DATA TABLE'!AE27-0)/(1-0))*100","v":0},{"$f":"(('DATA TABLE'!AF27-0)/(1-0))*100","v":100},{"$f":"(('DATA TABLE'!AG27-0)/(1-0))*100","v":100},{"$f":"(('DATA TABLE'!AH27-0)/(1-0))*100","v":0},{"$f":"(('DATA TABLE'!AI27-0)/(1-0))*100","v":100},{"$f":"(('DATA TABLE'!AJ27-0)/(1-0))*100","v":100},{"$f":"(('DATA TABLE'!AK27-0)/(1-0))*100","v":100},{"$f":"(('DATA TABLE'!AL27-0)/(1-0))*100","v":0},{"$f":"(('DATA TABLE'!AM27-0)/(1-0))*100","v":0},{"$f":"(('DATA TABLE'!AN27-0)/(1-0))*100","v":100},{"$f":"(('DATA TABLE'!AO27-0)/(1-0))*100","v":100},{"$f":"(('DATA TABLE'!AP27-0)/(1-0))*100","v":0},{"$f":"(('DATA TABLE'!AQ27-0)/(1-0))*100","v":0},{"$f":"(('DATA TABLE'!AR27-0)/(1-0))*100","v":100},{"$f":"(('DATA TABLE'!AS27-0)/(1-0))*100","v":100},{"$f":"(('DATA TABLE'!AT27-0)/(1-0))*100","v":0},{"$f":"(('DATA TABLE'!AU27-0)/(1-0))*100","v":0},{"$f":"(('DATA TABLE'!AV27-0)/(1-0))*100","v":0},{"$f":"(('DATA TABLE'!AW27-0)/(1-0))*100","v":0},{"$f":"(('DATA TABLE'!AX27-0)/(1-0))*100","v":0},{"$f":"(('DATA TABLE'!AY27-0)/(1-0))*100","v":0},{"$f":"(('DATA TABLE'!AZ27-0)/(1-0))*100","v":0},{"$f":"(('DATA TABLE'!BA27-0)/(1-0))*100","v":0},{"$f":"(('DATA TABLE'!BB27-0)/(1-0))*100","v":0},{"$f":"(('DATA TABLE'!BC27-0)/(1-0))*100","v":0},{"$f":"(('DATA TABLE'!BD27-0)/(1-0))*100","v":0},{"$f":"(('DATA TABLE'!BE27-0)/(1-0))*100","v":100},{"$f":"(('DATA TABLE'!BF27-0)/(1-0))*100","v":0},{"$f":"(('DATA TABLE'!BG27-0)/(1-0))*100","v":100}]
[null,2,"Food quality and access",{"$f":"1/3","v":{"v":0.3333333333333333,"d":"33%"}},{"$f":"1/3","v":{"v":0.3333333333333333,"d":"33%"}},{"$f":"SUM($D29*F29,$D34*F34,$D36*F36)","v":{"v":45.77550412017014,"d":"46"}},{"v":50.299753501699676,"d":"50"},{"v":49.85784078167546,"d":"50"},{"v":81.23051595564809,"d":"81"},{"v":54.61839927385338,"d":"55"},{"v":78.33984729563777,"d":"78"},{"v":68.75879206933988,"d":"69"},{"v":45.578536850161065,"d":"46"},{"v":78.26374873191307,"d":"78"},{"v":49.74297435349813,"d":"50"},{"v":58.02777777777777,"d":"58"},{"v":45.07605406944666,"d":"45"},{"v":85.95050456511291,"d":"86"},{"v":78.67532080374463,"d":"79"},{"v":89.74578194244219,"d":"90"},{"v":44.20636446153024,"d":"44"},{"v":81.99100770640894,"d":"82"},{"v":51.17411055938206,"d":"51"},{"v":78.96832007403846,"d":"79"},{"v":83.9753190239735,"d":"84"},{"v":58.51699681420968,"d":"59"},{"v":55.98541922508765,"d":"56"},{"v":88.16666666666666,"d":"88"},{"v":43.00848060939363,"d":"43"},{"v":45.72935910441917,"d":"46"},{"v":33.978807375371524,"d":"34"},{"v":44.783526438500004,"d":"45"},{"v":50.238409240571656,"d":"50"},{"v":39.31908181607845,"d":"39"},{"v":49.893694270916754,"d":"50"},{"v":57.52730168900278,"d":"58"},{"v":79.24823357716197,"d":"79"},{"$f":"SUM($D29*AL29,$D34*AL34,$D36*AL36)","v":{"v":84.2655240536067,"d":"84"}},{"v":66.85395198177514,"d":"67"},{"v":67.96632228095466,"d":"68"},{"v":45.632290387456166,"d":"46"},{"v":51.233586060832565,"d":"51"},{"v":57.514469539217245,"d":"58"},{"v":75.55582252122376,"d":"76"},{"v":54.76261857725096,"d":"55"},{"v":46.23488529375122,"d":"46"},{"v":68.15117375905457,"d":"68"},{"v":82.0257132432769,"d":"82"},{"v":45.36836812785875,"d":"45"},{"v":75.17647320554576,"d":"75"},{"v":66.80616957659244,"d":"67"},{"v":73.47805542207271,"d":"73"},{"v":50.842783917988136,"d":"51"},{"v":78.76301457632547,"d":"79"},{"v":42.32948457828323,"d":"42"}]
[null,2.1,"Food access and affordability",{"$f":"1/3","v":{"v":0.3333333333333333,"d":"33%"}},{"$f":"$E$28/3","v":{"v":0.1111111111111111,"d":"11%"}},{"$f":"SUMPRODUCT($D30:$D31,F30:F31)","v":{"v":70.65984569384378,"d":"71"}},{"v":84.23259383843238,"d":"84"},{"v":66.24018901169309,"d":"66"},{"v":60.358214533610976,"d":"60"},{"v":63.85519782156015,"d":"64"},{"v":68.35287522024667,"d":"68"},{"v":72.94304287468631,"d":"73"},{"v":70.06894388381654,"d":"70"},{"v":68.12457952907256,"d":"68"},{"v":65.89558972716108,"d":"66"},{"v":90.75,"d":"91"},{"v":68.56149554167334,"d":"69"},{"v":74.51818036200544,"d":"75"},{"v":69.35929574456725,"d":"69"},{"v":69.2373458273266,"d":"69"},{"v":65.95242671792407,"d":"66"},{"v":62.63968978589354,"d":"63"},{"v":70.18899834481286,"d":"70"},{"v":70.23829355544876,"d":"70"},{"v":68.5926237385872,"d":"69"},{"v":75.55099044262907,"d":"76"},{"v":67.95625767526296,"d":"68"},{"v":64.5,"d":"65"},{"v":62.35877516151423,"d":"62"},{"v":70.52141064659085,"d":"71"},{"v":68.60308879278125,"d":"69"},{"v":67.68391264883336,"d":"68"},{"v":67.38189438838165,"d":"67"},{"v":67.95724544823535,"d":"68"},{"v":66.34774947941695,"d":"66"},{"v":72.58190506700838,"d":"73"},{"v":71.07803406481926,"d":"71"},{"$f":"SUMPRODUCT($D30:$D31,AL30:AL31)","v":{"v":69.46323882748678,"d":"69"}},{"v":67.2285226119921,"d":"67"},{"v":70.56563350953067,"d":"71"},{"v":70.23020449570186,"d":"70"},{"v":70.3674248491644,"d":"70"},{"v":72.54340861765176,"d":"73"},{"v":76.66746756367131,"d":"77"},{"v":80.95452239841957,"d":"81"},{"v":72.037989214587,"d":"72"},{"v":71.12018794383042,"d":"71"},{"v":62.743806396497405,"d":"63"},{"v":69.4384377169096,"d":"69"},{"v":75.5294196166373,"d":"76"},{"v":67.08517539644401,"d":"67"},{"v":70.43416626621817,"d":"70"},{"v":69.1950184206311,"d":"69"},{"v":69.62237706230978,"d":"70"},{"v":60.32178706818303,"d":"60"}]
[null,"2.1.1","Level of food security",{"$f":"1/2","v":{"v":0.5,"d":"50%"}},{"$f":"$E$29/2","v":{"v":0.05555555555555555,"d":"6%"}},{"$f":"'DATA TABLE'!J30","v":88},{"$f":"'DATA TABLE'!K30","v":90},{"$f":"'DATA TABLE'!L30","v":88},{"$f":"'DATA TABLE'!M30","v":81},{"$f":"'DATA TABLE'!N30","v":89},{"$f":"'DATA TABLE'!O30","v":90},{"$f":"'DATA TABLE'!P30","v":90},{"$f":"'DATA TABLE'!Q30","v":89},{"$f":"'DATA TABLE'!R30","v":88},{"$f":"'DATA TABLE'!S30","v":87},{"$f":"'DATA TABLE'!T30","v":90},{"$f":"'DATA TABLE'!U30","v":89},{"$f":"'DATA TABLE'!V30","v":88},{"$f":"'DATA TABLE'!W30","v":88},{"$f":"'DATA TABLE'!X30","v":90},{"$f":"'DATA TABLE'!Y30","v":89},{"$f":"'DATA TABLE'!Z30","v":85},{"$f":"'DATA TABLE'!AA30","v":84},{"$f":"'DATA TABLE'!AB30","v":89},{"$f":"'DATA TABLE'!AC30","v":90},{"$f":"'DATA TABLE'!AD30","v":91},{"$f":"'DATA TABLE'!AE30","v":87},{"$f":"'DATA TABLE'!AF30","v":91},{"$f":"'DATA TABLE'!AG30","v":84},{"$f":"'DATA TABLE'!AH30","v":87},{"$f":"'DATA TABLE'!AI30","v":91},{"$f":"'DATA TABLE'!AJ30","v":87},{"$f":"'DATA TABLE'!AK30","v":87},{"$f":"'DATA TABLE'!AL30","v":93},{"$f":"'DATA TABLE'!AM30","v":90},{"$f":"'DATA TABLE'!AN30","v":87},{"$f":"'DATA TABLE'!AO30","v":88},{"$f":"'DATA TABLE'!AP30","v":89},{"$f":"'DATA TABLE'!AQ30","v":91},{"$f":"'DATA TABLE'!AR30","v":87},{"$f":"'DATA TABLE'!AS30","v":85},{"$f":"'DATA TABLE'!AT30","v":87},{"$f":"'DATA TABLE'!AU30","v":89},{"$f":"'DATA TABLE'!AV30","v":90},{"$f":"'DATA TABLE'!AW30","v":86},{"$f":"'DATA TABLE'!AX30","v":91},{"$f":"'DATA TABLE'!AY30","v":88},{"$f":"'DATA TABLE'!AZ30","v":83},{"$f":"'DATA TABLE'!BA30","v":88},{"$f":"'DATA TABLE'!BB30","v":91},{"$f":"'DATA TABLE'!BC30","v":90},{"$f":"'DATA TABLE'!BD30","v":90},{"$f":"'DATA TABLE'!BE30","v":86},{"$f":"'DATA TABLE'!BF30","v":89},{"$f":"'DATA TABLE'!BG30","v":87}]
[null,"2.1.2","Nutrition programmes for lower-income individuals",{"$f":"1/2","v":{"v":0.5,"d":"50%"}},{"$f":"$E$29/2","v":{"v":0.05555555555555555,"d":"6%"}},{"$f":"SUMPRODUCT($D32:$D33,F32:F33)","v":{"v":53.31969138768754,"d":"53"}},{"v":78.46518767686476,"d":"78"},{"v":44.48037802338619,"d":"44"},{"v":39.71642906722195,"d":"40"},{"v":38.71039564312029,"d":"39"},{"v":46.70575044049335,"d":"47"},{"v":55.886085749372626,"d":"56"},{"v":51.13788776763308,"d":"51"},{"v":48.249159058145125,"d":"48"},{"v":44.79117945432217,"d":"45"},{"v":91.5,"d":"92"},{"v":48.122991083346676,"d":"48"},{"v":61.03636072401089,"d":"61"},{"v":50.718591489134496,"d":"51"},{"v":48.47469165465321,"d":"48"},{"v":42.904853435848146,"d":"43"},{"v":40.27937957178707,"d":"40"},{"v":56.37799668962572,"d":"56"},{"v":51.47658711089754,"d":"51"},{"v":47.18524747717443,"d":"47"},{"v":60.10198088525815,"d":"60"},{"v":48.91251535052592,"d":"49"},38,{"v":40.717550323028455,"d":"41"},{"v":54.042821293181696,"d":"54"},{"v":46.20617758556249,"d":"46"},{"v":48.36782529766671,"d":"48"},{"v":47.763788776763306,"d":"48"},{"v":42.91449089647071,"d":"43"},{"v":42.695498958833895,"d":"43"},{"v":58.163810134016764,"d":"58"},{"v":54.156068129638534,"d":"54"},{"$f":"SUMPRODUCT($D32:$D33,AL32:AL33)","v":{"v":49.92647765497357,"d":"50"}},{"v":43.457045223984196,"d":"43"},{"v":54.131267019061355,"d":"54"},{"v":55.4604089914037,"d":"55"},{"v":53.73484969832879,"d":"54"},{"v":56.086817235303535,"d":"56"},{"v":63.334935127342625,"d":"63"},{"v":75.90904479683914,"d":"76"},{"v":53.07597842917401,"d":"53"},{"v":54.240375887660846,"d":"54"},{"v":42.48761279299482,"d":"42"},{"v":50.87687543381921,"d":"51"},{"v":60.0588392332746,"d":"60"},{"v":44.17035079288803,"d":"44"},{"v":50.86833253243633,"d":"51"},{"v":52.390036841262216,"d":"52"},{"v":50.24475412461957,"d":"50"},{"v":33.64357413636606,"d":"34"}]
[null,"2.1.2a","Supplemental Nutrition Assistance Program (SNAP): monthly benefit per person, adjusted for regional price parities\n",{"$f":"1/2","v":{"v":0.5,"d":"50%"}},{"$f":"$E$31/2","v":{"v":0.027777777777777776,"d":"3%"}},{"$f":"(('DATA TABLE'!J32-MIN('DATA TABLE'!$J32:$BG32))/(MAX('DATA TABLE'!$J32:$BG32)-(MIN('DATA TABLE'!$J32:$BG32))))*100","v":{"v":25.63938277537508,"d":"26"}},{"$f":"(('DATA TABLE'!K32-MIN('DATA TABLE'!$J32:$BG32))/(MAX('DATA TABLE'!$J32:$BG32)-(MIN('DATA TABLE'!$J32:$BG32))))*100","v":{"v":75.93037535372952,"d":"76"}},{"$f":"(('DATA TABLE'!L32-MIN('DATA TABLE'!$J32:$BG32))/(MAX('DATA TABLE'!$J32:$BG32)-(MIN('DATA TABLE'!$J32:$BG32))))*100","v":{"v":14.960756046772378,"d":"15"}},{"$f":"(('DATA TABLE'!M32-MIN('DATA TABLE'!$J32:$BG32))/(MAX('DATA TABLE'!$J32:$BG32)-(MIN('DATA TABLE'!$J32:$BG32))))*100","v":{"v":17.4328581344439,"d":"17"}},{"$f":"(('DATA TABLE'!N32-MIN('DATA TABLE'!$J32:$BG32))/(MAX('DATA TABLE'!$J32:$BG32)-(MIN('DATA TABLE'!$J32:$BG32))))*100","v":{"v":11.420791286240584,"d":"11"}},{"$f":"(('DATA TABLE'!O32-MIN('DATA TABLE'!$J32:$BG32))/(MAX('DATA TABLE'!$J32:$BG32)-(MIN('DATA TABLE'!$J32:$BG32))))*100","v":{"v":17.4115008809867,"d":"17"}},{"$f":"(('DATA TABLE'!P32-MIN('DATA TABLE'!$J32:$BG32))/(MAX('DATA TABLE'!$J32:$BG32)-(MIN('DATA TABLE'!$J32:$BG32))))*100","v":{"v":22.77217149874525,"d":"23"}},{"$f":"(('DATA TABLE'!Q32-MIN('DATA TABLE'!$J32:$BG32))/(MAX('DATA TABLE'!$J32:$BG32)-(MIN('DATA TABLE'!$J32:$BG32))))*100","v":{"v":15.27577553526616,"d":"15"}},{"$f":"(('DATA TABLE'!R32-MIN('DATA TABLE'!$J32:$BG32))/(MAX('DATA TABLE'!$J32:$BG32)-(MIN('DATA TABLE'!$J32:$BG32))))*100","v":{"v":23.498318116290246,"d":"23"}},{"$f":"(('DATA TABLE'!S32-MIN('DATA TABLE'!$J32:$BG32))/(MAX('DATA TABLE'!$J32:$BG32)-(MIN('DATA TABLE'!$J32:$BG32))))*100","v":{"v":17.58235890864434,"d":"18"}},{"$f":"(('DATA TABLE'!T32-MIN('DATA TABLE'!$J32:$BG32))/(MAX('DATA TABLE'!$J32:$BG32)-(MIN('DATA TABLE'!$J32:$BG32))))*100","v":100},{"$f":"(('DATA TABLE'!U32-MIN('DATA TABLE'!$J32:$BG32))/(MAX('DATA TABLE'!$J32:$BG32)-(MIN('DATA TABLE'!$J32:$BG32))))*100","v":{"v":17.24598216669336,"d":"17"}},{"$f":"(('DATA TABLE'!V32-MIN('DATA TABLE'!$J32:$BG32))/(MAX('DATA TABLE'!$J32:$BG32)-(MIN('DATA TABLE'!$J32:$BG32))))*100","v":{"v":22.072721448021777,"d":"22"}},{"$f":"(('DATA TABLE'!W32-MIN('DATA TABLE'!$J32:$BG32))/(MAX('DATA TABLE'!$J32:$BG32)-(MIN('DATA TABLE'!$J32:$BG32))))*100","v":{"v":28.437182978268993,"d":"28"}},{"$f":"(('DATA TABLE'!X32-MIN('DATA TABLE'!$J32:$BG32))/(MAX('DATA TABLE'!$J32:$BG32)-(MIN('DATA TABLE'!$J32:$BG32))))*100","v":{"v":11.949383309306423,"d":"12"}},{"$f":"(('DATA TABLE'!Y32-MIN('DATA TABLE'!$J32:$BG32))/(MAX('DATA TABLE'!$J32:$BG32)-(MIN('DATA TABLE'!$J32:$BG32))))*100","v":{"v":15.809706871696294,"d":"16"}},{"$f":"(('DATA TABLE'!Z32-MIN('DATA TABLE'!$J32:$BG32))/(MAX('DATA TABLE'!$J32:$BG32)-(MIN('DATA TABLE'!$J32:$BG32))))*100","v":{"v":15.558759143574132,"d":"16"}},{"$f":"(('DATA TABLE'!AA32-MIN('DATA TABLE'!$J32:$BG32))/(MAX('DATA TABLE'!$J32:$BG32)-(MIN('DATA TABLE'!$J32:$BG32))))*100","v":{"v":29.75599337925143,"d":"30"}},{"$f":"(('DATA TABLE'!AB32-MIN('DATA TABLE'!$J32:$BG32))/(MAX('DATA TABLE'!$J32:$BG32)-(MIN('DATA TABLE'!$J32:$BG32))))*100","v":{"v":12.953174221795075,"d":"13"}},{"$f":"(('DATA TABLE'!AC32-MIN('DATA TABLE'!$J32:$BG32))/(MAX('DATA TABLE'!$J32:$BG32)-(MIN('DATA TABLE'!$J32:$BG32))))*100","v":{"v":9.370494954348864,"d":"9"}},{"$f":"(('DATA TABLE'!AD32-MIN('DATA TABLE'!$J32:$BG32))/(MAX('DATA TABLE'!$J32:$BG32)-(MIN('DATA TABLE'!$J32:$BG32))))*100","v":{"v":20.2039617705163,"d":"20"}},{"$f":"(('DATA TABLE'!AE32-MIN('DATA TABLE'!$J32:$BG32))/(MAX('DATA TABLE'!$J32:$BG32)-(MIN('DATA TABLE'!$J32:$BG32))))*100","v":{"v":12.825030701051837,"d":"13"}},{"$f":"(('DATA TABLE'!AF32-MIN('DATA TABLE'!$J32:$BG32))/(MAX('DATA TABLE'!$J32:$BG32)-(MIN('DATA TABLE'!$J32:$BG32))))*100","v":0},{"$f":"(('DATA TABLE'!AG32-MIN('DATA TABLE'!$J32:$BG32))/(MAX('DATA TABLE'!$J32:$BG32)-(MIN('DATA TABLE'!$J32:$BG32))))*100","v":{"v":19.435100646056906,"d":"19"}},{"$f":"(('DATA TABLE'!AH32-MIN('DATA TABLE'!$J32:$BG32))/(MAX('DATA TABLE'!$J32:$BG32)-(MIN('DATA TABLE'!$J32:$BG32))))*100","v":{"v":24.08564258636339,"d":"24"}},{"$f":"(('DATA TABLE'!AI32-MIN('DATA TABLE'!$J32:$BG32))/(MAX('DATA TABLE'!$J32:$BG32)-(MIN('DATA TABLE'!$J32:$BG32))))*100","v":{"v":13.412355171124984,"d":"13"}},{"$f":"(('DATA TABLE'!AJ32-MIN('DATA TABLE'!$J32:$BG32))/(MAX('DATA TABLE'!$J32:$BG32)-(MIN('DATA TABLE'!$J32:$BG32))))*100","v":{"v":18.735650595333432,"d":"19"}},{"$f":"(('DATA TABLE'!AK32-MIN('DATA TABLE'!$J32:$BG32))/(MAX('DATA TABLE'!$J32:$BG32)-(MIN('DATA TABLE'!$J32:$BG32))))*100","v":{"v":11.527577553526605,"d":"12"}},{"$f":"(('DATA TABLE'!AL32-MIN('DATA TABLE'!$J32:$BG32))/(MAX('DATA TABLE'!$J32:$BG32)-(MIN('DATA TABLE'!$J32:$BG32))))*100","v":{"v":6.828981792941424,"d":"7"}},{"$f":"(('DATA TABLE'!AM32-MIN('DATA TABLE'!$J32:$BG32))/(MAX('DATA TABLE'!$J32:$BG32)-(MIN('DATA TABLE'!$J32:$BG32))))*100","v":{"v":13.390997917667782,"d":"13"}},{"$f":"(('DATA TABLE'!AN32-MIN('DATA TABLE'!$J32:$BG32))/(MAX('DATA TABLE'!$J32:$BG32)-(MIN('DATA TABLE'!$J32:$BG32))))*100","v":{"v":16.327620268033524,"d":"16"}},{"$f":"(('DATA TABLE'!AO32-MIN('DATA TABLE'!$J32:$BG32))/(MAX('DATA TABLE'!$J32:$BG32)-(MIN('DATA TABLE'!$J32:$BG32))))*100","v":{"v":26.312136259277064,"d":"26"}},{"$f":"(('DATA TABLE'!AP32-MIN('DATA TABLE'!$J32:$BG32))/(MAX('DATA TABLE'!$J32:$BG32)-(MIN('DATA TABLE'!$J32:$BG32))))*100","v":{"v":25.85295530994714,"d":"26"}},{"$f":"(('DATA TABLE'!AQ32-MIN('DATA TABLE'!$J32:$BG32))/(MAX('DATA TABLE'!$J32:$BG32)-(MIN('DATA TABLE'!$J32:$BG32))))*100","v":{"v":20.914090447968388,"d":"21"}},{"$f":"(('DATA TABLE'!AR32-MIN('DATA TABLE'!$J32:$BG32))/(MAX('DATA TABLE'!$J32:$BG32)-(MIN('DATA TABLE'!$J32:$BG32))))*100","v":{"v":27.262534038122705,"d":"27"}},{"$f":"(('DATA TABLE'!AS32-MIN('DATA TABLE'!$J32:$BG32))/(MAX('DATA TABLE'!$J32:$BG32)-(MIN('DATA TABLE'!$J32:$BG32))))*100","v":{"v":26.92081798280741,"d":"27"}},{"$f":"(('DATA TABLE'!AT32-MIN('DATA TABLE'!$J32:$BG32))/(MAX('DATA TABLE'!$J32:$BG32)-(MIN('DATA TABLE'!$J32:$BG32))))*100","v":{"v":7.469699396657581,"d":"7"}},{"$f":"(('DATA TABLE'!AU32-MIN('DATA TABLE'!$J32:$BG32))/(MAX('DATA TABLE'!$J32:$BG32)-(MIN('DATA TABLE'!$J32:$BG32))))*100","v":{"v":12.173634470607073,"d":"12"}},{"$f":"(('DATA TABLE'!AV32-MIN('DATA TABLE'!$J32:$BG32))/(MAX('DATA TABLE'!$J32:$BG32)-(MIN('DATA TABLE'!$J32:$BG32))))*100","v":{"v":26.669870254685247,"d":"27"}},{"$f":"(('DATA TABLE'!AW32-MIN('DATA TABLE'!$J32:$BG32))/(MAX('DATA TABLE'!$J32:$BG32)-(MIN('DATA TABLE'!$J32:$BG32))))*100","v":{"v":82.81808959367828,"d":"83"}},{"$f":"(('DATA TABLE'!AX32-MIN('DATA TABLE'!$J32:$BG32))/(MAX('DATA TABLE'!$J32:$BG32)-(MIN('DATA TABLE'!$J32:$BG32))))*100","v":{"v":26.151956858348015,"d":"26"}},{"$f":"(('DATA TABLE'!AY32-MIN('DATA TABLE'!$J32:$BG32))/(MAX('DATA TABLE'!$J32:$BG32)-(MIN('DATA TABLE'!$J32:$BG32))))*100","v":{"v":24.480751775321696,"d":"24"}},{"$f":"(('DATA TABLE'!AZ32-MIN('DATA TABLE'!$J32:$BG32))/(MAX('DATA TABLE'!$J32:$BG32)-(MIN('DATA TABLE'!$J32:$BG32))))*100","v":{"v":15.975225585989639,"d":"16"}},{"$f":"(('DATA TABLE'!BA32-MIN('DATA TABLE'!$J32:$BG32))/(MAX('DATA TABLE'!$J32:$BG32)-(MIN('DATA TABLE'!$J32:$BG32))))*100","v":{"v":27.75375086763842,"d":"28"}},{"$f":"(('DATA TABLE'!BB32-MIN('DATA TABLE'!$J32:$BG32))/(MAX('DATA TABLE'!$J32:$BG32)-(MIN('DATA TABLE'!$J32:$BG32))))*100","v":{"v":24.1176784665492,"d":"24"}},{"$f":"(('DATA TABLE'!BC32-MIN('DATA TABLE'!$J32:$BG32))/(MAX('DATA TABLE'!$J32:$BG32)-(MIN('DATA TABLE'!$J32:$BG32))))*100","v":{"v":11.340701585776062,"d":"11"}},{"$f":"(('DATA TABLE'!BD32-MIN('DATA TABLE'!$J32:$BG32))/(MAX('DATA TABLE'!$J32:$BG32)-(MIN('DATA TABLE'!$J32:$BG32))))*100","v":{"v":7.736665064872648,"d":"8"}},{"$f":"(('DATA TABLE'!BE32-MIN('DATA TABLE'!$J32:$BG32))/(MAX('DATA TABLE'!$J32:$BG32)-(MIN('DATA TABLE'!$J32:$BG32))))*100","v":{"v":10.780073682524428,"d":"11"}},{"$f":"(('DATA TABLE'!BF32-MIN('DATA TABLE'!$J32:$BG32))/(MAX('DATA TABLE'!$J32:$BG32)-(MIN('DATA TABLE'!$J32:$BG32))))*100","v":{"v":8.489508249239137,"d":"8"}},{"$f":"(('DATA TABLE'!BG32-MIN('DATA TABLE'!$J32:$BG32))/(MAX('DATA TABLE'!$J32:$BG32)-(MIN('DATA TABLE'!$J32:$BG32))))*100","v":{"v":18.28714827273213,"d":"18"}}]
[null,"2.1.2b","Supplemental Nutrition Assistance Program (SNAP): participation rate",{"$f":"1/2","v":{"v":0.5,"d":"50%"}},{"$f":"$E$31/2","v":{"v":0.027777777777777776,"d":"3%"}},{"$f":"'DATA TABLE'!J33","v":81},{"$f":"'DATA TABLE'!K33","v":81},{"$f":"'DATA TABLE'!L33","v":74},{"$f":"'DATA TABLE'!M33","v":62},{"$f":"'DATA TABLE'!N33","v":66},{"$f":"'DATA TABLE'!O33","v":76},{"$f":"'DATA TABLE'!P33","v":89},{"$f":"'DATA TABLE'!Q33","v":87},{"$f":"'DATA TABLE'!R33","v":73},{"$f":"'DATA TABLE'!S33","v":72},{"$f":"'DATA TABLE'!T33","v":83},{"$f":"'DATA TABLE'!U33","v":79},{"$f":"'DATA TABLE'!V33","v":100},{"$f":"'DATA TABLE'!W33","v":73},{"$f":"'DATA TABLE'!X33","v":85},{"$f":"'DATA TABLE'!Y33","v":70},{"$f":"'DATA TABLE'!Z33","v":65},{"$f":"'DATA TABLE'!AA33","v":83},{"$f":"'DATA TABLE'!AB33","v":90},{"$f":"'DATA TABLE'!AC33","v":85},{"$f":"'DATA TABLE'!AD33","v":100},{"$f":"'DATA TABLE'!AE33","v":85},{"$f":"'DATA TABLE'!AF33","v":76},{"$f":"'DATA TABLE'!AG33","v":62},{"$f":"'DATA TABLE'!AH33","v":84},{"$f":"'DATA TABLE'!AI33","v":79},{"$f":"'DATA TABLE'!AJ33","v":78},{"$f":"'DATA TABLE'!AK33","v":84},{"$f":"'DATA TABLE'!AL33","v":79},{"$f":"'DATA TABLE'!AM33","v":72},{"$f":"'DATA TABLE'!AN33","v":100},{"$f":"'DATA TABLE'!AO33","v":82},{"$f":"'DATA TABLE'!AP33","v":74},{"$f":"'DATA TABLE'!AQ33","v":66},{"$f":"'DATA TABLE'!AR33","v":81},{"$f":"'DATA TABLE'!AS33","v":84},{"$f":"'DATA TABLE'!AT33","v":100},{"$f":"'DATA TABLE'!AU33","v":100},{"$f":"'DATA TABLE'!AV33","v":100},{"$f":"'DATA TABLE'!AW33","v":69},{"$f":"'DATA TABLE'!AX33","v":80},{"$f":"'DATA TABLE'!AY33","v":84},{"$f":"'DATA TABLE'!AZ33","v":69},{"$f":"'DATA TABLE'!BA33","v":74},{"$f":"'DATA TABLE'!BB33","v":96},{"$f":"'DATA TABLE'!BC33","v":77},{"$f":"'DATA TABLE'!BD33","v":94},{"$f":"'DATA TABLE'!BE33","v":94},{"$f":"'DATA TABLE'!BF33","v":92},{"$f":"'DATA TABLE'!BG33","v":49}]
[null,2.2,"Nutrition regulation",{"$f":"1/3","v":{"v":0.3333333333333333,"d":"33%"}},{"$f":"$E$28/3","v":{"v":0.1111111111111111,"d":"11%"}},{"$f":"SUMPRODUCT($D35,F35)","v":0},0,0,100,0,100,100,0,100,0,0,0,100,100,100,0,100,0,100,100,0,0,100,0,0,0,0,0,0,0,0,100,{"$f":"SUMPRODUCT($D35,AL35)","v":100},100,50,0,0,0,100,0,0,50,100,0,50,50,50,0,100,0]
[null,"2.2.1","Taxes on unhealthy food and beverages",{"v":1,"d":"100%"},{"$f":"E34","v":{"v":0.1111111111111111,"d":"11%"}},{"$f":"(('DATA TABLE'!J35-0)/(2-0))*100","v":0},{"$f":"(('DATA TABLE'!K35-0)/(2-0))*100","v":0},{"$f":"(('DATA TABLE'!L35-0)/(2-0))*100","v":0},{"$f":"(('DATA TABLE'!M35-0)/(2-0))*100","v":100},{"$f":"(('DATA TABLE'!N35-0)/(2-0))*100","v":0},{"$f":"(('DATA TABLE'!O35-0)/(2-0))*100","v":100},{"$f":"(('DATA TABLE'!P35-0)/(2-0))*100","v":100},{"$f":"(('DATA TABLE'!Q35-0)/(2-0))*100","v":0},{"$f":"(('DATA TABLE'!R35-0)/(2-0))*100","v":100},{"$f":"(('DATA TABLE'!S35-0)/(2-0))*100","v":0},{"$f":"(('DATA TABLE'!T35-0)/(2-0))*100","v":0},{"$f":"(('DATA TABLE'!U35-0)/(2-0))*100","v":0},{"$f":"(('DATA TABLE'!V35-0)/(2-0))*100","v":100},{"$f":"(('DATA TABLE'!W35-0)/(2-0))*100","v":100},{"$f":"(('DATA TABLE'!X35-0)/(2-0))*100","v":100},{"$f":"(('DATA TABLE'!Y35-0)/(2-0))*100","v":0},{"$f":"(('DATA TABLE'!Z35-0)/(2-0))*100","v":100},{"$f":"(('DATA TABLE'!AA35-0)/(2-0))*100","v":0},{"$f":"(('DATA TABLE'!AB35-0)/(2-0))*100","v":100},{"$f":"(('DATA TABLE'!AC35-0)/(2-0))*100","v":100},{"$f":"(('DATA TABLE'!AD35-0)/(2-0))*100","v":0},{"$f":"(('DATA TABLE'!AE35-0)/(2-0))*100","v":0},{"$f":"(('DATA TABLE'!AF35-0)/(2-0))*100","v":100},{"$f":"(('DATA TABLE'!AG35-0)/(2-0))*100","v":0},{"$f":"(('DATA TABLE'!AH35-0)/(2-0))*100","v":0},{"$f":"(('DATA TABLE'!AI35-0)/(2-0))*100","v":0},{"$f":"(('DATA TABLE'!AJ35-0)/(2-0))*100","v":0},{"$f":"(('DATA TABLE'!AK35-0)/(2-0))*100","v":0},{"$f":"(('DATA TABLE'!AL35-0)/(2-0))*100","v":0},{"$f":"(('DATA TABLE'!AM35-0)/(2-0))*100","v":0},{"$f":"(('DATA TABLE'!AN35-0)/(2-0))*100","v":0},{"$f":"(('DATA TABLE'!AO35-0)/(2-0))*100","v":100},{"$f":"(('DATA TABLE'!AP35-0)/(2-0))*100","v":100},{"$f":"(('DATA TABLE'!AQ35-0)/(2-0))*100","v":100},{"$f":"(('DATA TABLE'!AR35-0)/(2-0))*100","v":50},{"$f":"(('DATA TABLE'!AS35-0)/(2-0))*100","v":0},{"$f":"(('DATA TABLE'!AT35-0)/(2-0))*100","v":0},{"$f":"(('DATA TABLE'!AU35-0)/(2-0))*100","v":0},{"$f":"(('DATA TABLE'!AV35-0)/(2-0))*100","v":100},{"$f":"(('DATA TABLE'!AW35-0)/(2-0))*100","v":0},{"$f":"(('DATA TABLE'!AX35-0)/(2-0))*100","v":0},{"$f":"(('DATA TABLE'!AY35-0)/(2-0))*100","v":50},{"$f":"(('DATA TABLE'!AZ35-0)/(2-0))*100","v":100},{"$f":"(('DATA TABLE'!BA35-0)/(2-0))*100","v":0},{"$f":"(('DATA TABLE'!BB35-0)/(2-0))*100","v":50},{"$f":"(('DATA TABLE'!BC35-0)/(2-0))*100","v":50},{"$f":"(('DATA TABLE'!BD35-0)/(2-0))*100","v":50},{"$f":"(('DATA TABLE'!BE35-0)/(2-0))*100","v":0},{"$f":"(('DATA TABLE'!BF35-0)/(2-0))*100","v":100},{"$f":"(('DATA TABLE'!BG35-0)/(2-0))*100","v":0}]
[null,2.3,"Nutrition in schools",{"$f":"1/3","v":{"v":0.3333333333333333,"d":"33%"}},{"$f":"$E$28/3","v":{"v":0.1111111111111111,"d":"11%"}},{"$f":"SUMPRODUCT($D37:$D39,F37:F39)","v":{"v":66.66666666666666,"d":"67"}},{"v":66.66666666666666,"d":"67"},{"v":83.33333333333331,"d":"83"},{"v":83.33333333333331,"d":"83"},{"v":99.99999999999999,"d":"100"},{"v":66.66666666666666,"d":"67"},{"v":33.33333333333333,"d":"33"},{"v":66.66666666666666,"d":"67"},{"v":66.66666666666666,"d":"67"},{"v":83.33333333333331,"d":"83"},{"v":83.33333333333331,"d":"83"},{"v":66.66666666666666,"d":"67"},{"v":83.33333333333331,"d":"83"},{"v":66.66666666666666,"d":"67"},{"v":99.99999999999999,"d":"100"},{"v":66.66666666666666,"d":"67"},{"v":83.33333333333331,"d":"83"},{"v":83.33333333333331,"d":"83"},{"v":66.66666666666666,"d":"67"},{"v":83.33333333333331,"d":"83"},{"v":99.99999999999999,"d":"100"},{"v":99.99999999999999,"d":"100"},{"v":99.99999999999999,"d":"100"},{"v":66.66666666666666,"d":"67"},{"v":66.66666666666666,"d":"67"},{"v":33.33333333333333,"d":"33"},{"v":66.66666666666666,"d":"67"},{"v":83.33333333333331,"d":"83"},{"v":49.99999999999999,"d":"50"},{"v":83.33333333333331,"d":"83"},{"v":99.99999999999999,"d":"100"},{"v":66.66666666666666,"d":"67"},{"$f":"SUMPRODUCT($D37:$D39,AL37:AL39)","v":{"v":83.33333333333331,"d":"83"}},{"v":33.33333333333333,"d":"33"},{"v":83.33333333333331,"d":"83"},{"v":66.66666666666666,"d":"67"},{"v":83.33333333333331,"d":"83"},{"v":99.99999999999999,"d":"100"},{"v":49.99999999999999,"d":"50"},{"v":83.33333333333331,"d":"83"},{"v":66.66666666666666,"d":"67"},{"v":83.33333333333331,"d":"83"},{"v":83.33333333333331,"d":"83"},{"v":66.66666666666666,"d":"67"},{"v":99.99999999999999,"d":"100"},{"v":83.33333333333331,"d":"83"},{"v":99.99999999999999,"d":"100"},{"v":83.33333333333331,"d":"83"},{"v":66.66666666666666,"d":"67"},{"v":66.66666666666666,"d":"67"}]
[null,"2.3.1","School nutrition standards",{"$f":"1/3","v":{"v":0.3333333333333333,"d":"33%"}},{"$f":"$E$36/3","v":{"v":0.037037037037037035,"d":"4%"}},{"$f":"(('DATA TABLE'!J37-0)/(1-0))*100","v":100},{"$f":"(('DATA TABLE'!K37-0)/(1-0))*100","v":100},{"$f":"(('DATA TABLE'!L37-0)/(1-0))*100","v":100},{"$f":"(('DATA TABLE'!M37-0)/(1-0))*100","v":100},{"$f":"(('DATA TABLE'!N37-0)/(1-0))*100","v":100},{"$f":"(('DATA TABLE'!O37-0)/(1-0))*100","v":100},{"$f":"(('DATA TABLE'!P37-0)/(1-0))*100","v":100},{"$f":"(('DATA TABLE'!Q37-0)/(1-0))*100","v":100},{"$f":"(('DATA TABLE'!R37-0)/(1-0))*100","v":100},{"$f":"(('DATA TABLE'!S37-0)/(1-0))*100","v":100},{"$f":"(('DATA TABLE'!T37-0)/(1-0))*100","v":100},{"$f":"(('DATA TABLE'!U37-0)/(1-0))*100","v":100},{"$f":"(('DATA TABLE'!V37-0)/(1-0))*100","v":100},{"$f":"(('DATA TABLE'!W37-0)/(1-0))*100","v":100},{"$f":"(('DATA TABLE'!X37-0)/(1-0))*100","v":100},{"$f":"(('DATA TABLE'!Y37-0)/(1-0))*100","v":100},{"$f":"(('DATA TABLE'!Z37-0)/(1-0))*100","v":100},{"$f":"(('DATA TABLE'!AA37-0)/(1-0))*100","v":100},{"$f":"(('DATA TABLE'!AB37-0)/(1-0))*100","v":100},{"$f":"(('DATA TABLE'!AC37-0)/(1-0))*100","v":100},{"$f":"(('DATA TABLE'!AD37-0)/(1-0))*100","v":100},{"$f":"(('DATA TABLE'!AE37-0)/(1-0))*100","v":100},{"$f":"(('DATA TABLE'!AF37-0)/(1-0))*100","v":100},{"$f":"(('DATA TABLE'!AG37-0)/(1-0))*100","v":100},{"$f":"(('DATA TABLE'!AH37-0)/(1-0))*100","v":100},{"$f":"(('DATA TABLE'!AI37-0)/(1-0))*100","v":0},{"$f":"(('DATA TABLE'!AJ37-0)/(1-0))*100","v":100},{"$f":"(('DATA TABLE'!AK37-0)/(1-0))*100","v":100},{"$f":"(('DATA TABLE'!AL37-0)/(1-0))*100","v":100},{"$f":"(('DATA TABLE'!AM37-0)/(1-0))*100","v":100},{"$f":"(('DATA TABLE'!AN37-0)/(1-0))*100","v":100},{"$f":"(('DATA TABLE'!AO37-0)/(1-0))*100","v":100},{"$f":"(('DATA TABLE'!AP37-0)/(1-0))*100","v":100},{"$f":"(('DATA TABLE'!AQ37-0)/(1-0))*100","v":100},{"$f":"(('DATA TABLE'!AR37-0)/(1-0))*100","v":100},{"$f":"(('DATA TABLE'!AS37-0)/(1-0))*100","v":100},{"$f":"(('DATA TABLE'!AT37-0)/(1-0))*100","v":100},{"$f":"(('DATA TABLE'!AU37-0)/(1-0))*100","v":100},{"$f":"(('DATA TABLE'!AV37-0)/(1-0))*100","v":100},{"$f":"(('DATA TABLE'!AW37-0)/(1-0))*100","v":100},{"$f":"(('DATA TABLE'!AX37-0)/(1-0))*100","v":100},{"$f":"(('DATA TABLE'!AY37-0)/(1-0))*100","v":100},{"$f":"(('DATA TABLE'!AZ37-0)/(1-0))*100","v":100},{"$f":"(('DATA TABLE'!BA37-0)/(1-0))*100","v":100},{"$f":"(('DATA TABLE'!BB37-0)/(1-0))*100","v":100},{"$f":"(('DATA TABLE'!BC37-0)/(1-0))*100","v":100},{"$f":"(('DATA TABLE'!BD37-0)/(1-0))*100","v":100},{"$f":"(('DATA TABLE'!BE37-0)/(1-0))*100","v":100},{"$f":"(('DATA TABLE'!BF37-0)/(1-0))*100","v":100},{"$f":"(('DATA TABLE'!BG37-0)/(1-0))*100","v":100}]
[null,"2.3.2","Nutrition education",{"$f":"1/3","v":{"v":0.3333333333333333,"d":"33%"}},{"$f":"$E$36/3","v":{"v":0.037037037037037035,"d":"4%"}},{"$f":"(('DATA TABLE'!J38-0)/(1-0))*100","v":100},{"$f":"(('DATA TABLE'!K38-0)/(1-0))*100","v":100},{"$f":"(('DATA TABLE'!L38-0)/(1-0))*100","v":100},{"$f":"(('DATA TABLE'!M38-0)/(1-0))*100","v":100},{"$f":"(('DATA TABLE'!N38-0)/(1-0))*100","v":100},{"$f":"(('DATA TABLE'!O38-0)/(1-0))*100","v":100},{"$f":"(('DATA TABLE'!P38-0)/(1-0))*100","v":0},{"$f":"(('DATA TABLE'!Q38-0)/(1-0))*100","v":100},{"$f":"(('DATA TABLE'!R38-0)/(1-0))*100","v":100},{"$f":"(('DATA TABLE'!S38-0)/(1-0))*100","v":100},{"$f":"(('DATA TABLE'!T38-0)/(1-0))*100","v":100},{"$f":"(('DATA TABLE'!U38-0)/(1-0))*100","v":100},{"$f":"(('DATA TABLE'!V38-0)/(1-0))*100","v":100},{"$f":"(('DATA TABLE'!W38-0)/(1-0))*100","v":100},{"$f":"(('DATA TABLE'!X38-0)/(1-0))*100","v":100},{"$f":"(('DATA TABLE'!Y38-0)/(1-0))*100","v":0},{"$f":"(('DATA TABLE'!Z38-0)/(1-0))*100","v":100},{"$f":"(('DATA TABLE'!AA38-0)/(1-0))*100","v":100},{"$f":"(('DATA TABLE'!AB38-0)/(1-0))*100","v":0},{"$f":"(('DATA TABLE'!AC38-0)/(1-0))*100","v":100},{"$f":"(('DATA TABLE'!AD38-0)/(1-0))*100","v":100},{"$f":"(('DATA TABLE'!AE38-0)/(1-0))*100","v":100},{"$f":"(('DATA TABLE'!AF38-0)/(1-0))*100","v":100},{"$f":"(('DATA TABLE'!AG38-0)/(1-0))*100","v":100},{"$f":"(('DATA TABLE'!AH38-0)/(1-0))*100","v":100},{"$f":"(('DATA TABLE'!AI38-0)/(1-0))*100","v":100},{"$f":"(('DATA TABLE'!AJ38-0)/(1-0))*100","v":100},{"$f":"(('DATA TABLE'!AK38-0)/(1-0))*100","v":100},{"$f":"(('DATA TABLE'!AL38-0)/(1-0))*100","v":0},{"$f":"(('DATA TABLE'!AM38-0)/(1-0))*100","v":100},{"$f":"(('DATA TABLE'!AN38-0)/(1-0))*100","v":100},{"$f":"(('DATA TABLE'!AO38-0)/(1-0))*100","v":100},{"$f":"(('DATA TABLE'!AP38-0)/(1-0))*100","v":100},{"$f":"(('DATA TABLE'!AQ38-0)/(1-0))*100","v":0},{"$f":"(('DATA TABLE'!AR38-0)/(1-0))*100","v":100},{"$f":"(('DATA TABLE'!AS38-0)/(1-0))*100","v":100},{"$f":"(('DATA TABLE'!AT38-0)/(1-0))*100","v":100},{"$f":"(('DATA TABLE'!AU38-0)/(1-0))*100","v":100},{"$f":"(('DATA TABLE'!AV38-0)/(1-0))*100","v":0},{"$f":"(('DATA TABLE'!AW38-0)/(1-0))*100","v":100},{"$f":"(('DATA TABLE'!AX38-0)/(1-0))*100","v":100},{"$f":"(('DATA TABLE'!AY38-0)/(1-0))*100","v":100},{"$f":"(('DATA TABLE'!AZ38-0)/(1-0))*100","v":100},{"$f":"(('DATA TABLE'!BA38-0)/(1-0))*100","v":100},{"$f":"(('DATA TABLE'!BB38-0)/(1-0))*100","v":100},{"$f":"(('DATA TABLE'!BC38-0)/(1-0))*100","v":100},{"$f":"(('DATA TABLE'!BD38-0)/(1-0))*100","v":100},{"$f":"(('DATA TABLE'!BE38-0)/(1-0))*100","v":100},{"$f":"(('DATA TABLE'!BF38-0)/(1-0))*100","v":100},{"$f":"(('DATA TABLE'!BG38-0)/(1-0))*100","v":100}]
[null,"2.3.3","Universal free school meals",{"$f":"1/3","v":{"v":0.3333333333333333,"d":"33%"}},{"$f":"$E$36/3","v":{"v":0.037037037037037035,"d":"4%"}},{"$f":"(('DATA TABLE'!J39-0)/(2-0))*100","v":0},{"$f":"(('DATA TABLE'!K39-0)/(2-0))*100","v":0},{"$f":"(('DATA TABLE'!L39-0)/(2-0))*100","v":50},{"$f":"(('DATA TABLE'!M39-0)/(2-0))*100","v":50},{"$f":"(('DATA TABLE'!N39-0)/(2-0))*100","v":100},{"$f":"(('DATA TABLE'!O39-0)/(2-0))*100","v":0},{"$f":"(('DATA TABLE'!P39-0)/(2-0))*100","v":0},{"$f":"(('DATA TABLE'!Q39-0)/(2-0))*100","v":0},{"$f":"(('DATA TABLE'!R39-0)/(2-0))*100","v":0},{"$f":"(('DATA TABLE'!S39-0)/(2-0))*100","v":50},{"$f":"(('DATA TABLE'!T39-0)/(2-0))*100","v":50},{"$f":"(('DATA TABLE'!U39-0)/(2-0))*100","v":0},{"$f":"(('DATA TABLE'!V39-0)/(2-0))*100","v":50},{"$f":"(('DATA TABLE'!W39-0)/(2-0))*100","v":0},{"$f":"(('DATA TABLE'!X39-0)/(2-0))*100","v":100},{"$f":"(('DATA TABLE'!Y39-0)/(2-0))*100","v":100},{"$f":"(('DATA TABLE'!Z39-0)/(2-0))*100","v":50},{"$f":"(('DATA TABLE'!AA39-0)/(2-0))*100","v":50},{"$f":"(('DATA TABLE'!AB39-0)/(2-0))*100","v":100},{"$f":"(('DATA TABLE'!AC39-0)/(2-0))*100","v":50},{"$f":"(('DATA TABLE'!AD39-0)/(2-0))*100","v":100},{"$f":"(('DATA TABLE'!AE39-0)/(2-0))*100","v":100},{"$f":"(('DATA TABLE'!AF39-0)/(2-0))*100","v":100},{"$f":"(('DATA TABLE'!AG39-0)/(2-0))*100","v":0},{"$f":"(('DATA TABLE'!AH39-0)/(2-0))*100","v":0},{"$f":"(('DATA TABLE'!AI39-0)/(2-0))*100","v":0},{"$f":"(('DATA TABLE'!AJ39-0)/(2-0))*100","v":0},{"$f":"(('DATA TABLE'!AK39-0)/(2-0))*100","v":50},{"$f":"(('DATA TABLE'!AL39-0)/(2-0))*100","v":50},{"$f":"(('DATA TABLE'!AM39-0)/(2-0))*100","v":50},{"$f":"(('DATA TABLE'!AN39-0)/(2-0))*100","v":100},{"$f":"(('DATA TABLE'!AO39-0)/(2-0))*100","v":0},{"$f":"(('DATA TABLE'!AP39-0)/(2-0))*100","v":50},{"$f":"(('DATA TABLE'!AQ39-0)/(2-0))*100","v":0},{"$f":"(('DATA TABLE'!AR39-0)/(2-0))*100","v":50},{"$f":"(('DATA TABLE'!AS39-0)/(2-0))*100","v":0},{"$f":"(('DATA TABLE'!AT39-0)/(2-0))*100","v":50},{"$f":"(('DATA TABLE'!AU39-0)/(2-0))*100","v":100},{"$f":"(('DATA TABLE'!AV39-0)/(2-0))*100","v":50},{"$f":"(('DATA TABLE'!AW39-0)/(2-0))*100","v":50},{"$f":"(('DATA TABLE'!AX39-0)/(2-0))*100","v":0},{"$f":"(('DATA TABLE'!AY39-0)/(2-0))*100","v":50},{"$f":"(('DATA TABLE'!AZ39-0)/(2-0))*100","v":50},{"$f":"(('DATA TABLE'!BA39-0)/(2-0))*100","v":0},{"$f":"(('DATA TABLE'!BB39-0)/(2-0))*100","v":100},{"$f":"(('DATA TABLE'!BC39-0)/(2-0))*100","v":50},{"$f":"(('DATA TABLE'!BD39-0)/(2-0))*100","v":100},{"$f":"(('DATA TABLE'!BE39-0)/(2-0))*100","v":50},{"$f":"(('DATA TABLE'!BF39-0)/(2-0))*100","v":0},{"$f":"(('DATA TABLE'!BG39-0)/(2-0))*100","v":0}]
[null,3,"Physical activity",{"$f":"1/3","v":{"v":0.3333333333333333,"d":"33%"}},{"$f":"1/3","v":{"v":0.3333333333333333,"d":"33%"}},{"$f":"SUM($D41*F41,$D44*F44)","v":{"v":56.916666666666664,"d":"57"}},{"v":61.416666666666664,"d":"61"},{"v":46.5,"d":"47"},{"v":57.416666666666664,"d":"57"},{"v":73.5,"d":"74"},{"v":72.5,"d":"73"},{"v":64.91666666666666,"d":"65"},{"v":69.75,"d":"70"},{"v":55.33333333333333,"d":"55"},{"v":52.08333333333333,"d":"52"},{"v":64.91666666666666,"d":"65"},{"v":52.58333333333333,"d":"53"},{"v":72.75,"d":"73"},69,{"v":53.33333333333333,"d":"53"},45,{"v":67.5,"d":"68"},{"v":60.666666666666664,"d":"61"},{"v":58.416666666666664,"d":"58"},{"v":64.66666666666666,"d":"65"},{"v":57.08333333333333,"d":"57"},{"v":54.83333333333333,"d":"55"},{"v":63.166666666666664,"d":"63"},{"v":64.5,"d":"65"},{"v":60.916666666666664,"d":"61"},{"v":60.166666666666664,"d":"60"},{"v":46.25,"d":"46"},{"v":72.75,"d":"73"},{"v":62.916666666666664,"d":"63"},{"v":65.66666666666666,"d":"66"},{"v":60.666666666666664,"d":"61"},{"v":64.91666666666666,"d":"65"},{"$f":"SUM($D41*AL41,$D44*AL44)","v":{"v":61.166666666666664,"d":"61"}},44,71,{"v":67.75,"d":"68"},72,{"v":63.166666666666664,"d":"63"},{"v":65.66666666666666,"d":"66"},{"v":42.25,"d":"42"},{"v":59.916666666666664,"d":"60"},{"v":58.666666666666664,"d":"59"},{"v":53.83333333333333,"d":"54"},{"v":71.25,"d":"71"},{"v":59.166666666666664,"d":"59"},{"v":87.66666666666666,"d":"88"},{"v":71.5,"d":"72"},{"v":56.416666666666664,"d":"56"},{"v":62.666666666666664,"d":"63"},{"v":60.916666666666664,"d":"61"}]
[null,3.1,"Physical activity among the population",{"$f":"1/2","v":{"v":0.5,"d":"50%"}},{"$f":"$E$40/2","v":{"v":0.16666666666666666,"d":"17%"}},{"$f":"SUMPRODUCT($D$42:$D$43,F42:F43)","v":{"v":63.83333333333333,"d":"64"}},{"v":72.83333333333333,"d":"73"},93,{"v":64.83333333333333,"d":"65"},97,95,{"v":79.83333333333333,"d":"80"},{"v":89.5,"d":"90"},{"v":60.666666666666664,"d":"61"},{"v":54.166666666666664,"d":"54"},{"v":79.83333333333333,"d":"80"},{"v":55.166666666666664,"d":"55"},{"v":95.5,"d":"96"},88,{"v":56.666666666666664,"d":"57"},90,85,{"v":71.33333333333333,"d":"71"},{"v":66.83333333333333,"d":"67"},{"v":79.33333333333333,"d":"79"},{"v":64.16666666666666,"d":"64"},{"v":59.666666666666664,"d":"60"},{"v":76.33333333333333,"d":"76"},79,{"v":71.83333333333333,"d":"72"},{"v":70.33333333333333,"d":"70"},{"v":42.5,"d":"43"},{"v":95.5,"d":"96"},{"v":75.83333333333333,"d":"76"},{"v":81.33333333333333,"d":"81"},{"v":71.33333333333333,"d":"71"},{"v":79.83333333333333,"d":"80"},{"$f":"SUMPRODUCT($D$42:$D$43,AL42:AL43)","v":{"v":72.33333333333333,"d":"72"}},38,92,{"v":85.5,"d":"86"},94,{"v":76.33333333333333,"d":"76"},{"v":81.33333333333333,"d":"81"},{"v":34.5,"d":"35"},{"v":69.83333333333333,"d":"70"},{"v":67.33333333333333,"d":"67"},{"v":57.666666666666664,"d":"58"},{"v":92.5,"d":"93"},{"v":68.33333333333333,"d":"68"},{"v":75.33333333333333,"d":"75"},93,{"v":62.83333333333333,"d":"63"},{"v":75.33333333333333,"d":"75"},{"v":71.83333333333333,"d":"72"}]
[null,"3.1.1","Promotion of physical activity",{"$f":"1/2","v":{"v":0.5,"d":"50%"}},{"$f":"$E$41/2","v":{"v":0.08333333333333333,"d":"8%"}},{"$f":"(('DATA TABLE'!J42-0)/(3-0))*100","v":{"v":66.66666666666666,"d":"67"}},{"$f":"(('DATA TABLE'!K42-0)/(3-0))*100","v":{"v":66.66666666666666,"d":"67"}},{"$f":"(('DATA TABLE'!L42-0)/(3-0))*100","v":100},{"$f":"(('DATA TABLE'!M42-0)/(3-0))*100","v":{"v":66.66666666666666,"d":"67"}},{"$f":"(('DATA TABLE'!N42-0)/(3-0))*100","v":100},{"$f":"(('DATA TABLE'!O42-0)/(3-0))*100","v":100},{"$f":"(('DATA TABLE'!P42-0)/(3-0))*100","v":{"v":66.66666666666666,"d":"67"}},{"$f":"(('DATA TABLE'!Q42-0)/(3-0))*100","v":100},{"$f":"(('DATA TABLE'!R42-0)/(3-0))*100","v":{"v":33.33333333333333,"d":"33"}},{"$f":"(('DATA TABLE'!S42-0)/(3-0))*100","v":{"v":33.33333333333333,"d":"33"}},{"$f":"(('DATA TABLE'!T42-0)/(3-0))*100","v":{"v":66.66666666666666,"d":"67"}},{"$f":"(('DATA TABLE'!U42-0)/(3-0))*100","v":{"v":33.33333333333333,"d":"33"}},{"$f":"(('DATA TABLE'!V42-0)/(3-0))*100","v":100},{"$f":"(('DATA TABLE'!W42-0)/(3-0))*100","v":100},{"$f":"(('DATA TABLE'!X42-0)/(3-0))*100","v":{"v":33.33333333333333,"d":"33"}},{"$f":"(('DATA TABLE'!Y42-0)/(3-0))*100","v":100},{"$f":"(('DATA TABLE'!Z42-0)/(3-0))*100","v":100},{"$f":"(('DATA TABLE'!AA42-0)/(3-0))*100","v":{"v":66.66666666666666,"d":"67"}},{"$f":"(('DATA TABLE'!AB42-0)/(3-0))*100","v":{"v":66.66666666666666,"d":"67"}},{"$f":"(('DATA TABLE'!AC42-0)/(3-0))*100","v":{"v":66.66666666666666,"d":"67"}},{"$f":"(('DATA TABLE'!AD42-0)/(3-0))*100","v":{"v":33.33333333333333,"d":"33"}},{"$f":"(('DATA TABLE'!AE42-0)/(3-0))*100","v":{"v":33.33333333333333,"d":"33"}},{"$f":"(('DATA TABLE'!AF42-0)/(3-0))*100","v":{"v":66.66666666666666,"d":"67"}},{"$f":"(('DATA TABLE'!AG42-0)/(3-0))*100","v":100},{"$f":"(('DATA TABLE'!AH42-0)/(3-0))*100","v":{"v":66.66666666666666,"d":"67"}},{"$f":"(('DATA TABLE'!AI42-0)/(3-0))*100","v":{"v":66.66666666666666,"d":"67"}},{"$f":"(('DATA TABLE'!AJ42-0)/(3-0))*100","v":0},{"$f":"(('DATA TABLE'!AK42-0)/(3-0))*100","v":100},{"$f":"(('DATA TABLE'!AL42-0)/(3-0))*100","v":{"v":66.66666666666666,"d":"67"}},{"$f":"(('DATA TABLE'!AM42-0)/(3-0))*100","v":{"v":66.66666666666666,"d":"67"}},{"$f":"(('DATA TABLE'!AN42-0)/(3-0))*100","v":{"v":66.66666666666666,"d":"67"}},{"$f":"(('DATA TABLE'!AO42-0)/(3-0))*100","v":{"v":66.66666666666666,"d":"67"}},{"$f":"(('DATA TABLE'!AP42-0)/(3-0))*100","v":{"v":66.66666666666666,"d":"67"}},{"$f":"(('DATA TABLE'!AQ42-0)/(3-0))*100","v":0},{"$f":"(('DATA TABLE'!AR42-0)/(3-0))*100","v":100},{"$f":"(('DATA TABLE'!AS42-0)/(3-0))*100","v":100},{"$f":"(('DATA TABLE'!AT42-0)/(3-0))*100","v":100},{"$f":"(('DATA TABLE'!AU42-0)/(3-0))*100","v":{"v":66.66666666666666,"d":"67"}},{"$f":"(('DATA TABLE'!AV42-0)/(3-0))*100","v":{"v":66.66666666666666,"d":"67"}},{"$f":"(('DATA TABLE'!AW42-0)/(3-0))*100","v":0},{"$f":"(('DATA TABLE'!AX42-0)/(3-0))*100","v":{"v":66.66666666666666,"d":"67"}},{"$f":"(('DATA TABLE'!AY42-0)/(3-0))*100","v":{"v":66.66666666666666,"d":"67"}},{"$f":"(('DATA TABLE'!AZ42-0)/(3-0))*100","v":{"v":33.33333333333333,"d":"33"}},{"$f":"(('DATA TABLE'!BA42-0)/(3-0))*100","v":100},{"$f":"(('DATA TABLE'!BB42-0)/(3-0))*100","v":{"v":66.66666666666666,"d":"67"}},{"$f":"(('DATA TABLE'!BC42-0)/(3-0))*100","v":{"v":66.66666666666666,"d":"67"}},{"$f":"(('DATA TABLE'!BD42-0)/(3-0))*100","v":100},{"$f":"(('DATA TABLE'!BE42-0)/(3-0))*100","v":{"v":66.66666666666666,"d":"67"}},{"$f":"(('DATA TABLE'!BF42-0)/(3-0))*100","v":{"v":66.66666666666666,"d":"67"}},{"$f":"(('DATA TABLE'!BG42-0)/(3-0))*100","v":{"v":66.66666666666666,"d":"67"}}]
[null,"3.1.2","Access to exercise facilities",{"$f":"1/2","v":{"v":0.5,"d":"50%"}},{"$f":"$E$41/2","v":{"v":0.08333333333333333,"d":"8%"}},{"$f":"'DATA TABLE'!J43","v":61},{"$f":"'DATA TABLE'!K43","v":79},{"$f":"'DATA TABLE'!L43","v":86},{"$f":"'DATA TABLE'!M43","v":63},{"$f":"'DATA TABLE'!N43","v":94},{"$f":"'DATA TABLE'!O43","v":90},{"$f":"'DATA TABLE'!P43","v":93},{"$f":"'DATA TABLE'!Q43","v":79},{"$f":"'DATA TABLE'!R43","v":88},{"$f":"'DATA TABLE'!S43","v":75},{"$f":"'DATA TABLE'!T43","v":93},{"$f":"'DATA TABLE'!U43","v":77},{"$f":"'DATA TABLE'!V43","v":91},{"$f":"'DATA TABLE'!W43","v":76},{"$f":"'DATA TABLE'!X43","v":80},{"$f":"'DATA TABLE'!Y43","v":80},{"$f":"'DATA TABLE'!Z43","v":70},{"$f":"'DATA TABLE'!AA43","v":76},{"$f":"'DATA TABLE'!AB43","v":67},{"$f":"'DATA TABLE'!AC43","v":92},{"$f":"'DATA TABLE'!AD43","v":95},{"$f":"'DATA TABLE'!AE43","v":86},{"$f":"'DATA TABLE'!AF43","v":86},{"$f":"'DATA TABLE'!AG43","v":58},{"$f":"'DATA TABLE'!AH43","v":77},{"$f":"'DATA TABLE'!AI43","v":74},{"$f":"'DATA TABLE'!AJ43","v":85},{"$f":"'DATA TABLE'!AK43","v":91},{"$f":"'DATA TABLE'!AL43","v":85},{"$f":"'DATA TABLE'!AM43","v":96},{"$f":"'DATA TABLE'!AN43","v":76},{"$f":"'DATA TABLE'!AO43","v":93},{"$f":"'DATA TABLE'!AP43","v":78},{"$f":"'DATA TABLE'!AQ43","v":76},{"$f":"'DATA TABLE'!AR43","v":84},{"$f":"'DATA TABLE'!AS43","v":71},{"$f":"'DATA TABLE'!AT43","v":88},{"$f":"'DATA TABLE'!AU43","v":86},{"$f":"'DATA TABLE'!AV43","v":96},{"$f":"'DATA TABLE'!AW43","v":69},{"$f":"'DATA TABLE'!AX43","v":73},{"$f":"'DATA TABLE'!AY43","v":68},{"$f":"'DATA TABLE'!AZ43","v":82},{"$f":"'DATA TABLE'!BA43","v":85},{"$f":"'DATA TABLE'!BB43","v":70},{"$f":"'DATA TABLE'!BC43","v":84},{"$f":"'DATA TABLE'!BD43","v":86},{"$f":"'DATA TABLE'!BE43","v":59},{"$f":"'DATA TABLE'!BF43","v":84},{"$f":"'DATA TABLE'!BG43","v":77}]
[null,3.2,"Physical activity among children",{"$f":"1/2","v":{"v":0.5,"d":"50%"}},{"$f":"$E$40/2","v":{"v":0.16666666666666666,"d":"17%"}},{"$f":"SUMPRODUCT($D45,F45)","v":50},50,0,50,50,50,50,50,50,50,50,50,50,50,50,0,50,50,50,50,50,50,50,50,50,50,50,50,50,50,50,50,{"$f":"SUMPRODUCT($D45,AL45)","v":50},50,50,50,50,50,50,50,50,50,50,50,50,100,50,50,50,50]
[null,"3.2.1","Physical activity mandates",{"v":1,"d":"100%"},{"$f":"E44","v":{"v":0.16666666666666666,"d":"17%"}},{"$f":"(('DATA TABLE'!J45-0)/(2-0))*100","v":50},{"$f":"(('DATA TABLE'!K45-0)/(2-0))*100","v":50},{"$f":"(('DATA TABLE'!L45-0)/(2-0))*100","v":0},{"$f":"(('DATA TABLE'!M45-0)/(2-0))*100","v":50},{"$f":"(('DATA TABLE'!N45-0)/(2-0))*100","v":50},{"$f":"(('DATA TABLE'!O45-0)/(2-0))*100","v":50},{"$f":"(('DATA TABLE'!P45-0)/(2-0))*100","v":50},{"$f":"(('DATA TABLE'!Q45-0)/(2-0))*100","v":50},{"$f":"(('DATA TABLE'!R45-0)/(2-0))*100","v":50},{"$f":"(('DATA TABLE'!S45-0)/(2-0))*100","v":50},{"$f":"(('DATA TABLE'!T45-0)/(2-0))*100","v":50},{"$f":"(('DATA TABLE'!U45-0)/(2-0))*100","v":50},{"$f":"(('DATA TABLE'!V45-0)/(2-0))*100","v":50},{"$f":"(('DATA TABLE'!W45-0)/(2-0))*100","v":50},{"$f":"(('DATA TABLE'!X45-0)/(2-0))*100","v":50},{"$f":"(('DATA TABLE'!Y45-0)/(2-0))*100","v":0},{"$f":"(('DATA TABLE'!Z45-0)/(2-0))*100","v":50},{"$f":"(('DATA TABLE'!AA45-0)/(2-0))*100","v":50},{"$f":"(('DATA TABLE'!AB45-0)/(2-0))*100","v":50},{"$f":"(('DATA TABLE'!AC45-0)/(2-0))*100","v":50},{"$f":"(('DATA TABLE'!AD45-0)/(2-0))*100","v":50},{"$f":"(('DATA TABLE'!AE45-0)/(2-0))*100","v":50},{"$f":"(('DATA TABLE'!AF45-0)/(2-0))*100","v":50},{"$f":"(('DATA TABLE'!AG45-0)/(2-0))*100","v":50},{"$f":"(('DATA TABLE'!AH45-0)/(2-0))*100","v":50},{"$f":"(('DATA TABLE'!AI45-0)/(2-0))*100","v":50},{"$f":"(('DATA TABLE'!AJ45-0)/(2-0))*100","v":50},{"$f":"(('DATA TABLE'!AK45-0)/(2-0))*100","v":50},{"$f":"(('DATA TABLE'!AL45-0)/(2-0))*100","v":50},{"$f":"(('DATA TABLE'!AM45-0)/(2-0))*100","v":50},{"$f":"(('DATA TABLE'!AN45-0)/(2-0))*100","v":50},{"$f":"(('DATA TABLE'!AO45-0)/(2-0))*100","v":50},{"$f":"(('DATA TABLE'!AP45-0)/(2-0))*100","v":50},{"$f":"(('DATA TABLE'!AQ45-0)/(2-0))*100","v":50},{"$f":"(('DATA TABLE'!AR45-0)/(2-0))*100","v":50},{"$f":"(('DATA TABLE'!AS45-0)/(2-0))*100","v":50},{"$f":"(('DATA TABLE'!AT45-0)/(2-0))*100","v":50},{"$f":"(('DATA TABLE'!AU45-0)/(2-0))*100","v":50},{"$f":"(('DATA TABLE'!AV45-0)/(2-0))*100","v":50},{"$f":"(('DATA TABLE'!AW45-0)/(2-0))*100","v":50},{"$f":"(('DATA TABLE'!AX45-0)/(2-0))*100","v":50},{"$f":"(('DATA TABLE'!AY45-0)/(2-0))*100","v":50},{"$f":"(('DATA TABLE'!AZ45-0)/(2-0))*100","v":50},{"$f":"(('DATA TABLE'!BA45-0)/(2-0))*100","v":50},{"$f":"(('DATA TABLE'!BB45-0)/(2-0))*100","v":50},{"$f":"(('DATA TABLE'!BC45-0)/(2-0))*100","v":100},{"$f":"(('DATA TABLE'!BD45-0)/(2-0))*100","v":50},{"$f":"(('DATA TABLE'!BE45-0)/(2-0))*100","v":50},{"$f":"(('DATA TABLE'!BF45-0)/(2-0))*100","v":50},{"$f":"(('DATA TABLE'!BG45-0)/(2-0))*100","v":50}]

{"sheet":"Data_summary","index":7,"n_rows":38,"n_cols":56,"rows_kept":38,"hidden":true}
["Data - summary"]
[null,"UID","No.","Indicator name",null,null,"Alabama","Alaska","Arizona","Arkansas","California","Colorado","Connecticut","Delaware","Florida","Georgia","Hawaii","Idaho","Illinois","Indiana","Iowa","Kansas","Kentucky","Louisiana","Maine","Maryland","Massachusetts","Michigan","Minnesota","Mississippi","Missouri","Montana","Nebraska","Nevada","New Hampshire","New Jersey","New Mexico","New York","North Carolina","North Dakota","Ohio","Oklahoma","Oregon","Pennsylvania","Rhode Island","South Carolina","South Dakota","Tennessee","Texas","Utah","Vermont","Virginia","Washington","West Virginia","Wisconsin","Wyoming"]
[null,0,0,"OVERALL"]
[null,1000,1,"Policy and governance"]
[null,1001,1.1,"Obesity-related policy"]
[null,1002,"1.1.1","Health policy/strategy/plan that includes obesity",null,null,"While obesity was identified as a priority area in the 2015 State of Alabama Community Health Improvement Plan - which was valid from 2015 to 2019 - obesity is not included among the priority areas in the 2024-2029 State Health Improvement Plan (Alabama Department of Public Health, State Health Improvement Plan 2024-2029, 2024).","\"Healthy Alaskans 2030\", Alaska’s statewide health improvement plan, has three pillars related to obesity: Healthy Weight, Nutrition and Physical Activity. An explicit health outcome of the plan is reducing children’s risk of overweight and obesity (Alaska Department of Health and the Alaska Native Tribal Health Consortium, Healthy Alaskans 2030: Alaska Health Priorities, 2020).","While obesity was identified as a priority area in Arizona's 2016-2020 Arizona Health Improvement Plan (AzHIP), obesity is not included among the priority areas in the 2021-2025 AzHIP (Arizona Department of Health Services, Arizona Health Improvement Plan 2021-2025, 2021).","Obesity is one of five priority areas under Arkansas' State Health Improvement Plan 2021-2025 (Arkansas Department of Health, State Health Improvement Plan 2021-2025).","Adult and child obesity are specified as priorities under California's state-level health strategy (California Department of Public Health, Let’s Get Healthy California, 2012).","Colorado's state-level health plan does not specify obesity as a priority (Colorado Department of Public Health and Environment, Public and Environmental Health Improvement Plan for 2024, 2022).","Obesity was addressed under the \"Chronic Disease Prevention and Control\" focus area of the Healthy Connecticut 2020, 2: State Health Improvement Plan. However, that plan expired in 2020 and there is no evidence that Connecticut has produced an updated State Health Improvement Plan (Connecticut State Department of Public Health, Healthy Connecticut 2020, 2: State Health Improvement Plan, 2014).","Obesity is not specified as a priority in Delaware's latest State Health Improvement Plan 2018-2023 (Delaware Division of Public Health, Delaware State Health Improvement Plan 2018-2023; 2023).","Obesity is specified as a priority in Florida's state-level health improvement plan (Florida Department of Health, 2022-2026 State Health Improvement Plan, 2021).","Childhood obesity was identified as a priority in Georgia's 2016-2021 State Health Improvement Plan (2017), under Priority Area 3: Chronic Disease Prevention and Control. However, that plan has expired and there is no evidence that Georgia has produced an updated State Health Improvement Plan (Georgia Department of Public Health, 2016-2021 State Health Improvement Plan, 2017).","Obesity is specified as a priority in Hawaii's state-level health improvement plan (Hawai‘i State Department of Health, Healthy Hawai‘i 2030: State Health Improvement Plan).","The Idaho Department of Health & Welfare Strategic Plan 2021-2025 identifies obesity as a \"priority health issue\" and tackles it as part of its Strategic Objective 3.2 (Idaho Department of Health & Welfare, Strategic Plan 2021-2025, 2021). Obesity is also included as one of four pillars in the Get Healthy Idaho Plan 2020-2024 (Idaho Division of Public Health, Get Healthy Idaho 2020-2024, 2020).","Obesity is not explicitly specified as a priority in Illinois' state-level health policy but is included as a structural determinant of health. The plan outlines specific objectives and strategies addressing obesity, such as increasing access to nutritious foods, providing trauma-informed education, and addressing obesity-related stigma (Illinois Department of Public Health, Healthy Illinois 2028, 2023).","Indiana's state-level health strategies identify broad health priorities, but obesity is not specifically prioritised in key plans (Indiana Department of Health, Indiana State Health Assessment and Improvement Plan 2022-2026; Indiana Department of Health, Agency Strategic Plan for 2021-2025; Indiana Family and Social Services Administration, Indiana Strategic Behavioral Health Priorities: 2022-2026).","Obesity is not included as a priority in Iowa's state-level health strategic plan (Iowa Department of Health and Human Services, Strategic Plan 2024-2027, 2024).","Kansas does not specify obesity as a priority in its state-level health policies (Kansas Department of Health & Environment, Healthy Kansans 2030, 2022; Kansas Department of Health & Environment, Strategic Plan 2023-2026, 2023; Kansas Department of Health & Environment, Performance Management and Quality Improvement Plan 2023-2026, 2023).","While obesity was identified as a priority area in Kentucky's 2017-2022 State Health Improvement Plan (SHIP), obesity is not included among the priority areas in the updated 2024-2028 SHIP (Kentucky Department for Public Health, State Health Improvement Plan 2024-2028, 2024).","Reducing the prevalence of obesity is specified as a key objective under Louisiana's State Health Improvement Plan 2024-2028 (Louisiana Department of Health, Louisiana State Health Improvement Plan 2024-2028, 2024).","Obesity is listed as one of five priority areas in Maine's previous State Health Improvement Plan 2018-2020 (2018). However, Maine's latest State Health Improvement Plan 2024-2029 (2025), does not include obesity as one of its priority areas (Maine Center for Disease Control and Prevention, State Health Improvement Plan 2018-2020, 2018; Maine Center for Disease Control and Prevention, State Health Improvement Plan 2024–2029 Executive Summary, 2025)","Maryland's health strategy - Building a Healthier Maryland: State Health Improvement Plan (2024) - does not include obesity as one of its priority areas (Maryland Public Health Services Administration, Building a Healthier Maryland: State Health Improvement Plan, 2024)","Obesity is not mentioned in Massachusetts' latest State Health Improvement Plan (SHIP). This marks a change from the previous SHIP, covering the years 2014 to 2019, in which there are multiple policies that address obesity (Massachusetts Department of Public Health, Massachusetts State Health Improvement Plan 2014, 2014; Massachusetts Department of Public Health, Massachusetts State Health Improvement Plan).","Obesity is not specified as a priority in Michigan's state-level health strategy (Michigan Department of Health and Human Services, MDHHS Social Determinants of Health (SDOH) Strategy, 2022-2024, 2022)","Obesity is not mentioned as a priority in any of Minnesota's state-level health plans (Minnesota Department of Health, Healthy Minnesota 2022: Statewide Health Improvement Framework, 2018; Minnesota Department of Health, Healthy Minnesota 2020: Statewide Health Improvement Framework, 2012; Minnesota Department of Health, Strategic Plan, 2024-2027; Minnesota Department of Health, Strategic Plan, 2016-2021).","The burden of obesity is specified as a key priority under Mississippi's latest State Health Improvement Plan (Mississippi State Department of Health, Mississippi State Health Improvement Plan, 2022).","The Missouri State Health Improvement Plan 2024-2029 (2024) identifies obesity as a key health issue under its \"Health Behavior\" pillar, with specific goals and objectives aimed at reducing inequities and increasing physical activity (Missouri Department of Health & Senior Services, State Health Improvement Plan 2024-2029, 2024).","The Montana State Health Improvement Plan (2024–2028) has two priority goals related to obesity under its Priority Area 2 \"Cardiovascular Health\" (Montana Department of Public Health & Human Services, Montana State Health Improvement Plan 2024–2028, 2024).","The latest Nebraska State Health Improvement Plan (2023-2027) has not yet been published online as of January 2025, but the Prioritisation Guide published in 2023 to guide the drafting of this strategy discussed obesity as a priority area to be considered (Nebraska Department of Health and Human Services, Health Status Prioritisation Guide, 2023)","The Silver State Health Improvement Plan (2023-2028) - Nevada's current health strategic plan - does not include obesity as one of its priorities (Nevada Department of Health and Human Services, Division of Public and Behavioral Health, Silver State Health Improvement Plan 2023-2028, 2024).","The 2023-2028 New Hampshire State Health Improvement Plan does not explicitly list obesity as one of its main priorities (New Hampshire Department of Health and Human Services, 2023-2028 New Hampshire State Health Improvement Plan, 2023)","New Jersey's 2020 State Health Improvement Plan (SHIP) designates obesity as a state-level priority through its dedicated chapter on \"Nutrition, Physical Activity & Chronic Disease Prevention\" (New Jersey Department of Health, State Health Improvement Plan, 2020)","Obesity is specified as a key priority for tribal populations under New Mexico's state-level health improvement strategy - the 2024-2026 State Health Improvement Plan (New Mexico Department of Health, 2024-2026 State Health Improvement Plan, 2024).","New York State's most recent State Health Improvement Plan - the Prevention Agenda 2019-2024: Prevent Chronic Disease Action Plan - included several goals to reduce the prevalence of obesity as well as multiple obesity-focused measures. The plan is set to be replaced by a new Prevention Agenda covering the years 2025-2030; however, it has not been released as of February 2025 (New York State Department of Health, Prevention Agenda 2019-2024: Prevent Chronic Diseases Action Plan, 2019)","North Carolina's 2023 State Health Improvement Plan does not specify obesity as a priority (North Carolina Department of Health and Human Services, 2023 North Carolina State Health Improvement Plan, 2023)","While the North Dakota Department of Health and Human Services' Strategic Plan for 2022-2024 included an objective to \"Reduce childhood obesity rates\", the State Health Improvement Plan for 2024-2029 does not include obesity as a priority area (North Dakota Department of Health and Human Services, Strategic Plan for 2022-2024, 2022; North Dakota Department of Health and Human Services, State Health Improvement Plan 2024-2029, 2024).","Ohio's State Health Improvement Plan for 2020-2022 identified three priority factors and three priority health outcomes that affect overall health and well-being. While chronic disease (heart disease, diabetes and childhood conditions (asthma, lead)) and healthy behaviours (tobacco/nicotine use, nutrition and physical activity) are listed as priorities, obesity is not cited as a priority area (Ohio Department of Health, State Health Improvement Plan (SHIP) 2020-2022, 2020)","Obesity is specified as one of five priorities in Oklahoma's state-level health strategy (Oklahoma State Department of Health, 2023-2028 State Health Improvement Plan, 2023).","While obesity was identified as a priority area in Oregon's 2015-2019 State Health Improvement Plan (SHIP), obesity is not included among the priority areas in the 2020-2024 SHIP or mentioned at all in the plan (Oregon Health Authority, Healthier Together Oregon: 2020–2024 State Health Improvement Plan, 2020).","Pennsylvania's current State Health Improvement Plan, covering the years 2023-2028, prioritises obesity under its section on \"Chronic Disease Prevention\" (Pennsylvania Department of Health, State Health Improvement Plan 2023-2028, 2023).","Rhode Island's health policy framework lists obesity reduction in children, teens and adults as one of its 23 population health goals (Rhode Island State Department of Health, RIDOH Strategic Framework).","The 2025-2029 South Carolina State Health Improvement Plan does not feature obesity as a priority area. The previous State Health Improvement Plan covering the years 2018 to 2023 discussed obesity in its section on \"chronic health conditions\", but did not outline any obesity-specific targets. (Alliance for a Healthier South Carolina, Creating Healthier Communities & a Healthier South Carolina for ALL, 2025; State of South Carolina, State Health Improvement Plan 2018-2023, 2018).","Goal 2 of the South Dakota Department of Health's Strategic Plan (2020-2025) contains two objectives specifically focused on obesity (South Dakota Department of Health, Strategic Plan 2020-2025, 2020).","Tennessee's state-level health plan does not explicitly specify obesity as a priority; however, it considers obesity to be a key factor in state health outcomes and lists obesity as an outcome metric for assessing the plan's progress (Tennessee Department of Health, Tennessee State Health Plan: 2024-2026 Edition, 2024)","The 2023-2028 Texas State Health Plan does not specify obesity as a priority (Texas Statewide Health Coordinating Council, 2023-2028 Texas State Health Plan, 2022).","Neither the Utah Health Improvement Plan (2023–2028) nor the Utah Department of Health and Human Services Strategic Plan (2023) include obesity as a priority area (Utah Department of Health and Human Services, Utah Health Improvement Plan (2023–2028), 2023; Utah Department of Health and Human Services, Strategic Plan 2023, 2023).","Vermont's State Health Improvement Plan 2019-2023 did not explicitly target obesity, though it addressed it indirectly through an emphasis on improving nutrition and physical activity rates in the state (Vermont Department of Health, Vermont State Health Improvement Plan 2019-2023, 2018)","Virginia's Plan for Well-Being 2025-2029 - the state's main health plan - addresses obesity as a main priority (Virginia Department of Health, Virginia's Plan for Well-Being 2025-2029, 2025)","While obesity was previously identified as a priority in Washington's 2014-2018 State Health Improvement Plan, there is no available evidence that it continues to be prioritised, as the state's updated State Health Improvement Plan is not publicly available (Washington State Department of Health, Creating a Culture of Health in Washington: State Health Improvement Plan 2014-2018, 2015).","Although there is no available evidence of West Virginia's inaugural State Health Improvement Plan - which was said to be released at the beginning of 2024 - the West Virginia Division of Health Promotion and Chronic Disease released a document outlining goals addressing obesity and related chronic diseases (Mountain State Spotlight, West Virginia health officials are writing a five-year plan to improve public health. Here’s why it matters, 2023; West Virginia Division of Health Promotion and Chronic Disease, West Virginia Healthy People 2020: Goals to Prevent Obesity and Related Chronic Diseases)","The 2023–2027 Wisconsin State Health Improvement Plan and its Implementation Guide lay out a pathway for Wisconsin to improve the health and well-being of its people and communities, but do not include obesity as a priority (Wisconsin Department of Health Services, 2023–2027 State Health Improvement Plan, 2023).","Obesity is not included as a priority in Wyoming's state-level health policies (Wyoming Department of Health, Wyoming's Health Improvement Strategy 2021-2026, 2021; Wyoming Department of Health, Strategic Plan 2014-2022, 2014)."]
[null,1003,"1.1.2","Definition of obesity",null,null,"Alabama's state-level plan for reducing the prevalence of obesity - the Alabama Physical Activity and Nutrition Plan 2023-2033 - defines obesity as a chronic disease and connects obesity to its related chronic diseases, including heart disease, cancer, stroke and diabetes (Alabama Wellness Alliance, Alabama Physical Activity and Nutrition Plan 2023-2033, 2022).","Alaska defines obesity as a chronic disease and connects obesity to related chronic diseases in its Alaska Chronic Disease Facts: 2024 Brief Report (Alaska Department of Health, Alaska Chronic Disease Facts: 2024 Brief Report, 2024).","There is no evidence that Arizona currently defines obesity as a chronic disease or connects obesity to its related chronic diseases. However, the outdated Arizona Chronic Disease State Strategic Plan 2012-2017, which expired in 2017, mentioned obesity alongside other chronic diseases, indicating that the state classified obesity as a chronic disease. Additionally, it connected obesity to its related chronic diseases in stating that the leading causes of death in Arizona - namely chronic diseases including cancer, heart disease, chronic lower respiratory disease, Alzheimer’s disease, diabetes, and chronic liver disease & cirrhosis - \"share common primary risk factors, including obesity, commercial tobacco use, poor nutrition and physical inactivity\" (Arizona Department of Health Services, Arizona Chronic Disease State Strategic Plan 2012-2017, 2012).","There is no evidence that Arkansas defines obesity as a chronic disease and connects obesity to its related chronic diseases on the website of the Arkansas Department of Health.","The California Department of Public Health defines obesity as a chronic disease and connects obesity to its related chronic diseases, including cardiovascular disease, cancer, diabetes, and arthritis (California Department of Public Health, The Burden of Chronic Disease, Injury, and Environmental Exposure, 2020).","Colorado's state-level plan for obesity prevention and reduction - the Chronic Disease State Plan 2022-2030 - defines obesity as a chronic condition and connects it to its related chronic diseases (Colorado Department of Public Health and Environment, Chronic Disease State Plan 2022-2030, 2022).","The website of the Connecticut Department of Public Health lists obesity alongside other chronic diseases, and refers to obesity as a serious public health problem that increases the risk of developing numerous chronic diseases and health conditions - namely, high blood pressure, high cholesterol, type 2 diabetes, coronary heart disease, stroke, gallbladder disease, osteoarthritis, sleep apnea and breathing problems, chronic inflammation and increased oxidative stress, some cancers, and mental illness (Connecticut Department of Public Health, Chronic Disease Prevention and Health Promotion).","The website of the Delaware Division of Public Health lists obesity as a risk factor for many chronic diseases - coronary heart disease, stroke, and high blood pressure; type 2 diabetes; cancers; high total cholesterol and high levels of triglycerides; liver and gallbladder disease; sleep apnea and respiratory problems; degeneration of cartilage and underlying bone within a joint; reproductive health complications such as infertility; and mental health conditions - but it does not explicitly define obesity as a disease in itself (Delaware Department of Health and Social Services, Physical Activity, Nutrition and Obesity Prevention).","Florida's state-level programme for reducing the prevalence of obesity - Healthiest Weight Florida - connects obesity to its related chronic diseases, including type 2 diabetes, heart disease and cancer; however, it does not explicitly define obesity as a chronic disease. Similarly, Florida's online database that tracks chronic diseases lists obesity as a \"risk and protective factor\", but it does not explicitly define obesity as a chronic disease (Florida Department of Health, Healthiest Weight Florida; Florida Department of Health, FLHeathCharts, Chronic Disease Profile).","Georgia considers obesity to be a chronic disease, per the website of the Georgia Department of Health; however, there is no evidence that it connects obesity to its related chronic diseases (Georgia Department of Public Health, Chronic Disease Prevention: Nutrition and Physical Activity).","Hawaii's state-level plan for reducing the prevalence of obesity - the Hawai‘i Physical Activity and Nutrition Plan 2030 - connects obesity to its related chronic diseases, including type 2 diabetes, heart disease, osteoarthritis and some cancers. However, it does not define obesity as a chronic disease in itself (Hawai‘i State Department of Health, Hawai‘i Physical Activity and Nutrition Plan 2030, 2021).","Idaho recognises obesity as a risk factor for other chronic diseases - such as heart disease, cancers (endometrial, breast, and colon), stroke and diabetes - but does not define obesity as a chronic disease in itself (Idaho Division of Public Health, Obesity; Idaho Department of Health & Welfare, Obesity).","Illinois' state-level health policy - Healthy Illinois 2028 - cites obesity as a chronic disease and connects obesity to its related chronic diseases, namely diabetes and hypertension (Illinois Department of Public Health, Healthy Illinois 2028, 2023).","The website of the Indiana Department of Health states that obesity is a chronic health condition and links it to other chronic diseases including type 2 diabetes, cancer, high blood pressure, high cholesterol, asthma, sleep apnea and joint problems (Indiana Department of Health, Obesity).","The website of the Iowa Department of Health and Human Services connects obesity to its related chronic diseases, including high blood pressure, type 2 diabetes, stroke, heart disease and several types of cancers; however, it does not define obesity as a chronic disease in itself (Iowa Department of Health and Human Services, Obesity). Similarly, Iowa's \"Healthy Eating and Active Living\" guide highlights obesity's connection to chronic diseases like diabetes and cancer (Iowa Department of Health and Human Services, Healthy Eating and Active Living: Strategies for Iowa, 2023).","There is no evidence that Kansas defines obesity as a chronic disease or connects obesity to its related chronic diseases.","The website of the Cabinet for Health and Family Services makes reference to chronic diseases that are tied to obesity - namely diabetes, stroke, arthritis, sleep apnea, asthma, heart attacks and certain cancers - but there is no evidence that Kentucky defines obesity as a chronic disease in itself (Kentucky Cabinet for Health and Family Services, Physical Activity and Nutrition Program).","Louisiana recognises that obesity contributes to poorer health outcomes and chronic diseases; however, it does not explicitly define obesity as a chronic disease (Louisiana Department of Health, Environmental Public Health Tracking - Adult Obesity).","Maine's state-level action plan to reduce the prevalence of obesity - Preventing and Reducing Obesity in Maine: A Call to Action - defines obesity as a chronic disease and connects obesity to its related chronic diseases including hypertension, type 2 diabetes, heart disease, asthma, and stroke (Maine Obesity Advisory Council, Preventing and Reducing Obesity in Maine: A Call to Action, 2022).","The website of Maryland's Department of Health defines obesity as a chronic disease and characterises obesity as a precursor for other chronic diseases including prediabetes/diabetes, cardiovascular disease and some cancers (Maryland Department of Health, Healthy Lifestyles).","Massachusetts defines obesity as a chronic disease in the Department of Public Health's Population Health Information Tool (PHIT), alongside asthma, diabetes and hypertension; however, it does not connect obesity to its related chronic diseases (Massachusetts Department of Public Health, Population Health Information Tool).","The Michigan Nutrition, Physical Activity and Obesity (NPAO) Program consistently refers to \"obesity and other chronic diseases\", implying that obesity is considered a chronic disease, and establishes links between \"heart disease, type 2 diabetes, obesity, and some cancers\" (Michigan Department of Health and Human Services, Michigan Nutrition, Physical Activity, and Obesity Program).","The website of the Minnesota Department of Health highlights the way in which obesity can serve as a risk factor for other chronic diseases - namely heart disease, type 2 diabetes and several cancers; however, it does not define obesity as a chronic disease in itself (Minnesota Department of Health, Obesity).","Mississippi's state-level strategic plan for reducing obesity prevalence - the Mississippi Obesity Action Plan - makes consistent references to \"obesity and other chronic diseases\", implying that obesity is considered a chronic disease, and it connects obesity to its related chronic diseases, including heart disease, type 2 diabetes, arthritis, high blood pressure and cancer (Mississippi State Department of Health, Mississippi Obesity Action Plan, 2018).","Missouri recognises that obesity is a risk factor for other chronic diseases like type 2 diabetes and heart disease; however, it does not define obesity as a chronic disease in itself (Missouri Department of Health & Senior Services, Obesity State: A Closer Look at Obesity in Missouri).","There is no evidence that Montana defines obesity as a chronic disease or links obesity to its related chronic diseases on the website of the Montana Department of Public Health & Human Services (Montana Department of Public Health & Human Services, Obesity).","The Nebraska Department of Health and Human Services Chronic Disease Prevention & Control Program recognises obesity as a risk factor for various chronic diseases including cardiovascular disease, stroke, high blood pressure and high cholesterol. However, it does not recognise obesity itself as a chronic disease (Nebraska Department of Health and Human Services, Chronic Disease Prevention & Control Program).","Nevada legislation defines obesity as a chronic disease correlated with premature mortality, hypertension, heart disease, diabetes, cancer and other health conditions (Nevada Legislature, NRS Section 0.038).","The website of the New Hampshire Department of Health and Human Services makes reference to \"obesity and other chronic diseases\", indicating that it considers obesity to be a chronic disease, and presents obesity as a risk factor for other \"conditions\" such as coronary heart disease, type 2 diabetes, stroke, and breast and colon cancers (New Hampshire Department of Health and Human Services Data Portal, Obesity).","New Jersey recognises that obesity is a risk factor for chronic diseases, such as type 2 diabetes, heart disease, osteoarthritis, and some cancers. However, it does not define obesity as a chronic disease in itself (State of New Jersey Department of Health, New Jersey State Health Assessment Data, Nutrition, Physical Activity, and Obesity).","The New Mexico Department of Health defines obesity as a chronic disease and connects obesity to its related chronic diseases, including heart disease, stroke, diabetes, and a number of cancers (New Mexico Department of Health, Indicator-Based Information System for Public Health).","The website of the New York State Department of Health states that obesity is associated with a range of diseases, including type 2 diabetes, heart disease, stroke, arthritis, sleep apnea, and some cancers; however, it does not define obesity as a chronic disease in itself (New York State Department of Health, Obesity Prevention). However, New York does not explicitly define obesity as a chronic disease in itself.","The North Carolina Department of Health and Human Services has a \"Chronic Disease and injury\" programme which has a branch focused on Physical Activity & Nutrition, Cardiovascular health and Diabetes. This branch has the goal of \"reducing obesity, diabetes, and heart disease in North Carolinians of all ages\", indicating that obesity is considered to be a chronic disease (North Carolina Department of Health and Human Services, Chronic Disease and injury).","There is no evidence that North Dakota defines obesity as a chronic disease or connects obesity to related chronic diseases (North Dakota Department of Health and Human Services).","The Childhood Obesity Data webpage of Ohio's Department of Health states that children living with obesity are at increased risk for many health issues, including high blood pressure, high cholesterol, diabetes, asthma, and joint problems; however, Ohio does not define obesity as a chronic disease in itself (Ohio Department of Health, Childhood Obesity Data).","The \"Health for a Lifetime: State of Oklahoma Obesity Prevention Plan\" connects obesity to its related chronic diseases, including hypertension, type 2 diabetes, heart disease, stroke, sleep apnea and breathing problems, some cancers, and mental illnesses such as depression and anxiety. However, it does not define obesity as a chronic disease in itself (Oklahoma State Department of Health, Health for a Lifetime: State of Oklahoma Obesity Prevention Plan, 2022).","Oregon's state-level strategic plan for reducing the prevalence of obesity - the Health Promotion and Chronic Disease Prevention Strategic Plan 2017-2025 - defines obesity as a disease and connects obesity to its related chronic diseases, including diabetes, heart disease, stroke, arthritis and cancer (Oregon Health Authority, Health Promotion and Chronic Disease Prevention Strategic Plan 2017-2025, 2019).","The website of the Pennsylvania Department of Health lists obesity under \"Chronic Illnesses\" and recognises obesity as a risk factor for other health conditions, including type 2 diabetes, cardiovascular disease, obstructive sleep apnea, non-alcoholic fatty liver disease, arthritis, infertility, and many types of cancer (Commonwealth of Pennsylvania, Pennsylvania Department of Health, Obesity).","The 2023-2028 Rhode Island Healthy Eating and Active Living Strategic Plan lists a number of chronic diseases related to obesity; however, it does not define obesity as a chronic disease in and of itself (State of Rhode Island Department of Health, 2023-2028 Rhode Island Healthy Eating and Active Living Strategic Plan, 2023).","The South Carolina Department of Public Health recognises obesity as a risk factor for other diseases - including diabetes, heart disease and certain types of cancer, but does not define obesity as a chronic disease in itself (South Carolina Department of Public Health, Nutrition, Physical Activity, & Obesity Prevention).","The website of the South Dakota Department of Health Office of Chronic Disease Prevention & Health Promotion states that obesity is a leading risk factor for heart disease and stroke, but it does not explicitly define obesity as a chronic disease (South Dakota Department of Health Office of Chronic Disease Prevention & Health Promotion, Chronic Disease).","The Tennessee State Health Plan: 2024-2026 Edition uses the term \"health condition\" to refer to several common chronic diseases such as hypertension, heart disease and type 2 diabetes. It also refers to \"obesity\" as one such \"health condition\"; however, it does not connect obesity to its related chronic diseases (Tennessee Department of Health, Tennessee State Health Plan: 2024-2026 Edition, 2024).","Texas' state-level strategy for reducing the prevalence of obesity - the Obesity Prevention Priority Strategies - connects obesity to its related chronic diseases, including high blood pressure, high cholesterol, type 2 diabetes, breathing problems (such as asthma and sleep apnea), joint problems, stroke and certain types of cancers. However, it does not define obesity as a chronic disease in and of itself (Texas Health and Human Services, Obesity Prevention Priority Strategies, 2023).","Utah's Healthy Environments Active Living Program 2021-2026 Strategic Plan connects obesity to related chronic diseases, including diabetes and heart disease (Utah Department of Health and Human Services, Healthy Environments Active Living Program 2021-2026 Strategic Plan, 2021). Additionally, the Utah Department of Health and Human Services Public Health Indicator Based Information System calls obesity a \"costly and serious chronic condition\" (Utah Department of Health and Human Services, Public Health Indicator Based Information System (IBIS): Utah's Public Health Data Resource).","The Vermont Department of Health's Chronic Disease Surveillance Data system makes reference to \"obesity\" as a chronic disease and connects obesity to related chronic health conditions including diabetes, heart disease, stroke, and some cancers (Vermont Department of Health, 1305 Surveillance: State Public Health Actions to Prevent and Control Diabetes, Heart Disease, Obesity and Associated Risk Factors and Promote School Health, Data Pages, 2019).","There is no evidence that Virginia defines obesity as a chronic disease or connects obesity to its related chronic diseases on the website of the Virginia Department of Health.","The website of the Washington State Department of Health states that obesity is a chronic disease, but it does not connect obesity to its related chronic diseases (Washington State Department of Health, Communicable Diseases and Chronic Conditions).","The website of the West Virginia Department of Health Division of Health Promotion and Chronic Disease has a section titled \"Combating obesity\", indicating that it considers obesity to be a chronic disease. Additionally, it states that \"An estimated 1 out of every 3 cancer deaths in the United States is linked to excess body weight, poor nutrition, and/or physical activity\", connecting obesity to cancer (West Virginia Department of Health Division of Health Promotion and Chronic Disease, Combating obesity).","Wisconsin's Physical Activity and Nutrition (PAN) Road Map - its strategic framework for addressing obesity - refers to \"obesity and other diet-related chronic conditions\", indicating that it considers obesity to be a chronic disease, and highlights that the prevention and management of obesity can have a major impact on the prevention of chronic diseases; however, it does not make reference to specific chronic diseases related to obesity (Wisconsin Department of Health Services, Physical Activity and Nutrition Road Map, 2022).","There is no evidence that Wyoming defines obesity as a chronic disease or connects obesity to its related chronic diseases on the website of the Wyoming Department of Health."]
[null,1004,"1.1.3","Obesity-related policy/strategy/plan"]
[null,1005,"1.1.3a","Obesity-related policy/strategy/plan",null,null,"Alabama has a valid state-level plan in place containing specific goals and strategies for reducing obesity prevalence - the Alabama Physical Activity and Nutrition Plan 2023-2033 (Alabama Wellness Alliance, Alabama Physical Activity and Nutrition Plan 2023-2033, 2022).","Alaska does not have a dedicated obesity policy, strategy or plan in place.","Arizona had a state-level plan for reducing obesity prevalence for the years 2014-2017 - the Action Plan for Improving Arizonans Well-being Through Healthy Eating and Active Living 2014-2017; however, there is no evidence that it has been updated since (Arizona Department of Health Services, Action Plan for Improving Arizonans Well-being Through Healthy Eating and Active Living 2014-2017).","Arkansas had a state-level plan for reducing obesity prevalence for the years 2013-2020 - Healthy People 2020: Arkansas’s Chronic Disease Framework for Action; however, there is no evidence that it has been updated since (Arkansas Chronic Disease Coordinating Council, Healthy People 2020: Arkansas’s Chronic Disease Framework for Action, 2013).","California had state-level plans in place for reducing obesity prevalence - the California Obesity Prevention Plan: A Vision for Tomorrow, Strategic Actions for Today and the California Wellness Plan; however, there is no evidence that they are still valid as of February 2025, or that they have been updated in recent years (California Department of Health Services, California Obesity Prevention Plan: A Vision for Tomorrow, Strategic Actions for Today, 2006; California Department of Public Health, California Wellness Plan, 2014).","Colorado has a valid state-level obesity-related plan in place - the Chronic Disease State Plan 2022-2030 - that includes specific goals, strategies and measurable targets for reducing obesity prevalence (Colorado Department of Public Health and Environment, Chronic Disease State Plan 2022-2030, 2022).","Connecticut does not have a dedicated obesity policy, strategy or plan in place. While the Connecticut State Department of Public Health's website discusses a Nutrition, Physical Activity and Obesity (NPAO) Program run by the federal-level Centers for Disease Control and Prevention (CDC), it does not outline any state-specific policies, plans or targets related to the NPAO (Connecticut State Department of Public Health; Centers for Disease Control and Prevention).","Delaware had a state-level plan for reducing obesity prevalence for the years 2010-2014 - the Physical Activity, Nutrition and Obesity Prevention Comprehensive Plan 2010-2014; however, there is no evidence that it has been updated since (Delaware Division of Public Health, Physical Activity, Nutrition & Obesity Prevention Comprehensive Plan 2010-2014, 2010).","Florida does not have a dedicated obesity policy, strategy or plan in place. The state has, however, incorporated some obesity-related goals and initiatives within its Healthiest Weight Florida programme which serves as the state's main approach to preventing and managing obesity (Florida Department of Health, Healthiest Weight Florida).","Georgia does not have a dedicated obesity policy, strategy or plan in place.","Hawaii has a valid state-level plan in place that includes specific goals, strategies and measurable targets for reducing obesity prevalence - the Hawai‘i Physical Activity and Nutrition Plan 2030 (Hawai‘i State Department of Health, Hawai‘i Physical Activity and Nutrition Plan 2030, 2021).","Idaho does not have a dedicated obesity policy, strategy or plan in place.","Illinois does not have a dedicated obesity policy, strategy or plan in place.","The Indiana Division of Nutrition and Physical Activity (DNPA) leads efforts for obesity prevention and the promotion of healthy lifestyles, guided by the Indiana Comprehensive Nutrition and Physical Activity Plan 2010-2020 (2010) which explicitly aimed at obesity prevalence reduction in the state. However, the plan expired in 2020 and there is no evidence that it has been updated since (Indiana Department of Health, Indiana Comprehensive Nutrition and Physical Activity Plan, 2010).","Iowa had a state-level obesity-related strategy in place - the Obesity Statewide Strategic Plan - but it expired in 2019 and has not been updated since (Iowa Department of Public Health, Obesity Statewide Strategic Plan, 2016).","Kansas does not have a dedicated obesity policy, strategy or plan in place.","Kentucky had a state-level chronic disease plan in place that included specific goals for reducing obesity prevalence; however, it was valid for the years 2012-2016 and there is no evidence that it has been updated since (Kentucky Department for Public Health, Unbridled Health: A Plan for Coordinated Chronic Disease Prevention and Health Promotion 2012-2016, 2013).","Louisiana does not have a dedicated obesity policy, strategy or plan in place.","Maine has a valid state-level action plan in place to reduce the prevalence of obesity in the state - Preventing and Reducing Obesity in Maine: A Call to Action (Maine Obesity Advisory Council, Preventing and Reducing Obesity in Maine: A Call to Action, 2022).","The outdated Maryland Nutrition and Physical Activity Plan acted as a \"ten-year action plan to reduce the burden of obesity and chronic disease\"; however, it expired in 2016 and there is no evidence that it has been updated since (Maryland Department of Health, Maryland Nutrition and Physical Activity Plan, 2006).","Massachusetts does not have a dedicated obesity policy, strategy or plan in place.","Michigan has been implementing the Michigan Nutrition, Physical Activity and Obesity (NPAO) Program since 2015, with its current iteration based on an updated 2022 Physical Activity and Nutrition Unit Strategic Plan (Michigan Department of Health and Human Services, Michigan Nutrition, Physical Activity, and Obesity Program).","Minnesota implemented the Plan to Reduce Obesity and Obesity-Related Chronic Diseases between 2008-2013, but it has not been updated since it expired in 2013 (Minnesota Department of Health, Plan to Reduce Obesity and Obesity-Related Chronic Diseases between 2008-2013, 2008).","Mississippi has a state-level plan for reducing obesity prevalence that was published in 2018 - the Mississippi Obesity Action Plan; however, there is no evidence as to whether it is still valid as of February 2025 (Mississippi State Department of Health, Mississippi Obesity Action Plan, 2018).","Missouri does not have a dedicated obesity policy, strategy or plan in place.","Montana does not have a dedicated obesity policy, strategy or plan in place.","The Nebraska Physical Activity and Nutrition State Plan 2011- 2016 served as the state's strategy for obesity prevention; however, it has not been updated since it expired in 2016 (Nebraska Department of Health and Human Services, Division of Public Health, Nebraska Physical Activity and Nutrition State Plan 2011- 2016, 2011).","Nevada is implementing its Early Childhood Obesity Prevention State Plan for 2021-2026. However, the only overarching strategy tackling obesity in the state is from 2006 and therefore outdated: the Strategic Plan for the Prevention of Obesity in Nevada (Nevada State Health Division, Strategic Plan for the Prevention of Obesity in Nevada, 2006; Nevada Division of Public and Behavioral Health, Nevada Early Childhood Obesity Prevention State Plan 2021-2026, 2021).","New Hampshire does not have a dedicated obesity policy, strategy or plan in place.","New Jersey's outdated State Obesity Prevention Plan (2013), published by the Office of Nutrition and Fitness, was valid until 2018 (The Office of Nutrition and Fitness, New Jersey State Obesity Prevention Plan, 2013).","New Mexico does not have a dedicated obesity policy, strategy or plan in place.","The outdated Prevention Agenda 2019-2024: Prevent Chronic Diseases Action Plan acted as New York State's obesity-focused strategy. A new Prevention Agenda covering the years 2025-2030 is set to be published in the future (New York State Department of Health, Prevention Agenda 2019-2024: Prevent Chronic Diseases Action Plan, 2019).","\"North Carolina’s Plan to Address Overweight and Obesity: Balance how we eat, drink, and move\" - published by a statewide movement called Eat Smart, Move More North Carolina in 2019 - is the state's obesity-focused strategy. However, it is not implemented or led by the state government (Eat Smart, Move More North Carolina, North Carolina’s Plan to Address Overweight and Obesity: Balance how we eat, drink, and move, 2019).","North Dakota does not have a dedicated obesity policy, strategy or plan in place.","Ohio's Obesity Prevention Plan was valid from 2009 to 2014, but there is no evidence that an updated version has since been developed (Ohio Department of Health, Ohio Obesity Prevention Plan, 2009)","Oklahoma has an obesity-related strategy in place that is currently valid - Health for a Lifetime: State of Oklahoma Obesity Prevention Plan (Oklahoma State Department of Health, Health for a Lifetime: State of Oklahoma Obesity Prevention Plan, 2022).","Oregon's Health Promotion and Chronic Disease Prevention Strategic Plan 2017-2025 includes specific goals, strategies and measurable targets for reducing obesity prevalence (Oregon Health Authority, Health Promotion and Chronic Disease Prevention Strategic Plan 2017-2025, 2019).","Pennsylvania does not have a dedicated obesity policy, strategy or plan in place. However, the state implements the State Physical Activity and Nutrition (SPAN) Program, which consists of strategies to improve nutrition and support physical activity across the population (Department of Health, State Physical Activity and Nutrition (SPAN) Program).","Rhode Island has a valid strategic plan in place targeting obesity - the 2023-2028 Rhode Island Healthy Eating and Active Living (HEAL) Strategic Plan (State of Rhode Island Department of Health, 2023-2028 Rhode Island Healthy Eating and Active Living Strategic Plan, 2023).","South Carolina does not have a dedicated obesity policy, strategy or plan in place.","The South Dakota State Plan for Nutrition and Physical Activity to Prevent Obesity and Other Chronic Diseases 2015-2020 - which aimed to help South Dakotans be more physically active and eat healthier foods in an effort to prevent obesity and related chronic diseases - expired in 2020 and there is no evidence that it has been updated since (South Dakota Department of Health, South Dakota State Plan for Nutrition and Physical Activity to Prevent Obesity and Other Chronic Diseases 2015-2020, 2015)","Tennessee had a state-level plan in place for reducing obesity prevalence - the Tennessee Statewide Nutrition and Physical Activity Plan: A comprehensive plan to reduce obesity and chronic disease in Tennessee 2010-2015 - which was valid for the years 2010 to 2015; however, there is no evidence that it has been updated in recent years (Tennessee Department of Health, Tennessee Statewide Nutrition and Physical Activity Plan: A comprehensive plan to reduce obesity and chronic disease in Tennessee 2010-2015, 2010).","Texas has an obesity-related strategy in place that was established in 2023 - the Obesity Prevention Priority Strategies (Texas Health and Human Services, Obesity Prevention Priority Strategies, 2023).","Utah's Healthy Environments Active Living Program 2021-2026 Strategic Plan is the state's obesity-focused strategic document (Utah Department of Health and Human Services, Healthy Environments Active Living Program 2021-2026 Strategic Plan, 2021).","Vermont does not have a dedicated obesity policy, strategy or plan in place.","Virginia does not have a dedicated obesity policy, strategy or plan in place.","Washington has a state-level plan in place that includes specific goals for reducing obesity prevalence - the Washington State Plan for Healthy Communities; however, it was published over ten years ago and there is no evidence that it is still current (Washington State Department of Health, Washington State Plan for Healthy Communities, 2014).","West Virginia had a state-level obesity plan in place - Addressing Obesity and Related Chronic Diseases: A Strategic Plan to Combat Obesity and Related Chronic Diseases in West Virginia - but it expired in 2020 and there is no evidence that it has been updated since (West Virginia Division of Health Promotion and Chronic Disease, Addressing Obesity and Related Chronic Diseases: A Strategic Plan to Combat Obesity and Related Chronic Diseases in West Virginia, 2016)","Wisconsin adopted a Physical Activity and Nutrition (PAN) Road Map in 2022 as a strategic framework for addressing obesity. Previously, the Wisconsin Nutrition, Physical Activity and Obesity State Plan - valid for the years 2013-2020 - was the state's strategic roadmap to tackle obesity (Wisconsin Department of Health Services, Wisconsin's Physical Activity and Nutrition Road Map, 2022; Wisconsin Department of Health Services, Nutrition, Physical Activity and Obesity State Plan, 2013).","Wyoming does not have a dedicated obesity policy, strategy or plan in place."]
[null,1006,"1.1.3b","Engagement with stakeholders during development",null,null,"The development of Alabama's state-level plan for reducing the prevalence of obesity - the Alabama Physical Activity and Nutrition Plan 2023-2033 - involved stakeholders from multiple sectors, including representatives from healthcare, education, business/industry, agriculture, public health, transportation/community planning, recreation/sports, and faith-based organisations. However, there is no evidence that individuals living with obesity were consulted (Alabama Wellness Alliance, Alabama Physical Activity and Nutrition Plan 2023-2033, 2022).","Alaska does not have a dedicated obesity policy, strategy or plan in place.","There is no evidence that stakeholders from various sectors were involved in the development of Arizona's outdated state-level plan for reducing obesity prevalence (Arizona Department of Health Services, Action Plan for Improving Arizonans Well-being Through Healthy Eating and Active Living 2014-2017).","The development of Arkansas' outdated state-level plan for reducing obesity prevalence involved many partners from various state organisations; however, only health-focused stakeholders were included (Arkansas Chronic Disease Coordinating Council, Healthy People 2020: Arkansas’s Chronic Disease Framework for Action, 2013).","The development of California's outdated state-level plans for reducing obesity prevalence involved partners from various sectors, including public health, academia, education, tribal governments, business, and community organisations. However, there is no evidence that individuals living with obesity were consulted during their development (California Department of Public Health, California Wellness Plan, 2014; California Department of Health Services, California Obesity Prevention Plan: A Vision for Tomorrow, Strategic Actions for Today, 2006).","The development of Colorado's state-level plan for obesity prevention and reduction - the Chronic Disease State Plan 2022-2030 - involved stakeholders from multiple sectors, including representatives from public health, community organisations, healthcare professionals, businesses, city planners, school educators and administrators (Colorado Department of Public Health and Environment, Chronic Disease State Plan 2022-2030, 2022).","Connecticut does not have a dedicated obesity policy, strategy or plan in place.","Delaware's outdated obesity-related plan - the Physical Activity, Nutrition and Obesity Prevention Comprehensive Plan 2010-2014 - involved multiple stakeholders from various sectors during its development; however, there is no evidence that individuals living with obesity were consulted (Delaware Division of Public Health, Physical Activity, Nutrition & Obesity Prevention Comprehensive Plan 2010-2014, 2010)","Florida does not have a dedicated obesity policy, strategy or plan in place. Nonetheless, Florida's state-level programme for reducing the prevalence of obesity - Healthiest Weight Florida - is a public-private collaboration bringing together state agencies, not-for-profit organisations, businesses and communities (Florida Department of Health, Healthiest Weight Florida).","Georgia does not have a dedicated obesity policy, strategy or plan in place.","The development of Hawaii's state-level plan for reducing the prevalence of obesity - the Hawai‘i Physical Activity and Nutrition Plan 2030 - involved stakeholders from multiple sectors, including representatives from public health, community organisations, healthcare professionals, businesses, city planners, school educators and administrators. However, there is no evidence that individuals living with obesity were consulted (Hawai‘i State Department of Health, Hawai‘i Physical Activity and Nutrition Plan 2030, 2021).","Idaho does not have a dedicated obesity policy, strategy or plan in place.","While Illinois involved civil society and multiple stakeholders as part of its Obesity Prevention Initiative in 2009 (Illinois General Assembly, Obesity Prevention Initiative Act, 2009; Illinois Department of Health, Obesity Prevention Initiative), the state does not have a dedicated obesity policy, strategy or plan in place.","Various stakeholders from multiple sectors (nutrition, physical activity, transportation, academia, business, professional organisations, and state and local governments) were consulted to draft the outdated Indiana Comprehensive Nutrition and Physical Activity Plan 2010-2020 (2010). However, there is no evidence that individuals living with obesity were consulted (Indiana Department of Health, Indiana Comprehensive Nutrition and Physical Activity Plan, 2010).","There is no evidence that stakeholders from multiple sectors were involved in the development of Iowa's outdated Obesity Statewide Strategic Plan (which expired in 2019) (Iowa Department of Health and Human Services, Obesity Statewide Strategic Plan, 2016).","Kansas does not have a dedicated obesity policy, strategy or plan in place.","The development of Kentucky's outdated state-level plan for reducing obesity prevalence - Unbridled Health: A Plan for Coordinated Chronic Disease Prevention and Health Promotion 2012-2016 - involved stakeholders from various sectors, including universities, advocacy organisations, hospitals, public health providers, schools, businesses, transportation, and state government agencies. However, there is no evidence that individuals living with obesity were consulted (Kentucky Department for Public Health, Unbridled Health: A Plan for Coordinated Chronic Disease Prevention and Health Promotion 2012-2016, 2013; Commonwealth of Kentucky, 2015 Kentucky Diabetes Report, 2015).","Louisiana does not have a dedicated obesity policy, strategy or plan in place.","Multiple stakeholders from various sectors are part of the Maine Obesity Advisory Council which developed Maine's state-level action plan for reducing the prevalence of obesity - Preventing and Reducing Obesity in Maine: A Call to Action. However, there is no evidence of involvement from individuals living with obesity (Maine Obesity Advisory Council, Preventing and Reducing Obesity in Maine: A Call to Action, 2022).","Maryland's outdated Nutrition and Physical Activity Plan (which expired in 2016) acknowledged the contributions of a range of stakeholders from the healthcare, education, transportation and urban planning sectors during its development. However, there is no evidence that individuals living with obesity were consulted (Maryland Department of Health, Maryland Nutrition and Physical Activity Plan, 2006).","Massachusetts does not have a dedicated obesity policy, strategy or plan in place.","The Michigan Nutrition, Physical Activity and Obesity Program does not mention that any stakeholders or partners external to the Michigan Department of Health & Human Services were involved in its development (Michigan Department of Health and Human Services, Michigan Nutrition, Physical Activity, and Obesity Program).","The outdated Plan to Reduce Obesity and Obesity-Related Chronic Diseases (2008-2013) was developed with input from the healthcare, transportation, urban planning, agriculture, media and education sectors. However, people living with obesity were not consulted during its development. (Minnesota Department of Health, Plan to Reduce Obesity and Obesity-Related Chronic Diseases between 2008-2013, 2008).","Mississippi's state-level action plan for reducing obesity prevalence - the Mississippi Obesity Action Plan - establishes that the implementation of the plan will involve a range of partners, including other departmental agencies, food service companies, health insurers, and education-sector stakeholders. However, there is no indication that these stakeholders were involved in the development of the plan itself (Mississippi State Department of Health, Mississippi Obesity Action Plan, 2018).","Missouri does not have a dedicated obesity policy, strategy or plan in place.","Montana does not have a dedicated obesity policy, strategy or plan in place.","The outdated Nebraska Physical Activity and Nutrition State Plan 2011–2016 (which expired in 2016) was developed with input from a broad range of sectors; however, there is no evidence that people living with obesity were involved in this process (Nebraska Department of Health and Human Services, Division of Public Health, Nebraska Physical Activity and Nutrition State Plan 2011- 2016, 2011).","Only health-focused stakeholders were involved in the development and drafting of the Nevada Early Childhood Obesity Prevention State Plan 2021-2026 and the outdated Strategic Plan for the Prevention of Obesity in Nevada (Nevada Division of Public and Behavioral Health, Nevada Early Childhood Obesity Prevention State Plan 2021-2026, 2021; Nevada State Health Division, Strategic Plan for the Prevention of Obesity in Nevada, 2006).","New Hampshire does not have a dedicated obesity policy, strategy or plan in place.","New Jersey's outdated State Obesity Prevention Plan was developed using a grassroots approach, engaging a diverse range of participants, including child care providers, schools, hospital administrators, civic and faith-based leaders, and members of low-income minority communities. However, there is no evidence that individuals living with obesity were involved (The Office of Nutrition and Fitness, New Jersey State Obesity Prevention Plan, 2013).","New Mexico does not have a dedicated obesity policy, strategy or plan in place.","There is no evidence that multiple stakeholders were involved in the development of the outdated Prevention Agenda 2019-2024: Prevent Chronic Diseases Action Plan - the state's obesity-focused strategy (New York State Department of Health, Prevention Agenda 2019-2024: Prevent Chronic Diseases Action Plan, 2019).","\"North Carolina’s Plan to Address Overweight and Obesity: Balance how we eat, drink, and move\" was developed through a statewide movement called Eat Smart, Move More North Carolina composed of \"individuals across various sectors who work or volunteer in education, healthcare, business, media, community organizations and more\". However, it is not implemented or led by the state government (Eat Smart, Move More North Carolina, North Carolina’s Plan to Address Overweight and Obesity: Balance how we eat, drink, and move, 2019).","North Dakota does not have a dedicated obesity policy, strategy or plan in place.","Ohio's outdated Obesity Prevention Plan (which expired in 2014) involved stakeholders from multiple state agencies during its development. However, there is no evidence that individuals living with obesity were consulted (Ohio Department of Health, Ohio Obesity Prevention Plan, 2009).","The development of Oklahoma's state-level obesity plan - Health for a Lifetime: State of Oklahoma Obesity Prevention Plan - involved stakeholders from multiple sectors, including representatives from healthcare, public health, education, government agencies, tribal organisations, non-profit organisations, community development, transportation planning, youth services and research institutions. However, there is no evidence that individuals living with obesity were consulted (Oklahoma State Department of Health, Health for a Lifetime: State of Oklahoma Obesity Prevention Plan, 2022).","While the Oregon Health Authority engaged with community organisations during the development of the Health Promotion and Chronic Disease Prevention Strategic Plan 2017-2025 - the state's strategic plan for reducing the prevalence of obesity - there is no evidence that stakeholders from across sectors were consulted during the plan's development (Oregon Health Authority, Health Promotion and Chronic Disease Prevention Strategic Plan 2017-2025, 2019).","Pennsylvania does not have a dedicated obesity policy, strategy or plan in place.","The development of the 2023-2028 Rhode Island Healthy Eating and Active Living Strategic Plan involved stakeholders from numerous sectors - including transportation, the chamber of commerce, food providers, youth organisations, childcare services, and state and municipal planning boards; however, there is no evidence that individuals living with obesity were involved (State of Rhode Island Department of Health, 2023-2028 Rhode Island Healthy Eating and Active Living Strategic Plan, 2023).","South Carolina does not have a dedicated obesity policy, strategy or plan in place.","Healthcare partners, agricultural organisations and food producers, academia, university research partners and youth-serving organisations were engaged during the development of the outdated South Dakota State Plan for Nutrition and Physical Activity to Prevent Obesity and Other Chronic Diseases 2015-2020 (which expired in 2020). However, there is no evidence that people living with obesity were consulted during its development (South Dakota Department of Health, South Dakota State Plan for Nutrition and Physical Activity to Prevent Obesity and Other Chronic Diseases 2015-2020, 2015).","The development of Tennessee's outdated state-level plan for reducing obesity prevalence - the Tennessee Statewide Nutrition and Physical Activity Plan: A comprehensive plan to reduce obesity and chronic disease in Tennessee 2010-2015 - involved partners from various sectors, including representatives from healthcare organisations, insurance companies, community organisations, school districts, doctors, industry and universities (Tennessee Department of Health, Tennessee Statewide Nutrition and Physical Activity Plan: A comprehensive plan to reduce obesity and chronic disease in Tennessee 2010-2015, 2010).","The development of Texas' state-level strategy for reducing the prevalence of obesity - the Obesity Prevention Priority Strategies - involved partners from several state bodies; however, only health-focused stakeholders were included (Texas Health and Human Services, Obesity Prevention Priority Strategies, 2023).","The development of the Healthy Environments Active Living Program 2021-2026 Strategic Plan included participation from representatives of the healthcare sector, academia, local governments, transportation and community organisations. However, there is no evidence that people living with obesity were consulted during this process (Utah Department of Health and Human Services, Healthy Environments Active Living Program 2021-2026 Strategic Plan, 2021).","Vermont does not have a dedicated obesity policy, strategy or plan in place.","Virginia does not have a dedicated obesity policy, strategy or plan in place.","There is no evidence that stakeholders from various sectors were involved in the development of Washington's outdated state-level strategic plan for reducing obesity prevalence - the Washington State Plan for Healthy Communities (Washington State Department of Health, Washington State Plan for Healthy Communities, 2014).","West Virginia's outdated state-level obesity plan - Addressing Obesity and Related Chronic Diseases: A Strategic Plan to Combat Obesity and Related Chronic Diseases in West Virginia - involved various stakeholders in its development from the healthcare, education and employment sectors (West Virginia Division of Health Promotion and Chronic Disease, Addressing Obesity and Related Chronic Diseases: A Strategic Plan to Combat Obesity and Related Chronic Diseases in West Virginia, 2016).","Wisconsin's Physical Activity and Nutrition Road Map (2022) makes reference to engagement through \"statewide partners in a listening session\" and gathering \"community feedback\"; however, it does not provide detail of the participating organisations and their sectoral representations. There is also no evidence that individuals living with obesity were consulted during its development (Wisconsin Department of Health Services, Wisconsin's Physical Activity and Nutrition Road Map, 2022).","Wyoming does not have a dedicated obesity policy, strategy or plan in place."]
[null,1007,"1.1.3c","Measures for obesity prevention",null,null,"Alabama's state-level plan for reducing the prevalence of obesity - the Alabama Physical Activity and Nutrition Plan 2023-2033 - contains several measures for obesity prevention across the population, with specific targets, implementation strategies and methods of evaluation (Alabama Wellness Alliance, Alabama Physical Activity and Nutrition Plan 2023-2033, 2022).","Alaska does not have a dedicated obesity policy, strategy or plan in place.","Arizona's outdated state-level plan for reducing the prevalence of obesity contained several measures for obesity prevention across the population, with specific targets, implementation strategies and methods of evaluation; however, it expired in 2017 (Arizona Department of Health Services, Action Plan for Improving Arizonans Well-being Through Healthy Eating and Active Living 2014-2017).","Arkansas' outdated state-level plan for reducing the prevalence of obesity contained measures for obesity prevention across the population, with clear implementation strategies and methods of evaluation; however, it expired in 2020 (Arkansas Chronic Disease Coordinating Council, Healthy People 2020: Arkansas’s Chronic Disease Framework for Action, 2013).","California's outdated state-level plans for reducing obesity prevalence contained comprehensive measures for obesity prevention across the population, with clear implementation strategies and methods of evaluation for each measure (California Department of Public Health, California Wellness Plan, 2014; California Department of Health Services, California Obesity Prevention Plan: A Vision for Tomorrow, Strategic Actions for Today, 2006).","Colorado's state-level plan for obesity prevention and reduction - the Chronic Disease State Plan 2022-2030 - contains comprehensive, well-defined measures for obesity prevention across the population, with clear goals and specific implementation strategies. However, it does not outline methods of evaluation for these measures (Colorado Department of Public Health and Environment, Chronic Disease State Plan 2022-2030, 2022).","Connecticut does not have a dedicated obesity policy, strategy or plan in place.","Delaware's outdated obesity-related plan - the Physical Activity, Nutrition and Obesity Prevention Comprehensive Plan 2010-2014 - contained a range of well-defined measures for obesity prevention with clear goals. However, it did not include any methods of evaluation for these measures (Delaware Division of Public Health, Physical Activity, Nutrition & Obesity Prevention Comprehensive Plan 2010-2014, 2010).","Florida does not have a dedicated obesity policy, strategy or plan in place. Nonetheless, Florida's state-level programme for reducing the prevalence of obesity - Healthiest Weight Florida - contains measures for obesity prevention, such as encouraging healthy lifestyles and reducing risk factors (Florida Department of Health, Healthiest Weight Florida).","Georgia does not have a dedicated obesity policy, strategy or plan in place.","Hawaii's state-level plan for reducing the prevalence of obesity - the Hawai‘i Physical Activity and Nutrition Plan 2030 - contains comprehensive, well-defined measures for obesity prevention, with specific targets, implementation strategies and methods of evaluation (Hawai‘i State Department of Health, Hawai‘i Physical Activity and Nutrition Plan 2030, 2021).","Idaho does not have a dedicated obesity policy, strategy or plan in place.","Illinois does not have a dedicated obesity policy, strategy or plan in place.","The outdated Indiana Comprehensive Nutrition and Physical Activity Plan 2010-2020 (2010) included specific measures for obesity prevention with clear actions and targets, but it lacked methods of evaluation for these measures (Indiana Department of Health, Indiana Comprehensive Nutrition and Physical Activity Plan, 2010).","Iowa's outdated Obesity Statewide Strategic Plan included specific measures for obesity prevention with defined actions, but it lacked methods of evaluation for these measures (Iowa Department of Public Health, Obesity Statewide Strategic Plan, 2016).","Kansas does not have a dedicated obesity policy, strategy or plan in place.","Kentucky's outdated state-level plan for reducing obesity prevalence - Unbridled Health: A Plan for Coordinated Chronic Disease Prevention and Health Promotion 2012-2016 - contained measures for obesity prevention across the population, with clear implementation strategies. However, it did not present methods of evaluation for these measures (Kentucky Department for Public Health, Unbridled Health: A Plan for Coordinated Chronic Disease Prevention and Health Promotion 2012-2016, 2013).","Louisiana does not have a dedicated obesity policy, strategy or plan in place.","Maine's state-level action plan to reduce the prevalence of obesity - Preventing and Reducing Obesity in Maine: A Call to Action - outlines measures for obesity prevention, but they do not include clear actions or methods of evaluation (Maine Obesity Advisory Council, Preventing and Reducing Obesity in Maine: A Call to Action, 2022).","Maryland's outdated Nutrition and Physical Activity Plan (which expired in 2016) included a range of well-defined strategies for obesity prevention with clear goals and actions, along with methods of evaluation for each action (Maryland Department of Health, Maryland Nutrition and Physical Activity Plan, 2006).","Massachusetts does not have a dedicated obesity policy, strategy or plan in place.","The Michigan Nutrition, Physical Activity and Obesity (NPAO) Program has two overall goals related to obesity prevention but they do not address any clear actions or specific targets in this regard (Michigan Department of Health and Human Services, Michigan Nutrition, Physical Activity, and Obesity Program).","Minnesota's outdated Plan to Reduce Obesity and Obesity-Related Chronic Diseases (2008-2013) contained measures for obesity prevention, with well-defined implementation strategies, targets and methods of evaluation (Minnesota Department of Health, Plan to Reduce Obesity and Obesity-Related Chronic Diseases between 2008-2013, 2008).","Mississippi's state-level action plan for reducing obesity prevalence - the Mississippi Obesity Action Plan - contains measures for obesity prevention across the population, with defined actions; however, it does not establish methods of evaluation for these measures. Additionally, there is no evidence as to whether the plan is still valid as of February 2025 (Mississippi State Department of Health, Mississippi Obesity Action Plan, 2018).","Missouri does not have a dedicated obesity policy, strategy or plan in place.","Montana does not have a dedicated obesity policy, strategy or plan in place.","The outdated Nebraska Physical Activity and Nutrition State Plan 2011–2016 (which expired in 2016) contained well-defined measures aimed at obesity prevention, with clear goals and methods of evaluation (Nebraska Department of Health and Human Services, Division of Public Health, Nebraska Physical Activity and Nutrition State Plan 2011- 2016, 2011).","Nevada's outdated Strategic Plan for the Prevention of Obesity in Nevada contained specific measures for obesity prevention, with defined actions; however, it lacked methods of evaluation for these measures (Nevada State Health Division, Strategic Plan for the Prevention of Obesity in Nevada, 2006).","New Hampshire does not have a dedicated obesity policy, strategy or plan in place.","New Jersey's outdated State Obesity Prevention Plan outlined strategies for obesity prevention across the population with defined actions. However, it lacked methods of evaluation for these measures (The Office of Nutrition and Fitness, New Jersey State Obesity Prevention Plan, 2013).","New Mexico does not have a dedicated obesity policy, strategy or plan in place.","The outdated Prevention Agenda 2019-2024: Prevent Chronic Diseases Action Plan (New York State's obesity-focused strategy) included several measures targeted at obesity prevention, including details on interventions to be implemented, the sectors to be involved, and intermediate-level evaluation methods (New York State Department of Health, Prevention Agenda 2019-2024: Prevent Chronic Diseases Action Plan, 2019).","\"North Carolina’s Plan to Address Overweight and Obesity: Balance how we eat, drink, and move\" includes measures for obesity prevention across the population. However, it is not implemented or led by the state government (Eat Smart, Move More North Carolina, North Carolina’s Plan to Address Overweight and Obesity: Balance how we eat, drink, and move, 2019).","North Dakota does not have a dedicated obesity policy, strategy or plan in place.","Ohio's outdated Obesity Prevention Plan (which expired in 2014) contained several measures for obesity prevention, with clear goals, defined actions and implementation strategies, as well as methods of evaluation (Ohio Department of Health, Ohio Obesity Prevention Plan, 2009).","Oklahoma's state-level strategic plan for reducing the prevalence of obesity - Health for a Lifetime: State of Oklahoma Obesity Prevention Plan - contains comprehensive, well-defined measures for obesity prevention across the population, with specific targets, implementation strategies and methods of evaluation (Oklahoma State Department of Health, Health for a Lifetime: State of Oklahoma Obesity Prevention Plan, 2022).","Oregon's state-level strategic plan for reducing the prevalence of obesity - the Health Promotion and Chronic Disease Prevention Strategic Plan 2017-2025 - contains comprehensive, well-defined measures for obesity prevention across the population, with specific targets, implementation strategies and methods of evaluation (Oregon Health Authority, Health Promotion and Chronic Disease Prevention Strategic Plan 2017-2025, 2019).","Pennsylvania does not have a dedicated obesity policy, strategy or plan in place.","The 2023-2028 Rhode Island Healthy Eating and Active Living Strategic Plan contains a range of well-defined measures for obesity prevention, with clear goals and a number of success measures and targets to be achieved and methods for their evaluation (State of Rhode Island Department of Health, 2023-2028 Rhode Island Healthy Eating and Active Living Strategic Plan, 2023).","South Carolina does not have a dedicated obesity policy, strategy or plan in place.","The outdated South Dakota State Plan for Nutrition and Physical Activity to Prevent Obesity and Other Chronic Diseases 2015-2020 (which expired in 2020) included specific measures for obesity and chronic disease prevention, with defined targets and implementation strategies, though it lacked methods of evaluation for these measures (South Dakota Department of Health, South Dakota State Plan for Nutrition and Physical Activity to Prevent Obesity and Other Chronic Diseases 2015-2020, 2015).","Tennessee's outdated state-level plan for reducing obesity prevalence - the Tennessee Statewide Nutrition and Physical Activity Plan: A comprehensive plan to reduce obesity and chronic disease in Tennessee 2010-2015 - contained measures for obesity prevention across the population, with clear actions and methods of evaluation (Tennessee Department of Health, Tennessee Statewide Nutrition and Physical Activity Plan: A comprehensive plan to reduce obesity and chronic disease in Tennessee 2010-2015, 2010).","Texas' state-level strategy for reducing the prevalence of obesity - the Obesity Prevention Priority Strategies - contains well-defined measures for obesity prevention across the population; however, no specific methods of evaluation are set (Texas Health and Human Services, Obesity Prevention Priority Strategies, 2023).","The Utah Healthy Environments Active Living Program 2021-2026 Strategic Plan contains several specific measures for obesity prevention, with defined actions and implementation strategies. However, it lacks evaluation methods for these measures (Utah Department of Health, Healthy Environments Active Living Program 2021-2026 Strategic Plan, 2021).","Vermont does not have a dedicated obesity policy, strategy or plan in place.","Virginia does not have a dedicated obesity policy, strategy or plan in place.","Washington's outdated state-level strategic plan for reducing obesity prevalence - the Washington State Plan for Healthy Communities - contained measures for obesity prevention across the population and outlined clear implementation strategies. However, it did not include methods of evaluation for these strategies (Washington State Department of Health, Washington State Plan for Healthy Communities, 2014).","West Virginia's outdated state-level obesity plan - Addressing Obesity and Related Chronic Diseases: A Strategic Plan to Combat Obesity and Related Chronic Diseases in West Virginia - included comprehensive strategies for obesity prevention across the population, with defined actions and targets; however, it did not contain any methods of evaluation for these measures (West Virginia Division of Health Promotion and Chronic Disease, Addressing Obesity and Related Chronic Diseases: A Strategic Plan to Combat Obesity and Related Chronic Diseases in West Virginia, 2016).","Wisconsin's Physical Activity and Nutrition Road Map (2022) collates a range of strategies to be implemented for obesity prevention through physical activity and nutrition; however, none contain any specific actions, targets or methods of evaluation (Wisconsin Department of Health Services, Wisconsin's Physical Activity and Nutrition Road Map, 2022).","Wyoming does not have a dedicated obesity policy, strategy or plan in place."]
[null,1008,"1.1.3d","Measures for obesity management",null,null,"Alabama's state-level plan for reducing the prevalence of obesity - the Alabama Physical Activity and Nutrition Plan 2023-2033 - does not contain measures for obesity management (Alabama Wellness Alliance, Alabama Physical Activity and Nutrition Plan 2023-2033, 2022).","Alaska does not have a dedicated obesity policy, strategy or plan in place.","Arizona's outdated state-level plan for reducing the prevalence of obesity mentioned obesity management measures, but it did not establish specific targets, implementation strategies or methods of evaluation in this regard (Arizona Department of Health Services, Action Plan for Improving Arizonans Well-being Through Healthy Eating and Active Living 2014-2017).","Arkansas' outdated state-level plan for reducing obesity prevalence did not contain measures for obesity management across the population (Arkansas Chronic Disease Coordinating Council, Healthy People 2020: Arkansas’s Chronic Disease Framework for Action, 2013).","California's outdated state-level plans for reducing obesity prevalence contained comprehensive measures for obesity management across the population, with clear implementation strategies and methods of evaluation for each measure (California Department of Public Health, California Wellness Plan, 2014; California Department of Health Services, California Obesity Prevention Plan: A Vision for Tomorrow, Strategic Actions for Today, 2006).","Colorado's state-level plan for obesity prevention and reduction - the Chronic Disease State Plan 2022-2030 - contains specific measures for obesity management, with well-defined actions. However, it does not outline methods of evaluation for these measures (Colorado Department of Public Health and Environment, Chronic Disease State Plan 2022-2030, 2022).","Connecticut does not have a dedicated obesity policy, strategy or plan in place.","Delaware's outdated obesity-related plan - the Physical Activity, Nutrition and Obesity Prevention Comprehensive Plan 2010-2014 - did not contain any measures focused on obesity management (Delaware Division of Public Health, Physical Activity, Nutrition & Obesity Prevention Comprehensive Plan 2010-2014, 2010).","Florida does not have a dedicated obesity policy, strategy or plan in place. Further, its state-level programme for reducing the prevalence of obesity - Healthiest Weight Florida - does not contain measures for obesity management (Florida Department of Health, Healthiest Weight Florida).","Georgia does not have a dedicated obesity policy, strategy or plan in place.","Hawaii's state-level plan for reducing the prevalence of obesity - the Hawai‘i Physical Activity and Nutrition Plan 2030 - contains well-defined measures for obesity management, with specific targets, implementation strategies and methods of evaluation (Hawai‘i State Department of Health, Hawai‘i Physical Activity and Nutrition Plan 2030, 2021).","Idaho does not have a dedicated obesity policy, strategy or plan in place.","Illinois does not have a dedicated obesity policy, strategy or plan in place.","The outdated Indiana Comprehensive Nutrition and Physical Activity Plan 2010-2020 (2010) included specific measures for obesity management with clear actions and targets, but it lacked methods of evaluation for these measures (Indiana Department of Health, Indiana Comprehensive Nutrition and Physical Activity Plan, 2010).","Iowa's outdated Obesity Statewide Strategic Plan (which expired in 2019) included specific measures for obesity management with defined actions, but it lacked methods of evaluation for these measures (Iowa Department of Public Health, Obesity Statewide Strategic Plan, 2016).","Kansas does not have a dedicated obesity policy, strategy or plan in place.","Kentucky's outdated state-level plan for reducing obesity prevalence - Unbridled Health: A Plan for Coordinated Chronic Disease Prevention and Health Promotion 2012-2016 - did not contain measures for obesity management (Kentucky Department for Public Health, Unbridled Health: A Plan for Coordinated Chronic Disease Prevention and Health Promotion 2012-2016, 2013).","Louisiana does not have a dedicated obesity policy, strategy or plan in place.","Maine's state-level action plan to reduce the prevalence of obesity - Preventing and Reducing Obesity in Maine: A Call to Action - does not contain measures specifically targeted at obesity management (Maine Obesity Advisory Council, Preventing and Reducing Obesity in Maine: A Call to Action, 2022).","Maryland's outdated Nutrition and Physical Activity Plan (which expired in 2016) did not include any strategies for obesity management (Maryland Department of Health, Maryland Nutrition and Physical Activity Plan, 2006).","Massachusetts does not have a dedicated obesity policy, strategy or plan in place.","The Michigan Nutrition, Physical Activity and Obesity (NPAO) Program has one overall goal related to obesity management but it does not establish any clear actions or specific targets in this regard (Michigan Department of Health and Human Services, Michigan Nutrition, Physical Activity, and Obesity Program).","Minnesota's outdated Plan to Reduce Obesity and Obesity-Related Chronic Diseases (2008-2013) contained measures for obesity management, with well-defined implementation strategies, targets and methods of evaluation (Minnesota Department of Health, Plan to Reduce Obesity and Obesity-Related Chronic Diseases between 2008-2013, 2008).","Mississippi's state-level action plan for reducing obesity prevalence - the Mississippi Obesity Action Plan - contains measures for obesity management across the population, with defined actions; however, it does not establish methods of evaluation for these measures. Additionally, there is no evidence as to whether the plan is still valid as of February 2025 (Mississippi State Department of Health, Mississippi Obesity Action Plan, 2018).","Missouri does not have a dedicated obesity policy, strategy or plan in place.","Montana does not have a dedicated obesity policy, strategy or plan in place.","The outdated Nebraska Physical Activity and Nutrition State Plan 2011–2016 (which expired in 2016) did not contain any measures explicitly targeted at obesity management (Nebraska Department of Health and Human Services, Division of Public Health, Nebraska Physical Activity and Nutrition State Plan 2011- 2016, 2011).","Nevada's outdated Strategic Plan for the Prevention of Obesity in Nevada contained specific measures for obesity management, with defined actions; however, it lacked methods of evaluation for these measures (Nevada State Health Division, Strategic Plan for the Prevention of Obesity in Nevada, 2006).","New Hampshire does not have a dedicated obesity policy, strategy or plan in place.","New Jersey's outdated State Obesity Prevention Plan outlined strategies for obesity prevention across the population; however, it did not address obesity management (The Office of Nutrition and Fitness, New Jersey State Obesity Prevention Plan, 2013).","New Mexico does not have a dedicated obesity policy, strategy or plan in place.","The outdated Prevention Agenda 2019-2024: Prevent Chronic Diseases Action Plan (New York State's obesity-focused strategy) included several measures targeted at obesity management, including details on interventions to be implemented, the sectors to be involved, and intermediate-level measures. However, it did not outline any evaluation methods for these measures (New York State Department of Health, Prevention Agenda 2019-2024: Prevent Chronic Diseases Action Plan, 2019).","\"North Carolina’s Plan to Address Overweight and Obesity: Balance how we eat, drink, and move\" includes measures for obesity management across the population. However, it is not implemented or led by the state government (Eat Smart, Move More North Carolina, North Carolina’s Plan to Address Overweight and Obesity: Balance how we eat, drink, and move, 2019).","North Dakota does not have a dedicated obesity policy, strategy or plan in place.","Ohio's outdated Obesity Prevention Plan (which expired in 2014) contained a target for obesity management, with a clear goal, defined action and implementation strategy, as well as a method of evaluation (Ohio Department of Health, Ohio Obesity Prevention Plan, 2009).","Oklahoma's state-level strategic plan for reducing the prevalence of obesity - Health for a Lifetime: State of Oklahoma Obesity Prevention Plan - contains comprehensive, well-defined measures for obesity management across the population, with specific targets, implementation strategies and methods of evaluation (Oklahoma State Department of Health, Health for a Lifetime: State of Oklahoma Obesity Prevention Plan, 2022).","Oregon's state-level strategic plan for reducing the prevalence of obesity - the Health Promotion and Chronic Disease Prevention Strategic Plan 2017-2025 - mentions the role of disease self-management programmes; however, it does not present comprehensive measures for obesity management (Oregon Health Authority, Health Promotion and Chronic Disease Prevention Strategic Plan 2017-2025, 2019).","Pennsylvania does not have a dedicated obesity policy, strategy or plan in place.","The 2023-2028 Rhode Island Healthy Eating and Active Living Strategic Plan contains one measure relating to obesity management - namely, improving access and coverage for evidence-based weight loss and management counseling; however, it does not present more detail in this regard (State of Rhode Island Department of Health, 2023-2028 Rhode Island Healthy Eating and Active Living Strategic Plan, 2023).","South Carolina does not have a dedicated obesity policy, strategy or plan in place.","The outdated South Dakota State Plan for Nutrition and Physical Activity to Prevent Obesity and Other Chronic Diseases 2015-2020 (which expired in 2020) included specific measures for obesity management, with defined targets and implementation strategies, though it lacked methods of evaluation for these measures (South Dakota Department of Health, South Dakota State Plan for Nutrition and Physical Activity to Prevent Obesity and Other Chronic Diseases 2015-2020, 2015).","Tennessee's outdated state-level plan for reducing obesity prevalence - the Tennessee Statewide Nutrition and Physical Activity Plan: A comprehensive plan to reduce obesity and chronic disease in Tennessee 2010-2015 - contained measures for obesity management across the population, with clear actions and methods of evaluation (Tennessee Department of Health, Tennessee Statewide Nutrition and Physical Activity Plan: A comprehensive plan to reduce obesity and chronic disease in Tennessee 2010-2015, 2010).","Texas' state-level strategy for reducing the prevalence of obesity - the Obesity Prevention Priority Strategies - establishes one obesity management measure, namely improving the self-management of obesity-related chronic disease through education and health promotion; however, no specific targets, implementation strategies, or methods of evaluation are set (Texas Health and Human Services, Obesity Prevention Priority Strategies, 2023).","The Utah Healthy Environments Active Living Program 2021-2026 Strategic Plan contains several specific measures for obesity management, with defined actions and implementation strategies. However, it lacks evaluation methods for these measures (Utah Department of Health, Healthy Environments Active Living Program 2021-2026 Strategic Plan, 2021).","Vermont does not have a dedicated obesity policy, strategy or plan in place.","Virginia does not have a dedicated obesity policy, strategy or plan in place.","Washington's outdated state-level strategic plan for reducing obesity prevalence - the Washington State Plan for Healthy Communities - did not contain measures for obesity management (Washington State Department of Health, Washington State Plan for Healthy Communities, 2014).","West Virginia's outdated state-level obesity plan - Addressing Obesity and Related Chronic Diseases: A Strategic Plan to Combat Obesity and Related Chronic Diseases in West Virginia - included measures focused on obesity management but they did not include specific actions or targets (West Virginia Division of Health Promotion and Chronic Disease, Addressing Obesity and Related Chronic Diseases: A Strategic Plan to Combat Obesity and Related Chronic Diseases in West Virginia, 2016).","Wisconsin's Physical Activity and Nutrition Road Map (2022) does not contain any measures focused on obesity management (Wisconsin Department of Health Services, Wisconsin's Physical Activity and Nutrition Road Map, 2022).","Wyoming does not have a dedicated obesity policy, strategy or plan in place."]
[null,1009,"1.1.3e","Targets for obesity prevalence reduction",null,null,"Alabama's state-level plan for reducing the prevalence of obesity - the Alabama Physical Activity and Nutrition Plan 2023-2033 - does not contain numerical, time-bound targets for obesity prevalence reduction (Alabama Wellness Alliance, Alabama Physical Activity and Nutrition Plan 2023-2033, 2022).","Alaska does not have a dedicated obesity policy, strategy or plan in place.","Arizona's outdated state-level plan for reducing obesity prevalence did not contain numerical, time-bound targets for obesity prevalence reduction across the population (Arizona Department of Health Services, Action Plan for Improving Arizonans Well-being Through Healthy Eating and Active Living 2014-2017).","Arkansas' outdated state-level plan for reducing obesity prevalence contained long-term numerical targets for obesity prevalence reduction to be achieved by 2020 (Arkansas Chronic Disease Coordinating Council, Healthy People 2020: Arkansas’s Chronic Disease Framework for Action, 2013).","California's outdated 2014 Wellness Plan contained both near-term and long-term numerical targets for obesity prevalence reduction to be achieved by 2015 and 2022, respectively (California Department of Public Health, California Wellness Plan, 2014).","Colorado's state-level plan for obesity prevention and reduction - the Chronic Disease State Plan 2022-2030 - contains long-term numerical targets for healthy weight rates to be achieved by 2030; however, there is no evidence of nearer-term targets (Colorado Department of Public Health and Environment, Chronic Disease State Plan 2022-2030, 2022).","Connecticut does not have a dedicated obesity policy, strategy or plan in place.","Delaware's outdated obesity-related plan - the Physical Activity, Nutrition and Obesity Prevention Comprehensive Plan 2010-2014 - did not contain numerical, time-bound targets for obesity prevalence reduction across the population (Delaware Division of Public Health, Physical Activity, Nutrition & Obesity Prevention Comprehensive Plan 2010-2014, 2010).","Florida does not have a dedicated obesity policy, strategy or plan in place. Further, Florida's state-level programme for reducing the prevalence of obesity - Healthiest Weight Florida - does not contain numerical, time-bound targets for obesity prevalence reduction across the population (Florida Department of Health, Healthiest Weight Florida).","Georgia does not have a dedicated obesity policy, strategy or plan in place.","Hawaii's state-level plan for reducing the prevalence of obesity - the Hawai‘i Physical Activity and Nutrition Plan 2030 - contains long-term targets for obesity prevalence reduction to be achieved by 2030; however, there is no evidence of nearer-term targets (from a baseline of 2021) (Hawai‘i State Department of Health, Hawai‘i Physical Activity and Nutrition Plan 2030, 2021).","Idaho does not have a dedicated obesity policy, strategy or plan in place.","Illinois does not have a dedicated obesity policy, strategy or plan in place.","The outdated Indiana Comprehensive Nutrition and Physical Activity Plan 2010-2020 (2010) contained only long-term targets for obesity prevalence reduction to be achieved by 2020 (Indiana Department of Health, Indiana Comprehensive Nutrition and Physical Activity Plan, 2010).","Iowa's outdated Obesity Statewide Strategic Plan (which expired in 2019) did not include any numerical targets for obesity prevalence reduction (Iowa Department of Public Health, Obesity Statewide Strategic Plan, 2016).","Kansas does not have a dedicated obesity policy, strategy or plan in place.","Kentucky's outdated state-level plan for reducing obesity prevalence - Unbridled Health: A Plan for Coordinated Chronic Disease Prevention and Health Promotion 2012-2016 - contained near-term targets for obesity prevalence reduction to be achieved by 2016 (Kentucky Department for Public Health, Unbridled Health: A Plan for Coordinated Chronic Disease Prevention and Health Promotion 2012-2016, 2013).","Louisiana does not have a dedicated obesity policy, strategy or plan in place.","Maine's state-level action plan to reduce the prevalence of obesity - Preventing and Reducing Obesity in Maine: A Call to Action - does not contain numerical targets for obesity prevalence reduction (Maine Obesity Advisory Council, Preventing and Reducing Obesity in Maine: A Call to Action, 2022).","Maryland's outdated Nutrition and Physical Activity Plan (which expired in 2016) contained both near-term and long-term targets for obesity prevalence reduction to be achieved over a four- to five-year period (2010 and 2011) and a ten-year period (2016), respectively (Maryland Department of Health, Maryland Nutrition and Physical Activity Plan, 2006).","Massachusetts does not have a dedicated obesity policy, strategy or plan in place.","The Michigan Nutrition, Physical Activity and Obesity (NPAO) Program does not set any numerical targets for the reduction of obesity prevalence in the population (Michigan Department of Health and Human Services, Michigan Nutrition, Physical Activity, and Obesity Program).","The outdated Minnesota Plan to Reduce Obesity and Obesity-Related Chronic Diseases (2008-2013) included both near-term and long-term targets for obesity prevalence reduction to be achieved within a five-year (by 2013) and ten-year (by 2018) time period (Minnesota Department of Health, Plan to Reduce Obesity and Obesity-Related Chronic Diseases between 2008-2013, 2008).","Mississippi's state-level action plan for reducing obesity prevalence - the Mississippi Obesity Action Plan - does not contain numerical targets for obesity prevalence reduction. Additionally, there is no evidence as to whether the plan is still valid as of February 2025 (Mississippi State Department of Health, Mississippi Obesity Action Plan, 2018).","Missouri does not have a dedicated obesity policy, strategy or plan in place.","Montana does not have a dedicated obesity policy, strategy or plan in place.","The outdated Nebraska Physical Activity and Nutrition State Plan 2011–2016 (which expired in 2016) aimed to decrease obesity prevalence amongst the population but did not specify numerical targets in this regard (Nebraska Department of Health and Human Services, Division of Public Health, Nebraska Physical Activity and Nutrition State Plan 2011- 2016, 2011).","No numerical targets for obesity prevalence reduction are established within Nevada's Early Childhood Obesity Prevention State Plan 2021-2026 or the outdated Strategic Plan for the Prevention of Obesity in Nevada (Nevada Division of Public and Behavioral Health, Nevada Early Childhood Obesity Prevention State Plan 2021-2026, 2021; Nevada State Health Division, Strategic Plan for the Prevention of Obesity in Nevada, 2006).","New Hampshire does not have a dedicated obesity policy, strategy or plan in place.","New Jersey's outdated State Obesity Prevention Plan did not include any numerical targets for obesity prevalence reduction (The Office of Nutrition and Fitness, New Jersey State Obesity Prevention Plan, 2013).","New Mexico does not have a dedicated obesity policy, strategy or plan in place.","The outdated Prevention Agenda 2019-2024: Prevent Chronic Diseases Action Plan (New York State's obesity-focused strategy) included near-term targets for obesity prevalence reduction to be achieved within a five-year time period (by 2024) (New York State Department of Health, Prevention Agenda 2019-2024: Prevent Chronic Diseases Action Plan, 2019).","\"North Carolina’s Plan to Address Overweight and Obesity: Balance how we eat, drink, and move\" does not include any numerical targets for obesity prevalence reduction. Additionally, it is not implemented or led by the state government (Eat Smart, Move More North Carolina, North Carolina’s Plan to Address Overweight and Obesity: Balance how we eat, drink, and move, 2019).","North Dakota does not have a dedicated obesity policy, strategy or plan in place.","Ohio's outdated Obesity Prevention Plan (which expired in 2014) did not contain numerical targets for obesity prevalence reduction (Ohio Department of Health, Ohio Obesity Prevention Plan, 2009).","Oklahoma's state-level strategic plan for reducing the prevalence of obesity - Health for a Lifetime: State of Oklahoma Obesity Prevention Plan - contains near-term targets for obesity prevalence reduction to be achieved by 2026; however, there is no evidence of longer-term targets (Oklahoma State Department of Health, Health for a Lifetime: State of Oklahoma Obesity Prevention Plan, 2022).","Oregon's state-level strategic plan for reducing the prevalence of obesity - the Health Promotion and Chronic Disease Prevention Strategic Plan 2017-2025 - contains numerical long-term targets for obesity prevalence reduction to be achieved by 2025 (from a 2017 baseline); however, there is no evidence of nearer-term targets (Oregon Health Authority, Health Promotion and Chronic Disease Prevention Strategic Plan 2017-2025, 2019).","Pennsylvania does not have a dedicated obesity policy, strategy or plan in place.","The 2023-2028 Rhode Island Healthy Eating and Active Living Strategic Plan does not contain numerical targets for obesity prevalence reduction across the population (State of Rhode Island Department of Health, 2023-2028 Rhode Island Healthy Eating and Active Living Strategic Plan, 2023).","South Carolina does not have a dedicated obesity policy, strategy or plan in place.","The outdated South Dakota State Plan for Nutrition and Physical Activity to Prevent Obesity and Other Chronic Diseases 2015-2020 (which expired in 2020) did not set any numerical targets for obesity prevalence reduction across the population (South Dakota Department of Health, South Dakota State Plan for Nutrition and Physical Activity to Prevent Obesity and Other Chronic Diseases 2015-2020, 2015).","Tennessee's outdated state-level plan for reducing obesity prevalence - the Tennessee Statewide Nutrition and Physical Activity Plan: A comprehensive plan to reduce obesity and chronic disease in Tennessee 2010-2015 - did not contain numerical targets for obesity prevalence reduction (Tennessee Department of Health, Tennessee Statewide Nutrition and Physical Activity Plan: A comprehensive plan to reduce obesity and chronic disease in Tennessee 2010-2015, 2010).","Texas' state-level strategy for reducing the prevalence of obesity - the Obesity Prevention Priority Strategies - does not contain numerical targets for obesity prevalence reduction across the population (Texas Health and Human Services, Obesity Prevention Priority Strategies, 2023).","The Utah Healthy Environments Active Living Program 2021-2026 Strategic Plan does not specify any numerical targets for obesity prevalence reduction (Utah Department of Health and Human Services, Healthy Environments Active Living Program 2021-2026 Strategic Plan, 2021).","Vermont does not have a dedicated obesity policy, strategy or plan in place.","Virginia does not have a dedicated obesity policy, strategy or plan in place.","Washington's outdated state-level strategic plan for reducing obesity prevalence - the Washington State Plan for Healthy Communities - did not contain numerical targets for obesity prevalence reduction (Washington State Department of Health, Washington State Plan for Healthy Communities, 2014).","West Virginia's outdated state-level obesity plan - Addressing Obesity and Related Chronic Diseases: A Strategic Plan to Combat Obesity and Related Chronic Diseases in West Virginia - contained near-term targets for obesity prevalence reduction to be achieved over a three- to four-year time period (by 2019 and 2020, respectively) (West Virginia Division of Health Promotion and Chronic Disease, Addressing Obesity and Related Chronic Diseases: A Strategic Plan to Combat Obesity and Related Chronic Diseases in West Virginia, 2016).","Wisconsin's Physical Activity and Nutrition Road Map (2022) did not contain any numerical targets for obesity prevalence reduction (Wisconsin Department of Health Services, Wisconsin's Physical Activity and Nutrition Road Map, 2022).","Wyoming does not have a dedicated obesity policy, strategy or plan in place."]
[null,1010,"1.1.3f","Focus on vulnerable groups",null,null,"Alabama's state-level plan for reducing the prevalence of obesity - the Alabama Physical Activity and Nutrition Plan 2023-2033 - includes a particular focus on the prevention of obesity in groups at increased risk of developing obesity. The plan explicitly recognises health disparities across marginalised groups and establishes specific, actionable recommendations to improve access to resources and healthy opportunities for at-risk groups (Alabama Wellness Alliance, Alabama Physical Activity and Nutrition Plan 2023-2033, 2022).","Alaska does not have a dedicated obesity policy, strategy or plan in place.","Arizona's outdated state-level plan for reducing obesity prevalence acknowledged that children and low-income populations face higher levels of obesity risk, and contained specific actions for obesity prevention specifically targeted at these populations (Arizona Department of Health Services, Action Plan for Improving Arizonans Well-being Through Healthy Eating and Active Living 2014-2017).","Arkansas' outdated state-level plan for reducing obesity prevalence included a particular focus on the prevention and management of obesity among groups at increased risk of developing obesity (e.g children), and presented measures and targets specifically addressing children and adolescents (Arkansas Chronic Disease Coordinating Council, Healthy People 2020: Arkansas’s Chronic Disease Framework for Action, 2013).","California's outdated 2014 Wellness Plan mentioned that low-income populations and adolescents living in areas with widespread poverty are at risk for developing obesity, but it did not contain measures for obesity prevention or management specifically targeted at these groups (California Department of Public Health, California Wellness Plan, 2014).","Colorado's state-level plan for obesity prevention and reduction - the Chronic Disease State Plan 2022-2030 - includes a particular focus on the prevention and management of obesity in groups at increased risk of developing obesity, such as low-income populations and racial minorities, but it does not outline specific actions, targeted interventions or comprehensive strategies to address the unique needs of vulnerable and minority groups (Colorado Department of Public Health and Environment, Chronic Disease State Plan 2022-2030, 2022).","Connecticut does not have a dedicated obesity policy, strategy or plan in place.","Delaware's outdated obesity-related plan - the Physical Activity, Nutrition and Obesity Prevention Comprehensive Plan 2010-2014 - did not include a focus on the needs of groups at increased risk of developing obesity (Delaware Division of Public Health, Physical Activity, Nutrition & Obesity Prevention Comprehensive Plan 2010-2014, 2010).","Florida does not have a dedicated obesity policy, strategy or plan in place. Further, Florida's state-level programme for reducing the prevalence of obesity - Healthiest Weight Florida - does not include a particular focus on the prevention and management of obesity in groups at increased risk of developing obesity (Florida Department of Health, Healthiest Weight Florida).","Georgia does not have a dedicated obesity policy, strategy or plan in place.","Hawaii's state-level plan for reducing the prevalence of obesity - the Hawai‘i Physical Activity and Nutrition Plan 2030 - includes a particular focus on the prevention and management of obesity in groups at increased risk of developing obesity, such as keiki (children) and youth, kūpuna (older adults), and low-income groups. Further, it includes tailored strategies that aim to mitigate significant health inequities across these different demographic groups (Hawai‘i State Department of Health, Hawai‘i Physical Activity and Nutrition Plan 2030, 2021).","Idaho does not have a dedicated obesity policy, strategy or plan in place.","Illinois does not have a dedicated obesity policy, strategy or plan in place.","The outdated Indiana Comprehensive Nutrition and Physical Activity Plan 2010-2020 (2010) addressed the needs of some vulnerable and minority groups at increased risk of developing obesity (such as children, low-income populations and racial minorities), and set specific actions and targets for these groups (Indiana Department of Health, Indiana Comprehensive Nutrition and Physical Activity Plan, 2010).","Iowa's outdated Obesity Statewide Strategic Plan (which expired in 2019) did not include a focus on the prevention and management of obesity in groups at increased risk of developing obesity (Iowa Department of Public Health, Obesity Statewide Strategic Plan, 2016).","Kansas does not have a dedicated obesity policy, strategy or plan in place.","Kentucky's outdated state-level plan for reducing obesity prevalence - Unbridled Health: A Plan for Coordinated Chronic Disease Prevention and Health Promotion 2012-2016 - acknowledged that low-income and low-education populations are at an increased risk of developing obesity, but it did not contain measures for obesity prevention or management specifically targeted at these populations (Kentucky Department for Public Health, Unbridled Health: A Plan for Coordinated Chronic Disease Prevention and Health Promotion 2012-2016, 2013).","Louisiana does not have a dedicated obesity policy, strategy or plan in place.","Maine's state-level action plan to reduce the prevalence of obesity - Preventing and Reducing Obesity in Maine: A Call to Action - includes a particular focus on the prevention of obesity in groups at increased risk of developing obesity (including individuals with lower incomes and education levels, those living in rural communities, and racial and ethnic minority groups) but it does not outline specific actions to be carried out in this regard (Maine Obesity Advisory Council, Preventing and Reducing Obesity in Maine: A Call to Action, 2022).","Maryland's outdated Nutrition and Physical Activity Plan (which expired in 2016) discussed the unique vulnerabilities specific demographic groups face with regards to obesity, but it did not outline specific actions targeting these vulnerable groups (Maryland Department of Health, Maryland Nutrition and Physical Activity Plan, 2006).","Massachusetts does not have a dedicated obesity policy, strategy or plan in place.","The Michigan Nutrition, Physical Activity and Obesity (NPAO) Program does not have a specific focus on the prevention and management of obesity in groups at increased risk of developing obesity (Michigan Department of Health and Human Services, Michigan Nutrition, Physical Activity, and Obesity Program).","The outdated Minnesota Plan to Reduce Obesity and Obesity-Related Chronic Diseases (2008-2013) highlighted the impact of socio-economic disparities on obesity prevalence, and focused on addressing the unique needs of vulnerable and minority groups through well-defined and actionable measures (Minnesota Department of Health, Plan to Reduce Obesity and Obesity-Related Chronic Diseases between 2008-2013, 2008).","Mississippi's state-level action plan for reducing obesity prevalence - the Mississippi Obesity Action Plan - includes a particular focus on the prevention and management of obesity in groups at increased risk of developing obesity (such as low-income and culturally-diverse populations), and outlines specific measures for the prevention and management of obesity in these communities. However, there is no evidence as to whether the plan is still valid as of February 2025 (Mississippi State Department of Health, Mississippi Obesity Action Plan, 2018).","Missouri does not have a dedicated obesity policy, strategy or plan in place.","Montana does not have a dedicated obesity policy, strategy or plan in place.","The outdated Nebraska Physical Activity and Nutrition State Plan 2011–2016 (which expired in 2016) outlined well-defined strategies and interventions for vulnerable populations at increased risk of developing obesity, including specific actions to improve food access in underserved areas; targeted women, infants and children programmes; and comprehensive school-based initiatives for children (Nebraska Department of Health and Human Services, Division of Public Health, Nebraska Physical Activity and Nutrition State Plan 2011- 2016, 2011).","The outdated Strategic Plan for the Prevention of Obesity in Nevada (2006) recognised that disparities in access to healthcare affected the prevalence of obesity but it did not establish any measures targeting groups at increased risk of developing obesity (Nevada State Health Division, Strategic Plan for the Prevention of Obesity in Nevada, 2006).","New Hampshire does not have a dedicated obesity policy, strategy or plan in place.","New Jersey's outdated State Obesity Prevention Plan mentioned racial minorities, children and lesser-educated individuals as groups at increased risk of developing obesity; however, of these groups, it only included a few measures targeted towards children (The Office of Nutrition and Fitness, New Jersey State Obesity Prevention Plan, 2013).","New Mexico does not have a dedicated obesity policy, strategy or plan in place.","The outdated Prevention Agenda 2019-2024: Prevent Chronic Diseases Action Plan (New York State's obesity-focused strategy) included several measures and interventions targeted towards reducing the prevalence of obesity amongst children (New York State Department of Health, Prevention Agenda 2019-2024: Prevent Chronic Diseases Action Plan, 2019).","\"North Carolina’s Plan to Address Overweight and Obesity: Balance how we eat, drink, and move\" recognises the vulnerabilities of certain demographic groups, namely \"low-income individuals and families\". However, it does not outline any strategies or actionable measures specifically targeting groups at increased risk of developing obesity. Additionally, it is not implemented or led by the state government (Eat Smart, Move More North Carolina, North Carolina’s Plan to Address Overweight and Obesity: Balance how we eat, drink, and move, 2019).","North Dakota does not have a dedicated obesity policy, strategy or plan in place.","Ohio's outdated Obesity Prevention Plan (which expired in 2014) recognised that certain demographic groups are at increased risk of developing obesity and contained some measures targeted towards low-income groups and children (Ohio Department of Health, Ohio Obesity Prevention Plan, 2009).","Oklahoma's state-level strategic plan for reducing the prevalence of obesity - Health for a Lifetime: State of Oklahoma Obesity Prevention Plan - includes a particular focus on the prevention and management of obesity in groups at increased risk of developing obesity, such as low-income populations, racial minorities and Native American populations. It establishes well-defined and actionable measures specifically addressing the needs of these vulnerable and minority groups (Oklahoma State Department of Health, Health for a Lifetime: State of Oklahoma Obesity Prevention Plan, 2022).","Oregon's state-level strategic plan for reducing the prevalence of obesity - the Health Promotion and Chronic Disease Prevention Strategic Plan 2017-2025 - includes a particular focus on the prevention and management of obesity in groups at increased risk of developing obesity. It outlines well-defined and actionable measures specifically addressing the needs of vulnerable and minority groups, such as lower-income individuals and people of color (Oregon Health Authority, Health Promotion and Chronic Disease Prevention Strategic Plan 2017-2025, 2019).","Pennsylvania does not have a dedicated obesity policy, strategy or plan in place.","The 2023-2028 Rhode Island Healthy Eating and Active Living Strategic Plan is centered on principles of health equity and contains measures targeting vulnerable communities, primarily children and lower-income individuals. Additionally, the plan recognises the higher prevalence of obesity and/or obesity-related chronic diseases amongst racial minority groups in Rhode Island (State of Rhode Island Department of Health, 2023-2028 Rhode Island Healthy Eating and Active Living Strategic Plan, 2023).","South Carolina does not have a dedicated obesity policy, strategy or plan in place.","The outdated South Dakota State Plan for Nutrition and Physical Activity to Prevent Obesity and Other Chronic Diseases 2015-2020 (which expired in 2020) did not include a particular focus on the prevention and management of obesity in groups at increased risk of developing obesity (South Dakota Department of Health, South Dakota State Plan for Nutrition and Physical Activity to Prevent Obesity and Other Chronic Diseases 2015-2020, 2015).","Tennessee's outdated state-level plan for reducing obesity prevalence - the Tennessee Statewide Nutrition and Physical Activity Plan: A comprehensive plan to reduce obesity and chronic disease in Tennessee 2010-2015 - included a particular focus on the prevention and management of obesity in populations at increased risk of developing obesity, such as Black and Hispanic populations, and included well-defined and actionable measures specifically addressing the needs of these vulnerable and minority groups (Tennessee Department of Health, Tennessee Statewide Nutrition and Physical Activity Plan: A comprehensive plan to reduce obesity and chronic disease in Tennessee 2010-2015, 2010).","Texas' state-level strategy for reducing obesity prevalence - the Obesity Prevention Priority Strategies - acknowledges that minority populations face higher levels of food insecurity, but it does not contain measures for obesity prevention or management specifically targeted at these populations (Texas Health and Human Services, Obesity Prevention Priority Strategies, 2023).","The Utah Healthy Environments Active Living Program 2021-2026 Strategic Plan outlines well-defined and actionable measures for obesity prevention that address the needs of children, low income and underserved populations in Utah (Utah Department of Health and Human Services, Healthy Environments Active Living Program 2021-2026 Strategic Plan, 2021).","Vermont does not have a dedicated obesity policy, strategy or plan in place.","Virginia does not have a dedicated obesity policy, strategy or plan in place.","Washington's outdated state-level strategic plan for reducing obesity prevalence - the Washington State Plan for Healthy Communities - mentioned school students as a specific group at risk of developing obesity, but it did not contain measures for obesity prevention or management specifically targeted at school students (Washington State Department of Health, Washington State Plan for Healthy Communities, 2014).","West Virginia's outdated state-level obesity plan - Addressing Obesity and Related Chronic Diseases: A Strategic Plan to Combat Obesity and Related Chronic Diseases in West Virginia - recognised that certain demographic groups face barriers to exercise and access to healthy foods, but it did not present actions specifically aimed towards groups at increased risk of developing obesity (West Virginia Division of Health Promotion and Chronic Disease, Addressing Obesity and Related Chronic Diseases: A Strategic Plan to Combat Obesity and Related Chronic Diseases in West Virginia, 2016).","Wisconsin's Physical Activity and Nutrition (PAN) Road Map (2022) aims to \"center equity by addressing systemic and institutional racism\" and has a series of measures to adjust the implementation of the plan for the state's tribal nations, including supporting investment in local communities and tribal nations, and ensuring culturally-responsive technical assistance and evaluation strategies are developed in collaboration with the tribes (Wisconsin Department of Health Services, Wisconsin's Physical Activity and Nutrition Road Map, 2022).","Wyoming does not have a dedicated obesity policy, strategy or plan in place."]
[null,1011,"1.1.3g","Obesity-related stigma and discrimination",null,null,"Alabama's state-level plan for reducing obesity prevalence - the Alabama Physical Activity and Nutrition Plan 2023-2033 - does not mention obesity-related stigma or discrimination (Alabama Wellness Alliance, Alabama Physical Activity and Nutrition Plan 2023-2033, 2022).","Alaska does not have a dedicated obesity policy, strategy or plan in place.","Arizona's outdated state-level plan for reducing obesity prevalence acknowledged weight bias and stigmatisation but did not include any measures to combat it (Arizona Department of Health Services, Action Plan for Improving Arizonans Well-being Through Healthy Eating and Active Living 2014-2017).","Arkansas' outdated state-level plan for reducing obesity prevalence did not mention obesity-related stigma or discrimination (Arkansas Chronic Disease Coordinating Council, Healthy People 2020: Arkansas’s Chronic Disease Framework for Action, 2013).","California's outdated state-level plans for reducing obesity prevalence did not mention obesity-related stigma or discrimination (California Department of Public Health, California Wellness Plan, 2014; California Department of Health Services, California Obesity Prevention Plan: A Vision for Tomorrow, Strategic Actions for Today, 2006).","Colorado's state-level plan for obesity prevention and reduction - the Chronic Disease State Plan 2022-2030 - acknowledges obesity-related stigma and discrimination, but it does not outline specific measures, actions or implementation strategies to combat it (Colorado Department of Public Health and Environment, Chronic Disease State Plan 2022-2030, 2022).","Connecticut does not have a dedicated obesity policy, strategy or plan in place.","Delaware's outdated obesity-related plan - the Physical Activity, Nutrition and Obesity Prevention Comprehensive Plan 2010-2014 - did not include measures to combat obesity-related stigma and discrimination (Delaware Division of Public Health, Physical Activity, Nutrition & Obesity Prevention Comprehensive Plan 2010-2014, 2010).","Florida does not have a dedicated obesity policy, strategy or plan in place. Further, Florida's state-level programme for reducing the prevalence of obesity - Healthiest Weight Florida - does not mention obesity-related stigma and discrimination (Florida Department of Health, Healthiest Weight Florida).","Georgia does not have a dedicated obesity policy, strategy or plan in place.","Hawaii's state-level plan for reducing obesity prevalence - the Hawai‘i Physical Activity and Nutrition Plan 2030 - does not mention obesity-related stigma or discrimination (Hawai‘i State Department of Health, Hawai‘i Physical Activity and Nutrition Plan 2030, 2021).","Idaho does not have a dedicated obesity policy, strategy or plan in place.","Illinois does not have a dedicated obesity policy, strategy or plan in place, despite Illinois' state-level health policy defining measures to combat obesity-related stigma under its Chronic Diseases Pillar (Illinois Department of Public Health, Healthy Illinois 2028, 2023).","The outdated Indiana Comprehensive Nutrition and Physical Activity Plan 2010-2020 did not address obesity-related stigma and discrimination (Indiana Department of Health, Indiana Comprehensive Nutrition and Physical Activity Plan, 2010).","Iowa's outdated Obesity Statewide Strategic Plan (which expired in 2019) aimed to promote positive language in education for risk factors associated with overweight and obesity and to reduce weight-based stigma, but it did not set any defined actions or implementation strategies to achieve this (Iowa Department of Public Health, Obesity Statewide Strategic Plan, 2016).","Kansas does not have a dedicated obesity policy, strategy or plan in place.","Kentucky's outdated state-level plan for reducing obesity prevalence - Unbridled Health: A Plan for Coordinated Chronic Disease Prevention and Health Promotion 2012-2016 - did not mention obesity-related stigma or discrimination (Kentucky Department for Public Health, Unbridled Health: A Plan for Coordinated Chronic Disease Prevention and Health Promotion 2012-2016, 2013).","Louisiana does not have a dedicated obesity policy, strategy or plan in place.","Maine's state-level action plan to reduce the prevalence of obesity - Preventing and Reducing Obesity in Maine: A Call to Action - does not contain measures to combat obesity-related stigma and discrimination (Maine Obesity Advisory Council, Preventing and Reducing Obesity in Maine: A Call to Action, 2022).","Maryland's outdated Nutrition and Physical Activity Plan (which expired in 2016) mentioned the social stigma faced by people living with obesity but it did not outline any actions to tackle weight-related stigma (Maryland Department of Health, Maryland Nutrition and Physical Activity Plan, 2006).","Massachusetts does not have a dedicated obesity policy, strategy or plan in place.","The Michigan Nutrition, Physical Activity and Obesity (NPAO) Program does not include any measures to address obesity-related stigma and discrimination (Michigan Department of Health and Human Services, Michigan Nutrition, Physical Activity, and Obesity Program).","The outdated Minnesota Plan to Reduce Obesity and Obesity-Related Chronic Diseases (2008-2013) did not make reference to obesity-related stigma and discrimination (Minnesota Department of Health, Plan to Reduce Obesity and Obesity-Related Chronic Diseases between 2008-2013, 2008).","Mississippi's state-level action plan for reducing obesity prevalence - the Mississippi Obesity Action Plan - aims to reduce obesity-related stigma, but it does not outline specific measures, actions or implementation strategies to do so. Additionally, there is no evidence as to whether the plan is still valid as of February 2025 (Mississippi State Department of Health, Mississippi Obesity Action Plan, 2018).","Missouri does not have a dedicated obesity policy, strategy or plan in place.","Montana does not have a dedicated obesity policy, strategy or plan in place.","The outdated Nebraska Physical Activity and Nutrition State Plan 2011–2016 (which expired in 2016) did not contain any measures to address obesity-related stigma or discrimination (Nebraska Department of Health and Human Services, Division of Public Health, Nebraska Physical Activity and Nutrition State Plan 2011- 2016, 2011).","Nevada's outdated Strategic Plan for the Prevention of Obesity in Nevada (2006) did not contain any measures to address obesity-related stigma or discrimination. However, Nevada's plan focused on childhood obesity - the Early Childhood Obesity Prevention State Plan 2021-2026 - sets out a specific strategy with actionable objectives to address obesity-related stigma (Nevada State Health Division, Strategic Plan for the Prevention of Obesity in Nevada, 2006; Nevada Division of Public and Behavioral Health, Nevada Early Childhood Obesity Prevention State Plan 2021-2026, 2021).","New Hampshire does not have a dedicated obesity policy, strategy or plan in place.","New Jersey's outdated State Obesity Prevention Plan did not address obesity-related stigma and discrimination (The Office of Nutrition and Fitness, New Jersey State Obesity Prevention Plan, 2013).","New Mexico does not have a dedicated obesity policy, strategy or plan in place.","The outdated Prevention Agenda 2019-2024: Prevent Chronic Diseases Action Plan (New York State's obesity-focused strategy) did not contain measures to address obesity-related stigma and discrimination (New York State Department of Health, Prevention Agenda 2019-2024: Prevent Chronic Diseases Action Plan, 2019).","\"North Carolina’s Plan to Address Overweight and Obesity: Balance how we eat, drink, and move\" presents one measure to tackle obesity-related stigma and discrimination. However, the plan is not implemented or led by the state government (Eat Smart, Move More North Carolina, North Carolina’s Plan to Address Overweight and Obesity: Balance how we eat, drink, and move, 2019).","North Dakota does not have a dedicated obesity policy, strategy or plan in place.","Ohio's outdated Obesity Prevention Plan (which expired in 2014) did not contain any measures to tackle obesity-related stigma and discrimination (Ohio Department of Health, Ohio Obesity Prevention Plan, 2009).","Oklahoma's state-level strategic plan for reducing the prevalence of obesity - Health for a Lifetime: State of Oklahoma Obesity Prevention Plan - contains measures to combat obesity-related stigma and discrimination, including a range of well-defined strategies with clear targets (Oklahoma State Department of Health, Health for a Lifetime: State of Oklahoma Obesity Prevention Plan, 2022).","Oregon's state-level strategic plan for reducing the prevalence of obesity - the Health Promotion and Chronic Disease Prevention Strategic Plan 2017-2025 - acknowledges the existence of obesity-related stigma and discrimination, but it does not outline specific measures, actions or implementation strategies to combat it (Oregon Health Authority, Health Promotion and Chronic Disease Prevention Strategic Plan 2017-2025, 2019).","Pennsylvania does not have a dedicated obesity policy, strategy or plan in place.","The 2023-2028 Rhode Island Healthy Eating and Active Living Strategic Plan mentions the stigma associated with nutrition and physical activity programmes - particularly food assistance programmes - but it does not discuss weight-related stigma or discrimination (State of Rhode Island Department of Health, 2023-2028 Rhode Island Healthy Eating and Active Living Strategic Plan, 2023).","South Carolina does not have a dedicated obesity policy, strategy or plan in place.","The outdated South Dakota State Plan for Nutrition and Physical Activity to Prevent Obesity and Other Chronic Diseases 2015-2020 (which expired in 2020) did not contain measures to combat obesity-related stigma and discrimination (South Dakota Department of Health, South Dakota State Plan for Nutrition and Physical Activity to Prevent Obesity and Other Chronic Diseases 2015-2020, 2015).","Tennessee's outdated state-level plan for reducing obesity prevalence - the Tennessee Statewide Nutrition and Physical Activity Plan: A comprehensive plan to reduce obesity and chronic disease in Tennessee 2010-2015 - did not mention obesity-related stigma or discrimination (Tennessee Department of Health, Tennessee Statewide Nutrition and Physical Activity Plan: A comprehensive plan to reduce obesity and chronic disease in Tennessee 2010-2015, 2010).","Texas' state-level strategy for reducing obesity prevalence - the Obesity Prevention Priority Strategies - does not contain measures to combat obesity-related stigma or discrimination (Texas Health and Human Services, Obesity Prevention Priority Strategies, 2023).","The Utah Healthy Environments Active Living Program 2021-2026 Strategic Plan does not make reference to weight-related stigma and discrimination (Utah Department of Health, Healthy Environments Active Living Program 2021-2026 Strategic Plan, 2021).","Vermont does not have a dedicated obesity policy, strategy or plan in place.","Virginia does not have a dedicated obesity policy, strategy or plan in place.","Washington's outdated state-level strategic plan for reducing obesity prevalence - the Washington State Plan for Healthy Communities - did not mention obesity-related stigma or discrimination (Washington State Department of Health, Washington State Plan for Healthy Communities, 2014).","West Virginia's outdated state-level obesity plan - Addressing Obesity and Related Chronic Diseases: A Strategic Plan to Combat Obesity and Related Chronic Diseases in West Virginia - did not include any measures to tackle obesity-related stigma and discrimination (West Virginia Division of Health Promotion and Chronic Disease, Addressing Obesity and Related Chronic Diseases: A Strategic Plan to Combat Obesity and Related Chronic Diseases in West Virginia, 2016).","Wisconsin's Physical Activity and Nutrition Road Map does not mention obesity-related stigma and discrimination (Wisconsin Department of Health Services, Wisconsin's Physical Activity and Nutrition Road Map, 2022).","Wyoming does not have a dedicated obesity policy, strategy or plan in place."]
[null,1012,"1.1.4","Obesity-related funding",null,null,"There is no evidence that Alabama has allocated a dedicated budget or funding for the implementation of the Alabama Physical Activity and Nutrition Plan (ALPAN) 2023-2033, its state-level plan for reducing the prevalence of obesity (Alabama Wellness Alliance, Alabama Physical Activity and Nutrition Plan 2023-2033, 2022).","Alaska does not have a dedicated obesity policy, strategy or plan in place.","There is no evidence that Arizona had allocated a dedicated budget or funding for the implementation of its outdated state-level plan for reducing the prevalence of obesity (Arizona Department of Health Services, Action Plan for Improving Arizonans Well-being Through Healthy Eating and Active Living 2014-2017).","Arkansas' outdated state-level plan for reducing obesity prevalence was funded by federal grants, the Centers for Disease Control and Prevention, and private donors (Arkansas Chronic Disease Coordinating Council, Healthy People 2020: Arkansas’s Chronic Disease Framework for Action, 2013).","California had allocated a dedicated budget for the implementation of the outdated California Obesity Prevention Plan: A Vision for Tomorrow, Strategic Actions for Today (California Department of Public Health, California Obesity Prevention Plan: A Vision for Tomorrow, Strategic Actions for Today, 2006).","In 2023, the Colorado Department of Public Health and Environment (CDPHE) received a $4.4m grant from the Centers for Disease Control and Prevention to support, among other initiatives, the implementation of the Chronic Disease State Plan 2022-2030 - Colorado's state-level plan for obesity prevention and reduction (Colorado Department of Public Health and Environment, CDC grant to provide $4.4 million to improve physical activity and nutrition in Colorado, 10 October 2023).","Connecticut does not have a dedicated obesity policy, strategy or plan in place.","There is no evidence that there was a budget in place for the implementation of Delaware's outdated obesity-related plan - the Physical Activity, Nutrition and Obesity Prevention Comprehensive Plan 2010-2014 (Delaware Division of Public Health, Physical Activity, Nutrition & Obesity Prevention Comprehensive Plan 2010-2014, 2010).","Florida does not have a dedicated obesity policy, strategy or plan in place. Further, there is no evidence that Florida has allocated a dedicated budget for the implementation of its state-level programme for reducing the prevalence of obesity - Healthiest Weight Florida (Florida Department of Health, Healthiest Weight Florida).","Georgia does not have a dedicated obesity policy, strategy or plan in place.","There is no evidence that Hawaii has allocated a dedicated budget for the implementation of the Hawai‘i Physical Activity and Nutrition Plan 2030, its state-level strategic plan for reducing the prevalence of obesity (Hawai‘i State Department of Health, Hawai‘i Physical Activity and Nutrition Plan 2030, 2021).","Idaho does not have a dedicated obesity policy, strategy or plan in place.","Illinois does not have a dedicated obesity policy, strategy or plan in place.","There is no evidence that Indiana allocated a dedicated budget or funding for the implementation of the outdated Indiana Comprehensive Nutrition and Physical Activity Plan 2010-2020 (Indiana Department of Health, Indiana Comprehensive Nutrition and Physical Activity Plan, 2010).","While Iowa's legislative budget allocates funds for childhood obesity prevention through the \"5-2-1-0 Healthy Choices Count\" initiative, there is no evidence that there was a dedicated budget or funding allocated for the implementation of the outdated Obesity Statewide Strategic Plan (which expired in 2019) (Iowa Department of Public Health, Obesity Statewide Strategic Plan, 2016).","Kansas does not have a dedicated obesity policy, strategy or plan in place.","There is no evidence that Kentucky allocated a dedicated budget or funding for the implementation of its outdated state-level strategic plan for reducing obesity prevalence - Unbridled Health: A Plan for Coordinated Chronic Disease Prevention and Health Promotion 2012-2016 (Kentucky Department for Public Health, Unbridled Health: A Plan for Coordinated Chronic Disease Prevention and Health Promotion 2012-2016, 2013).","Louisiana does not have a dedicated obesity policy, strategy or plan in place.","There is no evidence of a dedicated budget or funding in place for the implementation of Maine's state-level action plan to reduce the prevalence of obesity in the state - Preventing and Reducing Obesity in Maine: A Call to Action (Maine Obesity Advisory Council, Preventing and Reducing Obesity in Maine: A Call to Action, 2022).","There is no evidence that there was a dedicated budget or funding in place for the implementation of Maryland's outdated Nutrition and Physical Activity Plan, which expired in 2016 (Maryland Department of Health, Maryland Nutrition and Physical Activity Plan, 2006).","Massachusetts does not have a dedicated obesity policy, strategy or plan in place. However, the state allocates funding for the implementation of general state-level obesity-related policies and strategies under \"School-Based Health Programs\" within the Department of Health's budget summary (Massachusetts Government, Budget Summary - Department of Public Health, 2025).","There is no evidence of a dedicated budget or funding allocated to the implementation of the Michigan Nutrition, Physical Activity and Obesity (NPAO) Program (Michigan Department of Health and Human Services, Michigan Nutrition, Physical Activity, and Obesity Program).","There is no evidence that there was a specific budget or funding allocated for the implementation of the outdated Minnesota Plan to Reduce Obesity and Obesity-Related Chronic Diseases (2008-2013) (Minnesota Department of Health, Plan to Reduce Obesity and Obesity-Related Chronic Diseases between 2008-2013, 2008).","There is no evidence that Mississippi allocated a dedicated budget or funding for the implementation of the 2018 Mississippi Obesity Action Plan, its state-level action plan for reducing the prevalence of obesity (Mississippi State Department of Health, Mississippi Obesity Action Plan, 2018).","Missouri does not have a dedicated obesity policy, strategy or plan in place.","Montana does not have a dedicated obesity policy, strategy or plan in place.","There is no evidence that Nebraska had a budget in place for the implementation of the outdated Nebraska Physical Activity and Nutrition State Plan 2011–2016 (which expired in 2016) (Nebraska Department of Health and Human Services, Division of Public Health, Nebraska Physical Activity and Nutrition State Plan, 2011- 2016, 2011).","There is no evidence of a budget or funding in place for the implementation of the Early Childhood Obesity Prevention State Plan 2021-2026 or the outdated Strategic Plan for the Prevention of Obesity in Nevada (Nevada Division of Public and Behavioral Health, Nevada Early Childhood Obesity Prevention State Plan 2021-2026, 2021; Nevada State Health Division, Strategic Plan for the Prevention of Obesity in Nevada, 2006).","New Hampshire does not have a dedicated obesity policy, strategy or plan in place.","There is no evidence that there was a specific budget in place for the implementation of New Jersey's outdated State Obesity Prevention Plan. Nonetheless, the plan mentioned that stimulus funding was used to fund three health initiatives (The Office of Nutrition and Fitness, New Jersey State Obesity Prevention Plan, 2013).","New Mexico does not have a dedicated obesity policy, strategy or plan in place.","There is no evidence that there was a budget or dedicated funding in place for the implementation of the outdated Prevention Agenda 2019-2024: Prevent Chronic Diseases Action Plan (New York State Department of Health, Prevention Agenda 2019-2024: Prevent Chronic Diseases Action Plan, 2019).","There is no evidence that there is a government budget or funding in place for the implementation of \"North Carolina’s Plan to Address Overweight and Obesity: Balance how we eat, drink, and move\", which was developed by a statewide initiative comprising \"individuals across various sectors who work or volunteer in education, healthcare, business, media, community organizations and more\" (Eat Smart, Move More North Carolina, North Carolina’s Plan to Address Overweight and Obesity: Balance how we eat, drink, and move, 2019).","North Dakota does not have a dedicated obesity policy, strategy or plan in place.","There is no evidence that there was a dedicated budget or funding in place for the implementation of Ohio's outdated Obesity Prevention Plan, which expired in 2014 (Ohio Department of Health, Ohio Obesity Prevention Plan, 2009).","There is no evidence that Oklahoma has allocated a dedicated budget for the implementation of its state-level strategic plan for reducing the prevalence of obesity - Health for a Lifetime: State of Oklahoma Obesity Prevention Plan (Oklahoma State Department of Health, Health for a Lifetime: State of Oklahoma Obesity Prevention Plan, 2022).","There is no evidence that Oregon has allocated a dedicated budget or funding for the implementation of the Health Promotion and Chronic Disease Prevention Strategic Plan 2017-2025, its state-level strategic plan for reducing the prevalence of obesity (Oregon Health Authority, Health Promotion and Chronic Disease Prevention Strategic Plan 2017-2025, 2019).","Pennsylvania does not have a dedicated obesity policy, strategy or plan in place.","There is no evidence that Rhode Island has allocated a dedicated budget or funding for the implementation of the 2023-2028 Rhode Island Healthy Eating and Active Living Strategic Plan (State of Rhode Island Department of Health, 2023-2028 Rhode Island Healthy Eating and Active Living Strategic Plan, 2023).","South Carolina does not have a dedicated obesity policy, strategy or plan in place.","There is no evidence that there was a dedicated budget or funding allocated for the implementation of the outdated South Dakota State Plan for Nutrition and Physical Activity to Prevent Obesity and Other Chronic Diseases 2015-2020 (South Dakota Department of Health, South Dakota State Plan for Nutrition and Physical Activity to Prevent Obesity and Other Chronic Diseases 2015-2020, 2015).","Tennessee's outdated state-level plan for reducing obesity prevalence - the Tennessee Statewide Nutrition and Physical Activity Plan: A comprehensive plan to reduce obesity and chronic disease in Tennessee 2010-2015 - was funded by the Tennessee Department of Health (Tennessee Department of Health, Tennessee Statewide Nutrition and Physical Activity Plan: A comprehensive plan to reduce obesity and chronic disease in Tennessee 2010-2015, 2010).","Texas' Obesity Prevention Priority Strategies - the state's strategy for reducing obesity prevalence - falls under the remit of the Obesity Prevention Program, which receives direct funding via Texas Department of State Health Services Chronic Disease grants (Texas Health and Human Services, Obesity Prevention Priority Strategies, 2023; Texas Health and Human Services, Chronic Disease Grants).","There is no evidence of a dedicated budget or funding for the implementation of the Healthy Environments Active Living Program 2021-2026 Strategic Plan (Utah Department of Health, Healthy Environments Active Living Program 2021-2026 Strategic Plan, 2021).","Vermont does not have a dedicated obesity policy, strategy or plan in place.","Virginia does not have a dedicated obesity policy, strategy or plan in place.","There is no evidence that Washington state allocated a dedicated budget or funding for the implementation of the outdated 2014 Washington State Plan for Healthy Communities, its state-level strategic plan for reducing the prevalence of obesity (Washington State Department of Health, Washington State Plan for Healthy Communities, 2014).","There is no evidence that there was a dedicated budget or funding in place for the implementation of West Virginia's outdated obesity plan - Addressing Obesity and Related Chronic Diseases: A Strategic Plan to Combat Obesity and Related Chronic Diseases in West Virginia (West Virginia Division of Health Promotion and Chronic Disease, Addressing Obesity and Related Chronic Diseases: A Strategic Plan to Combat Obesity and Related Chronic Diseases in West Virginia, 2016; West Virginia Department of Health, WV Healthy Lifestyles Annual Legislative Report, 2022).","There is no evidence of a budget allocated for the implementation of Wisconsin's Physical Activity and Nutrition Road Map (Wisconsin Department of Health Services, Wisconsin's Physical Activity and Nutrition Road Map, 2022).","Wyoming does not have a dedicated obesity policy, strategy or plan in place."]
[null,1013,"1.1.5","Weight-related discrimination",null,null,"Alabama does not have a state-level law that prohibits weight-based discrimination or classifies weight as a protected characteristic.","Alaska state law prohibits discrimination on the basis of a number of protected characteristics; however, weight is not included in the list (Alaska Legislature, Alaska Statutes Sec. 18.80.210)","Arizona state law prohibits discrimination on the basis of a number of protected characteristics; however, weight is not included in the list (Arizona Legislature, Arizona Revised Statutes § 41-1463, 1491.14).","Arkansas state law prohibits discrimination on the basis of a number of protected characteristics; however, weight is not included in the list (Arkansas Legislature, A.C.A. § 16-123-107).","California state law prohibits discrimination on the basis of a number of protected characteristics; however, weight is not included in the list (California Legislature, California Government Code § 12955; California State Senate, Protected Classes).","Colorado state law prohibits discrimination on the basis of a number of protected characteristics; however, weight is not included in the list (Colorado Legislature, Colo. Rev. Stat. § 24-34-402, 502).","Connecticut state law prohibits discrimination on the basis of a number of protected characteristics; however, weight is not included in the list (Connecticut Legislature, Connecticut Constitution Art. 1, § 20. Equal protection)","Delaware does not have a state-level law that prohibits weight-related discrimination or includes weight as a protected characteristic.","The Florida Civil Rights Act (Chapter 760) prohibits discrimination on the basis of a number of protected characteristics; however, weight is not included in the list (Florida Legislature, Florida Statutes § 760.01).","Georgia state law prohibits discrimination on the basis of a number of protected characteristics; however, weight is not included in the list (Georgia Legislature, GA Code § 45-19-21).","Hawaii state law prohibits discrimination on the basis of a number of protected characteristics; however, weight is not included in the list (Hawaii Legislature, HI Rev Stat § 378-2).","Idaho state law prohibits discrimination on the basis of a number of protected characteristics; however, weight is not included in the list (Idaho Legislature, Idaho Code Section 67-5909)","Illinois state law prohibits discrimination on the basis of a number of protected characteristics; however, weight is not included in the list (Illinois General Assembly, Illinois Consolidated Statutes, 775 ILCS 5/, Human Rights Act)","Indiana state law prohibits discrimination on the basis of a number of protected characteristics; however, weight is not included in the list (Indiana Legislature, Indiana Code Section 22-9-1: Civil Rights Law).","Iowa state law prohibits discrimination on the basis of a number of protected characteristics; however, weight is not included in the list (Iowa Legislature, Iowa Code 2025, Section 216.6A)","Kansas state law prohibits discrimination on the basis of a number of protected characteristics; however, weight is not included in the list (Kansas Legislature, KSA 44-1001)","Kentucky state law prohibits discrimination on the basis of a number of protected characteristics; however, weight is not included in the list (Kentucky Legislature, KRS Chapter 344 - Kentucky Civil Rights Act).","Louisiana state law prohibits discrimination on the basis of a number of protected characteristics; however, weight is not included in the list (Louisiana Legislature, LA Rev Stat § 232:332; Louisiana Commission on Human Rights).","Maine state law prohibits discrimination on the basis of a number of protected characteristics; however, weight is not included in the list (Maine Legislature, Title 5, Chapter 337: Human Rights Act)","Maryland's state anti-discrimination laws do not prohibit weight-based discrimination or classify weight as a protected characteristic.","Massachusetts does not currently have an anti-discrimination law that prohibits weight-based discrimination or classifies weight as a protected characteristic. However, legislative efforts turned to address the issue by introducing an act in 2023 that is currently under consideration, to prohibit body size discrimination (The General Court of the Commonwealth of Massachusetts, Bill S.1108 An Act prohibiting body size discrimination)","Michigan's Elliott-Larsen Civil Rights Act explicitly prohibits discrimination based on weight (Michigan Compiled Laws, Section 37.2202, 1977).","Minnesota state law prohibits discrimination on the basis of a number of protected characteristics; however, weight is not included in the list (Minnesota Legislature, Minn. Stat. 363A.08)","Mississippi does not have a state anti-discrimination statute. In housing, discrimination on the basis of race, religious principles, color, sex, national origin, ancestry or handicap is prohibited; however, weight is not included in the list of characteristics (Mississippi Legislature, MS Code § 43-33-723).","Missouri state law prohibits discrimination on the basis of a number of protected characteristics; however, weight is not included in the list (Missouri Legislature, RSMo Section 213.010).","Montana state law prohibits discrimination on the basis of a number of protected characteristics; however, weight is not included in the list (Montana Legislature, Montana Statutes, MCA 49-1-102).","Nebraska state law prohibits discrimination on the basis of a number of protected characteristics; however, weight is not included in the list (Nebraska Legislature, Nebraska Constitution I-30; Nebraska Legislature, Nebraska Revised Statute 20-139; Nebraska Legislature, Nebraska Revised Statute 48-1101).","Nevada state law prohibits discrimination on the basis of a number of protected characteristics; however, weight is not included in the list (Nevada Legislature, NRS 207.300).","New Hampshire state law prohibits discrimination on the basis of a number of protected characteristics; however, weight is not included in the list (New Hampshire Legislature, 2024 New Hampshire Revised Statutes, Section 354-A:7 - Unlawful Discriminatory Practices)","New Jersey does not have a state-level law that includes weight as a protected characteristic or prohibits weight-related discrimination.","New Mexico state law prohibits discrimination on the basis of a number of protected characteristics; however, weight is not included in the list (New Mexico Legislature, NM Stat § 28-1-7).","The State of New York does not have a law in place that explicitly prohibits weight-based discrimination or classifies weight as a protected characteristic. However, at the municipal level, New York City has enacted legislation that addresses this issue (The Official Website of the City of New York, Mayor Adams Signs Legislation To Prohibit Height Or Weight Discrimination In Employment, Housing And Public Accommodations, 2023)","North Carolina state law prohibits discrimination on the basis of a number of protected characteristics; however, weight is not included in the list (North Carolina General Assembly, NC General Statutes - Chapter 143 Article 49A)","North Dakota state law prohibits discrimination on the basis of a number of protected characteristics; however, weight is not included in the list (North Dakota Legislature, North Dakota Century Code 14-02.4).","Ohio state law prohibits discrimination on the basis of a number of protected characteristics; however, weight is not included in the list (Ohio Legislature, OH Rev Code § 4112.02 (2024)).","Oklahoma state law prohibits discrimination on the basis of a number of protected characteristics; however, weight is not included in the list (Oklahoma Legislature, 25 OK Stat §§ 1350, 1402, 1452).","Oregon state law prohibits discrimination on the basis of a number of protected characteristics; however, weight is not included in the list (Oregon Legislature, ORS Chapter 659A).","In Pennsylvania, weight is recognised as a protected characteristic only at the county level, not statewide (Pennsylvania Human Relations Commission, Employment Discrimination; County of Lehigh Pennsylvania, Commissioners Bill 2024-03, 2024)","Rhode Island does not have a state-level law that protects against weight-based discrimination or classifies weight as a protected characteristic (State of Rhode Island Department of Labor and Training, Fair Employment Practices, 2025).","South Carolina state law prohibits discrimination on the basis of a number of protected characteristics; however, weight is not included in the list (South Carolina Legislature, South Carolina Human Affairs Law)","South Dakota state law prohibits discrimination on the basis of a number of protected characteristics; however, weight is not included in the list (South Dakota Legislature, S.D. Codified Laws Section 20-13-10)","Tennessee state law prohibits discrimination on the basis of a number of protected characteristics; however, weight is not included in the list (Tennessee Legislature, TN Code § 4-21-101, 401).","Texas state law prohibits discrimination on the basis of a number of protected characteristics; however, weight is not included in the list (Texas Legislature, Texas Labor Code § 21.051; Texas Legislature, Texas Property Code § 301.021).","Utah state law prohibits discrimination on the basis of a number of protected characteristics; however, weight is not included in the list (Utah Legislature, Utah Code Ann. 13-7-1)","Vermont state law prohibits discrimination on the basis of a number of protected characteristics; however, weight is not included in the list (Vermont Legislature, 21 V.S.A. § 495 - Fair Employment Practice Act)","Virginia state law prohibits discrimination on the basis of a number of protected characteristics; however, weight is not included in the list (Virginia Legislature, VA Code Ann. § 2.2-3900-3902)","Washington state law prohibits discrimination on the basis of disability status (Washington Legislature, RCW 49.60). In 2019, the Washington Supreme Court ruled that obesity qualifies as a protected impairment under this statute (Taylor v. Burlington N. R.R. Holdings, Inc., 2019).","West Virginia state law prohibits discrimination on the basis of a number of protected characteristics; however, weight is not included in the list (West Virginia Human Rights Commission, West Virginia Human Rights Act)","Wisconsin state law prohibits discrimination on the basis of a number of protected characteristics; however, weight is not included in the list (Wisconsin Legislature, Wisconsin Code §106.50 - Open Housing Law; Wisconsin Legislature, Wisconsin Code §106.52 - Public Accommodations and Amusements; Wisconsin Legislature, Wisconsin Code §118.13 - Pupil Discrimination Prohibited; Wisconsin Legislature, Wisconsin Code 109 - Wage Payments, Claims and Collections; Wisconsin Legislature, Wisconsin Code §111.34 - Disability; Exceptions and Special Cases; Wisconsin Legislature, Wisconsin Code §103.10 - Family and Medical Leave; Wisconsin Legislature, Wisconsin Code §111.335 - Arrest or Conviction Record, Exceptions and Special Cases; Wisconsin Legislature, Wisconsin Code §111.35 - Use or Nonuse of Lawful Products)","Wyoming state law prohibits discrimination on the basis of a number of protected characteristics; however, weight is not included in the list (Wyoming Legislature, Wyoming Statutes §§ 6-9-102, 27-9-105)."]
[null,1014,1.2,"Availability and affordability of obesity-related care"]
[null,1015,"1.2.1","Obesity treatment coverage",null,null,"In Alabama, Medicaid covers bariatric surgery and intensive behavioural therapy with limitations (Alabama Medicaid, Frequently Asked Questions - Medicaid Benefits; STOP Obesity Alliance, Medicaid Obesity Coverage State Snapshot: Alabama, 2024).","In Alaska, Medicaid fully covers metabolic and bariatric surgery as a treatment modality for obesity, as well as intensive behavioural therapy with limitations (STOP Obesity Alliance, Medicaid Obesity Coverage State Snapshot: Alaska, 2024; American Society for Metabolic and Bariatric Surgery, Medicaid Coverage of Bariatric Surgery, 2023).","In Arizona, Medicaid fully covers nutritional counselling and metabolic and bariatric surgery as treatment modalities for obesity, as well as intensive behavioural therapy with limitations (STOP Obesity Alliance, Medicaid Obesity Coverage State Snapshot: Arizona, 2024).","In Arkansas, Medicaid covers metabolic and bariatric surgery (with restrictions/limitations) and intensive behavioural therapy (with limitations) as treatment modalities for obesity (STOP Obesity Alliance, Medicaid Obesity Coverage State Snapshot: Arkansas, 2024).","In California, Medicaid (called Medi-Cal) covers various anti-obesity medications, bariatric surgery, nutrition counselling and intensive behavioural therapy as treatment modalities for obesity (California Department of Health Care Services, Medi-Cal Rx Contract Drugs List - Therapeutic Classifications, 2025; California Department of Health Care Services, Essential Health Benefits; STOP Obesity Alliance, Medicaid Obesity Coverage State Snapshot: California, 2024).","In Colorado, Medicaid (called Health First Colorado) covers metabolic and bariatric surgery (with limitations/restrictions), nutritional counseling and intensive behaviour therapy as treatment modalities for obesity (Health First Colorado, Health First Colorado Benefits & Services: Preventive and Wellness Services; STOP Obesity Alliance, Medicaid Obesity Coverage State Snapshot: Colorado, 2024).","In Connecticut, Medicaid covers obesity medication, intensive behavioural therapy (with limitations), and metabolic and bariatric surgery (with restrictions/limitations) as treatment modalities for obesity (Stop Obesity Alliance, Medicaid Obesity Coverage State Snapshot - Connecticut, 2024).","In Delaware, Medicaid fully covers nutrition counselling and intensive behavioural therapy, as well as metabolic and bariatric surgery (with restrictions) and obesity medication (with limitations/restrictions), as treatment modalities for obesity (Stop Obesity Alliance, Medicaid Obesity Coverage State Snapshot: Delaware, 2024).","In Florida, Medicaid covers bariatric surgery as a treatment modality for obesity, and may cover behavioral therapy and obesity medication (Florida Agency for Health Care Administration, Gastrointestinal Services; Florida Agency for Health Care Administration, Florida Medicaid Preferred Drug List, 2025; STOP Obesity Alliance, Medicaid Obesity Coverage State Snapshot: Florida, 2024).","In Georgia, Medicaid covers metabolic and bariatric surgery (with restrictions) and intensive behavioural therapy (with limitations) as treatment modalities for obesity (CareSource, Medical Policy Statement: Georgia Medicaid, 2024; STOP Obesity Alliance, Medicaid Obesity Coverage State Snapshot: Georgia, 2024).","In Hawaii, Medicaid fully covers obesity medication and intensive behavioural therapy, as well as bariatric surgery (with restrictions), as treatment modalities for obesity (State of Hawai'i Department of Human Services MedQuest Division, Prior Authorization (PA) Drugs and Categories, 2009; United Healthcare, Prior authorization requirements for Hawaii Medicaid, 2024; STOP Obesity Alliance, Medicaid Obesity Coverage State Snapshot: Hawaii, 2024).","In Idaho, Medicaid covers various weight loss surgeries (with limitations/restrictions), nutritional services, and intensive behavioural therapy as treatment modalities for obesity (Idaho Legislature, Idaho Admin. Rules Section 16.03.09; STOP Obesity Alliance, Medicaid Obesity Coverage State Snapshot: Idaho, 2024).","In Illinois, Medicaid covers bariatric surgery for eligible individuals who meet specific criteria as well as intensive behavioural therapy (with limitations) as treatment modalities for obesity (Illinois Department of Health Care and Family Services, Handbook for Practitioners Rendering Medical Services, 2021; STOP Obesity Alliance, Medicaid Obesity Coverage State Snapshot: Illinois, 2024).","In Indiana, Medicaid covers nutrition counselling, intensive behavioural therapy (with limitations), and metabolic and bariatric surgery (with limitations/restrictions) as treatment modalities for obesity (Indiana Legislature, Indiana Administrative Code 405 IAC 5-3-13; STOP Obesity Alliance, Medicaid Obesity Coverage State Snapshot: Indiana, 2024)","Medicaid in Iowa covers meal and nutritional counseling - including 1-on-1 sessions with registered dietitians, medical nutrition therapy, and nutritional assessments by registered nurses; intensive behavioural therapy; and metabolic and bariatric surgery for eligible members who meet specific criteria (Iowa Department of Health and Human Services, All Providers: General Program Policies; STOP Obesity Alliance, Medicaid Obesity Coverage State Snapshot: Iowa, 2024).","In Kansas, Medicaid covers dietitian services, certain weight loss medications (with limitations/restrictions), bariatric surgery (with limitations/restrictions), and intensive behavioural therapy (with limitations) as treatment modalities for obesity (Kansas Department of Health and Environment, Provider Manual: Dietitian, 2023; Provider Manual: General Benefits, 2024; Provider Manual: Hospital, 2025; STOP Obesity Alliance, Medicaid Obesity Coverage State Snapshot: Kansas, 2024).","In Kentucky, Medicaid covers surgical obesity treatments, including bariatric and gastric band surgeries, as well as annual obesity screening and therapy to promote sustained weight loss (CareSource, Kentucky Medicaid Benefits). Additionally, it covers nutrition counselling and intensive behavioural therapy (with limitations) (STOP Obesity Alliance, Medicaid Obesity Coverage State Snapshot: Kentucky, 2024)","In Louisiana, Medicaid covers bariatric surgery and intensive behavioural therapy with limitations/restrictions as treatment modalities for obesity (Aetna Better Health of Louisiana, Aetna Medicaid Administrators (AMA) 7100.71 Bariatric Surgery and Panniculectomy, 2024; STOP Obesity Alliance, Medicaid Obesity Coverage State Snapshot: Louisiana, 2024).","In Maine, Medicaid (called MaineCare) covers nutrition counselling, intensive behavioural therapy (with limitations), and metabolic and bariatric surgery (with restrictions) as treatment modalities for obesity (Stop Obesity Alliance, Medicaid Obesity Coverage State Snapshot: Maine, 2024)","In Maryland, Medicaid covers nutrition counselling, intensive behavioural therapy (with limitations), metabolic and bariatric surgery (with limitations/restrictions), and obesity medication (for people with pre-existing conditions, genetic disorders, or living with Type 2 diabetes) as treatment modalities for obesity (STOP Obesity Alliance, Medicaid Obesity Coverage State Snapshot: Maryland, 2024; Maryland General Assembly, Maryland Medical Assistance Program - Coverage for the Treatment of Obesity - Required Study, 2024).","In Massachusetts, Medicaid (called MassHealth) covers nutrition counselling, obesity medications, intensive behavioural therapy (with limitations), and metabolic and bariatric surgery (with limitations/restrictions) as treatment modalities for obesity (Stop Obesity Alliance, Medicaid Obesity Coverage State Snapshot: Massachusetts, 2024)","In Michigan, Medicaid covers bariatric surgery (with limitations/restrictions), obesity medications (with limitations), intensive behavioural therapy (with limitations), physician office visits and laboratory testing (Michigan Department of Health and Human Services, Medicaid Provider Manual, 2025; STOP Obesity Alliance, Medicaid Obesity Coverage State Snapshot: Michigan, 2024).","In Minnesota, Medicaid covers medical nutritional therapy, medical counselling, some anti-obesity medications (with limitations/restrictions), metabolic and bariatric surgery (with restrictions), and intensive behavioural therapy (with limitations) (Minnesota Department of Health, Medicaid Providers Manual, 2024; STOP Obesity Alliance, Medicaid Obesity Coverage State Snapshot: Minnesota, 2024).","In Mississippi, Medicaid covers several obesity medications and intensive behavioural therapy with limitations (Mississippi Division of Medicaid, Anti-Obesity Select Agents - Prior Authorization Criteria, 2024; STOP Obesity Alliance, Medicaid Obesity Coverage State Snapshot: Mississippi, 2024).","In Missouri, Medicaid covers medical nutrition therapy, behavioral health counseling, surgical treatments for obesity and certain FDA-approved types of obesity management medications (Missouri Department of Social Services, Physicians Provider Manual, 2025).","In Montana, only intensive behavioral therapy is covered under Medicaid as a treatment modality for obesity (Montana Legislature, ARM 37.85.206; Montana Legislature, ARM 37.85.207; Department of Public Health and Human Services, Montana Medicaid Member Guide, 2025).","In Nebraska, Medicaid covers bariatric surgery, medical nutrition therapy and intensive behavioural therapy as treatment modalities for obesity (Nebraska Legislature, Admin. Code 471-18; STOP Obesity Alliance, Medicaid Obesity Coverage State Snapshot: Nebraska, 2024).","In Nevada, Medicaid covers medical nutrition therapy, bariatric surgery and intensive behavioural therapy as treatment modalities for obesity (Nevada Department of Health and Human Services, Medicaid Services Manual, 2023; STOP Obesity Alliance, Medicaid Obesity Coverage State Snapshot: Nevada, 2024).","In New Hampshire, Medicaid covers obesity medication (with limitations/restrictions), intensive behavioural therapy (with limitations), and metabolic and bariatric surgery (with restrictions) as treatment modalities for obesity (Stop Obesity Alliance, New Hampshire Department of Human Health Services, 2017; Stop Obesity Alliance, Medicaid Obesity Coverage State Snapshot: New Hampshire, 2024).","In New Jersey, Medicaid covers intensive behavioural therapy (with limitations) and metabolic and bariatric surgery (with restrictions) as treatment modalities for obesity (Stop Obesity Alliance, Medicaid Obesity Coverage State Snapshot: New Jersey, 2024; New Jersey Legislature, Bill S2554, 2024).","In New Mexico, Medicaid covers bariatric surgery, nutritional counseling and intensive behavioural therapy as treatment modalities for obesity (New Mexico Human Services Department, Adjunct Services - Nutrition Services; United Healthcare, Bariatric Surgery (For New Mexico Only), 2024; STOP Obesity Alliance, Medicaid Obesity Coverage State Snapshot: New Mexico, 2024).","Only metabolic and bariatric surgery is covered by New York State's Medicaid as a treatment modality for obesity (Stop Obesity Alliance, Medicaid Obesity Coverage State Snapshot: New York, 2024)","In North Carolina, Medicaid covers nutrition counselling, intensive behavioural therapy (with limitations), metabolic and bariatric surgery (with limitations/restrictions), and obesity medication as treatment modalities for obesity (Stop Obesity Alliance, Medicaid Obesity Coverage State Snapshot - North Carolina, 2024; North Carolina Division of Health Benefits, NC Medicaid to Add Coverage for Obesity Management Medications, 2024).","In North Dakota, Medicaid covers nutrition counselling, intensive behavioural therapy (with limitations), metabolic and bariatric surgery (with limitations/restrictions), and obesity medication as treatment modalities for obesity (North Dakota Department of Health and Human Services, Medicaid General Providers: Covered Services Policy, 2024; North Dakota Department of Health and Human Services, Pharmacy Providers Manual, 2024; STOP Obesity Alliance, Medicaid Obesity Coverage State Snapshot: North Dakota, 2024).","In Ohio, Medicaid covers nutrition counselling, intensive behavioral therapy (with limitations), and metabolic & bariatric surgery (with restrictions) as treatment modalities for obesity (STOP Obesity Alliance, Medicaid Obesity Coverage State Snapshot: Ohio, 2024).","In Oklahoma, Medicaid (called SoonerCare) covers nutritional counseling, metabolic and bariatric surgery (with limitations/restrictions), and intensive behavioural therapy (with limitations) as treatment modalities for obesity (Oklahoma Health Care Authority, Nutritional Services Benefit; OHCA Guideline: Bariatric Surgery, 2023; STOP Obesity Alliance, Obesity Medicaid Coverage State Snapshot: Oklahoma, 2024).","In Oregon, Medicaid (known as the Oregon Health Plan or OHP) covers behavioural interventions, intensive nutritional counseling, physical activity counseling, and bariatric surgery as treatment options for obesity (Oregon Health Authority, Prioritised List of Health Services).","In Pennsylvania, Medicaid covers obesity medication (with limitations/restrictions), intensive behavioural therapy (with limitations), and metabolic and bariatric surgery (with restrictions) as treatment modalities for obesity (Stop Obesity Alliance, Medicaid Obesity Coverage State Snapshot: Pennsylvania, 2024).","In Rhode Island, Medicaid covers nutrition counselling, intensive behavioural therapy, obesity medication, and metabolic and bariatric surgery (with limitations/restrictions) as treatment modalities for obesity (STOP Obesity Alliance, Medicaid Obesity Coverage State Snapshot: Rhode Island, 2024).","In South Carolina, Medicaid covers nutrition counselling, intensive behavioural therapy, and metabolic and bariatric surgery (with restrictions) as treatment modalities for obesity (Stop Obesity Alliance, Medicaid Obesity Coverage State Snapshot - South Carolina, 2024; South Carolina Department of Health and Human Services, Nutritional Counseling Services Benefits Update, 2023; South Carolina Department of Health and Human Services, Medicaid Bulletin, 2015).","In South Dakota, Medicaid covers gastric surgery (with limitations/restrictions), nutritional counselling and intensive behavioural therapy (with limitations) as treatment modalities for obesity (South Dakota Medicaid, Policy Manual: Surgical Services, 2024; South Dakota Medicaid, Policy Manual: Dietician and Nutritionist Services, 2024; STOP Obesity Alliance, Medicaid Obesity Coverage State Snapshot: South Dakota, 2024).","In Tennessee, Medicaid (called TennCare) covers bariatric surgery, obesity medications for enrollees under the age of 21, and intensive behavioural therapy (with limitations) as treatment modalities for obesity (Division of TennCare, TennCare Medicaid Rules, 2024; STOP Obesity Alliance, Medicaid Obesity Coverage State Snapshot: Tennessee, 2024).","In Texas, Medicaid covers bariatric surgery (with limitations/restrictions), and nutritional counseling and intensive behavioural therapy under certain conditions (Texas Health and Human Services, Texas Medicaid Provider Procedures Manual, 2025; STOP Obesity Alliance, Medicaid Obesity Coverage State Snapshot: Texas, 2024).","In Utah, Medicaid covers nutritional counseling, intensive behavioural therapy, and metabolic and bariatric surgery (with limitations/restrictions) as treatment modalities for obesity (Utah Department of Health and Human Services, Utah Medicaid Provider Manual: Physician Services, 2024; STOP Obesity Alliance, Medicaid Obesity Coverage State Snapshot: Utah, 2024).","In Vermont, Medicaid covers nutrition counselling, intensive behavioural therapy, and metabolic and bariatric surgery (with restrictions) as treatment modalities for obesity (Stop Obesity Alliance, Medicaid Obesity Coverage State Snapshot: Vermont, 2024; Department of Vermont Health Access, Bariatric surgery, 2024; Department of Vermont Health Access, Medical Nutrition Therapy, 2021).","In Virginia, Medicaid covers nutrition counselling, intensive behavioural therapy (with limitations), obesity medication (with limitations), and metabolic and bariatric surgery (with limitations/restrictions) as treatment modalities for obesity (STOP Obesity Alliance, Medicaid Obesity Coverage State Snapshot: Virginia, 2024; Commonwealth of Virginia Joint Commission on Health Care, RD667 - Obesity and Eating Disorders Prevention and Treatment in Virginia, 2023).","In Washington, Medicaid (called Apple Health) covers bariatric surgery (with limitations/restrictions), nutrition counselling and intensive behavioural therapy (with limitations) as treatment modalities for obesity. However, \"weight loss drugs, products, gym memberships or equipment for the purpose of weight reduction\" are expressly not covered (Apple Health (Medicaid), Member Benefit Grid, 2024; STOP Obesity Alliance, Medicaid Obesity Coverage State Snapshot - Washington, 2024).","In West Virginia, Medicaid covers nutrition counselling, intensive behavioural therapy, and metabolic & bariatric surgery (with limitations/restrictions) as treatment modalities for obesity (Stop Obesity Alliance, Medicaid Obesity Coverage State Snapshot: West Virginia, 2024; West Virginia Department of Health and Human Resources – Bureau for Medical Services, 519.4 Bariatric Services, 2015)","In Wisconsin, Medicaid covers nutrition counselling, intensive behavioural therapy (with limitations), metabolic and bariatric surgery (with limitations/restrictions), and obesity medications (with limitations/restrictions) as treatment modalities for obesity (ForwardHealth Wisconsin, Covered Services; STOP Obesity Alliance, Medicaid Obesity Coverage State Snapshot: Wisconsin, 2024).","In Wyoming, Medicaid covers medical nutrition therapy, weight loss surgery, metabolic and bariatric surgery (with limitations/restrictions), and intensive behavioural therapy (with limitations) as treatment modalities for obesity (Wyoming Department of Health, Behavioral Health Centers: Provider Manual, 2025; Wyoming Department of Health, Wyoming Medicaid Policy for Weight Loss Surgery, 2022; STOP Obesity Alliance, Medicaid Obesity Coverage State Snapshot: Wyoming, 2024)."]
[null,1016,"1.2.2","State-level weight loss programmes",null,null,"There is no evidence that Alabama has implemented Healthy Behaviour Incentive Programmes (HBIPs) in Medicaid to encourage weight loss.","There is no evidence that Alaska has implemented Healthy Behaviour Incentive Programmes (HBIPs) in Medicaid to encourage weight loss.","Several providers of Medicaid in Arizona offer Healthy Behaviour Incentive Programmes; however, there is no evidence that any of these programmes target weight loss (BlueCross BlueShield, Molina Healthcare).","There is no evidence that Arkansas has implemented Healthy Behaviour Incentive Programmes (HBIPs) in Medicaid to encourage weight loss.","There is no evidence that California has implemented Healthy Behavior Incentive Programs (HBIPs) in Medicaid to encourage weight loss.","There is no evidence that Colorado has implemented Healthy Behaviour Incentive Programmes (HBIPs) in Medicaid to encourage weight loss.","There is no evidence that Connecticut has implemented Healthy Behaviour Incentive Programmes (HBIPs) within Medicaid to target weight loss.","There is no evidence that Delaware has implemented Healthy Behaviour Incentive Programmes (HBIPs) within Medicaid to target weight loss.","Several providers of Medicaid in Florida offer Healthy Behavior Incentive Programmes to encourage weight loss via weight loss resources and support, as well as rewards for dietary and nutritional counseling, behavioral therapy, and physical activity (Humana; AmeriHealth Caritas Florida, Healthy Behaviors Programs)","There is no evidence that Georgia has implemented Healthy Behaviour Incentive Programmes (HBIPs) in Medicaid to encourage weight loss.","There is no evidence that Hawaii has implemented Healthy Behaviour Incentive Programmes (HBIPs) in Medicaid to encourage weight loss.","Idaho's Preventive Health Assistance (PHA) benefit for Medicaid beneficiaries includes a Weight Management (WM) component designed to incentive weight loss (Idaho Department for Health & Welfare, Preventative Health Assistance (PHA) Benefit, no date).","Despite the Illinois Department of Human Services' Healthy Local Food Incentives Program (Illinois General Legislative Assembly, 305 ILCS 5/12-4.50: Healthy Local Food Incentives Program, 2017) and the Illinois Department of Central Management Services' Weight Loss Benefit Program promoting healthier eating and weight management, Illinois does not have specific Healthy Behaviour Incentive Programmes (HBIPs) within Medicaid.","There is no evidence that Indiana has implemented Healthy Behaviour Incentive Programmes (HBIPs) in Medicaid to encourage weight loss.","Iowa has implemented Healthy Behaviour Incentive Programmes (HBIPs) within its Medicaid system to encourage healthy behaviours, including weight loss (Iowa Department of Health and Human Services, Iowa Wellness Plan Evaluation Design, 2021; Iowa Department of Health and Human Services, IHAWP Healthy Behaviors Program).","There is no evidence that Kansas has implemented Healthy Behaviour Incentive Programmes (HBIPs) in Medicaid to encourage weight loss.","Several providers of Medicaid in Kentucky offer Healthy Behaviour Incentive Programmes to encourage weight loss via weight loss resources and support, as well as rewards for dietary and nutritional counseling, behavioral therapy, and physical activity (Humana, Kentucky Department for Medicaid Services, 2023 MCO Extra Benefits/Services).","At least one provider of Medicaid in Louisiana has implemented a Healthy Behaviour Incentive Programme to encourage weight loss, providing free access to Weight Watchers, gym memberships, and/or visits with dieticians (Healthy Louisiana, It’s Time to Choose a Health Plan for You and Your Family).","There is no evidence that Maine has implemented Healthy Behaviour Incentive Programmes (HBIPs) in Medicaid to encourage weight loss.","There is no evidence that Maryland has implemented Healthy Behaviour Incentive Programmes (HBIPs) in Medicaid to encourage weight loss.","There is no evidence that Massachusetts has implemented Healthy Behaviour Incentive Programmes (HBIPs) in Medicaid to encourage weight loss.","Since the expiration of the Healthy Michigan Plan in 2024, the state has not implemented Healthy Behaviour Incentive Programmes (HBIPs) in Medicaid (Michigan Department of Health and Human Services, Healthy Michigan Plan, 2014).","Minnesota has implemented Healthy Behaviour Incentive Programmes (HBIPs) in Medicaid that encourage weight loss by promoting healthy eating and physical activity, through programmes like the Health and Well-being Portal and the National Diabetes Prevention Program (Minnesota Department of Management and Budget, Well-being program, 2024; Minnesota Department of Health, We Can Prevent Diabetes Research Study, 2022).","At least one provider of Medicaid in Mississippi has implemented Healthy Behaviour Incentive Programmes to encourage weight loss, providing free Weight Watchers memberships to enrollees (Molina Healthcare, Health Education Programs - Weight Management).","There is no evidence that Missouri implements Healthy Behaviour Incentive Programmes (HBIPs) in Medicaid to encourage weight loss.","Montana has been implementing the Healthy Weight Incentive since 2023 - providing a $200 reward to Medicaid beneficiaries who complete eligible weight management programmes (Montana Department of Public Health and Human Services, Healthy Weight Incentive, 2023; Montana Department of Administration, Healthcare and Benefits Division, Healthy Weight Incentive, 2023) and participated in the Medicaid Incentives for Prevention of Chronic Diseases programme from 2011 to 2016 to encourage weight loss through promoting physical activity and healthy eating (Center for Medicare and Medicaid Services, MIPCD State Summary: Montana, 2011).","Nebraska has implemented Healthy Behaviour Incentive Programmes (HBIPs) in Medicaid targeting weight management through its managed care organisations (MCOs) (Nebraska Total Care, My Health Pays Rewards; Nebraska Total Care, Value-Added Services; Molina Healthcare, Medicaid Benefits).","Between 2011 and 2016 Nevada participated in the federal \"Medicaid Incentives for Prevention of Chronic Diseases (MIPCD)\" programme which offered incentives to Medicaid beneficiaries for participating in weight management programmes (Nevada Division of Health Care Financing and Policy, Medicaid Incentives for Prevention of Chronic Disease (MIPCD), 2011). As of February 2025, the state's managed care organisations implement such incentives.","New Hampshire has implemented Healthy Behaviour Incentive Programmes (HBIPs) within Medicaid, offering incentives to Medicaid beneficiaries who engage in healthy behaviors; however, it is unclear whether these specifically encourage weight loss (New Hampshire Medicaid Management, Meet your Health Care Needs, 2024)","There is no evidence that New Jersey has implemented Healthy Behaviour Incentive Programmes (HBIPs) in Medicaid to encourage weight loss.","Several providers of Medicaid in New Mexico have implemented Healthy Behaviour Incentive Programmes to encourage weight loss, rewarding actions such as completing movement challenges and attending nutritional counseling sessions (Turquoise Rewards, 2025 Turquoise Rewards).","New York State implements Healthy Behaviour Incentive Programmes (HBIPs) within Medicaid focusing on weight loss (Medicaid and CHIP Payment and Access Commission, The Use of Healthy Behavior Incentives in Medicaid, 2016).","There is no evidence that North Carolina has implemented Healthy Behaviour Incentive Programmes (HBIPs) in Medicaid to encourage weight loss.","There is no evidence that North Dakota has implemented Healthy Behaviour Incentive Programmes (HBIPs) in Medicaid to encourage weight loss.","Ohio implements a Healthy Behaviour Incentive Programme under Medicaid that targets weight loss. It was introduced in 2016 with the passing of the Healthy Ohio Program Section 1115, House Bill 64 (Ohio Department of Medicaid, Healthy Ohio Program Section 1115).","Several providers of Medicaid in Oklahoma have implemented Healthy Behaviour Incentive Programmes to encourage weight loss, providing financial incentives for actions such as completing weight management programmes and attending nutritional counseling sessions (Oklahoma Health Care Authority, SoonerSelect Health Value-Added Benefits).","There is no evidence that Oregon has implemented Healthy Behaviour Incentive Programmes (HBIPs) in Medicaid to encourage weight loss.","Pennsylvania implements Healthy Behaviour Incentive Programmes (HBIPs) in Medicaid, but there is no evidence that they specifically target weight loss.","There is no evidence that Rhode Island has implemented Healthy Behaviour Incentive Programmes (HBIPs) in Medicaid to encourage weight loss.","There is no evidence that South Carolina has implemented Healthy Behaviour Incentive Programmes (HBIPs) in Medicaid to encourage weight loss.","The Office of Chronic Disease Prevention & Health Promotion of the South Dakota Department of Health has been implementing the \"South Dakota Park Prescription\" programme since 2022 to incentivise walking and physical activity through healthcare providers, but it is not specific to Medicaid beneficiaries (South Dakota Department of Health, Office of Chronic Disease Prevention & Health Promotion, Park Rx)","There is no evidence that Tennessee has implemented Healthy Behaviour Incentive Programmes (HBIPs) in Medicaid to encourage weight loss.","Several providers of Medicaid in Texas offer Healthy Behaviour Incentive Programmes; however, there is no evidence that any of these programmes target weight loss (Superior Health Plan, Wellpoint, Aetna).","There is no evidence that Utah has implemented Healthy Behaviour Incentive Programmes (HBIPs) in Medicaid to encourage weight loss.","There is no evidence that Vermont has implemented Healthy Behaviour Incentive Programmes (HBIPs) in Medicaid to encourage weight loss.","There is no evidence that Virginia has implemented Healthy Behaviour Incentive Programmes (HBIPs) in Medicaid to encourage weight loss.","There is no evidence that Washington has implemented Healthy Behaviour Incentive Programmes (HBIPs) in Medicaid to encourage weight loss.","West Virginia implements Healthy Behaviour Incentive Programmes (HBIPs) under Medicaid to encourage weight loss (Center for Health Care Strategies, Health Behaviour Incentives: Opportunities for Medicaid, 2014; Highmark Health Options, Healthy Rewards, 2024)","There is no evidence that Wisconsin has implemented Healthy Behaviour Incentive Programmes (HBIPs) in Medicaid to encourage weight loss.","Wyoming Medicaid offers benefit programmes aimed at promoting healthier lifestyles - WYhealth Program and Prevent Diabetes Program - through weight loss and improved nutrition (Wyoming Department of Health, Wyoming Medicaid: Wyoming Medicaid Health Management; Wyoming Department of Health, Wyoming Medicaid: New Diabetes Prevention Program Available in Wyoming, 2021)."]
[null,1017,2,"Food quality and access"]
[null,1018,2.1,"Food access and affordability"]
[null,1019,"2.1.1","Level of food security",null,null,"According to the U.S. Department of Agriculture (USDA) Economic Research Service, 88% of households in Alabama are food secure (USDA, Economic Research Service, Household food security in the United States in 2023, 2024).","According to the U.S. Department of Agriculture (USDA) Economic Research Service, 90% of households in Alaska are food secure (USDA, Economic Research Service, Household food security in the United States in 2023, 2024).","According to the U.S. Department of Agriculture (USDA) Economic Research Service, 88% of households in Arizona are food secure (USDA, Economic Research Service, Household food security in the United States in 2023, 2024).","According to the U.S. Department of Agriculture (USDA) Economic Research Service, 81% of households in Arkansas are food secure (USDA, Economic Research Service, Household food security in the United States in 2023, 2024).","According to the U.S. Department of Agriculture (USDA) Economic Research Service, 89% of households in California are food secure (USDA, Economic Research Service, Household food security in the United States in 2023, 2024).","According to the U.S. Department of Agriculture (USDA) Economic Research Service, 90% of households in Colorado are food secure (USDA, Economic Research Service, Household food security in the United States in 2023, 2024).","According to the U.S. Department of Agriculture (USDA) Economic Research Service, 90% of households in Connecticut are food secure (USDA, Economic Research Service, Household food security in the United States in 2023, 2024).","According to the U.S. Department of Agriculture (USDA) Economic Research Service, 89% of households in Delaware are food secure (USDA, Economic Research Service, Household food security in the United States in 2023, 2024).","According to the U.S. Department of Agriculture (USDA) Economic Research Service, 88% of households in Florida are food secure (USDA, Economic Research Service, Household food security in the United States in 2023, 2024).","According to the U.S. Department of Agriculture (USDA) Economic Research Service, 87% of households in Georgia are food secure (USDA, Economic Research Service, Household food security in the United States in 2023, 2024).","According to the U.S. Department of Agriculture (USDA) Economic Research Service, 90% of households in Hawaii are food secure (USDA, Economic Research Service, Household food security in the United States in 2023, 2024).","According to the U.S. Department of Agriculture (USDA) Economic Research Service, 89% of households in Idaho are food secure (USDA, Economic Research Service, Household food security in the United States in 2023, 2024).","According to the U.S. Department of Agriculture (USDA) Economic Research Service, 88% of households in Illinois are food secure (USDA, Economic Research Service, Household food security in the United States in 2023, 2024).","According to the U.S. Department of Agriculture (USDA) Economic Research Service, 88% of households in Indiana are food secure (USDA, Economic Research Service, Household food security in the United States in 2023, 2024).","According to the U.S. Department of Agriculture (USDA) Economic Research Service, 90% of households in Iowa are food secure (USDA, Economic Research Service, Household food security in the United States in 2023, 2024).","According to the U.S. Department of Agriculture (USDA) Economic Research Service, 89% of households in Kansas are food secure (USDA, Economic Research Service, Household food security in the United States in 2023, 2024).","According to the U.S. Department of Agriculture (USDA) Economic Research Service, 85% of households in Kentucky are food secure (USDA, Economic Research Service, Household food security in the United States in 2023, 2024).","According to the U.S. Department of Agriculture (USDA) Economic Research Service, 84% of households in Louisiana are food secure (USDA, Economic Research Service, Household food security in the United States in 2023, 2024).","According to the U.S. Department of Agriculture (USDA) Economic Research Service, 89% of households in Maine are food secure (USDA, Economic Research Service, Household food security in the United States in 2023, 2024).","According to the U.S. Department of Agriculture (USDA) Economic Research Service, 90% of households in Maryland are food secure (USDA, Economic Research Service, Household food security in the United States in 2023, 2024).","According to the U.S. Department of Agriculture (USDA) Economic Research Service, 91% of households in Massachusetts are food secure (USDA, Economic Research Service, Household food security in the United States in 2023, 2024).","According to the U.S. Department of Agriculture (USDA) Economic Research Service, 87% of households in Michigan are food secure (USDA, Economic Research Service, Household food security in the United States in 2023, 2024).","According to the U.S. Department of Agriculture (USDA) Economic Research Service, 91% of households in Minnesota are food secure (USDA, Economic Research Service, Household food security in the United States in 2023, 2024).","According to the U.S. Department of Agriculture (USDA) Economic Research Service, 84% of households in Mississippi are food secure (USDA, Economic Research Service, Household food security in the United States in 2023, 2024).","According to the U.S. Department of Agriculture (USDA) Economic Research Service, 87% of households in Missouri are food secure (USDA, Economic Research Service, Household food security in the United States in 2023, 2024).","According to the U.S. Department of Agriculture (USDA) Economic Research Service, 91% of households in Montana are food secure (USDA, Economic Research Service, Household food security in the United States in 2023, 2024).","According to the U.S. Department of Agriculture (USDA) Economic Research Service, 87% of households in Nebraska are food secure (USDA, Economic Research Service, Household food security in the United States in 2023, 2024).","According to the U.S. Department of Agriculture (USDA) Economic Research Service, 87% of households in Nevada are food secure (USDA, Economic Research Service, Household food security in the United States in 2023, 2024).","According to the U.S. Department of Agriculture (USDA) Economic Research Service, 93% of households in New Hampshire are food secure (USDA, Economic Research Service, Household food security in the United States in 2023, 2024).","According to the U.S. Department of Agriculture (USDA) Economic Research Service, 90% of households in New Jersey are food secure (USDA, Economic Research Service, Household food security in the United States in 2023, 2024).","According to the U.S. Department of Agriculture (USDA) Economic Research Service, 87% of households in New Mexico are food secure (USDA, Economic Research Service, Household food security in the United States in 2023, 2024).","According to the U.S. Department of Agriculture (USDA) Economic Research Service, 88% of households in New York are food secure (USDA, Economic Research Service, Household food security in the United States in 2023, 2024).","According to the U.S. Department of Agriculture (USDA) Economic Research Service, 89% of households in North Carolina are food secure (USDA, Economic Research Service, Household food security in the United States in 2023, 2024).","According to the U.S. Department of Agriculture (USDA) Economic Research Service, 91% of households in North Dakota are food secure (USDA, Economic Research Service, Household food security in the United States in 2023, 2024).","According to the U.S. Department of Agriculture (USDA) Economic Research Service, 87% of households in Ohio are food secure (USDA, Economic Research Service, Household food security in the United States in 2023, 2024).","According to the U.S. Department of Agriculture (USDA) Economic Research Service, 85% of households in Oklahoma are food secure (USDA, Economic Research Service, Household food security in the United States in 2023, 2024).","According to the U.S. Department of Agriculture (USDA) Economic Research Service, 87% of households in Oregon are food secure (USDA, Economic Research Service, Household food security in the United States in 2023, 2024).","According to the U.S. Department of Agriculture (USDA) Economic Research Service, 89% of households in Pennsylvania are food secure (USDA, Economic Research Service, Household food security in the United States in 2023, 2024).","According to the U.S. Department of Agriculture (USDA) Economic Research Service, 90% of households in Rhode Island are food secure (USDA, Economic Research Service, Household food security in the United States in 2023, 2024).","According to the U.S. Department of Agriculture (USDA) Economic Research Service, 86% of households in South Carolina are food secure (USDA, Economic Research Service, Household food security in the United States in 2023, 2024).","According to the U.S. Department of Agriculture (USDA) Economic Research Service, 91% of households in South Dakota are food secure (USDA, Economic Research Service, Household food security in the United States in 2023, 2024).","According to the U.S. Department of Agriculture (USDA) Economic Research Service, 88% of households in Tennessee are food secure (USDA, Economic Research Service, Household food security in the United States in 2023, 2024).","According to the U.S. Department of Agriculture (USDA) Economic Research Service, 83% of households in Texas are food secure (USDA, Economic Research Service, Household food security in the United States in 2023, 2024).","According to the U.S. Department of Agriculture (USDA) Economic Research Service, 88% of households in Utah are food secure (USDA, Economic Research Service, Household food security in the United States in 2023, 2024).","According to the U.S. Department of Agriculture (USDA) Economic Research Service, 91% of households in Vermont are food secure (USDA, Economic Research Service, Household food security in the United States in 2023, 2024).","According to the U.S. Department of Agriculture (USDA) Economic Research Service, 90% of households in Virginia are food secure (USDA, Economic Research Service, Household food security in the United States in 2023, 2024).","According to the U.S. Department of Agriculture (USDA) Economic Research Service, 90% of households in Washington are food secure (USDA, Economic Research Service, Household food security in the United States in 2023, 2024).","According to the U.S. Department of Agriculture (USDA) Economic Research Service, 86% of households in West Virginia are food secure (USDA, Economic Research Service, Household food security in the United States in 2023, 2024).","According to the U.S. Department of Agriculture (USDA) Economic Research Service, 89% of households in Wisconsin are food secure (USDA, Economic Research Service, Household food security in the United States in 2023, 2024).","According to the U.S. Department of Agriculture (USDA) Economic Research Service, 87% of households in Wyoming are food secure (USDA, Economic Research Service, Household food security in the United States in 2023, 2024)."]
[null,1020,"2.1.2","Nutrition programmes for lower-income individuals"]
[null,1021,"2.1.2a","Supplemental Nutrition Assistance Program (SNAP): monthly benefit per person",null,null,"The average benefit for SNAP per person in Alabama is 197.83 USD (USDA, SNAP Data Tables, 2024). When adjusted for regional price parities, this is equivalent to 207.07 USD (United States Bureau of Economic Analysis, 2023).","The average benefit for SNAP per person in Alaska is 303.88 USD (USDA, SNAP Data Tables, 2024). When adjusted for regional price parities, this is equivalent to 301.26 USD (United States Bureau of Economic Analysis, 2023).","The average benefit for SNAP per person in Arizona is 183.25 USD (USDA, SNAP Data Tables, 2024). When adjusted for regional price parities, this is equivalent to 187.07 USD (United States Bureau of Economic Analysis, 2023).","The average benefit for SNAP per person in Arkansas is 177.5 USD (USDA, SNAP Data Tables, 2024). When adjusted for regional price parities, this is equivalent to 191.70 USD (United States Bureau of Economic Analysis, 2023).","The average benefit for SNAP per person in California is 194.99 USD (USDA, SNAP Data Tables, 2024). When adjusted for regional price parities, this is equivalent to 180.44 USD (United States Bureau of Economic Analysis, 2023).","The average benefit for SNAP per person in Colorado is 188.99 USD (USDA, SNAP Data Tables, 2024). When adjusted for regional price parities, this is equivalent to 191.66 USD (United States Bureau of Economic Analysis, 2023).","The average benefit for SNAP per person in Connecticut is 197.38 USD (USDA, SNAP Data Tables, 2024). When adjusted for regional price parities, this is equivalent to 201.70 USD (United States Bureau of Economic Analysis, 2023).","The average benefit for SNAP per person in Delaware is 185.51 USD (USDA, SNAP Data Tables, 2024). When adjusted for regional price parities, this is equivalent to 187.66 USD (United States Bureau of Economic Analysis, 2023).","The average benefit for SNAP per person in Florida is 200.84 USD (USDA, SNAP Data Tables, 2024). When adjusted for regional price parities, this is equivalent to 203.06 USD (United States Bureau of Economic Analysis, 2023).","The average benefit for SNAP per person in Georgia is 189.72 USD (USDA, SNAP Data Tables, 2024). When adjusted for regional price parities, this is equivalent to 191.98 USD (United States Bureau of Economic Analysis, 2023).","The average benefit for SNAP per person in Hawaii is 372.10 USD (USDA, SNAP Data Tables, 2024). When adjusted for regional price parities, this is equivalent to 346.34 USD (United States Bureau of Economic Analysis, 2023).","The average benefit for SNAP per person in Idaho is 180.75 USD (USDA, SNAP Data Tables, 2024). When adjusted for regional price parities, this is equivalent to 191.35 USD (United States Bureau of Economic Analysis, 2023).","The average benefit for SNAP per person in Illinois is 203.16 USD (USDA, SNAP Data Tables, 2024). When adjusted for regional price parities, this is equivalent to 200.39 USD (United States Bureau of Economic Analysis, 2023).","The average benefit for SNAP per person in Indiana is 202.33 USD (USDA, SNAP Data Tables, 2024). When adjusted for regional price parities, this is equivalent to 212.31 USD (United States Bureau of Economic Analysis, 2023).","The average benefit for SNAP per person in Iowa is 173.34 USD (USDA, SNAP Data Tables, 2024). When adjusted for regional price parities, this is equivalent to 181.43 USD (United States Bureau of Economic Analysis, 2023).","The average benefit for SNAP per person in Kansas is 179.73 USD (USDA, SNAP Data Tables, 2024). When adjusted for regional price parities, this is equivalent to 188.66 USD (United States Bureau of Economic Analysis, 2023).","The average benefit for SNAP per person in Kentucky is 179.78 USD (USDA, SNAP Data Tables, 2024). When adjusted for regional price parities, this is equivalent to 188.19 USD (United States Bureau of Economic Analysis, 2023).","The average benefit for SNAP per person in Louisiana is 198.68 USD (USDA, SNAP Data Tables, 2024). When adjusted for regional price parities, this is equivalent to 214.78 USD (United States Bureau of Economic Analysis, 2023).","The average benefit for SNAP per person in Maine is 177.89 USD (USDA, SNAP Data Tables, 2024). When adjusted for regional price parities, this is equivalent to 183.31 USD (United States Bureau of Economic Analysis, 2023).","The average benefit for SNAP per person in Maryland is 182.69 USD (USDA, SNAP Data Tables, 2024). When adjusted for regional price parities, this is equivalent to 176.60 USD (United States Bureau of Economic Analysis, 2023).","The average benefit for SNAP per person in Massachusetts is 202.64 USD (USDA, SNAP Data Tables, 2024). When adjusted for regional price parities, this is equivalent to 196.89 USD (United States Bureau of Economic Analysis, 2023).","The average benefit for SNAP per person in Michigan is 175.49 USD (USDA, SNAP Data Tables, 2024). When adjusted for regional price parities, this is equivalent to 183.07 USD (United States Bureau of Economic Analysis, 2023).","The average benefit for SNAP per person in Minnesota is 162.78 USD (USDA, SNAP Data Tables, 2024). When adjusted for regional price parities, this is equivalent to 159.05 USD (United States Bureau of Economic Analysis, 2023).","The average benefit for SNAP per person in Mississippi is 186.35 USD (USDA, SNAP Data Tables, 2024). When adjusted for regional price parities, this is equivalent to 195.45 USD (United States Bureau of Economic Analysis, 2023).","The average benefit for SNAP per person in Missouri is 200.45 USD (USDA, SNAP Data Tables, 2024). When adjusted for regional price parities, this is equivalent to 204.16 USD (United States Bureau of Economic Analysis, 2023).","The average benefit for SNAP per person in Montana is 174.52 USD (USDA, SNAP Data Tables, 2024). When adjusted for regional price parities, this is equivalent to 184.17 USD (United States Bureau of Economic Analysis, 2023).","The average benefit for SNAP per person in Nebraska is 185.86 USD (USDA, SNAP Data Tables, 2024). When adjusted for regional price parities, this is equivalent to 194.14 USD (United States Bureau of Economic Analysis, 2023).","The average benefit for SNAP per person in Nevada is 171.71 USD (USDA, SNAP Data Tables, 2024). When adjusted for regional price parities, this is equivalent to 180.64 USD (United States Bureau of Economic Analysis, 2023).","The average benefit for SNAP per person in New Hampshire is 172.89 USD (USDA, SNAP Data Tables, 2024). When adjusted for regional price parities, this is equivalent to 171.84 USD (United States Bureau of Economic Analysis, 2023).","The average benefit for SNAP per person in New Jersey is 198.25 USD (USDA, SNAP Data Tables, 2024). When adjusted for regional price parities, this is equivalent to 184.13 USD (United States Bureau of Economic Analysis, 2023).","The average benefit for SNAP per person in New Mexico is 181.83 USD (USDA, SNAP Data Tables, 2024). When adjusted for regional price parities, this is equivalent to 189.63 USD (United States Bureau of Economic Analysis, 2023).","The average benefit for SNAP per person in New York is 222.41 USD (USDA, SNAP Data Tables, 2024). When adjusted for regional price parities, this is equivalent to 208.33 USD (United States Bureau of Economic Analysis, 2023).","The average benefit for SNAP per person in North Carolina is 201.12 USD (USDA, SNAP Data Tables, 2024). When adjusted for regional price parities, this is equivalent to 207.47 USD (United States Bureau of Economic Analysis, 2023).","The average benefit for SNAP per person in North Dakota is 191.08 USD (USDA, SNAP Data Tables, 2024). When adjusted for regional price parities, this is equivalent to 198.22 USD (United States Bureau of Economic Analysis, 2023).","The average benefit for SNAP per person in Ohio is 197.13 USD (USDA, SNAP Data Tables, 2024). When adjusted for regional price parities, this is equivalent to 210.11 USD (United States Bureau of Economic Analysis, 2023).","The average benefit for SNAP per person in Oklahoma is 194.07 USD (USDA, SNAP Data Tables, 2024). When adjusted for regional price parities, this is equivalent to 209.47 USD (United States Bureau of Economic Analysis, 2023).","The average benefit for SNAP per person in Oregon is 181.82 USD (USDA, SNAP Data Tables, 2024). When adjusted for regional price parities, this is equivalent to 173.04 USD (United States Bureau of Economic Analysis, 2023).","The average benefit for SNAP per person in Pennsylvania is 181.37 USD (USDA, SNAP Data Tables, 2024). When adjusted for regional price parities, this is equivalent to 181.85 USD (United States Bureau of Economic Analysis, 2023).","The average benefit for SNAP per person in Rhode Island is 203.25 USD (USDA, SNAP Data Tables, 2024). When adjusted for regional price parities, this is equivalent to 209 USD (United States Bureau of Economic Analysis, 2023).","The average benefit for SNAP per person in South Carolina is 301.69 USD (USDA, SNAP Data Tables, 2024). When adjusted for regional price parities, this is equivalent to 314.16 USD (United States Bureau of Economic Analysis, 2023).","The average benefit for SNAP per person in South Dakota is 200.85 USD (USDA, SNAP Data Tables, 2024). When adjusted for regional price parities, this is equivalent to 208.03 USD (United States Bureau of Economic Analysis, 2023).","The average benefit for SNAP per person in Tennessee is 195.16 USD (USDA, SNAP Data Tables, 2024). When adjusted for regional price parities, this is equivalent to 204.90 USD (United States Bureau of Economic Analysis, 2023).","The average benefit for SNAP per person in Texas is 186.89 USD (USDA, SNAP Data Tables, 2024). When adjusted for regional price parities, this is equivalent to 188.97 USD (United States Bureau of Economic Analysis, 2023).","The average benefit for SNAP per person in Utah is 197.27 USD (USDA, SNAP Data Tables, 2024). When adjusted for regional price parities, this is equivalent to 211.03 USD (United States Bureau of Economic Analysis, 2023).","The average benefit for SNAP per person in Vermont is 197.59 USD (USDA, SNAP Data Tables, 2024). When adjusted for regional price parities, this is equivalent to 204.22 USD (United States Bureau of Economic Analysis, 2023).","The average benefit for SNAP per person in Virginia is 181.73 USD (USDA, SNAP Data Tables, 2024). When adjusted for regional price parities, this is equivalent to 180.29 USD (United States Bureau of Economic Analysis, 2023).","The average benefit for SNAP per person in Washington is 186.05 USD (USDA, SNAP Data Tables, 2024). When adjusted for regional price parities, this is equivalent to 173.54 USD (United States Bureau of Economic Analysis, 2023).","The average benefit for SNAP per person in West Virginia is 172.42 USD (USDA, SNAP Data Tables, 2024). When adjusted for regional price parities, this is equivalent to 179.24 USD (United States Bureau of Economic Analysis, 2023).","The average benefit for SNAP per person in Wisconsin is 164.57 USD (USDA, SNAP Data Tables, 2024). When adjusted for regional price parities, this is equivalent to 174.95 USD (United States Bureau of Economic Analysis, 2023).","The average benefit for SNAP per person in Wyoming is 184.22 USD (USDA, SNAP Data Tables, 2024). When adjusted for regional price parities, this is equivalent to 193.30 USD (United States Bureau of Economic Analysis, 2023)."]
[null,1022,"2.1.2b","Supplemental Nutrition Assistance Program (SNAP): participation rate",null,null,"According to the USDA, 81% of eligible participants in Alabama use SNAP (USDA, Reaching Those in Need: Estimates of SNAP Participation Rates in 2020, 2020).","According to the USDA, 81% of eligible participants in Alaska use SNAP (USDA, Reaching Those in Need: Estimates of SNAP Participation Rates in 2020, 2020).","According to the USDA, 74% of eligible participants in Arizona use SNAP (USDA, Reaching Those in Need: Estimates of SNAP Participation Rates in 2020, 2020).","According to the USDA, 62% of eligible participants in Arkansas use SNAP (USDA, Reaching Those in Need: Estimates of SNAP Participation Rates in 2020, 2020).","According to the USDA, 66% of eligible participants in California use SNAP (USDA, Reaching Those in Need: Estimates of SNAP Participation Rates in 2020, 2020).","According to the USDA, 76% of eligible participants in Colorado use SNAP (USDA, Reaching Those in Need: Estimates of SNAP Participation Rates in 2020, 2020).","According to the USDA, 89% of eligible participants in Connecticut use SNAP (USDA, Reaching Those in Need: Estimates of SNAP Participation Rates in 2020, 2020).","According to the USDA, 87% of eligible participants in Delaware use SNAP (USDA, Reaching Those in Need: Estimates of SNAP Participation Rates in 2020, 2020)","According to the USDA, 73% of eligible participants in Florida use SNAP (USDA, Reaching Those in Need: Estimates of SNAP Participation Rates in 2020, 2020).","According to the USDA, 72% of eligible participants in Georgia use SNAP (USDA, Reaching Those in Need: Estimates of SNAP Participation Rates in 2020, 2020).","According to the USDA, 83% of eligible participants in Hawaii use SNAP (USDA, Reaching Those in Need: Estimates of SNAP Participation Rates in 2020, 2020).","According to the USDA, 79% of eligible participants in Idaho use SNAP (USDA, Reaching Those in Need: Estimates of SNAP Participation Rates in 2020, 2020).","According to the USDA, 100% of eligible participants in Illinois use SNAP (USDA, Reaching Those in Need: Estimates of SNAP Participation Rates in 2020, 2020).","According to the USDA, 73% of eligible participants in Indiana use SNAP (USDA, Reaching Those in Need: Estimates of SNAP Participation Rates in 2020, 2020).","According to the USDA, 85% of eligible participants in Iowa use SNAP (USDA, Reaching Those in Need: Estimates of SNAP Participation Rates in 2020, 2020).","According to the USDA, 70% of eligible participants in Kansas use SNAP (USDA, Reaching Those in Need: Estimates of SNAP Participation Rates in 2020, 2020).","According to the USDA, 65% of eligible participants in Kentucky use SNAP (USDA, Reaching Those in Need: Estimates of SNAP Participation Rates in 2020, 2020).","According to the USDA, 83% of eligible participants in Louisiana use SNAP (USDA, Reaching Those in Need: Estimates of SNAP Participation Rates in 2020, 2020).","According to the USDA, 90% of eligible participants in Maine use SNAP (USDA, Reaching Those in Need: Estimates of SNAP Participation Rates in 2020, 2020).","According to the USDA, 85% of eligible participants in Maryland use SNAP (USDA, Reaching Those in Need: Estimates of SNAP Participation Rates in 2020, 2020).","According to the USDA, 100% of eligible participants in Massachusetts use SNAP (USDA, Reaching Those in Need: Estimates of SNAP Participation Rates in 2020, 2020).","According to the USDA, 85% of eligible participants in Michigan use SNAP (USDA, Reaching Those in Need: Estimates of SNAP Participation Rates in 2020, 2020).","According to the USDA, 76% of eligible participants in Minnesota use SNAP (USDA, Reaching Those in Need: Estimates of SNAP Participation Rates in 2020, 2020).","According to the USDA, 62% of eligible participants in Mississippi use SNAP (USDA, Reaching Those in Need: Estimates of SNAP Participation Rates in 2020, 2020).","According to the USDA, 84% of eligible participants in Missouri use SNAP (USDA, Reaching Those in Need: Estimates of SNAP Participation Rates in 2020, 2020).","According to the USDA, 79% of eligible participants in Montana use SNAP (USDA, Reaching Those in Need: Estimates of SNAP Participation Rates in 2020, 2020).","According to the USDA, 78% of eligible participants in Nebraska use SNAP (USDA, Reaching Those in Need: Estimates of SNAP Participation Rates in 2020, 2020).","According to the USDA, 84% of eligible participants in Nevada use SNAP (USDA, Reaching Those in Need: Estimates of SNAP Participation Rates in 2020, 2020).","According to the USDA, 79% of eligible participants in New Hampshire use SNAP (USDA, Reaching Those in Need: Estimates of SNAP Participation Rates in 2020, 2020).","According to the USDA, 72% of eligible participants in New Jersey use SNAP (USDA, Reaching Those in Need: Estimates of SNAP Participation Rates in 2020, 2020).","According to the USDA, 100% of eligible participants in New Mexico use SNAP (USDA, Reaching Those in Need: Estimates of SNAP Participation Rates in 2020, 2020).","According to the USDA, 82% of eligible participants in New York use SNAP (USDA, Reaching Those in Need: Estimates of SNAP Participation Rates in 2020, 2020).","According to the USDA, 74% of eligible participants in North Carolina use SNAP (USDA, Reaching Those in Need: Estimates of SNAP Participation Rates in 2020, 2020).","According to the USDA, 66% of eligible participants in North Dakota use SNAP (USDA, Reaching Those in Need: Estimates of SNAP Participation Rates in 2020, 2020).","According to the USDA, 81% of eligible participants in Ohio use SNAP (USDA, Reaching Those in Need: Estimates of SNAP Participation Rates in 2020, 2020).","According to the USDA, 84% of eligible participants in Oklahoma use SNAP (USDA, Reaching Those in Need: Estimates of SNAP Participation Rates in 2020, 2020).","According to the USDA, 100% of eligible participants in Oregon use SNAP (USDA, Reaching Those in Need: Estimates of SNAP Participation Rates in 2020, 2020).","According to the USDA, 100% of eligible participants in Pennsylvania use SNAP (USDA, Reaching Those in Need: Estimates of SNAP Participation Rates in 2020, 2020).","According to the USDA, 100% of eligible participants in Rhode Island use SNAP (USDA, Reaching Those in Need: Estimates of SNAP Participation Rates in 2020, 2020).","According to the USDA, 69% of eligible participants in Washington use SNAP (USDA, Reaching Those in Need: Estimates of SNAP Participation Rates in 2020, 2020).","According to the USDA, 80% of eligible participants in South Dakota use SNAP (USDA, Reaching Those in Need: Estimates of SNAP Participation Rates in 2020, 2020).","According to the USDA, 84% of eligible participants in Tennessee use SNAP (USDA, Reaching Those in Need: Estimates of SNAP Participation Rates in 2020, 2020).","According to the USDA, 69% of eligible participants in Texas use SNAP (USDA, Reaching Those in Need: Estimates of SNAP Participation Rates in 2020, 2020).","According to the USDA, 74% of eligible participants in Utah use SNAP (USDA, Reaching Those in Need: Estimates of SNAP Participation Rates in 2020, 2020).","According to the USDA, 96% of eligible participants in Vermont use SNAP (USDA, Reaching Those in Need: Estimates of SNAP Participation Rates in 2020, 2020).","According to the USDA, 77% of eligible participants in Virginia use SNAP (USDA, Reaching Those in Need: Estimates of SNAP Participation Rates in 2020, 2020).","According to the USDA, 94% of eligible participants in Washington use SNAP (USDA, Reaching Those in Need: Estimates of SNAP Participation Rates in 2020, 2020).","According to the USDA, 94% of eligible participants in West Virginia use SNAP (USDA, Reaching Those in Need: Estimates of SNAP Participation Rates in 2020, 2020)","According to the USDA, 92% of eligible participants in Wisconsin use SNAP (USDA, Reaching Those in Need: Estimates of SNAP Participation Rates in 2020, 2020).","According to the USDA, 49% of eligible participants in Wyoming use SNAP (USDA, Reaching Those in Need: Estimates of SNAP Participation Rates in 2020, 2020)."]
[null,1023,2.2,"Nutrition regulation"]
[null,1024,"2.2.1","Taxes on unhealthy food and beverages",null,null,"Alabama does not levy higher taxes on unhealthy food or beverages than other products for human consumption (Alabama Department of Revenue, Sales and Use Tax Rates).","Alaska does not impose a statewide sales tax or any taxes targeting unhealthy foods and beverages. However, local municipalities have the discretion to implement sales taxes, with some cities implementing a tax on unhealthy food and beverages (Alaska Legislature, Alaska Statutes 29.45.650; City of Homer, Ordinance 15-19(A-2) Repealing the Seasonal Sales Tax Exemption as Applied to Certain Categories of Nonprepared Foods, 2015).","Arizona does not levy taxes on unhealthy food or beverages; moreover, the state has passed a law banning the implementation of such taxes (Arizona Legislature, ARS § 42-6015)","Arkansas levies a specific tax on the sale of soft drink syrup or powders and bottled drinks (Arkansas Legislature, AR Code § 26-57-904). Additionally, candy is subject to the general sales tax rate while a reduced state tax rate applies to the sales of other food and food ingredients (State of Arkansas, Department of Finance and Administration, Sales and Use Tax Section, Candy).","California includes \"candy\" and \"confectionery\" in its definition of \"Food products\" that are exempt from sales tax (California Legislature, Revenue and Taxation Code). However, at the local level, four municipalities - Albany, San Francisco, Berkeley and Oakland - have levied city-level taxes on sugar-sweetened beverages (HealthyBerkeley, UCLA Center for Health Policy Research).","Colorado subjects soft drinks and candy to the standard sales tax when these items are purchased with cash but exempts them if purchased with food stamps, while it exempts all \"Food purchased for human consumption at home\" from the standard sales tax (Colorado Department of Revenue, FYI Sales 4: Taxable and Tax Exempt Sales of Food and Related Items, 2012).","Connecticut subjects soft drinks and candy to the standard sales tax while exempting most other food and food ingredients (Connecticut Legislature, CT Gen Stat § 12-412).","Delaware does not levy a statewide sales tax or any other taxes on unhealthy foods or beverages (Delaware Division of Revenue, Step 4: Learn About Gross Receipts Taxes)","Florida subjects soft drinks and candy to the standard sales tax while exempting most other food and food ingredients (Florida Department of Revenue, Nontaxable Medical Items and General Grocery List, 2023).","Georgia does not levy higher taxes on unhealthy food or beverages than other products for human consumption (Georgia Legislature, GEORGIA SALES AND USE TAX EXEMPTIONS O.C.G.A. § 48-8-3)","Hawaii applies a general excise tax to both food and beverages at the state level. There are no exemptions or higher taxes for unhealthy foods or sugary beverages (State of Hawaii, Department of Taxation, TAX FACTS 37-1: General Excise Tax, 2021).","Idaho applies a general sales tax to both food and beverages at the state level. There are no exemptions or higher taxes for unhealthy foods or sugary beverages. All groceries, including items like candy and soda, are subject to the statewide sales tax (Idaho Legislature, Idaho Code Section 63-3612).","Illinois applies a higher state-level tax rate (6.25%) on candy and soft drinks with natural or artificial sweeteners (Illinois Legislative General Assembly, Ill. Admin. Code tit. 86, § 130.310).","Indiana subjects soft drinks and candy to the standard 7% sales tax while exempting most other food and food ingredients (Indiana Legislature, Indiana Code 6-2.5-5-20).","Iowa exempts most groceries from sales tax but applies the standard 6% sales tax to candy, soft drinks, and prepared foods (Iowa Legislature, Iowa Code 423.3(57); Iowa Legislature, Iowa Administrative Code r. 701-220.2).","Kansas House Bill 2106 (2023) eliminated the state sales tax on food and food ingredients, effective January 1, 2025, reducing the rate from 4% to 0% (Kansas Legislature, HB 2106; K.S.A. 79-3603d).","Kentucky subjects soft drinks and candy to the standard sales tax while exempting most other food and food ingredients (Kentucky Legislature, KRS 139.485 Exemption of food items).","Louisiana does not levy higher taxes on unhealthy food or beverages than other products for human consumption. Food sold for preparation and consumption in the home, dairy products, soft drinks, fresh fruits and vegetables, and package foods requiring further preparation by the purchaser, are exempt from the state sales tax (Louisiana Legislature, Louisiana Revised Statute 47:305).","Maine levies its sales tax on unhealthy foods and beverages such as spirits, beer and wine; candy and confectionery; soft drinks; powdered and liquid drink mixes; chips and pretzels; desserts and bakery items. Only food products considered to be \"grocery staples\" are exempt (Maine Revenue Services, Retailers of Food Products, 2020)","Soft drinks and candy in Maryland are subject to the normal sales tax, while other food items are exempt (Maryland Legislature, MD Tax - General Code § 11-206; Comptroller of Maryland, Information about Sales of Food 2025)","Massachusetts exempts \"food products for human consumption\" from its sales and use tax, without making a distinction based on healthy and unhealthy items (Massachusetts Department of Revenue, Sales and Use Tax).","Michigan exempts the sale of food for human consumption from its state sales tax, without making a distinction based on healthy and unhealthy items (Michigan Legislature, MCL 205.54g).","Soft drinks and candy in Minnesota are subject to the general sales tax, while other food items for consumption are exempt (Minnesota Legislature, Minnesota Statute 297A.61; Minnesota Legislature, Minnesota Rule 8130.4700).","Mississippi applies a general sales tax to both food and beverages at the state level. There are no exemptions or higher taxes for unhealthy foods or beverages (State of Mississippi, Department of Revenue, Sales Tax Rates).","Missouri applies a general sales tax to both food and beverages at the state level. There are no exemptions or higher taxes for unhealthy foods or beverages (Missouri Legislature, RSMo 144.014).","Montana does not impose a statewide sales tax or any taxes targeting unhealthy foods and beverages.","While there have been proposals to specifically tax unhealthy foods and beverages in Nebraska, the state currently exempts groceries and food ingredients for human consumption from the sales tax (Nebraska Legislature, Neb. Rev. Stat. § 77-2701.02; Nebraska Legislature, Neb. Rev. Stat. § 77-2704.24).","Nevada exempts grocery items and food for human consumption, including candy and soda, from its state sales tax (Nevada Legislature, NRS 372.284).","New Hampshire does not impose a statewide sales tax or any taxes targeting unhealthy foods and beverages.","New Jersey exempts certain foods and beverages from its sales tax; however, no specific distinction is made between healthy and unhealthy items. Candy for example, is taxed, whereas potato chips, soft drinks and beverage powders (e.g Kool-Aid, lemonade, iced tea) are exempt (New Jersey Division of Taxation, New Jersey Sales Tax Guide, 2022)","New Mexico does not levy higher taxes on unhealthy food or beverages than other products for human consumption (New Mexico Taxation and Revenue Department, Gross Receipts Tax and Certain Foods).","New York State levies a sales tax on candy, confectionary and soft drinks, while it exempts other foods and beverages (New York State Legislature, N.Y. Comp. Codes R. & Regs. Tit. 20 § 528.2).","North Carolina levies a higher sales tax on candy and soft drinks than on other grocery items (North Carolina Department of Revenue, Food, Non-Qualifying Food, and Prepaid Meal Plans).","Candy, chewing gum, prepared foods and certain soft drinks are taxed the usual sales tax in North Dakota, while groceries and unprepared food items are exempt (North Dakota Legislature, NDCC §§ 57-39.2-02.1; North Dakota Legislature, NDCC §§ 57-39.2-04.1).","Ohio taxes soft drinks and sweetened drinks the standard sales and use tax rate, but it does not levy any taxes on unhealthy food. (Ohio Department of Taxation, Sales & Use Tax; Ohio Department of Taxation; Everyday Purchases).","Oklahoma exempts soft drinks and candy from the state sales tax (Oklahoma Tax Commission, Product List)","Oregon does not impose a statewide sales tax or any taxes targeting unhealthy foods and beverages.","Pennsylvania exempts \"the sale of food and beverages, including candy and gum\" from the state sales tax (Commonwealth of Pennsylvania, § 60.7. Sale and preparation of food and beverages). However, at the municipal level, the city of Philadelphia taxes \"sweetened beverages\" (City of Philadelphia, The Philadelphia Code, Chapter 19-4100. Sugar-sweetened Beverage Tax, 2016).","Rhode Island subjects soft drinks and candy to the standard sales tax while exempting most other food and food ingredients (State of Rhode Island - Division of Taxation Sales and Use Tax Regulation SU 09-59).","South Carolina exempts groceries from its sales and use tax, without making a distinction between healthy and unhealthy items (South Carolina Legislature, SC Code §12-36-2120; South Carolina Department of Revenue, South Carolina Sales and Use Tax Manual, 2020).","South Dakota subjects all food and beverages to the state's standard sales tax rates, without making a distinction between healthy and unhealthy items (South Dakota Legislature, S.D. Codified Laws section 10-45-1).","Tennessee subjects candy to the full rate of sales tax (7%); however, food and food ingredients (including soft drinks) are taxed at a reduced rate of 4% (Tennessee Department of Revenue, Sales and Use Tax Manual, 2022).","Texas subjects candy and soft drinks to the full rate of sales tax; however, other \"food products\" are exempt (Texas Legislature, Limited Sales, Excise, and Use Tax Act).","Utah does not levy higher taxes on unhealthy foods or beverages. A reduced sales and use tax rate applies to \"food and food ingredients\", with no distinction made between healthy and unhealthy products (Utah Legislature, Utah Code § 59-12-103).","Vermont has levied a tax on soft drinks since 2015, but it does not levy any taxes on unhealthy foods (Vermont Legislature, 32 V.S.A. § 9701; Vermont Legislature, 32 V.S.A. § 9741)","Virginia levies an excise tax on soft drinks, but it does not levy any taxes on unhealthy foods (Virginia Legislature, Virginia Code § 58.1-1700-1705)","Washington subjects soft drinks to the full rate of sales tax; however, other \"food and food ingredients\" are exempt (Washington Legislature, RCW 82.08.0293)","Previously, West Virginia levied a tax on unhealthy beverages; however this \"Soft Drink Tax\" ceased on June 30th 2024. There is no statewide tax that targets unhealthy foods or beverages as of February 2025 (West Virginia Tax Division, Soft Drink Tax, 2024)","Wisconsin subjects candy, dietary supplements, prepared food and soft drinks to the full rate of sales tax; however, other foods and beverages are exempt (Wisconsin Legislature, Wisconsin Admin Code 11.51).","Wyoming does not impose specific taxes on unhealthy foods or beverages. Taxation depends on whether items are \"prepared foods\" or \"for home consumption\" (Wyoming Legislature, Wyoming Statutes 39-15-101; 39-15-102)."]
[null,1025,2.3,"Nutrition in schools"]
[null,1026,"2.3.1","School nutrition standards",null,null,"Alabama adheres to federal standards establishing nutritional guidelines for school foods, and publishes detailed meal standards for school meals (Alabama Legislature, Ala. Admin. Code 290-080-030-.01; Alabama Child Nutrition Program, USDA Meal Pattern, 2023).","Alaska follows federal nutrition standards ensuring its School Nutrition Programmes are in alignment with United States Department of Agriculture (USDA) guidance and standards (Alaska Department of Education, School Nutrition Programmes; Alaska Department of Education, Menu Certification Documentation).","Arizona has nutritional standards in place for school meals that establish dietary requirements for all meals and snacks served in Arizona schools (Arizona Legislature, A.R.S § 15-242; Arizona Department of Education, Revised Arizona Nutrition Standards, 2014).","Arkansas requires local educational agencies to develop school wellness policies that include nutritional guidelines for school meals (Arkansas Department of Education, Rules Governing Nutrition and Physical Activity Standards and Body Mass Index for Age Assessment Protocols in Arkansas Public Schools, 2016).","California has nutritional standards for school meals that establish dietary requirements for breakfasts and lunches served in California schools, including prohibitions on deep-fried foods and artificial trans fats (California Legislature, California Education Code § 49430.7).","Colorado has nutritional standards for school meals that establish dietary requirements for breakfasts and lunches served in Colorado schools (Colorado Department of Education, School Breakfast Program Meal Pattern; Colorado Department of Education, National School Lunch Program Meal Pattern).","Connecticut has nutrition standards in place for school food which are detailed in the Connecticut State Department of Education’s (CSDE) \"Connecticut Nutrition Standards for Foods in Schools: School Year 2025-26 (July 1, 2025, through June 30, 2026)\" (Connecticut State Department of Education, Connecticut Nutrition Standards for Foods in Schools: School Year 2025-26, 2025)","Schools in Delaware adhere to federal nutrition guidelines for school meals (Delaware Department of Education, School Nutrition Programs, 2025)","Florida provides standards for school food and nutrition services, and requires each school district to establish and maintain an appropriate school food and nutrition service programme consistent with the nutritional needs of students (Florida Legislature, Florida Statutes § 595.403).","Georgia has nutritional standards for school meals that establish dietary requirements for breakfasts and lunches served in Georgia schools, including minimum amounts of fruits and vegetables, calorie ranges, and targets for sodium and saturated fats (Georgia Department of Education, Meal Patterns for 3-, 4-, 6- and 7-day weeks).","Hawaii has nutritional standards for school food, establishing specific nutrient and energy allowances for meals, snacks and beverages provided to Hawaiian students (Hawai'i State Department of Education, Nutritional Standards Explained).","School nutrition standards are detailed in the Idaho School Nutrition Reference Guide published by the Idaho State Department of Education (Idaho State Department of Education, Idaho School Nutrition Reference Guide, 2022).","The Illinois State Board of Education adheres to federal nutritional standards for school meals (Code of Federal Regulations, Title 7 § 210.10 and § 220.8), mandates that all school districts have a wellness policy with nutrition guidelines (Illinois General Legislative Assembly, Consolidated Statutes, 105 ILCS 5/2-3.162) and implements state-specific guidelines to promote student health (Illinois State Board of Education, School Nutrition Programs: Administrative Handbook, 2025).","Indiana mandates that all food and beverages available to students in public schools comply with federal nutritional requirements and reinforces these standards, specifying meal patterns and nutrient guidelines for breakfast, lunch, and snacks in schools (Indiana Legislature, IC 20-26-9-18.5; Indiana Department of Education, School Nutrition Programs Manual).","Iowa adheres to federal nutritional requirements (Iowa Legislature, Iowa Admin. Code 281.58.1) and mandates that school lunch and breakfast programs meet these guidelines (Iowa Legislature, Iowa Code 283A.1; Iowa Code 283A.2). The state has also established nutrition standards for all foods and beverages sold to students before, during, and 30 minutes after the school day (Iowa Legislature, Iowa Admin. Code 281.58.2).","Kansas has implemented comprehensive nutrition guidelines and policies for school meals to promote student wellness and reduce the prevalence of childhood obesity (Kansas Legislature, K.S.A. 72-17-148; Kansas State Department of Education, Menu Planning & Nutrition Standards for School Meals, 2024; Kansas State Department of Education, Local School Wellness Policies Standards, 2022).","Kentucky adheres to federal standards establishing nutritional guidelines for school foods (Kentucky Legislature, 702 KAR 6:050 - Lunch and breakfast requirements; Code of Federal Regulations Title 7, Section 210.10).","Louisiana adheres to federal standards establishing nutritional guidelines for school foods (Louisiana Legislature, LA Admin. Code 28 § 2103).","Maine's Department of Education oversees several United States Department of Agriculture (USDA) food and nutrition services programmes and initiatives that provide healthy food to children, with each one of these programmes setting guides, planning tools, recipes and financial aid to help fight hunger and obesity (Maine Government, NSLP After School Snack Program Quick Guide, 2023).","Maryland has nutrition standards in place for school food which it outlines in its policy document on Nutrition Standards for All Foods Sold in School (Maryland State Department of Education, Maryland Nutrition Standards for All Foods Sold in School, 2014).","Massachusetts has established nutrition standards for school foods through both state regulations and adherence to federal guidelines (Commonwealth of Massachusetts, 105 CMR 225.00: Nutrition standards for competitive foods and beverages in public schools, 2014; Massachusetts Department of Public Health, School Health Manual, 2007)","Michigan has established a framework combining federal mandates and state recommendations to guide schools in providing nutritious meals to students (Michigan Legislature, MCL 380.1272a; Michigan Legislature, MCL 380.1272b; Michigan Department of Education, School Nutrition Program; Michigan Department of Health & Human Services, Michigan Nutrition Standards).","Minnesota has established nutrition standards for school meals through state statutes and the Minnesota Department of Education (MDE), which assists School Food Authorities (SFAs) in meeting meal pattern and nutrition requirements (Minnesota Legislature, Minn. Stat. 124D.111; Minnesota Department of Education, Nutritional Quality and Meal Pattern, no date)","Public schools in Mississippi are required to comply with United States Department of Agriculture (USDA) nutritional standards, and to further adhere to state nutritional guidelines mandating minimum servings of fruit, vegetables and other healthy choices (Mississippi Department of Education, Rule 38.11 - Nutrition Standards, 2015 - revised in 2023).","Missouri statutes authorise school boards to establish meal programmes that comply with federal nutritional standards (Missouri Legislature, RSMo 167.201), and the Missouri Education Department requires annual training for school nutrition staff to ensure high-quality meal preparation and has published meal pattern standards (Missouri Department of Elementary & Secondary Education, Professional Standards for All School Nutrition Program Employees).","No evidence of any specific nutritional standards for school meals was found in Montana.","The Nebraska Department of Education has developed Meal Pattern Requirements for all public schools, with specific requirements for breakfast, lunch and pre-school snacks which are aligned with minimum federal requirements (Nebraska Department of Education, Meal Pattern Requirements, no date; Nebraska Department of Education, Local School Wellness Policies: Overview and Action Steps, 2017).","The Nevada Department of Agriculture (NDA) ensures that all school meals align with federal standards set under the National School Lunch Program (Nevada Legislature, NRS 387.1145) and implements its own standards through the \"Nevada’s School Meal Pattern Program\" (Nevada Department of Agriculture, Nevada School Meals Patterns, 2017).","New Hampshire has nutrition standards in place for school food that are governed by both federal and state guidelines (New Hampshire Department of Education, National School Lunch Program, 2025; New Hampshire Legislature, N.H. Admin. Code § Ed 306.11)","New Jersey administers federal nutrition standards at the state level for public and non-profit private schools (State of New Jersey Department of Agriculture, School Nutrition Policy; New Jersey Legislature, N.J. Admin. Code § 2:36-1.7)","New Mexico adheres to federal standards establishing nutritional guidelines for school foods (New Mexico Legislature, NMAC 6.12.6.8; Code of Federal Regulations Title 7, Section 210.11).","Public schools in New York State adhere to federal nutritional standards through the National School Lunch Program (NSLP); whereas at the Municipal level – in New York City – the New York Department of Health and Mental Hygiene details a comprehensive set of nutrition standards for school food (New York State Education Department, National School Lunch Program; New York Department of Health and Mental Hygiene, Meals and Snacks Purchased and Served, 2022).","Schools in North Carolina adhere to federal nutritional standards for school meals, which are reinforced at the state level (North Carolina Department of Health and Human Services, School Nutrition Environment Services, 2024; North Carolina Legislature, North Carolina General Statutes, 115C-264.3 Child Nutrition Program Standard, 2021).","North Dakota mandates that all school meals follow federal nutritional guidelines (North Dakota Legislature, North Dakota Admin Code 67-21-01-09; 67-21-02-09) and mandates specific meal patterns through its Administrative Manual For School Foodservice (North Dakota Department of Public Instruction, Administrative Manual For School Foodservice, 2023).","Ohio has nutrition standards in place for any food sold in schools, which are detailed as part of the Healthy Choices for Healthy Children's Act (Ohio Legislative Assembly, Senate Bill 210, 2010).","Oklahoma has nutritional standards in place for school meals that establish dietary requirements for breakfasts and lunches served in Oklahoma schools (Oklahoma Department of Human Services, School Nutrition Programs Compliance Handbook).","Oregon adheres to federal standards establishing nutritional guidelines for school foods (Oregon Legislature, OAR 581-051-0590; Code of Federal Regulations Title 7, Section 210.10).","Pennsylvania has state-specific nutrition standards in place for school food (Pennsylvania Department of Education, Guidelines for Nutritional Standards for Competitive Foods in Pennsylvania Schools).","Rhode Island has state-level nutrition standards in place for school food (Rhode Island Legislature, 200-RICR-20-25-4).","Public schools in South Carolina adhere to federal nutritional standards for school meals, which are reinforced at the state level (South Carolina Department of Education, National School Lunch Program; South Carolina State Board of Education, South Carolina Code of State Regulations 43–168, Nutrition Standard for Elementary Schools (K-5) School Food Service Meals and Competitive, 2009)","The South Dakota Department of Education published \"Meal Pattern and Nutrition Standards in the National School Lunch and School Breakfast Programs\" requirements in July 2024 (South Dakota Department of Education, Meal Pattern and Nutrition Standards, 2024).","Tennessee adheres to federal standards establishing nutritional guidelines for school foods (Tennessee Legislature, Tenn. Comp. R. & Regs. 0520-01-06-.01; Code of Federal Regulations Title 7, Section 210.10).","Texas has nutritional standards in place for school meals that establish dietary requirements for all meals and snacks served in Texas schools (Texas Department of Agriculture, Texas Public School Nutrition Policy, 2007).","Utah mandates that school meal programmes follow federal nutritional requirements (Utah Legislature, Utah Admin. Code R277-727; Utah Legislature, Utah Admin. Code R277-719) and has also published its own Health and Wellness Policy with nutritional standards for school meals (Utah State Board of Education, Model Health Wellness Policy, 2022).","Vermont has nutrition standards in place for school food that it outlines in its Local Wellness Policy Guide (Vermont Agency of Education, Local Wellness Policy Guide, 2023)","Virginia has nutrition standards in place for school food (Commonwealth of Virginia, 8VAC20-740-30, Nutrition standards)","Washington adheres to federal United States Department of Agriculture standards establishing nutritional guidelines for school meals (Washington Legislature, WAC 110-301-0185).","Public schools in West Virginia adhere to both federal and state-level nutritional standards for school meals (West Virginia Department of Education, School Nutrition Programs; West Virginia Department of Education, Policy 4321.1, Standards for School Nutrition \"Other Foods\" Checklist)","Wisconsin follows federal nutrition standards for school meals, without establishing additional state-specific nutrition standards beyond those required by federal programmes (Wisconsin Legislature, Wisconsin Administrative Code PI 42; Wisconsin Legislature, Wisconsin Code 115.34).","Wyoming implements state-level nutritional standards for school meals served in public schools (Wyoming Legislature, Administrative Rules Chapter 6, Section 5(w); Wyoming Board of Education, Wellness Policy, 2014; Wyoming Department of Education, Child Nutrition Handbook, 2013)."]
[null,1027,"2.3.2","Nutrition education",null,null,"Alabama mandates nutrition education in schools for grades Kindergarten to Grade 12 (Alabama State Department of Education, Course of Study: Health Education, 2019).","Alaska mandates both health and physical education in schools from Kindergarten through Grade 12 (Alaska Legislature, Alaska Statutes Sec. 14.30.360) and the Department of Education mandates that these education programmes include nutrition education (Alaska Department of Education, Health Content and Performance Standards for Alaska Students, 2016; Alaska Department of Education, Physical Education Standards, no date).","Arizona mandates nutrition education in schools, starting in Kindergarten and continuing through high school (Arizona Department of Education, Arizona Health Education and Physical Education Standards, 2010).","Arkansas mandates nutrition education in schools (Arkansas Department of Education, Rules Governing Nutrition and Physical Activity Standards and Body Mass Index for Age Assessment Protocols in Arkansas Public Schools, 2016).","California mandates comprehensive nutrition education in schools for students in Kindergarten to Grade 12 (California Legislature, California Education Code §§ 51210.4, 51890; California State Board of Education, Health Education Content Standards for California Schools, 2008).","Colorado mandates nutrition education in schools, starting in Kindergarten and continuing through high school (Colorado Department of Education, Colorado Academic Standards: Comprehensive Health, 2019).","Nutrition education is not a mandatory component of Connecticut's state school curriculum.","Delaware mandates nutrition education in schools under the Department of Education's \"851 K to 12 Comprehensive Health Education Program\" (Delaware General Assembly, Administrative Code : Title 14 : 800 - 851 K to 12 Comprehensive Health Education Program)","Florida mandates nutrition education as part of a comprehensive Kindergarten to Grade 12 health education curriculum, which requires instructional staff to teach nutrition concepts along with community, consumer, environmental and family health topics (Florida Legislature, Florida Statutes § 1003.42; Florida Department of Education, Florida’s State Academic Standards, Health Education, 2023).","Georgia mandates comprehensive health and physical education instruction in schools that includes nutrition education alongside seventeen other core areas such as environmental health, personal health and fitness (Georgia Legislature, Ga. R. & Regs. 160-4-2-.12; Georgia Department of Education, Georgia Standards of Excellence for Health Education, 2021).","Hawaii mandates nutrition education as part of its comprehensive health education requirements, with specific guidelines including culturally relevant activities, hands-on learning, and required instructional time at elementary and secondary levels (Hawai'i State Department of Education, Health & Nutrition Education Guidelines).","Health education is mandated across grades in Idaho (Idaho Legislature, I.C. 33-1605) and the \"Idaho Content Standards: Health Education\" published by the Department of Education include teaching on nutrition across grades (State Department of Education, Idaho Content Standards: Health Education, 2023).","Illinois mandates nutrition education in schools (Illinois General Legislative Assembly, 105 ILCS 110/3) and incorporates it into its curriculum and learning standards (Illinois State Board of Education, Illinois Priority Learning Standards for Physical Development & Health Performance, 2024; Illinois State Board of Education, Illinois Instructional Mandates, 2024).","Indiana mandates health education, including on nutrition, in schools under IC 20-30-5-7, while the Indiana Academic Standards for Physical Education (2023) establish nutrition education as part of the curriculum across grades (Indiana Legislature, IC 20-30-5-7; Indiana Department of Education, Indiana Academic Standards: Physical Education K-5, 2023; Indiana Department of Education, Indiana Academic Standards: Physical Education Grades 6 to 8, 2023; Indiana Department of Education, Indiana Academic Standards: Physical Education High School, 2023)","Iowa mandates nutrition education across all grades (Iowa Legislature, Iowa Code 256.11; Iowa Department of Education, Iowa Academic Standards, 2024)","While the Kansas State Department of Education provides health education standards, including guidelines for nutrition education, these are not mandated but serve as optional resources for school districts to develop their curricula (Kansas State Department of Education, Kansas Model Curricular Standards for Health Education, 2018; Kansas Legislature, K.S.A. 72-5170).","Kentucky mandates nutrition education in schools for students in grades Kindergarten to Grade 12 (Kentucky Department of Education, Kentucky Academic Standards for Health Education).","Louisiana mandates nutrition education in schools, starting in Kindergarten and continuing through high school (Louisiana Legislature, LA Admin. Code Ch. 5 Health Education Content Standards, Benchmarks and Grade-Level Expectations).","Maine's Department of Education actively promotes nutrition education within schools; however, it is not explicitly mandated by state law.","Nutrition education is mandated in Maryland for students in Kindergarten through to high school (Maryland State Department of Education, Maryland Comprehensive Health Education Framework: Pre-Kindergarten through 12th Grade, 2021).","Nutrition education is mandated in Massachusetts for students in Kindergarten to Grade 12 as part of the health education curriculum (Massachusetts Department of Public Health, School Health Manual, 2007; Massachusetts Legislature, M.G.L. Chapter 71, Section 1)","Nutrition education is mandated in Michigan for students in Kindergarten to Grade 12 (Michigan Legislature, MCL 380.1278, MCL 380.1278a; Department of Education, Michigan K-12 Program Standards of Quality in Health Education; Department of Education, Health/Physical Education Merit Curriculum Standards).","Minnesota legislation mandates physical and health education for all school students (Minnesota Legislature, Admin Rules 3501.1400; Minnesota Legislature, Minn. Stat § 120B.021) and the current Minnesota Department of Education Standards for Physical Education include teaching on nutrition as a core pillar of PE education across grades (Minnesota Department of Education, Minnesota K-12 Academic Standards Physical Education, 2018; Minnesota Department of Education, National Health Education Standards and Minnesota Benchmarks, 2007).","Mississippi mandates nutrition education in schools for students in grades Kindergarten to Grade 8 (Mississippi Legislature, MS Code § 37-161-7; Mississippi Department of Education, Contemporary Health K-8, 2012).","Missouri mandates nutrition education across grades (Missouri Legislature, 5 CSR 20-200.260; Missouri Department of Elementary and Secondary Education, Health Education Grade-Level Expectations, 2007; Missouri Department of Elementary and Secondary Education, Missouri Physical Education Grade Level Expectations, 2016).","Health education is mandated across school grades in Montana and includes education on nutrition (Montana Legislature, ARM 10.53.702 to ARM 10.53.709; Montana Office of Public Instruction, Montana Health Enhancement Content Standards, 2016).","Nebraska mandates nutrition education as part of its health education curriculum (Nebraska Legislature, Neb. Rev. Stat. 79-712; Nebraska Legislature, Neb. Admin. Code Title 92, Chapter 10, Rule 004.02A; Nebraska Department of Education, Health Education Standards for Nebraska, 2021).","Nevada legislation mandates nutrition education across all grades (Nevada Legislature, NAC §§ 389.2423, 389.2938, 389.381, 389.455). In parallel, the Nevada Academic Content Standards for Health (2020) ensure nutrition education is systematically implemented across all grade levels (Nevada Department of Education, Nevada Academic Content Standards for Health, 2020).","New Hampshire does not require nutrition education to be taught as part of the curriculum, but New Hampshire's Health Education Curriculum Guidelines include comprehensive recommendations for nutrition education as part of school curricula (New Hampshire State Department of Education, Health Education Curriculum Guidelines, 2003)","New Jersey mandates nutrition education in schools through the Department of Education's 2020 New Jersey Student Learning Standards for Comprehensive Health & Physical Education (State of New Jersey Department of Education, New Jersey Student Learning Standards - Comprehensive Health and Physical Education, 2020)","New Mexico mandates nutrition education in schools, starting in Kindergarten and continuing through high school (New Mexico Public Education Department, Health Education Standards, 2009).","The state of New York mandates nutrition education as part of its health education curriculum in schools (New York State Center for School Health, New York State School Health Education Requirements Summary, 2021).","North Carolina's Department of Public Instruction establishes essential nutrition education standards, integrating them into the curriculum at all grade levels (North Carolina Department of Public Instruction, Healthful Living Standard Course of Study).","Nutrition education is not mandated within the North Dakota public educational system (North Dakota Legislative Branch, North Dakota Century Code 15.1-21; North Dakota Department of Public Instruction, North Dakota Health Education Content Standards, 2018).","Ohio requires schools to provide nutrition education as part of the health education portion of the state school curriculum (Ohio Legislative Assembly, Section 3313.60 | Prescribed curriculum - Ohio Revised Code, 2024)","Oklahoma mandates nutrition education in schools, starting in Kindergarten and continuing through high school (Oklahoma Department of Education, Oklahoma Academic Standards for Health Education, 2023).","Oregon mandates comprehensive nutrition education as part of its Kindergarten to Grade 12 health education curriculum (Oregon Department of Education, 2023 Oregon Health Standards: K-12 Health Education, 2023).","Nutrition education is a required component of Pennsylvania's school curriculum (Pennsylvania Legislature, Pennsylvania Unconsolidated Statutes, 24 P.S. § 15-1513; Pennsylvania Legislature, 22 Pa. Code § 4.23. High school education)","Rhode Island has developed the \"Curriculum Framework for Health Education K-12\" that encourages schools to teach students about nutrition but it is not mandated (Department of Education, Curriculum Framework for Health Education K-12, 2022).","Schools in South Carolina are mandated to teach nutrition education (South Carolina Department of Education, 2017 South Carolina Academic Standards for Health and Safety Education, 2017; South Carolina State Legislature, SC Code § 59-32-30).","South Dakota's Physical Education Standards require schools to teach nutrition education across grades (South Dakota Department of Education, Physical Education Standards, 2021). Conformity to these standards is mandated under South Dakota legislation (South Dakota Legislature, S.D. Codified Laws 13-33-1).","Tennessee mandates nutrition education in schools for students in grades Kindergarten to Grade 12 (Tennessee Department of Education, Tennessee Health Education and Lifetime Wellness Standards, 2018).","Texas mandates nutrition education in schools, starting in Kindergarten and continuing through high school (Texas Legislature, Texas Education Code § 28.002, Chapter 115).","Nutrition education is included as part of Utah's Health Education curriculum (Utah State Board of Education, Utah Core State Standards for Health Education, 2019) which is mandated across grades under Statute (Utah Legislature, Utah Admin. Code 277-700-4, Utah Admin. Code 277-700-5, Utah Admin. Code 277-700-6).","Vermont mandates nutrition education in schools, as per its School Wellness Policy Guidelines (Vermont Agency of Education, Local Wellness Policy Guide, 2023; Vermont Agency of Education, Health Education)","Virginia's state curriculum includes nutrition education as part of its health education framework (Virginia Department of Education, Health Education, 2022; Virginia Department of Education, 2020 Health Education Standards of Learning Curriculum Framework, 2022).","Washington mandates comprehensive nutrition education as a required core content area with specific grade-level requirements (Washington Office of Superintendent of Public Instruction, Health Education K-12 Learning Standards, 2023).","West Virginia makes nutrition education compulsory in public schools, as per its Standards for Wellness Education (West Virginia Department of Education, Title 126 – Legislative Rule, 2018)","Wisconsin mandates nutrition education across grades Kindergarten to Grade 12 (Wisconsin Legislature, Wisconsin Code 118.01).","Wyoming mandates nutrition education across grades as part of its mandated health curriculum (Wyoming Legislature, Wyoming Statutes 21-9-101; Wyoming Department of Education, Health Education Standards, 2021)."]
[null,1028,"2.3.3","Universal free school meals",null,null,"In Alabama, students are eligible to receive free or reduced-price meals at school based on their family's income, provided that their school participates in the federal free lunch programme. However, the provision of free school meals is not mandated in the state (Alabama State Department of Education, Frequently Asked Questions About Free and Reduced Price School Meals, 2022).","Alaska does not mandate the provision of free school meals for students in public schools.","All public schools in Arizona are required to participate in the National School Lunch Program - which reimburses public schools that have opted-in to the programme for providing free meals to eligible low-income students. However, the state does not mandate universal free school meals for all students (Arizona Legislature, Ariz. Rev. Stat § 15-242).","Public schools in Arkansas can choose to participate in the National School Lunch Program - which reimburses public schools that have opted-in to the programme for providing free lunch to eligible low-income students - while all schools located in a school district with 20% or more free and reduced-price certified students are required to participate in the federal School Breakfast Program - which reimburses public schools that have opted-in to the programme for providing free breakfast to eligible low-income students. However, the state does not mandate universal free school meals for all students (Arkansas Department of Education; Arkansas Legislature, Ark. Code Ann. § 6-18-705).","California has a universal school meals policy, requiring schools to provide two meals (breakfast and lunch) free of charge during each school day to students requesting a meal, regardless of their free or reduced-price meal eligibility (California Legislature, California Education Code § 49501.5).","All schools in Colorado have the option of participating in a statewide program that provides free school meals to all students; however, participation in this programme is not mandatory (Colorado Department of Education, Healthy School Meals for All Program).","Connecticut participates in federal school meal programmes (e.g the National School Lunch Program, the School Breakfast Program) that reimburse public schools that have opted-in to the programme for providing free meals to eligible low-income students. However, the state does not mandate universal free school meals for all students (Connecticut Legislature, Conn. Gen. Stat. Chap. 172 Sec. 10-266w; United Way of Connecticut, School Lunch and Breakfast Programs, 2024).","Delaware participates in federal school meal programmes (e.g the National School Lunch Program and the School Breakfast Program) that reimburse public schools that have opted-in to the programme for providing free meals to eligible low-income students. In 2024, Governor Carney signed House Substitute 2 for House Bill 125 which expanded access to free breakfast and lunch to students who would receive a reduced-price meal under the federal School Breakfast Program and National School Lunch Program. However, the state does not mandate universal free school meals for all students (Delaware Legislature, 14 Del. C. § 4137; Delaware General Assembly, House Substitute 2 for House Bill 125, 2024).","Florida does not mandate the provision of free school meals for students in public schools; however, as of January 2025, a bill has been introduced in the Florida Senate that would establish universal free school breakfast and lunch for all public school students (Florida Legislature, Florida Statutes § 595.405).","All public schools in Georgia are required to participate in the National School Lunch Program - which reimburses public schools that have opted-in to the programme for providing free lunches to eligible low-income students - while all Kindergarten to Grade 8 schools within which 25% or more of the students are free- and reduced-price certified and other schools with 40% or more free and reduced-price students are required to establish a School Breakfast Program. Thus, while students are eligible to receive free or reduced-price meals at school based on their family's income, the state does not mandate universal free school meals for all students (Georgia Department of Education, School Lunch Program; Georgia Legislature, Code of Georgia Title 20 Section 20-2-66 - School breakfast programs; Georgia State Board of Education, Rule 160-5-6-01).","In Hawaii, schools are mandated to make meals available if students are required to eat meals at school, and students are eligible to receive free or reduced-price meals based on their family's income. However, the state does not mandate the provision of free school meals to all students (Hawai'i State Department of Education, Free and Reduced Price Meals Program; Hawaii Legislature, HI Rev Stat § 302A-404).","Idaho does not mandate the provision of free school meals for students in public schools.","Every public school in Illinois is required to have a free lunch program (Illinois Legislature, 105 ILCS 125/4) to provide free lunches to students who are eligible (Illinois Legislature, Ill. Admin. Code tit. 23, § 305.10). Additionally, since 2023, Illinois mandates that participating school boards in the Healthy School Meals for All Program offer free meals to all students enrolled in schools (Illinois Legislature, 105 ILCS 125/2.3).","Free school lunches are not mandated in Indiana. IC 20-25-4-19 allows but does not require school boards to provide lunches, leaving the decision at their discretion. Further, the statute permits schools to offer free lunches only to eligible students but does not impose a statewide mandate for all students. (Indiana Legislature, IC 20-25-4-19)","Iowa mandates the provision of free school meals in all school districts in the state, for all students who attend at least four hours of school a day (Iowa Legislature, Iowa Code 283A.2).","Kansas mandates the provision of school breakfast programmes free of cost to all students, regardless of their individual eligibility status (Kansas Legislature, K.S.A. 72-17,145).","In Kentucky, students are eligible to receive free or reduced-price meals at school based on their family's income, provided that their school participates in the federal free lunch programme. However, the provision of free school meals is not mandated in the state (Kentucky Department of Education, National School Lunch Program; Kentucky Legislature, 702 KAR 6:050 - Lunch and breakfast requirements).","All public schools in Louisiana are required to participate in the National School Lunch Program - which reimburses public schools that have opted-in to the programme for providing free lunches to eligible low-income students - and all school districts with at least one school with 25% or more students eligible for free and reduced-price meals are required to participate in the federal School Breakfast Program in all schools in the district, which reimburses public schools that have opted-in to the programme for providing free breakfasts to eligible low-income students. However, the state does not mandate universal free school meals for all students (Louisiana Legislature, LA Rev. Stat. 17 §192).","The state of Maine mandates that public schools provide free meals for all students (Full Plates, School Meals for All, 2021).","All public elementary schools in Maryland are required to operate a free and reduced-price breakfast programme for eligible students, while all public schools are required to operate a free and reduced-price lunch programme for eligible students. (Maryland Legislature, MD Education Code § 7-701; Maryland Legislature, MD Education Code § 7-601)","All public schools in Massachusetts are mandated to provide free lunches to all students, regardless of household income. All severe-need schools and those where 60% of students are eligible for free and reduced-price meals are required to participate in the federal School Breakfast Program, which provides free and reduced-cost breakfasts to low-income students (Massachusetts Legislature, Mass. Gen. Laws Ch. 69 § 1C)","All public schools in Michigan are mandated to provide lunch meals to all full-time pupils enrolled and in regular daily attendance at each public school of the school district (Michigan Legislature, MCL 380.1272a; Michigan Department of Education, Michigan School Meals Program).","All public schools in Minnesota must provide up to two free meals per day (one breakfast, one lunch) to all students, regardless of eligibility status (Minnesota Legislature, Minnesota Statute § 124D.111).","Mississippi participates in federal school meal programmes (e.g the National School Lunch Program) that reimburse public schools that have opted-in to the programme for providing free meals to eligible low-income students. Students in Mississippi are eligible to receive free or reduced-price meals at school based on their family's income, provided that their school participates in the federal free lunch programme. However, the state does not mandate universal free school meals for all students (Mississippi Department of Education; Food Research and Action Center, 2024).","Missouri statutes grant school boards the authority to establish meal programmes but do not mandate universal access. Free and reduced-price meals are provided only to eligible students based on income criteria (Missouri Legislature, RSMo 167.201, RSMo 191.803, 5 CSR 30-680.010). Although 2023 legislative proposals aimed to provide free daily meals to all public school students, no progress has been reported on this as of February 2025 (Missouri Legislature, HB 172; SB 321).","Montana does not mandate the provision of free school meals for students in public schools.","Nebraska encourages schools to offer a Summer Food Service Program for children in need in the summer (Nebraska Legislature, Neb. Rev. Stat 79-10,140 and 79-10,141). Beyond this, however, schools are not mandated to provide free meals to students.","Free breakfasts are only mandated in some eligible schools through the Breakfast After the Bell Program, which requires public schools in Nevada with 70% or more of students eligible for free or reduced-price lunches under the National School Lunch Act to provide breakfast after the instructional day begins (Nevada Legislature, NRS 387.1145). Previous universal school meal programmes in the state were discontinued in 2025 (Nevada Legislature, Approval of Work Program Revisions for the Expenditure of American Rescue Plan Act, Coronavirus State and Local Fiscal Recovery Funds, 2023).","Free school lunches are mandated in New Hampshire for students from families whose income is up to 130% of the federal poverty level and reduced-price meals are mandated for students from families whose income is up to 185% of the federal poverty level (New Hampshire Department of Education, National School Lunch Program, 2025)","New Jersey mandates the provision of free school meals to eligible students in public schools, non-profit privates schools, and residential child care Institution based on income and household size (State of New Jersey Department of Agriculture, School Nutrition Policy; State of New Jersey Department of Agriculture, Back to School Reminders for School Year 2024-2025, 2024)","Since the 2023-2024 school year, New Mexico's Healthy Hunger-Free Students Bill of Rights Act has mandated free school meals for all students in New Mexico schools (New Mexico Legislature, NM Stat § 22-13C-4).","New York state participates in federal school meal programmes (e.g the National School Lunch Program) that reimburse public schools that have opted-in to the programme for providing free meals to eligible low-income students. Students in New York are eligible to receive free or reduced-price meals at school based on their family's income, provided that their school participates in the federal free lunch programme. However, the state does not mandate universal free school meals for all students (New York State Education Department, National School Lunch Program).","All public schools in North Carolina are required to participate in the National School Lunch Program - which reimburses public schools that have opted-in to the programme for providing free lunches to eligible low-income students. While bills establishing permanent universal free school meals have been brought to the House and Senate, they died in committee and have not been passed as of February 2025 (North Carolina State Legislature, North Carolina General Statutes § 115C-264 Operation; North Carolina State Legislature, North Carolina House Bill 1074; North Carolina State Legislature, North Carolina Senate Bill 887).","North Dakota participates in federal school meal programmes (e.g the National School Lunch Program) that reimburse public schools that have opted-in to the programme for providing free meals to eligible low-income students. Students in North Dakota are eligible to receive free or reduced-price lunches and breakfasts at school based on their family's income, provided that their school participates in the federal meal programmes. However, the state does not mandate universal free school meals for all students (North Dakota Legislative Branch, North Dakota Admin Code 67-21-01-08; North Dakota Legislative Branch, 67-21-02-08).","Ohio mandates all schools with 20% or more students certified for free meals to participate in the National School Lunch Program and the School Breakfast Program - which reimburse public schools that have opted-in to the programme for providing free meals to eligible low-income students, and requires that schools must establish a breakfast programme when 50% of parents request one. However, it does not mandate universal free school meals for all students (Ohio Legislature, Ohio Rev. Code § 3313.813 and 3313.818).","Oklahoma participates in federal school meal programmes (e.g the National School Lunch Program) that reimburse public schools that have opted-in to the programme for providing free meals to eligible low-income students. However, the state does not mandate universal free school meals for all students (Oklahoma Department of Human Services, School Nutrition Programs Compliance Handbook).","While the large majority of public schools in Oregon participate in the School Meals for All programme that provides free breakfasts and lunches to students, school meals are not universally mandated across the state. Nonetheless, schools with 25% or more free and reduced-price certified students are required to participate in the School Breakfast Program (a federal programme which reimburses public schools that have opted-in to the programme for providing free breakfasts to eligible low-income students), and all schools with 70% or more free or reduced-price certified students are required to establish a breakfast after the bell programme (Oregon Legislature, ORS 327.531; Oregon Legislature, ORS 327.535).","Pennsylvania mandates public schools to provide free breakfasts to all students, while free or reduced-price lunches are provided based on income eligibility (Pennsylvania Department of Education, National School Lunch Program; Pennsylvania Department of Education, National School Breakfast Program; Pennsylvania Department of Education, After School Snack Program).","Rhode Island mandates all public schools to provide school meals, but their prices depend on students' household income status (Rhode Island Legislature, RI Gen L § 16-8-10).","All public schools in South Carolina are required to participate in the National School Lunch Program and the School Breakfast Program which reimburse public schools that have opted-in to the programme for providing free meals to eligible low-income students. However, the state does not mandate universal free school meals for all students (South Carolina Department of Education, National School Lunch Program; South Carolina Department of Education, National School Breakfast Program; South Carolina General Assembly, 2023-2024, Bill 148: Free School Meals, 2022).","South Dakota does not mandate the establishment of free school meals and permits that students be charged for food services programmes in schools (South Dakota Legislature, S.D. Codified Laws section 13-35-2).","All public schools in Tennessee are on the National School Lunch Program - which reimburse public schools for providing free lunches to eligible low-income students - and all Kindergarten to Grade 8 schools in which 25% or more of the students, and all other schools in which 40% or more of the students received a free or reduced-price lunch, are required to participate in the School Breakfast Program - which reimburse public schools for providing free breakfasts to eligible low-income students. However, the state does not mandate universal free school meals for all students (Tennessee Department of Education; Tennessee Legislature, Tenn. Code Ann. § 49-6-2302).","All public schools in Texas where at least 10% of students enrolled in one or more schools in a school district are eligible for free or reduced-price breakfasts under the national School Breakfast Program are required to provide free meals to eligible low-income students. However, the state does not mandate universal free school meals for all students (Texas Legislature, Texas Education Code - EDUC § 33.901; Texas Department of Agriculture, National School Lunch Program).","Utah does not mandate the provision of free school meals for students in public schools.","Vermont mandates the provision of free school meals to all students in public schools, regardless of their income (Vermont Legislature, H.165 (Act 64)).","All public schools in Virginia are required to participate in the federal National School Lunch Program - which reimburses public schools for providing free lunches to eligible low-income students - and the federal School Breakfast Program - which reimburses public schools for providing free breakfasts to eligible low-income students. However, the state does not mandate universal free school meals for all students (Virginia Legislature, VA. Code Ann § 22.1-79.7:1).","As of the 2023-2024 school year, public schools in Washington are mandated to provide students with free school meals, including breakfast and lunch (Washington Legislature, RCW 28A.235.135).","West Virginia mandates the provision of free school meals in certain eligible schools - often schools of \"high need/priority\" (West Virginia Legislature, Article 5D West Virginia Feed to Achieve Act, §18-5D-3)","Wisconsin does not mandate the provision of free school meals in public schools. While the Department of Public Instruction can contract for school lunch programmes (Wisconsin Legislation, Wisconsin Code 115.34), the only required nutrition programme is the School Day Milk Program (Wisconsin Legislation, Wisconsin Code 115.343).","Public schools in Wyoming can provide free- and reduced-price meals to students based on the income of parents or guardians. However, universal school meals for all students are not mandated in the state (Wyoming Legislature, Administrative Rules Chapter 6, Section 5(w); Wyoming Board of Education, Wellness Policy, 2014; Wyoming Board of Education, Policy 8531: Free and Reduced Price Meals)."]
[null,1029,3,"Physical activity"]
[null,1030,3.1,"Physical activity among the population"]
[null,1031,"3.1.1","Promotion of physical activity",null,null,"The Alabama Physical Activity and Nutrition Plan (ALPAN) 2023-2033 seeks to promote physical activity amongst the population, and Alabama has established statewide policies promoting physical activity through initiatives like the For Every Body campaign and Get Alabama Moving programme. Further, the state is committed to promoting active travel, such as walking and biking, through the implementation of its Alabama Statewide Bicycle and Pedestrian Plan. However, there are no specific policies in place focused on reducing car usage (Alabama Wellness Alliance, Alabama Physical Activity and Nutrition Plan 2023-2033, 2022; Alabama Department of Public Health, For Every Body Campaign; Alabama Department of Public Health, Get Moving Alabama; Alabama Department of Transportation, Alabama Statewide Bicycle and Pedestrian Plan, 2017).","The Alaska Physical Activity and Nutrition (PAN) programme and the Fresh Start programme are units within the Alaska Department of Health which promote active travel amongst Alaskans, but they do not include provisions to reduce car usage (Alaska Department of Health, Chronic Disease Prevention Health Promotion, Activity-Friendly Routes to Everyday Destinations, 2020; Alaska Department of Health, Fresh Start: Free Programs for Better Health, Healthy Futures).","Arizona promotes physical activity amongst the general population through its Arizona Healthy Worksites, Empower Schools, and Active Transportation programmes. It does not have any measures in place focused on reducing car usage; however, the Active Transportation Program includes a goal to reduce reliance on motorised transit (Arizona Department of Health Services, Healthy Worksites, Empower Schools; Arizona Department of Transportation, Active Transportation Program).","Arkansas has policies in place to promote physical activity amongst the general population, as well as policies to promote active travel - such as walking and cycling. However, there are no measures in place explicitly focused on reducing car usage (Arkansas Department of Health, Physical Activity; Arkansas Department of Transportation, Arkansas Bicycle and Pedestrian Transportation Plan, 2017).","California has policies in place to promote physical activity among the general population (California Department of Public Health, Nutrition and Physical Activity Branch), as well as policies focused on promoting active travel (California Department of Transportation, Toward an Active California: State Pedestrian and Bicycle Plan, 2017) and reducing car usage (California Department of Transportation, Climate Action Plan for Transportation Infrastructure, 2021).","Colorado promotes physical activity amongst the general population through its Built Environment program, Statewide Active Transportation Plan and Statewide Bicycle and Pedestrian Plan, which aim to promote active travel and reduce reliance on motorised transit (Colorado Department of Public Health and Environment, Public health and the Built Environment; Colorado Department of Transportation, Statewide Active Transportation Plan, Colorado Department of Transportation, Statewide Bicycle and Pedestrian Plan).","Connecticut encourages residents to undertake active travel - namely walking and biking - through provisions in its Active Transportation Plan which aims to encourage more active forms of mobility. However, it does not contain measures focused on reducing car usage (Connecticut Department of Transportation, Connecticut Active Transportation Plan, 2019).","Delaware has policies in place to promote physical activity amongst the general population, including measures to encourage active travel and reduce car use (Delaware Department of Transportation, Complete Streets Policy, 2009; Delaware Department of Transportation, Complete Streets Design Guide Draft, 2024; Delaware Department of Transportation, Blueprint for a Bicycle-Friendly Delaware: A Statewide Policy Plan, 2018).","Florida has a programme to promote physical activity amongst the general population (Florida Department of Health, Healthiest Weight Florida). However, there is no evidence that Florida has policies in place promoting active travel or car usage reduction.","Georgia has established statewide policies promoting physical activity through initiatives like the Georgia Shape programme, which focuses on improving the health and fitness of Georgia's youth and families. Further, the state is committed to promoting active travel and is developing a statewide active transportation plan. However, there are no specific measures in place to reduce car usage (Georgia Shape; Georgia Department of Transportation, Complete Streets; Georgia Department of Transportation, Rural Statewide Active Transportation Plan).","Hawaii has policies in place to promote physical activity amongst the general population, including policies promoting active travel; however, it does not have any measures in place explicitly targeting a reduction in car usage (Hawaiʻi State Department of Health, Hawai'i Complete Streets Policy, 2011; Hawaiʻi State Department of Health, Healthy Hawaii Initiative).","The Idaho Physical Activity and Nutrition Program (IPAN) works statewide to encourage healthy eating and increase active living opportunities. However, its focus is not on promoting active travel or on reducing car usage, but rather broader physical activity promotion (Idaho Department of Health & Welfare, Physical Activity and Nutrition).","The Illinois State Physical Activity and Nutrition program (ISPAN), managed by the Illinois Public Health Institute in collaboration with the Illinois Department of Public Health and local health departments, implements community-based physical activity and nutrition initiatives, including promoting activity to address obesity in the state (Illinois Public Health Institute, ISPAN, 2020). The Illinois Department of Public Health also provides resources and publications to encourage physical activity and reduced car usage (Illinois Department of Public Health, Physical Activity).","Indiana implements a combination of policy and programmatic efforts focused on promoting active living, reducing barriers to physical activity, and encouraging active travel options like walking and cycling (Indiana Department of Health, Community Physical Activity; Indiana Department of Transportation, Complete Streets Programme; Health By Design, Our Work; Indiana Department of Health Division of Nutrition and Physical Activity (DNPA), Indiana Active Living Guidebook).","Iowa has implemented state-level physical activity promotion policies through its 5-2-1-0 Healthy Choices Count! initiative, though these do not specifically address active transportation or a reduction in car usage (Iowa Department of Health and Human Services, 5-2-1-0 Healthy Choices Count!, 2024).","The Kansas Community Health Promotion Programme has three initiatives in place to promote physical activity, with a particular emphasis on active travel and reducing car usage through infrastructure improvements (Kansas Department of Health and Environment, Community Design for Active People; Kansas Department of Health and Environment, Creative Placemaking 101; Kansas Department of Health and Environment, Governor's Council on Wellness).","Kentucky has established statewide policies promoting physical activity through initiatives like the Department for Public Health's Physical Activity and Nutrition Program and the 5-2-1-0 Healthy Numbers for Kentucky Families campaign, which focus on promoting physical activity among the general population (Kentucky Department for Public Health, Physical Activity and Nutrition Program; Kentucky Cabinet for Health and Family Services, 5-2-1-0 Healthy Numbers for Kentucky Families). Additionally, the state's Complete Streets, Roads and Highways Policy promotes active travel while endeavoring to reduce car usage (Kentucky Transportation Cabinet, Complete Streets, Roads, and Highways Policy, 2022).","Louisiana has policies in place to promote physical activity amongst the general population as well as a Complete Streets policy to facilitate active travel. However, there are no specific measures in place to reduce car usage (Louisiana Department of Health, Well-Ahead; Louisiana Department of Transportation, Complete Streets Policy, 2010).","Maine has multiple policies in place oriented around increasing physical activity and active travel across the population. However, they do not specifically target a reduction in car usage (Maine Center for Disease Control and Prevention, State Health Improvement Plan 2018-2020, 2018; Maine Department of Transportation, Maine State Active Transportation Plan, 2023)","Maryland has dedicated policies in place aimed at promoting physical activity amongst the general population through the Model Complete Streets Initiative and the 2050 Bicycle and Pedestrian Masterplan, which focus on active travel but do not outline specific measures to explicitly reduce car usage (Maryland Department of Transportation, Model Complete Streets Initiative; Maryland Department of Transportation, 2050 Bicycle and Pedestrian Masterplan, 2024; Maryland Public Health Services Administration, Building a Healthier Maryland - State Health Improvement Plan, 2024).","Massachusetts implements an initiative aimed at promoting healthy eating and active living, with a focus on implementing various policies to encourage physical activity for all members of the population. However, it does not focus on promoting active travel or reducing car usage (Commonwealth of Massachusetts, Mass in Motion)","The Michigan Nutrition, Physical Activity and Obesity (NPAO) Program promotes physical activity by supporting healthier environments in communities, schools and workplaces; however, it does not specifically address active travel or reducing car usage in its initiatives (Michigan Department of Health and Human Services, Michigan Nutrition, Physical Activity and Obesity Program, 2022).","Minnesota has state-level policies in place promoting physical activity through the Active Living in Communities at a Glance strategy, the Statewide Health Improvement Partnership and the Walkable Community Workshops programme. Reducing car usage, however, is not an explicit focus of these initiatives (Minnesota Department of Health, Active Living in Communities at a Glance, 2017; Minnesota Department of Health, Statewide Health Improvement Partnership; Minnesota Department of Health, Walkable Community Workshops).","The Mississippi Department of Health's \"Healthy Living\" programme promotes physical activity amongst the general population, providing resources to facilitate walking among Mississippi citizens (Mississippi Department of Health, Healthy Living). Additionally, the Mississippi Department of Transportation operates a Bicycle & Pedestrian Program that promotes active travel to achieve health, economic and environmental benefits, including reducing car usage (Mississippi Department of Transportation, Bicycle & Pedestrian Program).","Missouri actively promotes physical activity amongst the population and implements programmes supporting active travel, such as 12345 Fit-Tastic! and Complete Streets. However, it does not implement any measures specifically targeted at reducing car usage (Missouri Department of Health and Senior Services, Missouri Complete Streets; Missouri Department of Health and Senior Services, Healthy Lifestyles Initiative, 12345 Fit-tastic!).","The Montana Nutrition & Physical Activity (NAPA) Program implements the \"Walk with Ease\" and the \"Joy in Healthy Living\" initiatives to promote active transportation and physical activity across the population, but they do not contain measures focused on reducing car usage (Montana Department of Public Health & Human Services, Wellness Programs: Walk with Ease; Montana Department of Public Health and Human Services, Joy in Healthy Living).","The Nebraska Physical Activity and Nutrition State Plan 2011- 2016 (2011) included several policies and strategies specifically focused on promoting active transportation and physical activity. However, it did not include measures focused on reducing car usage. Additionally, the plan is no longer valid (Nebraska Department of Health and Human Services, Division of Public Health, Nebraska Physical Activity and Nutrition State Plan, 2011- 2016, 2011).","Since 2023, the Healthy Eating and Active Living Nevada Initiative has encouraged physical activity across the population, with a focus on both active transportation and reduced car usage through programs like \"NV 5-2-1-0 Program\" and \"Move Your Way\" (Nevada Division of Public and Behavioral Health, Healthy Eating and Active Living Nevada; Southern Nevada Health District: Clark County, Move Your Way).","The State of New Hampshire has implemented several policies and initiatives to promote physical activity amongst the population, including biking and walking. However, it does not present any strategies explicitly targeted at reducing car usage (New Hampshire, Municipal Association, Designing Healthier Communities in New Hampshire; New Hampshire Department of Transportation, Your guide to promoting walking and bicycling accomodation in New Hampshire).","The state of New Jersey actively promotes physical activity and active travel through collaborative initiatives aimed at enhancing public health and well-being. However, it does not present any measures explicitly targeted at reducing car usage (New Jersey Healthy Communities Network, New Jersey Healthy Communities Network; New Jersey Department of Transportation, New Jersey Bicycle & Pedestrian Master Plan, 2016).","New Mexico promotes physical activity amongst the general population through its Outdoor Recreation Division and Active Transportation and Recreational Programs; however, there is no specific focus on reducing car usage (New Mexico Outdoor Recreation Division; New Mexico Department of Transportation, Active Transportation and Recreational Programs).","The New York State Department of Health has strategies in place promoting physical activity among the general population, including a focus on active transportation. However, there are no measures in place focused on reducing car usage (New York State Department of Health, New York State Prevention Agenda Prevent Chronic Diseases Action Plan, 2021)","North Carolina has a multi-sectoral, community initiative approach to promoting physical activity amongst its general population, coordinated by North Carolina's Community & Clinical Connections for Prevention & Health Branch and various community organisations. Its policies promote the use of active travel, but they do not explicitly focus on reducing car usage (North Carolina's Community & Clinical Connections for Prevention & Health Branch, Improve Physical Activity and Nutrition; North Carolina's Community & Clinical Connections for Prevention & Health Branch, Active Routes to School)","The North Dakota Healthy Eating and Physical Activity: A State Plan for Action (2008-2013) included a clear focus on active travel; however, it expired in 2013 (North Dakota Department of Health and Human Services, North Dakota Healthy Eating and Physical Activity: A State Plan for Action, 2008).","The Ohio Department of Health has initiatives in place to promote active travel and reduce car usage amongst the population (Ohio Department of Health, Active Living, 2025; Ohio Department of Health, 2023 Active Living Summary, 2023)","Oklahoma has policies in place to promote physical activity amongst the general population, focusing both on promoting active travel (walking, cycling) and reducing car usage (Oklahoma Department of Transportation, Oklahoma Active Transportation Plan, 2023).","Oregon has policies in place to promote physical activity amongst the general population, including policies promoting active travel and reducing car usage (Oregon Health Authority, Healthy Worksites; Oregon Department of Transportation, Bicycle and Pedestrian Programme).","Pennsylvania has policies in place that promote physical activity amongst the general population, including active travel (Pennsylvania Department of Health, State Health Improvement Plan 2023-2028, 2023).","Rhode Island has policies in place that seek to promote active living -- particularly through the 2023-2028 Rhode Island Healthy Eating and Active Living Strategic Plan -- with a particular emphasis on promoting active travel. However, the plan does not include any specific measures to reduce car usage (State of Rhode Island Department of Health, 2023-2028 Rhode Island Healthy Eating and Active Living Strategic Plan, 2023).","South Carolina does not implement any policies specifically aimed at promoting physical activity across the population.","Through \"Move Your Way\" and an Active Transportation Programme, the South Dakota Department of Health aims to promote physical activity and active travel across its population. However, neither programme explicitly focuses on car usage reduction (South Dakota Department of Health, Move Your Way; South Dakota Department of Health, Walking Toolkit: Improve Your Health, Well-Being & Quality of Life).","Tennessee has policies in place to promote physical activity amongst the population and active travel, such as walking and biking. However, there are no policies in place to reduce car usage (Tennessee Department of Transportation, Multimodal Access Policy, 2015).","Texas promotes physical activity amongst the general population through its Texercise program, and is currently in the process of developing a Statewide Active Transportation Plan to solidify priorities around active travel (Texas Health and Human Services Commission, Texercise; Texas Department of Transportation, Statewide Active Transportation Plan).","Through the Healthy Environments Active Living Programme, the Utah Trail Network and the Move Utah programme, the Department of Health and the Department of Transportation actively encourage physical activity across the population, focusing on both promoting active travel and reducing car usage (Utah Department of Health and Human Services, Healthy Environments Active Living; Utah Department of Transportation, Utah Trail Network Programming, 2024; Utah Department of Transportation, Move Utah).","Vermont has policies in place dedicated toward promoting active travel - both walking and cycling - among the population. However, there are no measures in place focused on reducing car usage (State of Vermont Agency of Transportation, The Bicycle and Pedestrian Program).","Virginia has policies in place to encourage physical activity, including active travel through biking and walking. However, there are no measures in place focused on reducing car usage (Virginia Department of Transportation, State Bicycle Policy Plan, 2011; Virginia Department of Transportation, State Pedestrian Policy Plan, 2014)","Washington has policies in place to promote physical activity amongst the general population, including policies promoting active travel and reducing car usage (Washington State Department of Health, Healthy Eating Active Living Program; Washington State Department of Transportation, Washington State Active Transportation Plan 2020 and Beyond, 2021).","West Virginia's Physical Activity Plan contains various measures to promote physical activity amongst the population, including active travel. However, there are no measures in place focused on reducing car usage (West Virginia University, College of Applied Human Sciences Center for Active WV, Be Wild. Be Wonderful. Be Active. West Virginia Physical Activity Plan, 2020)","The Wisconsin Active Together (WAT) programme focuses on promoting active travel (walking, biking) and creating infrastructure that makes it easier for residents to be physically active. However, there are no measures in place focused on reducing car usage (Wisconsin Department of Health Services, Nutrition, Physical Activity, and Obesity: Active Community Initiatives).","Wyoming has implemented policies to promote physical activity among its residents, with a particular focus on encouraging active travel such as walking and cycling. . However, there are no measures in place focused on reducing car usage (Wyoming Legislature, HB 48: Active transportation and recreation grant program, 2023; Wyoming Pathways, Annual Report, 2024)."]
[null,1032,"3.1.2","Access to exercise facilities",null,null,"61% of people in Alabama have adequate access to locations for physical activity as of 2025. (University of Wisconsin Population Health Institute, County Health Rankings & Roadmaps, Alabama, 2025).","79% of people in Alaska have adequate access to locations for physical activity as of 2025 (University of Wisconsin Population Health Institute, County Health Rankings & Roadmaps, Alaska, 2025).","86% of people in Arizona have adequate access to locations for physical activity as of 2025 (University of Wisconsin Population Health Institute, County Health Rankings & Roadmaps, Arizona, 2025).","63% of people in Arkansas have adequate access to locations for physical activity as of 2025 (University of Wisconsin Population Health Institute, County Health Rankings & Roadmaps, Arkansas, 2025).","94% of people in California have adequate access to locations for physical activity as of 2025 (University of Wisconsin Population Health Institute, County Health Rankings & Roadmaps, California, 2025).","90% of people in Colorado have adequate access to locations for physical activity as of 2025 (University of Wisconsin Population Health Institute, County Health Rankings & Roadmaps, Colorado, 2025).","93% of people in Connecticut have adequate access to locations for physical activity as of 2025 (University of Wisconsin Population Health Institute, County Health Rankings & Roadmaps, Connecticut, 2025).","79% of people in Delaware have adequate access to locations for physical activity as of 2025 (University of Wisconsin Population Health Institute, County Health Rankings & Roadmaps, Delaware, 2025).","88% of people in Florida have adequate access to locations for physical activity as of 2025 (University of Wisconsin Population Health Institute, County Health Rankings & Roadmaps, Florida, 2025).","75% of people in Georgia have adequate access to locations for physical activity as of 2025. (University of Wisconsin Population Health Institute, County Health Rankings & Roadmaps, Georgia, 2025).","93% of people in Hawaii have adequate access to locations for physical activity as of 2025 (University of Wisconsin Population Health Institute, County Health Rankings & Roadmaps, Hawaii, 2025).","77% of people in Idaho have adequate access to locations for physical activity as of 2025 (University of Wisconsin Population Health Institute, County Health Rankings & Roadmaps, Idaho, 2025).","91% of people in Illinois have adequate access to locations for physical activity as of 2025 (University of Wisconsin Population Health Institute, County Health Rankings & Roadmaps, Illinois, 2025).","76% of people in Indiana have adequate access to locations for physical activity as of 2025 (University of Wisconsin Population Health Institute, County Health Rankings & Roadmaps, Indiana, 2025).","80% of people in Iowa have adequate access to locations for physical activity as of 2025 (University of Wisconsin Population Health Institute, County Health Rankings & Roadmaps, Iowa, 2025).","80% of people in Kansas have adequate access to locations for physical activity as of 2025 (University of Wisconsin Population Health Institute, County Health Rankings & Roadmaps, Kansas, 2025).","70% of people in Kentucky have adequate access to locations for physical activity as of 2025 (University of Wisconsin Population Health Institute, County Health Rankings & Roadmaps, Kentucky, 2025).","76% of people in Louisiana have adequate access to locations for physical activity as of 2025 (University of Wisconsin Population Health Institute, County Health Rankings & Roadmaps, Louisiana, 2025).","67% of people in Maine have adequate access to locations for physical activity as of 2025 (University of Wisconsin Population Health Institute, County Health Rankings & Roadmaps, Maine, 2025).","92% of people in Maryland have adequate access to locations for physical activity as of 2025 (University of Wisconsin Population Health Institute, County Health Rankings & Roadmaps, Maryland, 2025).","95% of people in Massachusetts have adequate access to locations for physical activity as of 2025 (University of Wisconsin Population Health Institute, County Health Rankings & Roadmaps, Massachusetts, 2025).","86% of people in Michigan have adequate access to locations for physical activity as of 2025 (University of Wisconsin Population Health Institute, County Health Rankings & Roadmaps, Michigan, 2025).","86% of people in Minnesota have adequate access to locations for physical activity as of 2025 (University of Wisconsin Population Health Institute, County Health Rankings & Roadmaps, Minnesota, 2025).","58% of people in Mississippi have adequate access to locations for physical activity as of 2025 (University of Wisconsin Population Health Institute, County Health Rankings & Roadmaps, Mississippi, 2025).","77% of people in Missouri have adequate access to locations for physical activity as of 2025 (University of Wisconsin Population Health Institute, County Health Rankings & Roadmaps, Missouri, 2025).","74% of people in Montana have adequate access to locations for physical activity as of 2025 (University of Wisconsin Population Health Institute, County Health Rankings & Roadmaps, Montana, 2025).","85% of people in Nebraska have adequate access to locations for physical activity as of 2025 (University of Wisconsin Population Health Institute, County Health Rankings & Roadmaps, Nebraska, 2025).","91% of people in Nevada have adequate access to locations for physical activity as of 2025 (University of Wisconsin Population Health Institute, County Health Rankings & Roadmaps, Nevada, 2025).","85% of people in New Hampshire have adequate access to locations for physical activity as of 2025 (University of Wisconsin Population Health Institute, County Health Rankings & Roadmaps, New Hampshire, 2025).","96% of people in New Jersey have adequate access to locations for physical activity as of 2025 (University of Wisconsin Population Health Institute, County Health Rankings & Roadmaps, New Jersey, 2025).","76% of people in New Mexico have adequate access to locations for physical activity as of 2025. (University of Wisconsin Population Health Institute, County Health Rankings & Roadmaps, New Mexico, 2025).","93% of people in New York have adequate access to locations for physical activity as of 2025 (University of Wisconsin Population Health Institute, County Health Rankings & Roadmaps, New York, 2025).","78% of people in North Carolina have adequate access to locations for physical activity as of 2025 (University of Wisconsin Population Health Institute, County Health Rankings & Roadmaps, North Carolina, 2025).","76% of people in North Dakota have adequate access to locations for physical activity as of 2025 (University of Wisconsin Population Health Institute, County Health Rankings & Roadmaps, North Dakota, 2025).","84% of people in Ohio have adequate access to locations for physical activity as of 2025 (University of Wisconsin Population Health Institute, County Health Rankings & Roadmaps, Ohio, 2025).","71% of people in Oklahoma have adequate access to locations for physical activity as of 2025 (University of Wisconsin Population Health Institute, County Health Rankings & Roadmaps, Oklahoma, 2025).","88% of people in Oregon have adequate access to locations for physical activity as of 2025 (University of Wisconsin Population Health Institute, County Health Rankings & Roadmaps, Oregon, 2025).","86% of people in Pennsylvania have adequate access to locations for physical activity as of 2025 (University of Wisconsin Population Health Institute, County Health Rankings & Roadmaps, Pennsylvania, 2025).","96% of people in Rhode Island have adequate access to locations for physical activity as of 2025 (University of Wisconsin Population Health Institute, County Health Rankings & Roadmaps, Rhode Island, 2025).","69% of people in South Carolina have adequate access to locations for physical activity as of 2025 (University of Wisconsin Population Health Institute, County Health Rankings & Roadmaps, South Carolina, 2025).","73% of people in South Dakota have adequate access to locations for physical activity as of 2025 (University of Wisconsin Population Health Institute, County Health Rankings & Roadmaps, South Dakota, 2025).","68% of people in Tennessee have adequate access to locations for physical activity as of 2025 (University of Wisconsin Population Health Institute, County Health Rankings & Roadmaps, Tennessee, 2025).","82% of people in Texas have adequate access to locations for physical activity as of 2025 (University of Wisconsin Population Health Institute, County Health Rankings & Roadmaps,Texas, 2025).","85% of people in Utah have adequate access to locations for physical activity as of 2025 (University of Wisconsin Population Health Institute, County Health Rankings & Roadmaps, Utah, 2025).","70% of people in Vermont have adequate access to locations for physical activity as of 2025 (University of Wisconsin Population Health Institute, County Health Rankings & Roadmaps, Vermont, 2025).","84% of people in Virginia have adequate access to locations for physical activity as of 2025 (University of Wisconsin Population Health Institute, County Health Rankings & Roadmaps, Virginia, 2025).","86% of people in Washington have adequate access to locations for physical activity as of 2025 (University of Wisconsin Population Health Institute, County Health Rankings & Roadmaps, Washington, 2025).","59% of people in West Virginia have adequate access to locations for physical activity as of 2025 (University of Wisconsin Population Health Institute, County Health Rankings & Roadmaps, West Virginia, 2025).","84% of people in Wisconsin have adequate access to locations for physical activity as of 2025 (University of Wisconsin Population Health Institute, County Health Rankings & Roadmaps, Wisconsin, 2025).","77% of people in Wyoming have adequate access to locations for physical activity as of 2025 (University of Wisconsin Population Health Institute, County Health Rankings & Roadmaps, Wyoming, 2025)."]
[null,1033,3.2,"Physical activity among children"]
[null,1034,"3.2.1","Physical activity mandates",null,null,"Alabama mandates public schools to provide students with a minimum of 30 minutes of physical activity daily for grades Kindergarten to Grade 5 and a minimum of 50 minutes daily for Grades 6 to 8 (Alabama State Department of Education, Alabama Course of Study: Physical Education, 2019).","Alaska mandates public schools to provide students with less than 60 minutes of physical activity daily (Alaska Legislature, Alaska Statutes Sec. 14.30.360; Alaska Legislature, 4 Administrative Rules AAC 06.075; Alaska Department of Education, Physical Education Standards).","Physical activity is not mandated in public schools in Arizona (Arizona Department of Education, Arizona Standards for K-12 Physical Education, 2015).","Arkansas mandates public schools to provide students in grades Kindergarten through 6 with 90 minutes of physical activity each week (an average of 18 minutes a day) and students in grades 5 through 8 (who attend a public school organised to teach grades 5-8 or any combination thereof) with at least 40 minutes weekly (an average of 8 minutes a day) (Arkansas Department of Education, Rules Governing Nutrition and Physical Activity Standards and Body Mass Index for Age Assessment Protocols in Arkansas Public Schools, 2016).","California mandates public schools to provide students in grades 1 through 6 with 200 minutes of physical activity every 10 days (an average of 20 minutes per day) and students in grades 7 through 12 with 400 minutes every 10 days (an average of 40 minutes per day) (California Legislature, California Education Code §§ 51210, 51222).","Colorado mandates public schools to provide full-time elementary school students with 600 minutes of physical activity per month (an average of 30 minutes per day) (Colorado Legislature, Colo. Rev. Stat. § 22-32-136.5).","Connecticut mandates public schools to provide physical activity to students but time requirements vary by grade and are less than 60 minutes per day (Connecticut Legislature, CGS § 10-16b(a); Connecticut Legislature, CGS § 10-221o; Connecticut Legislature, PA-17-42).","Delaware mandates public schools to provide physical activity to students but it does not specify a daily time requirement (Delaware General Assembly, Administrative Code: Title 14 : 800 - 851 K to 12 Comprehensive Health Education Program, 2020)","Florida mandates public schools to provide students in Kindergarten through Grade 6 with 150 minutes of physical activity per week (an average of 30 minutes per day) (Florida Legislature, Florida Statutes § 1003.455).","Georgia mandates public schools to provide students in Kindergarten through grade 5 with 90 hours of physical activity at each grade level. However, there is no requirement for students to receive at least 60 minutes of physical activity per day (Georgia Legislature, Ga. R. & Regs. 160-4-2-.12).","Hawaii mandates public schools to provide students with 20 minutes of recess per day, and physical education classes totaling a minimum of 45 minutes per week for grades Kindergarten to grade 3 (an average of 9 minutes per day), 55 minutes per week for grades 4-5 (an average of 11 minutes per day), 107 minutes for elementary grade 6 (an average of 21 minutes per day), and 200 minutes per week for secondary grades 6-12 (an average of 40 minutes per day) (Hawai'i State Department of Education, Physical Activity Standards).","Idaho mandates physical education across school grades (Idaho Legislature, I.C. 33-1605; IDAPA 08.02.03.104). While the 2023 Idaho Content Standards in Physical Education promote daily physical activity of 60 minutes or more, specific time requirements are not mandated in legislation (Idaho State Department of Education, Idaho Content Standards: Physical Education, 2023).","Illinois mandates daily physical education for students, with a minimum requirement of three days per five-day week, but it does not specify a daily time requirement for physical activity (Illinois General Assembly, 105 Ill. Comp. Stat. 5/27).","Indiana mandates health education and physical fitness in schools under IC 20-30-5-7 and IC 20-30-5-7.5, requiring daily physical activity. The Indiana Academic Standards for Physical Education do not mandate daily physical activity requirements for grades Kindergarten to Grade 8, but they mandate 60 minutes of daily physical activity for high school students (Indiana Legislature, IC 20-30-5-7; Indiana Legislature, IC 20-30-5-7.5; Indiana Department of Education, Indiana Academic Standards: Physical Education K-5, 2023; Indiana Department of Education, Indiana Academic Standards: Physical Education Grades 6 to 8, 2023; Indiana Department of Education, Indiana Academic Standards: Physical Education High School, 2023).","Iowa mandates physical activity in schools for thirty minutes a day from Kindergarten to grade 5 and for 125 minutes a week (an average of 25 minutes per day) from grades 6 to 12 (Iowa Legislature, Iowa Code 256.11(6); Iowa Legislature, Iowa Administrative Code 281—12.5).","While Kansas regulations encourage offering physical education and wellness education in schools, the state’s administrative rules and statutes provide general guidance but no specific mandates for physical activity time or content for grades below high school (Kansas Legislature, K.A.R. 91-31-35; K.A.R. 91-31-32; K.S.A. 72-3218; Kansas State Department of Education, Kansas Curricular Student Competencies: Physical Education, 2024).","Kentucky mandates public schools to provide students with rigorous physical activity each day; however, no more than 30 minutes of exercise per day may be counted as part of the instructional day (Kentucky Legislature, KRS 160.345).","Louisiana mandates public schools to provide students in grades Kindergarten through Grade 8 with 150 minutes of physical activity each week (an average of 30 minutes a day) (Louisiana Department of Education, Louisiana Physical Education Content Standards, 2017).","Maine mandates public schools to include physical education in school curricula; however, it does not specify a daily time requirement for physical activity (Maine Legislature, Title 20-A: Education §4711 Elementary course of study; Maine Legislature, Title 20-A: Education §4712 Junior high school or middle school course of study; Maine Legislature, Title 20-A: Education §4723 Health and physical education)","Maryland mandates physical activity and education in public schools; however, it does not specify a daily time requirement for physical activity (Maryland State Department of Education, Maryland Physical Activity Framework: Pre-Kindergarten Through High School, 2022; Maryland State Department of Education, Standards-Based Physical Education Resources, 2025; Maryland Division of State Documents, .01 Physical Education Instructional Programs for Grades Pre Kindergarten—12)","Massachusetts mandates physical education in public schools; however, the state does not specify a daily time requirement for physical activity (The General Court of the Commonwealth of Massachusetts, Section 3: Physical education, 2025; The General Court of the Commonwealth of Massachusetts, Clarification of the Massachusetts Physical Education Requirements, 2021)","Michigan mandates health and physical education for students in all public schools; however, the state does not specify a daily time requirement for physical activity (Michigan Legislature, MCL 380.1502; Department of Education, Michigan K-12 Physical Education Standards, 2017)","Minnesota mandates physical education standards in public schools; however, the state does not specify a daily time requirement for physical activity (Minnesota Legislature, Admin Rules 3501.1400 and 3501.1410). While 60 minutes of daily activity is recommended under the Department of Education's Academic Standards for Physical Education, it is not mandated (Minnesota Department of Education, Minnesota K-12 Academic Standards Physical Education, 2018).","Mississippi mandates public schools to provide students in grades Kindergarten to Grade 8 with at least 150 minutes of physical activity per week (an average of 30 minutes per day) (Mississippi Department of Education, Physical Education/Comprehensive Health Education Rules and Regulations).","Missouri mandates public schools to provide elementary, middle and high school students with regular instruction in physical education; however, the state does not specify a daily time requirement for physical activity (Missouri Legislature, Missouri Code of State Regulations 5 20-200.260).","Montana mandates public schools to provide physical education to students from Kindergarten to Grade 12; however, the state does not specify a daily time requirement for physical activity (Montana Legislature, ARM 10.53.712 to 10.53.719; Montana Office of Public Instruction, Montana Health Enhancement Content Standards, 2016).","Nebraska mandates public schools to provide physical education across grades but does not specify a required time period for daily physical activity (Nebraska Legislature, Nebraska's Administrative Code Title 92, Chapter 10, Rule 002.05).","Nevada legislation mandates physical education across all grades (Nevada Legislature, NAC §§ 389.2425, 389.2946, 389.386, 389.485). The Nevada Academic Content Standards for Physical Education (2014) implement these requirements through grade-appropriate standards, though they do not mandate time requirements for daily physical activity despite acknowledging that children need 60 minutes of daily physical activity (Nevada Department of Education, Nevada Academic Content Standards for Physical Education, 2014).","New Hampshire mandates physical education at all grade levels for 30 to 60 minutes per day (New Hampshire Legislature, New Hampshire Code of Administrative Rules Chapter Ed 306.41; New Hampshire State Department of Education, K-12 Physical Education Curriculum Guidelines, 2005)","New Jersey mandates physical education in public schools; however, the state does not specify a daily time requirement for physical activity (New Jersey Legislature, N.J.S.A. 18A:35-5)","New Mexico mandates public schools to provide opportunities for physical activity to students before, during and after school; however, the daily time period required is not specified (New Mexico Legislature, NMAC 6.12.6.8; New Mexico Public Education Department, School District Wellness Policy Guidance Document, 2017).","The New York State Education Department requires physical education for all grade levels in both public and private schools. It mandates at least 120 minutes of physical education per week (an average of 24 minutes per day) for students in Kindergarten to Grade 6 (New York State Legislature, N.Y. Comp. Codes R. & Regs. tit. 8 § 135.4, 2024)","North Carolina mandates physical activity in public schools for a minimum of 30 minutes per day for students in Kindergarten to Grade 8 (Department of Public Instruction, North Carolina Essential Standards Physical Education, 2012; North Carolina Healthy Schools, Healthy Active Children Policy, 2003)","North Dakota mandates physical education in public schools across grades Kindergarten to Grade 12; however, the state does not specify a daily time requirement for physical activity (North Dakota Legislature, North Dakota Century Code 15.1-21; North Dakota Department of Public Instruction, North Dakota Physical Education Standards, 2024).","Ohio mandates public schools to provide physical activity to students; however, a daily time requirement is not specified (The Ohio Department of Education and Workforce, Ohio's Learning Standards for Physical Education, 2024; The Ohio Department of Education and Workforce, Physical Education Resources, 2024)","Oklahoma mandates public schools to provide students in grades Kindergarten through Grade Five with 60 minutes of physical activity per week (an average of 12 minutes per day) (Oklahoma Legislature, Okla. Admin. Code § 210:35-5-31).","Oregon mandates public schools to provide students in Kindergarten through Grade 8 with 30 minutes of exercise per day (Oregon Legislature, OAR 581-022-2263, HB 3199).","Pennsylvania mandates physical education in public schools; however, the state does not specify a daily time requirement for physical activity (Pennsylvania Legislature, 22 Pa. Code § 4.27, Physical education and athletics)","Rhode Island mandates physical activity in schools and requires that students receive at least 100 minutes of health and physical education per week (an average of 20 minutes per day) (State of Rhode Island Department of Education).","Public schools in South Carolina are mandated to provide students in Kindergarten through Fifth Grade with a minimum of 150 minutes of physical education and physical activity per week (equivalent to 30 minutes per day) (South Carolina Legislature, The Students Health and Fitness Act of 2005). However, beginning with the 2026-2027 school year, South Carolina will mandate public schools to provide students in Kindergarten to Third Grade with at least ninety minutes of physical activity per day and students in Fourth Grade to Eighth Grade with at least sixty minutes of physical activity per day (South Carolina State Legislature, 2025-2026 Bill 3212: Physical activity in schools)","South Dakota mandates physical education across grades; however, the state does not specify a daily time requirement for physical activity (South Dakota Legislature, S.D. Codified Laws 13-33-1; South Dakota Department of Education, Physical Education Standards, 2021).","Public schools in Tennessee are mandated to provide students in elementary school with 130 minutes of physical activity per week (an average of 26 minutes per day) and students in middle and high school with 90 minutes of physical activity per week (an average of 18 minutes per day) (Tennessee Legislature, Tenn. Code Ann. § 49-6-1021).","Public schools in Texas are mandated to provide students in grades Kindergarten through Grade Eight with at least 30 minutes of physical activity per day (Texas Legislature, Texas Education Code § 28.002).","Utah mandates public schools to provide physical education to students; however, the state does not specify a daily time requirement for physical activity (Utah Legislature, Utah Admin. Code 277-700-4, Utah Admin. Code 277-700-5, Utah Admin. Code 277-700-6).","Vermont mandates physical activity in public schools for at least 30 minutes per day (Vermont Agency of Education, Local Wellness Policy Guide, 2023; Vermont State Board of Education, Physical Activity Guidelines for Vermont Schools, 2014; Vermont State Board of Education, Series 2000 – Education Quality Standards, 2000).","Virginia's Department of Education requires that students undertake 60 minutes of physical activity per day in schools (Virginia Department of Education, 2020 Health Education Standards of Learning Curriculum Framework, 2020)","Washington mandates public schools to provide students in Kindergarten through Grade Eight with 20 minutes of exercise per day (Washington Legislature, WAC 392-410-135).","West Virginia mandates public schools to provide at least 30 minutes of physical activity per day at least three days a week for elementary school students. It does not specify a daily time requirement for older students (West Virginia Legislature, West Virginia Code §18-2-9; West Virginia Legislature, West Virginia Code §18-2-7)","Wisconsin mandates public schools to provide physical activity across grades (Wisconsin Legislation, Wisconsin Code 118.01 and Wisconsin Code 121.02). The state has also developed standards that recommend a minimum of 60 minutes of daily physical activity for children at school, but do not mandate this (Wisconsin Department of Public Instruction, Wisconsin Standards for Physical Education, 2020).","Wyoming mandates public schools to provide physical education across grades; however, the state does not specify a daily time requirement for physical activity (Wyoming Legislature, Wyoming Statutes 21-9-101; Wyoming Department of Education, Physical Education Standards, 2021)."]

{"sheet":"Score_alphabetical","index":8,"n_rows":38,"n_cols":56,"rows_kept":38,"hidden":true}
["Ranking - alphabetical"]
[null,"UID","No.","Indicator name",null,null,"Alabama","Alaska","Arizona","Arkansas","California","Colorado","Connecticut","Delaware","Florida","Georgia","Hawaii","Idaho","Illinois","Indiana","Iowa","Kansas","Kentucky","Louisiana","Maine","Maryland","Massachusetts","Michigan","Minnesota","Mississippi","Missouri","Montana","Nebraska","Nevada","New Hampshire","New Jersey","New Mexico","New York","North Carolina","North Dakota","Ohio","Oklahoma","Oregon","Pennsylvania","Rhode Island","South Carolina","South Dakota","Tennessee","Texas","Utah","Vermont","Virginia","Washington","West Virginia","Wisconsin","Wyoming"]
[null,0,0,"OVERALL",null,null,1,2,3,4,5,6,7,8,9,10,11,12,13,14,15,16,17,18,19,20,21,22,23,24,25,26,27,28,29,30,31,32,33,34,35,36,37,38,39,40,41,42,43,44,45,46,47,48,49,50]
[null,1000,1,"Policy and governance",null,null,1,2,3,4,5,6,7,8,9,10,11,12,13,14,15,16,17,18,19,20,21,22,23,24,25,26,27,28,29,30,31,32,33,34,35,36,37,38,39,40,41,42,43,44,45,46,47,48,49,50]
[null,1001,1.1,"Obesity-related policy",null,null,1,2,3,4,5,6,7,8,9,10,11,12,13,14,15,16,17,18,19,20,21,22,23,24,25,26,27,28,29,30,31,32,33,34,35,36,37,38,39,40,41,42,43,44,45,46,47,48,49,50]
[null,1002,"1.1.1","Health policy/strategy/plan that includes obesity",null,null,1,2,3,4,5,6,7,8,9,10,11,12,13,14,15,16,17,18,19,20,21,22,23,24,25,26,27,28,29,30,31,32,33,34,35,36,37,38,39,40,41,42,43,44,45,46,47,48,49,50]
[null,1003,"1.1.2","Definition of obesity",null,null,1,2,3,4,5,6,7,8,9,10,11,12,13,14,15,16,17,18,19,20,21,22,23,24,25,26,27,28,29,30,31,32,33,34,35,36,37,38,39,40,41,42,43,44,45,46,47,48,49,50]
[null,1004,"1.1.3","Obesity-related policy/strategy/plan",null,null,1,2,3,4,5,6,7,8,9,10,11,12,13,14,15,16,17,18,19,20,21,22,23,24,25,26,27,28,29,30,31,32,33,34,35,36,37,38,39,40,41,42,43,44,45,46,47,48,49,50]
[null,1005,"1.1.3a","Obesity-related policy/strategy/plan",null,null,1,2,3,4,5,6,7,8,9,10,11,12,13,14,15,16,17,18,19,20,21,22,23,24,25,26,27,28,29,30,31,32,33,34,35,36,37,38,39,40,41,42,43,44,45,46,47,48,49,50]
[null,1006,"1.1.3b","Engagement with stakeholders during development",null,null,1,2,3,4,5,6,7,8,9,10,11,12,13,14,15,16,17,18,19,20,21,22,23,24,25,26,27,28,29,30,31,32,33,34,35,36,37,38,39,40,41,42,43,44,45,46,47,48,49,50]
[null,1007,"1.1.3c","Measures for obesity prevention",null,null,1,2,3,4,5,6,7,8,9,10,11,12,13,14,15,16,17,18,19,20,21,22,23,24,25,26,27,28,29,30,31,32,33,34,35,36,37,38,39,40,41,42,43,44,45,46,47,48,49,50]
[null,1008,"1.1.3d","Measures for obesity management",null,null,1,2,3,4,5,6,7,8,9,10,11,12,13,14,15,16,17,18,19,20,21,22,23,24,25,26,27,28,29,30,31,32,33,34,35,36,37,38,39,40,41,42,43,44,45,46,47,48,49,50]
[null,1009,"1.1.3e","Targets for obesity prevalence reduction",null,null,1,2,3,4,5,6,7,8,9,10,11,12,13,14,15,16,17,18,19,20,21,22,23,24,25,26,27,28,29,30,31,32,33,34,35,36,37,38,39,40,41,42,43,44,45,46,47,48,49,50]
[null,1010,"1.1.3f","Focus on vulnerable groups",null,null,1,2,3,4,5,6,7,8,9,10,11,12,13,14,15,16,17,18,19,20,21,22,23,24,25,26,27,28,29,30,31,32,33,34,35,36,37,38,39,40,41,42,43,44,45,46,47,48,49,50]
[null,1011,"1.1.3g","Obesity-related stigma and discrimination",null,null,1,2,3,4,5,6,7,8,9,10,11,12,13,14,15,16,17,18,19,20,21,22,23,24,25,26,27,28,29,30,31,32,33,34,35,36,37,38,39,40,41,42,43,44,45,46,47,48,49,50]
[null,1012,"1.1.4","Obesity-related funding",null,null,1,2,3,4,5,6,7,8,9,10,11,12,13,14,15,16,17,18,19,20,21,22,23,24,25,26,27,28,29,30,31,32,33,34,35,36,37,38,39,40,41,42,43,44,45,46,47,48,49,50]
[null,1013,"1.1.5","Weight-related discrimination",null,null,1,2,3,4,5,6,7,8,9,10,11,12,13,14,15,16,17,18,19,20,21,22,23,24,25,26,27,28,29,30,31,32,33,34,35,36,37,38,39,40,41,42,43,44,45,46,47,48,49,50]
[null,1014,1.2,"Availability and affordability of obesity-related care",null,null,1,2,3,4,5,6,7,8,9,10,11,12,13,14,15,16,17,18,19,20,21,22,23,24,25,26,27,28,29,30,31,32,33,34,35,36,37,38,39,40,41,42,43,44,45,46,47,48,49,50]
[null,1015,"1.2.1","Obesity treatment coverage",null,null,1,2,3,4,5,6,7,8,9,10,11,12,13,14,15,16,17,18,19,20,21,22,23,24,25,26,27,28,29,30,31,32,33,34,35,36,37,38,39,40,41,42,43,44,45,46,47,48,49,50]
[null,1016,"1.2.2","State-level weight loss programmes",null,null,1,2,3,4,5,6,7,8,9,10,11,12,13,14,15,16,17,18,19,20,21,22,23,24,25,26,27,28,29,30,31,32,33,34,35,36,37,38,39,40,41,42,43,44,45,46,47,48,49,50]
[null,1017,2,"Food quality and access",null,null,1,2,3,4,5,6,7,8,9,10,11,12,13,14,15,16,17,18,19,20,21,22,23,24,25,26,27,28,29,30,31,32,33,34,35,36,37,38,39,40,41,42,43,44,45,46,47,48,49,50]
[null,1018,2.1,"Food access and affordability",null,null,1,2,3,4,5,6,7,8,9,10,11,12,13,14,15,16,17,18,19,20,21,22,23,24,25,26,27,28,29,30,31,32,33,34,35,36,37,38,39,40,41,42,43,44,45,46,47,48,49,50]
[null,1019,"2.1.1","Level of food security",null,null,1,2,3,4,5,6,7,8,9,10,11,12,13,14,15,16,17,18,19,20,21,22,23,24,25,26,27,28,29,30,31,32,33,34,35,36,37,38,39,40,41,42,43,44,45,46,47,48,49,50]
[null,1020,"2.1.2","Nutrition programmes for lower-income individuals",null,null,1,2,3,4,5,6,7,8,9,10,11,12,13,14,15,16,17,18,19,20,21,22,23,24,25,26,27,28,29,30,31,32,33,34,35,36,37,38,39,40,41,42,43,44,45,46,47,48,49,50]
[null,1021,"2.1.2a","Supplemental Nutrition Assistance Program (SNAP): monthly benefit per person",null,null,1,2,3,4,5,6,7,8,9,10,11,12,13,14,15,16,17,18,19,20,21,22,23,24,25,26,27,28,29,30,31,32,33,34,35,36,37,38,39,40,41,42,43,44,45,46,47,48,49,50]
[null,1022,"2.1.2b","Supplemental Nutrition Assistance Program (SNAP): participation rate",null,null,1,2,3,4,5,6,7,8,9,10,11,12,13,14,15,16,17,18,19,20,21,22,23,24,25,26,27,28,29,30,31,32,33,34,35,36,37,38,39,40,41,42,43,44,45,46,47,48,49,50]
[null,1023,2.2,"Nutrition regulation",null,null,1,2,3,4,5,6,7,8,9,10,11,12,13,14,15,16,17,18,19,20,21,22,23,24,25,26,27,28,29,30,31,32,33,34,35,36,37,38,39,40,41,42,43,44,45,46,47,48,49,50]
[null,1024,"2.2.1","Taxes on unhealthy food and beverages",null,null,1,2,3,4,5,6,7,8,9,10,11,12,13,14,15,16,17,18,19,20,21,22,23,24,25,26,27,28,29,30,31,32,33,34,35,36,37,38,39,40,41,42,43,44,45,46,47,48,49,50]
[null,1025,2.3,"Nutrition in schools",null,null,1,2,3,4,5,6,7,8,9,10,11,12,13,14,15,16,17,18,19,20,21,22,23,24,25,26,27,28,29,30,31,32,33,34,35,36,37,38,39,40,41,42,43,44,45,46,47,48,49,50]
[null,1026,"2.3.1","School nutrition standards",null,null,1,2,3,4,5,6,7,8,9,10,11,12,13,14,15,16,17,18,19,20,21,22,23,24,25,26,27,28,29,30,31,32,33,34,35,36,37,38,39,40,41,42,43,44,45,46,47,48,49,50]
[null,1027,"2.3.2","Nutrition education",null,null,1,2,3,4,5,6,7,8,9,10,11,12,13,14,15,16,17,18,19,20,21,22,23,24,25,26,27,28,29,30,31,32,33,34,35,36,37,38,39,40,41,42,43,44,45,46,47,48,49,50]
[null,1028,"2.3.3","Universal free school meals",null,null,1,2,3,4,5,6,7,8,9,10,11,12,13,14,15,16,17,18,19,20,21,22,23,24,25,26,27,28,29,30,31,32,33,34,35,36,37,38,39,40,41,42,43,44,45,46,47,48,49,50]
[null,1029,3,"Physical activity",null,null,1,2,3,4,5,6,7,8,9,10,11,12,13,14,15,16,17,18,19,20,21,22,23,24,25,26,27,28,29,30,31,32,33,34,35,36,37,38,39,40,41,42,43,44,45,46,47,48,49,50]
[null,1030,3.1,"Physical activity among the population",null,null,1,2,3,4,5,6,7,8,9,10,11,12,13,14,15,16,17,18,19,20,21,22,23,24,25,26,27,28,29,30,31,32,33,34,35,36,37,38,39,40,41,42,43,44,45,46,47,48,49,50]
[null,1031,"3.1.1","Promotion of physical activity",null,null,1,2,3,4,5,6,7,8,9,10,11,12,13,14,15,16,17,18,19,20,21,22,23,24,25,26,27,28,29,30,31,32,33,34,35,36,37,38,39,40,41,42,43,44,45,46,47,48,49,50]
[null,1032,"3.1.2","Access to exercise facilities",null,null,1,2,3,4,5,6,7,8,9,10,11,12,13,14,15,16,17,18,19,20,21,22,23,24,25,26,27,28,29,30,31,32,33,34,35,36,37,38,39,40,41,42,43,44,45,46,47,48,49,50]
[null,1033,3.2,"Physical activity among children",null,null,1,2,3,4,5,6,7,8,9,10,11,12,13,14,15,16,17,18,19,20,21,22,23,24,25,26,27,28,29,30,31,32,33,34,35,36,37,38,39,40,41,42,43,44,45,46,47,48,49,50]
[null,1034,"3.2.1","Physical activity mandates",null,null,1,2,3,4,5,6,7,8,9,10,11,12,13,14,15,16,17,18,19,20,21,22,23,24,25,26,27,28,29,30,31,32,33,34,35,36,37,38,39,40,41,42,43,44,45,46,47,48,49,50]

{"sheet":"Score_rank unique","index":9,"n_rows":38,"n_cols":56,"rows_kept":38,"hidden":true}
["Ranking - unique"]
[null,"UID","No.","Indicator name",null,null,"Alabama","Alaska","Arizona","Arkansas","California","Colorado","Connecticut","Delaware","Florida","Georgia","Hawaii","Idaho","Illinois","Indiana","Iowa","Kansas","Kentucky","Louisiana","Maine","Maryland","Massachusetts","Michigan","Minnesota","Mississippi","Missouri","Montana","Nebraska","Nevada","New Hampshire","New Jersey","New Mexico","New York","North Carolina","North Dakota","Ohio","Oklahoma","Oregon","Pennsylvania","Rhode Island","South Carolina","South Dakota","Tennessee","Texas","Utah","Vermont","Virginia","Washington","West Virginia","Wisconsin","Wyoming"]
[null,0,0,"OVERALL",null,null,{"$f":"RANK('SCORE TABLE'!F10,'SCORE TABLE'!$F10:$BC10,0)+ COUNTIF('SCORE TABLE'!$F10:F10, 'SCORE TABLE'!F10) - 1","v":45},{"$f":"RANK('SCORE TABLE'!G10,'SCORE TABLE'!$F10:$BC10,0)+ COUNTIF('SCORE TABLE'!$F10:G10, 'SCORE TABLE'!G10) - 1","v":41},{"$f":"RANK('SCORE TABLE'!H10,'SCORE TABLE'!$F10:$BC10,0)+ COUNTIF('SCORE TABLE'!$F10:H10, 'SCORE TABLE'!H10) - 1","v":49},{"$f":"RANK('SCORE TABLE'!I10,'SCORE TABLE'!$F10:$BC10,0)+ COUNTIF('SCORE TABLE'!$F10:I10, 'SCORE TABLE'!I10) - 1","v":27},{"$f":"RANK('SCORE TABLE'!J10,'SCORE TABLE'!$F10:$BC10,0)+ COUNTIF('SCORE TABLE'!$F10:J10, 'SCORE TABLE'!J10) - 1","v":19},{"$f":"RANK('SCORE TABLE'!K10,'SCORE TABLE'!$F10:$BC10,0)+ COUNTIF('SCORE TABLE'!$F10:K10, 'SCORE TABLE'!K10) - 1","v":3},{"$f":"RANK('SCORE TABLE'!L10,'SCORE TABLE'!$F10:$BC10,0)+ COUNTIF('SCORE TABLE'!$F10:L10, 'SCORE TABLE'!L10) - 1","v":26},{"$f":"RANK('SCORE TABLE'!M10,'SCORE TABLE'!$F10:$BC10,0)+ COUNTIF('SCORE TABLE'!$F10:M10, 'SCORE TABLE'!M10) - 1","v":38},{"$f":"RANK('SCORE TABLE'!N10,'SCORE TABLE'!$F10:$BC10,0)+ COUNTIF('SCORE TABLE'!$F10:N10, 'SCORE TABLE'!N10) - 1","v":5},{"$f":"RANK('SCORE TABLE'!O10,'SCORE TABLE'!$F10:$BC10,0)+ COUNTIF('SCORE TABLE'!$F10:O10, 'SCORE TABLE'!O10) - 1","v":48},{"$f":"RANK('SCORE TABLE'!P10,'SCORE TABLE'!$F10:$BC10,0)+ COUNTIF('SCORE TABLE'!$F10:P10, 'SCORE TABLE'!P10) - 1","v":23},{"$f":"RANK('SCORE TABLE'!Q10,'SCORE TABLE'!$F10:$BC10,0)+ COUNTIF('SCORE TABLE'!$F10:Q10, 'SCORE TABLE'!Q10) - 1","v":32},{"$f":"RANK('SCORE TABLE'!R10,'SCORE TABLE'!$F10:$BC10,0)+ COUNTIF('SCORE TABLE'!$F10:R10, 'SCORE TABLE'!R10) - 1","v":6},{"$f":"RANK('SCORE TABLE'!S10,'SCORE TABLE'!$F10:$BC10,0)+ COUNTIF('SCORE TABLE'!$F10:S10, 'SCORE TABLE'!S10) - 1","v":16},{"$f":"RANK('SCORE TABLE'!T10,'SCORE TABLE'!$F10:$BC10,0)+ COUNTIF('SCORE TABLE'!$F10:T10, 'SCORE TABLE'!T10) - 1","v":4},{"$f":"RANK('SCORE TABLE'!U10,'SCORE TABLE'!$F10:$BC10,0)+ COUNTIF('SCORE TABLE'!$F10:U10, 'SCORE TABLE'!U10) - 1","v":50},{"$f":"RANK('SCORE TABLE'!V10,'SCORE TABLE'!$F10:$BC10,0)+ COUNTIF('SCORE TABLE'!$F10:V10, 'SCORE TABLE'!V10) - 1","v":2},{"$f":"RANK('SCORE TABLE'!W10,'SCORE TABLE'!$F10:$BC10,0)+ COUNTIF('SCORE TABLE'!$F10:W10, 'SCORE TABLE'!W10) - 1","v":24},{"$f":"RANK('SCORE TABLE'!X10,'SCORE TABLE'!$F10:$BC10,0)+ COUNTIF('SCORE TABLE'!$F10:X10, 'SCORE TABLE'!X10) - 1","v":21},{"$f":"RANK('SCORE TABLE'!Y10,'SCORE TABLE'!$F10:$BC10,0)+ COUNTIF('SCORE TABLE'!$F10:Y10, 'SCORE TABLE'!Y10) - 1","v":10},{"$f":"RANK('SCORE TABLE'!Z10,'SCORE TABLE'!$F10:$BC10,0)+ COUNTIF('SCORE TABLE'!$F10:Z10, 'SCORE TABLE'!Z10) - 1","v":39},{"$f":"RANK('SCORE TABLE'!AA10,'SCORE TABLE'!$F10:$BC10,0)+ COUNTIF('SCORE TABLE'!$F10:AA10, 'SCORE TABLE'!AA10) - 1","v":33},{"$f":"RANK('SCORE TABLE'!AB10,'SCORE TABLE'!$F10:$BC10,0)+ COUNTIF('SCORE TABLE'!$F10:AB10, 'SCORE TABLE'!AB10) - 1","v":1},{"$f":"RANK('SCORE TABLE'!AC10,'SCORE TABLE'!$F10:$BC10,0)+ COUNTIF('SCORE TABLE'!$F10:AC10, 'SCORE TABLE'!AC10) - 1","v":22},{"$f":"RANK('SCORE TABLE'!AD10,'SCORE TABLE'!$F10:$BC10,0)+ COUNTIF('SCORE TABLE'!$F10:AD10, 'SCORE TABLE'!AD10) - 1","v":37},{"$f":"RANK('SCORE TABLE'!AE10,'SCORE TABLE'!$F10:$BC10,0)+ COUNTIF('SCORE TABLE'!$F10:AE10, 'SCORE TABLE'!AE10) - 1","v":44},{"$f":"RANK('SCORE TABLE'!AF10,'SCORE TABLE'!$F10:$BC10,0)+ COUNTIF('SCORE TABLE'!$F10:AF10, 'SCORE TABLE'!AF10) - 1","v":35},{"$f":"RANK('SCORE TABLE'!AG10,'SCORE TABLE'!$F10:$BC10,0)+ COUNTIF('SCORE TABLE'!$F10:AG10, 'SCORE TABLE'!AG10) - 1","v":15},{"$f":"RANK('SCORE TABLE'!AH10,'SCORE TABLE'!$F10:$BC10,0)+ COUNTIF('SCORE TABLE'!$F10:AH10, 'SCORE TABLE'!AH10) - 1","v":46},{"$f":"RANK('SCORE TABLE'!AI10,'SCORE TABLE'!$F10:$BC10,0)+ COUNTIF('SCORE TABLE'!$F10:AI10, 'SCORE TABLE'!AI10) - 1","v":40},{"$f":"RANK('SCORE TABLE'!AJ10,'SCORE TABLE'!$F10:$BC10,0)+ COUNTIF('SCORE TABLE'!$F10:AJ10, 'SCORE TABLE'!AJ10) - 1","v":11},{"$f":"RANK('SCORE TABLE'!AK10,'SCORE TABLE'!$F10:$BC10,0)+ COUNTIF('SCORE TABLE'!$F10:AK10, 'SCORE TABLE'!AK10) - 1","v":12},{"$f":"RANK('SCORE TABLE'!AL10,'SCORE TABLE'!$F10:$BC10,0)+ COUNTIF('SCORE TABLE'!$F10:AL10, 'SCORE TABLE'!AL10) - 1","v":18},{"$f":"RANK('SCORE TABLE'!AM10,'SCORE TABLE'!$F10:$BC10,0)+ COUNTIF('SCORE TABLE'!$F10:AM10, 'SCORE TABLE'!AM10) - 1","v":43},{"$f":"RANK('SCORE TABLE'!AN10,'SCORE TABLE'!$F10:$BC10,0)+ COUNTIF('SCORE TABLE'!$F10:AN10, 'SCORE TABLE'!AN10) - 1","v":8},{"$f":"RANK('SCORE TABLE'!AO10,'SCORE TABLE'!$F10:$BC10,0)+ COUNTIF('SCORE TABLE'!$F10:AO10, 'SCORE TABLE'!AO10) - 1","v":13},{"$f":"RANK('SCORE TABLE'!AP10,'SCORE TABLE'!$F10:$BC10,0)+ COUNTIF('SCORE TABLE'!$F10:AP10, 'SCORE TABLE'!AP10) - 1","v":31},{"$f":"RANK('SCORE TABLE'!AQ10,'SCORE TABLE'!$F10:$BC10,0)+ COUNTIF('SCORE TABLE'!$F10:AQ10, 'SCORE TABLE'!AQ10) - 1","v":30},{"$f":"RANK('SCORE TABLE'!AR10,'SCORE TABLE'!$F10:$BC10,0)+ COUNTIF('SCORE TABLE'!$F10:AR10, 'SCORE TABLE'!AR10) - 1","v":9},{"$f":"RANK('SCORE TABLE'!AS10,'SCORE TABLE'!$F10:$BC10,0)+ COUNTIF('SCORE TABLE'!$F10:AS10, 'SCORE TABLE'!AS10) - 1","v":47},{"$f":"RANK('SCORE TABLE'!AT10,'SCORE TABLE'!$F10:$BC10,0)+ COUNTIF('SCORE TABLE'!$F10:AT10, 'SCORE TABLE'!AT10) - 1","v":42},{"$f":"RANK('SCORE TABLE'!AU10,'SCORE TABLE'!$F10:$BC10,0)+ COUNTIF('SCORE TABLE'!$F10:AU10, 'SCORE TABLE'!AU10) - 1","v":29},{"$f":"RANK('SCORE TABLE'!AV10,'SCORE TABLE'!$F10:$BC10,0)+ COUNTIF('SCORE TABLE'!$F10:AV10, 'SCORE TABLE'!AV10) - 1","v":20},{"$f":"RANK('SCORE TABLE'!AW10,'SCORE TABLE'!$F10:$BC10,0)+ COUNTIF('SCORE TABLE'!$F10:AW10, 'SCORE TABLE'!AW10) - 1","v":34},{"$f":"RANK('SCORE TABLE'!AX10,'SCORE TABLE'!$F10:$BC10,0)+ COUNTIF('SCORE TABLE'!$F10:AX10, 'SCORE TABLE'!AX10) - 1","v":25},{"$f":"RANK('SCORE TABLE'!AY10,'SCORE TABLE'!$F10:$BC10,0)+ COUNTIF('SCORE TABLE'!$F10:AY10, 'SCORE TABLE'!AY10) - 1","v":7},{"$f":"RANK('SCORE TABLE'!AZ10,'SCORE TABLE'!$F10:$BC10,0)+ COUNTIF('SCORE TABLE'!$F10:AZ10, 'SCORE TABLE'!AZ10) - 1","v":14},{"$f":"RANK('SCORE TABLE'!BA10,'SCORE TABLE'!$F10:$BC10,0)+ COUNTIF('SCORE TABLE'!$F10:BA10, 'SCORE TABLE'!BA10) - 1","v":28},{"$f":"RANK('SCORE TABLE'!BB10,'SCORE TABLE'!$F10:$BC10,0)+ COUNTIF('SCORE TABLE'!$F10:BB10, 'SCORE TABLE'!BB10) - 1","v":17},{"$f":"RANK('SCORE TABLE'!BC10,'SCORE TABLE'!$F10:$BC10,0)+ COUNTIF('SCORE TABLE'!$F10:BC10, 'SCORE TABLE'!BC10) - 1","v":36}]
[null,1000,1,"Policy and governance",null,null,{"$f":"RANK('SCORE TABLE'!F11,'SCORE TABLE'!$F11:$BC11,0)+ COUNTIF('SCORE TABLE'!$F11:F11, 'SCORE TABLE'!F11) - 1","v":44},{"$f":"RANK('SCORE TABLE'!G11,'SCORE TABLE'!$F11:$BC11,0)+ COUNTIF('SCORE TABLE'!$F11:G11, 'SCORE TABLE'!G11) - 1","v":34},{"$f":"RANK('SCORE TABLE'!H11,'SCORE TABLE'!$F11:$BC11,0)+ COUNTIF('SCORE TABLE'!$F11:H11, 'SCORE TABLE'!H11) - 1","v":49},{"$f":"RANK('SCORE TABLE'!I11,'SCORE TABLE'!$F11:$BC11,0)+ COUNTIF('SCORE TABLE'!$F11:I11, 'SCORE TABLE'!I11) - 1","v":47},{"$f":"RANK('SCORE TABLE'!J11,'SCORE TABLE'!$F11:$BC11,0)+ COUNTIF('SCORE TABLE'!$F11:J11, 'SCORE TABLE'!J11) - 1","v":14},{"$f":"RANK('SCORE TABLE'!K11,'SCORE TABLE'!$F11:$BC11,0)+ COUNTIF('SCORE TABLE'!$F11:K11, 'SCORE TABLE'!K11) - 1","v":16},{"$f":"RANK('SCORE TABLE'!L11,'SCORE TABLE'!$F11:$BC11,0)+ COUNTIF('SCORE TABLE'!$F11:L11, 'SCORE TABLE'!L11) - 1","v":40},{"$f":"RANK('SCORE TABLE'!M11,'SCORE TABLE'!$F11:$BC11,0)+ COUNTIF('SCORE TABLE'!$F11:M11, 'SCORE TABLE'!M11) - 1","v":36},{"$f":"RANK('SCORE TABLE'!N11,'SCORE TABLE'!$F11:$BC11,0)+ COUNTIF('SCORE TABLE'!$F11:N11, 'SCORE TABLE'!N11) - 1","v":4},{"$f":"RANK('SCORE TABLE'!O11,'SCORE TABLE'!$F11:$BC11,0)+ COUNTIF('SCORE TABLE'!$F11:O11, 'SCORE TABLE'!O11) - 1","v":50},{"$f":"RANK('SCORE TABLE'!P11,'SCORE TABLE'!$F11:$BC11,0)+ COUNTIF('SCORE TABLE'!$F11:P11, 'SCORE TABLE'!P11) - 1","v":19},{"$f":"RANK('SCORE TABLE'!Q11,'SCORE TABLE'!$F11:$BC11,0)+ COUNTIF('SCORE TABLE'!$F11:Q11, 'SCORE TABLE'!Q11) - 1","v":5},{"$f":"RANK('SCORE TABLE'!R11,'SCORE TABLE'!$F11:$BC11,0)+ COUNTIF('SCORE TABLE'!$F11:R11, 'SCORE TABLE'!R11) - 1","v":35},{"$f":"RANK('SCORE TABLE'!S11,'SCORE TABLE'!$F11:$BC11,0)+ COUNTIF('SCORE TABLE'!$F11:S11, 'SCORE TABLE'!S11) - 1","v":37},{"$f":"RANK('SCORE TABLE'!T11,'SCORE TABLE'!$F11:$BC11,0)+ COUNTIF('SCORE TABLE'!$F11:T11, 'SCORE TABLE'!T11) - 1","v":11},{"$f":"RANK('SCORE TABLE'!U11,'SCORE TABLE'!$F11:$BC11,0)+ COUNTIF('SCORE TABLE'!$F11:U11, 'SCORE TABLE'!U11) - 1","v":45},{"$f":"RANK('SCORE TABLE'!V11,'SCORE TABLE'!$F11:$BC11,0)+ COUNTIF('SCORE TABLE'!$F11:V11, 'SCORE TABLE'!V11) - 1","v":12},{"$f":"RANK('SCORE TABLE'!W11,'SCORE TABLE'!$F11:$BC11,0)+ COUNTIF('SCORE TABLE'!$F11:W11, 'SCORE TABLE'!W11) - 1","v":10},{"$f":"RANK('SCORE TABLE'!X11,'SCORE TABLE'!$F11:$BC11,0)+ COUNTIF('SCORE TABLE'!$F11:X11, 'SCORE TABLE'!X11) - 1","v":33},{"$f":"RANK('SCORE TABLE'!Y11,'SCORE TABLE'!$F11:$BC11,0)+ COUNTIF('SCORE TABLE'!$F11:Y11, 'SCORE TABLE'!Y11) - 1","v":25},{"$f":"RANK('SCORE TABLE'!Z11,'SCORE TABLE'!$F11:$BC11,0)+ COUNTIF('SCORE TABLE'!$F11:Z11, 'SCORE TABLE'!Z11) - 1","v":38},{"$f":"RANK('SCORE TABLE'!AA11,'SCORE TABLE'!$F11:$BC11,0)+ COUNTIF('SCORE TABLE'!$F11:AA11, 'SCORE TABLE'!AA11) - 1","v":18},{"$f":"RANK('SCORE TABLE'!AB11,'SCORE TABLE'!$F11:$BC11,0)+ COUNTIF('SCORE TABLE'!$F11:AB11, 'SCORE TABLE'!AB11) - 1","v":7},{"$f":"RANK('SCORE TABLE'!AC11,'SCORE TABLE'!$F11:$BC11,0)+ COUNTIF('SCORE TABLE'!$F11:AC11, 'SCORE TABLE'!AC11) - 1","v":6},{"$f":"RANK('SCORE TABLE'!AD11,'SCORE TABLE'!$F11:$BC11,0)+ COUNTIF('SCORE TABLE'!$F11:AD11, 'SCORE TABLE'!AD11) - 1","v":21},{"$f":"RANK('SCORE TABLE'!AE11,'SCORE TABLE'!$F11:$BC11,0)+ COUNTIF('SCORE TABLE'!$F11:AE11, 'SCORE TABLE'!AE11) - 1","v":20},{"$f":"RANK('SCORE TABLE'!AF11,'SCORE TABLE'!$F11:$BC11,0)+ COUNTIF('SCORE TABLE'!$F11:AF11, 'SCORE TABLE'!AF11) - 1","v":3},{"$f":"RANK('SCORE TABLE'!AG11,'SCORE TABLE'!$F11:$BC11,0)+ COUNTIF('SCORE TABLE'!$F11:AG11, 'SCORE TABLE'!AG11) - 1","v":8},{"$f":"RANK('SCORE TABLE'!AH11,'SCORE TABLE'!$F11:$BC11,0)+ COUNTIF('SCORE TABLE'!$F11:AH11, 'SCORE TABLE'!AH11) - 1","v":41},{"$f":"RANK('SCORE TABLE'!AI11,'SCORE TABLE'!$F11:$BC11,0)+ COUNTIF('SCORE TABLE'!$F11:AI11, 'SCORE TABLE'!AI11) - 1","v":42},{"$f":"RANK('SCORE TABLE'!AJ11,'SCORE TABLE'!$F11:$BC11,0)+ COUNTIF('SCORE TABLE'!$F11:AJ11, 'SCORE TABLE'!AJ11) - 1","v":2},{"$f":"RANK('SCORE TABLE'!AK11,'SCORE TABLE'!$F11:$BC11,0)+ COUNTIF('SCORE TABLE'!$F11:AK11, 'SCORE TABLE'!AK11) - 1","v":23},{"$f":"RANK('SCORE TABLE'!AL11,'SCORE TABLE'!$F11:$BC11,0)+ COUNTIF('SCORE TABLE'!$F11:AL11, 'SCORE TABLE'!AL11) - 1","v":39},{"$f":"RANK('SCORE TABLE'!AM11,'SCORE TABLE'!$F11:$BC11,0)+ COUNTIF('SCORE TABLE'!$F11:AM11, 'SCORE TABLE'!AM11) - 1","v":46},{"$f":"RANK('SCORE TABLE'!AN11,'SCORE TABLE'!$F11:$BC11,0)+ COUNTIF('SCORE TABLE'!$F11:AN11, 'SCORE TABLE'!AN11) - 1","v":13},{"$f":"RANK('SCORE TABLE'!AO11,'SCORE TABLE'!$F11:$BC11,0)+ COUNTIF('SCORE TABLE'!$F11:AO11, 'SCORE TABLE'!AO11) - 1","v":1},{"$f":"RANK('SCORE TABLE'!AP11,'SCORE TABLE'!$F11:$BC11,0)+ COUNTIF('SCORE TABLE'!$F11:AP11, 'SCORE TABLE'!AP11) - 1","v":26},{"$f":"RANK('SCORE TABLE'!AQ11,'SCORE TABLE'!$F11:$BC11,0)+ COUNTIF('SCORE TABLE'!$F11:AQ11, 'SCORE TABLE'!AQ11) - 1","v":22},{"$f":"RANK('SCORE TABLE'!AR11,'SCORE TABLE'!$F11:$BC11,0)+ COUNTIF('SCORE TABLE'!$F11:AR11, 'SCORE TABLE'!AR11) - 1","v":15},{"$f":"RANK('SCORE TABLE'!AS11,'SCORE TABLE'!$F11:$BC11,0)+ COUNTIF('SCORE TABLE'!$F11:AS11, 'SCORE TABLE'!AS11) - 1","v":48},{"$f":"RANK('SCORE TABLE'!AT11,'SCORE TABLE'!$F11:$BC11,0)+ COUNTIF('SCORE TABLE'!$F11:AT11, 'SCORE TABLE'!AT11) - 1","v":27},{"$f":"RANK('SCORE TABLE'!AU11,'SCORE TABLE'!$F11:$BC11,0)+ COUNTIF('SCORE TABLE'!$F11:AU11, 'SCORE TABLE'!AU11) - 1","v":28},{"$f":"RANK('SCORE TABLE'!AV11,'SCORE TABLE'!$F11:$BC11,0)+ COUNTIF('SCORE TABLE'!$F11:AV11, 'SCORE TABLE'!AV11) - 1","v":24},{"$f":"RANK('SCORE TABLE'!AW11,'SCORE TABLE'!$F11:$BC11,0)+ COUNTIF('SCORE TABLE'!$F11:AW11, 'SCORE TABLE'!AW11) - 1","v":29},{"$f":"RANK('SCORE TABLE'!AX11,'SCORE TABLE'!$F11:$BC11,0)+ COUNTIF('SCORE TABLE'!$F11:AX11, 'SCORE TABLE'!AX11) - 1","v":43},{"$f":"RANK('SCORE TABLE'!AY11,'SCORE TABLE'!$F11:$BC11,0)+ COUNTIF('SCORE TABLE'!$F11:AY11, 'SCORE TABLE'!AY11) - 1","v":30},{"$f":"RANK('SCORE TABLE'!AZ11,'SCORE TABLE'!$F11:$BC11,0)+ COUNTIF('SCORE TABLE'!$F11:AZ11, 'SCORE TABLE'!AZ11) - 1","v":31},{"$f":"RANK('SCORE TABLE'!BA11,'SCORE TABLE'!$F11:$BC11,0)+ COUNTIF('SCORE TABLE'!$F11:BA11, 'SCORE TABLE'!BA11) - 1","v":9},{"$f":"RANK('SCORE TABLE'!BB11,'SCORE TABLE'!$F11:$BC11,0)+ COUNTIF('SCORE TABLE'!$F11:BB11, 'SCORE TABLE'!BB11) - 1","v":32},{"$f":"RANK('SCORE TABLE'!BC11,'SCORE TABLE'!$F11:$BC11,0)+ COUNTIF('SCORE TABLE'!$F11:BC11, 'SCORE TABLE'!BC11) - 1","v":17}]
[null,1001,1.1,"Obesity-related policy",null,null,{"$f":"RANK('SCORE TABLE'!F12,'SCORE TABLE'!$F12:$BC12,0)+ COUNTIF('SCORE TABLE'!$F12:F12, 'SCORE TABLE'!F12) - 1","v":20},{"$f":"RANK('SCORE TABLE'!G12,'SCORE TABLE'!$F12:$BC12,0)+ COUNTIF('SCORE TABLE'!$F12:G12, 'SCORE TABLE'!G12) - 1","v":8},{"$f":"RANK('SCORE TABLE'!H12,'SCORE TABLE'!$F12:$BC12,0)+ COUNTIF('SCORE TABLE'!$F12:H12, 'SCORE TABLE'!H12) - 1","v":47},{"$f":"RANK('SCORE TABLE'!I12,'SCORE TABLE'!$F12:$BC12,0)+ COUNTIF('SCORE TABLE'!$F12:I12, 'SCORE TABLE'!I12) - 1","v":26},{"$f":"RANK('SCORE TABLE'!J12,'SCORE TABLE'!$F12:$BC12,0)+ COUNTIF('SCORE TABLE'!$F12:J12, 'SCORE TABLE'!J12) - 1","v":5},{"$f":"RANK('SCORE TABLE'!K12,'SCORE TABLE'!$F12:$BC12,0)+ COUNTIF('SCORE TABLE'!$F12:K12, 'SCORE TABLE'!K12) - 1","v":1},{"$f":"RANK('SCORE TABLE'!L12,'SCORE TABLE'!$F12:$BC12,0)+ COUNTIF('SCORE TABLE'!$F12:L12, 'SCORE TABLE'!L12) - 1","v":31},{"$f":"RANK('SCORE TABLE'!M12,'SCORE TABLE'!$F12:$BC12,0)+ COUNTIF('SCORE TABLE'!$F12:M12, 'SCORE TABLE'!M12) - 1","v":37},{"$f":"RANK('SCORE TABLE'!N12,'SCORE TABLE'!$F12:$BC12,0)+ COUNTIF('SCORE TABLE'!$F12:N12, 'SCORE TABLE'!N12) - 1","v":21},{"$f":"RANK('SCORE TABLE'!O12,'SCORE TABLE'!$F12:$BC12,0)+ COUNTIF('SCORE TABLE'!$F12:O12, 'SCORE TABLE'!O12) - 1","v":43},{"$f":"RANK('SCORE TABLE'!P12,'SCORE TABLE'!$F12:$BC12,0)+ COUNTIF('SCORE TABLE'!$F12:P12, 'SCORE TABLE'!P12) - 1","v":4},{"$f":"RANK('SCORE TABLE'!Q12,'SCORE TABLE'!$F12:$BC12,0)+ COUNTIF('SCORE TABLE'!$F12:Q12, 'SCORE TABLE'!Q12) - 1","v":22},{"$f":"RANK('SCORE TABLE'!R12,'SCORE TABLE'!$F12:$BC12,0)+ COUNTIF('SCORE TABLE'!$F12:R12, 'SCORE TABLE'!R12) - 1","v":9},{"$f":"RANK('SCORE TABLE'!S12,'SCORE TABLE'!$F12:$BC12,0)+ COUNTIF('SCORE TABLE'!$F12:S12, 'SCORE TABLE'!S12) - 1","v":27},{"$f":"RANK('SCORE TABLE'!T12,'SCORE TABLE'!$F12:$BC12,0)+ COUNTIF('SCORE TABLE'!$F12:T12, 'SCORE TABLE'!T12) - 1","v":38},{"$f":"RANK('SCORE TABLE'!U12,'SCORE TABLE'!$F12:$BC12,0)+ COUNTIF('SCORE TABLE'!$F12:U12, 'SCORE TABLE'!U12) - 1","v":48},{"$f":"RANK('SCORE TABLE'!V12,'SCORE TABLE'!$F12:$BC12,0)+ COUNTIF('SCORE TABLE'!$F12:V12, 'SCORE TABLE'!V12) - 1","v":39},{"$f":"RANK('SCORE TABLE'!W12,'SCORE TABLE'!$F12:$BC12,0)+ COUNTIF('SCORE TABLE'!$F12:W12, 'SCORE TABLE'!W12) - 1","v":23},{"$f":"RANK('SCORE TABLE'!X12,'SCORE TABLE'!$F12:$BC12,0)+ COUNTIF('SCORE TABLE'!$F12:X12, 'SCORE TABLE'!X12) - 1","v":25},{"$f":"RANK('SCORE TABLE'!Y12,'SCORE TABLE'!$F12:$BC12,0)+ COUNTIF('SCORE TABLE'!$F12:Y12, 'SCORE TABLE'!Y12) - 1","v":28},{"$f":"RANK('SCORE TABLE'!Z12,'SCORE TABLE'!$F12:$BC12,0)+ COUNTIF('SCORE TABLE'!$F12:Z12, 'SCORE TABLE'!Z12) - 1","v":44},{"$f":"RANK('SCORE TABLE'!AA12,'SCORE TABLE'!$F12:$BC12,0)+ COUNTIF('SCORE TABLE'!$F12:AA12, 'SCORE TABLE'!AA12) - 1","v":3},{"$f":"RANK('SCORE TABLE'!AB12,'SCORE TABLE'!$F12:$BC12,0)+ COUNTIF('SCORE TABLE'!$F12:AB12, 'SCORE TABLE'!AB12) - 1","v":40},{"$f":"RANK('SCORE TABLE'!AC12,'SCORE TABLE'!$F12:$BC12,0)+ COUNTIF('SCORE TABLE'!$F12:AC12, 'SCORE TABLE'!AC12) - 1","v":6},{"$f":"RANK('SCORE TABLE'!AD12,'SCORE TABLE'!$F12:$BC12,0)+ COUNTIF('SCORE TABLE'!$F12:AD12, 'SCORE TABLE'!AD12) - 1","v":24},{"$f":"RANK('SCORE TABLE'!AE12,'SCORE TABLE'!$F12:$BC12,0)+ COUNTIF('SCORE TABLE'!$F12:AE12, 'SCORE TABLE'!AE12) - 1","v":32},{"$f":"RANK('SCORE TABLE'!AF12,'SCORE TABLE'!$F12:$BC12,0)+ COUNTIF('SCORE TABLE'!$F12:AF12, 'SCORE TABLE'!AF12) - 1","v":14},{"$f":"RANK('SCORE TABLE'!AG12,'SCORE TABLE'!$F12:$BC12,0)+ COUNTIF('SCORE TABLE'!$F12:AG12, 'SCORE TABLE'!AG12) - 1","v":29},{"$f":"RANK('SCORE TABLE'!AH12,'SCORE TABLE'!$F12:$BC12,0)+ COUNTIF('SCORE TABLE'!$F12:AH12, 'SCORE TABLE'!AH12) - 1","v":33},{"$f":"RANK('SCORE TABLE'!AI12,'SCORE TABLE'!$F12:$BC12,0)+ COUNTIF('SCORE TABLE'!$F12:AI12, 'SCORE TABLE'!AI12) - 1","v":15},{"$f":"RANK('SCORE TABLE'!AJ12,'SCORE TABLE'!$F12:$BC12,0)+ COUNTIF('SCORE TABLE'!$F12:AJ12, 'SCORE TABLE'!AJ12) - 1","v":10},{"$f":"RANK('SCORE TABLE'!AK12,'SCORE TABLE'!$F12:$BC12,0)+ COUNTIF('SCORE TABLE'!$F12:AK12, 'SCORE TABLE'!AK12) - 1","v":41},{"$f":"RANK('SCORE TABLE'!AL12,'SCORE TABLE'!$F12:$BC12,0)+ COUNTIF('SCORE TABLE'!$F12:AL12, 'SCORE TABLE'!AL12) - 1","v":45},{"$f":"RANK('SCORE TABLE'!AM12,'SCORE TABLE'!$F12:$BC12,0)+ COUNTIF('SCORE TABLE'!$F12:AM12, 'SCORE TABLE'!AM12) - 1","v":49},{"$f":"RANK('SCORE TABLE'!AN12,'SCORE TABLE'!$F12:$BC12,0)+ COUNTIF('SCORE TABLE'!$F12:AN12, 'SCORE TABLE'!AN12) - 1","v":42},{"$f":"RANK('SCORE TABLE'!AO12,'SCORE TABLE'!$F12:$BC12,0)+ COUNTIF('SCORE TABLE'!$F12:AO12, 'SCORE TABLE'!AO12) - 1","v":2},{"$f":"RANK('SCORE TABLE'!AP12,'SCORE TABLE'!$F12:$BC12,0)+ COUNTIF('SCORE TABLE'!$F12:AP12, 'SCORE TABLE'!AP12) - 1","v":13},{"$f":"RANK('SCORE TABLE'!AQ12,'SCORE TABLE'!$F12:$BC12,0)+ COUNTIF('SCORE TABLE'!$F12:AQ12, 'SCORE TABLE'!AQ12) - 1","v":11},{"$f":"RANK('SCORE TABLE'!AR12,'SCORE TABLE'!$F12:$BC12,0)+ COUNTIF('SCORE TABLE'!$F12:AR12, 'SCORE TABLE'!AR12) - 1","v":7},{"$f":"RANK('SCORE TABLE'!AS12,'SCORE TABLE'!$F12:$BC12,0)+ COUNTIF('SCORE TABLE'!$F12:AS12, 'SCORE TABLE'!AS12) - 1","v":46},{"$f":"RANK('SCORE TABLE'!AT12,'SCORE TABLE'!$F12:$BC12,0)+ COUNTIF('SCORE TABLE'!$F12:AT12, 'SCORE TABLE'!AT12) - 1","v":16},{"$f":"RANK('SCORE TABLE'!AU12,'SCORE TABLE'!$F12:$BC12,0)+ COUNTIF('SCORE TABLE'!$F12:AU12, 'SCORE TABLE'!AU12) - 1","v":17},{"$f":"RANK('SCORE TABLE'!AV12,'SCORE TABLE'!$F12:$BC12,0)+ COUNTIF('SCORE TABLE'!$F12:AV12, 'SCORE TABLE'!AV12) - 1","v":12},{"$f":"RANK('SCORE TABLE'!AW12,'SCORE TABLE'!$F12:$BC12,0)+ COUNTIF('SCORE TABLE'!$F12:AW12, 'SCORE TABLE'!AW12) - 1","v":18},{"$f":"RANK('SCORE TABLE'!AX12,'SCORE TABLE'!$F12:$BC12,0)+ COUNTIF('SCORE TABLE'!$F12:AX12, 'SCORE TABLE'!AX12) - 1","v":34},{"$f":"RANK('SCORE TABLE'!AY12,'SCORE TABLE'!$F12:$BC12,0)+ COUNTIF('SCORE TABLE'!$F12:AY12, 'SCORE TABLE'!AY12) - 1","v":35},{"$f":"RANK('SCORE TABLE'!AZ12,'SCORE TABLE'!$F12:$BC12,0)+ COUNTIF('SCORE TABLE'!$F12:AZ12, 'SCORE TABLE'!AZ12) - 1","v":19},{"$f":"RANK('SCORE TABLE'!BA12,'SCORE TABLE'!$F12:$BC12,0)+ COUNTIF('SCORE TABLE'!$F12:BA12, 'SCORE TABLE'!BA12) - 1","v":30},{"$f":"RANK('SCORE TABLE'!BB12,'SCORE TABLE'!$F12:$BC12,0)+ COUNTIF('SCORE TABLE'!$F12:BB12, 'SCORE TABLE'!BB12) - 1","v":36},{"$f":"RANK('SCORE TABLE'!BC12,'SCORE TABLE'!$F12:$BC12,0)+ COUNTIF('SCORE TABLE'!$F12:BC12, 'SCORE TABLE'!BC12) - 1","v":50}]
[null,1002,"1.1.1","Health policy/strategy/plan that includes obesity",null,null,{"$f":"RANK('SCORE TABLE'!F13,'SCORE TABLE'!$F13:$BC13,0)+ COUNTIF('SCORE TABLE'!$F13:F13, 'SCORE TABLE'!F13) - 1","v":21},{"$f":"RANK('SCORE TABLE'!G13,'SCORE TABLE'!$F13:$BC13,0)+ COUNTIF('SCORE TABLE'!$F13:G13, 'SCORE TABLE'!G13) - 1","v":1},{"$f":"RANK('SCORE TABLE'!H13,'SCORE TABLE'!$F13:$BC13,0)+ COUNTIF('SCORE TABLE'!$F13:H13, 'SCORE TABLE'!H13) - 1","v":22},{"$f":"RANK('SCORE TABLE'!I13,'SCORE TABLE'!$F13:$BC13,0)+ COUNTIF('SCORE TABLE'!$F13:I13, 'SCORE TABLE'!I13) - 1","v":2},{"$f":"RANK('SCORE TABLE'!J13,'SCORE TABLE'!$F13:$BC13,0)+ COUNTIF('SCORE TABLE'!$F13:J13, 'SCORE TABLE'!J13) - 1","v":3},{"$f":"RANK('SCORE TABLE'!K13,'SCORE TABLE'!$F13:$BC13,0)+ COUNTIF('SCORE TABLE'!$F13:K13, 'SCORE TABLE'!K13) - 1","v":23},{"$f":"RANK('SCORE TABLE'!L13,'SCORE TABLE'!$F13:$BC13,0)+ COUNTIF('SCORE TABLE'!$F13:L13, 'SCORE TABLE'!L13) - 1","v":24},{"$f":"RANK('SCORE TABLE'!M13,'SCORE TABLE'!$F13:$BC13,0)+ COUNTIF('SCORE TABLE'!$F13:M13, 'SCORE TABLE'!M13) - 1","v":25},{"$f":"RANK('SCORE TABLE'!N13,'SCORE TABLE'!$F13:$BC13,0)+ COUNTIF('SCORE TABLE'!$F13:N13, 'SCORE TABLE'!N13) - 1","v":4},{"$f":"RANK('SCORE TABLE'!O13,'SCORE TABLE'!$F13:$BC13,0)+ COUNTIF('SCORE TABLE'!$F13:O13, 'SCORE TABLE'!O13) - 1","v":26},{"$f":"RANK('SCORE TABLE'!P13,'SCORE TABLE'!$F13:$BC13,0)+ COUNTIF('SCORE TABLE'!$F13:P13, 'SCORE TABLE'!P13) - 1","v":5},{"$f":"RANK('SCORE TABLE'!Q13,'SCORE TABLE'!$F13:$BC13,0)+ COUNTIF('SCORE TABLE'!$F13:Q13, 'SCORE TABLE'!Q13) - 1","v":6},{"$f":"RANK('SCORE TABLE'!R13,'SCORE TABLE'!$F13:$BC13,0)+ COUNTIF('SCORE TABLE'!$F13:R13, 'SCORE TABLE'!R13) - 1","v":7},{"$f":"RANK('SCORE TABLE'!S13,'SCORE TABLE'!$F13:$BC13,0)+ COUNTIF('SCORE TABLE'!$F13:S13, 'SCORE TABLE'!S13) - 1","v":27},{"$f":"RANK('SCORE TABLE'!T13,'SCORE TABLE'!$F13:$BC13,0)+ COUNTIF('SCORE TABLE'!$F13:T13, 'SCORE TABLE'!T13) - 1","v":28},{"$f":"RANK('SCORE TABLE'!U13,'SCORE TABLE'!$F13:$BC13,0)+ COUNTIF('SCORE TABLE'!$F13:U13, 'SCORE TABLE'!U13) - 1","v":29},{"$f":"RANK('SCORE TABLE'!V13,'SCORE TABLE'!$F13:$BC13,0)+ COUNTIF('SCORE TABLE'!$F13:V13, 'SCORE TABLE'!V13) - 1","v":30},{"$f":"RANK('SCORE TABLE'!W13,'SCORE TABLE'!$F13:$BC13,0)+ COUNTIF('SCORE TABLE'!$F13:W13, 'SCORE TABLE'!W13) - 1","v":8},{"$f":"RANK('SCORE TABLE'!X13,'SCORE TABLE'!$F13:$BC13,0)+ COUNTIF('SCORE TABLE'!$F13:X13, 'SCORE TABLE'!X13) - 1","v":31},{"$f":"RANK('SCORE TABLE'!Y13,'SCORE TABLE'!$F13:$BC13,0)+ COUNTIF('SCORE TABLE'!$F13:Y13, 'SCORE TABLE'!Y13) - 1","v":32},{"$f":"RANK('SCORE TABLE'!Z13,'SCORE TABLE'!$F13:$BC13,0)+ COUNTIF('SCORE TABLE'!$F13:Z13, 'SCORE TABLE'!Z13) - 1","v":33},{"$f":"RANK('SCORE TABLE'!AA13,'SCORE TABLE'!$F13:$BC13,0)+ COUNTIF('SCORE TABLE'!$F13:AA13, 'SCORE TABLE'!AA13) - 1","v":34},{"$f":"RANK('SCORE TABLE'!AB13,'SCORE TABLE'!$F13:$BC13,0)+ COUNTIF('SCORE TABLE'!$F13:AB13, 'SCORE TABLE'!AB13) - 1","v":35},{"$f":"RANK('SCORE TABLE'!AC13,'SCORE TABLE'!$F13:$BC13,0)+ COUNTIF('SCORE TABLE'!$F13:AC13, 'SCORE TABLE'!AC13) - 1","v":9},{"$f":"RANK('SCORE TABLE'!AD13,'SCORE TABLE'!$F13:$BC13,0)+ COUNTIF('SCORE TABLE'!$F13:AD13, 'SCORE TABLE'!AD13) - 1","v":10},{"$f":"RANK('SCORE TABLE'!AE13,'SCORE TABLE'!$F13:$BC13,0)+ COUNTIF('SCORE TABLE'!$F13:AE13, 'SCORE TABLE'!AE13) - 1","v":11},{"$f":"RANK('SCORE TABLE'!AF13,'SCORE TABLE'!$F13:$BC13,0)+ COUNTIF('SCORE TABLE'!$F13:AF13, 'SCORE TABLE'!AF13) - 1","v":12},{"$f":"RANK('SCORE TABLE'!AG13,'SCORE TABLE'!$F13:$BC13,0)+ COUNTIF('SCORE TABLE'!$F13:AG13, 'SCORE TABLE'!AG13) - 1","v":36},{"$f":"RANK('SCORE TABLE'!AH13,'SCORE TABLE'!$F13:$BC13,0)+ COUNTIF('SCORE TABLE'!$F13:AH13, 'SCORE TABLE'!AH13) - 1","v":37},{"$f":"RANK('SCORE TABLE'!AI13,'SCORE TABLE'!$F13:$BC13,0)+ COUNTIF('SCORE TABLE'!$F13:AI13, 'SCORE TABLE'!AI13) - 1","v":13},{"$f":"RANK('SCORE TABLE'!AJ13,'SCORE TABLE'!$F13:$BC13,0)+ COUNTIF('SCORE TABLE'!$F13:AJ13, 'SCORE TABLE'!AJ13) - 1","v":14},{"$f":"RANK('SCORE TABLE'!AK13,'SCORE TABLE'!$F13:$BC13,0)+ COUNTIF('SCORE TABLE'!$F13:AK13, 'SCORE TABLE'!AK13) - 1","v":38},{"$f":"RANK('SCORE TABLE'!AL13,'SCORE TABLE'!$F13:$BC13,0)+ COUNTIF('SCORE TABLE'!$F13:AL13, 'SCORE TABLE'!AL13) - 1","v":39},{"$f":"RANK('SCORE TABLE'!AM13,'SCORE TABLE'!$F13:$BC13,0)+ COUNTIF('SCORE TABLE'!$F13:AM13, 'SCORE TABLE'!AM13) - 1","v":40},{"$f":"RANK('SCORE TABLE'!AN13,'SCORE TABLE'!$F13:$BC13,0)+ COUNTIF('SCORE TABLE'!$F13:AN13, 'SCORE TABLE'!AN13) - 1","v":41},{"$f":"RANK('SCORE TABLE'!AO13,'SCORE TABLE'!$F13:$BC13,0)+ COUNTIF('SCORE TABLE'!$F13:AO13, 'SCORE TABLE'!AO13) - 1","v":15},{"$f":"RANK('SCORE TABLE'!AP13,'SCORE TABLE'!$F13:$BC13,0)+ COUNTIF('SCORE TABLE'!$F13:AP13, 'SCORE TABLE'!AP13) - 1","v":42},{"$f":"RANK('SCORE TABLE'!AQ13,'SCORE TABLE'!$F13:$BC13,0)+ COUNTIF('SCORE TABLE'!$F13:AQ13, 'SCORE TABLE'!AQ13) - 1","v":16},{"$f":"RANK('SCORE TABLE'!AR13,'SCORE TABLE'!$F13:$BC13,0)+ COUNTIF('SCORE TABLE'!$F13:AR13, 'SCORE TABLE'!AR13) - 1","v":17},{"$f":"RANK('SCORE TABLE'!AS13,'SCORE TABLE'!$F13:$BC13,0)+ COUNTIF('SCORE TABLE'!$F13:AS13, 'SCORE TABLE'!AS13) - 1","v":43},{"$f":"RANK('SCORE TABLE'!AT13,'SCORE TABLE'!$F13:$BC13,0)+ COUNTIF('SCORE TABLE'!$F13:AT13, 'SCORE TABLE'!AT13) - 1","v":18},{"$f":"RANK('SCORE TABLE'!AU13,'SCORE TABLE'!$F13:$BC13,0)+ COUNTIF('SCORE TABLE'!$F13:AU13, 'SCORE TABLE'!AU13) - 1","v":19},{"$f":"RANK('SCORE TABLE'!AV13,'SCORE TABLE'!$F13:$BC13,0)+ COUNTIF('SCORE TABLE'!$F13:AV13, 'SCORE TABLE'!AV13) - 1","v":44},{"$f":"RANK('SCORE TABLE'!AW13,'SCORE TABLE'!$F13:$BC13,0)+ COUNTIF('SCORE TABLE'!$F13:AW13, 'SCORE TABLE'!AW13) - 1","v":45},{"$f":"RANK('SCORE TABLE'!AX13,'SCORE TABLE'!$F13:$BC13,0)+ COUNTIF('SCORE TABLE'!$F13:AX13, 'SCORE TABLE'!AX13) - 1","v":46},{"$f":"RANK('SCORE TABLE'!AY13,'SCORE TABLE'!$F13:$BC13,0)+ COUNTIF('SCORE TABLE'!$F13:AY13, 'SCORE TABLE'!AY13) - 1","v":20},{"$f":"RANK('SCORE TABLE'!AZ13,'SCORE TABLE'!$F13:$BC13,0)+ COUNTIF('SCORE TABLE'!$F13:AZ13, 'SCORE TABLE'!AZ13) - 1","v":47},{"$f":"RANK('SCORE TABLE'!BA13,'SCORE TABLE'!$F13:$BC13,0)+ COUNTIF('SCORE TABLE'!$F13:BA13, 'SCORE TABLE'!BA13) - 1","v":48},{"$f":"RANK('SCORE TABLE'!BB13,'SCORE TABLE'!$F13:$BC13,0)+ COUNTIF('SCORE TABLE'!$F13:BB13, 'SCORE TABLE'!BB13) - 1","v":49},{"$f":"RANK('SCORE TABLE'!BC13,'SCORE TABLE'!$F13:$BC13,0)+ COUNTIF('SCORE TABLE'!$F13:BC13, 'SCORE TABLE'!BC13) - 1","v":50}]
[null,1003,"1.1.2","Definition of obesity",null,null,{"$f":"RANK('SCORE TABLE'!F14,'SCORE TABLE'!$F14:$BC14,0)+ COUNTIF('SCORE TABLE'!$F14:F14, 'SCORE TABLE'!F14) - 1","v":1},{"$f":"RANK('SCORE TABLE'!G14,'SCORE TABLE'!$F14:$BC14,0)+ COUNTIF('SCORE TABLE'!$F14:G14, 'SCORE TABLE'!G14) - 1","v":2},{"$f":"RANK('SCORE TABLE'!H14,'SCORE TABLE'!$F14:$BC14,0)+ COUNTIF('SCORE TABLE'!$F14:H14, 'SCORE TABLE'!H14) - 1","v":44},{"$f":"RANK('SCORE TABLE'!I14,'SCORE TABLE'!$F14:$BC14,0)+ COUNTIF('SCORE TABLE'!$F14:I14, 'SCORE TABLE'!I14) - 1","v":45},{"$f":"RANK('SCORE TABLE'!J14,'SCORE TABLE'!$F14:$BC14,0)+ COUNTIF('SCORE TABLE'!$F14:J14, 'SCORE TABLE'!J14) - 1","v":3},{"$f":"RANK('SCORE TABLE'!K14,'SCORE TABLE'!$F14:$BC14,0)+ COUNTIF('SCORE TABLE'!$F14:K14, 'SCORE TABLE'!K14) - 1","v":4},{"$f":"RANK('SCORE TABLE'!L14,'SCORE TABLE'!$F14:$BC14,0)+ COUNTIF('SCORE TABLE'!$F14:L14, 'SCORE TABLE'!L14) - 1","v":5},{"$f":"RANK('SCORE TABLE'!M14,'SCORE TABLE'!$F14:$BC14,0)+ COUNTIF('SCORE TABLE'!$F14:M14, 'SCORE TABLE'!M14) - 1","v":20},{"$f":"RANK('SCORE TABLE'!N14,'SCORE TABLE'!$F14:$BC14,0)+ COUNTIF('SCORE TABLE'!$F14:N14, 'SCORE TABLE'!N14) - 1","v":21},{"$f":"RANK('SCORE TABLE'!O14,'SCORE TABLE'!$F14:$BC14,0)+ COUNTIF('SCORE TABLE'!$F14:O14, 'SCORE TABLE'!O14) - 1","v":22},{"$f":"RANK('SCORE TABLE'!P14,'SCORE TABLE'!$F14:$BC14,0)+ COUNTIF('SCORE TABLE'!$F14:P14, 'SCORE TABLE'!P14) - 1","v":23},{"$f":"RANK('SCORE TABLE'!Q14,'SCORE TABLE'!$F14:$BC14,0)+ COUNTIF('SCORE TABLE'!$F14:Q14, 'SCORE TABLE'!Q14) - 1","v":24},{"$f":"RANK('SCORE TABLE'!R14,'SCORE TABLE'!$F14:$BC14,0)+ COUNTIF('SCORE TABLE'!$F14:R14, 'SCORE TABLE'!R14) - 1","v":6},{"$f":"RANK('SCORE TABLE'!S14,'SCORE TABLE'!$F14:$BC14,0)+ COUNTIF('SCORE TABLE'!$F14:S14, 'SCORE TABLE'!S14) - 1","v":7},{"$f":"RANK('SCORE TABLE'!T14,'SCORE TABLE'!$F14:$BC14,0)+ COUNTIF('SCORE TABLE'!$F14:T14, 'SCORE TABLE'!T14) - 1","v":25},{"$f":"RANK('SCORE TABLE'!U14,'SCORE TABLE'!$F14:$BC14,0)+ COUNTIF('SCORE TABLE'!$F14:U14, 'SCORE TABLE'!U14) - 1","v":46},{"$f":"RANK('SCORE TABLE'!V14,'SCORE TABLE'!$F14:$BC14,0)+ COUNTIF('SCORE TABLE'!$F14:V14, 'SCORE TABLE'!V14) - 1","v":26},{"$f":"RANK('SCORE TABLE'!W14,'SCORE TABLE'!$F14:$BC14,0)+ COUNTIF('SCORE TABLE'!$F14:W14, 'SCORE TABLE'!W14) - 1","v":27},{"$f":"RANK('SCORE TABLE'!X14,'SCORE TABLE'!$F14:$BC14,0)+ COUNTIF('SCORE TABLE'!$F14:X14, 'SCORE TABLE'!X14) - 1","v":8},{"$f":"RANK('SCORE TABLE'!Y14,'SCORE TABLE'!$F14:$BC14,0)+ COUNTIF('SCORE TABLE'!$F14:Y14, 'SCORE TABLE'!Y14) - 1","v":9},{"$f":"RANK('SCORE TABLE'!Z14,'SCORE TABLE'!$F14:$BC14,0)+ COUNTIF('SCORE TABLE'!$F14:Z14, 'SCORE TABLE'!Z14) - 1","v":28},{"$f":"RANK('SCORE TABLE'!AA14,'SCORE TABLE'!$F14:$BC14,0)+ COUNTIF('SCORE TABLE'!$F14:AA14, 'SCORE TABLE'!AA14) - 1","v":10},{"$f":"RANK('SCORE TABLE'!AB14,'SCORE TABLE'!$F14:$BC14,0)+ COUNTIF('SCORE TABLE'!$F14:AB14, 'SCORE TABLE'!AB14) - 1","v":29},{"$f":"RANK('SCORE TABLE'!AC14,'SCORE TABLE'!$F14:$BC14,0)+ COUNTIF('SCORE TABLE'!$F14:AC14, 'SCORE TABLE'!AC14) - 1","v":11},{"$f":"RANK('SCORE TABLE'!AD14,'SCORE TABLE'!$F14:$BC14,0)+ COUNTIF('SCORE TABLE'!$F14:AD14, 'SCORE TABLE'!AD14) - 1","v":30},{"$f":"RANK('SCORE TABLE'!AE14,'SCORE TABLE'!$F14:$BC14,0)+ COUNTIF('SCORE TABLE'!$F14:AE14, 'SCORE TABLE'!AE14) - 1","v":47},{"$f":"RANK('SCORE TABLE'!AF14,'SCORE TABLE'!$F14:$BC14,0)+ COUNTIF('SCORE TABLE'!$F14:AF14, 'SCORE TABLE'!AF14) - 1","v":31},{"$f":"RANK('SCORE TABLE'!AG14,'SCORE TABLE'!$F14:$BC14,0)+ COUNTIF('SCORE TABLE'!$F14:AG14, 'SCORE TABLE'!AG14) - 1","v":12},{"$f":"RANK('SCORE TABLE'!AH14,'SCORE TABLE'!$F14:$BC14,0)+ COUNTIF('SCORE TABLE'!$F14:AH14, 'SCORE TABLE'!AH14) - 1","v":13},{"$f":"RANK('SCORE TABLE'!AI14,'SCORE TABLE'!$F14:$BC14,0)+ COUNTIF('SCORE TABLE'!$F14:AI14, 'SCORE TABLE'!AI14) - 1","v":32},{"$f":"RANK('SCORE TABLE'!AJ14,'SCORE TABLE'!$F14:$BC14,0)+ COUNTIF('SCORE TABLE'!$F14:AJ14, 'SCORE TABLE'!AJ14) - 1","v":14},{"$f":"RANK('SCORE TABLE'!AK14,'SCORE TABLE'!$F14:$BC14,0)+ COUNTIF('SCORE TABLE'!$F14:AK14, 'SCORE TABLE'!AK14) - 1","v":33},{"$f":"RANK('SCORE TABLE'!AL14,'SCORE TABLE'!$F14:$BC14,0)+ COUNTIF('SCORE TABLE'!$F14:AL14, 'SCORE TABLE'!AL14) - 1","v":34},{"$f":"RANK('SCORE TABLE'!AM14,'SCORE TABLE'!$F14:$BC14,0)+ COUNTIF('SCORE TABLE'!$F14:AM14, 'SCORE TABLE'!AM14) - 1","v":48},{"$f":"RANK('SCORE TABLE'!AN14,'SCORE TABLE'!$F14:$BC14,0)+ COUNTIF('SCORE TABLE'!$F14:AN14, 'SCORE TABLE'!AN14) - 1","v":35},{"$f":"RANK('SCORE TABLE'!AO14,'SCORE TABLE'!$F14:$BC14,0)+ COUNTIF('SCORE TABLE'!$F14:AO14, 'SCORE TABLE'!AO14) - 1","v":36},{"$f":"RANK('SCORE TABLE'!AP14,'SCORE TABLE'!$F14:$BC14,0)+ COUNTIF('SCORE TABLE'!$F14:AP14, 'SCORE TABLE'!AP14) - 1","v":15},{"$f":"RANK('SCORE TABLE'!AQ14,'SCORE TABLE'!$F14:$BC14,0)+ COUNTIF('SCORE TABLE'!$F14:AQ14, 'SCORE TABLE'!AQ14) - 1","v":16},{"$f":"RANK('SCORE TABLE'!AR14,'SCORE TABLE'!$F14:$BC14,0)+ COUNTIF('SCORE TABLE'!$F14:AR14, 'SCORE TABLE'!AR14) - 1","v":37},{"$f":"RANK('SCORE TABLE'!AS14,'SCORE TABLE'!$F14:$BC14,0)+ COUNTIF('SCORE TABLE'!$F14:AS14, 'SCORE TABLE'!AS14) - 1","v":38},{"$f":"RANK('SCORE TABLE'!AT14,'SCORE TABLE'!$F14:$BC14,0)+ COUNTIF('SCORE TABLE'!$F14:AT14, 'SCORE TABLE'!AT14) - 1","v":39},{"$f":"RANK('SCORE TABLE'!AU14,'SCORE TABLE'!$F14:$BC14,0)+ COUNTIF('SCORE TABLE'!$F14:AU14, 'SCORE TABLE'!AU14) - 1","v":40},{"$f":"RANK('SCORE TABLE'!AV14,'SCORE TABLE'!$F14:$BC14,0)+ COUNTIF('SCORE TABLE'!$F14:AV14, 'SCORE TABLE'!AV14) - 1","v":41},{"$f":"RANK('SCORE TABLE'!AW14,'SCORE TABLE'!$F14:$BC14,0)+ COUNTIF('SCORE TABLE'!$F14:AW14, 'SCORE TABLE'!AW14) - 1","v":17},{"$f":"RANK('SCORE TABLE'!AX14,'SCORE TABLE'!$F14:$BC14,0)+ COUNTIF('SCORE TABLE'!$F14:AX14, 'SCORE TABLE'!AX14) - 1","v":18},{"$f":"RANK('SCORE TABLE'!AY14,'SCORE TABLE'!$F14:$BC14,0)+ COUNTIF('SCORE TABLE'!$F14:AY14, 'SCORE TABLE'!AY14) - 1","v":49},{"$f":"RANK('SCORE TABLE'!AZ14,'SCORE TABLE'!$F14:$BC14,0)+ COUNTIF('SCORE TABLE'!$F14:AZ14, 'SCORE TABLE'!AZ14) - 1","v":42},{"$f":"RANK('SCORE TABLE'!BA14,'SCORE TABLE'!$F14:$BC14,0)+ COUNTIF('SCORE TABLE'!$F14:BA14, 'SCORE TABLE'!BA14) - 1","v":19},{"$f":"RANK('SCORE TABLE'!BB14,'SCORE TABLE'!$F14:$BC14,0)+ COUNTIF('SCORE TABLE'!$F14:BB14, 'SCORE TABLE'!BB14) - 1","v":43},{"$f":"RANK('SCORE TABLE'!BC14,'SCORE TABLE'!$F14:$BC14,0)+ COUNTIF('SCORE TABLE'!$F14:BC14, 'SCORE TABLE'!BC14) - 1","v":50}]
[null,1004,"1.1.3","Obesity-related policy/strategy/plan",null,null,{"$f":"RANK('SCORE TABLE'!F15,'SCORE TABLE'!$F15:$BC15,0)+ COUNTIF('SCORE TABLE'!$F15:F15, 'SCORE TABLE'!F15) - 1","v":7},{"$f":"RANK('SCORE TABLE'!G15,'SCORE TABLE'!$F15:$BC15,0)+ COUNTIF('SCORE TABLE'!$F15:G15, 'SCORE TABLE'!G15) - 1","v":31},{"$f":"RANK('SCORE TABLE'!H15,'SCORE TABLE'!$F15:$BC15,0)+ COUNTIF('SCORE TABLE'!$F15:H15, 'SCORE TABLE'!H15) - 1","v":12},{"$f":"RANK('SCORE TABLE'!I15,'SCORE TABLE'!$F15:$BC15,0)+ COUNTIF('SCORE TABLE'!$F15:I15, 'SCORE TABLE'!I15) - 1","v":13},{"$f":"RANK('SCORE TABLE'!J15,'SCORE TABLE'!$F15:$BC15,0)+ COUNTIF('SCORE TABLE'!$F15:J15, 'SCORE TABLE'!J15) - 1","v":14},{"$f":"RANK('SCORE TABLE'!K15,'SCORE TABLE'!$F15:$BC15,0)+ COUNTIF('SCORE TABLE'!$F15:K15, 'SCORE TABLE'!K15) - 1","v":3},{"$f":"RANK('SCORE TABLE'!L15,'SCORE TABLE'!$F15:$BC15,0)+ COUNTIF('SCORE TABLE'!$F15:L15, 'SCORE TABLE'!L15) - 1","v":32},{"$f":"RANK('SCORE TABLE'!M15,'SCORE TABLE'!$F15:$BC15,0)+ COUNTIF('SCORE TABLE'!$F15:M15, 'SCORE TABLE'!M15) - 1","v":15},{"$f":"RANK('SCORE TABLE'!N15,'SCORE TABLE'!$F15:$BC15,0)+ COUNTIF('SCORE TABLE'!$F15:N15, 'SCORE TABLE'!N15) - 1","v":33},{"$f":"RANK('SCORE TABLE'!O15,'SCORE TABLE'!$F15:$BC15,0)+ COUNTIF('SCORE TABLE'!$F15:O15, 'SCORE TABLE'!O15) - 1","v":34},{"$f":"RANK('SCORE TABLE'!P15,'SCORE TABLE'!$F15:$BC15,0)+ COUNTIF('SCORE TABLE'!$F15:P15, 'SCORE TABLE'!P15) - 1","v":2},{"$f":"RANK('SCORE TABLE'!Q15,'SCORE TABLE'!$F15:$BC15,0)+ COUNTIF('SCORE TABLE'!$F15:Q15, 'SCORE TABLE'!Q15) - 1","v":35},{"$f":"RANK('SCORE TABLE'!R15,'SCORE TABLE'!$F15:$BC15,0)+ COUNTIF('SCORE TABLE'!$F15:R15, 'SCORE TABLE'!R15) - 1","v":36},{"$f":"RANK('SCORE TABLE'!S15,'SCORE TABLE'!$F15:$BC15,0)+ COUNTIF('SCORE TABLE'!$F15:S15, 'SCORE TABLE'!S15) - 1","v":16},{"$f":"RANK('SCORE TABLE'!T15,'SCORE TABLE'!$F15:$BC15,0)+ COUNTIF('SCORE TABLE'!$F15:T15, 'SCORE TABLE'!T15) - 1","v":17},{"$f":"RANK('SCORE TABLE'!U15,'SCORE TABLE'!$F15:$BC15,0)+ COUNTIF('SCORE TABLE'!$F15:U15, 'SCORE TABLE'!U15) - 1","v":37},{"$f":"RANK('SCORE TABLE'!V15,'SCORE TABLE'!$F15:$BC15,0)+ COUNTIF('SCORE TABLE'!$F15:V15, 'SCORE TABLE'!V15) - 1","v":18},{"$f":"RANK('SCORE TABLE'!W15,'SCORE TABLE'!$F15:$BC15,0)+ COUNTIF('SCORE TABLE'!$F15:W15, 'SCORE TABLE'!W15) - 1","v":38},{"$f":"RANK('SCORE TABLE'!X15,'SCORE TABLE'!$F15:$BC15,0)+ COUNTIF('SCORE TABLE'!$F15:X15, 'SCORE TABLE'!X15) - 1","v":9},{"$f":"RANK('SCORE TABLE'!Y15,'SCORE TABLE'!$F15:$BC15,0)+ COUNTIF('SCORE TABLE'!$F15:Y15, 'SCORE TABLE'!Y15) - 1","v":19},{"$f":"RANK('SCORE TABLE'!Z15,'SCORE TABLE'!$F15:$BC15,0)+ COUNTIF('SCORE TABLE'!$F15:Z15, 'SCORE TABLE'!Z15) - 1","v":39},{"$f":"RANK('SCORE TABLE'!AA15,'SCORE TABLE'!$F15:$BC15,0)+ COUNTIF('SCORE TABLE'!$F15:AA15, 'SCORE TABLE'!AA15) - 1","v":11},{"$f":"RANK('SCORE TABLE'!AB15,'SCORE TABLE'!$F15:$BC15,0)+ COUNTIF('SCORE TABLE'!$F15:AB15, 'SCORE TABLE'!AB15) - 1","v":20},{"$f":"RANK('SCORE TABLE'!AC15,'SCORE TABLE'!$F15:$BC15,0)+ COUNTIF('SCORE TABLE'!$F15:AC15, 'SCORE TABLE'!AC15) - 1","v":21},{"$f":"RANK('SCORE TABLE'!AD15,'SCORE TABLE'!$F15:$BC15,0)+ COUNTIF('SCORE TABLE'!$F15:AD15, 'SCORE TABLE'!AD15) - 1","v":40},{"$f":"RANK('SCORE TABLE'!AE15,'SCORE TABLE'!$F15:$BC15,0)+ COUNTIF('SCORE TABLE'!$F15:AE15, 'SCORE TABLE'!AE15) - 1","v":41},{"$f":"RANK('SCORE TABLE'!AF15,'SCORE TABLE'!$F15:$BC15,0)+ COUNTIF('SCORE TABLE'!$F15:AF15, 'SCORE TABLE'!AF15) - 1","v":22},{"$f":"RANK('SCORE TABLE'!AG15,'SCORE TABLE'!$F15:$BC15,0)+ COUNTIF('SCORE TABLE'!$F15:AG15, 'SCORE TABLE'!AG15) - 1","v":23},{"$f":"RANK('SCORE TABLE'!AH15,'SCORE TABLE'!$F15:$BC15,0)+ COUNTIF('SCORE TABLE'!$F15:AH15, 'SCORE TABLE'!AH15) - 1","v":42},{"$f":"RANK('SCORE TABLE'!AI15,'SCORE TABLE'!$F15:$BC15,0)+ COUNTIF('SCORE TABLE'!$F15:AI15, 'SCORE TABLE'!AI15) - 1","v":24},{"$f":"RANK('SCORE TABLE'!AJ15,'SCORE TABLE'!$F15:$BC15,0)+ COUNTIF('SCORE TABLE'!$F15:AJ15, 'SCORE TABLE'!AJ15) - 1","v":43},{"$f":"RANK('SCORE TABLE'!AK15,'SCORE TABLE'!$F15:$BC15,0)+ COUNTIF('SCORE TABLE'!$F15:AK15, 'SCORE TABLE'!AK15) - 1","v":25},{"$f":"RANK('SCORE TABLE'!AL15,'SCORE TABLE'!$F15:$BC15,0)+ COUNTIF('SCORE TABLE'!$F15:AL15, 'SCORE TABLE'!AL15) - 1","v":44},{"$f":"RANK('SCORE TABLE'!AM15,'SCORE TABLE'!$F15:$BC15,0)+ COUNTIF('SCORE TABLE'!$F15:AM15, 'SCORE TABLE'!AM15) - 1","v":45},{"$f":"RANK('SCORE TABLE'!AN15,'SCORE TABLE'!$F15:$BC15,0)+ COUNTIF('SCORE TABLE'!$F15:AN15, 'SCORE TABLE'!AN15) - 1","v":26},{"$f":"RANK('SCORE TABLE'!AO15,'SCORE TABLE'!$F15:$BC15,0)+ COUNTIF('SCORE TABLE'!$F15:AO15, 'SCORE TABLE'!AO15) - 1","v":1},{"$f":"RANK('SCORE TABLE'!AP15,'SCORE TABLE'!$F15:$BC15,0)+ COUNTIF('SCORE TABLE'!$F15:AP15, 'SCORE TABLE'!AP15) - 1","v":4},{"$f":"RANK('SCORE TABLE'!AQ15,'SCORE TABLE'!$F15:$BC15,0)+ COUNTIF('SCORE TABLE'!$F15:AQ15, 'SCORE TABLE'!AQ15) - 1","v":46},{"$f":"RANK('SCORE TABLE'!AR15,'SCORE TABLE'!$F15:$BC15,0)+ COUNTIF('SCORE TABLE'!$F15:AR15, 'SCORE TABLE'!AR15) - 1","v":5},{"$f":"RANK('SCORE TABLE'!AS15,'SCORE TABLE'!$F15:$BC15,0)+ COUNTIF('SCORE TABLE'!$F15:AS15, 'SCORE TABLE'!AS15) - 1","v":47},{"$f":"RANK('SCORE TABLE'!AT15,'SCORE TABLE'!$F15:$BC15,0)+ COUNTIF('SCORE TABLE'!$F15:AT15, 'SCORE TABLE'!AT15) - 1","v":27},{"$f":"RANK('SCORE TABLE'!AU15,'SCORE TABLE'!$F15:$BC15,0)+ COUNTIF('SCORE TABLE'!$F15:AU15, 'SCORE TABLE'!AU15) - 1","v":28},{"$f":"RANK('SCORE TABLE'!AV15,'SCORE TABLE'!$F15:$BC15,0)+ COUNTIF('SCORE TABLE'!$F15:AV15, 'SCORE TABLE'!AV15) - 1","v":10},{"$f":"RANK('SCORE TABLE'!AW15,'SCORE TABLE'!$F15:$BC15,0)+ COUNTIF('SCORE TABLE'!$F15:AW15, 'SCORE TABLE'!AW15) - 1","v":6},{"$f":"RANK('SCORE TABLE'!AX15,'SCORE TABLE'!$F15:$BC15,0)+ COUNTIF('SCORE TABLE'!$F15:AX15, 'SCORE TABLE'!AX15) - 1","v":48},{"$f":"RANK('SCORE TABLE'!AY15,'SCORE TABLE'!$F15:$BC15,0)+ COUNTIF('SCORE TABLE'!$F15:AY15, 'SCORE TABLE'!AY15) - 1","v":49},{"$f":"RANK('SCORE TABLE'!AZ15,'SCORE TABLE'!$F15:$BC15,0)+ COUNTIF('SCORE TABLE'!$F15:AZ15, 'SCORE TABLE'!AZ15) - 1","v":29},{"$f":"RANK('SCORE TABLE'!BA15,'SCORE TABLE'!$F15:$BC15,0)+ COUNTIF('SCORE TABLE'!$F15:BA15, 'SCORE TABLE'!BA15) - 1","v":30},{"$f":"RANK('SCORE TABLE'!BB15,'SCORE TABLE'!$F15:$BC15,0)+ COUNTIF('SCORE TABLE'!$F15:BB15, 'SCORE TABLE'!BB15) - 1","v":8},{"$f":"RANK('SCORE TABLE'!BC15,'SCORE TABLE'!$F15:$BC15,0)+ COUNTIF('SCORE TABLE'!$F15:BC15, 'SCORE TABLE'!BC15) - 1","v":50}]
[null,1005,"1.1.3a","Obesity-related policy/strategy/plan",null,null,{"$f":"RANK('SCORE TABLE'!F16,'SCORE TABLE'!$F16:$BC16,0)+ COUNTIF('SCORE TABLE'!$F16:F16, 'SCORE TABLE'!F16) - 1","v":1},{"$f":"RANK('SCORE TABLE'!G16,'SCORE TABLE'!$F16:$BC16,0)+ COUNTIF('SCORE TABLE'!$F16:G16, 'SCORE TABLE'!G16) - 1","v":31},{"$f":"RANK('SCORE TABLE'!H16,'SCORE TABLE'!$F16:$BC16,0)+ COUNTIF('SCORE TABLE'!$F16:H16, 'SCORE TABLE'!H16) - 1","v":12},{"$f":"RANK('SCORE TABLE'!I16,'SCORE TABLE'!$F16:$BC16,0)+ COUNTIF('SCORE TABLE'!$F16:I16, 'SCORE TABLE'!I16) - 1","v":13},{"$f":"RANK('SCORE TABLE'!J16,'SCORE TABLE'!$F16:$BC16,0)+ COUNTIF('SCORE TABLE'!$F16:J16, 'SCORE TABLE'!J16) - 1","v":14},{"$f":"RANK('SCORE TABLE'!K16,'SCORE TABLE'!$F16:$BC16,0)+ COUNTIF('SCORE TABLE'!$F16:K16, 'SCORE TABLE'!K16) - 1","v":2},{"$f":"RANK('SCORE TABLE'!L16,'SCORE TABLE'!$F16:$BC16,0)+ COUNTIF('SCORE TABLE'!$F16:L16, 'SCORE TABLE'!L16) - 1","v":32},{"$f":"RANK('SCORE TABLE'!M16,'SCORE TABLE'!$F16:$BC16,0)+ COUNTIF('SCORE TABLE'!$F16:M16, 'SCORE TABLE'!M16) - 1","v":15},{"$f":"RANK('SCORE TABLE'!N16,'SCORE TABLE'!$F16:$BC16,0)+ COUNTIF('SCORE TABLE'!$F16:N16, 'SCORE TABLE'!N16) - 1","v":33},{"$f":"RANK('SCORE TABLE'!O16,'SCORE TABLE'!$F16:$BC16,0)+ COUNTIF('SCORE TABLE'!$F16:O16, 'SCORE TABLE'!O16) - 1","v":34},{"$f":"RANK('SCORE TABLE'!P16,'SCORE TABLE'!$F16:$BC16,0)+ COUNTIF('SCORE TABLE'!$F16:P16, 'SCORE TABLE'!P16) - 1","v":3},{"$f":"RANK('SCORE TABLE'!Q16,'SCORE TABLE'!$F16:$BC16,0)+ COUNTIF('SCORE TABLE'!$F16:Q16, 'SCORE TABLE'!Q16) - 1","v":35},{"$f":"RANK('SCORE TABLE'!R16,'SCORE TABLE'!$F16:$BC16,0)+ COUNTIF('SCORE TABLE'!$F16:R16, 'SCORE TABLE'!R16) - 1","v":36},{"$f":"RANK('SCORE TABLE'!S16,'SCORE TABLE'!$F16:$BC16,0)+ COUNTIF('SCORE TABLE'!$F16:S16, 'SCORE TABLE'!S16) - 1","v":16},{"$f":"RANK('SCORE TABLE'!T16,'SCORE TABLE'!$F16:$BC16,0)+ COUNTIF('SCORE TABLE'!$F16:T16, 'SCORE TABLE'!T16) - 1","v":17},{"$f":"RANK('SCORE TABLE'!U16,'SCORE TABLE'!$F16:$BC16,0)+ COUNTIF('SCORE TABLE'!$F16:U16, 'SCORE TABLE'!U16) - 1","v":37},{"$f":"RANK('SCORE TABLE'!V16,'SCORE TABLE'!$F16:$BC16,0)+ COUNTIF('SCORE TABLE'!$F16:V16, 'SCORE TABLE'!V16) - 1","v":18},{"$f":"RANK('SCORE TABLE'!W16,'SCORE TABLE'!$F16:$BC16,0)+ COUNTIF('SCORE TABLE'!$F16:W16, 'SCORE TABLE'!W16) - 1","v":38},{"$f":"RANK('SCORE TABLE'!X16,'SCORE TABLE'!$F16:$BC16,0)+ COUNTIF('SCORE TABLE'!$F16:X16, 'SCORE TABLE'!X16) - 1","v":4},{"$f":"RANK('SCORE TABLE'!Y16,'SCORE TABLE'!$F16:$BC16,0)+ COUNTIF('SCORE TABLE'!$F16:Y16, 'SCORE TABLE'!Y16) - 1","v":19},{"$f":"RANK('SCORE TABLE'!Z16,'SCORE TABLE'!$F16:$BC16,0)+ COUNTIF('SCORE TABLE'!$F16:Z16, 'SCORE TABLE'!Z16) - 1","v":39},{"$f":"RANK('SCORE TABLE'!AA16,'SCORE TABLE'!$F16:$BC16,0)+ COUNTIF('SCORE TABLE'!$F16:AA16, 'SCORE TABLE'!AA16) - 1","v":5},{"$f":"RANK('SCORE TABLE'!AB16,'SCORE TABLE'!$F16:$BC16,0)+ COUNTIF('SCORE TABLE'!$F16:AB16, 'SCORE TABLE'!AB16) - 1","v":20},{"$f":"RANK('SCORE TABLE'!AC16,'SCORE TABLE'!$F16:$BC16,0)+ COUNTIF('SCORE TABLE'!$F16:AC16, 'SCORE TABLE'!AC16) - 1","v":21},{"$f":"RANK('SCORE TABLE'!AD16,'SCORE TABLE'!$F16:$BC16,0)+ COUNTIF('SCORE TABLE'!$F16:AD16, 'SCORE TABLE'!AD16) - 1","v":40},{"$f":"RANK('SCORE TABLE'!AE16,'SCORE TABLE'!$F16:$BC16,0)+ COUNTIF('SCORE TABLE'!$F16:AE16, 'SCORE TABLE'!AE16) - 1","v":41},{"$f":"RANK('SCORE TABLE'!AF16,'SCORE TABLE'!$F16:$BC16,0)+ COUNTIF('SCORE TABLE'!$F16:AF16, 'SCORE TABLE'!AF16) - 1","v":22},{"$f":"RANK('SCORE TABLE'!AG16,'SCORE TABLE'!$F16:$BC16,0)+ COUNTIF('SCORE TABLE'!$F16:AG16, 'SCORE TABLE'!AG16) - 1","v":23},{"$f":"RANK('SCORE TABLE'!AH16,'SCORE TABLE'!$F16:$BC16,0)+ COUNTIF('SCORE TABLE'!$F16:AH16, 'SCORE TABLE'!AH16) - 1","v":42},{"$f":"RANK('SCORE TABLE'!AI16,'SCORE TABLE'!$F16:$BC16,0)+ COUNTIF('SCORE TABLE'!$F16:AI16, 'SCORE TABLE'!AI16) - 1","v":24},{"$f":"RANK('SCORE TABLE'!AJ16,'SCORE TABLE'!$F16:$BC16,0)+ COUNTIF('SCORE TABLE'!$F16:AJ16, 'SCORE TABLE'!AJ16) - 1","v":43},{"$f":"RANK('SCORE TABLE'!AK16,'SCORE TABLE'!$F16:$BC16,0)+ COUNTIF('SCORE TABLE'!$F16:AK16, 'SCORE TABLE'!AK16) - 1","v":25},{"$f":"RANK('SCORE TABLE'!AL16,'SCORE TABLE'!$F16:$BC16,0)+ COUNTIF('SCORE TABLE'!$F16:AL16, 'SCORE TABLE'!AL16) - 1","v":44},{"$f":"RANK('SCORE TABLE'!AM16,'SCORE TABLE'!$F16:$BC16,0)+ COUNTIF('SCORE TABLE'!$F16:AM16, 'SCORE TABLE'!AM16) - 1","v":45},{"$f":"RANK('SCORE TABLE'!AN16,'SCORE TABLE'!$F16:$BC16,0)+ COUNTIF('SCORE TABLE'!$F16:AN16, 'SCORE TABLE'!AN16) - 1","v":26},{"$f":"RANK('SCORE TABLE'!AO16,'SCORE TABLE'!$F16:$BC16,0)+ COUNTIF('SCORE TABLE'!$F16:AO16, 'SCORE TABLE'!AO16) - 1","v":6},{"$f":"RANK('SCORE TABLE'!AP16,'SCORE TABLE'!$F16:$BC16,0)+ COUNTIF('SCORE TABLE'!$F16:AP16, 'SCORE TABLE'!AP16) - 1","v":7},{"$f":"RANK('SCORE TABLE'!AQ16,'SCORE TABLE'!$F16:$BC16,0)+ COUNTIF('SCORE TABLE'!$F16:AQ16, 'SCORE TABLE'!AQ16) - 1","v":46},{"$f":"RANK('SCORE TABLE'!AR16,'SCORE TABLE'!$F16:$BC16,0)+ COUNTIF('SCORE TABLE'!$F16:AR16, 'SCORE TABLE'!AR16) - 1","v":8},{"$f":"RANK('SCORE TABLE'!AS16,'SCORE TABLE'!$F16:$BC16,0)+ COUNTIF('SCORE TABLE'!$F16:AS16, 'SCORE TABLE'!AS16) - 1","v":47},{"$f":"RANK('SCORE TABLE'!AT16,'SCORE TABLE'!$F16:$BC16,0)+ COUNTIF('SCORE TABLE'!$F16:AT16, 'SCORE TABLE'!AT16) - 1","v":27},{"$f":"RANK('SCORE TABLE'!AU16,'SCORE TABLE'!$F16:$BC16,0)+ COUNTIF('SCORE TABLE'!$F16:AU16, 'SCORE TABLE'!AU16) - 1","v":28},{"$f":"RANK('SCORE TABLE'!AV16,'SCORE TABLE'!$F16:$BC16,0)+ COUNTIF('SCORE TABLE'!$F16:AV16, 'SCORE TABLE'!AV16) - 1","v":9},{"$f":"RANK('SCORE TABLE'!AW16,'SCORE TABLE'!$F16:$BC16,0)+ COUNTIF('SCORE TABLE'!$F16:AW16, 'SCORE TABLE'!AW16) - 1","v":10},{"$f":"RANK('SCORE TABLE'!AX16,'SCORE TABLE'!$F16:$BC16,0)+ COUNTIF('SCORE TABLE'!$F16:AX16, 'SCORE TABLE'!AX16) - 1","v":48},{"$f":"RANK('SCORE TABLE'!AY16,'SCORE TABLE'!$F16:$BC16,0)+ COUNTIF('SCORE TABLE'!$F16:AY16, 'SCORE TABLE'!AY16) - 1","v":49},{"$f":"RANK('SCORE TABLE'!AZ16,'SCORE TABLE'!$F16:$BC16,0)+ COUNTIF('SCORE TABLE'!$F16:AZ16, 'SCORE TABLE'!AZ16) - 1","v":29},{"$f":"RANK('SCORE TABLE'!BA16,'SCORE TABLE'!$F16:$BC16,0)+ COUNTIF('SCORE TABLE'!$F16:BA16, 'SCORE TABLE'!BA16) - 1","v":30},{"$f":"RANK('SCORE TABLE'!BB16,'SCORE TABLE'!$F16:$BC16,0)+ COUNTIF('SCORE TABLE'!$F16:BB16, 'SCORE TABLE'!BB16) - 1","v":11},{"$f":"RANK('SCORE TABLE'!BC16,'SCORE TABLE'!$F16:$BC16,0)+ COUNTIF('SCORE TABLE'!$F16:BC16, 'SCORE TABLE'!BC16) - 1","v":50}]
[null,1006,"1.1.3b","Engagement with stakeholders during development",null,null,{"$f":"RANK('SCORE TABLE'!F17,'SCORE TABLE'!$F17:$BC17,0)+ COUNTIF('SCORE TABLE'!$F17:F17, 'SCORE TABLE'!F17) - 1","v":1},{"$f":"RANK('SCORE TABLE'!G17,'SCORE TABLE'!$F17:$BC17,0)+ COUNTIF('SCORE TABLE'!$F17:G17, 'SCORE TABLE'!G17) - 1","v":9},{"$f":"RANK('SCORE TABLE'!H17,'SCORE TABLE'!$F17:$BC17,0)+ COUNTIF('SCORE TABLE'!$F17:H17, 'SCORE TABLE'!H17) - 1","v":10},{"$f":"RANK('SCORE TABLE'!I17,'SCORE TABLE'!$F17:$BC17,0)+ COUNTIF('SCORE TABLE'!$F17:I17, 'SCORE TABLE'!I17) - 1","v":11},{"$f":"RANK('SCORE TABLE'!J17,'SCORE TABLE'!$F17:$BC17,0)+ COUNTIF('SCORE TABLE'!$F17:J17, 'SCORE TABLE'!J17) - 1","v":12},{"$f":"RANK('SCORE TABLE'!K17,'SCORE TABLE'!$F17:$BC17,0)+ COUNTIF('SCORE TABLE'!$F17:K17, 'SCORE TABLE'!K17) - 1","v":2},{"$f":"RANK('SCORE TABLE'!L17,'SCORE TABLE'!$F17:$BC17,0)+ COUNTIF('SCORE TABLE'!$F17:L17, 'SCORE TABLE'!L17) - 1","v":13},{"$f":"RANK('SCORE TABLE'!M17,'SCORE TABLE'!$F17:$BC17,0)+ COUNTIF('SCORE TABLE'!$F17:M17, 'SCORE TABLE'!M17) - 1","v":14},{"$f":"RANK('SCORE TABLE'!N17,'SCORE TABLE'!$F17:$BC17,0)+ COUNTIF('SCORE TABLE'!$F17:N17, 'SCORE TABLE'!N17) - 1","v":15},{"$f":"RANK('SCORE TABLE'!O17,'SCORE TABLE'!$F17:$BC17,0)+ COUNTIF('SCORE TABLE'!$F17:O17, 'SCORE TABLE'!O17) - 1","v":16},{"$f":"RANK('SCORE TABLE'!P17,'SCORE TABLE'!$F17:$BC17,0)+ COUNTIF('SCORE TABLE'!$F17:P17, 'SCORE TABLE'!P17) - 1","v":3},{"$f":"RANK('SCORE TABLE'!Q17,'SCORE TABLE'!$F17:$BC17,0)+ COUNTIF('SCORE TABLE'!$F17:Q17, 'SCORE TABLE'!Q17) - 1","v":17},{"$f":"RANK('SCORE TABLE'!R17,'SCORE TABLE'!$F17:$BC17,0)+ COUNTIF('SCORE TABLE'!$F17:R17, 'SCORE TABLE'!R17) - 1","v":18},{"$f":"RANK('SCORE TABLE'!S17,'SCORE TABLE'!$F17:$BC17,0)+ COUNTIF('SCORE TABLE'!$F17:S17, 'SCORE TABLE'!S17) - 1","v":19},{"$f":"RANK('SCORE TABLE'!T17,'SCORE TABLE'!$F17:$BC17,0)+ COUNTIF('SCORE TABLE'!$F17:T17, 'SCORE TABLE'!T17) - 1","v":20},{"$f":"RANK('SCORE TABLE'!U17,'SCORE TABLE'!$F17:$BC17,0)+ COUNTIF('SCORE TABLE'!$F17:U17, 'SCORE TABLE'!U17) - 1","v":21},{"$f":"RANK('SCORE TABLE'!V17,'SCORE TABLE'!$F17:$BC17,0)+ COUNTIF('SCORE TABLE'!$F17:V17, 'SCORE TABLE'!V17) - 1","v":22},{"$f":"RANK('SCORE TABLE'!W17,'SCORE TABLE'!$F17:$BC17,0)+ COUNTIF('SCORE TABLE'!$F17:W17, 'SCORE TABLE'!W17) - 1","v":23},{"$f":"RANK('SCORE TABLE'!X17,'SCORE TABLE'!$F17:$BC17,0)+ COUNTIF('SCORE TABLE'!$F17:X17, 'SCORE TABLE'!X17) - 1","v":4},{"$f":"RANK('SCORE TABLE'!Y17,'SCORE TABLE'!$F17:$BC17,0)+ COUNTIF('SCORE TABLE'!$F17:Y17, 'SCORE TABLE'!Y17) - 1","v":24},{"$f":"RANK('SCORE TABLE'!Z17,'SCORE TABLE'!$F17:$BC17,0)+ COUNTIF('SCORE TABLE'!$F17:Z17, 'SCORE TABLE'!Z17) - 1","v":25},{"$f":"RANK('SCORE TABLE'!AA17,'SCORE TABLE'!$F17:$BC17,0)+ COUNTIF('SCORE TABLE'!$F17:AA17, 'SCORE TABLE'!AA17) - 1","v":26},{"$f":"RANK('SCORE TABLE'!AB17,'SCORE TABLE'!$F17:$BC17,0)+ COUNTIF('SCORE TABLE'!$F17:AB17, 'SCORE TABLE'!AB17) - 1","v":27},{"$f":"RANK('SCORE TABLE'!AC17,'SCORE TABLE'!$F17:$BC17,0)+ COUNTIF('SCORE TABLE'!$F17:AC17, 'SCORE TABLE'!AC17) - 1","v":28},{"$f":"RANK('SCORE TABLE'!AD17,'SCORE TABLE'!$F17:$BC17,0)+ COUNTIF('SCORE TABLE'!$F17:AD17, 'SCORE TABLE'!AD17) - 1","v":29},{"$f":"RANK('SCORE TABLE'!AE17,'SCORE TABLE'!$F17:$BC17,0)+ COUNTIF('SCORE TABLE'!$F17:AE17, 'SCORE TABLE'!AE17) - 1","v":30},{"$f":"RANK('SCORE TABLE'!AF17,'SCORE TABLE'!$F17:$BC17,0)+ COUNTIF('SCORE TABLE'!$F17:AF17, 'SCORE TABLE'!AF17) - 1","v":31},{"$f":"RANK('SCORE TABLE'!AG17,'SCORE TABLE'!$F17:$BC17,0)+ COUNTIF('SCORE TABLE'!$F17:AG17, 'SCORE TABLE'!AG17) - 1","v":32},{"$f":"RANK('SCORE TABLE'!AH17,'SCORE TABLE'!$F17:$BC17,0)+ COUNTIF('SCORE TABLE'!$F17:AH17, 'SCORE TABLE'!AH17) - 1","v":33},{"$f":"RANK('SCORE TABLE'!AI17,'SCORE TABLE'!$F17:$BC17,0)+ COUNTIF('SCORE TABLE'!$F17:AI17, 'SCORE TABLE'!AI17) - 1","v":34},{"$f":"RANK('SCORE TABLE'!AJ17,'SCORE TABLE'!$F17:$BC17,0)+ COUNTIF('SCORE TABLE'!$F17:AJ17, 'SCORE TABLE'!AJ17) - 1","v":35},{"$f":"RANK('SCORE TABLE'!AK17,'SCORE TABLE'!$F17:$BC17,0)+ COUNTIF('SCORE TABLE'!$F17:AK17, 'SCORE TABLE'!AK17) - 1","v":36},{"$f":"RANK('SCORE TABLE'!AL17,'SCORE TABLE'!$F17:$BC17,0)+ COUNTIF('SCORE TABLE'!$F17:AL17, 'SCORE TABLE'!AL17) - 1","v":37},{"$f":"RANK('SCORE TABLE'!AM17,'SCORE TABLE'!$F17:$BC17,0)+ COUNTIF('SCORE TABLE'!$F17:AM17, 'SCORE TABLE'!AM17) - 1","v":38},{"$f":"RANK('SCORE TABLE'!AN17,'SCORE TABLE'!$F17:$BC17,0)+ COUNTIF('SCORE TABLE'!$F17:AN17, 'SCORE TABLE'!AN17) - 1","v":39},{"$f":"RANK('SCORE TABLE'!AO17,'SCORE TABLE'!$F17:$BC17,0)+ COUNTIF('SCORE TABLE'!$F17:AO17, 'SCORE TABLE'!AO17) - 1","v":5},{"$f":"RANK('SCORE TABLE'!AP17,'SCORE TABLE'!$F17:$BC17,0)+ COUNTIF('SCORE TABLE'!$F17:AP17, 'SCORE TABLE'!AP17) - 1","v":40},{"$f":"RANK('SCORE TABLE'!AQ17,'SCORE TABLE'!$F17:$BC17,0)+ COUNTIF('SCORE TABLE'!$F17:AQ17, 'SCORE TABLE'!AQ17) - 1","v":41},{"$f":"RANK('SCORE TABLE'!AR17,'SCORE TABLE'!$F17:$BC17,0)+ COUNTIF('SCORE TABLE'!$F17:AR17, 'SCORE TABLE'!AR17) - 1","v":6},{"$f":"RANK('SCORE TABLE'!AS17,'SCORE TABLE'!$F17:$BC17,0)+ COUNTIF('SCORE TABLE'!$F17:AS17, 'SCORE TABLE'!AS17) - 1","v":42},{"$f":"RANK('SCORE TABLE'!AT17,'SCORE TABLE'!$F17:$BC17,0)+ COUNTIF('SCORE TABLE'!$F17:AT17, 'SCORE TABLE'!AT17) - 1","v":43},{"$f":"RANK('SCORE TABLE'!AU17,'SCORE TABLE'!$F17:$BC17,0)+ COUNTIF('SCORE TABLE'!$F17:AU17, 'SCORE TABLE'!AU17) - 1","v":44},{"$f":"RANK('SCORE TABLE'!AV17,'SCORE TABLE'!$F17:$BC17,0)+ COUNTIF('SCORE TABLE'!$F17:AV17, 'SCORE TABLE'!AV17) - 1","v":45},{"$f":"RANK('SCORE TABLE'!AW17,'SCORE TABLE'!$F17:$BC17,0)+ COUNTIF('SCORE TABLE'!$F17:AW17, 'SCORE TABLE'!AW17) - 1","v":7},{"$f":"RANK('SCORE TABLE'!AX17,'SCORE TABLE'!$F17:$BC17,0)+ COUNTIF('SCORE TABLE'!$F17:AX17, 'SCORE TABLE'!AX17) - 1","v":46},{"$f":"RANK('SCORE TABLE'!AY17,'SCORE TABLE'!$F17:$BC17,0)+ COUNTIF('SCORE TABLE'!$F17:AY17, 'SCORE TABLE'!AY17) - 1","v":47},{"$f":"RANK('SCORE TABLE'!AZ17,'SCORE TABLE'!$F17:$BC17,0)+ COUNTIF('SCORE TABLE'!$F17:AZ17, 'SCORE TABLE'!AZ17) - 1","v":48},{"$f":"RANK('SCORE TABLE'!BA17,'SCORE TABLE'!$F17:$BC17,0)+ COUNTIF('SCORE TABLE'!$F17:BA17, 'SCORE TABLE'!BA17) - 1","v":49},{"$f":"RANK('SCORE TABLE'!BB17,'SCORE TABLE'!$F17:$BC17,0)+ COUNTIF('SCORE TABLE'!$F17:BB17, 'SCORE TABLE'!BB17) - 1","v":8},{"$f":"RANK('SCORE TABLE'!BC17,'SCORE TABLE'!$F17:$BC17,0)+ COUNTIF('SCORE TABLE'!$F17:BC17, 'SCORE TABLE'!BC17) - 1","v":50}]
[null,1007,"1.1.3c","Measures for obesity prevention",null,null,{"$f":"RANK('SCORE TABLE'!F18,'SCORE TABLE'!$F18:$BC18,0)+ COUNTIF('SCORE TABLE'!$F18:F18, 'SCORE TABLE'!F18) - 1","v":1},{"$f":"RANK('SCORE TABLE'!G18,'SCORE TABLE'!$F18:$BC18,0)+ COUNTIF('SCORE TABLE'!$F18:G18, 'SCORE TABLE'!G18) - 1","v":12},{"$f":"RANK('SCORE TABLE'!H18,'SCORE TABLE'!$F18:$BC18,0)+ COUNTIF('SCORE TABLE'!$F18:H18, 'SCORE TABLE'!H18) - 1","v":13},{"$f":"RANK('SCORE TABLE'!I18,'SCORE TABLE'!$F18:$BC18,0)+ COUNTIF('SCORE TABLE'!$F18:I18, 'SCORE TABLE'!I18) - 1","v":14},{"$f":"RANK('SCORE TABLE'!J18,'SCORE TABLE'!$F18:$BC18,0)+ COUNTIF('SCORE TABLE'!$F18:J18, 'SCORE TABLE'!J18) - 1","v":15},{"$f":"RANK('SCORE TABLE'!K18,'SCORE TABLE'!$F18:$BC18,0)+ COUNTIF('SCORE TABLE'!$F18:K18, 'SCORE TABLE'!K18) - 1","v":6},{"$f":"RANK('SCORE TABLE'!L18,'SCORE TABLE'!$F18:$BC18,0)+ COUNTIF('SCORE TABLE'!$F18:L18, 'SCORE TABLE'!L18) - 1","v":16},{"$f":"RANK('SCORE TABLE'!M18,'SCORE TABLE'!$F18:$BC18,0)+ COUNTIF('SCORE TABLE'!$F18:M18, 'SCORE TABLE'!M18) - 1","v":17},{"$f":"RANK('SCORE TABLE'!N18,'SCORE TABLE'!$F18:$BC18,0)+ COUNTIF('SCORE TABLE'!$F18:N18, 'SCORE TABLE'!N18) - 1","v":18},{"$f":"RANK('SCORE TABLE'!O18,'SCORE TABLE'!$F18:$BC18,0)+ COUNTIF('SCORE TABLE'!$F18:O18, 'SCORE TABLE'!O18) - 1","v":19},{"$f":"RANK('SCORE TABLE'!P18,'SCORE TABLE'!$F18:$BC18,0)+ COUNTIF('SCORE TABLE'!$F18:P18, 'SCORE TABLE'!P18) - 1","v":2},{"$f":"RANK('SCORE TABLE'!Q18,'SCORE TABLE'!$F18:$BC18,0)+ COUNTIF('SCORE TABLE'!$F18:Q18, 'SCORE TABLE'!Q18) - 1","v":20},{"$f":"RANK('SCORE TABLE'!R18,'SCORE TABLE'!$F18:$BC18,0)+ COUNTIF('SCORE TABLE'!$F18:R18, 'SCORE TABLE'!R18) - 1","v":21},{"$f":"RANK('SCORE TABLE'!S18,'SCORE TABLE'!$F18:$BC18,0)+ COUNTIF('SCORE TABLE'!$F18:S18, 'SCORE TABLE'!S18) - 1","v":22},{"$f":"RANK('SCORE TABLE'!T18,'SCORE TABLE'!$F18:$BC18,0)+ COUNTIF('SCORE TABLE'!$F18:T18, 'SCORE TABLE'!T18) - 1","v":23},{"$f":"RANK('SCORE TABLE'!U18,'SCORE TABLE'!$F18:$BC18,0)+ COUNTIF('SCORE TABLE'!$F18:U18, 'SCORE TABLE'!U18) - 1","v":24},{"$f":"RANK('SCORE TABLE'!V18,'SCORE TABLE'!$F18:$BC18,0)+ COUNTIF('SCORE TABLE'!$F18:V18, 'SCORE TABLE'!V18) - 1","v":25},{"$f":"RANK('SCORE TABLE'!W18,'SCORE TABLE'!$F18:$BC18,0)+ COUNTIF('SCORE TABLE'!$F18:W18, 'SCORE TABLE'!W18) - 1","v":26},{"$f":"RANK('SCORE TABLE'!X18,'SCORE TABLE'!$F18:$BC18,0)+ COUNTIF('SCORE TABLE'!$F18:X18, 'SCORE TABLE'!X18) - 1","v":9},{"$f":"RANK('SCORE TABLE'!Y18,'SCORE TABLE'!$F18:$BC18,0)+ COUNTIF('SCORE TABLE'!$F18:Y18, 'SCORE TABLE'!Y18) - 1","v":27},{"$f":"RANK('SCORE TABLE'!Z18,'SCORE TABLE'!$F18:$BC18,0)+ COUNTIF('SCORE TABLE'!$F18:Z18, 'SCORE TABLE'!Z18) - 1","v":28},{"$f":"RANK('SCORE TABLE'!AA18,'SCORE TABLE'!$F18:$BC18,0)+ COUNTIF('SCORE TABLE'!$F18:AA18, 'SCORE TABLE'!AA18) - 1","v":10},{"$f":"RANK('SCORE TABLE'!AB18,'SCORE TABLE'!$F18:$BC18,0)+ COUNTIF('SCORE TABLE'!$F18:AB18, 'SCORE TABLE'!AB18) - 1","v":29},{"$f":"RANK('SCORE TABLE'!AC18,'SCORE TABLE'!$F18:$BC18,0)+ COUNTIF('SCORE TABLE'!$F18:AC18, 'SCORE TABLE'!AC18) - 1","v":30},{"$f":"RANK('SCORE TABLE'!AD18,'SCORE TABLE'!$F18:$BC18,0)+ COUNTIF('SCORE TABLE'!$F18:AD18, 'SCORE TABLE'!AD18) - 1","v":31},{"$f":"RANK('SCORE TABLE'!AE18,'SCORE TABLE'!$F18:$BC18,0)+ COUNTIF('SCORE TABLE'!$F18:AE18, 'SCORE TABLE'!AE18) - 1","v":32},{"$f":"RANK('SCORE TABLE'!AF18,'SCORE TABLE'!$F18:$BC18,0)+ COUNTIF('SCORE TABLE'!$F18:AF18, 'SCORE TABLE'!AF18) - 1","v":33},{"$f":"RANK('SCORE TABLE'!AG18,'SCORE TABLE'!$F18:$BC18,0)+ COUNTIF('SCORE TABLE'!$F18:AG18, 'SCORE TABLE'!AG18) - 1","v":34},{"$f":"RANK('SCORE TABLE'!AH18,'SCORE TABLE'!$F18:$BC18,0)+ COUNTIF('SCORE TABLE'!$F18:AH18, 'SCORE TABLE'!AH18) - 1","v":35},{"$f":"RANK('SCORE TABLE'!AI18,'SCORE TABLE'!$F18:$BC18,0)+ COUNTIF('SCORE TABLE'!$F18:AI18, 'SCORE TABLE'!AI18) - 1","v":36},{"$f":"RANK('SCORE TABLE'!AJ18,'SCORE TABLE'!$F18:$BC18,0)+ COUNTIF('SCORE TABLE'!$F18:AJ18, 'SCORE TABLE'!AJ18) - 1","v":37},{"$f":"RANK('SCORE TABLE'!AK18,'SCORE TABLE'!$F18:$BC18,0)+ COUNTIF('SCORE TABLE'!$F18:AK18, 'SCORE TABLE'!AK18) - 1","v":38},{"$f":"RANK('SCORE TABLE'!AL18,'SCORE TABLE'!$F18:$BC18,0)+ COUNTIF('SCORE TABLE'!$F18:AL18, 'SCORE TABLE'!AL18) - 1","v":39},{"$f":"RANK('SCORE TABLE'!AM18,'SCORE TABLE'!$F18:$BC18,0)+ COUNTIF('SCORE TABLE'!$F18:AM18, 'SCORE TABLE'!AM18) - 1","v":40},{"$f":"RANK('SCORE TABLE'!AN18,'SCORE TABLE'!$F18:$BC18,0)+ COUNTIF('SCORE TABLE'!$F18:AN18, 'SCORE TABLE'!AN18) - 1","v":41},{"$f":"RANK('SCORE TABLE'!AO18,'SCORE TABLE'!$F18:$BC18,0)+ COUNTIF('SCORE TABLE'!$F18:AO18, 'SCORE TABLE'!AO18) - 1","v":3},{"$f":"RANK('SCORE TABLE'!AP18,'SCORE TABLE'!$F18:$BC18,0)+ COUNTIF('SCORE TABLE'!$F18:AP18, 'SCORE TABLE'!AP18) - 1","v":4},{"$f":"RANK('SCORE TABLE'!AQ18,'SCORE TABLE'!$F18:$BC18,0)+ COUNTIF('SCORE TABLE'!$F18:AQ18, 'SCORE TABLE'!AQ18) - 1","v":42},{"$f":"RANK('SCORE TABLE'!AR18,'SCORE TABLE'!$F18:$BC18,0)+ COUNTIF('SCORE TABLE'!$F18:AR18, 'SCORE TABLE'!AR18) - 1","v":5},{"$f":"RANK('SCORE TABLE'!AS18,'SCORE TABLE'!$F18:$BC18,0)+ COUNTIF('SCORE TABLE'!$F18:AS18, 'SCORE TABLE'!AS18) - 1","v":43},{"$f":"RANK('SCORE TABLE'!AT18,'SCORE TABLE'!$F18:$BC18,0)+ COUNTIF('SCORE TABLE'!$F18:AT18, 'SCORE TABLE'!AT18) - 1","v":44},{"$f":"RANK('SCORE TABLE'!AU18,'SCORE TABLE'!$F18:$BC18,0)+ COUNTIF('SCORE TABLE'!$F18:AU18, 'SCORE TABLE'!AU18) - 1","v":45},{"$f":"RANK('SCORE TABLE'!AV18,'SCORE TABLE'!$F18:$BC18,0)+ COUNTIF('SCORE TABLE'!$F18:AV18, 'SCORE TABLE'!AV18) - 1","v":7},{"$f":"RANK('SCORE TABLE'!AW18,'SCORE TABLE'!$F18:$BC18,0)+ COUNTIF('SCORE TABLE'!$F18:AW18, 'SCORE TABLE'!AW18) - 1","v":8},{"$f":"RANK('SCORE TABLE'!AX18,'SCORE TABLE'!$F18:$BC18,0)+ COUNTIF('SCORE TABLE'!$F18:AX18, 'SCORE TABLE'!AX18) - 1","v":46},{"$f":"RANK('SCORE TABLE'!AY18,'SCORE TABLE'!$F18:$BC18,0)+ COUNTIF('SCORE TABLE'!$F18:AY18, 'SCORE TABLE'!AY18) - 1","v":47},{"$f":"RANK('SCORE TABLE'!AZ18,'SCORE TABLE'!$F18:$BC18,0)+ COUNTIF('SCORE TABLE'!$F18:AZ18, 'SCORE TABLE'!AZ18) - 1","v":48},{"$f":"RANK('SCORE TABLE'!BA18,'SCORE TABLE'!$F18:$BC18,0)+ COUNTIF('SCORE TABLE'!$F18:BA18, 'SCORE TABLE'!BA18) - 1","v":49},{"$f":"RANK('SCORE TABLE'!BB18,'SCORE TABLE'!$F18:$BC18,0)+ COUNTIF('SCORE TABLE'!$F18:BB18, 'SCORE TABLE'!BB18) - 1","v":11},{"$f":"RANK('SCORE TABLE'!BC18,'SCORE TABLE'!$F18:$BC18,0)+ COUNTIF('SCORE TABLE'!$F18:BC18, 'SCORE TABLE'!BC18) - 1","v":50}]
[null,1008,"1.1.3d","Measures for obesity management",null,null,{"$f":"RANK('SCORE TABLE'!F19,'SCORE TABLE'!$F19:$BC19,0)+ COUNTIF('SCORE TABLE'!$F19:F19, 'SCORE TABLE'!F19) - 1","v":9},{"$f":"RANK('SCORE TABLE'!G19,'SCORE TABLE'!$F19:$BC19,0)+ COUNTIF('SCORE TABLE'!$F19:G19, 'SCORE TABLE'!G19) - 1","v":10},{"$f":"RANK('SCORE TABLE'!H19,'SCORE TABLE'!$F19:$BC19,0)+ COUNTIF('SCORE TABLE'!$F19:H19, 'SCORE TABLE'!H19) - 1","v":11},{"$f":"RANK('SCORE TABLE'!I19,'SCORE TABLE'!$F19:$BC19,0)+ COUNTIF('SCORE TABLE'!$F19:I19, 'SCORE TABLE'!I19) - 1","v":12},{"$f":"RANK('SCORE TABLE'!J19,'SCORE TABLE'!$F19:$BC19,0)+ COUNTIF('SCORE TABLE'!$F19:J19, 'SCORE TABLE'!J19) - 1","v":13},{"$f":"RANK('SCORE TABLE'!K19,'SCORE TABLE'!$F19:$BC19,0)+ COUNTIF('SCORE TABLE'!$F19:K19, 'SCORE TABLE'!K19) - 1","v":3},{"$f":"RANK('SCORE TABLE'!L19,'SCORE TABLE'!$F19:$BC19,0)+ COUNTIF('SCORE TABLE'!$F19:L19, 'SCORE TABLE'!L19) - 1","v":14},{"$f":"RANK('SCORE TABLE'!M19,'SCORE TABLE'!$F19:$BC19,0)+ COUNTIF('SCORE TABLE'!$F19:M19, 'SCORE TABLE'!M19) - 1","v":15},{"$f":"RANK('SCORE TABLE'!N19,'SCORE TABLE'!$F19:$BC19,0)+ COUNTIF('SCORE TABLE'!$F19:N19, 'SCORE TABLE'!N19) - 1","v":16},{"$f":"RANK('SCORE TABLE'!O19,'SCORE TABLE'!$F19:$BC19,0)+ COUNTIF('SCORE TABLE'!$F19:O19, 'SCORE TABLE'!O19) - 1","v":17},{"$f":"RANK('SCORE TABLE'!P19,'SCORE TABLE'!$F19:$BC19,0)+ COUNTIF('SCORE TABLE'!$F19:P19, 'SCORE TABLE'!P19) - 1","v":1},{"$f":"RANK('SCORE TABLE'!Q19,'SCORE TABLE'!$F19:$BC19,0)+ COUNTIF('SCORE TABLE'!$F19:Q19, 'SCORE TABLE'!Q19) - 1","v":18},{"$f":"RANK('SCORE TABLE'!R19,'SCORE TABLE'!$F19:$BC19,0)+ COUNTIF('SCORE TABLE'!$F19:R19, 'SCORE TABLE'!R19) - 1","v":19},{"$f":"RANK('SCORE TABLE'!S19,'SCORE TABLE'!$F19:$BC19,0)+ COUNTIF('SCORE TABLE'!$F19:S19, 'SCORE TABLE'!S19) - 1","v":20},{"$f":"RANK('SCORE TABLE'!T19,'SCORE TABLE'!$F19:$BC19,0)+ COUNTIF('SCORE TABLE'!$F19:T19, 'SCORE TABLE'!T19) - 1","v":21},{"$f":"RANK('SCORE TABLE'!U19,'SCORE TABLE'!$F19:$BC19,0)+ COUNTIF('SCORE TABLE'!$F19:U19, 'SCORE TABLE'!U19) - 1","v":22},{"$f":"RANK('SCORE TABLE'!V19,'SCORE TABLE'!$F19:$BC19,0)+ COUNTIF('SCORE TABLE'!$F19:V19, 'SCORE TABLE'!V19) - 1","v":23},{"$f":"RANK('SCORE TABLE'!W19,'SCORE TABLE'!$F19:$BC19,0)+ COUNTIF('SCORE TABLE'!$F19:W19, 'SCORE TABLE'!W19) - 1","v":24},{"$f":"RANK('SCORE TABLE'!X19,'SCORE TABLE'!$F19:$BC19,0)+ COUNTIF('SCORE TABLE'!$F19:X19, 'SCORE TABLE'!X19) - 1","v":25},{"$f":"RANK('SCORE TABLE'!Y19,'SCORE TABLE'!$F19:$BC19,0)+ COUNTIF('SCORE TABLE'!$F19:Y19, 'SCORE TABLE'!Y19) - 1","v":26},{"$f":"RANK('SCORE TABLE'!Z19,'SCORE TABLE'!$F19:$BC19,0)+ COUNTIF('SCORE TABLE'!$F19:Z19, 'SCORE TABLE'!Z19) - 1","v":27},{"$f":"RANK('SCORE TABLE'!AA19,'SCORE TABLE'!$F19:$BC19,0)+ COUNTIF('SCORE TABLE'!$F19:AA19, 'SCORE TABLE'!AA19) - 1","v":5},{"$f":"RANK('SCORE TABLE'!AB19,'SCORE TABLE'!$F19:$BC19,0)+ COUNTIF('SCORE TABLE'!$F19:AB19, 'SCORE TABLE'!AB19) - 1","v":28},{"$f":"RANK('SCORE TABLE'!AC19,'SCORE TABLE'!$F19:$BC19,0)+ COUNTIF('SCORE TABLE'!$F19:AC19, 'SCORE TABLE'!AC19) - 1","v":29},{"$f":"RANK('SCORE TABLE'!AD19,'SCORE TABLE'!$F19:$BC19,0)+ COUNTIF('SCORE TABLE'!$F19:AD19, 'SCORE TABLE'!AD19) - 1","v":30},{"$f":"RANK('SCORE TABLE'!AE19,'SCORE TABLE'!$F19:$BC19,0)+ COUNTIF('SCORE TABLE'!$F19:AE19, 'SCORE TABLE'!AE19) - 1","v":31},{"$f":"RANK('SCORE TABLE'!AF19,'SCORE TABLE'!$F19:$BC19,0)+ COUNTIF('SCORE TABLE'!$F19:AF19, 'SCORE TABLE'!AF19) - 1","v":32},{"$f":"RANK('SCORE TABLE'!AG19,'SCORE TABLE'!$F19:$BC19,0)+ COUNTIF('SCORE TABLE'!$F19:AG19, 'SCORE TABLE'!AG19) - 1","v":33},{"$f":"RANK('SCORE TABLE'!AH19,'SCORE TABLE'!$F19:$BC19,0)+ COUNTIF('SCORE TABLE'!$F19:AH19, 'SCORE TABLE'!AH19) - 1","v":34},{"$f":"RANK('SCORE TABLE'!AI19,'SCORE TABLE'!$F19:$BC19,0)+ COUNTIF('SCORE TABLE'!$F19:AI19, 'SCORE TABLE'!AI19) - 1","v":35},{"$f":"RANK('SCORE TABLE'!AJ19,'SCORE TABLE'!$F19:$BC19,0)+ COUNTIF('SCORE TABLE'!$F19:AJ19, 'SCORE TABLE'!AJ19) - 1","v":36},{"$f":"RANK('SCORE TABLE'!AK19,'SCORE TABLE'!$F19:$BC19,0)+ COUNTIF('SCORE TABLE'!$F19:AK19, 'SCORE TABLE'!AK19) - 1","v":37},{"$f":"RANK('SCORE TABLE'!AL19,'SCORE TABLE'!$F19:$BC19,0)+ COUNTIF('SCORE TABLE'!$F19:AL19, 'SCORE TABLE'!AL19) - 1","v":38},{"$f":"RANK('SCORE TABLE'!AM19,'SCORE TABLE'!$F19:$BC19,0)+ COUNTIF('SCORE TABLE'!$F19:AM19, 'SCORE TABLE'!AM19) - 1","v":39},{"$f":"RANK('SCORE TABLE'!AN19,'SCORE TABLE'!$F19:$BC19,0)+ COUNTIF('SCORE TABLE'!$F19:AN19, 'SCORE TABLE'!AN19) - 1","v":40},{"$f":"RANK('SCORE TABLE'!AO19,'SCORE TABLE'!$F19:$BC19,0)+ COUNTIF('SCORE TABLE'!$F19:AO19, 'SCORE TABLE'!AO19) - 1","v":2},{"$f":"RANK('SCORE TABLE'!AP19,'SCORE TABLE'!$F19:$BC19,0)+ COUNTIF('SCORE TABLE'!$F19:AP19, 'SCORE TABLE'!AP19) - 1","v":6},{"$f":"RANK('SCORE TABLE'!AQ19,'SCORE TABLE'!$F19:$BC19,0)+ COUNTIF('SCORE TABLE'!$F19:AQ19, 'SCORE TABLE'!AQ19) - 1","v":41},{"$f":"RANK('SCORE TABLE'!AR19,'SCORE TABLE'!$F19:$BC19,0)+ COUNTIF('SCORE TABLE'!$F19:AR19, 'SCORE TABLE'!AR19) - 1","v":7},{"$f":"RANK('SCORE TABLE'!AS19,'SCORE TABLE'!$F19:$BC19,0)+ COUNTIF('SCORE TABLE'!$F19:AS19, 'SCORE TABLE'!AS19) - 1","v":42},{"$f":"RANK('SCORE TABLE'!AT19,'SCORE TABLE'!$F19:$BC19,0)+ COUNTIF('SCORE TABLE'!$F19:AT19, 'SCORE TABLE'!AT19) - 1","v":43},{"$f":"RANK('SCORE TABLE'!AU19,'SCORE TABLE'!$F19:$BC19,0)+ COUNTIF('SCORE TABLE'!$F19:AU19, 'SCORE TABLE'!AU19) - 1","v":44},{"$f":"RANK('SCORE TABLE'!AV19,'SCORE TABLE'!$F19:$BC19,0)+ COUNTIF('SCORE TABLE'!$F19:AV19, 'SCORE TABLE'!AV19) - 1","v":8},{"$f":"RANK('SCORE TABLE'!AW19,'SCORE TABLE'!$F19:$BC19,0)+ COUNTIF('SCORE TABLE'!$F19:AW19, 'SCORE TABLE'!AW19) - 1","v":4},{"$f":"RANK('SCORE TABLE'!AX19,'SCORE TABLE'!$F19:$BC19,0)+ COUNTIF('SCORE TABLE'!$F19:AX19, 'SCORE TABLE'!AX19) - 1","v":45},{"$f":"RANK('SCORE TABLE'!AY19,'SCORE TABLE'!$F19:$BC19,0)+ COUNTIF('SCORE TABLE'!$F19:AY19, 'SCORE TABLE'!AY19) - 1","v":46},{"$f":"RANK('SCORE TABLE'!AZ19,'SCORE TABLE'!$F19:$BC19,0)+ COUNTIF('SCORE TABLE'!$F19:AZ19, 'SCORE TABLE'!AZ19) - 1","v":47},{"$f":"RANK('SCORE TABLE'!BA19,'SCORE TABLE'!$F19:$BC19,0)+ COUNTIF('SCORE TABLE'!$F19:BA19, 'SCORE TABLE'!BA19) - 1","v":48},{"$f":"RANK('SCORE TABLE'!BB19,'SCORE TABLE'!$F19:$BC19,0)+ COUNTIF('SCORE TABLE'!$F19:BB19, 'SCORE TABLE'!BB19) - 1","v":49},{"$f":"RANK('SCORE TABLE'!BC19,'SCORE TABLE'!$F19:$BC19,0)+ COUNTIF('SCORE TABLE'!$F19:BC19, 'SCORE TABLE'!BC19) - 1","v":50}]
[null,1009,"1.1.3e","Targets for obesity prevalence reduction",null,null,{"$f":"RANK('SCORE TABLE'!F20,'SCORE TABLE'!$F20:$BC20,0)+ COUNTIF('SCORE TABLE'!$F20:F20, 'SCORE TABLE'!F20) - 1","v":5},{"$f":"RANK('SCORE TABLE'!G20,'SCORE TABLE'!$F20:$BC20,0)+ COUNTIF('SCORE TABLE'!$F20:G20, 'SCORE TABLE'!G20) - 1","v":6},{"$f":"RANK('SCORE TABLE'!H20,'SCORE TABLE'!$F20:$BC20,0)+ COUNTIF('SCORE TABLE'!$F20:H20, 'SCORE TABLE'!H20) - 1","v":7},{"$f":"RANK('SCORE TABLE'!I20,'SCORE TABLE'!$F20:$BC20,0)+ COUNTIF('SCORE TABLE'!$F20:I20, 'SCORE TABLE'!I20) - 1","v":8},{"$f":"RANK('SCORE TABLE'!J20,'SCORE TABLE'!$F20:$BC20,0)+ COUNTIF('SCORE TABLE'!$F20:J20, 'SCORE TABLE'!J20) - 1","v":9},{"$f":"RANK('SCORE TABLE'!K20,'SCORE TABLE'!$F20:$BC20,0)+ COUNTIF('SCORE TABLE'!$F20:K20, 'SCORE TABLE'!K20) - 1","v":1},{"$f":"RANK('SCORE TABLE'!L20,'SCORE TABLE'!$F20:$BC20,0)+ COUNTIF('SCORE TABLE'!$F20:L20, 'SCORE TABLE'!L20) - 1","v":10},{"$f":"RANK('SCORE TABLE'!M20,'SCORE TABLE'!$F20:$BC20,0)+ COUNTIF('SCORE TABLE'!$F20:M20, 'SCORE TABLE'!M20) - 1","v":11},{"$f":"RANK('SCORE TABLE'!N20,'SCORE TABLE'!$F20:$BC20,0)+ COUNTIF('SCORE TABLE'!$F20:N20, 'SCORE TABLE'!N20) - 1","v":12},{"$f":"RANK('SCORE TABLE'!O20,'SCORE TABLE'!$F20:$BC20,0)+ COUNTIF('SCORE TABLE'!$F20:O20, 'SCORE TABLE'!O20) - 1","v":13},{"$f":"RANK('SCORE TABLE'!P20,'SCORE TABLE'!$F20:$BC20,0)+ COUNTIF('SCORE TABLE'!$F20:P20, 'SCORE TABLE'!P20) - 1","v":2},{"$f":"RANK('SCORE TABLE'!Q20,'SCORE TABLE'!$F20:$BC20,0)+ COUNTIF('SCORE TABLE'!$F20:Q20, 'SCORE TABLE'!Q20) - 1","v":14},{"$f":"RANK('SCORE TABLE'!R20,'SCORE TABLE'!$F20:$BC20,0)+ COUNTIF('SCORE TABLE'!$F20:R20, 'SCORE TABLE'!R20) - 1","v":15},{"$f":"RANK('SCORE TABLE'!S20,'SCORE TABLE'!$F20:$BC20,0)+ COUNTIF('SCORE TABLE'!$F20:S20, 'SCORE TABLE'!S20) - 1","v":16},{"$f":"RANK('SCORE TABLE'!T20,'SCORE TABLE'!$F20:$BC20,0)+ COUNTIF('SCORE TABLE'!$F20:T20, 'SCORE TABLE'!T20) - 1","v":17},{"$f":"RANK('SCORE TABLE'!U20,'SCORE TABLE'!$F20:$BC20,0)+ COUNTIF('SCORE TABLE'!$F20:U20, 'SCORE TABLE'!U20) - 1","v":18},{"$f":"RANK('SCORE TABLE'!V20,'SCORE TABLE'!$F20:$BC20,0)+ COUNTIF('SCORE TABLE'!$F20:V20, 'SCORE TABLE'!V20) - 1","v":19},{"$f":"RANK('SCORE TABLE'!W20,'SCORE TABLE'!$F20:$BC20,0)+ COUNTIF('SCORE TABLE'!$F20:W20, 'SCORE TABLE'!W20) - 1","v":20},{"$f":"RANK('SCORE TABLE'!X20,'SCORE TABLE'!$F20:$BC20,0)+ COUNTIF('SCORE TABLE'!$F20:X20, 'SCORE TABLE'!X20) - 1","v":21},{"$f":"RANK('SCORE TABLE'!Y20,'SCORE TABLE'!$F20:$BC20,0)+ COUNTIF('SCORE TABLE'!$F20:Y20, 'SCORE TABLE'!Y20) - 1","v":22},{"$f":"RANK('SCORE TABLE'!Z20,'SCORE TABLE'!$F20:$BC20,0)+ COUNTIF('SCORE TABLE'!$F20:Z20, 'SCORE TABLE'!Z20) - 1","v":23},{"$f":"RANK('SCORE TABLE'!AA20,'SCORE TABLE'!$F20:$BC20,0)+ COUNTIF('SCORE TABLE'!$F20:AA20, 'SCORE TABLE'!AA20) - 1","v":24},{"$f":"RANK('SCORE TABLE'!AB20,'SCORE TABLE'!$F20:$BC20,0)+ COUNTIF('SCORE TABLE'!$F20:AB20, 'SCORE TABLE'!AB20) - 1","v":25},{"$f":"RANK('SCORE TABLE'!AC20,'SCORE TABLE'!$F20:$BC20,0)+ COUNTIF('SCORE TABLE'!$F20:AC20, 'SCORE TABLE'!AC20) - 1","v":26},{"$f":"RANK('SCORE TABLE'!AD20,'SCORE TABLE'!$F20:$BC20,0)+ COUNTIF('SCORE TABLE'!$F20:AD20, 'SCORE TABLE'!AD20) - 1","v":27},{"$f":"RANK('SCORE TABLE'!AE20,'SCORE TABLE'!$F20:$BC20,0)+ COUNTIF('SCORE TABLE'!$F20:AE20, 'SCORE TABLE'!AE20) - 1","v":28},{"$f":"RANK('SCORE TABLE'!AF20,'SCORE TABLE'!$F20:$BC20,0)+ COUNTIF('SCORE TABLE'!$F20:AF20, 'SCORE TABLE'!AF20) - 1","v":29},{"$f":"RANK('SCORE TABLE'!AG20,'SCORE TABLE'!$F20:$BC20,0)+ COUNTIF('SCORE TABLE'!$F20:AG20, 'SCORE TABLE'!AG20) - 1","v":30},{"$f":"RANK('SCORE TABLE'!AH20,'SCORE TABLE'!$F20:$BC20,0)+ COUNTIF('SCORE TABLE'!$F20:AH20, 'SCORE TABLE'!AH20) - 1","v":31},{"$f":"RANK('SCORE TABLE'!AI20,'SCORE TABLE'!$F20:$BC20,0)+ COUNTIF('SCORE TABLE'!$F20:AI20, 'SCORE TABLE'!AI20) - 1","v":32},{"$f":"RANK('SCORE TABLE'!AJ20,'SCORE TABLE'!$F20:$BC20,0)+ COUNTIF('SCORE TABLE'!$F20:AJ20, 'SCORE TABLE'!AJ20) - 1","v":33},{"$f":"RANK('SCORE TABLE'!AK20,'SCORE TABLE'!$F20:$BC20,0)+ COUNTIF('SCORE TABLE'!$F20:AK20, 'SCORE TABLE'!AK20) - 1","v":34},{"$f":"RANK('SCORE TABLE'!AL20,'SCORE TABLE'!$F20:$BC20,0)+ COUNTIF('SCORE TABLE'!$F20:AL20, 'SCORE TABLE'!AL20) - 1","v":35},{"$f":"RANK('SCORE TABLE'!AM20,'SCORE TABLE'!$F20:$BC20,0)+ COUNTIF('SCORE TABLE'!$F20:AM20, 'SCORE TABLE'!AM20) - 1","v":36},{"$f":"RANK('SCORE TABLE'!AN20,'SCORE TABLE'!$F20:$BC20,0)+ COUNTIF('SCORE TABLE'!$F20:AN20, 'SCORE TABLE'!AN20) - 1","v":37},{"$f":"RANK('SCORE TABLE'!AO20,'SCORE TABLE'!$F20:$BC20,0)+ COUNTIF('SCORE TABLE'!$F20:AO20, 'SCORE TABLE'!AO20) - 1","v":3},{"$f":"RANK('SCORE TABLE'!AP20,'SCORE TABLE'!$F20:$BC20,0)+ COUNTIF('SCORE TABLE'!$F20:AP20, 'SCORE TABLE'!AP20) - 1","v":4},{"$f":"RANK('SCORE TABLE'!AQ20,'SCORE TABLE'!$F20:$BC20,0)+ COUNTIF('SCORE TABLE'!$F20:AQ20, 'SCORE TABLE'!AQ20) - 1","v":38},{"$f":"RANK('SCORE TABLE'!AR20,'SCORE TABLE'!$F20:$BC20,0)+ COUNTIF('SCORE TABLE'!$F20:AR20, 'SCORE TABLE'!AR20) - 1","v":39},{"$f":"RANK('SCORE TABLE'!AS20,'SCORE TABLE'!$F20:$BC20,0)+ COUNTIF('SCORE TABLE'!$F20:AS20, 'SCORE TABLE'!AS20) - 1","v":40},{"$f":"RANK('SCORE TABLE'!AT20,'SCORE TABLE'!$F20:$BC20,0)+ COUNTIF('SCORE TABLE'!$F20:AT20, 'SCORE TABLE'!AT20) - 1","v":41},{"$f":"RANK('SCORE TABLE'!AU20,'SCORE TABLE'!$F20:$BC20,0)+ COUNTIF('SCORE TABLE'!$F20:AU20, 'SCORE TABLE'!AU20) - 1","v":42},{"$f":"RANK('SCORE TABLE'!AV20,'SCORE TABLE'!$F20:$BC20,0)+ COUNTIF('SCORE TABLE'!$F20:AV20, 'SCORE TABLE'!AV20) - 1","v":43},{"$f":"RANK('SCORE TABLE'!AW20,'SCORE TABLE'!$F20:$BC20,0)+ COUNTIF('SCORE TABLE'!$F20:AW20, 'SCORE TABLE'!AW20) - 1","v":44},{"$f":"RANK('SCORE TABLE'!AX20,'SCORE TABLE'!$F20:$BC20,0)+ COUNTIF('SCORE TABLE'!$F20:AX20, 'SCORE TABLE'!AX20) - 1","v":45},{"$f":"RANK('SCORE TABLE'!AY20,'SCORE TABLE'!$F20:$BC20,0)+ COUNTIF('SCORE TABLE'!$F20:AY20, 'SCORE TABLE'!AY20) - 1","v":46},{"$f":"RANK('SCORE TABLE'!AZ20,'SCORE TABLE'!$F20:$BC20,0)+ COUNTIF('SCORE TABLE'!$F20:AZ20, 'SCORE TABLE'!AZ20) - 1","v":47},{"$f":"RANK('SCORE TABLE'!BA20,'SCORE TABLE'!$F20:$BC20,0)+ COUNTIF('SCORE TABLE'!$F20:BA20, 'SCORE TABLE'!BA20) - 1","v":48},{"$f":"RANK('SCORE TABLE'!BB20,'SCORE TABLE'!$F20:$BC20,0)+ COUNTIF('SCORE TABLE'!$F20:BB20, 'SCORE TABLE'!BB20) - 1","v":49},{"$f":"RANK('SCORE TABLE'!BC20,'SCORE TABLE'!$F20:$BC20,0)+ COUNTIF('SCORE TABLE'!$F20:BC20, 'SCORE TABLE'!BC20) - 1","v":50}]
[null,1010,"1.1.3f","Focus on vulnerable groups",null,null,{"$f":"RANK('SCORE TABLE'!F21,'SCORE TABLE'!$F21:$BC21,0)+ COUNTIF('SCORE TABLE'!$F21:F21, 'SCORE TABLE'!F21) - 1","v":1},{"$f":"RANK('SCORE TABLE'!G21,'SCORE TABLE'!$F21:$BC21,0)+ COUNTIF('SCORE TABLE'!$F21:G21, 'SCORE TABLE'!G21) - 1","v":10},{"$f":"RANK('SCORE TABLE'!H21,'SCORE TABLE'!$F21:$BC21,0)+ COUNTIF('SCORE TABLE'!$F21:H21, 'SCORE TABLE'!H21) - 1","v":11},{"$f":"RANK('SCORE TABLE'!I21,'SCORE TABLE'!$F21:$BC21,0)+ COUNTIF('SCORE TABLE'!$F21:I21, 'SCORE TABLE'!I21) - 1","v":12},{"$f":"RANK('SCORE TABLE'!J21,'SCORE TABLE'!$F21:$BC21,0)+ COUNTIF('SCORE TABLE'!$F21:J21, 'SCORE TABLE'!J21) - 1","v":13},{"$f":"RANK('SCORE TABLE'!K21,'SCORE TABLE'!$F21:$BC21,0)+ COUNTIF('SCORE TABLE'!$F21:K21, 'SCORE TABLE'!K21) - 1","v":8},{"$f":"RANK('SCORE TABLE'!L21,'SCORE TABLE'!$F21:$BC21,0)+ COUNTIF('SCORE TABLE'!$F21:L21, 'SCORE TABLE'!L21) - 1","v":14},{"$f":"RANK('SCORE TABLE'!M21,'SCORE TABLE'!$F21:$BC21,0)+ COUNTIF('SCORE TABLE'!$F21:M21, 'SCORE TABLE'!M21) - 1","v":15},{"$f":"RANK('SCORE TABLE'!N21,'SCORE TABLE'!$F21:$BC21,0)+ COUNTIF('SCORE TABLE'!$F21:N21, 'SCORE TABLE'!N21) - 1","v":16},{"$f":"RANK('SCORE TABLE'!O21,'SCORE TABLE'!$F21:$BC21,0)+ COUNTIF('SCORE TABLE'!$F21:O21, 'SCORE TABLE'!O21) - 1","v":17},{"$f":"RANK('SCORE TABLE'!P21,'SCORE TABLE'!$F21:$BC21,0)+ COUNTIF('SCORE TABLE'!$F21:P21, 'SCORE TABLE'!P21) - 1","v":2},{"$f":"RANK('SCORE TABLE'!Q21,'SCORE TABLE'!$F21:$BC21,0)+ COUNTIF('SCORE TABLE'!$F21:Q21, 'SCORE TABLE'!Q21) - 1","v":18},{"$f":"RANK('SCORE TABLE'!R21,'SCORE TABLE'!$F21:$BC21,0)+ COUNTIF('SCORE TABLE'!$F21:R21, 'SCORE TABLE'!R21) - 1","v":19},{"$f":"RANK('SCORE TABLE'!S21,'SCORE TABLE'!$F21:$BC21,0)+ COUNTIF('SCORE TABLE'!$F21:S21, 'SCORE TABLE'!S21) - 1","v":20},{"$f":"RANK('SCORE TABLE'!T21,'SCORE TABLE'!$F21:$BC21,0)+ COUNTIF('SCORE TABLE'!$F21:T21, 'SCORE TABLE'!T21) - 1","v":21},{"$f":"RANK('SCORE TABLE'!U21,'SCORE TABLE'!$F21:$BC21,0)+ COUNTIF('SCORE TABLE'!$F21:U21, 'SCORE TABLE'!U21) - 1","v":22},{"$f":"RANK('SCORE TABLE'!V21,'SCORE TABLE'!$F21:$BC21,0)+ COUNTIF('SCORE TABLE'!$F21:V21, 'SCORE TABLE'!V21) - 1","v":23},{"$f":"RANK('SCORE TABLE'!W21,'SCORE TABLE'!$F21:$BC21,0)+ COUNTIF('SCORE TABLE'!$F21:W21, 'SCORE TABLE'!W21) - 1","v":24},{"$f":"RANK('SCORE TABLE'!X21,'SCORE TABLE'!$F21:$BC21,0)+ COUNTIF('SCORE TABLE'!$F21:X21, 'SCORE TABLE'!X21) - 1","v":9},{"$f":"RANK('SCORE TABLE'!Y21,'SCORE TABLE'!$F21:$BC21,0)+ COUNTIF('SCORE TABLE'!$F21:Y21, 'SCORE TABLE'!Y21) - 1","v":25},{"$f":"RANK('SCORE TABLE'!Z21,'SCORE TABLE'!$F21:$BC21,0)+ COUNTIF('SCORE TABLE'!$F21:Z21, 'SCORE TABLE'!Z21) - 1","v":26},{"$f":"RANK('SCORE TABLE'!AA21,'SCORE TABLE'!$F21:$BC21,0)+ COUNTIF('SCORE TABLE'!$F21:AA21, 'SCORE TABLE'!AA21) - 1","v":27},{"$f":"RANK('SCORE TABLE'!AB21,'SCORE TABLE'!$F21:$BC21,0)+ COUNTIF('SCORE TABLE'!$F21:AB21, 'SCORE TABLE'!AB21) - 1","v":28},{"$f":"RANK('SCORE TABLE'!AC21,'SCORE TABLE'!$F21:$BC21,0)+ COUNTIF('SCORE TABLE'!$F21:AC21, 'SCORE TABLE'!AC21) - 1","v":29},{"$f":"RANK('SCORE TABLE'!AD21,'SCORE TABLE'!$F21:$BC21,0)+ COUNTIF('SCORE TABLE'!$F21:AD21, 'SCORE TABLE'!AD21) - 1","v":30},{"$f":"RANK('SCORE TABLE'!AE21,'SCORE TABLE'!$F21:$BC21,0)+ COUNTIF('SCORE TABLE'!$F21:AE21, 'SCORE TABLE'!AE21) - 1","v":31},{"$f":"RANK('SCORE TABLE'!AF21,'SCORE TABLE'!$F21:$BC21,0)+ COUNTIF('SCORE TABLE'!$F21:AF21, 'SCORE TABLE'!AF21) - 1","v":32},{"$f":"RANK('SCORE TABLE'!AG21,'SCORE TABLE'!$F21:$BC21,0)+ COUNTIF('SCORE TABLE'!$F21:AG21, 'SCORE TABLE'!AG21) - 1","v":33},{"$f":"RANK('SCORE TABLE'!AH21,'SCORE TABLE'!$F21:$BC21,0)+ COUNTIF('SCORE TABLE'!$F21:AH21, 'SCORE TABLE'!AH21) - 1","v":34},{"$f":"RANK('SCORE TABLE'!AI21,'SCORE TABLE'!$F21:$BC21,0)+ COUNTIF('SCORE TABLE'!$F21:AI21, 'SCORE TABLE'!AI21) - 1","v":35},{"$f":"RANK('SCORE TABLE'!AJ21,'SCORE TABLE'!$F21:$BC21,0)+ COUNTIF('SCORE TABLE'!$F21:AJ21, 'SCORE TABLE'!AJ21) - 1","v":36},{"$f":"RANK('SCORE TABLE'!AK21,'SCORE TABLE'!$F21:$BC21,0)+ COUNTIF('SCORE TABLE'!$F21:AK21, 'SCORE TABLE'!AK21) - 1","v":37},{"$f":"RANK('SCORE TABLE'!AL21,'SCORE TABLE'!$F21:$BC21,0)+ COUNTIF('SCORE TABLE'!$F21:AL21, 'SCORE TABLE'!AL21) - 1","v":38},{"$f":"RANK('SCORE TABLE'!AM21,'SCORE TABLE'!$F21:$BC21,0)+ COUNTIF('SCORE TABLE'!$F21:AM21, 'SCORE TABLE'!AM21) - 1","v":39},{"$f":"RANK('SCORE TABLE'!AN21,'SCORE TABLE'!$F21:$BC21,0)+ COUNTIF('SCORE TABLE'!$F21:AN21, 'SCORE TABLE'!AN21) - 1","v":40},{"$f":"RANK('SCORE TABLE'!AO21,'SCORE TABLE'!$F21:$BC21,0)+ COUNTIF('SCORE TABLE'!$F21:AO21, 'SCORE TABLE'!AO21) - 1","v":3},{"$f":"RANK('SCORE TABLE'!AP21,'SCORE TABLE'!$F21:$BC21,0)+ COUNTIF('SCORE TABLE'!$F21:AP21, 'SCORE TABLE'!AP21) - 1","v":4},{"$f":"RANK('SCORE TABLE'!AQ21,'SCORE TABLE'!$F21:$BC21,0)+ COUNTIF('SCORE TABLE'!$F21:AQ21, 'SCORE TABLE'!AQ21) - 1","v":41},{"$f":"RANK('SCORE TABLE'!AR21,'SCORE TABLE'!$F21:$BC21,0)+ COUNTIF('SCORE TABLE'!$F21:AR21, 'SCORE TABLE'!AR21) - 1","v":5},{"$f":"RANK('SCORE TABLE'!AS21,'SCORE TABLE'!$F21:$BC21,0)+ COUNTIF('SCORE TABLE'!$F21:AS21, 'SCORE TABLE'!AS21) - 1","v":42},{"$f":"RANK('SCORE TABLE'!AT21,'SCORE TABLE'!$F21:$BC21,0)+ COUNTIF('SCORE TABLE'!$F21:AT21, 'SCORE TABLE'!AT21) - 1","v":43},{"$f":"RANK('SCORE TABLE'!AU21,'SCORE TABLE'!$F21:$BC21,0)+ COUNTIF('SCORE TABLE'!$F21:AU21, 'SCORE TABLE'!AU21) - 1","v":44},{"$f":"RANK('SCORE TABLE'!AV21,'SCORE TABLE'!$F21:$BC21,0)+ COUNTIF('SCORE TABLE'!$F21:AV21, 'SCORE TABLE'!AV21) - 1","v":45},{"$f":"RANK('SCORE TABLE'!AW21,'SCORE TABLE'!$F21:$BC21,0)+ COUNTIF('SCORE TABLE'!$F21:AW21, 'SCORE TABLE'!AW21) - 1","v":6},{"$f":"RANK('SCORE TABLE'!AX21,'SCORE TABLE'!$F21:$BC21,0)+ COUNTIF('SCORE TABLE'!$F21:AX21, 'SCORE TABLE'!AX21) - 1","v":46},{"$f":"RANK('SCORE TABLE'!AY21,'SCORE TABLE'!$F21:$BC21,0)+ COUNTIF('SCORE TABLE'!$F21:AY21, 'SCORE TABLE'!AY21) - 1","v":47},{"$f":"RANK('SCORE TABLE'!AZ21,'SCORE TABLE'!$F21:$BC21,0)+ COUNTIF('SCORE TABLE'!$F21:AZ21, 'SCORE TABLE'!AZ21) - 1","v":48},{"$f":"RANK('SCORE TABLE'!BA21,'SCORE TABLE'!$F21:$BC21,0)+ COUNTIF('SCORE TABLE'!$F21:BA21, 'SCORE TABLE'!BA21) - 1","v":49},{"$f":"RANK('SCORE TABLE'!BB21,'SCORE TABLE'!$F21:$BC21,0)+ COUNTIF('SCORE TABLE'!$F21:BB21, 'SCORE TABLE'!BB21) - 1","v":7},{"$f":"RANK('SCORE TABLE'!BC21,'SCORE TABLE'!$F21:$BC21,0)+ COUNTIF('SCORE TABLE'!$F21:BC21, 'SCORE TABLE'!BC21) - 1","v":50}]
[null,1011,"1.1.3g","Obesity-related stigma and discrimination",null,null,{"$f":"RANK('SCORE TABLE'!F22,'SCORE TABLE'!$F22:$BC22,0)+ COUNTIF('SCORE TABLE'!$F22:F22, 'SCORE TABLE'!F22) - 1","v":4},{"$f":"RANK('SCORE TABLE'!G22,'SCORE TABLE'!$F22:$BC22,0)+ COUNTIF('SCORE TABLE'!$F22:G22, 'SCORE TABLE'!G22) - 1","v":5},{"$f":"RANK('SCORE TABLE'!H22,'SCORE TABLE'!$F22:$BC22,0)+ COUNTIF('SCORE TABLE'!$F22:H22, 'SCORE TABLE'!H22) - 1","v":6},{"$f":"RANK('SCORE TABLE'!I22,'SCORE TABLE'!$F22:$BC22,0)+ COUNTIF('SCORE TABLE'!$F22:I22, 'SCORE TABLE'!I22) - 1","v":7},{"$f":"RANK('SCORE TABLE'!J22,'SCORE TABLE'!$F22:$BC22,0)+ COUNTIF('SCORE TABLE'!$F22:J22, 'SCORE TABLE'!J22) - 1","v":8},{"$f":"RANK('SCORE TABLE'!K22,'SCORE TABLE'!$F22:$BC22,0)+ COUNTIF('SCORE TABLE'!$F22:K22, 'SCORE TABLE'!K22) - 1","v":2},{"$f":"RANK('SCORE TABLE'!L22,'SCORE TABLE'!$F22:$BC22,0)+ COUNTIF('SCORE TABLE'!$F22:L22, 'SCORE TABLE'!L22) - 1","v":9},{"$f":"RANK('SCORE TABLE'!M22,'SCORE TABLE'!$F22:$BC22,0)+ COUNTIF('SCORE TABLE'!$F22:M22, 'SCORE TABLE'!M22) - 1","v":10},{"$f":"RANK('SCORE TABLE'!N22,'SCORE TABLE'!$F22:$BC22,0)+ COUNTIF('SCORE TABLE'!$F22:N22, 'SCORE TABLE'!N22) - 1","v":11},{"$f":"RANK('SCORE TABLE'!O22,'SCORE TABLE'!$F22:$BC22,0)+ COUNTIF('SCORE TABLE'!$F22:O22, 'SCORE TABLE'!O22) - 1","v":12},{"$f":"RANK('SCORE TABLE'!P22,'SCORE TABLE'!$F22:$BC22,0)+ COUNTIF('SCORE TABLE'!$F22:P22, 'SCORE TABLE'!P22) - 1","v":13},{"$f":"RANK('SCORE TABLE'!Q22,'SCORE TABLE'!$F22:$BC22,0)+ COUNTIF('SCORE TABLE'!$F22:Q22, 'SCORE TABLE'!Q22) - 1","v":14},{"$f":"RANK('SCORE TABLE'!R22,'SCORE TABLE'!$F22:$BC22,0)+ COUNTIF('SCORE TABLE'!$F22:R22, 'SCORE TABLE'!R22) - 1","v":15},{"$f":"RANK('SCORE TABLE'!S22,'SCORE TABLE'!$F22:$BC22,0)+ COUNTIF('SCORE TABLE'!$F22:S22, 'SCORE TABLE'!S22) - 1","v":16},{"$f":"RANK('SCORE TABLE'!T22,'SCORE TABLE'!$F22:$BC22,0)+ COUNTIF('SCORE TABLE'!$F22:T22, 'SCORE TABLE'!T22) - 1","v":17},{"$f":"RANK('SCORE TABLE'!U22,'SCORE TABLE'!$F22:$BC22,0)+ COUNTIF('SCORE TABLE'!$F22:U22, 'SCORE TABLE'!U22) - 1","v":18},{"$f":"RANK('SCORE TABLE'!V22,'SCORE TABLE'!$F22:$BC22,0)+ COUNTIF('SCORE TABLE'!$F22:V22, 'SCORE TABLE'!V22) - 1","v":19},{"$f":"RANK('SCORE TABLE'!W22,'SCORE TABLE'!$F22:$BC22,0)+ COUNTIF('SCORE TABLE'!$F22:W22, 'SCORE TABLE'!W22) - 1","v":20},{"$f":"RANK('SCORE TABLE'!X22,'SCORE TABLE'!$F22:$BC22,0)+ COUNTIF('SCORE TABLE'!$F22:X22, 'SCORE TABLE'!X22) - 1","v":21},{"$f":"RANK('SCORE TABLE'!Y22,'SCORE TABLE'!$F22:$BC22,0)+ COUNTIF('SCORE TABLE'!$F22:Y22, 'SCORE TABLE'!Y22) - 1","v":22},{"$f":"RANK('SCORE TABLE'!Z22,'SCORE TABLE'!$F22:$BC22,0)+ COUNTIF('SCORE TABLE'!$F22:Z22, 'SCORE TABLE'!Z22) - 1","v":23},{"$f":"RANK('SCORE TABLE'!AA22,'SCORE TABLE'!$F22:$BC22,0)+ COUNTIF('SCORE TABLE'!$F22:AA22, 'SCORE TABLE'!AA22) - 1","v":24},{"$f":"RANK('SCORE TABLE'!AB22,'SCORE TABLE'!$F22:$BC22,0)+ COUNTIF('SCORE TABLE'!$F22:AB22, 'SCORE TABLE'!AB22) - 1","v":25},{"$f":"RANK('SCORE TABLE'!AC22,'SCORE TABLE'!$F22:$BC22,0)+ COUNTIF('SCORE TABLE'!$F22:AC22, 'SCORE TABLE'!AC22) - 1","v":26},{"$f":"RANK('SCORE TABLE'!AD22,'SCORE TABLE'!$F22:$BC22,0)+ COUNTIF('SCORE TABLE'!$F22:AD22, 'SCORE TABLE'!AD22) - 1","v":27},{"$f":"RANK('SCORE TABLE'!AE22,'SCORE TABLE'!$F22:$BC22,0)+ COUNTIF('SCORE TABLE'!$F22:AE22, 'SCORE TABLE'!AE22) - 1","v":28},{"$f":"RANK('SCORE TABLE'!AF22,'SCORE TABLE'!$F22:$BC22,0)+ COUNTIF('SCORE TABLE'!$F22:AF22, 'SCORE TABLE'!AF22) - 1","v":29},{"$f":"RANK('SCORE TABLE'!AG22,'SCORE TABLE'!$F22:$BC22,0)+ COUNTIF('SCORE TABLE'!$F22:AG22, 'SCORE TABLE'!AG22) - 1","v":30},{"$f":"RANK('SCORE TABLE'!AH22,'SCORE TABLE'!$F22:$BC22,0)+ COUNTIF('SCORE TABLE'!$F22:AH22, 'SCORE TABLE'!AH22) - 1","v":31},{"$f":"RANK('SCORE TABLE'!AI22,'SCORE TABLE'!$F22:$BC22,0)+ COUNTIF('SCORE TABLE'!$F22:AI22, 'SCORE TABLE'!AI22) - 1","v":32},{"$f":"RANK('SCORE TABLE'!AJ22,'SCORE TABLE'!$F22:$BC22,0)+ COUNTIF('SCORE TABLE'!$F22:AJ22, 'SCORE TABLE'!AJ22) - 1","v":33},{"$f":"RANK('SCORE TABLE'!AK22,'SCORE TABLE'!$F22:$BC22,0)+ COUNTIF('SCORE TABLE'!$F22:AK22, 'SCORE TABLE'!AK22) - 1","v":34},{"$f":"RANK('SCORE TABLE'!AL22,'SCORE TABLE'!$F22:$BC22,0)+ COUNTIF('SCORE TABLE'!$F22:AL22, 'SCORE TABLE'!AL22) - 1","v":35},{"$f":"RANK('SCORE TABLE'!AM22,'SCORE TABLE'!$F22:$BC22,0)+ COUNTIF('SCORE TABLE'!$F22:AM22, 'SCORE TABLE'!AM22) - 1","v":36},{"$f":"RANK('SCORE TABLE'!AN22,'SCORE TABLE'!$F22:$BC22,0)+ COUNTIF('SCORE TABLE'!$F22:AN22, 'SCORE TABLE'!AN22) - 1","v":37},{"$f":"RANK('SCORE TABLE'!AO22,'SCORE TABLE'!$F22:$BC22,0)+ COUNTIF('SCORE TABLE'!$F22:AO22, 'SCORE TABLE'!AO22) - 1","v":1},{"$f":"RANK('SCORE TABLE'!AP22,'SCORE TABLE'!$F22:$BC22,0)+ COUNTIF('SCORE TABLE'!$F22:AP22, 'SCORE TABLE'!AP22) - 1","v":3},{"$f":"RANK('SCORE TABLE'!AQ22,'SCORE TABLE'!$F22:$BC22,0)+ COUNTIF('SCORE TABLE'!$F22:AQ22, 'SCORE TABLE'!AQ22) - 1","v":38},{"$f":"RANK('SCORE TABLE'!AR22,'SCORE TABLE'!$F22:$BC22,0)+ COUNTIF('SCORE TABLE'!$F22:AR22, 'SCORE TABLE'!AR22) - 1","v":39},{"$f":"RANK('SCORE TABLE'!AS22,'SCORE TABLE'!$F22:$BC22,0)+ COUNTIF('SCORE TABLE'!$F22:AS22, 'SCORE TABLE'!AS22) - 1","v":40},{"$f":"RANK('SCORE TABLE'!AT22,'SCORE TABLE'!$F22:$BC22,0)+ COUNTIF('SCORE TABLE'!$F22:AT22, 'SCORE TABLE'!AT22) - 1","v":41},{"$f":"RANK('SCORE TABLE'!AU22,'SCORE TABLE'!$F22:$BC22,0)+ COUNTIF('SCORE TABLE'!$F22:AU22, 'SCORE TABLE'!AU22) - 1","v":42},{"$f":"RANK('SCORE TABLE'!AV22,'SCORE TABLE'!$F22:$BC22,0)+ COUNTIF('SCORE TABLE'!$F22:AV22, 'SCORE TABLE'!AV22) - 1","v":43},{"$f":"RANK('SCORE TABLE'!AW22,'SCORE TABLE'!$F22:$BC22,0)+ COUNTIF('SCORE TABLE'!$F22:AW22, 'SCORE TABLE'!AW22) - 1","v":44},{"$f":"RANK('SCORE TABLE'!AX22,'SCORE TABLE'!$F22:$BC22,0)+ COUNTIF('SCORE TABLE'!$F22:AX22, 'SCORE TABLE'!AX22) - 1","v":45},{"$f":"RANK('SCORE TABLE'!AY22,'SCORE TABLE'!$F22:$BC22,0)+ COUNTIF('SCORE TABLE'!$F22:AY22, 'SCORE TABLE'!AY22) - 1","v":46},{"$f":"RANK('SCORE TABLE'!AZ22,'SCORE TABLE'!$F22:$BC22,0)+ COUNTIF('SCORE TABLE'!$F22:AZ22, 'SCORE TABLE'!AZ22) - 1","v":47},{"$f":"RANK('SCORE TABLE'!BA22,'SCORE TABLE'!$F22:$BC22,0)+ COUNTIF('SCORE TABLE'!$F22:BA22, 'SCORE TABLE'!BA22) - 1","v":48},{"$f":"RANK('SCORE TABLE'!BB22,'SCORE TABLE'!$F22:$BC22,0)+ COUNTIF('SCORE TABLE'!$F22:BB22, 'SCORE TABLE'!BB22) - 1","v":49},{"$f":"RANK('SCORE TABLE'!BC22,'SCORE TABLE'!$F22:$BC22,0)+ COUNTIF('SCORE TABLE'!$F22:BC22, 'SCORE TABLE'!BC22) - 1","v":50}]
[null,1012,"1.1.4","Obesity-related funding",null,null,{"$f":"RANK('SCORE TABLE'!F23,'SCORE TABLE'!$F23:$BC23,0)+ COUNTIF('SCORE TABLE'!$F23:F23, 'SCORE TABLE'!F23) - 1","v":3},{"$f":"RANK('SCORE TABLE'!G23,'SCORE TABLE'!$F23:$BC23,0)+ COUNTIF('SCORE TABLE'!$F23:G23, 'SCORE TABLE'!G23) - 1","v":4},{"$f":"RANK('SCORE TABLE'!H23,'SCORE TABLE'!$F23:$BC23,0)+ COUNTIF('SCORE TABLE'!$F23:H23, 'SCORE TABLE'!H23) - 1","v":5},{"$f":"RANK('SCORE TABLE'!I23,'SCORE TABLE'!$F23:$BC23,0)+ COUNTIF('SCORE TABLE'!$F23:I23, 'SCORE TABLE'!I23) - 1","v":6},{"$f":"RANK('SCORE TABLE'!J23,'SCORE TABLE'!$F23:$BC23,0)+ COUNTIF('SCORE TABLE'!$F23:J23, 'SCORE TABLE'!J23) - 1","v":7},{"$f":"RANK('SCORE TABLE'!K23,'SCORE TABLE'!$F23:$BC23,0)+ COUNTIF('SCORE TABLE'!$F23:K23, 'SCORE TABLE'!K23) - 1","v":1},{"$f":"RANK('SCORE TABLE'!L23,'SCORE TABLE'!$F23:$BC23,0)+ COUNTIF('SCORE TABLE'!$F23:L23, 'SCORE TABLE'!L23) - 1","v":8},{"$f":"RANK('SCORE TABLE'!M23,'SCORE TABLE'!$F23:$BC23,0)+ COUNTIF('SCORE TABLE'!$F23:M23, 'SCORE TABLE'!M23) - 1","v":9},{"$f":"RANK('SCORE TABLE'!N23,'SCORE TABLE'!$F23:$BC23,0)+ COUNTIF('SCORE TABLE'!$F23:N23, 'SCORE TABLE'!N23) - 1","v":10},{"$f":"RANK('SCORE TABLE'!O23,'SCORE TABLE'!$F23:$BC23,0)+ COUNTIF('SCORE TABLE'!$F23:O23, 'SCORE TABLE'!O23) - 1","v":11},{"$f":"RANK('SCORE TABLE'!P23,'SCORE TABLE'!$F23:$BC23,0)+ COUNTIF('SCORE TABLE'!$F23:P23, 'SCORE TABLE'!P23) - 1","v":12},{"$f":"RANK('SCORE TABLE'!Q23,'SCORE TABLE'!$F23:$BC23,0)+ COUNTIF('SCORE TABLE'!$F23:Q23, 'SCORE TABLE'!Q23) - 1","v":13},{"$f":"RANK('SCORE TABLE'!R23,'SCORE TABLE'!$F23:$BC23,0)+ COUNTIF('SCORE TABLE'!$F23:R23, 'SCORE TABLE'!R23) - 1","v":14},{"$f":"RANK('SCORE TABLE'!S23,'SCORE TABLE'!$F23:$BC23,0)+ COUNTIF('SCORE TABLE'!$F23:S23, 'SCORE TABLE'!S23) - 1","v":15},{"$f":"RANK('SCORE TABLE'!T23,'SCORE TABLE'!$F23:$BC23,0)+ COUNTIF('SCORE TABLE'!$F23:T23, 'SCORE TABLE'!T23) - 1","v":16},{"$f":"RANK('SCORE TABLE'!U23,'SCORE TABLE'!$F23:$BC23,0)+ COUNTIF('SCORE TABLE'!$F23:U23, 'SCORE TABLE'!U23) - 1","v":17},{"$f":"RANK('SCORE TABLE'!V23,'SCORE TABLE'!$F23:$BC23,0)+ COUNTIF('SCORE TABLE'!$F23:V23, 'SCORE TABLE'!V23) - 1","v":18},{"$f":"RANK('SCORE TABLE'!W23,'SCORE TABLE'!$F23:$BC23,0)+ COUNTIF('SCORE TABLE'!$F23:W23, 'SCORE TABLE'!W23) - 1","v":19},{"$f":"RANK('SCORE TABLE'!X23,'SCORE TABLE'!$F23:$BC23,0)+ COUNTIF('SCORE TABLE'!$F23:X23, 'SCORE TABLE'!X23) - 1","v":20},{"$f":"RANK('SCORE TABLE'!Y23,'SCORE TABLE'!$F23:$BC23,0)+ COUNTIF('SCORE TABLE'!$F23:Y23, 'SCORE TABLE'!Y23) - 1","v":21},{"$f":"RANK('SCORE TABLE'!Z23,'SCORE TABLE'!$F23:$BC23,0)+ COUNTIF('SCORE TABLE'!$F23:Z23, 'SCORE TABLE'!Z23) - 1","v":22},{"$f":"RANK('SCORE TABLE'!AA23,'SCORE TABLE'!$F23:$BC23,0)+ COUNTIF('SCORE TABLE'!$F23:AA23, 'SCORE TABLE'!AA23) - 1","v":23},{"$f":"RANK('SCORE TABLE'!AB23,'SCORE TABLE'!$F23:$BC23,0)+ COUNTIF('SCORE TABLE'!$F23:AB23, 'SCORE TABLE'!AB23) - 1","v":24},{"$f":"RANK('SCORE TABLE'!AC23,'SCORE TABLE'!$F23:$BC23,0)+ COUNTIF('SCORE TABLE'!$F23:AC23, 'SCORE TABLE'!AC23) - 1","v":25},{"$f":"RANK('SCORE TABLE'!AD23,'SCORE TABLE'!$F23:$BC23,0)+ COUNTIF('SCORE TABLE'!$F23:AD23, 'SCORE TABLE'!AD23) - 1","v":26},{"$f":"RANK('SCORE TABLE'!AE23,'SCORE TABLE'!$F23:$BC23,0)+ COUNTIF('SCORE TABLE'!$F23:AE23, 'SCORE TABLE'!AE23) - 1","v":27},{"$f":"RANK('SCORE TABLE'!AF23,'SCORE TABLE'!$F23:$BC23,0)+ COUNTIF('SCORE TABLE'!$F23:AF23, 'SCORE TABLE'!AF23) - 1","v":28},{"$f":"RANK('SCORE TABLE'!AG23,'SCORE TABLE'!$F23:$BC23,0)+ COUNTIF('SCORE TABLE'!$F23:AG23, 'SCORE TABLE'!AG23) - 1","v":29},{"$f":"RANK('SCORE TABLE'!AH23,'SCORE TABLE'!$F23:$BC23,0)+ COUNTIF('SCORE TABLE'!$F23:AH23, 'SCORE TABLE'!AH23) - 1","v":30},{"$f":"RANK('SCORE TABLE'!AI23,'SCORE TABLE'!$F23:$BC23,0)+ COUNTIF('SCORE TABLE'!$F23:AI23, 'SCORE TABLE'!AI23) - 1","v":31},{"$f":"RANK('SCORE TABLE'!AJ23,'SCORE TABLE'!$F23:$BC23,0)+ COUNTIF('SCORE TABLE'!$F23:AJ23, 'SCORE TABLE'!AJ23) - 1","v":32},{"$f":"RANK('SCORE TABLE'!AK23,'SCORE TABLE'!$F23:$BC23,0)+ COUNTIF('SCORE TABLE'!$F23:AK23, 'SCORE TABLE'!AK23) - 1","v":33},{"$f":"RANK('SCORE TABLE'!AL23,'SCORE TABLE'!$F23:$BC23,0)+ COUNTIF('SCORE TABLE'!$F23:AL23, 'SCORE TABLE'!AL23) - 1","v":34},{"$f":"RANK('SCORE TABLE'!AM23,'SCORE TABLE'!$F23:$BC23,0)+ COUNTIF('SCORE TABLE'!$F23:AM23, 'SCORE TABLE'!AM23) - 1","v":35},{"$f":"RANK('SCORE TABLE'!AN23,'SCORE TABLE'!$F23:$BC23,0)+ COUNTIF('SCORE TABLE'!$F23:AN23, 'SCORE TABLE'!AN23) - 1","v":36},{"$f":"RANK('SCORE TABLE'!AO23,'SCORE TABLE'!$F23:$BC23,0)+ COUNTIF('SCORE TABLE'!$F23:AO23, 'SCORE TABLE'!AO23) - 1","v":37},{"$f":"RANK('SCORE TABLE'!AP23,'SCORE TABLE'!$F23:$BC23,0)+ COUNTIF('SCORE TABLE'!$F23:AP23, 'SCORE TABLE'!AP23) - 1","v":38},{"$f":"RANK('SCORE TABLE'!AQ23,'SCORE TABLE'!$F23:$BC23,0)+ COUNTIF('SCORE TABLE'!$F23:AQ23, 'SCORE TABLE'!AQ23) - 1","v":39},{"$f":"RANK('SCORE TABLE'!AR23,'SCORE TABLE'!$F23:$BC23,0)+ COUNTIF('SCORE TABLE'!$F23:AR23, 'SCORE TABLE'!AR23) - 1","v":40},{"$f":"RANK('SCORE TABLE'!AS23,'SCORE TABLE'!$F23:$BC23,0)+ COUNTIF('SCORE TABLE'!$F23:AS23, 'SCORE TABLE'!AS23) - 1","v":41},{"$f":"RANK('SCORE TABLE'!AT23,'SCORE TABLE'!$F23:$BC23,0)+ COUNTIF('SCORE TABLE'!$F23:AT23, 'SCORE TABLE'!AT23) - 1","v":42},{"$f":"RANK('SCORE TABLE'!AU23,'SCORE TABLE'!$F23:$BC23,0)+ COUNTIF('SCORE TABLE'!$F23:AU23, 'SCORE TABLE'!AU23) - 1","v":43},{"$f":"RANK('SCORE TABLE'!AV23,'SCORE TABLE'!$F23:$BC23,0)+ COUNTIF('SCORE TABLE'!$F23:AV23, 'SCORE TABLE'!AV23) - 1","v":2},{"$f":"RANK('SCORE TABLE'!AW23,'SCORE TABLE'!$F23:$BC23,0)+ COUNTIF('SCORE TABLE'!$F23:AW23, 'SCORE TABLE'!AW23) - 1","v":44},{"$f":"RANK('SCORE TABLE'!AX23,'SCORE TABLE'!$F23:$BC23,0)+ COUNTIF('SCORE TABLE'!$F23:AX23, 'SCORE TABLE'!AX23) - 1","v":45},{"$f":"RANK('SCORE TABLE'!AY23,'SCORE TABLE'!$F23:$BC23,0)+ COUNTIF('SCORE TABLE'!$F23:AY23, 'SCORE TABLE'!AY23) - 1","v":46},{"$f":"RANK('SCORE TABLE'!AZ23,'SCORE TABLE'!$F23:$BC23,0)+ COUNTIF('SCORE TABLE'!$F23:AZ23, 'SCORE TABLE'!AZ23) - 1","v":47},{"$f":"RANK('SCORE TABLE'!BA23,'SCORE TABLE'!$F23:$BC23,0)+ COUNTIF('SCORE TABLE'!$F23:BA23, 'SCORE TABLE'!BA23) - 1","v":48},{"$f":"RANK('SCORE TABLE'!BB23,'SCORE TABLE'!$F23:$BC23,0)+ COUNTIF('SCORE TABLE'!$F23:BB23, 'SCORE TABLE'!BB23) - 1","v":49},{"$f":"RANK('SCORE TABLE'!BC23,'SCORE TABLE'!$F23:$BC23,0)+ COUNTIF('SCORE TABLE'!$F23:BC23, 'SCORE TABLE'!BC23) - 1","v":50}]
[null,1013,"1.1.5","Weight-related discrimination",null,null,{"$f":"RANK('SCORE TABLE'!F24,'SCORE TABLE'!$F24:$BC24,0)+ COUNTIF('SCORE TABLE'!$F24:F24, 'SCORE TABLE'!F24) - 1","v":3},{"$f":"RANK('SCORE TABLE'!G24,'SCORE TABLE'!$F24:$BC24,0)+ COUNTIF('SCORE TABLE'!$F24:G24, 'SCORE TABLE'!G24) - 1","v":4},{"$f":"RANK('SCORE TABLE'!H24,'SCORE TABLE'!$F24:$BC24,0)+ COUNTIF('SCORE TABLE'!$F24:H24, 'SCORE TABLE'!H24) - 1","v":5},{"$f":"RANK('SCORE TABLE'!I24,'SCORE TABLE'!$F24:$BC24,0)+ COUNTIF('SCORE TABLE'!$F24:I24, 'SCORE TABLE'!I24) - 1","v":6},{"$f":"RANK('SCORE TABLE'!J24,'SCORE TABLE'!$F24:$BC24,0)+ COUNTIF('SCORE TABLE'!$F24:J24, 'SCORE TABLE'!J24) - 1","v":7},{"$f":"RANK('SCORE TABLE'!K24,'SCORE TABLE'!$F24:$BC24,0)+ COUNTIF('SCORE TABLE'!$F24:K24, 'SCORE TABLE'!K24) - 1","v":8},{"$f":"RANK('SCORE TABLE'!L24,'SCORE TABLE'!$F24:$BC24,0)+ COUNTIF('SCORE TABLE'!$F24:L24, 'SCORE TABLE'!L24) - 1","v":9},{"$f":"RANK('SCORE TABLE'!M24,'SCORE TABLE'!$F24:$BC24,0)+ COUNTIF('SCORE TABLE'!$F24:M24, 'SCORE TABLE'!M24) - 1","v":10},{"$f":"RANK('SCORE TABLE'!N24,'SCORE TABLE'!$F24:$BC24,0)+ COUNTIF('SCORE TABLE'!$F24:N24, 'SCORE TABLE'!N24) - 1","v":11},{"$f":"RANK('SCORE TABLE'!O24,'SCORE TABLE'!$F24:$BC24,0)+ COUNTIF('SCORE TABLE'!$F24:O24, 'SCORE TABLE'!O24) - 1","v":12},{"$f":"RANK('SCORE TABLE'!P24,'SCORE TABLE'!$F24:$BC24,0)+ COUNTIF('SCORE TABLE'!$F24:P24, 'SCORE TABLE'!P24) - 1","v":13},{"$f":"RANK('SCORE TABLE'!Q24,'SCORE TABLE'!$F24:$BC24,0)+ COUNTIF('SCORE TABLE'!$F24:Q24, 'SCORE TABLE'!Q24) - 1","v":14},{"$f":"RANK('SCORE TABLE'!R24,'SCORE TABLE'!$F24:$BC24,0)+ COUNTIF('SCORE TABLE'!$F24:R24, 'SCORE TABLE'!R24) - 1","v":15},{"$f":"RANK('SCORE TABLE'!S24,'SCORE TABLE'!$F24:$BC24,0)+ COUNTIF('SCORE TABLE'!$F24:S24, 'SCORE TABLE'!S24) - 1","v":16},{"$f":"RANK('SCORE TABLE'!T24,'SCORE TABLE'!$F24:$BC24,0)+ COUNTIF('SCORE TABLE'!$F24:T24, 'SCORE TABLE'!T24) - 1","v":17},{"$f":"RANK('SCORE TABLE'!U24,'SCORE TABLE'!$F24:$BC24,0)+ COUNTIF('SCORE TABLE'!$F24:U24, 'SCORE TABLE'!U24) - 1","v":18},{"$f":"RANK('SCORE TABLE'!V24,'SCORE TABLE'!$F24:$BC24,0)+ COUNTIF('SCORE TABLE'!$F24:V24, 'SCORE TABLE'!V24) - 1","v":19},{"$f":"RANK('SCORE TABLE'!W24,'SCORE TABLE'!$F24:$BC24,0)+ COUNTIF('SCORE TABLE'!$F24:W24, 'SCORE TABLE'!W24) - 1","v":20},{"$f":"RANK('SCORE TABLE'!X24,'SCORE TABLE'!$F24:$BC24,0)+ COUNTIF('SCORE TABLE'!$F24:X24, 'SCORE TABLE'!X24) - 1","v":21},{"$f":"RANK('SCORE TABLE'!Y24,'SCORE TABLE'!$F24:$BC24,0)+ COUNTIF('SCORE TABLE'!$F24:Y24, 'SCORE TABLE'!Y24) - 1","v":22},{"$f":"RANK('SCORE TABLE'!Z24,'SCORE TABLE'!$F24:$BC24,0)+ COUNTIF('SCORE TABLE'!$F24:Z24, 'SCORE TABLE'!Z24) - 1","v":23},{"$f":"RANK('SCORE TABLE'!AA24,'SCORE TABLE'!$F24:$BC24,0)+ COUNTIF('SCORE TABLE'!$F24:AA24, 'SCORE TABLE'!AA24) - 1","v":1},{"$f":"RANK('SCORE TABLE'!AB24,'SCORE TABLE'!$F24:$BC24,0)+ COUNTIF('SCORE TABLE'!$F24:AB24, 'SCORE TABLE'!AB24) - 1","v":24},{"$f":"RANK('SCORE TABLE'!AC24,'SCORE TABLE'!$F24:$BC24,0)+ COUNTIF('SCORE TABLE'!$F24:AC24, 'SCORE TABLE'!AC24) - 1","v":25},{"$f":"RANK('SCORE TABLE'!AD24,'SCORE TABLE'!$F24:$BC24,0)+ COUNTIF('SCORE TABLE'!$F24:AD24, 'SCORE TABLE'!AD24) - 1","v":26},{"$f":"RANK('SCORE TABLE'!AE24,'SCORE TABLE'!$F24:$BC24,0)+ COUNTIF('SCORE TABLE'!$F24:AE24, 'SCORE TABLE'!AE24) - 1","v":27},{"$f":"RANK('SCORE TABLE'!AF24,'SCORE TABLE'!$F24:$BC24,0)+ COUNTIF('SCORE TABLE'!$F24:AF24, 'SCORE TABLE'!AF24) - 1","v":28},{"$f":"RANK('SCORE TABLE'!AG24,'SCORE TABLE'!$F24:$BC24,0)+ COUNTIF('SCORE TABLE'!$F24:AG24, 'SCORE TABLE'!AG24) - 1","v":29},{"$f":"RANK('SCORE TABLE'!AH24,'SCORE TABLE'!$F24:$BC24,0)+ COUNTIF('SCORE TABLE'!$F24:AH24, 'SCORE TABLE'!AH24) - 1","v":30},{"$f":"RANK('SCORE TABLE'!AI24,'SCORE TABLE'!$F24:$BC24,0)+ COUNTIF('SCORE TABLE'!$F24:AI24, 'SCORE TABLE'!AI24) - 1","v":31},{"$f":"RANK('SCORE TABLE'!AJ24,'SCORE TABLE'!$F24:$BC24,0)+ COUNTIF('SCORE TABLE'!$F24:AJ24, 'SCORE TABLE'!AJ24) - 1","v":32},{"$f":"RANK('SCORE TABLE'!AK24,'SCORE TABLE'!$F24:$BC24,0)+ COUNTIF('SCORE TABLE'!$F24:AK24, 'SCORE TABLE'!AK24) - 1","v":33},{"$f":"RANK('SCORE TABLE'!AL24,'SCORE TABLE'!$F24:$BC24,0)+ COUNTIF('SCORE TABLE'!$F24:AL24, 'SCORE TABLE'!AL24) - 1","v":34},{"$f":"RANK('SCORE TABLE'!AM24,'SCORE TABLE'!$F24:$BC24,0)+ COUNTIF('SCORE TABLE'!$F24:AM24, 'SCORE TABLE'!AM24) - 1","v":35},{"$f":"RANK('SCORE TABLE'!AN24,'SCORE TABLE'!$F24:$BC24,0)+ COUNTIF('SCORE TABLE'!$F24:AN24, 'SCORE TABLE'!AN24) - 1","v":36},{"$f":"RANK('SCORE TABLE'!AO24,'SCORE TABLE'!$F24:$BC24,0)+ COUNTIF('SCORE TABLE'!$F24:AO24, 'SCORE TABLE'!AO24) - 1","v":37},{"$f":"RANK('SCORE TABLE'!AP24,'SCORE TABLE'!$F24:$BC24,0)+ COUNTIF('SCORE TABLE'!$F24:AP24, 'SCORE TABLE'!AP24) - 1","v":38},{"$f":"RANK('SCORE TABLE'!AQ24,'SCORE TABLE'!$F24:$BC24,0)+ COUNTIF('SCORE TABLE'!$F24:AQ24, 'SCORE TABLE'!AQ24) - 1","v":39},{"$f":"RANK('SCORE TABLE'!AR24,'SCORE TABLE'!$F24:$BC24,0)+ COUNTIF('SCORE TABLE'!$F24:AR24, 'SCORE TABLE'!AR24) - 1","v":40},{"$f":"RANK('SCORE TABLE'!AS24,'SCORE TABLE'!$F24:$BC24,0)+ COUNTIF('SCORE TABLE'!$F24:AS24, 'SCORE TABLE'!AS24) - 1","v":41},{"$f":"RANK('SCORE TABLE'!AT24,'SCORE TABLE'!$F24:$BC24,0)+ COUNTIF('SCORE TABLE'!$F24:AT24, 'SCORE TABLE'!AT24) - 1","v":42},{"$f":"RANK('SCORE TABLE'!AU24,'SCORE TABLE'!$F24:$BC24,0)+ COUNTIF('SCORE TABLE'!$F24:AU24, 'SCORE TABLE'!AU24) - 1","v":43},{"$f":"RANK('SCORE TABLE'!AV24,'SCORE TABLE'!$F24:$BC24,0)+ COUNTIF('SCORE TABLE'!$F24:AV24, 'SCORE TABLE'!AV24) - 1","v":44},{"$f":"RANK('SCORE TABLE'!AW24,'SCORE TABLE'!$F24:$BC24,0)+ COUNTIF('SCORE TABLE'!$F24:AW24, 'SCORE TABLE'!AW24) - 1","v":45},{"$f":"RANK('SCORE TABLE'!AX24,'SCORE TABLE'!$F24:$BC24,0)+ COUNTIF('SCORE TABLE'!$F24:AX24, 'SCORE TABLE'!AX24) - 1","v":46},{"$f":"RANK('SCORE TABLE'!AY24,'SCORE TABLE'!$F24:$BC24,0)+ COUNTIF('SCORE TABLE'!$F24:AY24, 'SCORE TABLE'!AY24) - 1","v":47},{"$f":"RANK('SCORE TABLE'!AZ24,'SCORE TABLE'!$F24:$BC24,0)+ COUNTIF('SCORE TABLE'!$F24:AZ24, 'SCORE TABLE'!AZ24) - 1","v":2},{"$f":"RANK('SCORE TABLE'!BA24,'SCORE TABLE'!$F24:$BC24,0)+ COUNTIF('SCORE TABLE'!$F24:BA24, 'SCORE TABLE'!BA24) - 1","v":48},{"$f":"RANK('SCORE TABLE'!BB24,'SCORE TABLE'!$F24:$BC24,0)+ COUNTIF('SCORE TABLE'!$F24:BB24, 'SCORE TABLE'!BB24) - 1","v":49},{"$f":"RANK('SCORE TABLE'!BC24,'SCORE TABLE'!$F24:$BC24,0)+ COUNTIF('SCORE TABLE'!$F24:BC24, 'SCORE TABLE'!BC24) - 1","v":50}]
[null,1014,1.2,"Availability and affordability of obesity-related care",null,null,{"$f":"RANK('SCORE TABLE'!F25,'SCORE TABLE'!$F25:$BC25,0)+ COUNTIF('SCORE TABLE'!$F25:F25, 'SCORE TABLE'!F25) - 1","v":45},{"$f":"RANK('SCORE TABLE'!G25,'SCORE TABLE'!$F25:$BC25,0)+ COUNTIF('SCORE TABLE'!$F25:G25, 'SCORE TABLE'!G25) - 1","v":46},{"$f":"RANK('SCORE TABLE'!H25,'SCORE TABLE'!$F25:$BC25,0)+ COUNTIF('SCORE TABLE'!$F25:H25, 'SCORE TABLE'!H25) - 1","v":28},{"$f":"RANK('SCORE TABLE'!I25,'SCORE TABLE'!$F25:$BC25,0)+ COUNTIF('SCORE TABLE'!$F25:I25, 'SCORE TABLE'!I25) - 1","v":47},{"$f":"RANK('SCORE TABLE'!J25,'SCORE TABLE'!$F25:$BC25,0)+ COUNTIF('SCORE TABLE'!$F25:J25, 'SCORE TABLE'!J25) - 1","v":17},{"$f":"RANK('SCORE TABLE'!K25,'SCORE TABLE'!$F25:$BC25,0)+ COUNTIF('SCORE TABLE'!$F25:K25, 'SCORE TABLE'!K25) - 1","v":29},{"$f":"RANK('SCORE TABLE'!L25,'SCORE TABLE'!$F25:$BC25,0)+ COUNTIF('SCORE TABLE'!$F25:L25, 'SCORE TABLE'!L25) - 1","v":30},{"$f":"RANK('SCORE TABLE'!M25,'SCORE TABLE'!$F25:$BC25,0)+ COUNTIF('SCORE TABLE'!$F25:M25, 'SCORE TABLE'!M25) - 1","v":18},{"$f":"RANK('SCORE TABLE'!N25,'SCORE TABLE'!$F25:$BC25,0)+ COUNTIF('SCORE TABLE'!$F25:N25, 'SCORE TABLE'!N25) - 1","v":2},{"$f":"RANK('SCORE TABLE'!O25,'SCORE TABLE'!$F25:$BC25,0)+ COUNTIF('SCORE TABLE'!$F25:O25, 'SCORE TABLE'!O25) - 1","v":48},{"$f":"RANK('SCORE TABLE'!P25,'SCORE TABLE'!$F25:$BC25,0)+ COUNTIF('SCORE TABLE'!$F25:P25, 'SCORE TABLE'!P25) - 1","v":31},{"$f":"RANK('SCORE TABLE'!Q25,'SCORE TABLE'!$F25:$BC25,0)+ COUNTIF('SCORE TABLE'!$F25:Q25, 'SCORE TABLE'!Q25) - 1","v":3},{"$f":"RANK('SCORE TABLE'!R25,'SCORE TABLE'!$F25:$BC25,0)+ COUNTIF('SCORE TABLE'!$F25:R25, 'SCORE TABLE'!R25) - 1","v":49},{"$f":"RANK('SCORE TABLE'!S25,'SCORE TABLE'!$F25:$BC25,0)+ COUNTIF('SCORE TABLE'!$F25:S25, 'SCORE TABLE'!S25) - 1","v":32},{"$f":"RANK('SCORE TABLE'!T25,'SCORE TABLE'!$F25:$BC25,0)+ COUNTIF('SCORE TABLE'!$F25:T25, 'SCORE TABLE'!T25) - 1","v":4},{"$f":"RANK('SCORE TABLE'!U25,'SCORE TABLE'!$F25:$BC25,0)+ COUNTIF('SCORE TABLE'!$F25:U25, 'SCORE TABLE'!U25) - 1","v":19},{"$f":"RANK('SCORE TABLE'!V25,'SCORE TABLE'!$F25:$BC25,0)+ COUNTIF('SCORE TABLE'!$F25:V25, 'SCORE TABLE'!V25) - 1","v":5},{"$f":"RANK('SCORE TABLE'!W25,'SCORE TABLE'!$F25:$BC25,0)+ COUNTIF('SCORE TABLE'!$F25:W25, 'SCORE TABLE'!W25) - 1","v":13},{"$f":"RANK('SCORE TABLE'!X25,'SCORE TABLE'!$F25:$BC25,0)+ COUNTIF('SCORE TABLE'!$F25:X25, 'SCORE TABLE'!X25) - 1","v":33},{"$f":"RANK('SCORE TABLE'!Y25,'SCORE TABLE'!$F25:$BC25,0)+ COUNTIF('SCORE TABLE'!$F25:Y25, 'SCORE TABLE'!Y25) - 1","v":20},{"$f":"RANK('SCORE TABLE'!Z25,'SCORE TABLE'!$F25:$BC25,0)+ COUNTIF('SCORE TABLE'!$F25:Z25, 'SCORE TABLE'!Z25) - 1","v":21},{"$f":"RANK('SCORE TABLE'!AA25,'SCORE TABLE'!$F25:$BC25,0)+ COUNTIF('SCORE TABLE'!$F25:AA25, 'SCORE TABLE'!AA25) - 1","v":34},{"$f":"RANK('SCORE TABLE'!AB25,'SCORE TABLE'!$F25:$BC25,0)+ COUNTIF('SCORE TABLE'!$F25:AB25, 'SCORE TABLE'!AB25) - 1","v":1},{"$f":"RANK('SCORE TABLE'!AC25,'SCORE TABLE'!$F25:$BC25,0)+ COUNTIF('SCORE TABLE'!$F25:AC25, 'SCORE TABLE'!AC25) - 1","v":14},{"$f":"RANK('SCORE TABLE'!AD25,'SCORE TABLE'!$F25:$BC25,0)+ COUNTIF('SCORE TABLE'!$F25:AD25, 'SCORE TABLE'!AD25) - 1","v":22},{"$f":"RANK('SCORE TABLE'!AE25,'SCORE TABLE'!$F25:$BC25,0)+ COUNTIF('SCORE TABLE'!$F25:AE25, 'SCORE TABLE'!AE25) - 1","v":15},{"$f":"RANK('SCORE TABLE'!AF25,'SCORE TABLE'!$F25:$BC25,0)+ COUNTIF('SCORE TABLE'!$F25:AF25, 'SCORE TABLE'!AF25) - 1","v":6},{"$f":"RANK('SCORE TABLE'!AG25,'SCORE TABLE'!$F25:$BC25,0)+ COUNTIF('SCORE TABLE'!$F25:AG25, 'SCORE TABLE'!AG25) - 1","v":7},{"$f":"RANK('SCORE TABLE'!AH25,'SCORE TABLE'!$F25:$BC25,0)+ COUNTIF('SCORE TABLE'!$F25:AH25, 'SCORE TABLE'!AH25) - 1","v":35},{"$f":"RANK('SCORE TABLE'!AI25,'SCORE TABLE'!$F25:$BC25,0)+ COUNTIF('SCORE TABLE'!$F25:AI25, 'SCORE TABLE'!AI25) - 1","v":50},{"$f":"RANK('SCORE TABLE'!AJ25,'SCORE TABLE'!$F25:$BC25,0)+ COUNTIF('SCORE TABLE'!$F25:AJ25, 'SCORE TABLE'!AJ25) - 1","v":8},{"$f":"RANK('SCORE TABLE'!AK25,'SCORE TABLE'!$F25:$BC25,0)+ COUNTIF('SCORE TABLE'!$F25:AK25, 'SCORE TABLE'!AK25) - 1","v":16},{"$f":"RANK('SCORE TABLE'!AL25,'SCORE TABLE'!$F25:$BC25,0)+ COUNTIF('SCORE TABLE'!$F25:AL25, 'SCORE TABLE'!AL25) - 1","v":23},{"$f":"RANK('SCORE TABLE'!AM25,'SCORE TABLE'!$F25:$BC25,0)+ COUNTIF('SCORE TABLE'!$F25:AM25, 'SCORE TABLE'!AM25) - 1","v":24},{"$f":"RANK('SCORE TABLE'!AN25,'SCORE TABLE'!$F25:$BC25,0)+ COUNTIF('SCORE TABLE'!$F25:AN25, 'SCORE TABLE'!AN25) - 1","v":9},{"$f":"RANK('SCORE TABLE'!AO25,'SCORE TABLE'!$F25:$BC25,0)+ COUNTIF('SCORE TABLE'!$F25:AO25, 'SCORE TABLE'!AO25) - 1","v":10},{"$f":"RANK('SCORE TABLE'!AP25,'SCORE TABLE'!$F25:$BC25,0)+ COUNTIF('SCORE TABLE'!$F25:AP25, 'SCORE TABLE'!AP25) - 1","v":36},{"$f":"RANK('SCORE TABLE'!AQ25,'SCORE TABLE'!$F25:$BC25,0)+ COUNTIF('SCORE TABLE'!$F25:AQ25, 'SCORE TABLE'!AQ25) - 1","v":37},{"$f":"RANK('SCORE TABLE'!AR25,'SCORE TABLE'!$F25:$BC25,0)+ COUNTIF('SCORE TABLE'!$F25:AR25, 'SCORE TABLE'!AR25) - 1","v":25},{"$f":"RANK('SCORE TABLE'!AS25,'SCORE TABLE'!$F25:$BC25,0)+ COUNTIF('SCORE TABLE'!$F25:AS25, 'SCORE TABLE'!AS25) - 1","v":38},{"$f":"RANK('SCORE TABLE'!AT25,'SCORE TABLE'!$F25:$BC25,0)+ COUNTIF('SCORE TABLE'!$F25:AT25, 'SCORE TABLE'!AT25) - 1","v":39},{"$f":"RANK('SCORE TABLE'!AU25,'SCORE TABLE'!$F25:$BC25,0)+ COUNTIF('SCORE TABLE'!$F25:AU25, 'SCORE TABLE'!AU25) - 1","v":40},{"$f":"RANK('SCORE TABLE'!AV25,'SCORE TABLE'!$F25:$BC25,0)+ COUNTIF('SCORE TABLE'!$F25:AV25, 'SCORE TABLE'!AV25) - 1","v":41},{"$f":"RANK('SCORE TABLE'!AW25,'SCORE TABLE'!$F25:$BC25,0)+ COUNTIF('SCORE TABLE'!$F25:AW25, 'SCORE TABLE'!AW25) - 1","v":42},{"$f":"RANK('SCORE TABLE'!AX25,'SCORE TABLE'!$F25:$BC25,0)+ COUNTIF('SCORE TABLE'!$F25:AX25, 'SCORE TABLE'!AX25) - 1","v":43},{"$f":"RANK('SCORE TABLE'!AY25,'SCORE TABLE'!$F25:$BC25,0)+ COUNTIF('SCORE TABLE'!$F25:AY25, 'SCORE TABLE'!AY25) - 1","v":26},{"$f":"RANK('SCORE TABLE'!AZ25,'SCORE TABLE'!$F25:$BC25,0)+ COUNTIF('SCORE TABLE'!$F25:AZ25, 'SCORE TABLE'!AZ25) - 1","v":44},{"$f":"RANK('SCORE TABLE'!BA25,'SCORE TABLE'!$F25:$BC25,0)+ COUNTIF('SCORE TABLE'!$F25:BA25, 'SCORE TABLE'!BA25) - 1","v":11},{"$f":"RANK('SCORE TABLE'!BB25,'SCORE TABLE'!$F25:$BC25,0)+ COUNTIF('SCORE TABLE'!$F25:BB25, 'SCORE TABLE'!BB25) - 1","v":27},{"$f":"RANK('SCORE TABLE'!BC25,'SCORE TABLE'!$F25:$BC25,0)+ COUNTIF('SCORE TABLE'!$F25:BC25, 'SCORE TABLE'!BC25) - 1","v":12}]
[null,1015,"1.2.1","Obesity treatment coverage",null,null,{"$f":"RANK('SCORE TABLE'!F26,'SCORE TABLE'!$F26:$BC26,0)+ COUNTIF('SCORE TABLE'!$F26:F26, 'SCORE TABLE'!F26) - 1","v":41},{"$f":"RANK('SCORE TABLE'!G26,'SCORE TABLE'!$F26:$BC26,0)+ COUNTIF('SCORE TABLE'!$F26:G26, 'SCORE TABLE'!G26) - 1","v":42},{"$f":"RANK('SCORE TABLE'!H26,'SCORE TABLE'!$F26:$BC26,0)+ COUNTIF('SCORE TABLE'!$F26:H26, 'SCORE TABLE'!H26) - 1","v":13},{"$f":"RANK('SCORE TABLE'!I26,'SCORE TABLE'!$F26:$BC26,0)+ COUNTIF('SCORE TABLE'!$F26:I26, 'SCORE TABLE'!I26) - 1","v":43},{"$f":"RANK('SCORE TABLE'!J26,'SCORE TABLE'!$F26:$BC26,0)+ COUNTIF('SCORE TABLE'!$F26:J26, 'SCORE TABLE'!J26) - 1","v":1},{"$f":"RANK('SCORE TABLE'!K26,'SCORE TABLE'!$F26:$BC26,0)+ COUNTIF('SCORE TABLE'!$F26:K26, 'SCORE TABLE'!K26) - 1","v":14},{"$f":"RANK('SCORE TABLE'!L26,'SCORE TABLE'!$F26:$BC26,0)+ COUNTIF('SCORE TABLE'!$F26:L26, 'SCORE TABLE'!L26) - 1","v":15},{"$f":"RANK('SCORE TABLE'!M26,'SCORE TABLE'!$F26:$BC26,0)+ COUNTIF('SCORE TABLE'!$F26:M26, 'SCORE TABLE'!M26) - 1","v":2},{"$f":"RANK('SCORE TABLE'!N26,'SCORE TABLE'!$F26:$BC26,0)+ COUNTIF('SCORE TABLE'!$F26:N26, 'SCORE TABLE'!N26) - 1","v":16},{"$f":"RANK('SCORE TABLE'!O26,'SCORE TABLE'!$F26:$BC26,0)+ COUNTIF('SCORE TABLE'!$F26:O26, 'SCORE TABLE'!O26) - 1","v":44},{"$f":"RANK('SCORE TABLE'!P26,'SCORE TABLE'!$F26:$BC26,0)+ COUNTIF('SCORE TABLE'!$F26:P26, 'SCORE TABLE'!P26) - 1","v":17},{"$f":"RANK('SCORE TABLE'!Q26,'SCORE TABLE'!$F26:$BC26,0)+ COUNTIF('SCORE TABLE'!$F26:Q26, 'SCORE TABLE'!Q26) - 1","v":18},{"$f":"RANK('SCORE TABLE'!R26,'SCORE TABLE'!$F26:$BC26,0)+ COUNTIF('SCORE TABLE'!$F26:R26, 'SCORE TABLE'!R26) - 1","v":45},{"$f":"RANK('SCORE TABLE'!S26,'SCORE TABLE'!$F26:$BC26,0)+ COUNTIF('SCORE TABLE'!$F26:S26, 'SCORE TABLE'!S26) - 1","v":19},{"$f":"RANK('SCORE TABLE'!T26,'SCORE TABLE'!$F26:$BC26,0)+ COUNTIF('SCORE TABLE'!$F26:T26, 'SCORE TABLE'!T26) - 1","v":20},{"$f":"RANK('SCORE TABLE'!U26,'SCORE TABLE'!$F26:$BC26,0)+ COUNTIF('SCORE TABLE'!$F26:U26, 'SCORE TABLE'!U26) - 1","v":3},{"$f":"RANK('SCORE TABLE'!V26,'SCORE TABLE'!$F26:$BC26,0)+ COUNTIF('SCORE TABLE'!$F26:V26, 'SCORE TABLE'!V26) - 1","v":21},{"$f":"RANK('SCORE TABLE'!W26,'SCORE TABLE'!$F26:$BC26,0)+ COUNTIF('SCORE TABLE'!$F26:W26, 'SCORE TABLE'!W26) - 1","v":46},{"$f":"RANK('SCORE TABLE'!X26,'SCORE TABLE'!$F26:$BC26,0)+ COUNTIF('SCORE TABLE'!$F26:X26, 'SCORE TABLE'!X26) - 1","v":22},{"$f":"RANK('SCORE TABLE'!Y26,'SCORE TABLE'!$F26:$BC26,0)+ COUNTIF('SCORE TABLE'!$F26:Y26, 'SCORE TABLE'!Y26) - 1","v":4},{"$f":"RANK('SCORE TABLE'!Z26,'SCORE TABLE'!$F26:$BC26,0)+ COUNTIF('SCORE TABLE'!$F26:Z26, 'SCORE TABLE'!Z26) - 1","v":5},{"$f":"RANK('SCORE TABLE'!AA26,'SCORE TABLE'!$F26:$BC26,0)+ COUNTIF('SCORE TABLE'!$F26:AA26, 'SCORE TABLE'!AA26) - 1","v":23},{"$f":"RANK('SCORE TABLE'!AB26,'SCORE TABLE'!$F26:$BC26,0)+ COUNTIF('SCORE TABLE'!$F26:AB26, 'SCORE TABLE'!AB26) - 1","v":6},{"$f":"RANK('SCORE TABLE'!AC26,'SCORE TABLE'!$F26:$BC26,0)+ COUNTIF('SCORE TABLE'!$F26:AC26, 'SCORE TABLE'!AC26) - 1","v":47},{"$f":"RANK('SCORE TABLE'!AD26,'SCORE TABLE'!$F26:$BC26,0)+ COUNTIF('SCORE TABLE'!$F26:AD26, 'SCORE TABLE'!AD26) - 1","v":7},{"$f":"RANK('SCORE TABLE'!AE26,'SCORE TABLE'!$F26:$BC26,0)+ COUNTIF('SCORE TABLE'!$F26:AE26, 'SCORE TABLE'!AE26) - 1","v":49},{"$f":"RANK('SCORE TABLE'!AF26,'SCORE TABLE'!$F26:$BC26,0)+ COUNTIF('SCORE TABLE'!$F26:AF26, 'SCORE TABLE'!AF26) - 1","v":24},{"$f":"RANK('SCORE TABLE'!AG26,'SCORE TABLE'!$F26:$BC26,0)+ COUNTIF('SCORE TABLE'!$F26:AG26, 'SCORE TABLE'!AG26) - 1","v":25},{"$f":"RANK('SCORE TABLE'!AH26,'SCORE TABLE'!$F26:$BC26,0)+ COUNTIF('SCORE TABLE'!$F26:AH26, 'SCORE TABLE'!AH26) - 1","v":26},{"$f":"RANK('SCORE TABLE'!AI26,'SCORE TABLE'!$F26:$BC26,0)+ COUNTIF('SCORE TABLE'!$F26:AI26, 'SCORE TABLE'!AI26) - 1","v":48},{"$f":"RANK('SCORE TABLE'!AJ26,'SCORE TABLE'!$F26:$BC26,0)+ COUNTIF('SCORE TABLE'!$F26:AJ26, 'SCORE TABLE'!AJ26) - 1","v":27},{"$f":"RANK('SCORE TABLE'!AK26,'SCORE TABLE'!$F26:$BC26,0)+ COUNTIF('SCORE TABLE'!$F26:AK26, 'SCORE TABLE'!AK26) - 1","v":50},{"$f":"RANK('SCORE TABLE'!AL26,'SCORE TABLE'!$F26:$BC26,0)+ COUNTIF('SCORE TABLE'!$F26:AL26, 'SCORE TABLE'!AL26) - 1","v":8},{"$f":"RANK('SCORE TABLE'!AM26,'SCORE TABLE'!$F26:$BC26,0)+ COUNTIF('SCORE TABLE'!$F26:AM26, 'SCORE TABLE'!AM26) - 1","v":9},{"$f":"RANK('SCORE TABLE'!AN26,'SCORE TABLE'!$F26:$BC26,0)+ COUNTIF('SCORE TABLE'!$F26:AN26, 'SCORE TABLE'!AN26) - 1","v":28},{"$f":"RANK('SCORE TABLE'!AO26,'SCORE TABLE'!$F26:$BC26,0)+ COUNTIF('SCORE TABLE'!$F26:AO26, 'SCORE TABLE'!AO26) - 1","v":29},{"$f":"RANK('SCORE TABLE'!AP26,'SCORE TABLE'!$F26:$BC26,0)+ COUNTIF('SCORE TABLE'!$F26:AP26, 'SCORE TABLE'!AP26) - 1","v":30},{"$f":"RANK('SCORE TABLE'!AQ26,'SCORE TABLE'!$F26:$BC26,0)+ COUNTIF('SCORE TABLE'!$F26:AQ26, 'SCORE TABLE'!AQ26) - 1","v":31},{"$f":"RANK('SCORE TABLE'!AR26,'SCORE TABLE'!$F26:$BC26,0)+ COUNTIF('SCORE TABLE'!$F26:AR26, 'SCORE TABLE'!AR26) - 1","v":10},{"$f":"RANK('SCORE TABLE'!AS26,'SCORE TABLE'!$F26:$BC26,0)+ COUNTIF('SCORE TABLE'!$F26:AS26, 'SCORE TABLE'!AS26) - 1","v":32},{"$f":"RANK('SCORE TABLE'!AT26,'SCORE TABLE'!$F26:$BC26,0)+ COUNTIF('SCORE TABLE'!$F26:AT26, 'SCORE TABLE'!AT26) - 1","v":33},{"$f":"RANK('SCORE TABLE'!AU26,'SCORE TABLE'!$F26:$BC26,0)+ COUNTIF('SCORE TABLE'!$F26:AU26, 'SCORE TABLE'!AU26) - 1","v":34},{"$f":"RANK('SCORE TABLE'!AV26,'SCORE TABLE'!$F26:$BC26,0)+ COUNTIF('SCORE TABLE'!$F26:AV26, 'SCORE TABLE'!AV26) - 1","v":35},{"$f":"RANK('SCORE TABLE'!AW26,'SCORE TABLE'!$F26:$BC26,0)+ COUNTIF('SCORE TABLE'!$F26:AW26, 'SCORE TABLE'!AW26) - 1","v":36},{"$f":"RANK('SCORE TABLE'!AX26,'SCORE TABLE'!$F26:$BC26,0)+ COUNTIF('SCORE TABLE'!$F26:AX26, 'SCORE TABLE'!AX26) - 1","v":37},{"$f":"RANK('SCORE TABLE'!AY26,'SCORE TABLE'!$F26:$BC26,0)+ COUNTIF('SCORE TABLE'!$F26:AY26, 'SCORE TABLE'!AY26) - 1","v":11},{"$f":"RANK('SCORE TABLE'!AZ26,'SCORE TABLE'!$F26:$BC26,0)+ COUNTIF('SCORE TABLE'!$F26:AZ26, 'SCORE TABLE'!AZ26) - 1","v":38},{"$f":"RANK('SCORE TABLE'!BA26,'SCORE TABLE'!$F26:$BC26,0)+ COUNTIF('SCORE TABLE'!$F26:BA26, 'SCORE TABLE'!BA26) - 1","v":39},{"$f":"RANK('SCORE TABLE'!BB26,'SCORE TABLE'!$F26:$BC26,0)+ COUNTIF('SCORE TABLE'!$F26:BB26, 'SCORE TABLE'!BB26) - 1","v":12},{"$f":"RANK('SCORE TABLE'!BC26,'SCORE TABLE'!$F26:$BC26,0)+ COUNTIF('SCORE TABLE'!$F26:BC26, 'SCORE TABLE'!BC26) - 1","v":40}]
[null,1016,"1.2.2","State-level weight loss programmes",null,null,{"$f":"RANK('SCORE TABLE'!F27,'SCORE TABLE'!$F27:$BC27,0)+ COUNTIF('SCORE TABLE'!$F27:F27, 'SCORE TABLE'!F27) - 1","v":17},{"$f":"RANK('SCORE TABLE'!G27,'SCORE TABLE'!$F27:$BC27,0)+ COUNTIF('SCORE TABLE'!$F27:G27, 'SCORE TABLE'!G27) - 1","v":18},{"$f":"RANK('SCORE TABLE'!H27,'SCORE TABLE'!$F27:$BC27,0)+ COUNTIF('SCORE TABLE'!$F27:H27, 'SCORE TABLE'!H27) - 1","v":19},{"$f":"RANK('SCORE TABLE'!I27,'SCORE TABLE'!$F27:$BC27,0)+ COUNTIF('SCORE TABLE'!$F27:I27, 'SCORE TABLE'!I27) - 1","v":20},{"$f":"RANK('SCORE TABLE'!J27,'SCORE TABLE'!$F27:$BC27,0)+ COUNTIF('SCORE TABLE'!$F27:J27, 'SCORE TABLE'!J27) - 1","v":21},{"$f":"RANK('SCORE TABLE'!K27,'SCORE TABLE'!$F27:$BC27,0)+ COUNTIF('SCORE TABLE'!$F27:K27, 'SCORE TABLE'!K27) - 1","v":22},{"$f":"RANK('SCORE TABLE'!L27,'SCORE TABLE'!$F27:$BC27,0)+ COUNTIF('SCORE TABLE'!$F27:L27, 'SCORE TABLE'!L27) - 1","v":23},{"$f":"RANK('SCORE TABLE'!M27,'SCORE TABLE'!$F27:$BC27,0)+ COUNTIF('SCORE TABLE'!$F27:M27, 'SCORE TABLE'!M27) - 1","v":24},{"$f":"RANK('SCORE TABLE'!N27,'SCORE TABLE'!$F27:$BC27,0)+ COUNTIF('SCORE TABLE'!$F27:N27, 'SCORE TABLE'!N27) - 1","v":1},{"$f":"RANK('SCORE TABLE'!O27,'SCORE TABLE'!$F27:$BC27,0)+ COUNTIF('SCORE TABLE'!$F27:O27, 'SCORE TABLE'!O27) - 1","v":25},{"$f":"RANK('SCORE TABLE'!P27,'SCORE TABLE'!$F27:$BC27,0)+ COUNTIF('SCORE TABLE'!$F27:P27, 'SCORE TABLE'!P27) - 1","v":26},{"$f":"RANK('SCORE TABLE'!Q27,'SCORE TABLE'!$F27:$BC27,0)+ COUNTIF('SCORE TABLE'!$F27:Q27, 'SCORE TABLE'!Q27) - 1","v":2},{"$f":"RANK('SCORE TABLE'!R27,'SCORE TABLE'!$F27:$BC27,0)+ COUNTIF('SCORE TABLE'!$F27:R27, 'SCORE TABLE'!R27) - 1","v":27},{"$f":"RANK('SCORE TABLE'!S27,'SCORE TABLE'!$F27:$BC27,0)+ COUNTIF('SCORE TABLE'!$F27:S27, 'SCORE TABLE'!S27) - 1","v":28},{"$f":"RANK('SCORE TABLE'!T27,'SCORE TABLE'!$F27:$BC27,0)+ COUNTIF('SCORE TABLE'!$F27:T27, 'SCORE TABLE'!T27) - 1","v":3},{"$f":"RANK('SCORE TABLE'!U27,'SCORE TABLE'!$F27:$BC27,0)+ COUNTIF('SCORE TABLE'!$F27:U27, 'SCORE TABLE'!U27) - 1","v":29},{"$f":"RANK('SCORE TABLE'!V27,'SCORE TABLE'!$F27:$BC27,0)+ COUNTIF('SCORE TABLE'!$F27:V27, 'SCORE TABLE'!V27) - 1","v":4},{"$f":"RANK('SCORE TABLE'!W27,'SCORE TABLE'!$F27:$BC27,0)+ COUNTIF('SCORE TABLE'!$F27:W27, 'SCORE TABLE'!W27) - 1","v":5},{"$f":"RANK('SCORE TABLE'!X27,'SCORE TABLE'!$F27:$BC27,0)+ COUNTIF('SCORE TABLE'!$F27:X27, 'SCORE TABLE'!X27) - 1","v":30},{"$f":"RANK('SCORE TABLE'!Y27,'SCORE TABLE'!$F27:$BC27,0)+ COUNTIF('SCORE TABLE'!$F27:Y27, 'SCORE TABLE'!Y27) - 1","v":31},{"$f":"RANK('SCORE TABLE'!Z27,'SCORE TABLE'!$F27:$BC27,0)+ COUNTIF('SCORE TABLE'!$F27:Z27, 'SCORE TABLE'!Z27) - 1","v":32},{"$f":"RANK('SCORE TABLE'!AA27,'SCORE TABLE'!$F27:$BC27,0)+ COUNTIF('SCORE TABLE'!$F27:AA27, 'SCORE TABLE'!AA27) - 1","v":33},{"$f":"RANK('SCORE TABLE'!AB27,'SCORE TABLE'!$F27:$BC27,0)+ COUNTIF('SCORE TABLE'!$F27:AB27, 'SCORE TABLE'!AB27) - 1","v":6},{"$f":"RANK('SCORE TABLE'!AC27,'SCORE TABLE'!$F27:$BC27,0)+ COUNTIF('SCORE TABLE'!$F27:AC27, 'SCORE TABLE'!AC27) - 1","v":7},{"$f":"RANK('SCORE TABLE'!AD27,'SCORE TABLE'!$F27:$BC27,0)+ COUNTIF('SCORE TABLE'!$F27:AD27, 'SCORE TABLE'!AD27) - 1","v":34},{"$f":"RANK('SCORE TABLE'!AE27,'SCORE TABLE'!$F27:$BC27,0)+ COUNTIF('SCORE TABLE'!$F27:AE27, 'SCORE TABLE'!AE27) - 1","v":8},{"$f":"RANK('SCORE TABLE'!AF27,'SCORE TABLE'!$F27:$BC27,0)+ COUNTIF('SCORE TABLE'!$F27:AF27, 'SCORE TABLE'!AF27) - 1","v":9},{"$f":"RANK('SCORE TABLE'!AG27,'SCORE TABLE'!$F27:$BC27,0)+ COUNTIF('SCORE TABLE'!$F27:AG27, 'SCORE TABLE'!AG27) - 1","v":10},{"$f":"RANK('SCORE TABLE'!AH27,'SCORE TABLE'!$F27:$BC27,0)+ COUNTIF('SCORE TABLE'!$F27:AH27, 'SCORE TABLE'!AH27) - 1","v":35},{"$f":"RANK('SCORE TABLE'!AI27,'SCORE TABLE'!$F27:$BC27,0)+ COUNTIF('SCORE TABLE'!$F27:AI27, 'SCORE TABLE'!AI27) - 1","v":36},{"$f":"RANK('SCORE TABLE'!AJ27,'SCORE TABLE'!$F27:$BC27,0)+ COUNTIF('SCORE TABLE'!$F27:AJ27, 'SCORE TABLE'!AJ27) - 1","v":11},{"$f":"RANK('SCORE TABLE'!AK27,'SCORE TABLE'!$F27:$BC27,0)+ COUNTIF('SCORE TABLE'!$F27:AK27, 'SCORE TABLE'!AK27) - 1","v":12},{"$f":"RANK('SCORE TABLE'!AL27,'SCORE TABLE'!$F27:$BC27,0)+ COUNTIF('SCORE TABLE'!$F27:AL27, 'SCORE TABLE'!AL27) - 1","v":37},{"$f":"RANK('SCORE TABLE'!AM27,'SCORE TABLE'!$F27:$BC27,0)+ COUNTIF('SCORE TABLE'!$F27:AM27, 'SCORE TABLE'!AM27) - 1","v":38},{"$f":"RANK('SCORE TABLE'!AN27,'SCORE TABLE'!$F27:$BC27,0)+ COUNTIF('SCORE TABLE'!$F27:AN27, 'SCORE TABLE'!AN27) - 1","v":13},{"$f":"RANK('SCORE TABLE'!AO27,'SCORE TABLE'!$F27:$BC27,0)+ COUNTIF('SCORE TABLE'!$F27:AO27, 'SCORE TABLE'!AO27) - 1","v":14},{"$f":"RANK('SCORE TABLE'!AP27,'SCORE TABLE'!$F27:$BC27,0)+ COUNTIF('SCORE TABLE'!$F27:AP27, 'SCORE TABLE'!AP27) - 1","v":39},{"$f":"RANK('SCORE TABLE'!AQ27,'SCORE TABLE'!$F27:$BC27,0)+ COUNTIF('SCORE TABLE'!$F27:AQ27, 'SCORE TABLE'!AQ27) - 1","v":40},{"$f":"RANK('SCORE TABLE'!AR27,'SCORE TABLE'!$F27:$BC27,0)+ COUNTIF('SCORE TABLE'!$F27:AR27, 'SCORE TABLE'!AR27) - 1","v":41},{"$f":"RANK('SCORE TABLE'!AS27,'SCORE TABLE'!$F27:$BC27,0)+ COUNTIF('SCORE TABLE'!$F27:AS27, 'SCORE TABLE'!AS27) - 1","v":42},{"$f":"RANK('SCORE TABLE'!AT27,'SCORE TABLE'!$F27:$BC27,0)+ COUNTIF('SCORE TABLE'!$F27:AT27, 'SCORE TABLE'!AT27) - 1","v":43},{"$f":"RANK('SCORE TABLE'!AU27,'SCORE TABLE'!$F27:$BC27,0)+ COUNTIF('SCORE TABLE'!$F27:AU27, 'SCORE TABLE'!AU27) - 1","v":44},{"$f":"RANK('SCORE TABLE'!AV27,'SCORE TABLE'!$F27:$BC27,0)+ COUNTIF('SCORE TABLE'!$F27:AV27, 'SCORE TABLE'!AV27) - 1","v":45},{"$f":"RANK('SCORE TABLE'!AW27,'SCORE TABLE'!$F27:$BC27,0)+ COUNTIF('SCORE TABLE'!$F27:AW27, 'SCORE TABLE'!AW27) - 1","v":46},{"$f":"RANK('SCORE TABLE'!AX27,'SCORE TABLE'!$F27:$BC27,0)+ COUNTIF('SCORE TABLE'!$F27:AX27, 'SCORE TABLE'!AX27) - 1","v":47},{"$f":"RANK('SCORE TABLE'!AY27,'SCORE TABLE'!$F27:$BC27,0)+ COUNTIF('SCORE TABLE'!$F27:AY27, 'SCORE TABLE'!AY27) - 1","v":48},{"$f":"RANK('SCORE TABLE'!AZ27,'SCORE TABLE'!$F27:$BC27,0)+ COUNTIF('SCORE TABLE'!$F27:AZ27, 'SCORE TABLE'!AZ27) - 1","v":49},{"$f":"RANK('SCORE TABLE'!BA27,'SCORE TABLE'!$F27:$BC27,0)+ COUNTIF('SCORE TABLE'!$F27:BA27, 'SCORE TABLE'!BA27) - 1","v":15},{"$f":"RANK('SCORE TABLE'!BB27,'SCORE TABLE'!$F27:$BC27,0)+ COUNTIF('SCORE TABLE'!$F27:BB27, 'SCORE TABLE'!BB27) - 1","v":50},{"$f":"RANK('SCORE TABLE'!BC27,'SCORE TABLE'!$F27:$BC27,0)+ COUNTIF('SCORE TABLE'!$F27:BC27, 'SCORE TABLE'!BC27) - 1","v":16}]
[null,1017,2,"Food quality and access",null,null,{"$f":"RANK('SCORE TABLE'!F28,'SCORE TABLE'!$F28:$BC28,0)+ COUNTIF('SCORE TABLE'!$F28:F28, 'SCORE TABLE'!F28) - 1","v":39},{"$f":"RANK('SCORE TABLE'!G28,'SCORE TABLE'!$F28:$BC28,0)+ COUNTIF('SCORE TABLE'!$F28:G28, 'SCORE TABLE'!G28) - 1","v":33},{"$f":"RANK('SCORE TABLE'!H28,'SCORE TABLE'!$F28:$BC28,0)+ COUNTIF('SCORE TABLE'!$F28:H28, 'SCORE TABLE'!H28) - 1","v":36},{"$f":"RANK('SCORE TABLE'!I28,'SCORE TABLE'!$F28:$BC28,0)+ COUNTIF('SCORE TABLE'!$F28:I28, 'SCORE TABLE'!I28) - 1","v":8},{"$f":"RANK('SCORE TABLE'!J28,'SCORE TABLE'!$F28:$BC28,0)+ COUNTIF('SCORE TABLE'!$F28:J28, 'SCORE TABLE'!J28) - 1","v":29},{"$f":"RANK('SCORE TABLE'!K28,'SCORE TABLE'!$F28:$BC28,0)+ COUNTIF('SCORE TABLE'!$F28:K28, 'SCORE TABLE'!K28) - 1","v":13},{"$f":"RANK('SCORE TABLE'!L28,'SCORE TABLE'!$F28:$BC28,0)+ COUNTIF('SCORE TABLE'!$F28:L28, 'SCORE TABLE'!L28) - 1","v":18},{"$f":"RANK('SCORE TABLE'!M28,'SCORE TABLE'!$F28:$BC28,0)+ COUNTIF('SCORE TABLE'!$F28:M28, 'SCORE TABLE'!M28) - 1","v":42},{"$f":"RANK('SCORE TABLE'!N28,'SCORE TABLE'!$F28:$BC28,0)+ COUNTIF('SCORE TABLE'!$F28:N28, 'SCORE TABLE'!N28) - 1","v":14},{"$f":"RANK('SCORE TABLE'!O28,'SCORE TABLE'!$F28:$BC28,0)+ COUNTIF('SCORE TABLE'!$F28:O28, 'SCORE TABLE'!O28) - 1","v":37},{"$f":"RANK('SCORE TABLE'!P28,'SCORE TABLE'!$F28:$BC28,0)+ COUNTIF('SCORE TABLE'!$F28:P28, 'SCORE TABLE'!P28) - 1","v":24},{"$f":"RANK('SCORE TABLE'!Q28,'SCORE TABLE'!$F28:$BC28,0)+ COUNTIF('SCORE TABLE'!$F28:Q28, 'SCORE TABLE'!Q28) - 1","v":44},{"$f":"RANK('SCORE TABLE'!R28,'SCORE TABLE'!$F28:$BC28,0)+ COUNTIF('SCORE TABLE'!$F28:R28, 'SCORE TABLE'!R28) - 1","v":3},{"$f":"RANK('SCORE TABLE'!S28,'SCORE TABLE'!$F28:$BC28,0)+ COUNTIF('SCORE TABLE'!$F28:S28, 'SCORE TABLE'!S28) - 1","v":12},{"$f":"RANK('SCORE TABLE'!T28,'SCORE TABLE'!$F28:$BC28,0)+ COUNTIF('SCORE TABLE'!$F28:T28, 'SCORE TABLE'!T28) - 1","v":1},{"$f":"RANK('SCORE TABLE'!U28,'SCORE TABLE'!$F28:$BC28,0)+ COUNTIF('SCORE TABLE'!$F28:U28, 'SCORE TABLE'!U28) - 1","v":46},{"$f":"RANK('SCORE TABLE'!V28,'SCORE TABLE'!$F28:$BC28,0)+ COUNTIF('SCORE TABLE'!$F28:V28, 'SCORE TABLE'!V28) - 1","v":7},{"$f":"RANK('SCORE TABLE'!W28,'SCORE TABLE'!$F28:$BC28,0)+ COUNTIF('SCORE TABLE'!$F28:W28, 'SCORE TABLE'!W28) - 1","v":31},{"$f":"RANK('SCORE TABLE'!X28,'SCORE TABLE'!$F28:$BC28,0)+ COUNTIF('SCORE TABLE'!$F28:X28, 'SCORE TABLE'!X28) - 1","v":10},{"$f":"RANK('SCORE TABLE'!Y28,'SCORE TABLE'!$F28:$BC28,0)+ COUNTIF('SCORE TABLE'!$F28:Y28, 'SCORE TABLE'!Y28) - 1","v":5},{"$f":"RANK('SCORE TABLE'!Z28,'SCORE TABLE'!$F28:$BC28,0)+ COUNTIF('SCORE TABLE'!$F28:Z28, 'SCORE TABLE'!Z28) - 1","v":23},{"$f":"RANK('SCORE TABLE'!AA28,'SCORE TABLE'!$F28:$BC28,0)+ COUNTIF('SCORE TABLE'!$F28:AA28, 'SCORE TABLE'!AA28) - 1","v":27},{"$f":"RANK('SCORE TABLE'!AB28,'SCORE TABLE'!$F28:$BC28,0)+ COUNTIF('SCORE TABLE'!$F28:AB28, 'SCORE TABLE'!AB28) - 1","v":2},{"$f":"RANK('SCORE TABLE'!AC28,'SCORE TABLE'!$F28:$BC28,0)+ COUNTIF('SCORE TABLE'!$F28:AC28, 'SCORE TABLE'!AC28) - 1","v":47},{"$f":"RANK('SCORE TABLE'!AD28,'SCORE TABLE'!$F28:$BC28,0)+ COUNTIF('SCORE TABLE'!$F28:AD28, 'SCORE TABLE'!AD28) - 1","v":40},{"$f":"RANK('SCORE TABLE'!AE28,'SCORE TABLE'!$F28:$BC28,0)+ COUNTIF('SCORE TABLE'!$F28:AE28, 'SCORE TABLE'!AE28) - 1","v":50},{"$f":"RANK('SCORE TABLE'!AF28,'SCORE TABLE'!$F28:$BC28,0)+ COUNTIF('SCORE TABLE'!$F28:AF28, 'SCORE TABLE'!AF28) - 1","v":45},{"$f":"RANK('SCORE TABLE'!AG28,'SCORE TABLE'!$F28:$BC28,0)+ COUNTIF('SCORE TABLE'!$F28:AG28, 'SCORE TABLE'!AG28) - 1","v":34},{"$f":"RANK('SCORE TABLE'!AH28,'SCORE TABLE'!$F28:$BC28,0)+ COUNTIF('SCORE TABLE'!$F28:AH28, 'SCORE TABLE'!AH28) - 1","v":49},{"$f":"RANK('SCORE TABLE'!AI28,'SCORE TABLE'!$F28:$BC28,0)+ COUNTIF('SCORE TABLE'!$F28:AI28, 'SCORE TABLE'!AI28) - 1","v":35},{"$f":"RANK('SCORE TABLE'!AJ28,'SCORE TABLE'!$F28:$BC28,0)+ COUNTIF('SCORE TABLE'!$F28:AJ28, 'SCORE TABLE'!AJ28) - 1","v":25},{"$f":"RANK('SCORE TABLE'!AK28,'SCORE TABLE'!$F28:$BC28,0)+ COUNTIF('SCORE TABLE'!$F28:AK28, 'SCORE TABLE'!AK28) - 1","v":9},{"$f":"RANK('SCORE TABLE'!AL28,'SCORE TABLE'!$F28:$BC28,0)+ COUNTIF('SCORE TABLE'!$F28:AL28, 'SCORE TABLE'!AL28) - 1","v":4},{"$f":"RANK('SCORE TABLE'!AM28,'SCORE TABLE'!$F28:$BC28,0)+ COUNTIF('SCORE TABLE'!$F28:AM28, 'SCORE TABLE'!AM28) - 1","v":21},{"$f":"RANK('SCORE TABLE'!AN28,'SCORE TABLE'!$F28:$BC28,0)+ COUNTIF('SCORE TABLE'!$F28:AN28, 'SCORE TABLE'!AN28) - 1","v":20},{"$f":"RANK('SCORE TABLE'!AO28,'SCORE TABLE'!$F28:$BC28,0)+ COUNTIF('SCORE TABLE'!$F28:AO28, 'SCORE TABLE'!AO28) - 1","v":41},{"$f":"RANK('SCORE TABLE'!AP28,'SCORE TABLE'!$F28:$BC28,0)+ COUNTIF('SCORE TABLE'!$F28:AP28, 'SCORE TABLE'!AP28) - 1","v":30},{"$f":"RANK('SCORE TABLE'!AQ28,'SCORE TABLE'!$F28:$BC28,0)+ COUNTIF('SCORE TABLE'!$F28:AQ28, 'SCORE TABLE'!AQ28) - 1","v":26},{"$f":"RANK('SCORE TABLE'!AR28,'SCORE TABLE'!$F28:$BC28,0)+ COUNTIF('SCORE TABLE'!$F28:AR28, 'SCORE TABLE'!AR28) - 1","v":15},{"$f":"RANK('SCORE TABLE'!AS28,'SCORE TABLE'!$F28:$BC28,0)+ COUNTIF('SCORE TABLE'!$F28:AS28, 'SCORE TABLE'!AS28) - 1","v":28},{"$f":"RANK('SCORE TABLE'!AT28,'SCORE TABLE'!$F28:$BC28,0)+ COUNTIF('SCORE TABLE'!$F28:AT28, 'SCORE TABLE'!AT28) - 1","v":38},{"$f":"RANK('SCORE TABLE'!AU28,'SCORE TABLE'!$F28:$BC28,0)+ COUNTIF('SCORE TABLE'!$F28:AU28, 'SCORE TABLE'!AU28) - 1","v":19},{"$f":"RANK('SCORE TABLE'!AV28,'SCORE TABLE'!$F28:$BC28,0)+ COUNTIF('SCORE TABLE'!$F28:AV28, 'SCORE TABLE'!AV28) - 1","v":6},{"$f":"RANK('SCORE TABLE'!AW28,'SCORE TABLE'!$F28:$BC28,0)+ COUNTIF('SCORE TABLE'!$F28:AW28, 'SCORE TABLE'!AW28) - 1","v":43},{"$f":"RANK('SCORE TABLE'!AX28,'SCORE TABLE'!$F28:$BC28,0)+ COUNTIF('SCORE TABLE'!$F28:AX28, 'SCORE TABLE'!AX28) - 1","v":16},{"$f":"RANK('SCORE TABLE'!AY28,'SCORE TABLE'!$F28:$BC28,0)+ COUNTIF('SCORE TABLE'!$F28:AY28, 'SCORE TABLE'!AY28) - 1","v":22},{"$f":"RANK('SCORE TABLE'!AZ28,'SCORE TABLE'!$F28:$BC28,0)+ COUNTIF('SCORE TABLE'!$F28:AZ28, 'SCORE TABLE'!AZ28) - 1","v":17},{"$f":"RANK('SCORE TABLE'!BA28,'SCORE TABLE'!$F28:$BC28,0)+ COUNTIF('SCORE TABLE'!$F28:BA28, 'SCORE TABLE'!BA28) - 1","v":32},{"$f":"RANK('SCORE TABLE'!BB28,'SCORE TABLE'!$F28:$BC28,0)+ COUNTIF('SCORE TABLE'!$F28:BB28, 'SCORE TABLE'!BB28) - 1","v":11},{"$f":"RANK('SCORE TABLE'!BC28,'SCORE TABLE'!$F28:$BC28,0)+ COUNTIF('SCORE TABLE'!$F28:BC28, 'SCORE TABLE'!BC28) - 1","v":48}]
[null,1018,2.1,"Food access and affordability",null,null,{"$f":"RANK('SCORE TABLE'!F29,'SCORE TABLE'!$F29:$BC29,0)+ COUNTIF('SCORE TABLE'!$F29:F29, 'SCORE TABLE'!F29) - 1","v":14},{"$f":"RANK('SCORE TABLE'!G29,'SCORE TABLE'!$F29:$BC29,0)+ COUNTIF('SCORE TABLE'!$F29:G29, 'SCORE TABLE'!G29) - 1","v":2},{"$f":"RANK('SCORE TABLE'!H29,'SCORE TABLE'!$F29:$BC29,0)+ COUNTIF('SCORE TABLE'!$F29:H29, 'SCORE TABLE'!H29) - 1","v":41},{"$f":"RANK('SCORE TABLE'!I29,'SCORE TABLE'!$F29:$BC29,0)+ COUNTIF('SCORE TABLE'!$F29:I29, 'SCORE TABLE'!I29) - 1","v":49},{"$f":"RANK('SCORE TABLE'!J29,'SCORE TABLE'!$F29:$BC29,0)+ COUNTIF('SCORE TABLE'!$F29:J29, 'SCORE TABLE'!J29) - 1","v":45},{"$f":"RANK('SCORE TABLE'!K29,'SCORE TABLE'!$F29:$BC29,0)+ COUNTIF('SCORE TABLE'!$F29:K29, 'SCORE TABLE'!K29) - 1","v":32},{"$f":"RANK('SCORE TABLE'!L29,'SCORE TABLE'!$F29:$BC29,0)+ COUNTIF('SCORE TABLE'!$F29:L29, 'SCORE TABLE'!L29) - 1","v":8},{"$f":"RANK('SCORE TABLE'!M29,'SCORE TABLE'!$F29:$BC29,0)+ COUNTIF('SCORE TABLE'!$F29:M29, 'SCORE TABLE'!M29) - 1","v":22},{"$f":"RANK('SCORE TABLE'!N29,'SCORE TABLE'!$F29:$BC29,0)+ COUNTIF('SCORE TABLE'!$F29:N29, 'SCORE TABLE'!N29) - 1","v":33},{"$f":"RANK('SCORE TABLE'!O29,'SCORE TABLE'!$F29:$BC29,0)+ COUNTIF('SCORE TABLE'!$F29:O29, 'SCORE TABLE'!O29) - 1","v":43},{"$f":"RANK('SCORE TABLE'!P29,'SCORE TABLE'!$F29:$BC29,0)+ COUNTIF('SCORE TABLE'!$F29:P29, 'SCORE TABLE'!P29) - 1","v":1},{"$f":"RANK('SCORE TABLE'!Q29,'SCORE TABLE'!$F29:$BC29,0)+ COUNTIF('SCORE TABLE'!$F29:Q29, 'SCORE TABLE'!Q29) - 1","v":31},{"$f":"RANK('SCORE TABLE'!R29,'SCORE TABLE'!$F29:$BC29,0)+ COUNTIF('SCORE TABLE'!$F29:R29, 'SCORE TABLE'!R29) - 1","v":7},{"$f":"RANK('SCORE TABLE'!S29,'SCORE TABLE'!$F29:$BC29,0)+ COUNTIF('SCORE TABLE'!$F29:S29, 'SCORE TABLE'!S29) - 1","v":26},{"$f":"RANK('SCORE TABLE'!T29,'SCORE TABLE'!$F29:$BC29,0)+ COUNTIF('SCORE TABLE'!$F29:T29, 'SCORE TABLE'!T29) - 1","v":27},{"$f":"RANK('SCORE TABLE'!U29,'SCORE TABLE'!$F29:$BC29,0)+ COUNTIF('SCORE TABLE'!$F29:U29, 'SCORE TABLE'!U29) - 1","v":42},{"$f":"RANK('SCORE TABLE'!V29,'SCORE TABLE'!$F29:$BC29,0)+ COUNTIF('SCORE TABLE'!$F29:V29, 'SCORE TABLE'!V29) - 1","v":47},{"$f":"RANK('SCORE TABLE'!W29,'SCORE TABLE'!$F29:$BC29,0)+ COUNTIF('SCORE TABLE'!$F29:W29, 'SCORE TABLE'!W29) - 1","v":21},{"$f":"RANK('SCORE TABLE'!X29,'SCORE TABLE'!$F29:$BC29,0)+ COUNTIF('SCORE TABLE'!$F29:X29, 'SCORE TABLE'!X29) - 1","v":19},{"$f":"RANK('SCORE TABLE'!Y29,'SCORE TABLE'!$F29:$BC29,0)+ COUNTIF('SCORE TABLE'!$F29:Y29, 'SCORE TABLE'!Y29) - 1","v":30},{"$f":"RANK('SCORE TABLE'!Z29,'SCORE TABLE'!$F29:$BC29,0)+ COUNTIF('SCORE TABLE'!$F29:Z29, 'SCORE TABLE'!Z29) - 1","v":5},{"$f":"RANK('SCORE TABLE'!AA29,'SCORE TABLE'!$F29:$BC29,0)+ COUNTIF('SCORE TABLE'!$F29:AA29, 'SCORE TABLE'!AA29) - 1","v":35},{"$f":"RANK('SCORE TABLE'!AB29,'SCORE TABLE'!$F29:$BC29,0)+ COUNTIF('SCORE TABLE'!$F29:AB29, 'SCORE TABLE'!AB29) - 1","v":44},{"$f":"RANK('SCORE TABLE'!AC29,'SCORE TABLE'!$F29:$BC29,0)+ COUNTIF('SCORE TABLE'!$F29:AC29, 'SCORE TABLE'!AC29) - 1","v":48},{"$f":"RANK('SCORE TABLE'!AD29,'SCORE TABLE'!$F29:$BC29,0)+ COUNTIF('SCORE TABLE'!$F29:AD29, 'SCORE TABLE'!AD29) - 1","v":16},{"$f":"RANK('SCORE TABLE'!AE29,'SCORE TABLE'!$F29:$BC29,0)+ COUNTIF('SCORE TABLE'!$F29:AE29, 'SCORE TABLE'!AE29) - 1","v":29},{"$f":"RANK('SCORE TABLE'!AF29,'SCORE TABLE'!$F29:$BC29,0)+ COUNTIF('SCORE TABLE'!$F29:AF29, 'SCORE TABLE'!AF29) - 1","v":36},{"$f":"RANK('SCORE TABLE'!AG29,'SCORE TABLE'!$F29:$BC29,0)+ COUNTIF('SCORE TABLE'!$F29:AG29, 'SCORE TABLE'!AG29) - 1","v":37},{"$f":"RANK('SCORE TABLE'!AH29,'SCORE TABLE'!$F29:$BC29,0)+ COUNTIF('SCORE TABLE'!$F29:AH29, 'SCORE TABLE'!AH29) - 1","v":34},{"$f":"RANK('SCORE TABLE'!AI29,'SCORE TABLE'!$F29:$BC29,0)+ COUNTIF('SCORE TABLE'!$F29:AI29, 'SCORE TABLE'!AI29) - 1","v":40},{"$f":"RANK('SCORE TABLE'!AJ29,'SCORE TABLE'!$F29:$BC29,0)+ COUNTIF('SCORE TABLE'!$F29:AJ29, 'SCORE TABLE'!AJ29) - 1","v":9},{"$f":"RANK('SCORE TABLE'!AK29,'SCORE TABLE'!$F29:$BC29,0)+ COUNTIF('SCORE TABLE'!$F29:AK29, 'SCORE TABLE'!AK29) - 1","v":13},{"$f":"RANK('SCORE TABLE'!AL29,'SCORE TABLE'!$F29:$BC29,0)+ COUNTIF('SCORE TABLE'!$F29:AL29, 'SCORE TABLE'!AL29) - 1","v":24},{"$f":"RANK('SCORE TABLE'!AM29,'SCORE TABLE'!$F29:$BC29,0)+ COUNTIF('SCORE TABLE'!$F29:AM29, 'SCORE TABLE'!AM29) - 1","v":38},{"$f":"RANK('SCORE TABLE'!AN29,'SCORE TABLE'!$F29:$BC29,0)+ COUNTIF('SCORE TABLE'!$F29:AN29, 'SCORE TABLE'!AN29) - 1","v":15},{"$f":"RANK('SCORE TABLE'!AO29,'SCORE TABLE'!$F29:$BC29,0)+ COUNTIF('SCORE TABLE'!$F29:AO29, 'SCORE TABLE'!AO29) - 1","v":20},{"$f":"RANK('SCORE TABLE'!AP29,'SCORE TABLE'!$F29:$BC29,0)+ COUNTIF('SCORE TABLE'!$F29:AP29, 'SCORE TABLE'!AP29) - 1","v":18},{"$f":"RANK('SCORE TABLE'!AQ29,'SCORE TABLE'!$F29:$BC29,0)+ COUNTIF('SCORE TABLE'!$F29:AQ29, 'SCORE TABLE'!AQ29) - 1","v":10},{"$f":"RANK('SCORE TABLE'!AR29,'SCORE TABLE'!$F29:$BC29,0)+ COUNTIF('SCORE TABLE'!$F29:AR29, 'SCORE TABLE'!AR29) - 1","v":4},{"$f":"RANK('SCORE TABLE'!AS29,'SCORE TABLE'!$F29:$BC29,0)+ COUNTIF('SCORE TABLE'!$F29:AS29, 'SCORE TABLE'!AS29) - 1","v":3},{"$f":"RANK('SCORE TABLE'!AT29,'SCORE TABLE'!$F29:$BC29,0)+ COUNTIF('SCORE TABLE'!$F29:AT29, 'SCORE TABLE'!AT29) - 1","v":11},{"$f":"RANK('SCORE TABLE'!AU29,'SCORE TABLE'!$F29:$BC29,0)+ COUNTIF('SCORE TABLE'!$F29:AU29, 'SCORE TABLE'!AU29) - 1","v":12},{"$f":"RANK('SCORE TABLE'!AV29,'SCORE TABLE'!$F29:$BC29,0)+ COUNTIF('SCORE TABLE'!$F29:AV29, 'SCORE TABLE'!AV29) - 1","v":46},{"$f":"RANK('SCORE TABLE'!AW29,'SCORE TABLE'!$F29:$BC29,0)+ COUNTIF('SCORE TABLE'!$F29:AW29, 'SCORE TABLE'!AW29) - 1","v":25},{"$f":"RANK('SCORE TABLE'!AX29,'SCORE TABLE'!$F29:$BC29,0)+ COUNTIF('SCORE TABLE'!$F29:AX29, 'SCORE TABLE'!AX29) - 1","v":6},{"$f":"RANK('SCORE TABLE'!AY29,'SCORE TABLE'!$F29:$BC29,0)+ COUNTIF('SCORE TABLE'!$F29:AY29, 'SCORE TABLE'!AY29) - 1","v":39},{"$f":"RANK('SCORE TABLE'!AZ29,'SCORE TABLE'!$F29:$BC29,0)+ COUNTIF('SCORE TABLE'!$F29:AZ29, 'SCORE TABLE'!AZ29) - 1","v":17},{"$f":"RANK('SCORE TABLE'!BA29,'SCORE TABLE'!$F29:$BC29,0)+ COUNTIF('SCORE TABLE'!$F29:BA29, 'SCORE TABLE'!BA29) - 1","v":28},{"$f":"RANK('SCORE TABLE'!BB29,'SCORE TABLE'!$F29:$BC29,0)+ COUNTIF('SCORE TABLE'!$F29:BB29, 'SCORE TABLE'!BB29) - 1","v":23},{"$f":"RANK('SCORE TABLE'!BC29,'SCORE TABLE'!$F29:$BC29,0)+ COUNTIF('SCORE TABLE'!$F29:BC29, 'SCORE TABLE'!BC29) - 1","v":50}]
[null,1019,"2.1.1","Level of food security",null,null,{"$f":"RANK('SCORE TABLE'!F30,'SCORE TABLE'!$F30:$BC30,0)+ COUNTIF('SCORE TABLE'!$F30:F30, 'SCORE TABLE'!F30) - 1","v":26},{"$f":"RANK('SCORE TABLE'!G30,'SCORE TABLE'!$F30:$BC30,0)+ COUNTIF('SCORE TABLE'!$F30:G30, 'SCORE TABLE'!G30) - 1","v":8},{"$f":"RANK('SCORE TABLE'!H30,'SCORE TABLE'!$F30:$BC30,0)+ COUNTIF('SCORE TABLE'!$F30:H30, 'SCORE TABLE'!H30) - 1","v":27},{"$f":"RANK('SCORE TABLE'!I30,'SCORE TABLE'!$F30:$BC30,0)+ COUNTIF('SCORE TABLE'!$F30:I30, 'SCORE TABLE'!I30) - 1","v":50},{"$f":"RANK('SCORE TABLE'!J30,'SCORE TABLE'!$F30:$BC30,0)+ COUNTIF('SCORE TABLE'!$F30:J30, 'SCORE TABLE'!J30) - 1","v":18},{"$f":"RANK('SCORE TABLE'!K30,'SCORE TABLE'!$F30:$BC30,0)+ COUNTIF('SCORE TABLE'!$F30:K30, 'SCORE TABLE'!K30) - 1","v":9},{"$f":"RANK('SCORE TABLE'!L30,'SCORE TABLE'!$F30:$BC30,0)+ COUNTIF('SCORE TABLE'!$F30:L30, 'SCORE TABLE'!L30) - 1","v":10},{"$f":"RANK('SCORE TABLE'!M30,'SCORE TABLE'!$F30:$BC30,0)+ COUNTIF('SCORE TABLE'!$F30:M30, 'SCORE TABLE'!M30) - 1","v":19},{"$f":"RANK('SCORE TABLE'!N30,'SCORE TABLE'!$F30:$BC30,0)+ COUNTIF('SCORE TABLE'!$F30:N30, 'SCORE TABLE'!N30) - 1","v":28},{"$f":"RANK('SCORE TABLE'!O30,'SCORE TABLE'!$F30:$BC30,0)+ COUNTIF('SCORE TABLE'!$F30:O30, 'SCORE TABLE'!O30) - 1","v":34},{"$f":"RANK('SCORE TABLE'!P30,'SCORE TABLE'!$F30:$BC30,0)+ COUNTIF('SCORE TABLE'!$F30:P30, 'SCORE TABLE'!P30) - 1","v":11},{"$f":"RANK('SCORE TABLE'!Q30,'SCORE TABLE'!$F30:$BC30,0)+ COUNTIF('SCORE TABLE'!$F30:Q30, 'SCORE TABLE'!Q30) - 1","v":20},{"$f":"RANK('SCORE TABLE'!R30,'SCORE TABLE'!$F30:$BC30,0)+ COUNTIF('SCORE TABLE'!$F30:R30, 'SCORE TABLE'!R30) - 1","v":29},{"$f":"RANK('SCORE TABLE'!S30,'SCORE TABLE'!$F30:$BC30,0)+ COUNTIF('SCORE TABLE'!$F30:S30, 'SCORE TABLE'!S30) - 1","v":30},{"$f":"RANK('SCORE TABLE'!T30,'SCORE TABLE'!$F30:$BC30,0)+ COUNTIF('SCORE TABLE'!$F30:T30, 'SCORE TABLE'!T30) - 1","v":12},{"$f":"RANK('SCORE TABLE'!U30,'SCORE TABLE'!$F30:$BC30,0)+ COUNTIF('SCORE TABLE'!$F30:U30, 'SCORE TABLE'!U30) - 1","v":21},{"$f":"RANK('SCORE TABLE'!V30,'SCORE TABLE'!$F30:$BC30,0)+ COUNTIF('SCORE TABLE'!$F30:V30, 'SCORE TABLE'!V30) - 1","v":45},{"$f":"RANK('SCORE TABLE'!W30,'SCORE TABLE'!$F30:$BC30,0)+ COUNTIF('SCORE TABLE'!$F30:W30, 'SCORE TABLE'!W30) - 1","v":47},{"$f":"RANK('SCORE TABLE'!X30,'SCORE TABLE'!$F30:$BC30,0)+ COUNTIF('SCORE TABLE'!$F30:X30, 'SCORE TABLE'!X30) - 1","v":22},{"$f":"RANK('SCORE TABLE'!Y30,'SCORE TABLE'!$F30:$BC30,0)+ COUNTIF('SCORE TABLE'!$F30:Y30, 'SCORE TABLE'!Y30) - 1","v":13},{"$f":"RANK('SCORE TABLE'!Z30,'SCORE TABLE'!$F30:$BC30,0)+ COUNTIF('SCORE TABLE'!$F30:Z30, 'SCORE TABLE'!Z30) - 1","v":2},{"$f":"RANK('SCORE TABLE'!AA30,'SCORE TABLE'!$F30:$BC30,0)+ COUNTIF('SCORE TABLE'!$F30:AA30, 'SCORE TABLE'!AA30) - 1","v":35},{"$f":"RANK('SCORE TABLE'!AB30,'SCORE TABLE'!$F30:$BC30,0)+ COUNTIF('SCORE TABLE'!$F30:AB30, 'SCORE TABLE'!AB30) - 1","v":3},{"$f":"RANK('SCORE TABLE'!AC30,'SCORE TABLE'!$F30:$BC30,0)+ COUNTIF('SCORE TABLE'!$F30:AC30, 'SCORE TABLE'!AC30) - 1","v":48},{"$f":"RANK('SCORE TABLE'!AD30,'SCORE TABLE'!$F30:$BC30,0)+ COUNTIF('SCORE TABLE'!$F30:AD30, 'SCORE TABLE'!AD30) - 1","v":36},{"$f":"RANK('SCORE TABLE'!AE30,'SCORE TABLE'!$F30:$BC30,0)+ COUNTIF('SCORE TABLE'!$F30:AE30, 'SCORE TABLE'!AE30) - 1","v":4},{"$f":"RANK('SCORE TABLE'!AF30,'SCORE TABLE'!$F30:$BC30,0)+ COUNTIF('SCORE TABLE'!$F30:AF30, 'SCORE TABLE'!AF30) - 1","v":37},{"$f":"RANK('SCORE TABLE'!AG30,'SCORE TABLE'!$F30:$BC30,0)+ COUNTIF('SCORE TABLE'!$F30:AG30, 'SCORE TABLE'!AG30) - 1","v":38},{"$f":"RANK('SCORE TABLE'!AH30,'SCORE TABLE'!$F30:$BC30,0)+ COUNTIF('SCORE TABLE'!$F30:AH30, 'SCORE TABLE'!AH30) - 1","v":1},{"$f":"RANK('SCORE TABLE'!AI30,'SCORE TABLE'!$F30:$BC30,0)+ COUNTIF('SCORE TABLE'!$F30:AI30, 'SCORE TABLE'!AI30) - 1","v":14},{"$f":"RANK('SCORE TABLE'!AJ30,'SCORE TABLE'!$F30:$BC30,0)+ COUNTIF('SCORE TABLE'!$F30:AJ30, 'SCORE TABLE'!AJ30) - 1","v":39},{"$f":"RANK('SCORE TABLE'!AK30,'SCORE TABLE'!$F30:$BC30,0)+ COUNTIF('SCORE TABLE'!$F30:AK30, 'SCORE TABLE'!AK30) - 1","v":31},{"$f":"RANK('SCORE TABLE'!AL30,'SCORE TABLE'!$F30:$BC30,0)+ COUNTIF('SCORE TABLE'!$F30:AL30, 'SCORE TABLE'!AL30) - 1","v":23},{"$f":"RANK('SCORE TABLE'!AM30,'SCORE TABLE'!$F30:$BC30,0)+ COUNTIF('SCORE TABLE'!$F30:AM30, 'SCORE TABLE'!AM30) - 1","v":5},{"$f":"RANK('SCORE TABLE'!AN30,'SCORE TABLE'!$F30:$BC30,0)+ COUNTIF('SCORE TABLE'!$F30:AN30, 'SCORE TABLE'!AN30) - 1","v":40},{"$f":"RANK('SCORE TABLE'!AO30,'SCORE TABLE'!$F30:$BC30,0)+ COUNTIF('SCORE TABLE'!$F30:AO30, 'SCORE TABLE'!AO30) - 1","v":46},{"$f":"RANK('SCORE TABLE'!AP30,'SCORE TABLE'!$F30:$BC30,0)+ COUNTIF('SCORE TABLE'!$F30:AP30, 'SCORE TABLE'!AP30) - 1","v":41},{"$f":"RANK('SCORE TABLE'!AQ30,'SCORE TABLE'!$F30:$BC30,0)+ COUNTIF('SCORE TABLE'!$F30:AQ30, 'SCORE TABLE'!AQ30) - 1","v":24},{"$f":"RANK('SCORE TABLE'!AR30,'SCORE TABLE'!$F30:$BC30,0)+ COUNTIF('SCORE TABLE'!$F30:AR30, 'SCORE TABLE'!AR30) - 1","v":15},{"$f":"RANK('SCORE TABLE'!AS30,'SCORE TABLE'!$F30:$BC30,0)+ COUNTIF('SCORE TABLE'!$F30:AS30, 'SCORE TABLE'!AS30) - 1","v":43},{"$f":"RANK('SCORE TABLE'!AT30,'SCORE TABLE'!$F30:$BC30,0)+ COUNTIF('SCORE TABLE'!$F30:AT30, 'SCORE TABLE'!AT30) - 1","v":6},{"$f":"RANK('SCORE TABLE'!AU30,'SCORE TABLE'!$F30:$BC30,0)+ COUNTIF('SCORE TABLE'!$F30:AU30, 'SCORE TABLE'!AU30) - 1","v":32},{"$f":"RANK('SCORE TABLE'!AV30,'SCORE TABLE'!$F30:$BC30,0)+ COUNTIF('SCORE TABLE'!$F30:AV30, 'SCORE TABLE'!AV30) - 1","v":49},{"$f":"RANK('SCORE TABLE'!AW30,'SCORE TABLE'!$F30:$BC30,0)+ COUNTIF('SCORE TABLE'!$F30:AW30, 'SCORE TABLE'!AW30) - 1","v":33},{"$f":"RANK('SCORE TABLE'!AX30,'SCORE TABLE'!$F30:$BC30,0)+ COUNTIF('SCORE TABLE'!$F30:AX30, 'SCORE TABLE'!AX30) - 1","v":7},{"$f":"RANK('SCORE TABLE'!AY30,'SCORE TABLE'!$F30:$BC30,0)+ COUNTIF('SCORE TABLE'!$F30:AY30, 'SCORE TABLE'!AY30) - 1","v":16},{"$f":"RANK('SCORE TABLE'!AZ30,'SCORE TABLE'!$F30:$BC30,0)+ COUNTIF('SCORE TABLE'!$F30:AZ30, 'SCORE TABLE'!AZ30) - 1","v":17},{"$f":"RANK('SCORE TABLE'!BA30,'SCORE TABLE'!$F30:$BC30,0)+ COUNTIF('SCORE TABLE'!$F30:BA30, 'SCORE TABLE'!BA30) - 1","v":44},{"$f":"RANK('SCORE TABLE'!BB30,'SCORE TABLE'!$F30:$BC30,0)+ COUNTIF('SCORE TABLE'!$F30:BB30, 'SCORE TABLE'!BB30) - 1","v":25},{"$f":"RANK('SCORE TABLE'!BC30,'SCORE TABLE'!$F30:$BC30,0)+ COUNTIF('SCORE TABLE'!$F30:BC30, 'SCORE TABLE'!BC30) - 1","v":42}]
[null,1020,"2.1.2","Nutrition programmes for lower-income individuals",null,null,{"$f":"RANK('SCORE TABLE'!F31,'SCORE TABLE'!$F31:$BC31,0)+ COUNTIF('SCORE TABLE'!$F31:F31, 'SCORE TABLE'!F31) - 1","v":18},{"$f":"RANK('SCORE TABLE'!G31,'SCORE TABLE'!$F31:$BC31,0)+ COUNTIF('SCORE TABLE'!$F31:G31, 'SCORE TABLE'!G31) - 1","v":2},{"$f":"RANK('SCORE TABLE'!H31,'SCORE TABLE'!$F31:$BC31,0)+ COUNTIF('SCORE TABLE'!$F31:H31, 'SCORE TABLE'!H31) - 1","v":38},{"$f":"RANK('SCORE TABLE'!I31,'SCORE TABLE'!$F31:$BC31,0)+ COUNTIF('SCORE TABLE'!$F31:I31, 'SCORE TABLE'!I31) - 1","v":47},{"$f":"RANK('SCORE TABLE'!J31,'SCORE TABLE'!$F31:$BC31,0)+ COUNTIF('SCORE TABLE'!$F31:J31, 'SCORE TABLE'!J31) - 1","v":48},{"$f":"RANK('SCORE TABLE'!K31,'SCORE TABLE'!$F31:$BC31,0)+ COUNTIF('SCORE TABLE'!$F31:K31, 'SCORE TABLE'!K31) - 1","v":35},{"$f":"RANK('SCORE TABLE'!L31,'SCORE TABLE'!$F31:$BC31,0)+ COUNTIF('SCORE TABLE'!$F31:L31, 'SCORE TABLE'!L31) - 1","v":11},{"$f":"RANK('SCORE TABLE'!M31,'SCORE TABLE'!$F31:$BC31,0)+ COUNTIF('SCORE TABLE'!$F31:M31, 'SCORE TABLE'!M31) - 1","v":22},{"$f":"RANK('SCORE TABLE'!N31,'SCORE TABLE'!$F31:$BC31,0)+ COUNTIF('SCORE TABLE'!$F31:N31, 'SCORE TABLE'!N31) - 1","v":31},{"$f":"RANK('SCORE TABLE'!O31,'SCORE TABLE'!$F31:$BC31,0)+ COUNTIF('SCORE TABLE'!$F31:O31, 'SCORE TABLE'!O31) - 1","v":37},{"$f":"RANK('SCORE TABLE'!P31,'SCORE TABLE'!$F31:$BC31,0)+ COUNTIF('SCORE TABLE'!$F31:P31, 'SCORE TABLE'!P31) - 1","v":1},{"$f":"RANK('SCORE TABLE'!Q31,'SCORE TABLE'!$F31:$BC31,0)+ COUNTIF('SCORE TABLE'!$F31:Q31, 'SCORE TABLE'!Q31) - 1","v":32},{"$f":"RANK('SCORE TABLE'!R31,'SCORE TABLE'!$F31:$BC31,0)+ COUNTIF('SCORE TABLE'!$F31:R31, 'SCORE TABLE'!R31) - 1","v":5},{"$f":"RANK('SCORE TABLE'!S31,'SCORE TABLE'!$F31:$BC31,0)+ COUNTIF('SCORE TABLE'!$F31:S31, 'SCORE TABLE'!S31) - 1","v":25},{"$f":"RANK('SCORE TABLE'!T31,'SCORE TABLE'!$F31:$BC31,0)+ COUNTIF('SCORE TABLE'!$F31:T31, 'SCORE TABLE'!T31) - 1","v":29},{"$f":"RANK('SCORE TABLE'!U31,'SCORE TABLE'!$F31:$BC31,0)+ COUNTIF('SCORE TABLE'!$F31:U31, 'SCORE TABLE'!U31) - 1","v":42},{"$f":"RANK('SCORE TABLE'!V31,'SCORE TABLE'!$F31:$BC31,0)+ COUNTIF('SCORE TABLE'!$F31:V31, 'SCORE TABLE'!V31) - 1","v":46},{"$f":"RANK('SCORE TABLE'!W31,'SCORE TABLE'!$F31:$BC31,0)+ COUNTIF('SCORE TABLE'!$F31:W31, 'SCORE TABLE'!W31) - 1","v":9},{"$f":"RANK('SCORE TABLE'!X31,'SCORE TABLE'!$F31:$BC31,0)+ COUNTIF('SCORE TABLE'!$F31:X31, 'SCORE TABLE'!X31) - 1","v":21},{"$f":"RANK('SCORE TABLE'!Y31,'SCORE TABLE'!$F31:$BC31,0)+ COUNTIF('SCORE TABLE'!$F31:Y31, 'SCORE TABLE'!Y31) - 1","v":34},{"$f":"RANK('SCORE TABLE'!Z31,'SCORE TABLE'!$F31:$BC31,0)+ COUNTIF('SCORE TABLE'!$F31:Z31, 'SCORE TABLE'!Z31) - 1","v":6},{"$f":"RANK('SCORE TABLE'!AA31,'SCORE TABLE'!$F31:$BC31,0)+ COUNTIF('SCORE TABLE'!$F31:AA31, 'SCORE TABLE'!AA31) - 1","v":28},{"$f":"RANK('SCORE TABLE'!AB31,'SCORE TABLE'!$F31:$BC31,0)+ COUNTIF('SCORE TABLE'!$F31:AB31, 'SCORE TABLE'!AB31) - 1","v":49},{"$f":"RANK('SCORE TABLE'!AC31,'SCORE TABLE'!$F31:$BC31,0)+ COUNTIF('SCORE TABLE'!$F31:AC31, 'SCORE TABLE'!AC31) - 1","v":45},{"$f":"RANK('SCORE TABLE'!AD31,'SCORE TABLE'!$F31:$BC31,0)+ COUNTIF('SCORE TABLE'!$F31:AD31, 'SCORE TABLE'!AD31) - 1","v":16},{"$f":"RANK('SCORE TABLE'!AE31,'SCORE TABLE'!$F31:$BC31,0)+ COUNTIF('SCORE TABLE'!$F31:AE31, 'SCORE TABLE'!AE31) - 1","v":36},{"$f":"RANK('SCORE TABLE'!AF31,'SCORE TABLE'!$F31:$BC31,0)+ COUNTIF('SCORE TABLE'!$F31:AF31, 'SCORE TABLE'!AF31) - 1","v":30},{"$f":"RANK('SCORE TABLE'!AG31,'SCORE TABLE'!$F31:$BC31,0)+ COUNTIF('SCORE TABLE'!$F31:AG31, 'SCORE TABLE'!AG31) - 1","v":33},{"$f":"RANK('SCORE TABLE'!AH31,'SCORE TABLE'!$F31:$BC31,0)+ COUNTIF('SCORE TABLE'!$F31:AH31, 'SCORE TABLE'!AH31) - 1","v":41},{"$f":"RANK('SCORE TABLE'!AI31,'SCORE TABLE'!$F31:$BC31,0)+ COUNTIF('SCORE TABLE'!$F31:AI31, 'SCORE TABLE'!AI31) - 1","v":43},{"$f":"RANK('SCORE TABLE'!AJ31,'SCORE TABLE'!$F31:$BC31,0)+ COUNTIF('SCORE TABLE'!$F31:AJ31, 'SCORE TABLE'!AJ31) - 1","v":8},{"$f":"RANK('SCORE TABLE'!AK31,'SCORE TABLE'!$F31:$BC31,0)+ COUNTIF('SCORE TABLE'!$F31:AK31, 'SCORE TABLE'!AK31) - 1","v":14},{"$f":"RANK('SCORE TABLE'!AL31,'SCORE TABLE'!$F31:$BC31,0)+ COUNTIF('SCORE TABLE'!$F31:AL31, 'SCORE TABLE'!AL31) - 1","v":27},{"$f":"RANK('SCORE TABLE'!AM31,'SCORE TABLE'!$F31:$BC31,0)+ COUNTIF('SCORE TABLE'!$F31:AM31, 'SCORE TABLE'!AM31) - 1","v":40},{"$f":"RANK('SCORE TABLE'!AN31,'SCORE TABLE'!$F31:$BC31,0)+ COUNTIF('SCORE TABLE'!$F31:AN31, 'SCORE TABLE'!AN31) - 1","v":15},{"$f":"RANK('SCORE TABLE'!AO31,'SCORE TABLE'!$F31:$BC31,0)+ COUNTIF('SCORE TABLE'!$F31:AO31, 'SCORE TABLE'!AO31) - 1","v":12},{"$f":"RANK('SCORE TABLE'!AP31,'SCORE TABLE'!$F31:$BC31,0)+ COUNTIF('SCORE TABLE'!$F31:AP31, 'SCORE TABLE'!AP31) - 1","v":17},{"$f":"RANK('SCORE TABLE'!AQ31,'SCORE TABLE'!$F31:$BC31,0)+ COUNTIF('SCORE TABLE'!$F31:AQ31, 'SCORE TABLE'!AQ31) - 1","v":10},{"$f":"RANK('SCORE TABLE'!AR31,'SCORE TABLE'!$F31:$BC31,0)+ COUNTIF('SCORE TABLE'!$F31:AR31, 'SCORE TABLE'!AR31) - 1","v":4},{"$f":"RANK('SCORE TABLE'!AS31,'SCORE TABLE'!$F31:$BC31,0)+ COUNTIF('SCORE TABLE'!$F31:AS31, 'SCORE TABLE'!AS31) - 1","v":3},{"$f":"RANK('SCORE TABLE'!AT31,'SCORE TABLE'!$F31:$BC31,0)+ COUNTIF('SCORE TABLE'!$F31:AT31, 'SCORE TABLE'!AT31) - 1","v":19},{"$f":"RANK('SCORE TABLE'!AU31,'SCORE TABLE'!$F31:$BC31,0)+ COUNTIF('SCORE TABLE'!$F31:AU31, 'SCORE TABLE'!AU31) - 1","v":13},{"$f":"RANK('SCORE TABLE'!AV31,'SCORE TABLE'!$F31:$BC31,0)+ COUNTIF('SCORE TABLE'!$F31:AV31, 'SCORE TABLE'!AV31) - 1","v":44},{"$f":"RANK('SCORE TABLE'!AW31,'SCORE TABLE'!$F31:$BC31,0)+ COUNTIF('SCORE TABLE'!$F31:AW31, 'SCORE TABLE'!AW31) - 1","v":23},{"$f":"RANK('SCORE TABLE'!AX31,'SCORE TABLE'!$F31:$BC31,0)+ COUNTIF('SCORE TABLE'!$F31:AX31, 'SCORE TABLE'!AX31) - 1","v":7},{"$f":"RANK('SCORE TABLE'!AY31,'SCORE TABLE'!$F31:$BC31,0)+ COUNTIF('SCORE TABLE'!$F31:AY31, 'SCORE TABLE'!AY31) - 1","v":39},{"$f":"RANK('SCORE TABLE'!AZ31,'SCORE TABLE'!$F31:$BC31,0)+ COUNTIF('SCORE TABLE'!$F31:AZ31, 'SCORE TABLE'!AZ31) - 1","v":24},{"$f":"RANK('SCORE TABLE'!BA31,'SCORE TABLE'!$F31:$BC31,0)+ COUNTIF('SCORE TABLE'!$F31:BA31, 'SCORE TABLE'!BA31) - 1","v":20},{"$f":"RANK('SCORE TABLE'!BB31,'SCORE TABLE'!$F31:$BC31,0)+ COUNTIF('SCORE TABLE'!$F31:BB31, 'SCORE TABLE'!BB31) - 1","v":26},{"$f":"RANK('SCORE TABLE'!BC31,'SCORE TABLE'!$F31:$BC31,0)+ COUNTIF('SCORE TABLE'!$F31:BC31, 'SCORE TABLE'!BC31) - 1","v":50}]
[null,1021,"2.1.2a","Supplemental Nutrition Assistance Program (SNAP): monthly benefit per person",null,null,{"$f":"RANK('SCORE TABLE'!F32,'SCORE TABLE'!$F32:$BC32,0)+ COUNTIF('SCORE TABLE'!$F32:F32, 'SCORE TABLE'!F32) - 1","v":13},{"$f":"RANK('SCORE TABLE'!G32,'SCORE TABLE'!$F32:$BC32,0)+ COUNTIF('SCORE TABLE'!$F32:G32, 'SCORE TABLE'!G32) - 1","v":3},{"$f":"RANK('SCORE TABLE'!H32,'SCORE TABLE'!$F32:$BC32,0)+ COUNTIF('SCORE TABLE'!$F32:H32, 'SCORE TABLE'!H32) - 1","v":34},{"$f":"RANK('SCORE TABLE'!I32,'SCORE TABLE'!$F32:$BC32,0)+ COUNTIF('SCORE TABLE'!$F32:I32, 'SCORE TABLE'!I32) - 1","v":26},{"$f":"RANK('SCORE TABLE'!J32,'SCORE TABLE'!$F32:$BC32,0)+ COUNTIF('SCORE TABLE'!$F32:J32, 'SCORE TABLE'!J32) - 1","v":42},{"$f":"RANK('SCORE TABLE'!K32,'SCORE TABLE'!$F32:$BC32,0)+ COUNTIF('SCORE TABLE'!$F32:K32, 'SCORE TABLE'!K32) - 1","v":27},{"$f":"RANK('SCORE TABLE'!L32,'SCORE TABLE'!$F32:$BC32,0)+ COUNTIF('SCORE TABLE'!$F32:L32, 'SCORE TABLE'!L32) - 1","v":18},{"$f":"RANK('SCORE TABLE'!M32,'SCORE TABLE'!$F32:$BC32,0)+ COUNTIF('SCORE TABLE'!$F32:M32, 'SCORE TABLE'!M32) - 1","v":33},{"$f":"RANK('SCORE TABLE'!N32,'SCORE TABLE'!$F32:$BC32,0)+ COUNTIF('SCORE TABLE'!$F32:N32, 'SCORE TABLE'!N32) - 1","v":17},{"$f":"RANK('SCORE TABLE'!O32,'SCORE TABLE'!$F32:$BC32,0)+ COUNTIF('SCORE TABLE'!$F32:O32, 'SCORE TABLE'!O32) - 1","v":25},{"$f":"RANK('SCORE TABLE'!P32,'SCORE TABLE'!$F32:$BC32,0)+ COUNTIF('SCORE TABLE'!$F32:P32, 'SCORE TABLE'!P32) - 1","v":1},{"$f":"RANK('SCORE TABLE'!Q32,'SCORE TABLE'!$F32:$BC32,0)+ COUNTIF('SCORE TABLE'!$F32:Q32, 'SCORE TABLE'!Q32) - 1","v":28},{"$f":"RANK('SCORE TABLE'!R32,'SCORE TABLE'!$F32:$BC32,0)+ COUNTIF('SCORE TABLE'!$F32:R32, 'SCORE TABLE'!R32) - 1","v":19},{"$f":"RANK('SCORE TABLE'!S32,'SCORE TABLE'!$F32:$BC32,0)+ COUNTIF('SCORE TABLE'!$F32:S32, 'SCORE TABLE'!S32) - 1","v":5},{"$f":"RANK('SCORE TABLE'!T32,'SCORE TABLE'!$F32:$BC32,0)+ COUNTIF('SCORE TABLE'!$F32:T32, 'SCORE TABLE'!T32) - 1","v":40},{"$f":"RANK('SCORE TABLE'!U32,'SCORE TABLE'!$F32:$BC32,0)+ COUNTIF('SCORE TABLE'!$F32:U32, 'SCORE TABLE'!U32) - 1","v":31},{"$f":"RANK('SCORE TABLE'!V32,'SCORE TABLE'!$F32:$BC32,0)+ COUNTIF('SCORE TABLE'!$F32:V32, 'SCORE TABLE'!V32) - 1","v":32},{"$f":"RANK('SCORE TABLE'!W32,'SCORE TABLE'!$F32:$BC32,0)+ COUNTIF('SCORE TABLE'!$F32:W32, 'SCORE TABLE'!W32) - 1","v":4},{"$f":"RANK('SCORE TABLE'!X32,'SCORE TABLE'!$F32:$BC32,0)+ COUNTIF('SCORE TABLE'!$F32:X32, 'SCORE TABLE'!X32) - 1","v":37},{"$f":"RANK('SCORE TABLE'!Y32,'SCORE TABLE'!$F32:$BC32,0)+ COUNTIF('SCORE TABLE'!$F32:Y32, 'SCORE TABLE'!Y32) - 1","v":45},{"$f":"RANK('SCORE TABLE'!Z32,'SCORE TABLE'!$F32:$BC32,0)+ COUNTIF('SCORE TABLE'!$F32:Z32, 'SCORE TABLE'!Z32) - 1","v":21},{"$f":"RANK('SCORE TABLE'!AA32,'SCORE TABLE'!$F32:$BC32,0)+ COUNTIF('SCORE TABLE'!$F32:AA32, 'SCORE TABLE'!AA32) - 1","v":38},{"$f":"RANK('SCORE TABLE'!AB32,'SCORE TABLE'!$F32:$BC32,0)+ COUNTIF('SCORE TABLE'!$F32:AB32, 'SCORE TABLE'!AB32) - 1","v":50},{"$f":"RANK('SCORE TABLE'!AC32,'SCORE TABLE'!$F32:$BC32,0)+ COUNTIF('SCORE TABLE'!$F32:AC32, 'SCORE TABLE'!AC32) - 1","v":22},{"$f":"RANK('SCORE TABLE'!AD32,'SCORE TABLE'!$F32:$BC32,0)+ COUNTIF('SCORE TABLE'!$F32:AD32, 'SCORE TABLE'!AD32) - 1","v":16},{"$f":"RANK('SCORE TABLE'!AE32,'SCORE TABLE'!$F32:$BC32,0)+ COUNTIF('SCORE TABLE'!$F32:AE32, 'SCORE TABLE'!AE32) - 1","v":35},{"$f":"RANK('SCORE TABLE'!AF32,'SCORE TABLE'!$F32:$BC32,0)+ COUNTIF('SCORE TABLE'!$F32:AF32, 'SCORE TABLE'!AF32) - 1","v":23},{"$f":"RANK('SCORE TABLE'!AG32,'SCORE TABLE'!$F32:$BC32,0)+ COUNTIF('SCORE TABLE'!$F32:AG32, 'SCORE TABLE'!AG32) - 1","v":41},{"$f":"RANK('SCORE TABLE'!AH32,'SCORE TABLE'!$F32:$BC32,0)+ COUNTIF('SCORE TABLE'!$F32:AH32, 'SCORE TABLE'!AH32) - 1","v":49},{"$f":"RANK('SCORE TABLE'!AI32,'SCORE TABLE'!$F32:$BC32,0)+ COUNTIF('SCORE TABLE'!$F32:AI32, 'SCORE TABLE'!AI32) - 1","v":36},{"$f":"RANK('SCORE TABLE'!AJ32,'SCORE TABLE'!$F32:$BC32,0)+ COUNTIF('SCORE TABLE'!$F32:AJ32, 'SCORE TABLE'!AJ32) - 1","v":29},{"$f":"RANK('SCORE TABLE'!AK32,'SCORE TABLE'!$F32:$BC32,0)+ COUNTIF('SCORE TABLE'!$F32:AK32, 'SCORE TABLE'!AK32) - 1","v":10},{"$f":"RANK('SCORE TABLE'!AL32,'SCORE TABLE'!$F32:$BC32,0)+ COUNTIF('SCORE TABLE'!$F32:AL32, 'SCORE TABLE'!AL32) - 1","v":12},{"$f":"RANK('SCORE TABLE'!AM32,'SCORE TABLE'!$F32:$BC32,0)+ COUNTIF('SCORE TABLE'!$F32:AM32, 'SCORE TABLE'!AM32) - 1","v":20},{"$f":"RANK('SCORE TABLE'!AN32,'SCORE TABLE'!$F32:$BC32,0)+ COUNTIF('SCORE TABLE'!$F32:AN32, 'SCORE TABLE'!AN32) - 1","v":7},{"$f":"RANK('SCORE TABLE'!AO32,'SCORE TABLE'!$F32:$BC32,0)+ COUNTIF('SCORE TABLE'!$F32:AO32, 'SCORE TABLE'!AO32) - 1","v":8},{"$f":"RANK('SCORE TABLE'!AP32,'SCORE TABLE'!$F32:$BC32,0)+ COUNTIF('SCORE TABLE'!$F32:AP32, 'SCORE TABLE'!AP32) - 1","v":48},{"$f":"RANK('SCORE TABLE'!AQ32,'SCORE TABLE'!$F32:$BC32,0)+ COUNTIF('SCORE TABLE'!$F32:AQ32, 'SCORE TABLE'!AQ32) - 1","v":39},{"$f":"RANK('SCORE TABLE'!AR32,'SCORE TABLE'!$F32:$BC32,0)+ COUNTIF('SCORE TABLE'!$F32:AR32, 'SCORE TABLE'!AR32) - 1","v":9},{"$f":"RANK('SCORE TABLE'!AS32,'SCORE TABLE'!$F32:$BC32,0)+ COUNTIF('SCORE TABLE'!$F32:AS32, 'SCORE TABLE'!AS32) - 1","v":2},{"$f":"RANK('SCORE TABLE'!AT32,'SCORE TABLE'!$F32:$BC32,0)+ COUNTIF('SCORE TABLE'!$F32:AT32, 'SCORE TABLE'!AT32) - 1","v":11},{"$f":"RANK('SCORE TABLE'!AU32,'SCORE TABLE'!$F32:$BC32,0)+ COUNTIF('SCORE TABLE'!$F32:AU32, 'SCORE TABLE'!AU32) - 1","v":14},{"$f":"RANK('SCORE TABLE'!AV32,'SCORE TABLE'!$F32:$BC32,0)+ COUNTIF('SCORE TABLE'!$F32:AV32, 'SCORE TABLE'!AV32) - 1","v":30},{"$f":"RANK('SCORE TABLE'!AW32,'SCORE TABLE'!$F32:$BC32,0)+ COUNTIF('SCORE TABLE'!$F32:AW32, 'SCORE TABLE'!AW32) - 1","v":6},{"$f":"RANK('SCORE TABLE'!AX32,'SCORE TABLE'!$F32:$BC32,0)+ COUNTIF('SCORE TABLE'!$F32:AX32, 'SCORE TABLE'!AX32) - 1","v":15},{"$f":"RANK('SCORE TABLE'!AY32,'SCORE TABLE'!$F32:$BC32,0)+ COUNTIF('SCORE TABLE'!$F32:AY32, 'SCORE TABLE'!AY32) - 1","v":43},{"$f":"RANK('SCORE TABLE'!AZ32,'SCORE TABLE'!$F32:$BC32,0)+ COUNTIF('SCORE TABLE'!$F32:AZ32, 'SCORE TABLE'!AZ32) - 1","v":47},{"$f":"RANK('SCORE TABLE'!BA32,'SCORE TABLE'!$F32:$BC32,0)+ COUNTIF('SCORE TABLE'!$F32:BA32, 'SCORE TABLE'!BA32) - 1","v":44},{"$f":"RANK('SCORE TABLE'!BB32,'SCORE TABLE'!$F32:$BC32,0)+ COUNTIF('SCORE TABLE'!$F32:BB32, 'SCORE TABLE'!BB32) - 1","v":46},{"$f":"RANK('SCORE TABLE'!BC32,'SCORE TABLE'!$F32:$BC32,0)+ COUNTIF('SCORE TABLE'!$F32:BC32, 'SCORE TABLE'!BC32) - 1","v":24}]
[null,1022,"2.1.2b","Supplemental Nutrition Assistance Program (SNAP): participation rate",null,null,{"$f":"RANK('SCORE TABLE'!F33,'SCORE TABLE'!$F33:$BC33,0)+ COUNTIF('SCORE TABLE'!$F33:F33, 'SCORE TABLE'!F33) - 1","v":24},{"$f":"RANK('SCORE TABLE'!G33,'SCORE TABLE'!$F33:$BC33,0)+ COUNTIF('SCORE TABLE'!$F33:G33, 'SCORE TABLE'!G33) - 1","v":25},{"$f":"RANK('SCORE TABLE'!H33,'SCORE TABLE'!$F33:$BC33,0)+ COUNTIF('SCORE TABLE'!$F33:H33, 'SCORE TABLE'!H33) - 1","v":35},{"$f":"RANK('SCORE TABLE'!I33,'SCORE TABLE'!$F33:$BC33,0)+ COUNTIF('SCORE TABLE'!$F33:I33, 'SCORE TABLE'!I33) - 1","v":48},{"$f":"RANK('SCORE TABLE'!J33,'SCORE TABLE'!$F33:$BC33,0)+ COUNTIF('SCORE TABLE'!$F33:J33, 'SCORE TABLE'!J33) - 1","v":45},{"$f":"RANK('SCORE TABLE'!K33,'SCORE TABLE'!$F33:$BC33,0)+ COUNTIF('SCORE TABLE'!$F33:K33, 'SCORE TABLE'!K33) - 1","v":33},{"$f":"RANK('SCORE TABLE'!L33,'SCORE TABLE'!$F33:$BC33,0)+ COUNTIF('SCORE TABLE'!$F33:L33, 'SCORE TABLE'!L33) - 1","v":12},{"$f":"RANK('SCORE TABLE'!M33,'SCORE TABLE'!$F33:$BC33,0)+ COUNTIF('SCORE TABLE'!$F33:M33, 'SCORE TABLE'!M33) - 1","v":13},{"$f":"RANK('SCORE TABLE'!N33,'SCORE TABLE'!$F33:$BC33,0)+ COUNTIF('SCORE TABLE'!$F33:N33, 'SCORE TABLE'!N33) - 1","v":38},{"$f":"RANK('SCORE TABLE'!O33,'SCORE TABLE'!$F33:$BC33,0)+ COUNTIF('SCORE TABLE'!$F33:O33, 'SCORE TABLE'!O33) - 1","v":40},{"$f":"RANK('SCORE TABLE'!P33,'SCORE TABLE'!$F33:$BC33,0)+ COUNTIF('SCORE TABLE'!$F33:P33, 'SCORE TABLE'!P33) - 1","v":21},{"$f":"RANK('SCORE TABLE'!Q33,'SCORE TABLE'!$F33:$BC33,0)+ COUNTIF('SCORE TABLE'!$F33:Q33, 'SCORE TABLE'!Q33) - 1","v":28},{"$f":"RANK('SCORE TABLE'!R33,'SCORE TABLE'!$F33:$BC33,0)+ COUNTIF('SCORE TABLE'!$F33:R33, 'SCORE TABLE'!R33) - 1","v":1},{"$f":"RANK('SCORE TABLE'!S33,'SCORE TABLE'!$F33:$BC33,0)+ COUNTIF('SCORE TABLE'!$F33:S33, 'SCORE TABLE'!S33) - 1","v":39},{"$f":"RANK('SCORE TABLE'!T33,'SCORE TABLE'!$F33:$BC33,0)+ COUNTIF('SCORE TABLE'!$F33:T33, 'SCORE TABLE'!T33) - 1","v":14},{"$f":"RANK('SCORE TABLE'!U33,'SCORE TABLE'!$F33:$BC33,0)+ COUNTIF('SCORE TABLE'!$F33:U33, 'SCORE TABLE'!U33) - 1","v":42},{"$f":"RANK('SCORE TABLE'!V33,'SCORE TABLE'!$F33:$BC33,0)+ COUNTIF('SCORE TABLE'!$F33:V33, 'SCORE TABLE'!V33) - 1","v":47},{"$f":"RANK('SCORE TABLE'!W33,'SCORE TABLE'!$F33:$BC33,0)+ COUNTIF('SCORE TABLE'!$F33:W33, 'SCORE TABLE'!W33) - 1","v":22},{"$f":"RANK('SCORE TABLE'!X33,'SCORE TABLE'!$F33:$BC33,0)+ COUNTIF('SCORE TABLE'!$F33:X33, 'SCORE TABLE'!X33) - 1","v":11},{"$f":"RANK('SCORE TABLE'!Y33,'SCORE TABLE'!$F33:$BC33,0)+ COUNTIF('SCORE TABLE'!$F33:Y33, 'SCORE TABLE'!Y33) - 1","v":15},{"$f":"RANK('SCORE TABLE'!Z33,'SCORE TABLE'!$F33:$BC33,0)+ COUNTIF('SCORE TABLE'!$F33:Z33, 'SCORE TABLE'!Z33) - 1","v":2},{"$f":"RANK('SCORE TABLE'!AA33,'SCORE TABLE'!$F33:$BC33,0)+ COUNTIF('SCORE TABLE'!$F33:AA33, 'SCORE TABLE'!AA33) - 1","v":16},{"$f":"RANK('SCORE TABLE'!AB33,'SCORE TABLE'!$F33:$BC33,0)+ COUNTIF('SCORE TABLE'!$F33:AB33, 'SCORE TABLE'!AB33) - 1","v":34},{"$f":"RANK('SCORE TABLE'!AC33,'SCORE TABLE'!$F33:$BC33,0)+ COUNTIF('SCORE TABLE'!$F33:AC33, 'SCORE TABLE'!AC33) - 1","v":49},{"$f":"RANK('SCORE TABLE'!AD33,'SCORE TABLE'!$F33:$BC33,0)+ COUNTIF('SCORE TABLE'!$F33:AD33, 'SCORE TABLE'!AD33) - 1","v":17},{"$f":"RANK('SCORE TABLE'!AE33,'SCORE TABLE'!$F33:$BC33,0)+ COUNTIF('SCORE TABLE'!$F33:AE33, 'SCORE TABLE'!AE33) - 1","v":29},{"$f":"RANK('SCORE TABLE'!AF33,'SCORE TABLE'!$F33:$BC33,0)+ COUNTIF('SCORE TABLE'!$F33:AF33, 'SCORE TABLE'!AF33) - 1","v":31},{"$f":"RANK('SCORE TABLE'!AG33,'SCORE TABLE'!$F33:$BC33,0)+ COUNTIF('SCORE TABLE'!$F33:AG33, 'SCORE TABLE'!AG33) - 1","v":18},{"$f":"RANK('SCORE TABLE'!AH33,'SCORE TABLE'!$F33:$BC33,0)+ COUNTIF('SCORE TABLE'!$F33:AH33, 'SCORE TABLE'!AH33) - 1","v":30},{"$f":"RANK('SCORE TABLE'!AI33,'SCORE TABLE'!$F33:$BC33,0)+ COUNTIF('SCORE TABLE'!$F33:AI33, 'SCORE TABLE'!AI33) - 1","v":41},{"$f":"RANK('SCORE TABLE'!AJ33,'SCORE TABLE'!$F33:$BC33,0)+ COUNTIF('SCORE TABLE'!$F33:AJ33, 'SCORE TABLE'!AJ33) - 1","v":3},{"$f":"RANK('SCORE TABLE'!AK33,'SCORE TABLE'!$F33:$BC33,0)+ COUNTIF('SCORE TABLE'!$F33:AK33, 'SCORE TABLE'!AK33) - 1","v":23},{"$f":"RANK('SCORE TABLE'!AL33,'SCORE TABLE'!$F33:$BC33,0)+ COUNTIF('SCORE TABLE'!$F33:AL33, 'SCORE TABLE'!AL33) - 1","v":36},{"$f":"RANK('SCORE TABLE'!AM33,'SCORE TABLE'!$F33:$BC33,0)+ COUNTIF('SCORE TABLE'!$F33:AM33, 'SCORE TABLE'!AM33) - 1","v":46},{"$f":"RANK('SCORE TABLE'!AN33,'SCORE TABLE'!$F33:$BC33,0)+ COUNTIF('SCORE TABLE'!$F33:AN33, 'SCORE TABLE'!AN33) - 1","v":26},{"$f":"RANK('SCORE TABLE'!AO33,'SCORE TABLE'!$F33:$BC33,0)+ COUNTIF('SCORE TABLE'!$F33:AO33, 'SCORE TABLE'!AO33) - 1","v":19},{"$f":"RANK('SCORE TABLE'!AP33,'SCORE TABLE'!$F33:$BC33,0)+ COUNTIF('SCORE TABLE'!$F33:AP33, 'SCORE TABLE'!AP33) - 1","v":4},{"$f":"RANK('SCORE TABLE'!AQ33,'SCORE TABLE'!$F33:$BC33,0)+ COUNTIF('SCORE TABLE'!$F33:AQ33, 'SCORE TABLE'!AQ33) - 1","v":5},{"$f":"RANK('SCORE TABLE'!AR33,'SCORE TABLE'!$F33:$BC33,0)+ COUNTIF('SCORE TABLE'!$F33:AR33, 'SCORE TABLE'!AR33) - 1","v":6},{"$f":"RANK('SCORE TABLE'!AS33,'SCORE TABLE'!$F33:$BC33,0)+ COUNTIF('SCORE TABLE'!$F33:AS33, 'SCORE TABLE'!AS33) - 1","v":43},{"$f":"RANK('SCORE TABLE'!AT33,'SCORE TABLE'!$F33:$BC33,0)+ COUNTIF('SCORE TABLE'!$F33:AT33, 'SCORE TABLE'!AT33) - 1","v":27},{"$f":"RANK('SCORE TABLE'!AU33,'SCORE TABLE'!$F33:$BC33,0)+ COUNTIF('SCORE TABLE'!$F33:AU33, 'SCORE TABLE'!AU33) - 1","v":20},{"$f":"RANK('SCORE TABLE'!AV33,'SCORE TABLE'!$F33:$BC33,0)+ COUNTIF('SCORE TABLE'!$F33:AV33, 'SCORE TABLE'!AV33) - 1","v":44},{"$f":"RANK('SCORE TABLE'!AW33,'SCORE TABLE'!$F33:$BC33,0)+ COUNTIF('SCORE TABLE'!$F33:AW33, 'SCORE TABLE'!AW33) - 1","v":37},{"$f":"RANK('SCORE TABLE'!AX33,'SCORE TABLE'!$F33:$BC33,0)+ COUNTIF('SCORE TABLE'!$F33:AX33, 'SCORE TABLE'!AX33) - 1","v":7},{"$f":"RANK('SCORE TABLE'!AY33,'SCORE TABLE'!$F33:$BC33,0)+ COUNTIF('SCORE TABLE'!$F33:AY33, 'SCORE TABLE'!AY33) - 1","v":32},{"$f":"RANK('SCORE TABLE'!AZ33,'SCORE TABLE'!$F33:$BC33,0)+ COUNTIF('SCORE TABLE'!$F33:AZ33, 'SCORE TABLE'!AZ33) - 1","v":8},{"$f":"RANK('SCORE TABLE'!BA33,'SCORE TABLE'!$F33:$BC33,0)+ COUNTIF('SCORE TABLE'!$F33:BA33, 'SCORE TABLE'!BA33) - 1","v":9},{"$f":"RANK('SCORE TABLE'!BB33,'SCORE TABLE'!$F33:$BC33,0)+ COUNTIF('SCORE TABLE'!$F33:BB33, 'SCORE TABLE'!BB33) - 1","v":10},{"$f":"RANK('SCORE TABLE'!BC33,'SCORE TABLE'!$F33:$BC33,0)+ COUNTIF('SCORE TABLE'!$F33:BC33, 'SCORE TABLE'!BC33) - 1","v":50}]
[null,1023,2.2,"Nutrition regulation",null,null,{"$f":"RANK('SCORE TABLE'!F34,'SCORE TABLE'!$F34:$BC34,0)+ COUNTIF('SCORE TABLE'!$F34:F34, 'SCORE TABLE'!F34) - 1","v":23},{"$f":"RANK('SCORE TABLE'!G34,'SCORE TABLE'!$F34:$BC34,0)+ COUNTIF('SCORE TABLE'!$F34:G34, 'SCORE TABLE'!G34) - 1","v":24},{"$f":"RANK('SCORE TABLE'!H34,'SCORE TABLE'!$F34:$BC34,0)+ COUNTIF('SCORE TABLE'!$F34:H34, 'SCORE TABLE'!H34) - 1","v":25},{"$f":"RANK('SCORE TABLE'!I34,'SCORE TABLE'!$F34:$BC34,0)+ COUNTIF('SCORE TABLE'!$F34:I34, 'SCORE TABLE'!I34) - 1","v":1},{"$f":"RANK('SCORE TABLE'!J34,'SCORE TABLE'!$F34:$BC34,0)+ COUNTIF('SCORE TABLE'!$F34:J34, 'SCORE TABLE'!J34) - 1","v":26},{"$f":"RANK('SCORE TABLE'!K34,'SCORE TABLE'!$F34:$BC34,0)+ COUNTIF('SCORE TABLE'!$F34:K34, 'SCORE TABLE'!K34) - 1","v":2},{"$f":"RANK('SCORE TABLE'!L34,'SCORE TABLE'!$F34:$BC34,0)+ COUNTIF('SCORE TABLE'!$F34:L34, 'SCORE TABLE'!L34) - 1","v":3},{"$f":"RANK('SCORE TABLE'!M34,'SCORE TABLE'!$F34:$BC34,0)+ COUNTIF('SCORE TABLE'!$F34:M34, 'SCORE TABLE'!M34) - 1","v":27},{"$f":"RANK('SCORE TABLE'!N34,'SCORE TABLE'!$F34:$BC34,0)+ COUNTIF('SCORE TABLE'!$F34:N34, 'SCORE TABLE'!N34) - 1","v":4},{"$f":"RANK('SCORE TABLE'!O34,'SCORE TABLE'!$F34:$BC34,0)+ COUNTIF('SCORE TABLE'!$F34:O34, 'SCORE TABLE'!O34) - 1","v":28},{"$f":"RANK('SCORE TABLE'!P34,'SCORE TABLE'!$F34:$BC34,0)+ COUNTIF('SCORE TABLE'!$F34:P34, 'SCORE TABLE'!P34) - 1","v":29},{"$f":"RANK('SCORE TABLE'!Q34,'SCORE TABLE'!$F34:$BC34,0)+ COUNTIF('SCORE TABLE'!$F34:Q34, 'SCORE TABLE'!Q34) - 1","v":30},{"$f":"RANK('SCORE TABLE'!R34,'SCORE TABLE'!$F34:$BC34,0)+ COUNTIF('SCORE TABLE'!$F34:R34, 'SCORE TABLE'!R34) - 1","v":5},{"$f":"RANK('SCORE TABLE'!S34,'SCORE TABLE'!$F34:$BC34,0)+ COUNTIF('SCORE TABLE'!$F34:S34, 'SCORE TABLE'!S34) - 1","v":6},{"$f":"RANK('SCORE TABLE'!T34,'SCORE TABLE'!$F34:$BC34,0)+ COUNTIF('SCORE TABLE'!$F34:T34, 'SCORE TABLE'!T34) - 1","v":7},{"$f":"RANK('SCORE TABLE'!U34,'SCORE TABLE'!$F34:$BC34,0)+ COUNTIF('SCORE TABLE'!$F34:U34, 'SCORE TABLE'!U34) - 1","v":31},{"$f":"RANK('SCORE TABLE'!V34,'SCORE TABLE'!$F34:$BC34,0)+ COUNTIF('SCORE TABLE'!$F34:V34, 'SCORE TABLE'!V34) - 1","v":8},{"$f":"RANK('SCORE TABLE'!W34,'SCORE TABLE'!$F34:$BC34,0)+ COUNTIF('SCORE TABLE'!$F34:W34, 'SCORE TABLE'!W34) - 1","v":32},{"$f":"RANK('SCORE TABLE'!X34,'SCORE TABLE'!$F34:$BC34,0)+ COUNTIF('SCORE TABLE'!$F34:X34, 'SCORE TABLE'!X34) - 1","v":9},{"$f":"RANK('SCORE TABLE'!Y34,'SCORE TABLE'!$F34:$BC34,0)+ COUNTIF('SCORE TABLE'!$F34:Y34, 'SCORE TABLE'!Y34) - 1","v":10},{"$f":"RANK('SCORE TABLE'!Z34,'SCORE TABLE'!$F34:$BC34,0)+ COUNTIF('SCORE TABLE'!$F34:Z34, 'SCORE TABLE'!Z34) - 1","v":33},{"$f":"RANK('SCORE TABLE'!AA34,'SCORE TABLE'!$F34:$BC34,0)+ COUNTIF('SCORE TABLE'!$F34:AA34, 'SCORE TABLE'!AA34) - 1","v":34},{"$f":"RANK('SCORE TABLE'!AB34,'SCORE TABLE'!$F34:$BC34,0)+ COUNTIF('SCORE TABLE'!$F34:AB34, 'SCORE TABLE'!AB34) - 1","v":11},{"$f":"RANK('SCORE TABLE'!AC34,'SCORE TABLE'!$F34:$BC34,0)+ COUNTIF('SCORE TABLE'!$F34:AC34, 'SCORE TABLE'!AC34) - 1","v":35},{"$f":"RANK('SCORE TABLE'!AD34,'SCORE TABLE'!$F34:$BC34,0)+ COUNTIF('SCORE TABLE'!$F34:AD34, 'SCORE TABLE'!AD34) - 1","v":36},{"$f":"RANK('SCORE TABLE'!AE34,'SCORE TABLE'!$F34:$BC34,0)+ COUNTIF('SCORE TABLE'!$F34:AE34, 'SCORE TABLE'!AE34) - 1","v":37},{"$f":"RANK('SCORE TABLE'!AF34,'SCORE TABLE'!$F34:$BC34,0)+ COUNTIF('SCORE TABLE'!$F34:AF34, 'SCORE TABLE'!AF34) - 1","v":38},{"$f":"RANK('SCORE TABLE'!AG34,'SCORE TABLE'!$F34:$BC34,0)+ COUNTIF('SCORE TABLE'!$F34:AG34, 'SCORE TABLE'!AG34) - 1","v":39},{"$f":"RANK('SCORE TABLE'!AH34,'SCORE TABLE'!$F34:$BC34,0)+ COUNTIF('SCORE TABLE'!$F34:AH34, 'SCORE TABLE'!AH34) - 1","v":40},{"$f":"RANK('SCORE TABLE'!AI34,'SCORE TABLE'!$F34:$BC34,0)+ COUNTIF('SCORE TABLE'!$F34:AI34, 'SCORE TABLE'!AI34) - 1","v":41},{"$f":"RANK('SCORE TABLE'!AJ34,'SCORE TABLE'!$F34:$BC34,0)+ COUNTIF('SCORE TABLE'!$F34:AJ34, 'SCORE TABLE'!AJ34) - 1","v":42},{"$f":"RANK('SCORE TABLE'!AK34,'SCORE TABLE'!$F34:$BC34,0)+ COUNTIF('SCORE TABLE'!$F34:AK34, 'SCORE TABLE'!AK34) - 1","v":12},{"$f":"RANK('SCORE TABLE'!AL34,'SCORE TABLE'!$F34:$BC34,0)+ COUNTIF('SCORE TABLE'!$F34:AL34, 'SCORE TABLE'!AL34) - 1","v":13},{"$f":"RANK('SCORE TABLE'!AM34,'SCORE TABLE'!$F34:$BC34,0)+ COUNTIF('SCORE TABLE'!$F34:AM34, 'SCORE TABLE'!AM34) - 1","v":14},{"$f":"RANK('SCORE TABLE'!AN34,'SCORE TABLE'!$F34:$BC34,0)+ COUNTIF('SCORE TABLE'!$F34:AN34, 'SCORE TABLE'!AN34) - 1","v":18},{"$f":"RANK('SCORE TABLE'!AO34,'SCORE TABLE'!$F34:$BC34,0)+ COUNTIF('SCORE TABLE'!$F34:AO34, 'SCORE TABLE'!AO34) - 1","v":43},{"$f":"RANK('SCORE TABLE'!AP34,'SCORE TABLE'!$F34:$BC34,0)+ COUNTIF('SCORE TABLE'!$F34:AP34, 'SCORE TABLE'!AP34) - 1","v":44},{"$f":"RANK('SCORE TABLE'!AQ34,'SCORE TABLE'!$F34:$BC34,0)+ COUNTIF('SCORE TABLE'!$F34:AQ34, 'SCORE TABLE'!AQ34) - 1","v":45},{"$f":"RANK('SCORE TABLE'!AR34,'SCORE TABLE'!$F34:$BC34,0)+ COUNTIF('SCORE TABLE'!$F34:AR34, 'SCORE TABLE'!AR34) - 1","v":15},{"$f":"RANK('SCORE TABLE'!AS34,'SCORE TABLE'!$F34:$BC34,0)+ COUNTIF('SCORE TABLE'!$F34:AS34, 'SCORE TABLE'!AS34) - 1","v":46},{"$f":"RANK('SCORE TABLE'!AT34,'SCORE TABLE'!$F34:$BC34,0)+ COUNTIF('SCORE TABLE'!$F34:AT34, 'SCORE TABLE'!AT34) - 1","v":47},{"$f":"RANK('SCORE TABLE'!AU34,'SCORE TABLE'!$F34:$BC34,0)+ COUNTIF('SCORE TABLE'!$F34:AU34, 'SCORE TABLE'!AU34) - 1","v":19},{"$f":"RANK('SCORE TABLE'!AV34,'SCORE TABLE'!$F34:$BC34,0)+ COUNTIF('SCORE TABLE'!$F34:AV34, 'SCORE TABLE'!AV34) - 1","v":16},{"$f":"RANK('SCORE TABLE'!AW34,'SCORE TABLE'!$F34:$BC34,0)+ COUNTIF('SCORE TABLE'!$F34:AW34, 'SCORE TABLE'!AW34) - 1","v":48},{"$f":"RANK('SCORE TABLE'!AX34,'SCORE TABLE'!$F34:$BC34,0)+ COUNTIF('SCORE TABLE'!$F34:AX34, 'SCORE TABLE'!AX34) - 1","v":20},{"$f":"RANK('SCORE TABLE'!AY34,'SCORE TABLE'!$F34:$BC34,0)+ COUNTIF('SCORE TABLE'!$F34:AY34, 'SCORE TABLE'!AY34) - 1","v":21},{"$f":"RANK('SCORE TABLE'!AZ34,'SCORE TABLE'!$F34:$BC34,0)+ COUNTIF('SCORE TABLE'!$F34:AZ34, 'SCORE TABLE'!AZ34) - 1","v":22},{"$f":"RANK('SCORE TABLE'!BA34,'SCORE TABLE'!$F34:$BC34,0)+ COUNTIF('SCORE TABLE'!$F34:BA34, 'SCORE TABLE'!BA34) - 1","v":49},{"$f":"RANK('SCORE TABLE'!BB34,'SCORE TABLE'!$F34:$BC34,0)+ COUNTIF('SCORE TABLE'!$F34:BB34, 'SCORE TABLE'!BB34) - 1","v":17},{"$f":"RANK('SCORE TABLE'!BC34,'SCORE TABLE'!$F34:$BC34,0)+ COUNTIF('SCORE TABLE'!$F34:BC34, 'SCORE TABLE'!BC34) - 1","v":50}]
[null,1024,"2.2.1","Taxes on unhealthy food and beverages",null,null,{"$f":"RANK('SCORE TABLE'!F35,'SCORE TABLE'!$F35:$BC35,0)+ COUNTIF('SCORE TABLE'!$F35:F35, 'SCORE TABLE'!F35) - 1","v":23},{"$f":"RANK('SCORE TABLE'!G35,'SCORE TABLE'!$F35:$BC35,0)+ COUNTIF('SCORE TABLE'!$F35:G35, 'SCORE TABLE'!G35) - 1","v":24},{"$f":"RANK('SCORE TABLE'!H35,'SCORE TABLE'!$F35:$BC35,0)+ COUNTIF('SCORE TABLE'!$F35:H35, 'SCORE TABLE'!H35) - 1","v":25},{"$f":"RANK('SCORE TABLE'!I35,'SCORE TABLE'!$F35:$BC35,0)+ COUNTIF('SCORE TABLE'!$F35:I35, 'SCORE TABLE'!I35) - 1","v":1},{"$f":"RANK('SCORE TABLE'!J35,'SCORE TABLE'!$F35:$BC35,0)+ COUNTIF('SCORE TABLE'!$F35:J35, 'SCORE TABLE'!J35) - 1","v":26},{"$f":"RANK('SCORE TABLE'!K35,'SCORE TABLE'!$F35:$BC35,0)+ COUNTIF('SCORE TABLE'!$F35:K35, 'SCORE TABLE'!K35) - 1","v":2},{"$f":"RANK('SCORE TABLE'!L35,'SCORE TABLE'!$F35:$BC35,0)+ COUNTIF('SCORE TABLE'!$F35:L35, 'SCORE TABLE'!L35) - 1","v":3},{"$f":"RANK('SCORE TABLE'!M35,'SCORE TABLE'!$F35:$BC35,0)+ COUNTIF('SCORE TABLE'!$F35:M35, 'SCORE TABLE'!M35) - 1","v":27},{"$f":"RANK('SCORE TABLE'!N35,'SCORE TABLE'!$F35:$BC35,0)+ COUNTIF('SCORE TABLE'!$F35:N35, 'SCORE TABLE'!N35) - 1","v":4},{"$f":"RANK('SCORE TABLE'!O35,'SCORE TABLE'!$F35:$BC35,0)+ COUNTIF('SCORE TABLE'!$F35:O35, 'SCORE TABLE'!O35) - 1","v":28},{"$f":"RANK('SCORE TABLE'!P35,'SCORE TABLE'!$F35:$BC35,0)+ COUNTIF('SCORE TABLE'!$F35:P35, 'SCORE TABLE'!P35) - 1","v":29},{"$f":"RANK('SCORE TABLE'!Q35,'SCORE TABLE'!$F35:$BC35,0)+ COUNTIF('SCORE TABLE'!$F35:Q35, 'SCORE TABLE'!Q35) - 1","v":30},{"$f":"RANK('SCORE TABLE'!R35,'SCORE TABLE'!$F35:$BC35,0)+ COUNTIF('SCORE TABLE'!$F35:R35, 'SCORE TABLE'!R35) - 1","v":5},{"$f":"RANK('SCORE TABLE'!S35,'SCORE TABLE'!$F35:$BC35,0)+ COUNTIF('SCORE TABLE'!$F35:S35, 'SCORE TABLE'!S35) - 1","v":6},{"$f":"RANK('SCORE TABLE'!T35,'SCORE TABLE'!$F35:$BC35,0)+ COUNTIF('SCORE TABLE'!$F35:T35, 'SCORE TABLE'!T35) - 1","v":7},{"$f":"RANK('SCORE TABLE'!U35,'SCORE TABLE'!$F35:$BC35,0)+ COUNTIF('SCORE TABLE'!$F35:U35, 'SCORE TABLE'!U35) - 1","v":31},{"$f":"RANK('SCORE TABLE'!V35,'SCORE TABLE'!$F35:$BC35,0)+ COUNTIF('SCORE TABLE'!$F35:V35, 'SCORE TABLE'!V35) - 1","v":8},{"$f":"RANK('SCORE TABLE'!W35,'SCORE TABLE'!$F35:$BC35,0)+ COUNTIF('SCORE TABLE'!$F35:W35, 'SCORE TABLE'!W35) - 1","v":32},{"$f":"RANK('SCORE TABLE'!X35,'SCORE TABLE'!$F35:$BC35,0)+ COUNTIF('SCORE TABLE'!$F35:X35, 'SCORE TABLE'!X35) - 1","v":9},{"$f":"RANK('SCORE TABLE'!Y35,'SCORE TABLE'!$F35:$BC35,0)+ COUNTIF('SCORE TABLE'!$F35:Y35, 'SCORE TABLE'!Y35) - 1","v":10},{"$f":"RANK('SCORE TABLE'!Z35,'SCORE TABLE'!$F35:$BC35,0)+ COUNTIF('SCORE TABLE'!$F35:Z35, 'SCORE TABLE'!Z35) - 1","v":33},{"$f":"RANK('SCORE TABLE'!AA35,'SCORE TABLE'!$F35:$BC35,0)+ COUNTIF('SCORE TABLE'!$F35:AA35, 'SCORE TABLE'!AA35) - 1","v":34},{"$f":"RANK('SCORE TABLE'!AB35,'SCORE TABLE'!$F35:$BC35,0)+ COUNTIF('SCORE TABLE'!$F35:AB35, 'SCORE TABLE'!AB35) - 1","v":11},{"$f":"RANK('SCORE TABLE'!AC35,'SCORE TABLE'!$F35:$BC35,0)+ COUNTIF('SCORE TABLE'!$F35:AC35, 'SCORE TABLE'!AC35) - 1","v":35},{"$f":"RANK('SCORE TABLE'!AD35,'SCORE TABLE'!$F35:$BC35,0)+ COUNTIF('SCORE TABLE'!$F35:AD35, 'SCORE TABLE'!AD35) - 1","v":36},{"$f":"RANK('SCORE TABLE'!AE35,'SCORE TABLE'!$F35:$BC35,0)+ COUNTIF('SCORE TABLE'!$F35:AE35, 'SCORE TABLE'!AE35) - 1","v":37},{"$f":"RANK('SCORE TABLE'!AF35,'SCORE TABLE'!$F35:$BC35,0)+ COUNTIF('SCORE TABLE'!$F35:AF35, 'SCORE TABLE'!AF35) - 1","v":38},{"$f":"RANK('SCORE TABLE'!AG35,'SCORE TABLE'!$F35:$BC35,0)+ COUNTIF('SCORE TABLE'!$F35:AG35, 'SCORE TABLE'!AG35) - 1","v":39},{"$f":"RANK('SCORE TABLE'!AH35,'SCORE TABLE'!$F35:$BC35,0)+ COUNTIF('SCORE TABLE'!$F35:AH35, 'SCORE TABLE'!AH35) - 1","v":40},{"$f":"RANK('SCORE TABLE'!AI35,'SCORE TABLE'!$F35:$BC35,0)+ COUNTIF('SCORE TABLE'!$F35:AI35, 'SCORE TABLE'!AI35) - 1","v":41},{"$f":"RANK('SCORE TABLE'!AJ35,'SCORE TABLE'!$F35:$BC35,0)+ COUNTIF('SCORE TABLE'!$F35:AJ35, 'SCORE TABLE'!AJ35) - 1","v":42},{"$f":"RANK('SCORE TABLE'!AK35,'SCORE TABLE'!$F35:$BC35,0)+ COUNTIF('SCORE TABLE'!$F35:AK35, 'SCORE TABLE'!AK35) - 1","v":12},{"$f":"RANK('SCORE TABLE'!AL35,'SCORE TABLE'!$F35:$BC35,0)+ COUNTIF('SCORE TABLE'!$F35:AL35, 'SCORE TABLE'!AL35) - 1","v":13},{"$f":"RANK('SCORE TABLE'!AM35,'SCORE TABLE'!$F35:$BC35,0)+ COUNTIF('SCORE TABLE'!$F35:AM35, 'SCORE TABLE'!AM35) - 1","v":14},{"$f":"RANK('SCORE TABLE'!AN35,'SCORE TABLE'!$F35:$BC35,0)+ COUNTIF('SCORE TABLE'!$F35:AN35, 'SCORE TABLE'!AN35) - 1","v":18},{"$f":"RANK('SCORE TABLE'!AO35,'SCORE TABLE'!$F35:$BC35,0)+ COUNTIF('SCORE TABLE'!$F35:AO35, 'SCORE TABLE'!AO35) - 1","v":43},{"$f":"RANK('SCORE TABLE'!AP35,'SCORE TABLE'!$F35:$BC35,0)+ COUNTIF('SCORE TABLE'!$F35:AP35, 'SCORE TABLE'!AP35) - 1","v":44},{"$f":"RANK('SCORE TABLE'!AQ35,'SCORE TABLE'!$F35:$BC35,0)+ COUNTIF('SCORE TABLE'!$F35:AQ35, 'SCORE TABLE'!AQ35) - 1","v":45},{"$f":"RANK('SCORE TABLE'!AR35,'SCORE TABLE'!$F35:$BC35,0)+ COUNTIF('SCORE TABLE'!$F35:AR35, 'SCORE TABLE'!AR35) - 1","v":15},{"$f":"RANK('SCORE TABLE'!AS35,'SCORE TABLE'!$F35:$BC35,0)+ COUNTIF('SCORE TABLE'!$F35:AS35, 'SCORE TABLE'!AS35) - 1","v":46},{"$f":"RANK('SCORE TABLE'!AT35,'SCORE TABLE'!$F35:$BC35,0)+ COUNTIF('SCORE TABLE'!$F35:AT35, 'SCORE TABLE'!AT35) - 1","v":47},{"$f":"RANK('SCORE TABLE'!AU35,'SCORE TABLE'!$F35:$BC35,0)+ COUNTIF('SCORE TABLE'!$F35:AU35, 'SCORE TABLE'!AU35) - 1","v":19},{"$f":"RANK('SCORE TABLE'!AV35,'SCORE TABLE'!$F35:$BC35,0)+ COUNTIF('SCORE TABLE'!$F35:AV35, 'SCORE TABLE'!AV35) - 1","v":16},{"$f":"RANK('SCORE TABLE'!AW35,'SCORE TABLE'!$F35:$BC35,0)+ COUNTIF('SCORE TABLE'!$F35:AW35, 'SCORE TABLE'!AW35) - 1","v":48},{"$f":"RANK('SCORE TABLE'!AX35,'SCORE TABLE'!$F35:$BC35,0)+ COUNTIF('SCORE TABLE'!$F35:AX35, 'SCORE TABLE'!AX35) - 1","v":20},{"$f":"RANK('SCORE TABLE'!AY35,'SCORE TABLE'!$F35:$BC35,0)+ COUNTIF('SCORE TABLE'!$F35:AY35, 'SCORE TABLE'!AY35) - 1","v":21},{"$f":"RANK('SCORE TABLE'!AZ35,'SCORE TABLE'!$F35:$BC35,0)+ COUNTIF('SCORE TABLE'!$F35:AZ35, 'SCORE TABLE'!AZ35) - 1","v":22},{"$f":"RANK('SCORE TABLE'!BA35,'SCORE TABLE'!$F35:$BC35,0)+ COUNTIF('SCORE TABLE'!$F35:BA35, 'SCORE TABLE'!BA35) - 1","v":49},{"$f":"RANK('SCORE TABLE'!BB35,'SCORE TABLE'!$F35:$BC35,0)+ COUNTIF('SCORE TABLE'!$F35:BB35, 'SCORE TABLE'!BB35) - 1","v":17},{"$f":"RANK('SCORE TABLE'!BC35,'SCORE TABLE'!$F35:$BC35,0)+ COUNTIF('SCORE TABLE'!$F35:BC35, 'SCORE TABLE'!BC35) - 1","v":50}]
[null,1025,2.3,"Nutrition in schools",null,null,{"$f":"RANK('SCORE TABLE'!F36,'SCORE TABLE'!$F36:$BC36,0)+ COUNTIF('SCORE TABLE'!$F36:F36, 'SCORE TABLE'!F36) - 1","v":28},{"$f":"RANK('SCORE TABLE'!G36,'SCORE TABLE'!$F36:$BC36,0)+ COUNTIF('SCORE TABLE'!$F36:G36, 'SCORE TABLE'!G36) - 1","v":29},{"$f":"RANK('SCORE TABLE'!H36,'SCORE TABLE'!$F36:$BC36,0)+ COUNTIF('SCORE TABLE'!$F36:H36, 'SCORE TABLE'!H36) - 1","v":10},{"$f":"RANK('SCORE TABLE'!I36,'SCORE TABLE'!$F36:$BC36,0)+ COUNTIF('SCORE TABLE'!$F36:I36, 'SCORE TABLE'!I36) - 1","v":11},{"$f":"RANK('SCORE TABLE'!J36,'SCORE TABLE'!$F36:$BC36,0)+ COUNTIF('SCORE TABLE'!$F36:J36, 'SCORE TABLE'!J36) - 1","v":1},{"$f":"RANK('SCORE TABLE'!K36,'SCORE TABLE'!$F36:$BC36,0)+ COUNTIF('SCORE TABLE'!$F36:K36, 'SCORE TABLE'!K36) - 1","v":30},{"$f":"RANK('SCORE TABLE'!L36,'SCORE TABLE'!$F36:$BC36,0)+ COUNTIF('SCORE TABLE'!$F36:L36, 'SCORE TABLE'!L36) - 1","v":48},{"$f":"RANK('SCORE TABLE'!M36,'SCORE TABLE'!$F36:$BC36,0)+ COUNTIF('SCORE TABLE'!$F36:M36, 'SCORE TABLE'!M36) - 1","v":31},{"$f":"RANK('SCORE TABLE'!N36,'SCORE TABLE'!$F36:$BC36,0)+ COUNTIF('SCORE TABLE'!$F36:N36, 'SCORE TABLE'!N36) - 1","v":32},{"$f":"RANK('SCORE TABLE'!O36,'SCORE TABLE'!$F36:$BC36,0)+ COUNTIF('SCORE TABLE'!$F36:O36, 'SCORE TABLE'!O36) - 1","v":12},{"$f":"RANK('SCORE TABLE'!P36,'SCORE TABLE'!$F36:$BC36,0)+ COUNTIF('SCORE TABLE'!$F36:P36, 'SCORE TABLE'!P36) - 1","v":13},{"$f":"RANK('SCORE TABLE'!Q36,'SCORE TABLE'!$F36:$BC36,0)+ COUNTIF('SCORE TABLE'!$F36:Q36, 'SCORE TABLE'!Q36) - 1","v":33},{"$f":"RANK('SCORE TABLE'!R36,'SCORE TABLE'!$F36:$BC36,0)+ COUNTIF('SCORE TABLE'!$F36:R36, 'SCORE TABLE'!R36) - 1","v":14},{"$f":"RANK('SCORE TABLE'!S36,'SCORE TABLE'!$F36:$BC36,0)+ COUNTIF('SCORE TABLE'!$F36:S36, 'SCORE TABLE'!S36) - 1","v":34},{"$f":"RANK('SCORE TABLE'!T36,'SCORE TABLE'!$F36:$BC36,0)+ COUNTIF('SCORE TABLE'!$F36:T36, 'SCORE TABLE'!T36) - 1","v":2},{"$f":"RANK('SCORE TABLE'!U36,'SCORE TABLE'!$F36:$BC36,0)+ COUNTIF('SCORE TABLE'!$F36:U36, 'SCORE TABLE'!U36) - 1","v":35},{"$f":"RANK('SCORE TABLE'!V36,'SCORE TABLE'!$F36:$BC36,0)+ COUNTIF('SCORE TABLE'!$F36:V36, 'SCORE TABLE'!V36) - 1","v":15},{"$f":"RANK('SCORE TABLE'!W36,'SCORE TABLE'!$F36:$BC36,0)+ COUNTIF('SCORE TABLE'!$F36:W36, 'SCORE TABLE'!W36) - 1","v":16},{"$f":"RANK('SCORE TABLE'!X36,'SCORE TABLE'!$F36:$BC36,0)+ COUNTIF('SCORE TABLE'!$F36:X36, 'SCORE TABLE'!X36) - 1","v":36},{"$f":"RANK('SCORE TABLE'!Y36,'SCORE TABLE'!$F36:$BC36,0)+ COUNTIF('SCORE TABLE'!$F36:Y36, 'SCORE TABLE'!Y36) - 1","v":17},{"$f":"RANK('SCORE TABLE'!Z36,'SCORE TABLE'!$F36:$BC36,0)+ COUNTIF('SCORE TABLE'!$F36:Z36, 'SCORE TABLE'!Z36) - 1","v":3},{"$f":"RANK('SCORE TABLE'!AA36,'SCORE TABLE'!$F36:$BC36,0)+ COUNTIF('SCORE TABLE'!$F36:AA36, 'SCORE TABLE'!AA36) - 1","v":4},{"$f":"RANK('SCORE TABLE'!AB36,'SCORE TABLE'!$F36:$BC36,0)+ COUNTIF('SCORE TABLE'!$F36:AB36, 'SCORE TABLE'!AB36) - 1","v":5},{"$f":"RANK('SCORE TABLE'!AC36,'SCORE TABLE'!$F36:$BC36,0)+ COUNTIF('SCORE TABLE'!$F36:AC36, 'SCORE TABLE'!AC36) - 1","v":37},{"$f":"RANK('SCORE TABLE'!AD36,'SCORE TABLE'!$F36:$BC36,0)+ COUNTIF('SCORE TABLE'!$F36:AD36, 'SCORE TABLE'!AD36) - 1","v":38},{"$f":"RANK('SCORE TABLE'!AE36,'SCORE TABLE'!$F36:$BC36,0)+ COUNTIF('SCORE TABLE'!$F36:AE36, 'SCORE TABLE'!AE36) - 1","v":49},{"$f":"RANK('SCORE TABLE'!AF36,'SCORE TABLE'!$F36:$BC36,0)+ COUNTIF('SCORE TABLE'!$F36:AF36, 'SCORE TABLE'!AF36) - 1","v":39},{"$f":"RANK('SCORE TABLE'!AG36,'SCORE TABLE'!$F36:$BC36,0)+ COUNTIF('SCORE TABLE'!$F36:AG36, 'SCORE TABLE'!AG36) - 1","v":18},{"$f":"RANK('SCORE TABLE'!AH36,'SCORE TABLE'!$F36:$BC36,0)+ COUNTIF('SCORE TABLE'!$F36:AH36, 'SCORE TABLE'!AH36) - 1","v":46},{"$f":"RANK('SCORE TABLE'!AI36,'SCORE TABLE'!$F36:$BC36,0)+ COUNTIF('SCORE TABLE'!$F36:AI36, 'SCORE TABLE'!AI36) - 1","v":19},{"$f":"RANK('SCORE TABLE'!AJ36,'SCORE TABLE'!$F36:$BC36,0)+ COUNTIF('SCORE TABLE'!$F36:AJ36, 'SCORE TABLE'!AJ36) - 1","v":6},{"$f":"RANK('SCORE TABLE'!AK36,'SCORE TABLE'!$F36:$BC36,0)+ COUNTIF('SCORE TABLE'!$F36:AK36, 'SCORE TABLE'!AK36) - 1","v":40},{"$f":"RANK('SCORE TABLE'!AL36,'SCORE TABLE'!$F36:$BC36,0)+ COUNTIF('SCORE TABLE'!$F36:AL36, 'SCORE TABLE'!AL36) - 1","v":20},{"$f":"RANK('SCORE TABLE'!AM36,'SCORE TABLE'!$F36:$BC36,0)+ COUNTIF('SCORE TABLE'!$F36:AM36, 'SCORE TABLE'!AM36) - 1","v":50},{"$f":"RANK('SCORE TABLE'!AN36,'SCORE TABLE'!$F36:$BC36,0)+ COUNTIF('SCORE TABLE'!$F36:AN36, 'SCORE TABLE'!AN36) - 1","v":21},{"$f":"RANK('SCORE TABLE'!AO36,'SCORE TABLE'!$F36:$BC36,0)+ COUNTIF('SCORE TABLE'!$F36:AO36, 'SCORE TABLE'!AO36) - 1","v":41},{"$f":"RANK('SCORE TABLE'!AP36,'SCORE TABLE'!$F36:$BC36,0)+ COUNTIF('SCORE TABLE'!$F36:AP36, 'SCORE TABLE'!AP36) - 1","v":22},{"$f":"RANK('SCORE TABLE'!AQ36,'SCORE TABLE'!$F36:$BC36,0)+ COUNTIF('SCORE TABLE'!$F36:AQ36, 'SCORE TABLE'!AQ36) - 1","v":7},{"$f":"RANK('SCORE TABLE'!AR36,'SCORE TABLE'!$F36:$BC36,0)+ COUNTIF('SCORE TABLE'!$F36:AR36, 'SCORE TABLE'!AR36) - 1","v":47},{"$f":"RANK('SCORE TABLE'!AS36,'SCORE TABLE'!$F36:$BC36,0)+ COUNTIF('SCORE TABLE'!$F36:AS36, 'SCORE TABLE'!AS36) - 1","v":23},{"$f":"RANK('SCORE TABLE'!AT36,'SCORE TABLE'!$F36:$BC36,0)+ COUNTIF('SCORE TABLE'!$F36:AT36, 'SCORE TABLE'!AT36) - 1","v":42},{"$f":"RANK('SCORE TABLE'!AU36,'SCORE TABLE'!$F36:$BC36,0)+ COUNTIF('SCORE TABLE'!$F36:AU36, 'SCORE TABLE'!AU36) - 1","v":24},{"$f":"RANK('SCORE TABLE'!AV36,'SCORE TABLE'!$F36:$BC36,0)+ COUNTIF('SCORE TABLE'!$F36:AV36, 'SCORE TABLE'!AV36) - 1","v":25},{"$f":"RANK('SCORE TABLE'!AW36,'SCORE TABLE'!$F36:$BC36,0)+ COUNTIF('SCORE TABLE'!$F36:AW36, 'SCORE TABLE'!AW36) - 1","v":43},{"$f":"RANK('SCORE TABLE'!AX36,'SCORE TABLE'!$F36:$BC36,0)+ COUNTIF('SCORE TABLE'!$F36:AX36, 'SCORE TABLE'!AX36) - 1","v":8},{"$f":"RANK('SCORE TABLE'!AY36,'SCORE TABLE'!$F36:$BC36,0)+ COUNTIF('SCORE TABLE'!$F36:AY36, 'SCORE TABLE'!AY36) - 1","v":26},{"$f":"RANK('SCORE TABLE'!AZ36,'SCORE TABLE'!$F36:$BC36,0)+ COUNTIF('SCORE TABLE'!$F36:AZ36, 'SCORE TABLE'!AZ36) - 1","v":9},{"$f":"RANK('SCORE TABLE'!BA36,'SCORE TABLE'!$F36:$BC36,0)+ COUNTIF('SCORE TABLE'!$F36:BA36, 'SCORE TABLE'!BA36) - 1","v":27},{"$f":"RANK('SCORE TABLE'!BB36,'SCORE TABLE'!$F36:$BC36,0)+ COUNTIF('SCORE TABLE'!$F36:BB36, 'SCORE TABLE'!BB36) - 1","v":44},{"$f":"RANK('SCORE TABLE'!BC36,'SCORE TABLE'!$F36:$BC36,0)+ COUNTIF('SCORE TABLE'!$F36:BC36, 'SCORE TABLE'!BC36) - 1","v":45}]
[null,1026,"2.3.1","School nutrition standards",null,null,{"$f":"RANK('SCORE TABLE'!F37,'SCORE TABLE'!$F37:$BC37,0)+ COUNTIF('SCORE TABLE'!$F37:F37, 'SCORE TABLE'!F37) - 1","v":1},{"$f":"RANK('SCORE TABLE'!G37,'SCORE TABLE'!$F37:$BC37,0)+ COUNTIF('SCORE TABLE'!$F37:G37, 'SCORE TABLE'!G37) - 1","v":2},{"$f":"RANK('SCORE TABLE'!H37,'SCORE TABLE'!$F37:$BC37,0)+ COUNTIF('SCORE TABLE'!$F37:H37, 'SCORE TABLE'!H37) - 1","v":3},{"$f":"RANK('SCORE TABLE'!I37,'SCORE TABLE'!$F37:$BC37,0)+ COUNTIF('SCORE TABLE'!$F37:I37, 'SCORE TABLE'!I37) - 1","v":4},{"$f":"RANK('SCORE TABLE'!J37,'SCORE TABLE'!$F37:$BC37,0)+ COUNTIF('SCORE TABLE'!$F37:J37, 'SCORE TABLE'!J37) - 1","v":5},{"$f":"RANK('SCORE TABLE'!K37,'SCORE TABLE'!$F37:$BC37,0)+ COUNTIF('SCORE TABLE'!$F37:K37, 'SCORE TABLE'!K37) - 1","v":6},{"$f":"RANK('SCORE TABLE'!L37,'SCORE TABLE'!$F37:$BC37,0)+ COUNTIF('SCORE TABLE'!$F37:L37, 'SCORE TABLE'!L37) - 1","v":7},{"$f":"RANK('SCORE TABLE'!M37,'SCORE TABLE'!$F37:$BC37,0)+ COUNTIF('SCORE TABLE'!$F37:M37, 'SCORE TABLE'!M37) - 1","v":8},{"$f":"RANK('SCORE TABLE'!N37,'SCORE TABLE'!$F37:$BC37,0)+ COUNTIF('SCORE TABLE'!$F37:N37, 'SCORE TABLE'!N37) - 1","v":9},{"$f":"RANK('SCORE TABLE'!O37,'SCORE TABLE'!$F37:$BC37,0)+ COUNTIF('SCORE TABLE'!$F37:O37, 'SCORE TABLE'!O37) - 1","v":10},{"$f":"RANK('SCORE TABLE'!P37,'SCORE TABLE'!$F37:$BC37,0)+ COUNTIF('SCORE TABLE'!$F37:P37, 'SCORE TABLE'!P37) - 1","v":11},{"$f":"RANK('SCORE TABLE'!Q37,'SCORE TABLE'!$F37:$BC37,0)+ COUNTIF('SCORE TABLE'!$F37:Q37, 'SCORE TABLE'!Q37) - 1","v":12},{"$f":"RANK('SCORE TABLE'!R37,'SCORE TABLE'!$F37:$BC37,0)+ COUNTIF('SCORE TABLE'!$F37:R37, 'SCORE TABLE'!R37) - 1","v":13},{"$f":"RANK('SCORE TABLE'!S37,'SCORE TABLE'!$F37:$BC37,0)+ COUNTIF('SCORE TABLE'!$F37:S37, 'SCORE TABLE'!S37) - 1","v":14},{"$f":"RANK('SCORE TABLE'!T37,'SCORE TABLE'!$F37:$BC37,0)+ COUNTIF('SCORE TABLE'!$F37:T37, 'SCORE TABLE'!T37) - 1","v":15},{"$f":"RANK('SCORE TABLE'!U37,'SCORE TABLE'!$F37:$BC37,0)+ COUNTIF('SCORE TABLE'!$F37:U37, 'SCORE TABLE'!U37) - 1","v":16},{"$f":"RANK('SCORE TABLE'!V37,'SCORE TABLE'!$F37:$BC37,0)+ COUNTIF('SCORE TABLE'!$F37:V37, 'SCORE TABLE'!V37) - 1","v":17},{"$f":"RANK('SCORE TABLE'!W37,'SCORE TABLE'!$F37:$BC37,0)+ COUNTIF('SCORE TABLE'!$F37:W37, 'SCORE TABLE'!W37) - 1","v":18},{"$f":"RANK('SCORE TABLE'!X37,'SCORE TABLE'!$F37:$BC37,0)+ COUNTIF('SCORE TABLE'!$F37:X37, 'SCORE TABLE'!X37) - 1","v":19},{"$f":"RANK('SCORE TABLE'!Y37,'SCORE TABLE'!$F37:$BC37,0)+ COUNTIF('SCORE TABLE'!$F37:Y37, 'SCORE TABLE'!Y37) - 1","v":20},{"$f":"RANK('SCORE TABLE'!Z37,'SCORE TABLE'!$F37:$BC37,0)+ COUNTIF('SCORE TABLE'!$F37:Z37, 'SCORE TABLE'!Z37) - 1","v":21},{"$f":"RANK('SCORE TABLE'!AA37,'SCORE TABLE'!$F37:$BC37,0)+ COUNTIF('SCORE TABLE'!$F37:AA37, 'SCORE TABLE'!AA37) - 1","v":22},{"$f":"RANK('SCORE TABLE'!AB37,'SCORE TABLE'!$F37:$BC37,0)+ COUNTIF('SCORE TABLE'!$F37:AB37, 'SCORE TABLE'!AB37) - 1","v":23},{"$f":"RANK('SCORE TABLE'!AC37,'SCORE TABLE'!$F37:$BC37,0)+ COUNTIF('SCORE TABLE'!$F37:AC37, 'SCORE TABLE'!AC37) - 1","v":24},{"$f":"RANK('SCORE TABLE'!AD37,'SCORE TABLE'!$F37:$BC37,0)+ COUNTIF('SCORE TABLE'!$F37:AD37, 'SCORE TABLE'!AD37) - 1","v":25},{"$f":"RANK('SCORE TABLE'!AE37,'SCORE TABLE'!$F37:$BC37,0)+ COUNTIF('SCORE TABLE'!$F37:AE37, 'SCORE TABLE'!AE37) - 1","v":50},{"$f":"RANK('SCORE TABLE'!AF37,'SCORE TABLE'!$F37:$BC37,0)+ COUNTIF('SCORE TABLE'!$F37:AF37, 'SCORE TABLE'!AF37) - 1","v":26},{"$f":"RANK('SCORE TABLE'!AG37,'SCORE TABLE'!$F37:$BC37,0)+ COUNTIF('SCORE TABLE'!$F37:AG37, 'SCORE TABLE'!AG37) - 1","v":27},{"$f":"RANK('SCORE TABLE'!AH37,'SCORE TABLE'!$F37:$BC37,0)+ COUNTIF('SCORE TABLE'!$F37:AH37, 'SCORE TABLE'!AH37) - 1","v":28},{"$f":"RANK('SCORE TABLE'!AI37,'SCORE TABLE'!$F37:$BC37,0)+ COUNTIF('SCORE TABLE'!$F37:AI37, 'SCORE TABLE'!AI37) - 1","v":29},{"$f":"RANK('SCORE TABLE'!AJ37,'SCORE TABLE'!$F37:$BC37,0)+ COUNTIF('SCORE TABLE'!$F37:AJ37, 'SCORE TABLE'!AJ37) - 1","v":30},{"$f":"RANK('SCORE TABLE'!AK37,'SCORE TABLE'!$F37:$BC37,0)+ COUNTIF('SCORE TABLE'!$F37:AK37, 'SCORE TABLE'!AK37) - 1","v":31},{"$f":"RANK('SCORE TABLE'!AL37,'SCORE TABLE'!$F37:$BC37,0)+ COUNTIF('SCORE TABLE'!$F37:AL37, 'SCORE TABLE'!AL37) - 1","v":32},{"$f":"RANK('SCORE TABLE'!AM37,'SCORE TABLE'!$F37:$BC37,0)+ COUNTIF('SCORE TABLE'!$F37:AM37, 'SCORE TABLE'!AM37) - 1","v":33},{"$f":"RANK('SCORE TABLE'!AN37,'SCORE TABLE'!$F37:$BC37,0)+ COUNTIF('SCORE TABLE'!$F37:AN37, 'SCORE TABLE'!AN37) - 1","v":34},{"$f":"RANK('SCORE TABLE'!AO37,'SCORE TABLE'!$F37:$BC37,0)+ COUNTIF('SCORE TABLE'!$F37:AO37, 'SCORE TABLE'!AO37) - 1","v":35},{"$f":"RANK('SCORE TABLE'!AP37,'SCORE TABLE'!$F37:$BC37,0)+ COUNTIF('SCORE TABLE'!$F37:AP37, 'SCORE TABLE'!AP37) - 1","v":36},{"$f":"RANK('SCORE TABLE'!AQ37,'SCORE TABLE'!$F37:$BC37,0)+ COUNTIF('SCORE TABLE'!$F37:AQ37, 'SCORE TABLE'!AQ37) - 1","v":37},{"$f":"RANK('SCORE TABLE'!AR37,'SCORE TABLE'!$F37:$BC37,0)+ COUNTIF('SCORE TABLE'!$F37:AR37, 'SCORE TABLE'!AR37) - 1","v":38},{"$f":"RANK('SCORE TABLE'!AS37,'SCORE TABLE'!$F37:$BC37,0)+ COUNTIF('SCORE TABLE'!$F37:AS37, 'SCORE TABLE'!AS37) - 1","v":39},{"$f":"RANK('SCORE TABLE'!AT37,'SCORE TABLE'!$F37:$BC37,0)+ COUNTIF('SCORE TABLE'!$F37:AT37, 'SCORE TABLE'!AT37) - 1","v":40},{"$f":"RANK('SCORE TABLE'!AU37,'SCORE TABLE'!$F37:$BC37,0)+ COUNTIF('SCORE TABLE'!$F37:AU37, 'SCORE TABLE'!AU37) - 1","v":41},{"$f":"RANK('SCORE TABLE'!AV37,'SCORE TABLE'!$F37:$BC37,0)+ COUNTIF('SCORE TABLE'!$F37:AV37, 'SCORE TABLE'!AV37) - 1","v":42},{"$f":"RANK('SCORE TABLE'!AW37,'SCORE TABLE'!$F37:$BC37,0)+ COUNTIF('SCORE TABLE'!$F37:AW37, 'SCORE TABLE'!AW37) - 1","v":43},{"$f":"RANK('SCORE TABLE'!AX37,'SCORE TABLE'!$F37:$BC37,0)+ COUNTIF('SCORE TABLE'!$F37:AX37, 'SCORE TABLE'!AX37) - 1","v":44},{"$f":"RANK('SCORE TABLE'!AY37,'SCORE TABLE'!$F37:$BC37,0)+ COUNTIF('SCORE TABLE'!$F37:AY37, 'SCORE TABLE'!AY37) - 1","v":45},{"$f":"RANK('SCORE TABLE'!AZ37,'SCORE TABLE'!$F37:$BC37,0)+ COUNTIF('SCORE TABLE'!$F37:AZ37, 'SCORE TABLE'!AZ37) - 1","v":46},{"$f":"RANK('SCORE TABLE'!BA37,'SCORE TABLE'!$F37:$BC37,0)+ COUNTIF('SCORE TABLE'!$F37:BA37, 'SCORE TABLE'!BA37) - 1","v":47},{"$f":"RANK('SCORE TABLE'!BB37,'SCORE TABLE'!$F37:$BC37,0)+ COUNTIF('SCORE TABLE'!$F37:BB37, 'SCORE TABLE'!BB37) - 1","v":48},{"$f":"RANK('SCORE TABLE'!BC37,'SCORE TABLE'!$F37:$BC37,0)+ COUNTIF('SCORE TABLE'!$F37:BC37, 'SCORE TABLE'!BC37) - 1","v":49}]
[null,1027,"2.3.2","Nutrition education",null,null,{"$f":"RANK('SCORE TABLE'!F38,'SCORE TABLE'!$F38:$BC38,0)+ COUNTIF('SCORE TABLE'!$F38:F38, 'SCORE TABLE'!F38) - 1","v":1},{"$f":"RANK('SCORE TABLE'!G38,'SCORE TABLE'!$F38:$BC38,0)+ COUNTIF('SCORE TABLE'!$F38:G38, 'SCORE TABLE'!G38) - 1","v":2},{"$f":"RANK('SCORE TABLE'!H38,'SCORE TABLE'!$F38:$BC38,0)+ COUNTIF('SCORE TABLE'!$F38:H38, 'SCORE TABLE'!H38) - 1","v":3},{"$f":"RANK('SCORE TABLE'!I38,'SCORE TABLE'!$F38:$BC38,0)+ COUNTIF('SCORE TABLE'!$F38:I38, 'SCORE TABLE'!I38) - 1","v":4},{"$f":"RANK('SCORE TABLE'!J38,'SCORE TABLE'!$F38:$BC38,0)+ COUNTIF('SCORE TABLE'!$F38:J38, 'SCORE TABLE'!J38) - 1","v":5},{"$f":"RANK('SCORE TABLE'!K38,'SCORE TABLE'!$F38:$BC38,0)+ COUNTIF('SCORE TABLE'!$F38:K38, 'SCORE TABLE'!K38) - 1","v":6},{"$f":"RANK('SCORE TABLE'!L38,'SCORE TABLE'!$F38:$BC38,0)+ COUNTIF('SCORE TABLE'!$F38:L38, 'SCORE TABLE'!L38) - 1","v":45},{"$f":"RANK('SCORE TABLE'!M38,'SCORE TABLE'!$F38:$BC38,0)+ COUNTIF('SCORE TABLE'!$F38:M38, 'SCORE TABLE'!M38) - 1","v":7},{"$f":"RANK('SCORE TABLE'!N38,'SCORE TABLE'!$F38:$BC38,0)+ COUNTIF('SCORE TABLE'!$F38:N38, 'SCORE TABLE'!N38) - 1","v":8},{"$f":"RANK('SCORE TABLE'!O38,'SCORE TABLE'!$F38:$BC38,0)+ COUNTIF('SCORE TABLE'!$F38:O38, 'SCORE TABLE'!O38) - 1","v":9},{"$f":"RANK('SCORE TABLE'!P38,'SCORE TABLE'!$F38:$BC38,0)+ COUNTIF('SCORE TABLE'!$F38:P38, 'SCORE TABLE'!P38) - 1","v":10},{"$f":"RANK('SCORE TABLE'!Q38,'SCORE TABLE'!$F38:$BC38,0)+ COUNTIF('SCORE TABLE'!$F38:Q38, 'SCORE TABLE'!Q38) - 1","v":11},{"$f":"RANK('SCORE TABLE'!R38,'SCORE TABLE'!$F38:$BC38,0)+ COUNTIF('SCORE TABLE'!$F38:R38, 'SCORE TABLE'!R38) - 1","v":12},{"$f":"RANK('SCORE TABLE'!S38,'SCORE TABLE'!$F38:$BC38,0)+ COUNTIF('SCORE TABLE'!$F38:S38, 'SCORE TABLE'!S38) - 1","v":13},{"$f":"RANK('SCORE TABLE'!T38,'SCORE TABLE'!$F38:$BC38,0)+ COUNTIF('SCORE TABLE'!$F38:T38, 'SCORE TABLE'!T38) - 1","v":14},{"$f":"RANK('SCORE TABLE'!U38,'SCORE TABLE'!$F38:$BC38,0)+ COUNTIF('SCORE TABLE'!$F38:U38, 'SCORE TABLE'!U38) - 1","v":46},{"$f":"RANK('SCORE TABLE'!V38,'SCORE TABLE'!$F38:$BC38,0)+ COUNTIF('SCORE TABLE'!$F38:V38, 'SCORE TABLE'!V38) - 1","v":15},{"$f":"RANK('SCORE TABLE'!W38,'SCORE TABLE'!$F38:$BC38,0)+ COUNTIF('SCORE TABLE'!$F38:W38, 'SCORE TABLE'!W38) - 1","v":16},{"$f":"RANK('SCORE TABLE'!X38,'SCORE TABLE'!$F38:$BC38,0)+ COUNTIF('SCORE TABLE'!$F38:X38, 'SCORE TABLE'!X38) - 1","v":47},{"$f":"RANK('SCORE TABLE'!Y38,'SCORE TABLE'!$F38:$BC38,0)+ COUNTIF('SCORE TABLE'!$F38:Y38, 'SCORE TABLE'!Y38) - 1","v":17},{"$f":"RANK('SCORE TABLE'!Z38,'SCORE TABLE'!$F38:$BC38,0)+ COUNTIF('SCORE TABLE'!$F38:Z38, 'SCORE TABLE'!Z38) - 1","v":18},{"$f":"RANK('SCORE TABLE'!AA38,'SCORE TABLE'!$F38:$BC38,0)+ COUNTIF('SCORE TABLE'!$F38:AA38, 'SCORE TABLE'!AA38) - 1","v":19},{"$f":"RANK('SCORE TABLE'!AB38,'SCORE TABLE'!$F38:$BC38,0)+ COUNTIF('SCORE TABLE'!$F38:AB38, 'SCORE TABLE'!AB38) - 1","v":20},{"$f":"RANK('SCORE TABLE'!AC38,'SCORE TABLE'!$F38:$BC38,0)+ COUNTIF('SCORE TABLE'!$F38:AC38, 'SCORE TABLE'!AC38) - 1","v":21},{"$f":"RANK('SCORE TABLE'!AD38,'SCORE TABLE'!$F38:$BC38,0)+ COUNTIF('SCORE TABLE'!$F38:AD38, 'SCORE TABLE'!AD38) - 1","v":22},{"$f":"RANK('SCORE TABLE'!AE38,'SCORE TABLE'!$F38:$BC38,0)+ COUNTIF('SCORE TABLE'!$F38:AE38, 'SCORE TABLE'!AE38) - 1","v":23},{"$f":"RANK('SCORE TABLE'!AF38,'SCORE TABLE'!$F38:$BC38,0)+ COUNTIF('SCORE TABLE'!$F38:AF38, 'SCORE TABLE'!AF38) - 1","v":24},{"$f":"RANK('SCORE TABLE'!AG38,'SCORE TABLE'!$F38:$BC38,0)+ COUNTIF('SCORE TABLE'!$F38:AG38, 'SCORE TABLE'!AG38) - 1","v":25},{"$f":"RANK('SCORE TABLE'!AH38,'SCORE TABLE'!$F38:$BC38,0)+ COUNTIF('SCORE TABLE'!$F38:AH38, 'SCORE TABLE'!AH38) - 1","v":48},{"$f":"RANK('SCORE TABLE'!AI38,'SCORE TABLE'!$F38:$BC38,0)+ COUNTIF('SCORE TABLE'!$F38:AI38, 'SCORE TABLE'!AI38) - 1","v":26},{"$f":"RANK('SCORE TABLE'!AJ38,'SCORE TABLE'!$F38:$BC38,0)+ COUNTIF('SCORE TABLE'!$F38:AJ38, 'SCORE TABLE'!AJ38) - 1","v":27},{"$f":"RANK('SCORE TABLE'!AK38,'SCORE TABLE'!$F38:$BC38,0)+ COUNTIF('SCORE TABLE'!$F38:AK38, 'SCORE TABLE'!AK38) - 1","v":28},{"$f":"RANK('SCORE TABLE'!AL38,'SCORE TABLE'!$F38:$BC38,0)+ COUNTIF('SCORE TABLE'!$F38:AL38, 'SCORE TABLE'!AL38) - 1","v":29},{"$f":"RANK('SCORE TABLE'!AM38,'SCORE TABLE'!$F38:$BC38,0)+ COUNTIF('SCORE TABLE'!$F38:AM38, 'SCORE TABLE'!AM38) - 1","v":49},{"$f":"RANK('SCORE TABLE'!AN38,'SCORE TABLE'!$F38:$BC38,0)+ COUNTIF('SCORE TABLE'!$F38:AN38, 'SCORE TABLE'!AN38) - 1","v":30},{"$f":"RANK('SCORE TABLE'!AO38,'SCORE TABLE'!$F38:$BC38,0)+ COUNTIF('SCORE TABLE'!$F38:AO38, 'SCORE TABLE'!AO38) - 1","v":31},{"$f":"RANK('SCORE TABLE'!AP38,'SCORE TABLE'!$F38:$BC38,0)+ COUNTIF('SCORE TABLE'!$F38:AP38, 'SCORE TABLE'!AP38) - 1","v":32},{"$f":"RANK('SCORE TABLE'!AQ38,'SCORE TABLE'!$F38:$BC38,0)+ COUNTIF('SCORE TABLE'!$F38:AQ38, 'SCORE TABLE'!AQ38) - 1","v":33},{"$f":"RANK('SCORE TABLE'!AR38,'SCORE TABLE'!$F38:$BC38,0)+ COUNTIF('SCORE TABLE'!$F38:AR38, 'SCORE TABLE'!AR38) - 1","v":50},{"$f":"RANK('SCORE TABLE'!AS38,'SCORE TABLE'!$F38:$BC38,0)+ COUNTIF('SCORE TABLE'!$F38:AS38, 'SCORE TABLE'!AS38) - 1","v":34},{"$f":"RANK('SCORE TABLE'!AT38,'SCORE TABLE'!$F38:$BC38,0)+ COUNTIF('SCORE TABLE'!$F38:AT38, 'SCORE TABLE'!AT38) - 1","v":35},{"$f":"RANK('SCORE TABLE'!AU38,'SCORE TABLE'!$F38:$BC38,0)+ COUNTIF('SCORE TABLE'!$F38:AU38, 'SCORE TABLE'!AU38) - 1","v":36},{"$f":"RANK('SCORE TABLE'!AV38,'SCORE TABLE'!$F38:$BC38,0)+ COUNTIF('SCORE TABLE'!$F38:AV38, 'SCORE TABLE'!AV38) - 1","v":37},{"$f":"RANK('SCORE TABLE'!AW38,'SCORE TABLE'!$F38:$BC38,0)+ COUNTIF('SCORE TABLE'!$F38:AW38, 'SCORE TABLE'!AW38) - 1","v":38},{"$f":"RANK('SCORE TABLE'!AX38,'SCORE TABLE'!$F38:$BC38,0)+ COUNTIF('SCORE TABLE'!$F38:AX38, 'SCORE TABLE'!AX38) - 1","v":39},{"$f":"RANK('SCORE TABLE'!AY38,'SCORE TABLE'!$F38:$BC38,0)+ COUNTIF('SCORE TABLE'!$F38:AY38, 'SCORE TABLE'!AY38) - 1","v":40},{"$f":"RANK('SCORE TABLE'!AZ38,'SCORE TABLE'!$F38:$BC38,0)+ COUNTIF('SCORE TABLE'!$F38:AZ38, 'SCORE TABLE'!AZ38) - 1","v":41},{"$f":"RANK('SCORE TABLE'!BA38,'SCORE TABLE'!$F38:$BC38,0)+ COUNTIF('SCORE TABLE'!$F38:BA38, 'SCORE TABLE'!BA38) - 1","v":42},{"$f":"RANK('SCORE TABLE'!BB38,'SCORE TABLE'!$F38:$BC38,0)+ COUNTIF('SCORE TABLE'!$F38:BB38, 'SCORE TABLE'!BB38) - 1","v":43},{"$f":"RANK('SCORE TABLE'!BC38,'SCORE TABLE'!$F38:$BC38,0)+ COUNTIF('SCORE TABLE'!$F38:BC38, 'SCORE TABLE'!BC38) - 1","v":44}]
[null,1028,"2.3.3","Universal free school meals",null,null,{"$f":"RANK('SCORE TABLE'!F39,'SCORE TABLE'!$F39:$BC39,0)+ COUNTIF('SCORE TABLE'!$F39:F39, 'SCORE TABLE'!F39) - 1","v":32},{"$f":"RANK('SCORE TABLE'!G39,'SCORE TABLE'!$F39:$BC39,0)+ COUNTIF('SCORE TABLE'!$F39:G39, 'SCORE TABLE'!G39) - 1","v":33},{"$f":"RANK('SCORE TABLE'!H39,'SCORE TABLE'!$F39:$BC39,0)+ COUNTIF('SCORE TABLE'!$F39:H39, 'SCORE TABLE'!H39) - 1","v":12},{"$f":"RANK('SCORE TABLE'!I39,'SCORE TABLE'!$F39:$BC39,0)+ COUNTIF('SCORE TABLE'!$F39:I39, 'SCORE TABLE'!I39) - 1","v":13},{"$f":"RANK('SCORE TABLE'!J39,'SCORE TABLE'!$F39:$BC39,0)+ COUNTIF('SCORE TABLE'!$F39:J39, 'SCORE TABLE'!J39) - 1","v":1},{"$f":"RANK('SCORE TABLE'!K39,'SCORE TABLE'!$F39:$BC39,0)+ COUNTIF('SCORE TABLE'!$F39:K39, 'SCORE TABLE'!K39) - 1","v":34},{"$f":"RANK('SCORE TABLE'!L39,'SCORE TABLE'!$F39:$BC39,0)+ COUNTIF('SCORE TABLE'!$F39:L39, 'SCORE TABLE'!L39) - 1","v":35},{"$f":"RANK('SCORE TABLE'!M39,'SCORE TABLE'!$F39:$BC39,0)+ COUNTIF('SCORE TABLE'!$F39:M39, 'SCORE TABLE'!M39) - 1","v":36},{"$f":"RANK('SCORE TABLE'!N39,'SCORE TABLE'!$F39:$BC39,0)+ COUNTIF('SCORE TABLE'!$F39:N39, 'SCORE TABLE'!N39) - 1","v":37},{"$f":"RANK('SCORE TABLE'!O39,'SCORE TABLE'!$F39:$BC39,0)+ COUNTIF('SCORE TABLE'!$F39:O39, 'SCORE TABLE'!O39) - 1","v":14},{"$f":"RANK('SCORE TABLE'!P39,'SCORE TABLE'!$F39:$BC39,0)+ COUNTIF('SCORE TABLE'!$F39:P39, 'SCORE TABLE'!P39) - 1","v":15},{"$f":"RANK('SCORE TABLE'!Q39,'SCORE TABLE'!$F39:$BC39,0)+ COUNTIF('SCORE TABLE'!$F39:Q39, 'SCORE TABLE'!Q39) - 1","v":38},{"$f":"RANK('SCORE TABLE'!R39,'SCORE TABLE'!$F39:$BC39,0)+ COUNTIF('SCORE TABLE'!$F39:R39, 'SCORE TABLE'!R39) - 1","v":16},{"$f":"RANK('SCORE TABLE'!S39,'SCORE TABLE'!$F39:$BC39,0)+ COUNTIF('SCORE TABLE'!$F39:S39, 'SCORE TABLE'!S39) - 1","v":39},{"$f":"RANK('SCORE TABLE'!T39,'SCORE TABLE'!$F39:$BC39,0)+ COUNTIF('SCORE TABLE'!$F39:T39, 'SCORE TABLE'!T39) - 1","v":2},{"$f":"RANK('SCORE TABLE'!U39,'SCORE TABLE'!$F39:$BC39,0)+ COUNTIF('SCORE TABLE'!$F39:U39, 'SCORE TABLE'!U39) - 1","v":3},{"$f":"RANK('SCORE TABLE'!V39,'SCORE TABLE'!$F39:$BC39,0)+ COUNTIF('SCORE TABLE'!$F39:V39, 'SCORE TABLE'!V39) - 1","v":17},{"$f":"RANK('SCORE TABLE'!W39,'SCORE TABLE'!$F39:$BC39,0)+ COUNTIF('SCORE TABLE'!$F39:W39, 'SCORE TABLE'!W39) - 1","v":18},{"$f":"RANK('SCORE TABLE'!X39,'SCORE TABLE'!$F39:$BC39,0)+ COUNTIF('SCORE TABLE'!$F39:X39, 'SCORE TABLE'!X39) - 1","v":4},{"$f":"RANK('SCORE TABLE'!Y39,'SCORE TABLE'!$F39:$BC39,0)+ COUNTIF('SCORE TABLE'!$F39:Y39, 'SCORE TABLE'!Y39) - 1","v":19},{"$f":"RANK('SCORE TABLE'!Z39,'SCORE TABLE'!$F39:$BC39,0)+ COUNTIF('SCORE TABLE'!$F39:Z39, 'SCORE TABLE'!Z39) - 1","v":5},{"$f":"RANK('SCORE TABLE'!AA39,'SCORE TABLE'!$F39:$BC39,0)+ COUNTIF('SCORE TABLE'!$F39:AA39, 'SCORE TABLE'!AA39) - 1","v":6},{"$f":"RANK('SCORE TABLE'!AB39,'SCORE TABLE'!$F39:$BC39,0)+ COUNTIF('SCORE TABLE'!$F39:AB39, 'SCORE TABLE'!AB39) - 1","v":7},{"$f":"RANK('SCORE TABLE'!AC39,'SCORE TABLE'!$F39:$BC39,0)+ COUNTIF('SCORE TABLE'!$F39:AC39, 'SCORE TABLE'!AC39) - 1","v":40},{"$f":"RANK('SCORE TABLE'!AD39,'SCORE TABLE'!$F39:$BC39,0)+ COUNTIF('SCORE TABLE'!$F39:AD39, 'SCORE TABLE'!AD39) - 1","v":41},{"$f":"RANK('SCORE TABLE'!AE39,'SCORE TABLE'!$F39:$BC39,0)+ COUNTIF('SCORE TABLE'!$F39:AE39, 'SCORE TABLE'!AE39) - 1","v":42},{"$f":"RANK('SCORE TABLE'!AF39,'SCORE TABLE'!$F39:$BC39,0)+ COUNTIF('SCORE TABLE'!$F39:AF39, 'SCORE TABLE'!AF39) - 1","v":43},{"$f":"RANK('SCORE TABLE'!AG39,'SCORE TABLE'!$F39:$BC39,0)+ COUNTIF('SCORE TABLE'!$F39:AG39, 'SCORE TABLE'!AG39) - 1","v":20},{"$f":"RANK('SCORE TABLE'!AH39,'SCORE TABLE'!$F39:$BC39,0)+ COUNTIF('SCORE TABLE'!$F39:AH39, 'SCORE TABLE'!AH39) - 1","v":21},{"$f":"RANK('SCORE TABLE'!AI39,'SCORE TABLE'!$F39:$BC39,0)+ COUNTIF('SCORE TABLE'!$F39:AI39, 'SCORE TABLE'!AI39) - 1","v":22},{"$f":"RANK('SCORE TABLE'!AJ39,'SCORE TABLE'!$F39:$BC39,0)+ COUNTIF('SCORE TABLE'!$F39:AJ39, 'SCORE TABLE'!AJ39) - 1","v":8},{"$f":"RANK('SCORE TABLE'!AK39,'SCORE TABLE'!$F39:$BC39,0)+ COUNTIF('SCORE TABLE'!$F39:AK39, 'SCORE TABLE'!AK39) - 1","v":44},{"$f":"RANK('SCORE TABLE'!AL39,'SCORE TABLE'!$F39:$BC39,0)+ COUNTIF('SCORE TABLE'!$F39:AL39, 'SCORE TABLE'!AL39) - 1","v":23},{"$f":"RANK('SCORE TABLE'!AM39,'SCORE TABLE'!$F39:$BC39,0)+ COUNTIF('SCORE TABLE'!$F39:AM39, 'SCORE TABLE'!AM39) - 1","v":45},{"$f":"RANK('SCORE TABLE'!AN39,'SCORE TABLE'!$F39:$BC39,0)+ COUNTIF('SCORE TABLE'!$F39:AN39, 'SCORE TABLE'!AN39) - 1","v":24},{"$f":"RANK('SCORE TABLE'!AO39,'SCORE TABLE'!$F39:$BC39,0)+ COUNTIF('SCORE TABLE'!$F39:AO39, 'SCORE TABLE'!AO39) - 1","v":46},{"$f":"RANK('SCORE TABLE'!AP39,'SCORE TABLE'!$F39:$BC39,0)+ COUNTIF('SCORE TABLE'!$F39:AP39, 'SCORE TABLE'!AP39) - 1","v":25},{"$f":"RANK('SCORE TABLE'!AQ39,'SCORE TABLE'!$F39:$BC39,0)+ COUNTIF('SCORE TABLE'!$F39:AQ39, 'SCORE TABLE'!AQ39) - 1","v":9},{"$f":"RANK('SCORE TABLE'!AR39,'SCORE TABLE'!$F39:$BC39,0)+ COUNTIF('SCORE TABLE'!$F39:AR39, 'SCORE TABLE'!AR39) - 1","v":26},{"$f":"RANK('SCORE TABLE'!AS39,'SCORE TABLE'!$F39:$BC39,0)+ COUNTIF('SCORE TABLE'!$F39:AS39, 'SCORE TABLE'!AS39) - 1","v":27},{"$f":"RANK('SCORE TABLE'!AT39,'SCORE TABLE'!$F39:$BC39,0)+ COUNTIF('SCORE TABLE'!$F39:AT39, 'SCORE TABLE'!AT39) - 1","v":47},{"$f":"RANK('SCORE TABLE'!AU39,'SCORE TABLE'!$F39:$BC39,0)+ COUNTIF('SCORE TABLE'!$F39:AU39, 'SCORE TABLE'!AU39) - 1","v":28},{"$f":"RANK('SCORE TABLE'!AV39,'SCORE TABLE'!$F39:$BC39,0)+ COUNTIF('SCORE TABLE'!$F39:AV39, 'SCORE TABLE'!AV39) - 1","v":29},{"$f":"RANK('SCORE TABLE'!AW39,'SCORE TABLE'!$F39:$BC39,0)+ COUNTIF('SCORE TABLE'!$F39:AW39, 'SCORE TABLE'!AW39) - 1","v":48},{"$f":"RANK('SCORE TABLE'!AX39,'SCORE TABLE'!$F39:$BC39,0)+ COUNTIF('SCORE TABLE'!$F39:AX39, 'SCORE TABLE'!AX39) - 1","v":10},{"$f":"RANK('SCORE TABLE'!AY39,'SCORE TABLE'!$F39:$BC39,0)+ COUNTIF('SCORE TABLE'!$F39:AY39, 'SCORE TABLE'!AY39) - 1","v":30},{"$f":"RANK('SCORE TABLE'!AZ39,'SCORE TABLE'!$F39:$BC39,0)+ COUNTIF('SCORE TABLE'!$F39:AZ39, 'SCORE TABLE'!AZ39) - 1","v":11},{"$f":"RANK('SCORE TABLE'!BA39,'SCORE TABLE'!$F39:$BC39,0)+ COUNTIF('SCORE TABLE'!$F39:BA39, 'SCORE TABLE'!BA39) - 1","v":31},{"$f":"RANK('SCORE TABLE'!BB39,'SCORE TABLE'!$F39:$BC39,0)+ COUNTIF('SCORE TABLE'!$F39:BB39, 'SCORE TABLE'!BB39) - 1","v":49},{"$f":"RANK('SCORE TABLE'!BC39,'SCORE TABLE'!$F39:$BC39,0)+ COUNTIF('SCORE TABLE'!$F39:BC39, 'SCORE TABLE'!BC39) - 1","v":50}]
[null,1029,3,"Physical activity",null,null,{"$f":"RANK('SCORE TABLE'!F40,'SCORE TABLE'!$F40:$BC40,0)+ COUNTIF('SCORE TABLE'!$F40:F40, 'SCORE TABLE'!F40) - 1","v":38},{"$f":"RANK('SCORE TABLE'!G40,'SCORE TABLE'!$F40:$BC40,0)+ COUNTIF('SCORE TABLE'!$F40:G40, 'SCORE TABLE'!G40) - 1","v":25},{"$f":"RANK('SCORE TABLE'!H40,'SCORE TABLE'!$F40:$BC40,0)+ COUNTIF('SCORE TABLE'!$F40:H40, 'SCORE TABLE'!H40) - 1","v":46},{"$f":"RANK('SCORE TABLE'!I40,'SCORE TABLE'!$F40:$BC40,0)+ COUNTIF('SCORE TABLE'!$F40:I40, 'SCORE TABLE'!I40) - 1","v":36},{"$f":"RANK('SCORE TABLE'!J40,'SCORE TABLE'!$F40:$BC40,0)+ COUNTIF('SCORE TABLE'!$F40:J40, 'SCORE TABLE'!J40) - 1","v":2},{"$f":"RANK('SCORE TABLE'!K40,'SCORE TABLE'!$F40:$BC40,0)+ COUNTIF('SCORE TABLE'!$F40:K40, 'SCORE TABLE'!K40) - 1","v":5},{"$f":"RANK('SCORE TABLE'!L40,'SCORE TABLE'!$F40:$BC40,0)+ COUNTIF('SCORE TABLE'!$F40:L40, 'SCORE TABLE'!L40) - 1","v":16},{"$f":"RANK('SCORE TABLE'!M40,'SCORE TABLE'!$F40:$BC40,0)+ COUNTIF('SCORE TABLE'!$F40:M40, 'SCORE TABLE'!M40) - 1","v":10},{"$f":"RANK('SCORE TABLE'!N40,'SCORE TABLE'!$F40:$BC40,0)+ COUNTIF('SCORE TABLE'!$F40:N40, 'SCORE TABLE'!N40) - 1","v":40},{"$f":"RANK('SCORE TABLE'!O40,'SCORE TABLE'!$F40:$BC40,0)+ COUNTIF('SCORE TABLE'!$F40:O40, 'SCORE TABLE'!O40) - 1","v":45},{"$f":"RANK('SCORE TABLE'!P40,'SCORE TABLE'!$F40:$BC40,0)+ COUNTIF('SCORE TABLE'!$F40:P40, 'SCORE TABLE'!P40) - 1","v":17},{"$f":"RANK('SCORE TABLE'!Q40,'SCORE TABLE'!$F40:$BC40,0)+ COUNTIF('SCORE TABLE'!$F40:Q40, 'SCORE TABLE'!Q40) - 1","v":44},{"$f":"RANK('SCORE TABLE'!R40,'SCORE TABLE'!$F40:$BC40,0)+ COUNTIF('SCORE TABLE'!$F40:R40, 'SCORE TABLE'!R40) - 1","v":3},{"$f":"RANK('SCORE TABLE'!S40,'SCORE TABLE'!$F40:$BC40,0)+ COUNTIF('SCORE TABLE'!$F40:S40, 'SCORE TABLE'!S40) - 1","v":11},{"$f":"RANK('SCORE TABLE'!T40,'SCORE TABLE'!$F40:$BC40,0)+ COUNTIF('SCORE TABLE'!$F40:T40, 'SCORE TABLE'!T40) - 1","v":43},{"$f":"RANK('SCORE TABLE'!U40,'SCORE TABLE'!$F40:$BC40,0)+ COUNTIF('SCORE TABLE'!$F40:U40, 'SCORE TABLE'!U40) - 1","v":48},{"$f":"RANK('SCORE TABLE'!V40,'SCORE TABLE'!$F40:$BC40,0)+ COUNTIF('SCORE TABLE'!$F40:V40, 'SCORE TABLE'!V40) - 1","v":13},{"$f":"RANK('SCORE TABLE'!W40,'SCORE TABLE'!$F40:$BC40,0)+ COUNTIF('SCORE TABLE'!$F40:W40, 'SCORE TABLE'!W40) - 1","v":29},{"$f":"RANK('SCORE TABLE'!X40,'SCORE TABLE'!$F40:$BC40,0)+ COUNTIF('SCORE TABLE'!$F40:X40, 'SCORE TABLE'!X40) - 1","v":35},{"$f":"RANK('SCORE TABLE'!Y40,'SCORE TABLE'!$F40:$BC40,0)+ COUNTIF('SCORE TABLE'!$F40:Y40, 'SCORE TABLE'!Y40) - 1","v":19},{"$f":"RANK('SCORE TABLE'!Z40,'SCORE TABLE'!$F40:$BC40,0)+ COUNTIF('SCORE TABLE'!$F40:Z40, 'SCORE TABLE'!Z40) - 1","v":37},{"$f":"RANK('SCORE TABLE'!AA40,'SCORE TABLE'!$F40:$BC40,0)+ COUNTIF('SCORE TABLE'!$F40:AA40, 'SCORE TABLE'!AA40) - 1","v":41},{"$f":"RANK('SCORE TABLE'!AB40,'SCORE TABLE'!$F40:$BC40,0)+ COUNTIF('SCORE TABLE'!$F40:AB40, 'SCORE TABLE'!AB40) - 1","v":21},{"$f":"RANK('SCORE TABLE'!AC40,'SCORE TABLE'!$F40:$BC40,0)+ COUNTIF('SCORE TABLE'!$F40:AC40, 'SCORE TABLE'!AC40) - 1","v":20},{"$f":"RANK('SCORE TABLE'!AD40,'SCORE TABLE'!$F40:$BC40,0)+ COUNTIF('SCORE TABLE'!$F40:AD40, 'SCORE TABLE'!AD40) - 1","v":27},{"$f":"RANK('SCORE TABLE'!AE40,'SCORE TABLE'!$F40:$BC40,0)+ COUNTIF('SCORE TABLE'!$F40:AE40, 'SCORE TABLE'!AE40) - 1","v":31},{"$f":"RANK('SCORE TABLE'!AF40,'SCORE TABLE'!$F40:$BC40,0)+ COUNTIF('SCORE TABLE'!$F40:AF40, 'SCORE TABLE'!AF40) - 1","v":47},{"$f":"RANK('SCORE TABLE'!AG40,'SCORE TABLE'!$F40:$BC40,0)+ COUNTIF('SCORE TABLE'!$F40:AG40, 'SCORE TABLE'!AG40) - 1","v":4},{"$f":"RANK('SCORE TABLE'!AH40,'SCORE TABLE'!$F40:$BC40,0)+ COUNTIF('SCORE TABLE'!$F40:AH40, 'SCORE TABLE'!AH40) - 1","v":23},{"$f":"RANK('SCORE TABLE'!AI40,'SCORE TABLE'!$F40:$BC40,0)+ COUNTIF('SCORE TABLE'!$F40:AI40, 'SCORE TABLE'!AI40) - 1","v":14},{"$f":"RANK('SCORE TABLE'!AJ40,'SCORE TABLE'!$F40:$BC40,0)+ COUNTIF('SCORE TABLE'!$F40:AJ40, 'SCORE TABLE'!AJ40) - 1","v":30},{"$f":"RANK('SCORE TABLE'!AK40,'SCORE TABLE'!$F40:$BC40,0)+ COUNTIF('SCORE TABLE'!$F40:AK40, 'SCORE TABLE'!AK40) - 1","v":18},{"$f":"RANK('SCORE TABLE'!AL40,'SCORE TABLE'!$F40:$BC40,0)+ COUNTIF('SCORE TABLE'!$F40:AL40, 'SCORE TABLE'!AL40) - 1","v":26},{"$f":"RANK('SCORE TABLE'!AM40,'SCORE TABLE'!$F40:$BC40,0)+ COUNTIF('SCORE TABLE'!$F40:AM40, 'SCORE TABLE'!AM40) - 1","v":49},{"$f":"RANK('SCORE TABLE'!AN40,'SCORE TABLE'!$F40:$BC40,0)+ COUNTIF('SCORE TABLE'!$F40:AN40, 'SCORE TABLE'!AN40) - 1","v":9},{"$f":"RANK('SCORE TABLE'!AO40,'SCORE TABLE'!$F40:$BC40,0)+ COUNTIF('SCORE TABLE'!$F40:AO40, 'SCORE TABLE'!AO40) - 1","v":12},{"$f":"RANK('SCORE TABLE'!AP40,'SCORE TABLE'!$F40:$BC40,0)+ COUNTIF('SCORE TABLE'!$F40:AP40, 'SCORE TABLE'!AP40) - 1","v":6},{"$f":"RANK('SCORE TABLE'!AQ40,'SCORE TABLE'!$F40:$BC40,0)+ COUNTIF('SCORE TABLE'!$F40:AQ40, 'SCORE TABLE'!AQ40) - 1","v":22},{"$f":"RANK('SCORE TABLE'!AR40,'SCORE TABLE'!$F40:$BC40,0)+ COUNTIF('SCORE TABLE'!$F40:AR40, 'SCORE TABLE'!AR40) - 1","v":15},{"$f":"RANK('SCORE TABLE'!AS40,'SCORE TABLE'!$F40:$BC40,0)+ COUNTIF('SCORE TABLE'!$F40:AS40, 'SCORE TABLE'!AS40) - 1","v":50},{"$f":"RANK('SCORE TABLE'!AT40,'SCORE TABLE'!$F40:$BC40,0)+ COUNTIF('SCORE TABLE'!$F40:AT40, 'SCORE TABLE'!AT40) - 1","v":32},{"$f":"RANK('SCORE TABLE'!AU40,'SCORE TABLE'!$F40:$BC40,0)+ COUNTIF('SCORE TABLE'!$F40:AU40, 'SCORE TABLE'!AU40) - 1","v":34},{"$f":"RANK('SCORE TABLE'!AV40,'SCORE TABLE'!$F40:$BC40,0)+ COUNTIF('SCORE TABLE'!$F40:AV40, 'SCORE TABLE'!AV40) - 1","v":42},{"$f":"RANK('SCORE TABLE'!AW40,'SCORE TABLE'!$F40:$BC40,0)+ COUNTIF('SCORE TABLE'!$F40:AW40, 'SCORE TABLE'!AW40) - 1","v":8},{"$f":"RANK('SCORE TABLE'!AX40,'SCORE TABLE'!$F40:$BC40,0)+ COUNTIF('SCORE TABLE'!$F40:AX40, 'SCORE TABLE'!AX40) - 1","v":33},{"$f":"RANK('SCORE TABLE'!AY40,'SCORE TABLE'!$F40:$BC40,0)+ COUNTIF('SCORE TABLE'!$F40:AY40, 'SCORE TABLE'!AY40) - 1","v":1},{"$f":"RANK('SCORE TABLE'!AZ40,'SCORE TABLE'!$F40:$BC40,0)+ COUNTIF('SCORE TABLE'!$F40:AZ40, 'SCORE TABLE'!AZ40) - 1","v":7},{"$f":"RANK('SCORE TABLE'!BA40,'SCORE TABLE'!$F40:$BC40,0)+ COUNTIF('SCORE TABLE'!$F40:BA40, 'SCORE TABLE'!BA40) - 1","v":39},{"$f":"RANK('SCORE TABLE'!BB40,'SCORE TABLE'!$F40:$BC40,0)+ COUNTIF('SCORE TABLE'!$F40:BB40, 'SCORE TABLE'!BB40) - 1","v":24},{"$f":"RANK('SCORE TABLE'!BC40,'SCORE TABLE'!$F40:$BC40,0)+ COUNTIF('SCORE TABLE'!$F40:BC40, 'SCORE TABLE'!BC40) - 1","v":28}]
[null,1030,3.1,"Physical activity among the population",null,null,{"$f":"RANK('SCORE TABLE'!F41,'SCORE TABLE'!$F41:$BC41,0)+ COUNTIF('SCORE TABLE'!$F41:F41, 'SCORE TABLE'!F41) - 1","v":40},{"$f":"RANK('SCORE TABLE'!G41,'SCORE TABLE'!$F41:$BC41,0)+ COUNTIF('SCORE TABLE'!$F41:G41, 'SCORE TABLE'!G41) - 1","v":27},{"$f":"RANK('SCORE TABLE'!H41,'SCORE TABLE'!$F41:$BC41,0)+ COUNTIF('SCORE TABLE'!$F41:H41, 'SCORE TABLE'!H41) - 1","v":6},{"$f":"RANK('SCORE TABLE'!I41,'SCORE TABLE'!$F41:$BC41,0)+ COUNTIF('SCORE TABLE'!$F41:I41, 'SCORE TABLE'!I41) - 1","v":38},{"$f":"RANK('SCORE TABLE'!J41,'SCORE TABLE'!$F41:$BC41,0)+ COUNTIF('SCORE TABLE'!$F41:J41, 'SCORE TABLE'!J41) - 1","v":1},{"$f":"RANK('SCORE TABLE'!K41,'SCORE TABLE'!$F41:$BC41,0)+ COUNTIF('SCORE TABLE'!$F41:K41, 'SCORE TABLE'!K41) - 1","v":4},{"$f":"RANK('SCORE TABLE'!L41,'SCORE TABLE'!$F41:$BC41,0)+ COUNTIF('SCORE TABLE'!$F41:L41, 'SCORE TABLE'!L41) - 1","v":17},{"$f":"RANK('SCORE TABLE'!M41,'SCORE TABLE'!$F41:$BC41,0)+ COUNTIF('SCORE TABLE'!$F41:M41, 'SCORE TABLE'!M41) - 1","v":11},{"$f":"RANK('SCORE TABLE'!N41,'SCORE TABLE'!$F41:$BC41,0)+ COUNTIF('SCORE TABLE'!$F41:N41, 'SCORE TABLE'!N41) - 1","v":42},{"$f":"RANK('SCORE TABLE'!O41,'SCORE TABLE'!$F41:$BC41,0)+ COUNTIF('SCORE TABLE'!$F41:O41, 'SCORE TABLE'!O41) - 1","v":47},{"$f":"RANK('SCORE TABLE'!P41,'SCORE TABLE'!$F41:$BC41,0)+ COUNTIF('SCORE TABLE'!$F41:P41, 'SCORE TABLE'!P41) - 1","v":18},{"$f":"RANK('SCORE TABLE'!Q41,'SCORE TABLE'!$F41:$BC41,0)+ COUNTIF('SCORE TABLE'!$F41:Q41, 'SCORE TABLE'!Q41) - 1","v":46},{"$f":"RANK('SCORE TABLE'!R41,'SCORE TABLE'!$F41:$BC41,0)+ COUNTIF('SCORE TABLE'!$F41:R41, 'SCORE TABLE'!R41) - 1","v":2},{"$f":"RANK('SCORE TABLE'!S41,'SCORE TABLE'!$F41:$BC41,0)+ COUNTIF('SCORE TABLE'!$F41:S41, 'SCORE TABLE'!S41) - 1","v":12},{"$f":"RANK('SCORE TABLE'!T41,'SCORE TABLE'!$F41:$BC41,0)+ COUNTIF('SCORE TABLE'!$F41:T41, 'SCORE TABLE'!T41) - 1","v":45},{"$f":"RANK('SCORE TABLE'!U41,'SCORE TABLE'!$F41:$BC41,0)+ COUNTIF('SCORE TABLE'!$F41:U41, 'SCORE TABLE'!U41) - 1","v":10},{"$f":"RANK('SCORE TABLE'!V41,'SCORE TABLE'!$F41:$BC41,0)+ COUNTIF('SCORE TABLE'!$F41:V41, 'SCORE TABLE'!V41) - 1","v":14},{"$f":"RANK('SCORE TABLE'!W41,'SCORE TABLE'!$F41:$BC41,0)+ COUNTIF('SCORE TABLE'!$F41:W41, 'SCORE TABLE'!W41) - 1","v":31},{"$f":"RANK('SCORE TABLE'!X41,'SCORE TABLE'!$F41:$BC41,0)+ COUNTIF('SCORE TABLE'!$F41:X41, 'SCORE TABLE'!X41) - 1","v":37},{"$f":"RANK('SCORE TABLE'!Y41,'SCORE TABLE'!$F41:$BC41,0)+ COUNTIF('SCORE TABLE'!$F41:Y41, 'SCORE TABLE'!Y41) - 1","v":20},{"$f":"RANK('SCORE TABLE'!Z41,'SCORE TABLE'!$F41:$BC41,0)+ COUNTIF('SCORE TABLE'!$F41:Z41, 'SCORE TABLE'!Z41) - 1","v":39},{"$f":"RANK('SCORE TABLE'!AA41,'SCORE TABLE'!$F41:$BC41,0)+ COUNTIF('SCORE TABLE'!$F41:AA41, 'SCORE TABLE'!AA41) - 1","v":43},{"$f":"RANK('SCORE TABLE'!AB41,'SCORE TABLE'!$F41:$BC41,0)+ COUNTIF('SCORE TABLE'!$F41:AB41, 'SCORE TABLE'!AB41) - 1","v":22},{"$f":"RANK('SCORE TABLE'!AC41,'SCORE TABLE'!$F41:$BC41,0)+ COUNTIF('SCORE TABLE'!$F41:AC41, 'SCORE TABLE'!AC41) - 1","v":21},{"$f":"RANK('SCORE TABLE'!AD41,'SCORE TABLE'!$F41:$BC41,0)+ COUNTIF('SCORE TABLE'!$F41:AD41, 'SCORE TABLE'!AD41) - 1","v":29},{"$f":"RANK('SCORE TABLE'!AE41,'SCORE TABLE'!$F41:$BC41,0)+ COUNTIF('SCORE TABLE'!$F41:AE41, 'SCORE TABLE'!AE41) - 1","v":33},{"$f":"RANK('SCORE TABLE'!AF41,'SCORE TABLE'!$F41:$BC41,0)+ COUNTIF('SCORE TABLE'!$F41:AF41, 'SCORE TABLE'!AF41) - 1","v":48},{"$f":"RANK('SCORE TABLE'!AG41,'SCORE TABLE'!$F41:$BC41,0)+ COUNTIF('SCORE TABLE'!$F41:AG41, 'SCORE TABLE'!AG41) - 1","v":3},{"$f":"RANK('SCORE TABLE'!AH41,'SCORE TABLE'!$F41:$BC41,0)+ COUNTIF('SCORE TABLE'!$F41:AH41, 'SCORE TABLE'!AH41) - 1","v":24},{"$f":"RANK('SCORE TABLE'!AI41,'SCORE TABLE'!$F41:$BC41,0)+ COUNTIF('SCORE TABLE'!$F41:AI41, 'SCORE TABLE'!AI41) - 1","v":15},{"$f":"RANK('SCORE TABLE'!AJ41,'SCORE TABLE'!$F41:$BC41,0)+ COUNTIF('SCORE TABLE'!$F41:AJ41, 'SCORE TABLE'!AJ41) - 1","v":32},{"$f":"RANK('SCORE TABLE'!AK41,'SCORE TABLE'!$F41:$BC41,0)+ COUNTIF('SCORE TABLE'!$F41:AK41, 'SCORE TABLE'!AK41) - 1","v":19},{"$f":"RANK('SCORE TABLE'!AL41,'SCORE TABLE'!$F41:$BC41,0)+ COUNTIF('SCORE TABLE'!$F41:AL41, 'SCORE TABLE'!AL41) - 1","v":28},{"$f":"RANK('SCORE TABLE'!AM41,'SCORE TABLE'!$F41:$BC41,0)+ COUNTIF('SCORE TABLE'!$F41:AM41, 'SCORE TABLE'!AM41) - 1","v":49},{"$f":"RANK('SCORE TABLE'!AN41,'SCORE TABLE'!$F41:$BC41,0)+ COUNTIF('SCORE TABLE'!$F41:AN41, 'SCORE TABLE'!AN41) - 1","v":9},{"$f":"RANK('SCORE TABLE'!AO41,'SCORE TABLE'!$F41:$BC41,0)+ COUNTIF('SCORE TABLE'!$F41:AO41, 'SCORE TABLE'!AO41) - 1","v":13},{"$f":"RANK('SCORE TABLE'!AP41,'SCORE TABLE'!$F41:$BC41,0)+ COUNTIF('SCORE TABLE'!$F41:AP41, 'SCORE TABLE'!AP41) - 1","v":5},{"$f":"RANK('SCORE TABLE'!AQ41,'SCORE TABLE'!$F41:$BC41,0)+ COUNTIF('SCORE TABLE'!$F41:AQ41, 'SCORE TABLE'!AQ41) - 1","v":23},{"$f":"RANK('SCORE TABLE'!AR41,'SCORE TABLE'!$F41:$BC41,0)+ COUNTIF('SCORE TABLE'!$F41:AR41, 'SCORE TABLE'!AR41) - 1","v":16},{"$f":"RANK('SCORE TABLE'!AS41,'SCORE TABLE'!$F41:$BC41,0)+ COUNTIF('SCORE TABLE'!$F41:AS41, 'SCORE TABLE'!AS41) - 1","v":50},{"$f":"RANK('SCORE TABLE'!AT41,'SCORE TABLE'!$F41:$BC41,0)+ COUNTIF('SCORE TABLE'!$F41:AT41, 'SCORE TABLE'!AT41) - 1","v":34},{"$f":"RANK('SCORE TABLE'!AU41,'SCORE TABLE'!$F41:$BC41,0)+ COUNTIF('SCORE TABLE'!$F41:AU41, 'SCORE TABLE'!AU41) - 1","v":36},{"$f":"RANK('SCORE TABLE'!AV41,'SCORE TABLE'!$F41:$BC41,0)+ COUNTIF('SCORE TABLE'!$F41:AV41, 'SCORE TABLE'!AV41) - 1","v":44},{"$f":"RANK('SCORE TABLE'!AW41,'SCORE TABLE'!$F41:$BC41,0)+ COUNTIF('SCORE TABLE'!$F41:AW41, 'SCORE TABLE'!AW41) - 1","v":8},{"$f":"RANK('SCORE TABLE'!AX41,'SCORE TABLE'!$F41:$BC41,0)+ COUNTIF('SCORE TABLE'!$F41:AX41, 'SCORE TABLE'!AX41) - 1","v":35},{"$f":"RANK('SCORE TABLE'!AY41,'SCORE TABLE'!$F41:$BC41,0)+ COUNTIF('SCORE TABLE'!$F41:AY41, 'SCORE TABLE'!AY41) - 1","v":25},{"$f":"RANK('SCORE TABLE'!AZ41,'SCORE TABLE'!$F41:$BC41,0)+ COUNTIF('SCORE TABLE'!$F41:AZ41, 'SCORE TABLE'!AZ41) - 1","v":7},{"$f":"RANK('SCORE TABLE'!BA41,'SCORE TABLE'!$F41:$BC41,0)+ COUNTIF('SCORE TABLE'!$F41:BA41, 'SCORE TABLE'!BA41) - 1","v":41},{"$f":"RANK('SCORE TABLE'!BB41,'SCORE TABLE'!$F41:$BC41,0)+ COUNTIF('SCORE TABLE'!$F41:BB41, 'SCORE TABLE'!BB41) - 1","v":26},{"$f":"RANK('SCORE TABLE'!BC41,'SCORE TABLE'!$F41:$BC41,0)+ COUNTIF('SCORE TABLE'!$F41:BC41, 'SCORE TABLE'!BC41) - 1","v":30}]
[null,1031,"3.1.1","Promotion of physical activity",null,null,{"$f":"RANK('SCORE TABLE'!F42,'SCORE TABLE'!$F42:$BC42,0)+ COUNTIF('SCORE TABLE'!$F42:F42, 'SCORE TABLE'!F42) - 1","v":16},{"$f":"RANK('SCORE TABLE'!G42,'SCORE TABLE'!$F42:$BC42,0)+ COUNTIF('SCORE TABLE'!$F42:G42, 'SCORE TABLE'!G42) - 1","v":17},{"$f":"RANK('SCORE TABLE'!H42,'SCORE TABLE'!$F42:$BC42,0)+ COUNTIF('SCORE TABLE'!$F42:H42, 'SCORE TABLE'!H42) - 1","v":1},{"$f":"RANK('SCORE TABLE'!I42,'SCORE TABLE'!$F42:$BC42,0)+ COUNTIF('SCORE TABLE'!$F42:I42, 'SCORE TABLE'!I42) - 1","v":18},{"$f":"RANK('SCORE TABLE'!J42,'SCORE TABLE'!$F42:$BC42,0)+ COUNTIF('SCORE TABLE'!$F42:J42, 'SCORE TABLE'!J42) - 1","v":2},{"$f":"RANK('SCORE TABLE'!K42,'SCORE TABLE'!$F42:$BC42,0)+ COUNTIF('SCORE TABLE'!$F42:K42, 'SCORE TABLE'!K42) - 1","v":3},{"$f":"RANK('SCORE TABLE'!L42,'SCORE TABLE'!$F42:$BC42,0)+ COUNTIF('SCORE TABLE'!$F42:L42, 'SCORE TABLE'!L42) - 1","v":19},{"$f":"RANK('SCORE TABLE'!M42,'SCORE TABLE'!$F42:$BC42,0)+ COUNTIF('SCORE TABLE'!$F42:M42, 'SCORE TABLE'!M42) - 1","v":4},{"$f":"RANK('SCORE TABLE'!N42,'SCORE TABLE'!$F42:$BC42,0)+ COUNTIF('SCORE TABLE'!$F42:N42, 'SCORE TABLE'!N42) - 1","v":41},{"$f":"RANK('SCORE TABLE'!O42,'SCORE TABLE'!$F42:$BC42,0)+ COUNTIF('SCORE TABLE'!$F42:O42, 'SCORE TABLE'!O42) - 1","v":42},{"$f":"RANK('SCORE TABLE'!P42,'SCORE TABLE'!$F42:$BC42,0)+ COUNTIF('SCORE TABLE'!$F42:P42, 'SCORE TABLE'!P42) - 1","v":20},{"$f":"RANK('SCORE TABLE'!Q42,'SCORE TABLE'!$F42:$BC42,0)+ COUNTIF('SCORE TABLE'!$F42:Q42, 'SCORE TABLE'!Q42) - 1","v":43},{"$f":"RANK('SCORE TABLE'!R42,'SCORE TABLE'!$F42:$BC42,0)+ COUNTIF('SCORE TABLE'!$F42:R42, 'SCORE TABLE'!R42) - 1","v":5},{"$f":"RANK('SCORE TABLE'!S42,'SCORE TABLE'!$F42:$BC42,0)+ COUNTIF('SCORE TABLE'!$F42:S42, 'SCORE TABLE'!S42) - 1","v":6},{"$f":"RANK('SCORE TABLE'!T42,'SCORE TABLE'!$F42:$BC42,0)+ COUNTIF('SCORE TABLE'!$F42:T42, 'SCORE TABLE'!T42) - 1","v":44},{"$f":"RANK('SCORE TABLE'!U42,'SCORE TABLE'!$F42:$BC42,0)+ COUNTIF('SCORE TABLE'!$F42:U42, 'SCORE TABLE'!U42) - 1","v":7},{"$f":"RANK('SCORE TABLE'!V42,'SCORE TABLE'!$F42:$BC42,0)+ COUNTIF('SCORE TABLE'!$F42:V42, 'SCORE TABLE'!V42) - 1","v":8},{"$f":"RANK('SCORE TABLE'!W42,'SCORE TABLE'!$F42:$BC42,0)+ COUNTIF('SCORE TABLE'!$F42:W42, 'SCORE TABLE'!W42) - 1","v":21},{"$f":"RANK('SCORE TABLE'!X42,'SCORE TABLE'!$F42:$BC42,0)+ COUNTIF('SCORE TABLE'!$F42:X42, 'SCORE TABLE'!X42) - 1","v":22},{"$f":"RANK('SCORE TABLE'!Y42,'SCORE TABLE'!$F42:$BC42,0)+ COUNTIF('SCORE TABLE'!$F42:Y42, 'SCORE TABLE'!Y42) - 1","v":23},{"$f":"RANK('SCORE TABLE'!Z42,'SCORE TABLE'!$F42:$BC42,0)+ COUNTIF('SCORE TABLE'!$F42:Z42, 'SCORE TABLE'!Z42) - 1","v":45},{"$f":"RANK('SCORE TABLE'!AA42,'SCORE TABLE'!$F42:$BC42,0)+ COUNTIF('SCORE TABLE'!$F42:AA42, 'SCORE TABLE'!AA42) - 1","v":46},{"$f":"RANK('SCORE TABLE'!AB42,'SCORE TABLE'!$F42:$BC42,0)+ COUNTIF('SCORE TABLE'!$F42:AB42, 'SCORE TABLE'!AB42) - 1","v":24},{"$f":"RANK('SCORE TABLE'!AC42,'SCORE TABLE'!$F42:$BC42,0)+ COUNTIF('SCORE TABLE'!$F42:AC42, 'SCORE TABLE'!AC42) - 1","v":9},{"$f":"RANK('SCORE TABLE'!AD42,'SCORE TABLE'!$F42:$BC42,0)+ COUNTIF('SCORE TABLE'!$F42:AD42, 'SCORE TABLE'!AD42) - 1","v":25},{"$f":"RANK('SCORE TABLE'!AE42,'SCORE TABLE'!$F42:$BC42,0)+ COUNTIF('SCORE TABLE'!$F42:AE42, 'SCORE TABLE'!AE42) - 1","v":26},{"$f":"RANK('SCORE TABLE'!AF42,'SCORE TABLE'!$F42:$BC42,0)+ COUNTIF('SCORE TABLE'!$F42:AF42, 'SCORE TABLE'!AF42) - 1","v":48},{"$f":"RANK('SCORE TABLE'!AG42,'SCORE TABLE'!$F42:$BC42,0)+ COUNTIF('SCORE TABLE'!$F42:AG42, 'SCORE TABLE'!AG42) - 1","v":10},{"$f":"RANK('SCORE TABLE'!AH42,'SCORE TABLE'!$F42:$BC42,0)+ COUNTIF('SCORE TABLE'!$F42:AH42, 'SCORE TABLE'!AH42) - 1","v":27},{"$f":"RANK('SCORE TABLE'!AI42,'SCORE TABLE'!$F42:$BC42,0)+ COUNTIF('SCORE TABLE'!$F42:AI42, 'SCORE TABLE'!AI42) - 1","v":28},{"$f":"RANK('SCORE TABLE'!AJ42,'SCORE TABLE'!$F42:$BC42,0)+ COUNTIF('SCORE TABLE'!$F42:AJ42, 'SCORE TABLE'!AJ42) - 1","v":29},{"$f":"RANK('SCORE TABLE'!AK42,'SCORE TABLE'!$F42:$BC42,0)+ COUNTIF('SCORE TABLE'!$F42:AK42, 'SCORE TABLE'!AK42) - 1","v":30},{"$f":"RANK('SCORE TABLE'!AL42,'SCORE TABLE'!$F42:$BC42,0)+ COUNTIF('SCORE TABLE'!$F42:AL42, 'SCORE TABLE'!AL42) - 1","v":31},{"$f":"RANK('SCORE TABLE'!AM42,'SCORE TABLE'!$F42:$BC42,0)+ COUNTIF('SCORE TABLE'!$F42:AM42, 'SCORE TABLE'!AM42) - 1","v":49},{"$f":"RANK('SCORE TABLE'!AN42,'SCORE TABLE'!$F42:$BC42,0)+ COUNTIF('SCORE TABLE'!$F42:AN42, 'SCORE TABLE'!AN42) - 1","v":11},{"$f":"RANK('SCORE TABLE'!AO42,'SCORE TABLE'!$F42:$BC42,0)+ COUNTIF('SCORE TABLE'!$F42:AO42, 'SCORE TABLE'!AO42) - 1","v":12},{"$f":"RANK('SCORE TABLE'!AP42,'SCORE TABLE'!$F42:$BC42,0)+ COUNTIF('SCORE TABLE'!$F42:AP42, 'SCORE TABLE'!AP42) - 1","v":13},{"$f":"RANK('SCORE TABLE'!AQ42,'SCORE TABLE'!$F42:$BC42,0)+ COUNTIF('SCORE TABLE'!$F42:AQ42, 'SCORE TABLE'!AQ42) - 1","v":32},{"$f":"RANK('SCORE TABLE'!AR42,'SCORE TABLE'!$F42:$BC42,0)+ COUNTIF('SCORE TABLE'!$F42:AR42, 'SCORE TABLE'!AR42) - 1","v":33},{"$f":"RANK('SCORE TABLE'!AS42,'SCORE TABLE'!$F42:$BC42,0)+ COUNTIF('SCORE TABLE'!$F42:AS42, 'SCORE TABLE'!AS42) - 1","v":50},{"$f":"RANK('SCORE TABLE'!AT42,'SCORE TABLE'!$F42:$BC42,0)+ COUNTIF('SCORE TABLE'!$F42:AT42, 'SCORE TABLE'!AT42) - 1","v":34},{"$f":"RANK('SCORE TABLE'!AU42,'SCORE TABLE'!$F42:$BC42,0)+ COUNTIF('SCORE TABLE'!$F42:AU42, 'SCORE TABLE'!AU42) - 1","v":35},{"$f":"RANK('SCORE TABLE'!AV42,'SCORE TABLE'!$F42:$BC42,0)+ COUNTIF('SCORE TABLE'!$F42:AV42, 'SCORE TABLE'!AV42) - 1","v":47},{"$f":"RANK('SCORE TABLE'!AW42,'SCORE TABLE'!$F42:$BC42,0)+ COUNTIF('SCORE TABLE'!$F42:AW42, 'SCORE TABLE'!AW42) - 1","v":14},{"$f":"RANK('SCORE TABLE'!AX42,'SCORE TABLE'!$F42:$BC42,0)+ COUNTIF('SCORE TABLE'!$F42:AX42, 'SCORE TABLE'!AX42) - 1","v":36},{"$f":"RANK('SCORE TABLE'!AY42,'SCORE TABLE'!$F42:$BC42,0)+ COUNTIF('SCORE TABLE'!$F42:AY42, 'SCORE TABLE'!AY42) - 1","v":37},{"$f":"RANK('SCORE TABLE'!AZ42,'SCORE TABLE'!$F42:$BC42,0)+ COUNTIF('SCORE TABLE'!$F42:AZ42, 'SCORE TABLE'!AZ42) - 1","v":15},{"$f":"RANK('SCORE TABLE'!BA42,'SCORE TABLE'!$F42:$BC42,0)+ COUNTIF('SCORE TABLE'!$F42:BA42, 'SCORE TABLE'!BA42) - 1","v":38},{"$f":"RANK('SCORE TABLE'!BB42,'SCORE TABLE'!$F42:$BC42,0)+ COUNTIF('SCORE TABLE'!$F42:BB42, 'SCORE TABLE'!BB42) - 1","v":39},{"$f":"RANK('SCORE TABLE'!BC42,'SCORE TABLE'!$F42:$BC42,0)+ COUNTIF('SCORE TABLE'!$F42:BC42, 'SCORE TABLE'!BC42) - 1","v":40}]
[null,1032,"3.1.2","Access to exercise facilities",null,null,{"$f":"RANK('SCORE TABLE'!F43,'SCORE TABLE'!$F43:$BC43,0)+ COUNTIF('SCORE TABLE'!$F43:F43, 'SCORE TABLE'!F43) - 1","v":48},{"$f":"RANK('SCORE TABLE'!G43,'SCORE TABLE'!$F43:$BC43,0)+ COUNTIF('SCORE TABLE'!$F43:G43, 'SCORE TABLE'!G43) - 1","v":28},{"$f":"RANK('SCORE TABLE'!H43,'SCORE TABLE'!$F43:$BC43,0)+ COUNTIF('SCORE TABLE'!$F43:H43, 'SCORE TABLE'!H43) - 1","v":14},{"$f":"RANK('SCORE TABLE'!I43,'SCORE TABLE'!$F43:$BC43,0)+ COUNTIF('SCORE TABLE'!$F43:I43, 'SCORE TABLE'!I43) - 1","v":47},{"$f":"RANK('SCORE TABLE'!J43,'SCORE TABLE'!$F43:$BC43,0)+ COUNTIF('SCORE TABLE'!$F43:J43, 'SCORE TABLE'!J43) - 1","v":4},{"$f":"RANK('SCORE TABLE'!K43,'SCORE TABLE'!$F43:$BC43,0)+ COUNTIF('SCORE TABLE'!$F43:K43, 'SCORE TABLE'!K43) - 1","v":11},{"$f":"RANK('SCORE TABLE'!L43,'SCORE TABLE'!$F43:$BC43,0)+ COUNTIF('SCORE TABLE'!$F43:L43, 'SCORE TABLE'!L43) - 1","v":5},{"$f":"RANK('SCORE TABLE'!M43,'SCORE TABLE'!$F43:$BC43,0)+ COUNTIF('SCORE TABLE'!$F43:M43, 'SCORE TABLE'!M43) - 1","v":29},{"$f":"RANK('SCORE TABLE'!N43,'SCORE TABLE'!$F43:$BC43,0)+ COUNTIF('SCORE TABLE'!$F43:N43, 'SCORE TABLE'!N43) - 1","v":12},{"$f":"RANK('SCORE TABLE'!O43,'SCORE TABLE'!$F43:$BC43,0)+ COUNTIF('SCORE TABLE'!$F43:O43, 'SCORE TABLE'!O43) - 1","v":38},{"$f":"RANK('SCORE TABLE'!P43,'SCORE TABLE'!$F43:$BC43,0)+ COUNTIF('SCORE TABLE'!$F43:P43, 'SCORE TABLE'!P43) - 1","v":6},{"$f":"RANK('SCORE TABLE'!Q43,'SCORE TABLE'!$F43:$BC43,0)+ COUNTIF('SCORE TABLE'!$F43:Q43, 'SCORE TABLE'!Q43) - 1","v":31},{"$f":"RANK('SCORE TABLE'!R43,'SCORE TABLE'!$F43:$BC43,0)+ COUNTIF('SCORE TABLE'!$F43:R43, 'SCORE TABLE'!R43) - 1","v":9},{"$f":"RANK('SCORE TABLE'!S43,'SCORE TABLE'!$F43:$BC43,0)+ COUNTIF('SCORE TABLE'!$F43:S43, 'SCORE TABLE'!S43) - 1","v":34},{"$f":"RANK('SCORE TABLE'!T43,'SCORE TABLE'!$F43:$BC43,0)+ COUNTIF('SCORE TABLE'!$F43:T43, 'SCORE TABLE'!T43) - 1","v":26},{"$f":"RANK('SCORE TABLE'!U43,'SCORE TABLE'!$F43:$BC43,0)+ COUNTIF('SCORE TABLE'!$F43:U43, 'SCORE TABLE'!U43) - 1","v":27},{"$f":"RANK('SCORE TABLE'!V43,'SCORE TABLE'!$F43:$BC43,0)+ COUNTIF('SCORE TABLE'!$F43:V43, 'SCORE TABLE'!V43) - 1","v":42},{"$f":"RANK('SCORE TABLE'!W43,'SCORE TABLE'!$F43:$BC43,0)+ COUNTIF('SCORE TABLE'!$F43:W43, 'SCORE TABLE'!W43) - 1","v":35},{"$f":"RANK('SCORE TABLE'!X43,'SCORE TABLE'!$F43:$BC43,0)+ COUNTIF('SCORE TABLE'!$F43:X43, 'SCORE TABLE'!X43) - 1","v":46},{"$f":"RANK('SCORE TABLE'!Y43,'SCORE TABLE'!$F43:$BC43,0)+ COUNTIF('SCORE TABLE'!$F43:Y43, 'SCORE TABLE'!Y43) - 1","v":8},{"$f":"RANK('SCORE TABLE'!Z43,'SCORE TABLE'!$F43:$BC43,0)+ COUNTIF('SCORE TABLE'!$F43:Z43, 'SCORE TABLE'!Z43) - 1","v":3},{"$f":"RANK('SCORE TABLE'!AA43,'SCORE TABLE'!$F43:$BC43,0)+ COUNTIF('SCORE TABLE'!$F43:AA43, 'SCORE TABLE'!AA43) - 1","v":15},{"$f":"RANK('SCORE TABLE'!AB43,'SCORE TABLE'!$F43:$BC43,0)+ COUNTIF('SCORE TABLE'!$F43:AB43, 'SCORE TABLE'!AB43) - 1","v":16},{"$f":"RANK('SCORE TABLE'!AC43,'SCORE TABLE'!$F43:$BC43,0)+ COUNTIF('SCORE TABLE'!$F43:AC43, 'SCORE TABLE'!AC43) - 1","v":50},{"$f":"RANK('SCORE TABLE'!AD43,'SCORE TABLE'!$F43:$BC43,0)+ COUNTIF('SCORE TABLE'!$F43:AD43, 'SCORE TABLE'!AD43) - 1","v":32},{"$f":"RANK('SCORE TABLE'!AE43,'SCORE TABLE'!$F43:$BC43,0)+ COUNTIF('SCORE TABLE'!$F43:AE43, 'SCORE TABLE'!AE43) - 1","v":39},{"$f":"RANK('SCORE TABLE'!AF43,'SCORE TABLE'!$F43:$BC43,0)+ COUNTIF('SCORE TABLE'!$F43:AF43, 'SCORE TABLE'!AF43) - 1","v":19},{"$f":"RANK('SCORE TABLE'!AG43,'SCORE TABLE'!$F43:$BC43,0)+ COUNTIF('SCORE TABLE'!$F43:AG43, 'SCORE TABLE'!AG43) - 1","v":10},{"$f":"RANK('SCORE TABLE'!AH43,'SCORE TABLE'!$F43:$BC43,0)+ COUNTIF('SCORE TABLE'!$F43:AH43, 'SCORE TABLE'!AH43) - 1","v":20},{"$f":"RANK('SCORE TABLE'!AI43,'SCORE TABLE'!$F43:$BC43,0)+ COUNTIF('SCORE TABLE'!$F43:AI43, 'SCORE TABLE'!AI43) - 1","v":1},{"$f":"RANK('SCORE TABLE'!AJ43,'SCORE TABLE'!$F43:$BC43,0)+ COUNTIF('SCORE TABLE'!$F43:AJ43, 'SCORE TABLE'!AJ43) - 1","v":36},{"$f":"RANK('SCORE TABLE'!AK43,'SCORE TABLE'!$F43:$BC43,0)+ COUNTIF('SCORE TABLE'!$F43:AK43, 'SCORE TABLE'!AK43) - 1","v":7},{"$f":"RANK('SCORE TABLE'!AL43,'SCORE TABLE'!$F43:$BC43,0)+ COUNTIF('SCORE TABLE'!$F43:AL43, 'SCORE TABLE'!AL43) - 1","v":30},{"$f":"RANK('SCORE TABLE'!AM43,'SCORE TABLE'!$F43:$BC43,0)+ COUNTIF('SCORE TABLE'!$F43:AM43, 'SCORE TABLE'!AM43) - 1","v":37},{"$f":"RANK('SCORE TABLE'!AN43,'SCORE TABLE'!$F43:$BC43,0)+ COUNTIF('SCORE TABLE'!$F43:AN43, 'SCORE TABLE'!AN43) - 1","v":22},{"$f":"RANK('SCORE TABLE'!AO43,'SCORE TABLE'!$F43:$BC43,0)+ COUNTIF('SCORE TABLE'!$F43:AO43, 'SCORE TABLE'!AO43) - 1","v":41},{"$f":"RANK('SCORE TABLE'!AP43,'SCORE TABLE'!$F43:$BC43,0)+ COUNTIF('SCORE TABLE'!$F43:AP43, 'SCORE TABLE'!AP43) - 1","v":13},{"$f":"RANK('SCORE TABLE'!AQ43,'SCORE TABLE'!$F43:$BC43,0)+ COUNTIF('SCORE TABLE'!$F43:AQ43, 'SCORE TABLE'!AQ43) - 1","v":17},{"$f":"RANK('SCORE TABLE'!AR43,'SCORE TABLE'!$F43:$BC43,0)+ COUNTIF('SCORE TABLE'!$F43:AR43, 'SCORE TABLE'!AR43) - 1","v":2},{"$f":"RANK('SCORE TABLE'!AS43,'SCORE TABLE'!$F43:$BC43,0)+ COUNTIF('SCORE TABLE'!$F43:AS43, 'SCORE TABLE'!AS43) - 1","v":44},{"$f":"RANK('SCORE TABLE'!AT43,'SCORE TABLE'!$F43:$BC43,0)+ COUNTIF('SCORE TABLE'!$F43:AT43, 'SCORE TABLE'!AT43) - 1","v":40},{"$f":"RANK('SCORE TABLE'!AU43,'SCORE TABLE'!$F43:$BC43,0)+ COUNTIF('SCORE TABLE'!$F43:AU43, 'SCORE TABLE'!AU43) - 1","v":45},{"$f":"RANK('SCORE TABLE'!AV43,'SCORE TABLE'!$F43:$BC43,0)+ COUNTIF('SCORE TABLE'!$F43:AV43, 'SCORE TABLE'!AV43) - 1","v":25},{"$f":"RANK('SCORE TABLE'!AW43,'SCORE TABLE'!$F43:$BC43,0)+ COUNTIF('SCORE TABLE'!$F43:AW43, 'SCORE TABLE'!AW43) - 1","v":21},{"$f":"RANK('SCORE TABLE'!AX43,'SCORE TABLE'!$F43:$BC43,0)+ COUNTIF('SCORE TABLE'!$F43:AX43, 'SCORE TABLE'!AX43) - 1","v":43},{"$f":"RANK('SCORE TABLE'!AY43,'SCORE TABLE'!$F43:$BC43,0)+ COUNTIF('SCORE TABLE'!$F43:AY43, 'SCORE TABLE'!AY43) - 1","v":23},{"$f":"RANK('SCORE TABLE'!AZ43,'SCORE TABLE'!$F43:$BC43,0)+ COUNTIF('SCORE TABLE'!$F43:AZ43, 'SCORE TABLE'!AZ43) - 1","v":18},{"$f":"RANK('SCORE TABLE'!BA43,'SCORE TABLE'!$F43:$BC43,0)+ COUNTIF('SCORE TABLE'!$F43:BA43, 'SCORE TABLE'!BA43) - 1","v":49},{"$f":"RANK('SCORE TABLE'!BB43,'SCORE TABLE'!$F43:$BC43,0)+ COUNTIF('SCORE TABLE'!$F43:BB43, 'SCORE TABLE'!BB43) - 1","v":24},{"$f":"RANK('SCORE TABLE'!BC43,'SCORE TABLE'!$F43:$BC43,0)+ COUNTIF('SCORE TABLE'!$F43:BC43, 'SCORE TABLE'!BC43) - 1","v":33}]
[null,1033,3.2,"Physical activity among children",null,null,{"$f":"RANK('SCORE TABLE'!F44,'SCORE TABLE'!$F44:$BC44,0)+ COUNTIF('SCORE TABLE'!$F44:F44, 'SCORE TABLE'!F44) - 1","v":2},{"$f":"RANK('SCORE TABLE'!G44,'SCORE TABLE'!$F44:$BC44,0)+ COUNTIF('SCORE TABLE'!$F44:G44, 'SCORE TABLE'!G44) - 1","v":3},{"$f":"RANK('SCORE TABLE'!H44,'SCORE TABLE'!$F44:$BC44,0)+ COUNTIF('SCORE TABLE'!$F44:H44, 'SCORE TABLE'!H44) - 1","v":49},{"$f":"RANK('SCORE TABLE'!I44,'SCORE TABLE'!$F44:$BC44,0)+ COUNTIF('SCORE TABLE'!$F44:I44, 'SCORE TABLE'!I44) - 1","v":4},{"$f":"RANK('SCORE TABLE'!J44,'SCORE TABLE'!$F44:$BC44,0)+ COUNTIF('SCORE TABLE'!$F44:J44, 'SCORE TABLE'!J44) - 1","v":5},{"$f":"RANK('SCORE TABLE'!K44,'SCORE TABLE'!$F44:$BC44,0)+ COUNTIF('SCORE TABLE'!$F44:K44, 'SCORE TABLE'!K44) - 1","v":6},{"$f":"RANK('SCORE TABLE'!L44,'SCORE TABLE'!$F44:$BC44,0)+ COUNTIF('SCORE TABLE'!$F44:L44, 'SCORE TABLE'!L44) - 1","v":7},{"$f":"RANK('SCORE TABLE'!M44,'SCORE TABLE'!$F44:$BC44,0)+ COUNTIF('SCORE TABLE'!$F44:M44, 'SCORE TABLE'!M44) - 1","v":8},{"$f":"RANK('SCORE TABLE'!N44,'SCORE TABLE'!$F44:$BC44,0)+ COUNTIF('SCORE TABLE'!$F44:N44, 'SCORE TABLE'!N44) - 1","v":9},{"$f":"RANK('SCORE TABLE'!O44,'SCORE TABLE'!$F44:$BC44,0)+ COUNTIF('SCORE TABLE'!$F44:O44, 'SCORE TABLE'!O44) - 1","v":10},{"$f":"RANK('SCORE TABLE'!P44,'SCORE TABLE'!$F44:$BC44,0)+ COUNTIF('SCORE TABLE'!$F44:P44, 'SCORE TABLE'!P44) - 1","v":11},{"$f":"RANK('SCORE TABLE'!Q44,'SCORE TABLE'!$F44:$BC44,0)+ COUNTIF('SCORE TABLE'!$F44:Q44, 'SCORE TABLE'!Q44) - 1","v":12},{"$f":"RANK('SCORE TABLE'!R44,'SCORE TABLE'!$F44:$BC44,0)+ COUNTIF('SCORE TABLE'!$F44:R44, 'SCORE TABLE'!R44) - 1","v":13},{"$f":"RANK('SCORE TABLE'!S44,'SCORE TABLE'!$F44:$BC44,0)+ COUNTIF('SCORE TABLE'!$F44:S44, 'SCORE TABLE'!S44) - 1","v":14},{"$f":"RANK('SCORE TABLE'!T44,'SCORE TABLE'!$F44:$BC44,0)+ COUNTIF('SCORE TABLE'!$F44:T44, 'SCORE TABLE'!T44) - 1","v":15},{"$f":"RANK('SCORE TABLE'!U44,'SCORE TABLE'!$F44:$BC44,0)+ COUNTIF('SCORE TABLE'!$F44:U44, 'SCORE TABLE'!U44) - 1","v":50},{"$f":"RANK('SCORE TABLE'!V44,'SCORE TABLE'!$F44:$BC44,0)+ COUNTIF('SCORE TABLE'!$F44:V44, 'SCORE TABLE'!V44) - 1","v":16},{"$f":"RANK('SCORE TABLE'!W44,'SCORE TABLE'!$F44:$BC44,0)+ COUNTIF('SCORE TABLE'!$F44:W44, 'SCORE TABLE'!W44) - 1","v":17},{"$f":"RANK('SCORE TABLE'!X44,'SCORE TABLE'!$F44:$BC44,0)+ COUNTIF('SCORE TABLE'!$F44:X44, 'SCORE TABLE'!X44) - 1","v":18},{"$f":"RANK('SCORE TABLE'!Y44,'SCORE TABLE'!$F44:$BC44,0)+ COUNTIF('SCORE TABLE'!$F44:Y44, 'SCORE TABLE'!Y44) - 1","v":19},{"$f":"RANK('SCORE TABLE'!Z44,'SCORE TABLE'!$F44:$BC44,0)+ COUNTIF('SCORE TABLE'!$F44:Z44, 'SCORE TABLE'!Z44) - 1","v":20},{"$f":"RANK('SCORE TABLE'!AA44,'SCORE TABLE'!$F44:$BC44,0)+ COUNTIF('SCORE TABLE'!$F44:AA44, 'SCORE TABLE'!AA44) - 1","v":21},{"$f":"RANK('SCORE TABLE'!AB44,'SCORE TABLE'!$F44:$BC44,0)+ COUNTIF('SCORE TABLE'!$F44:AB44, 'SCORE TABLE'!AB44) - 1","v":22},{"$f":"RANK('SCORE TABLE'!AC44,'SCORE TABLE'!$F44:$BC44,0)+ COUNTIF('SCORE TABLE'!$F44:AC44, 'SCORE TABLE'!AC44) - 1","v":23},{"$f":"RANK('SCORE TABLE'!AD44,'SCORE TABLE'!$F44:$BC44,0)+ COUNTIF('SCORE TABLE'!$F44:AD44, 'SCORE TABLE'!AD44) - 1","v":24},{"$f":"RANK('SCORE TABLE'!AE44,'SCORE TABLE'!$F44:$BC44,0)+ COUNTIF('SCORE TABLE'!$F44:AE44, 'SCORE TABLE'!AE44) - 1","v":25},{"$f":"RANK('SCORE TABLE'!AF44,'SCORE TABLE'!$F44:$BC44,0)+ COUNTIF('SCORE TABLE'!$F44:AF44, 'SCORE TABLE'!AF44) - 1","v":26},{"$f":"RANK('SCORE TABLE'!AG44,'SCORE TABLE'!$F44:$BC44,0)+ COUNTIF('SCORE TABLE'!$F44:AG44, 'SCORE TABLE'!AG44) - 1","v":27},{"$f":"RANK('SCORE TABLE'!AH44,'SCORE TABLE'!$F44:$BC44,0)+ COUNTIF('SCORE TABLE'!$F44:AH44, 'SCORE TABLE'!AH44) - 1","v":28},{"$f":"RANK('SCORE TABLE'!AI44,'SCORE TABLE'!$F44:$BC44,0)+ COUNTIF('SCORE TABLE'!$F44:AI44, 'SCORE TABLE'!AI44) - 1","v":29},{"$f":"RANK('SCORE TABLE'!AJ44,'SCORE TABLE'!$F44:$BC44,0)+ COUNTIF('SCORE TABLE'!$F44:AJ44, 'SCORE TABLE'!AJ44) - 1","v":30},{"$f":"RANK('SCORE TABLE'!AK44,'SCORE TABLE'!$F44:$BC44,0)+ COUNTIF('SCORE TABLE'!$F44:AK44, 'SCORE TABLE'!AK44) - 1","v":31},{"$f":"RANK('SCORE TABLE'!AL44,'SCORE TABLE'!$F44:$BC44,0)+ COUNTIF('SCORE TABLE'!$F44:AL44, 'SCORE TABLE'!AL44) - 1","v":32},{"$f":"RANK('SCORE TABLE'!AM44,'SCORE TABLE'!$F44:$BC44,0)+ COUNTIF('SCORE TABLE'!$F44:AM44, 'SCORE TABLE'!AM44) - 1","v":33},{"$f":"RANK('SCORE TABLE'!AN44,'SCORE TABLE'!$F44:$BC44,0)+ COUNTIF('SCORE TABLE'!$F44:AN44, 'SCORE TABLE'!AN44) - 1","v":34},{"$f":"RANK('SCORE TABLE'!AO44,'SCORE TABLE'!$F44:$BC44,0)+ COUNTIF('SCORE TABLE'!$F44:AO44, 'SCORE TABLE'!AO44) - 1","v":35},{"$f":"RANK('SCORE TABLE'!AP44,'SCORE TABLE'!$F44:$BC44,0)+ COUNTIF('SCORE TABLE'!$F44:AP44, 'SCORE TABLE'!AP44) - 1","v":36},{"$f":"RANK('SCORE TABLE'!AQ44,'SCORE TABLE'!$F44:$BC44,0)+ COUNTIF('SCORE TABLE'!$F44:AQ44, 'SCORE TABLE'!AQ44) - 1","v":37},{"$f":"RANK('SCORE TABLE'!AR44,'SCORE TABLE'!$F44:$BC44,0)+ COUNTIF('SCORE TABLE'!$F44:AR44, 'SCORE TABLE'!AR44) - 1","v":38},{"$f":"RANK('SCORE TABLE'!AS44,'SCORE TABLE'!$F44:$BC44,0)+ COUNTIF('SCORE TABLE'!$F44:AS44, 'SCORE TABLE'!AS44) - 1","v":39},{"$f":"RANK('SCORE TABLE'!AT44,'SCORE TABLE'!$F44:$BC44,0)+ COUNTIF('SCORE TABLE'!$F44:AT44, 'SCORE TABLE'!AT44) - 1","v":40},{"$f":"RANK('SCORE TABLE'!AU44,'SCORE TABLE'!$F44:$BC44,0)+ COUNTIF('SCORE TABLE'!$F44:AU44, 'SCORE TABLE'!AU44) - 1","v":41},{"$f":"RANK('SCORE TABLE'!AV44,'SCORE TABLE'!$F44:$BC44,0)+ COUNTIF('SCORE TABLE'!$F44:AV44, 'SCORE TABLE'!AV44) - 1","v":42},{"$f":"RANK('SCORE TABLE'!AW44,'SCORE TABLE'!$F44:$BC44,0)+ COUNTIF('SCORE TABLE'!$F44:AW44, 'SCORE TABLE'!AW44) - 1","v":43},{"$f":"RANK('SCORE TABLE'!AX44,'SCORE TABLE'!$F44:$BC44,0)+ COUNTIF('SCORE TABLE'!$F44:AX44, 'SCORE TABLE'!AX44) - 1","v":44},{"$f":"RANK('SCORE TABLE'!AY44,'SCORE TABLE'!$F44:$BC44,0)+ COUNTIF('SCORE TABLE'!$F44:AY44, 'SCORE TABLE'!AY44) - 1","v":1},{"$f":"RANK('SCORE TABLE'!AZ44,'SCORE TABLE'!$F44:$BC44,0)+ COUNTIF('SCORE TABLE'!$F44:AZ44, 'SCORE TABLE'!AZ44) - 1","v":45},{"$f":"RANK('SCORE TABLE'!BA44,'SCORE TABLE'!$F44:$BC44,0)+ COUNTIF('SCORE TABLE'!$F44:BA44, 'SCORE TABLE'!BA44) - 1","v":46},{"$f":"RANK('SCORE TABLE'!BB44,'SCORE TABLE'!$F44:$BC44,0)+ COUNTIF('SCORE TABLE'!$F44:BB44, 'SCORE TABLE'!BB44) - 1","v":47},{"$f":"RANK('SCORE TABLE'!BC44,'SCORE TABLE'!$F44:$BC44,0)+ COUNTIF('SCORE TABLE'!$F44:BC44, 'SCORE TABLE'!BC44) - 1","v":48}]
[null,1034,"3.2.1","Physical activity mandates",null,null,{"$f":"RANK('SCORE TABLE'!F45,'SCORE TABLE'!$F45:$BC45,0)+ COUNTIF('SCORE TABLE'!$F45:F45, 'SCORE TABLE'!F45) - 1","v":2},{"$f":"RANK('SCORE TABLE'!G45,'SCORE TABLE'!$F45:$BC45,0)+ COUNTIF('SCORE TABLE'!$F45:G45, 'SCORE TABLE'!G45) - 1","v":3},{"$f":"RANK('SCORE TABLE'!H45,'SCORE TABLE'!$F45:$BC45,0)+ COUNTIF('SCORE TABLE'!$F45:H45, 'SCORE TABLE'!H45) - 1","v":49},{"$f":"RANK('SCORE TABLE'!I45,'SCORE TABLE'!$F45:$BC45,0)+ COUNTIF('SCORE TABLE'!$F45:I45, 'SCORE TABLE'!I45) - 1","v":4},{"$f":"RANK('SCORE TABLE'!J45,'SCORE TABLE'!$F45:$BC45,0)+ COUNTIF('SCORE TABLE'!$F45:J45, 'SCORE TABLE'!J45) - 1","v":5},{"$f":"RANK('SCORE TABLE'!K45,'SCORE TABLE'!$F45:$BC45,0)+ COUNTIF('SCORE TABLE'!$F45:K45, 'SCORE TABLE'!K45) - 1","v":6},{"$f":"RANK('SCORE TABLE'!L45,'SCORE TABLE'!$F45:$BC45,0)+ COUNTIF('SCORE TABLE'!$F45:L45, 'SCORE TABLE'!L45) - 1","v":7},{"$f":"RANK('SCORE TABLE'!M45,'SCORE TABLE'!$F45:$BC45,0)+ COUNTIF('SCORE TABLE'!$F45:M45, 'SCORE TABLE'!M45) - 1","v":8},{"$f":"RANK('SCORE TABLE'!N45,'SCORE TABLE'!$F45:$BC45,0)+ COUNTIF('SCORE TABLE'!$F45:N45, 'SCORE TABLE'!N45) - 1","v":9},{"$f":"RANK('SCORE TABLE'!O45,'SCORE TABLE'!$F45:$BC45,0)+ COUNTIF('SCORE TABLE'!$F45:O45, 'SCORE TABLE'!O45) - 1","v":10},{"$f":"RANK('SCORE TABLE'!P45,'SCORE TABLE'!$F45:$BC45,0)+ COUNTIF('SCORE TABLE'!$F45:P45, 'SCORE TABLE'!P45) - 1","v":11},{"$f":"RANK('SCORE TABLE'!Q45,'SCORE TABLE'!$F45:$BC45,0)+ COUNTIF('SCORE TABLE'!$F45:Q45, 'SCORE TABLE'!Q45) - 1","v":12},{"$f":"RANK('SCORE TABLE'!R45,'SCORE TABLE'!$F45:$BC45,0)+ COUNTIF('SCORE TABLE'!$F45:R45, 'SCORE TABLE'!R45) - 1","v":13},{"$f":"RANK('SCORE TABLE'!S45,'SCORE TABLE'!$F45:$BC45,0)+ COUNTIF('SCORE TABLE'!$F45:S45, 'SCORE TABLE'!S45) - 1","v":14},{"$f":"RANK('SCORE TABLE'!T45,'SCORE TABLE'!$F45:$BC45,0)+ COUNTIF('SCORE TABLE'!$F45:T45, 'SCORE TABLE'!T45) - 1","v":15},{"$f":"RANK('SCORE TABLE'!U45,'SCORE TABLE'!$F45:$BC45,0)+ COUNTIF('SCORE TABLE'!$F45:U45, 'SCORE TABLE'!U45) - 1","v":50},{"$f":"RANK('SCORE TABLE'!V45,'SCORE TABLE'!$F45:$BC45,0)+ COUNTIF('SCORE TABLE'!$F45:V45, 'SCORE TABLE'!V45) - 1","v":16},{"$f":"RANK('SCORE TABLE'!W45,'SCORE TABLE'!$F45:$BC45,0)+ COUNTIF('SCORE TABLE'!$F45:W45, 'SCORE TABLE'!W45) - 1","v":17},{"$f":"RANK('SCORE TABLE'!X45,'SCORE TABLE'!$F45:$BC45,0)+ COUNTIF('SCORE TABLE'!$F45:X45, 'SCORE TABLE'!X45) - 1","v":18},{"$f":"RANK('SCORE TABLE'!Y45,'SCORE TABLE'!$F45:$BC45,0)+ COUNTIF('SCORE TABLE'!$F45:Y45, 'SCORE TABLE'!Y45) - 1","v":19},{"$f":"RANK('SCORE TABLE'!Z45,'SCORE TABLE'!$F45:$BC45,0)+ COUNTIF('SCORE TABLE'!$F45:Z45, 'SCORE TABLE'!Z45) - 1","v":20},{"$f":"RANK('SCORE TABLE'!AA45,'SCORE TABLE'!$F45:$BC45,0)+ COUNTIF('SCORE TABLE'!$F45:AA45, 'SCORE TABLE'!AA45) - 1","v":21},{"$f":"RANK('SCORE TABLE'!AB45,'SCORE TABLE'!$F45:$BC45,0)+ COUNTIF('SCORE TABLE'!$F45:AB45, 'SCORE TABLE'!AB45) - 1","v":22},{"$f":"RANK('SCORE TABLE'!AC45,'SCORE TABLE'!$F45:$BC45,0)+ COUNTIF('SCORE TABLE'!$F45:AC45, 'SCORE TABLE'!AC45) - 1","v":23},{"$f":"RANK('SCORE TABLE'!AD45,'SCORE TABLE'!$F45:$BC45,0)+ COUNTIF('SCORE TABLE'!$F45:AD45, 'SCORE TABLE'!AD45) - 1","v":24},{"$f":"RANK('SCORE TABLE'!AE45,'SCORE TABLE'!$F45:$BC45,0)+ COUNTIF('SCORE TABLE'!$F45:AE45, 'SCORE TABLE'!AE45) - 1","v":25},{"$f":"RANK('SCORE TABLE'!AF45,'SCORE TABLE'!$F45:$BC45,0)+ COUNTIF('SCORE TABLE'!$F45:AF45, 'SCORE TABLE'!AF45) - 1","v":26},{"$f":"RANK('SCORE TABLE'!AG45,'SCORE TABLE'!$F45:$BC45,0)+ COUNTIF('SCORE TABLE'!$F45:AG45, 'SCORE TABLE'!AG45) - 1","v":27},{"$f":"RANK('SCORE TABLE'!AH45,'SCORE TABLE'!$F45:$BC45,0)+ COUNTIF('SCORE TABLE'!$F45:AH45, 'SCORE TABLE'!AH45) - 1","v":28},{"$f":"RANK('SCORE TABLE'!AI45,'SCORE TABLE'!$F45:$BC45,0)+ COUNTIF('SCORE TABLE'!$F45:AI45, 'SCORE TABLE'!AI45) - 1","v":29},{"$f":"RANK('SCORE TABLE'!AJ45,'SCORE TABLE'!$F45:$BC45,0)+ COUNTIF('SCORE TABLE'!$F45:AJ45, 'SCORE TABLE'!AJ45) - 1","v":30},{"$f":"RANK('SCORE TABLE'!AK45,'SCORE TABLE'!$F45:$BC45,0)+ COUNTIF('SCORE TABLE'!$F45:AK45, 'SCORE TABLE'!AK45) - 1","v":31},{"$f":"RANK('SCORE TABLE'!AL45,'SCORE TABLE'!$F45:$BC45,0)+ COUNTIF('SCORE TABLE'!$F45:AL45, 'SCORE TABLE'!AL45) - 1","v":32},{"$f":"RANK('SCORE TABLE'!AM45,'SCORE TABLE'!$F45:$BC45,0)+ COUNTIF('SCORE TABLE'!$F45:AM45, 'SCORE TABLE'!AM45) - 1","v":33},{"$f":"RANK('SCORE TABLE'!AN45,'SCORE TABLE'!$F45:$BC45,0)+ COUNTIF('SCORE TABLE'!$F45:AN45, 'SCORE TABLE'!AN45) - 1","v":34},{"$f":"RANK('SCORE TABLE'!AO45,'SCORE TABLE'!$F45:$BC45,0)+ COUNTIF('SCORE TABLE'!$F45:AO45, 'SCORE TABLE'!AO45) - 1","v":35},{"$f":"RANK('SCORE TABLE'!AP45,'SCORE TABLE'!$F45:$BC45,0)+ COUNTIF('SCORE TABLE'!$F45:AP45, 'SCORE TABLE'!AP45) - 1","v":36},{"$f":"RANK('SCORE TABLE'!AQ45,'SCORE TABLE'!$F45:$BC45,0)+ COUNTIF('SCORE TABLE'!$F45:AQ45, 'SCORE TABLE'!AQ45) - 1","v":37},{"$f":"RANK('SCORE TABLE'!AR45,'SCORE TABLE'!$F45:$BC45,0)+ COUNTIF('SCORE TABLE'!$F45:AR45, 'SCORE TABLE'!AR45) - 1","v":38},{"$f":"RANK('SCORE TABLE'!AS45,'SCORE TABLE'!$F45:$BC45,0)+ COUNTIF('SCORE TABLE'!$F45:AS45, 'SCORE TABLE'!AS45) - 1","v":39},{"$f":"RANK('SCORE TABLE'!AT45,'SCORE TABLE'!$F45:$BC45,0)+ COUNTIF('SCORE TABLE'!$F45:AT45, 'SCORE TABLE'!AT45) - 1","v":40},{"$f":"RANK('SCORE TABLE'!AU45,'SCORE TABLE'!$F45:$BC45,0)+ COUNTIF('SCORE TABLE'!$F45:AU45, 'SCORE TABLE'!AU45) - 1","v":41},{"$f":"RANK('SCORE TABLE'!AV45,'SCORE TABLE'!$F45:$BC45,0)+ COUNTIF('SCORE TABLE'!$F45:AV45, 'SCORE TABLE'!AV45) - 1","v":42},{"$f":"RANK('SCORE TABLE'!AW45,'SCORE TABLE'!$F45:$BC45,0)+ COUNTIF('SCORE TABLE'!$F45:AW45, 'SCORE TABLE'!AW45) - 1","v":43},{"$f":"RANK('SCORE TABLE'!AX45,'SCORE TABLE'!$F45:$BC45,0)+ COUNTIF('SCORE TABLE'!$F45:AX45, 'SCORE TABLE'!AX45) - 1","v":44},{"$f":"RANK('SCORE TABLE'!AY45,'SCORE TABLE'!$F45:$BC45,0)+ COUNTIF('SCORE TABLE'!$F45:AY45, 'SCORE TABLE'!AY45) - 1","v":1},{"$f":"RANK('SCORE TABLE'!AZ45,'SCORE TABLE'!$F45:$BC45,0)+ COUNTIF('SCORE TABLE'!$F45:AZ45, 'SCORE TABLE'!AZ45) - 1","v":45},{"$f":"RANK('SCORE TABLE'!BA45,'SCORE TABLE'!$F45:$BC45,0)+ COUNTIF('SCORE TABLE'!$F45:BA45, 'SCORE TABLE'!BA45) - 1","v":46},{"$f":"RANK('SCORE TABLE'!BB45,'SCORE TABLE'!$F45:$BC45,0)+ COUNTIF('SCORE TABLE'!$F45:BB45, 'SCORE TABLE'!BB45) - 1","v":47},{"$f":"RANK('SCORE TABLE'!BC45,'SCORE TABLE'!$F45:$BC45,0)+ COUNTIF('SCORE TABLE'!$F45:BC45, 'SCORE TABLE'!BC45) - 1","v":48}]

{"sheet":"Score_rank shared","index":10,"n_rows":38,"n_cols":56,"rows_kept":38,"hidden":true}
["Ranking - shared"]
[null,"UID","No.","Indicator name",null,null,"Alabama","Alaska","Arizona","Arkansas","California","Colorado","Connecticut","Delaware","Florida","Georgia","Hawaii","Idaho","Illinois","Indiana","Iowa","Kansas","Kentucky","Louisiana","Maine","Maryland","Massachusetts","Michigan","Minnesota","Mississippi","Missouri","Montana","Nebraska","Nevada","New Hampshire","New Jersey","New Mexico","New York","North Carolina","North Dakota","Ohio","Oklahoma","Oregon","Pennsylvania","Rhode Island","South Carolina","South Dakota","Tennessee","Texas","Utah","Vermont","Virginia","Washington","West Virginia","Wisconsin","Wyoming"]
[null,0,0,"OVERALL",null,null,{"$f":"SUMPRODUCT(('SCORE TABLE'!F10<='SCORE TABLE'!$F10:$BC10)/COUNTIF('SCORE TABLE'!$F10:$BC10,'SCORE TABLE'!$F10:$BC10))","v":45},{"$f":"SUMPRODUCT(('SCORE TABLE'!G10<='SCORE TABLE'!$F10:$BC10)/COUNTIF('SCORE TABLE'!$F10:$BC10,'SCORE TABLE'!$F10:$BC10))","v":41},{"$f":"SUMPRODUCT(('SCORE TABLE'!H10<='SCORE TABLE'!$F10:$BC10)/COUNTIF('SCORE TABLE'!$F10:$BC10,'SCORE TABLE'!$F10:$BC10))","v":49},{"$f":"SUMPRODUCT(('SCORE TABLE'!I10<='SCORE TABLE'!$F10:$BC10)/COUNTIF('SCORE TABLE'!$F10:$BC10,'SCORE TABLE'!$F10:$BC10))","v":27},{"$f":"SUMPRODUCT(('SCORE TABLE'!J10<='SCORE TABLE'!$F10:$BC10)/COUNTIF('SCORE TABLE'!$F10:$BC10,'SCORE TABLE'!$F10:$BC10))","v":19},{"$f":"SUMPRODUCT(('SCORE TABLE'!K10<='SCORE TABLE'!$F10:$BC10)/COUNTIF('SCORE TABLE'!$F10:$BC10,'SCORE TABLE'!$F10:$BC10))","v":3},{"$f":"SUMPRODUCT(('SCORE TABLE'!L10<='SCORE TABLE'!$F10:$BC10)/COUNTIF('SCORE TABLE'!$F10:$BC10,'SCORE TABLE'!$F10:$BC10))","v":26},{"$f":"SUMPRODUCT(('SCORE TABLE'!M10<='SCORE TABLE'!$F10:$BC10)/COUNTIF('SCORE TABLE'!$F10:$BC10,'SCORE TABLE'!$F10:$BC10))","v":38},{"$f":"SUMPRODUCT(('SCORE TABLE'!N10<='SCORE TABLE'!$F10:$BC10)/COUNTIF('SCORE TABLE'!$F10:$BC10,'SCORE TABLE'!$F10:$BC10))","v":5},{"$f":"SUMPRODUCT(('SCORE TABLE'!O10<='SCORE TABLE'!$F10:$BC10)/COUNTIF('SCORE TABLE'!$F10:$BC10,'SCORE TABLE'!$F10:$BC10))","v":48},{"$f":"SUMPRODUCT(('SCORE TABLE'!P10<='SCORE TABLE'!$F10:$BC10)/COUNTIF('SCORE TABLE'!$F10:$BC10,'SCORE TABLE'!$F10:$BC10))","v":23},{"$f":"SUMPRODUCT(('SCORE TABLE'!Q10<='SCORE TABLE'!$F10:$BC10)/COUNTIF('SCORE TABLE'!$F10:$BC10,'SCORE TABLE'!$F10:$BC10))","v":32},{"$f":"SUMPRODUCT(('SCORE TABLE'!R10<='SCORE TABLE'!$F10:$BC10)/COUNTIF('SCORE TABLE'!$F10:$BC10,'SCORE TABLE'!$F10:$BC10))","v":6},{"$f":"SUMPRODUCT(('SCORE TABLE'!S10<='SCORE TABLE'!$F10:$BC10)/COUNTIF('SCORE TABLE'!$F10:$BC10,'SCORE TABLE'!$F10:$BC10))","v":16},{"$f":"SUMPRODUCT(('SCORE TABLE'!T10<='SCORE TABLE'!$F10:$BC10)/COUNTIF('SCORE TABLE'!$F10:$BC10,'SCORE TABLE'!$F10:$BC10))","v":4},{"$f":"SUMPRODUCT(('SCORE TABLE'!U10<='SCORE TABLE'!$F10:$BC10)/COUNTIF('SCORE TABLE'!$F10:$BC10,'SCORE TABLE'!$F10:$BC10))","v":50},{"$f":"SUMPRODUCT(('SCORE TABLE'!V10<='SCORE TABLE'!$F10:$BC10)/COUNTIF('SCORE TABLE'!$F10:$BC10,'SCORE TABLE'!$F10:$BC10))","v":2},{"$f":"SUMPRODUCT(('SCORE TABLE'!W10<='SCORE TABLE'!$F10:$BC10)/COUNTIF('SCORE TABLE'!$F10:$BC10,'SCORE TABLE'!$F10:$BC10))","v":24},{"$f":"SUMPRODUCT(('SCORE TABLE'!X10<='SCORE TABLE'!$F10:$BC10)/COUNTIF('SCORE TABLE'!$F10:$BC10,'SCORE TABLE'!$F10:$BC10))","v":21},{"$f":"SUMPRODUCT(('SCORE TABLE'!Y10<='SCORE TABLE'!$F10:$BC10)/COUNTIF('SCORE TABLE'!$F10:$BC10,'SCORE TABLE'!$F10:$BC10))","v":10},{"$f":"SUMPRODUCT(('SCORE TABLE'!Z10<='SCORE TABLE'!$F10:$BC10)/COUNTIF('SCORE TABLE'!$F10:$BC10,'SCORE TABLE'!$F10:$BC10))","v":39},{"$f":"SUMPRODUCT(('SCORE TABLE'!AA10<='SCORE TABLE'!$F10:$BC10)/COUNTIF('SCORE TABLE'!$F10:$BC10,'SCORE TABLE'!$F10:$BC10))","v":33},{"$f":"SUMPRODUCT(('SCORE TABLE'!AB10<='SCORE TABLE'!$F10:$BC10)/COUNTIF('SCORE TABLE'!$F10:$BC10,'SCORE TABLE'!$F10:$BC10))","v":1},{"$f":"SUMPRODUCT(('SCORE TABLE'!AC10<='SCORE TABLE'!$F10:$BC10)/COUNTIF('SCORE TABLE'!$F10:$BC10,'SCORE TABLE'!$F10:$BC10))","v":22},{"$f":"SUMPRODUCT(('SCORE TABLE'!AD10<='SCORE TABLE'!$F10:$BC10)/COUNTIF('SCORE TABLE'!$F10:$BC10,'SCORE TABLE'!$F10:$BC10))","v":37},{"$f":"SUMPRODUCT(('SCORE TABLE'!AE10<='SCORE TABLE'!$F10:$BC10)/COUNTIF('SCORE TABLE'!$F10:$BC10,'SCORE TABLE'!$F10:$BC10))","v":44},{"$f":"SUMPRODUCT(('SCORE TABLE'!AF10<='SCORE TABLE'!$F10:$BC10)/COUNTIF('SCORE TABLE'!$F10:$BC10,'SCORE TABLE'!$F10:$BC10))","v":35},{"$f":"SUMPRODUCT(('SCORE TABLE'!AG10<='SCORE TABLE'!$F10:$BC10)/COUNTIF('SCORE TABLE'!$F10:$BC10,'SCORE TABLE'!$F10:$BC10))","v":15},{"$f":"SUMPRODUCT(('SCORE TABLE'!AH10<='SCORE TABLE'!$F10:$BC10)/COUNTIF('SCORE TABLE'!$F10:$BC10,'SCORE TABLE'!$F10:$BC10))","v":46},{"$f":"SUMPRODUCT(('SCORE TABLE'!AI10<='SCORE TABLE'!$F10:$BC10)/COUNTIF('SCORE TABLE'!$F10:$BC10,'SCORE TABLE'!$F10:$BC10))","v":40},{"$f":"SUMPRODUCT(('SCORE TABLE'!AJ10<='SCORE TABLE'!$F10:$BC10)/COUNTIF('SCORE TABLE'!$F10:$BC10,'SCORE TABLE'!$F10:$BC10))","v":11},{"$f":"SUMPRODUCT(('SCORE TABLE'!AK10<='SCORE TABLE'!$F10:$BC10)/COUNTIF('SCORE TABLE'!$F10:$BC10,'SCORE TABLE'!$F10:$BC10))","v":12},{"$f":"SUMPRODUCT(('SCORE TABLE'!AL10<='SCORE TABLE'!$F10:$BC10)/COUNTIF('SCORE TABLE'!$F10:$BC10,'SCORE TABLE'!$F10:$BC10))","v":18},{"$f":"SUMPRODUCT(('SCORE TABLE'!AM10<='SCORE TABLE'!$F10:$BC10)/COUNTIF('SCORE TABLE'!$F10:$BC10,'SCORE TABLE'!$F10:$BC10))","v":43},{"$f":"SUMPRODUCT(('SCORE TABLE'!AN10<='SCORE TABLE'!$F10:$BC10)/COUNTIF('SCORE TABLE'!$F10:$BC10,'SCORE TABLE'!$F10:$BC10))","v":8},{"$f":"SUMPRODUCT(('SCORE TABLE'!AO10<='SCORE TABLE'!$F10:$BC10)/COUNTIF('SCORE TABLE'!$F10:$BC10,'SCORE TABLE'!$F10:$BC10))","v":13},{"$f":"SUMPRODUCT(('SCORE TABLE'!AP10<='SCORE TABLE'!$F10:$BC10)/COUNTIF('SCORE TABLE'!$F10:$BC10,'SCORE TABLE'!$F10:$BC10))","v":31},{"$f":"SUMPRODUCT(('SCORE TABLE'!AQ10<='SCORE TABLE'!$F10:$BC10)/COUNTIF('SCORE TABLE'!$F10:$BC10,'SCORE TABLE'!$F10:$BC10))","v":30},{"$f":"SUMPRODUCT(('SCORE TABLE'!AR10<='SCORE TABLE'!$F10:$BC10)/COUNTIF('SCORE TABLE'!$F10:$BC10,'SCORE TABLE'!$F10:$BC10))","v":9},{"$f":"SUMPRODUCT(('SCORE TABLE'!AS10<='SCORE TABLE'!$F10:$BC10)/COUNTIF('SCORE TABLE'!$F10:$BC10,'SCORE TABLE'!$F10:$BC10))","v":47},{"$f":"SUMPRODUCT(('SCORE TABLE'!AT10<='SCORE TABLE'!$F10:$BC10)/COUNTIF('SCORE TABLE'!$F10:$BC10,'SCORE TABLE'!$F10:$BC10))","v":42},{"$f":"SUMPRODUCT(('SCORE TABLE'!AU10<='SCORE TABLE'!$F10:$BC10)/COUNTIF('SCORE TABLE'!$F10:$BC10,'SCORE TABLE'!$F10:$BC10))","v":29},{"$f":"SUMPRODUCT(('SCORE TABLE'!AV10<='SCORE TABLE'!$F10:$BC10)/COUNTIF('SCORE TABLE'!$F10:$BC10,'SCORE TABLE'!$F10:$BC10))","v":20},{"$f":"SUMPRODUCT(('SCORE TABLE'!AW10<='SCORE TABLE'!$F10:$BC10)/COUNTIF('SCORE TABLE'!$F10:$BC10,'SCORE TABLE'!$F10:$BC10))","v":34},{"$f":"SUMPRODUCT(('SCORE TABLE'!AX10<='SCORE TABLE'!$F10:$BC10)/COUNTIF('SCORE TABLE'!$F10:$BC10,'SCORE TABLE'!$F10:$BC10))","v":25},{"$f":"SUMPRODUCT(('SCORE TABLE'!AY10<='SCORE TABLE'!$F10:$BC10)/COUNTIF('SCORE TABLE'!$F10:$BC10,'SCORE TABLE'!$F10:$BC10))","v":7},{"$f":"SUMPRODUCT(('SCORE TABLE'!AZ10<='SCORE TABLE'!$F10:$BC10)/COUNTIF('SCORE TABLE'!$F10:$BC10,'SCORE TABLE'!$F10:$BC10))","v":14},{"$f":"SUMPRODUCT(('SCORE TABLE'!BA10<='SCORE TABLE'!$F10:$BC10)/COUNTIF('SCORE TABLE'!$F10:$BC10,'SCORE TABLE'!$F10:$BC10))","v":28},{"$f":"SUMPRODUCT(('SCORE TABLE'!BB10<='SCORE TABLE'!$F10:$BC10)/COUNTIF('SCORE TABLE'!$F10:$BC10,'SCORE TABLE'!$F10:$BC10))","v":17},{"$f":"SUMPRODUCT(('SCORE TABLE'!BC10<='SCORE TABLE'!$F10:$BC10)/COUNTIF('SCORE TABLE'!$F10:$BC10,'SCORE TABLE'!$F10:$BC10))","v":36}]
[null,1000,1,"Policy and governance",null,null,{"$f":"SUMPRODUCT(('SCORE TABLE'!F11<='SCORE TABLE'!$F11:$BC11)/COUNTIF('SCORE TABLE'!$F11:$BC11,'SCORE TABLE'!$F11:$BC11))","v":{"v":26.999999999999993,"d":"27"}},{"$f":"SUMPRODUCT(('SCORE TABLE'!G11<='SCORE TABLE'!$F11:$BC11)/COUNTIF('SCORE TABLE'!$F11:$BC11,'SCORE TABLE'!$F11:$BC11))","v":{"v":22.999999999999996,"d":"23"}},{"$f":"SUMPRODUCT(('SCORE TABLE'!H11<='SCORE TABLE'!$F11:$BC11)/COUNTIF('SCORE TABLE'!$F11:$BC11,'SCORE TABLE'!$F11:$BC11))","v":{"v":29.999999999999996,"d":"30"}},{"$f":"SUMPRODUCT(('SCORE TABLE'!I11<='SCORE TABLE'!$F11:$BC11)/COUNTIF('SCORE TABLE'!$F11:$BC11,'SCORE TABLE'!$F11:$BC11))","v":{"v":28.999999999999996,"d":"29"}},{"$f":"SUMPRODUCT(('SCORE TABLE'!J11<='SCORE TABLE'!$F11:$BC11)/COUNTIF('SCORE TABLE'!$F11:$BC11,'SCORE TABLE'!$F11:$BC11))","v":9},{"$f":"SUMPRODUCT(('SCORE TABLE'!K11<='SCORE TABLE'!$F11:$BC11)/COUNTIF('SCORE TABLE'!$F11:$BC11,'SCORE TABLE'!$F11:$BC11))","v":10},{"$f":"SUMPRODUCT(('SCORE TABLE'!L11<='SCORE TABLE'!$F11:$BC11)/COUNTIF('SCORE TABLE'!$F11:$BC11,'SCORE TABLE'!$F11:$BC11))","v":{"v":25.999999999999996,"d":"26"}},{"$f":"SUMPRODUCT(('SCORE TABLE'!M11<='SCORE TABLE'!$F11:$BC11)/COUNTIF('SCORE TABLE'!$F11:$BC11,'SCORE TABLE'!$F11:$BC11))","v":{"v":23.999999999999993,"d":"24"}},{"$f":"SUMPRODUCT(('SCORE TABLE'!N11<='SCORE TABLE'!$F11:$BC11)/COUNTIF('SCORE TABLE'!$F11:$BC11,'SCORE TABLE'!$F11:$BC11))","v":4},{"$f":"SUMPRODUCT(('SCORE TABLE'!O11<='SCORE TABLE'!$F11:$BC11)/COUNTIF('SCORE TABLE'!$F11:$BC11,'SCORE TABLE'!$F11:$BC11))","v":{"v":30.999999999999996,"d":"31"}},{"$f":"SUMPRODUCT(('SCORE TABLE'!P11<='SCORE TABLE'!$F11:$BC11)/COUNTIF('SCORE TABLE'!$F11:$BC11,'SCORE TABLE'!$F11:$BC11))","v":{"v":13.000000000000002,"d":"13"}},{"$f":"SUMPRODUCT(('SCORE TABLE'!Q11<='SCORE TABLE'!$F11:$BC11)/COUNTIF('SCORE TABLE'!$F11:$BC11,'SCORE TABLE'!$F11:$BC11))","v":4},{"$f":"SUMPRODUCT(('SCORE TABLE'!R11<='SCORE TABLE'!$F11:$BC11)/COUNTIF('SCORE TABLE'!$F11:$BC11,'SCORE TABLE'!$F11:$BC11))","v":{"v":22.999999999999996,"d":"23"}},{"$f":"SUMPRODUCT(('SCORE TABLE'!S11<='SCORE TABLE'!$F11:$BC11)/COUNTIF('SCORE TABLE'!$F11:$BC11,'SCORE TABLE'!$F11:$BC11))","v":{"v":24.999999999999996,"d":"25"}},{"$f":"SUMPRODUCT(('SCORE TABLE'!T11<='SCORE TABLE'!$F11:$BC11)/COUNTIF('SCORE TABLE'!$F11:$BC11,'SCORE TABLE'!$F11:$BC11))","v":{"v":7.999999999999999,"d":"8"}},{"$f":"SUMPRODUCT(('SCORE TABLE'!U11<='SCORE TABLE'!$F11:$BC11)/COUNTIF('SCORE TABLE'!$F11:$BC11,'SCORE TABLE'!$F11:$BC11))","v":{"v":27.999999999999993,"d":"28"}},{"$f":"SUMPRODUCT(('SCORE TABLE'!V11<='SCORE TABLE'!$F11:$BC11)/COUNTIF('SCORE TABLE'!$F11:$BC11,'SCORE TABLE'!$F11:$BC11))","v":{"v":7.999999999999999,"d":"8"}},{"$f":"SUMPRODUCT(('SCORE TABLE'!W11<='SCORE TABLE'!$F11:$BC11)/COUNTIF('SCORE TABLE'!$F11:$BC11,'SCORE TABLE'!$F11:$BC11))","v":7},{"$f":"SUMPRODUCT(('SCORE TABLE'!X11<='SCORE TABLE'!$F11:$BC11)/COUNTIF('SCORE TABLE'!$F11:$BC11,'SCORE TABLE'!$F11:$BC11))","v":{"v":21.999999999999996,"d":"22"}},{"$f":"SUMPRODUCT(('SCORE TABLE'!Y11<='SCORE TABLE'!$F11:$BC11)/COUNTIF('SCORE TABLE'!$F11:$BC11,'SCORE TABLE'!$F11:$BC11))","v":18},{"$f":"SUMPRODUCT(('SCORE TABLE'!Z11<='SCORE TABLE'!$F11:$BC11)/COUNTIF('SCORE TABLE'!$F11:$BC11,'SCORE TABLE'!$F11:$BC11))","v":{"v":24.999999999999996,"d":"25"}},{"$f":"SUMPRODUCT(('SCORE TABLE'!AA11<='SCORE TABLE'!$F11:$BC11)/COUNTIF('SCORE TABLE'!$F11:$BC11,'SCORE TABLE'!$F11:$BC11))","v":{"v":12.000000000000002,"d":"12"}},{"$f":"SUMPRODUCT(('SCORE TABLE'!AB11<='SCORE TABLE'!$F11:$BC11)/COUNTIF('SCORE TABLE'!$F11:$BC11,'SCORE TABLE'!$F11:$BC11))","v":5},{"$f":"SUMPRODUCT(('SCORE TABLE'!AC11<='SCORE TABLE'!$F11:$BC11)/COUNTIF('SCORE TABLE'!$F11:$BC11,'SCORE TABLE'!$F11:$BC11))","v":4},{"$f":"SUMPRODUCT(('SCORE TABLE'!AD11<='SCORE TABLE'!$F11:$BC11)/COUNTIF('SCORE TABLE'!$F11:$BC11,'SCORE TABLE'!$F11:$BC11))","v":{"v":15.000000000000002,"d":"15"}},{"$f":"SUMPRODUCT(('SCORE TABLE'!AE11<='SCORE TABLE'!$F11:$BC11)/COUNTIF('SCORE TABLE'!$F11:$BC11,'SCORE TABLE'!$F11:$BC11))","v":{"v":14.000000000000002,"d":"14"}},{"$f":"SUMPRODUCT(('SCORE TABLE'!AF11<='SCORE TABLE'!$F11:$BC11)/COUNTIF('SCORE TABLE'!$F11:$BC11,'SCORE TABLE'!$F11:$BC11))","v":3},{"$f":"SUMPRODUCT(('SCORE TABLE'!AG11<='SCORE TABLE'!$F11:$BC11)/COUNTIF('SCORE TABLE'!$F11:$BC11,'SCORE TABLE'!$F11:$BC11))","v":6},{"$f":"SUMPRODUCT(('SCORE TABLE'!AH11<='SCORE TABLE'!$F11:$BC11)/COUNTIF('SCORE TABLE'!$F11:$BC11,'SCORE TABLE'!$F11:$BC11))","v":{"v":25.999999999999996,"d":"26"}},{"$f":"SUMPRODUCT(('SCORE TABLE'!AI11<='SCORE TABLE'!$F11:$BC11)/COUNTIF('SCORE TABLE'!$F11:$BC11,'SCORE TABLE'!$F11:$BC11))","v":{"v":25.999999999999996,"d":"26"}},{"$f":"SUMPRODUCT(('SCORE TABLE'!AJ11<='SCORE TABLE'!$F11:$BC11)/COUNTIF('SCORE TABLE'!$F11:$BC11,'SCORE TABLE'!$F11:$BC11))","v":2},{"$f":"SUMPRODUCT(('SCORE TABLE'!AK11<='SCORE TABLE'!$F11:$BC11)/COUNTIF('SCORE TABLE'!$F11:$BC11,'SCORE TABLE'!$F11:$BC11))","v":17},{"$f":"SUMPRODUCT(('SCORE TABLE'!AL11<='SCORE TABLE'!$F11:$BC11)/COUNTIF('SCORE TABLE'!$F11:$BC11,'SCORE TABLE'!$F11:$BC11))","v":{"v":24.999999999999996,"d":"25"}},{"$f":"SUMPRODUCT(('SCORE TABLE'!AM11<='SCORE TABLE'!$F11:$BC11)/COUNTIF('SCORE TABLE'!$F11:$BC11,'SCORE TABLE'!$F11:$BC11))","v":{"v":27.999999999999993,"d":"28"}},{"$f":"SUMPRODUCT(('SCORE TABLE'!AN11<='SCORE TABLE'!$F11:$BC11)/COUNTIF('SCORE TABLE'!$F11:$BC11,'SCORE TABLE'!$F11:$BC11))","v":{"v":7.999999999999999,"d":"8"}},{"$f":"SUMPRODUCT(('SCORE TABLE'!AO11<='SCORE TABLE'!$F11:$BC11)/COUNTIF('SCORE TABLE'!$F11:$BC11,'SCORE TABLE'!$F11:$BC11))","v":1},{"$f":"SUMPRODUCT(('SCORE TABLE'!AP11<='SCORE TABLE'!$F11:$BC11)/COUNTIF('SCORE TABLE'!$F11:$BC11,'SCORE TABLE'!$F11:$BC11))","v":19},{"$f":"SUMPRODUCT(('SCORE TABLE'!AQ11<='SCORE TABLE'!$F11:$BC11)/COUNTIF('SCORE TABLE'!$F11:$BC11,'SCORE TABLE'!$F11:$BC11))","v":16},{"$f":"SUMPRODUCT(('SCORE TABLE'!AR11<='SCORE TABLE'!$F11:$BC11)/COUNTIF('SCORE TABLE'!$F11:$BC11,'SCORE TABLE'!$F11:$BC11))","v":9},{"$f":"SUMPRODUCT(('SCORE TABLE'!AS11<='SCORE TABLE'!$F11:$BC11)/COUNTIF('SCORE TABLE'!$F11:$BC11,'SCORE TABLE'!$F11:$BC11))","v":{"v":28.999999999999996,"d":"29"}},{"$f":"SUMPRODUCT(('SCORE TABLE'!AT11<='SCORE TABLE'!$F11:$BC11)/COUNTIF('SCORE TABLE'!$F11:$BC11,'SCORE TABLE'!$F11:$BC11))","v":{"v":19.999999999999996,"d":"20"}},{"$f":"SUMPRODUCT(('SCORE TABLE'!AU11<='SCORE TABLE'!$F11:$BC11)/COUNTIF('SCORE TABLE'!$F11:$BC11,'SCORE TABLE'!$F11:$BC11))","v":{"v":19.999999999999996,"d":"20"}},{"$f":"SUMPRODUCT(('SCORE TABLE'!AV11<='SCORE TABLE'!$F11:$BC11)/COUNTIF('SCORE TABLE'!$F11:$BC11,'SCORE TABLE'!$F11:$BC11))","v":17},{"$f":"SUMPRODUCT(('SCORE TABLE'!AW11<='SCORE TABLE'!$F11:$BC11)/COUNTIF('SCORE TABLE'!$F11:$BC11,'SCORE TABLE'!$F11:$BC11))","v":{"v":19.999999999999996,"d":"20"}},{"$f":"SUMPRODUCT(('SCORE TABLE'!AX11<='SCORE TABLE'!$F11:$BC11)/COUNTIF('SCORE TABLE'!$F11:$BC11,'SCORE TABLE'!$F11:$BC11))","v":{"v":25.999999999999996,"d":"26"}},{"$f":"SUMPRODUCT(('SCORE TABLE'!AY11<='SCORE TABLE'!$F11:$BC11)/COUNTIF('SCORE TABLE'!$F11:$BC11,'SCORE TABLE'!$F11:$BC11))","v":{"v":19.999999999999996,"d":"20"}},{"$f":"SUMPRODUCT(('SCORE TABLE'!AZ11<='SCORE TABLE'!$F11:$BC11)/COUNTIF('SCORE TABLE'!$F11:$BC11,'SCORE TABLE'!$F11:$BC11))","v":{"v":19.999999999999996,"d":"20"}},{"$f":"SUMPRODUCT(('SCORE TABLE'!BA11<='SCORE TABLE'!$F11:$BC11)/COUNTIF('SCORE TABLE'!$F11:$BC11,'SCORE TABLE'!$F11:$BC11))","v":6},{"$f":"SUMPRODUCT(('SCORE TABLE'!BB11<='SCORE TABLE'!$F11:$BC11)/COUNTIF('SCORE TABLE'!$F11:$BC11,'SCORE TABLE'!$F11:$BC11))","v":{"v":20.999999999999996,"d":"21"}},{"$f":"SUMPRODUCT(('SCORE TABLE'!BC11<='SCORE TABLE'!$F11:$BC11)/COUNTIF('SCORE TABLE'!$F11:$BC11,'SCORE TABLE'!$F11:$BC11))","v":11}]
[null,1001,1.1,"Obesity-related policy",null,null,{"$f":"SUMPRODUCT(('SCORE TABLE'!F12<='SCORE TABLE'!$F12:$BC12)/COUNTIF('SCORE TABLE'!$F12:$BC12,'SCORE TABLE'!$F12:$BC12))","v":{"v":9.999999999999998,"d":"10"}},{"$f":"SUMPRODUCT(('SCORE TABLE'!G12<='SCORE TABLE'!$F12:$BC12)/COUNTIF('SCORE TABLE'!$F12:$BC12,'SCORE TABLE'!$F12:$BC12))","v":{"v":5.999999999999999,"d":"6"}},{"$f":"SUMPRODUCT(('SCORE TABLE'!H12<='SCORE TABLE'!$F12:$BC12)/COUNTIF('SCORE TABLE'!$F12:$BC12,'SCORE TABLE'!$F12:$BC12))","v":{"v":17.999999999999996,"d":"18"}},{"$f":"SUMPRODUCT(('SCORE TABLE'!I12<='SCORE TABLE'!$F12:$BC12)/COUNTIF('SCORE TABLE'!$F12:$BC12,'SCORE TABLE'!$F12:$BC12))","v":{"v":12.999999999999996,"d":"13"}},{"$f":"SUMPRODUCT(('SCORE TABLE'!J12<='SCORE TABLE'!$F12:$BC12)/COUNTIF('SCORE TABLE'!$F12:$BC12,'SCORE TABLE'!$F12:$BC12))","v":{"v":4.999999999999999,"d":"5"}},{"$f":"SUMPRODUCT(('SCORE TABLE'!K12<='SCORE TABLE'!$F12:$BC12)/COUNTIF('SCORE TABLE'!$F12:$BC12,'SCORE TABLE'!$F12:$BC12))","v":1},{"$f":"SUMPRODUCT(('SCORE TABLE'!L12<='SCORE TABLE'!$F12:$BC12)/COUNTIF('SCORE TABLE'!$F12:$BC12,'SCORE TABLE'!$F12:$BC12))","v":{"v":13.999999999999993,"d":"14"}},{"$f":"SUMPRODUCT(('SCORE TABLE'!M12<='SCORE TABLE'!$F12:$BC12)/COUNTIF('SCORE TABLE'!$F12:$BC12,'SCORE TABLE'!$F12:$BC12))","v":{"v":15.999999999999993,"d":"16"}},{"$f":"SUMPRODUCT(('SCORE TABLE'!N12<='SCORE TABLE'!$F12:$BC12)/COUNTIF('SCORE TABLE'!$F12:$BC12,'SCORE TABLE'!$F12:$BC12))","v":{"v":10.999999999999998,"d":"11"}},{"$f":"SUMPRODUCT(('SCORE TABLE'!O12<='SCORE TABLE'!$F12:$BC12)/COUNTIF('SCORE TABLE'!$F12:$BC12,'SCORE TABLE'!$F12:$BC12))","v":{"v":16.999999999999993,"d":"17"}},{"$f":"SUMPRODUCT(('SCORE TABLE'!P12<='SCORE TABLE'!$F12:$BC12)/COUNTIF('SCORE TABLE'!$F12:$BC12,'SCORE TABLE'!$F12:$BC12))","v":4},{"$f":"SUMPRODUCT(('SCORE TABLE'!Q12<='SCORE TABLE'!$F12:$BC12)/COUNTIF('SCORE TABLE'!$F12:$BC12,'SCORE TABLE'!$F12:$BC12))","v":{"v":10.999999999999998,"d":"11"}},{"$f":"SUMPRODUCT(('SCORE TABLE'!R12<='SCORE TABLE'!$F12:$BC12)/COUNTIF('SCORE TABLE'!$F12:$BC12,'SCORE TABLE'!$F12:$BC12))","v":{"v":5.999999999999999,"d":"6"}},{"$f":"SUMPRODUCT(('SCORE TABLE'!S12<='SCORE TABLE'!$F12:$BC12)/COUNTIF('SCORE TABLE'!$F12:$BC12,'SCORE TABLE'!$F12:$BC12))","v":{"v":12.999999999999996,"d":"13"}},{"$f":"SUMPRODUCT(('SCORE TABLE'!T12<='SCORE TABLE'!$F12:$BC12)/COUNTIF('SCORE TABLE'!$F12:$BC12,'SCORE TABLE'!$F12:$BC12))","v":{"v":15.999999999999993,"d":"16"}},{"$f":"SUMPRODUCT(('SCORE TABLE'!U12<='SCORE TABLE'!$F12:$BC12)/COUNTIF('SCORE TABLE'!$F12:$BC12,'SCORE TABLE'!$F12:$BC12))","v":{"v":18.999999999999993,"d":"19"}},{"$f":"SUMPRODUCT(('SCORE TABLE'!V12<='SCORE TABLE'!$F12:$BC12)/COUNTIF('SCORE TABLE'!$F12:$BC12,'SCORE TABLE'!$F12:$BC12))","v":{"v":15.999999999999993,"d":"16"}},{"$f":"SUMPRODUCT(('SCORE TABLE'!W12<='SCORE TABLE'!$F12:$BC12)/COUNTIF('SCORE TABLE'!$F12:$BC12,'SCORE TABLE'!$F12:$BC12))","v":{"v":10.999999999999998,"d":"11"}},{"$f":"SUMPRODUCT(('SCORE TABLE'!X12<='SCORE TABLE'!$F12:$BC12)/COUNTIF('SCORE TABLE'!$F12:$BC12,'SCORE TABLE'!$F12:$BC12))","v":{"v":11.999999999999998,"d":"12"}},{"$f":"SUMPRODUCT(('SCORE TABLE'!Y12<='SCORE TABLE'!$F12:$BC12)/COUNTIF('SCORE TABLE'!$F12:$BC12,'SCORE TABLE'!$F12:$BC12))","v":{"v":12.999999999999996,"d":"13"}},{"$f":"SUMPRODUCT(('SCORE TABLE'!Z12<='SCORE TABLE'!$F12:$BC12)/COUNTIF('SCORE TABLE'!$F12:$BC12,'SCORE TABLE'!$F12:$BC12))","v":{"v":16.999999999999993,"d":"17"}},{"$f":"SUMPRODUCT(('SCORE TABLE'!AA12<='SCORE TABLE'!$F12:$BC12)/COUNTIF('SCORE TABLE'!$F12:$BC12,'SCORE TABLE'!$F12:$BC12))","v":3},{"$f":"SUMPRODUCT(('SCORE TABLE'!AB12<='SCORE TABLE'!$F12:$BC12)/COUNTIF('SCORE TABLE'!$F12:$BC12,'SCORE TABLE'!$F12:$BC12))","v":{"v":15.999999999999993,"d":"16"}},{"$f":"SUMPRODUCT(('SCORE TABLE'!AC12<='SCORE TABLE'!$F12:$BC12)/COUNTIF('SCORE TABLE'!$F12:$BC12,'SCORE TABLE'!$F12:$BC12))","v":{"v":4.999999999999999,"d":"5"}},{"$f":"SUMPRODUCT(('SCORE TABLE'!AD12<='SCORE TABLE'!$F12:$BC12)/COUNTIF('SCORE TABLE'!$F12:$BC12,'SCORE TABLE'!$F12:$BC12))","v":{"v":10.999999999999998,"d":"11"}},{"$f":"SUMPRODUCT(('SCORE TABLE'!AE12<='SCORE TABLE'!$F12:$BC12)/COUNTIF('SCORE TABLE'!$F12:$BC12,'SCORE TABLE'!$F12:$BC12))","v":{"v":13.999999999999993,"d":"14"}},{"$f":"SUMPRODUCT(('SCORE TABLE'!AF12<='SCORE TABLE'!$F12:$BC12)/COUNTIF('SCORE TABLE'!$F12:$BC12,'SCORE TABLE'!$F12:$BC12))","v":9},{"$f":"SUMPRODUCT(('SCORE TABLE'!AG12<='SCORE TABLE'!$F12:$BC12)/COUNTIF('SCORE TABLE'!$F12:$BC12,'SCORE TABLE'!$F12:$BC12))","v":{"v":12.999999999999996,"d":"13"}},{"$f":"SUMPRODUCT(('SCORE TABLE'!AH12<='SCORE TABLE'!$F12:$BC12)/COUNTIF('SCORE TABLE'!$F12:$BC12,'SCORE TABLE'!$F12:$BC12))","v":{"v":13.999999999999993,"d":"14"}},{"$f":"SUMPRODUCT(('SCORE TABLE'!AI12<='SCORE TABLE'!$F12:$BC12)/COUNTIF('SCORE TABLE'!$F12:$BC12,'SCORE TABLE'!$F12:$BC12))","v":9},{"$f":"SUMPRODUCT(('SCORE TABLE'!AJ12<='SCORE TABLE'!$F12:$BC12)/COUNTIF('SCORE TABLE'!$F12:$BC12,'SCORE TABLE'!$F12:$BC12))","v":{"v":5.999999999999999,"d":"6"}},{"$f":"SUMPRODUCT(('SCORE TABLE'!AK12<='SCORE TABLE'!$F12:$BC12)/COUNTIF('SCORE TABLE'!$F12:$BC12,'SCORE TABLE'!$F12:$BC12))","v":{"v":15.999999999999993,"d":"16"}},{"$f":"SUMPRODUCT(('SCORE TABLE'!AL12<='SCORE TABLE'!$F12:$BC12)/COUNTIF('SCORE TABLE'!$F12:$BC12,'SCORE TABLE'!$F12:$BC12))","v":{"v":16.999999999999993,"d":"17"}},{"$f":"SUMPRODUCT(('SCORE TABLE'!AM12<='SCORE TABLE'!$F12:$BC12)/COUNTIF('SCORE TABLE'!$F12:$BC12,'SCORE TABLE'!$F12:$BC12))","v":{"v":18.999999999999993,"d":"19"}},{"$f":"SUMPRODUCT(('SCORE TABLE'!AN12<='SCORE TABLE'!$F12:$BC12)/COUNTIF('SCORE TABLE'!$F12:$BC12,'SCORE TABLE'!$F12:$BC12))","v":{"v":15.999999999999993,"d":"16"}},{"$f":"SUMPRODUCT(('SCORE TABLE'!AO12<='SCORE TABLE'!$F12:$BC12)/COUNTIF('SCORE TABLE'!$F12:$BC12,'SCORE TABLE'!$F12:$BC12))","v":2},{"$f":"SUMPRODUCT(('SCORE TABLE'!AP12<='SCORE TABLE'!$F12:$BC12)/COUNTIF('SCORE TABLE'!$F12:$BC12,'SCORE TABLE'!$F12:$BC12))","v":{"v":7.999999999999999,"d":"8"}},{"$f":"SUMPRODUCT(('SCORE TABLE'!AQ12<='SCORE TABLE'!$F12:$BC12)/COUNTIF('SCORE TABLE'!$F12:$BC12,'SCORE TABLE'!$F12:$BC12))","v":{"v":5.999999999999999,"d":"6"}},{"$f":"SUMPRODUCT(('SCORE TABLE'!AR12<='SCORE TABLE'!$F12:$BC12)/COUNTIF('SCORE TABLE'!$F12:$BC12,'SCORE TABLE'!$F12:$BC12))","v":{"v":4.999999999999999,"d":"5"}},{"$f":"SUMPRODUCT(('SCORE TABLE'!AS12<='SCORE TABLE'!$F12:$BC12)/COUNTIF('SCORE TABLE'!$F12:$BC12,'SCORE TABLE'!$F12:$BC12))","v":{"v":16.999999999999993,"d":"17"}},{"$f":"SUMPRODUCT(('SCORE TABLE'!AT12<='SCORE TABLE'!$F12:$BC12)/COUNTIF('SCORE TABLE'!$F12:$BC12,'SCORE TABLE'!$F12:$BC12))","v":9},{"$f":"SUMPRODUCT(('SCORE TABLE'!AU12<='SCORE TABLE'!$F12:$BC12)/COUNTIF('SCORE TABLE'!$F12:$BC12,'SCORE TABLE'!$F12:$BC12))","v":9},{"$f":"SUMPRODUCT(('SCORE TABLE'!AV12<='SCORE TABLE'!$F12:$BC12)/COUNTIF('SCORE TABLE'!$F12:$BC12,'SCORE TABLE'!$F12:$BC12))","v":{"v":6.999999999999999,"d":"7"}},{"$f":"SUMPRODUCT(('SCORE TABLE'!AW12<='SCORE TABLE'!$F12:$BC12)/COUNTIF('SCORE TABLE'!$F12:$BC12,'SCORE TABLE'!$F12:$BC12))","v":9},{"$f":"SUMPRODUCT(('SCORE TABLE'!AX12<='SCORE TABLE'!$F12:$BC12)/COUNTIF('SCORE TABLE'!$F12:$BC12,'SCORE TABLE'!$F12:$BC12))","v":{"v":13.999999999999993,"d":"14"}},{"$f":"SUMPRODUCT(('SCORE TABLE'!AY12<='SCORE TABLE'!$F12:$BC12)/COUNTIF('SCORE TABLE'!$F12:$BC12,'SCORE TABLE'!$F12:$BC12))","v":{"v":13.999999999999993,"d":"14"}},{"$f":"SUMPRODUCT(('SCORE TABLE'!AZ12<='SCORE TABLE'!$F12:$BC12)/COUNTIF('SCORE TABLE'!$F12:$BC12,'SCORE TABLE'!$F12:$BC12))","v":9},{"$f":"SUMPRODUCT(('SCORE TABLE'!BA12<='SCORE TABLE'!$F12:$BC12)/COUNTIF('SCORE TABLE'!$F12:$BC12,'SCORE TABLE'!$F12:$BC12))","v":{"v":12.999999999999996,"d":"13"}},{"$f":"SUMPRODUCT(('SCORE TABLE'!BB12<='SCORE TABLE'!$F12:$BC12)/COUNTIF('SCORE TABLE'!$F12:$BC12,'SCORE TABLE'!$F12:$BC12))","v":{"v":14.999999999999993,"d":"15"}},{"$f":"SUMPRODUCT(('SCORE TABLE'!BC12<='SCORE TABLE'!$F12:$BC12)/COUNTIF('SCORE TABLE'!$F12:$BC12,'SCORE TABLE'!$F12:$BC12))","v":{"v":18.999999999999993,"d":"19"}}]
[null,1002,"1.1.1","Health policy/strategy/plan that includes obesity",null,null,{"$f":"SUMPRODUCT(('SCORE TABLE'!F13<='SCORE TABLE'!$F13:$BC13)/COUNTIF('SCORE TABLE'!$F13:$BC13,'SCORE TABLE'!$F13:$BC13))","v":{"v":2.0000000000000018,"d":"2"}},{"$f":"SUMPRODUCT(('SCORE TABLE'!G13<='SCORE TABLE'!$F13:$BC13)/COUNTIF('SCORE TABLE'!$F13:$BC13,'SCORE TABLE'!$F13:$BC13))","v":{"v":1.0000000000000002,"d":"1"}},{"$f":"SUMPRODUCT(('SCORE TABLE'!H13<='SCORE TABLE'!$F13:$BC13)/COUNTIF('SCORE TABLE'!$F13:$BC13,'SCORE TABLE'!$F13:$BC13))","v":{"v":2.0000000000000018,"d":"2"}},{"$f":"SUMPRODUCT(('SCORE TABLE'!I13<='SCORE TABLE'!$F13:$BC13)/COUNTIF('SCORE TABLE'!$F13:$BC13,'SCORE TABLE'!$F13:$BC13))","v":{"v":1.0000000000000002,"d":"1"}},{"$f":"SUMPRODUCT(('SCORE TABLE'!J13<='SCORE TABLE'!$F13:$BC13)/COUNTIF('SCORE TABLE'!$F13:$BC13,'SCORE TABLE'!$F13:$BC13))","v":{"v":1.0000000000000002,"d":"1"}},{"$f":"SUMPRODUCT(('SCORE TABLE'!K13<='SCORE TABLE'!$F13:$BC13)/COUNTIF('SCORE TABLE'!$F13:$BC13,'SCORE TABLE'!$F13:$BC13))","v":{"v":2.0000000000000018,"d":"2"}},{"$f":"SUMPRODUCT(('SCORE TABLE'!L13<='SCORE TABLE'!$F13:$BC13)/COUNTIF('SCORE TABLE'!$F13:$BC13,'SCORE TABLE'!$F13:$BC13))","v":{"v":2.0000000000000018,"d":"2"}},{"$f":"SUMPRODUCT(('SCORE TABLE'!M13<='SCORE TABLE'!$F13:$BC13)/COUNTIF('SCORE TABLE'!$F13:$BC13,'SCORE TABLE'!$F13:$BC13))","v":{"v":2.0000000000000018,"d":"2"}},{"$f":"SUMPRODUCT(('SCORE TABLE'!N13<='SCORE TABLE'!$F13:$BC13)/COUNTIF('SCORE TABLE'!$F13:$BC13,'SCORE TABLE'!$F13:$BC13))","v":{"v":1.0000000000000002,"d":"1"}},{"$f":"SUMPRODUCT(('SCORE TABLE'!O13<='SCORE TABLE'!$F13:$BC13)/COUNTIF('SCORE TABLE'!$F13:$BC13,'SCORE TABLE'!$F13:$BC13))","v":{"v":2.0000000000000018,"d":"2"}},{"$f":"SUMPRODUCT(('SCORE TABLE'!P13<='SCORE TABLE'!$F13:$BC13)/COUNTIF('SCORE TABLE'!$F13:$BC13,'SCORE TABLE'!$F13:$BC13))","v":{"v":1.0000000000000002,"d":"1"}},{"$f":"SUMPRODUCT(('SCORE TABLE'!Q13<='SCORE TABLE'!$F13:$BC13)/COUNTIF('SCORE TABLE'!$F13:$BC13,'SCORE TABLE'!$F13:$BC13))","v":{"v":1.0000000000000002,"d":"1"}},{"$f":"SUMPRODUCT(('SCORE TABLE'!R13<='SCORE TABLE'!$F13:$BC13)/COUNTIF('SCORE TABLE'!$F13:$BC13,'SCORE TABLE'!$F13:$BC13))","v":{"v":1.0000000000000002,"d":"1"}},{"$f":"SUMPRODUCT(('SCORE TABLE'!S13<='SCORE TABLE'!$F13:$BC13)/COUNTIF('SCORE TABLE'!$F13:$BC13,'SCORE TABLE'!$F13:$BC13))","v":{"v":2.0000000000000018,"d":"2"}},{"$f":"SUMPRODUCT(('SCORE TABLE'!T13<='SCORE TABLE'!$F13:$BC13)/COUNTIF('SCORE TABLE'!$F13:$BC13,'SCORE TABLE'!$F13:$BC13))","v":{"v":2.0000000000000018,"d":"2"}},{"$f":"SUMPRODUCT(('SCORE TABLE'!U13<='SCORE TABLE'!$F13:$BC13)/COUNTIF('SCORE TABLE'!$F13:$BC13,'SCORE TABLE'!$F13:$BC13))","v":{"v":2.0000000000000018,"d":"2"}},{"$f":"SUMPRODUCT(('SCORE TABLE'!V13<='SCORE TABLE'!$F13:$BC13)/COUNTIF('SCORE TABLE'!$F13:$BC13,'SCORE TABLE'!$F13:$BC13))","v":{"v":2.0000000000000018,"d":"2"}},{"$f":"SUMPRODUCT(('SCORE TABLE'!W13<='SCORE TABLE'!$F13:$BC13)/COUNTIF('SCORE TABLE'!$F13:$BC13,'SCORE TABLE'!$F13:$BC13))","v":{"v":1.0000000000000002,"d":"1"}},{"$f":"SUMPRODUCT(('SCORE TABLE'!X13<='SCORE TABLE'!$F13:$BC13)/COUNTIF('SCORE TABLE'!$F13:$BC13,'SCORE TABLE'!$F13:$BC13))","v":{"v":2.0000000000000018,"d":"2"}},{"$f":"SUMPRODUCT(('SCORE TABLE'!Y13<='SCORE TABLE'!$F13:$BC13)/COUNTIF('SCORE TABLE'!$F13:$BC13,'SCORE TABLE'!$F13:$BC13))","v":{"v":2.0000000000000018,"d":"2"}},{"$f":"SUMPRODUCT(('SCORE TABLE'!Z13<='SCORE TABLE'!$F13:$BC13)/COUNTIF('SCORE TABLE'!$F13:$BC13,'SCORE TABLE'!$F13:$BC13))","v":{"v":2.0000000000000018,"d":"2"}},{"$f":"SUMPRODUCT(('SCORE TABLE'!AA13<='SCORE TABLE'!$F13:$BC13)/COUNTIF('SCORE TABLE'!$F13:$BC13,'SCORE TABLE'!$F13:$BC13))","v":{"v":2.0000000000000018,"d":"2"}},{"$f":"SUMPRODUCT(('SCORE TABLE'!AB13<='SCORE TABLE'!$F13:$BC13)/COUNTIF('SCORE TABLE'!$F13:$BC13,'SCORE TABLE'!$F13:$BC13))","v":{"v":2.0000000000000018,"d":"2"}},{"$f":"SUMPRODUCT(('SCORE TABLE'!AC13<='SCORE TABLE'!$F13:$BC13)/COUNTIF('SCORE TABLE'!$F13:$BC13,'SCORE TABLE'!$F13:$BC13))","v":{"v":1.0000000000000002,"d":"1"}},{"$f":"SUMPRODUCT(('SCORE TABLE'!AD13<='SCORE TABLE'!$F13:$BC13)/COUNTIF('SCORE TABLE'!$F13:$BC13,'SCORE TABLE'!$F13:$BC13))","v":{"v":1.0000000000000002,"d":"1"}},{"$f":"SUMPRODUCT(('SCORE TABLE'!AE13<='SCORE TABLE'!$F13:$BC13)/COUNTIF('SCORE TABLE'!$F13:$BC13,'SCORE TABLE'!$F13:$BC13))","v":{"v":1.0000000000000002,"d":"1"}},{"$f":"SUMPRODUCT(('SCORE TABLE'!AF13<='SCORE TABLE'!$F13:$BC13)/COUNTIF('SCORE TABLE'!$F13:$BC13,'SCORE TABLE'!$F13:$BC13))","v":{"v":1.0000000000000002,"d":"1"}},{"$f":"SUMPRODUCT(('SCORE TABLE'!AG13<='SCORE TABLE'!$F13:$BC13)/COUNTIF('SCORE TABLE'!$F13:$BC13,'SCORE TABLE'!$F13:$BC13))","v":{"v":2.0000000000000018,"d":"2"}},{"$f":"SUMPRODUCT(('SCORE TABLE'!AH13<='SCORE TABLE'!$F13:$BC13)/COUNTIF('SCORE TABLE'!$F13:$BC13,'SCORE TABLE'!$F13:$BC13))","v":{"v":2.0000000000000018,"d":"2"}},{"$f":"SUMPRODUCT(('SCORE TABLE'!AI13<='SCORE TABLE'!$F13:$BC13)/COUNTIF('SCORE TABLE'!$F13:$BC13,'SCORE TABLE'!$F13:$BC13))","v":{"v":1.0000000000000002,"d":"1"}},{"$f":"SUMPRODUCT(('SCORE TABLE'!AJ13<='SCORE TABLE'!$F13:$BC13)/COUNTIF('SCORE TABLE'!$F13:$BC13,'SCORE TABLE'!$F13:$BC13))","v":{"v":1.0000000000000002,"d":"1"}},{"$f":"SUMPRODUCT(('SCORE TABLE'!AK13<='SCORE TABLE'!$F13:$BC13)/COUNTIF('SCORE TABLE'!$F13:$BC13,'SCORE TABLE'!$F13:$BC13))","v":{"v":2.0000000000000018,"d":"2"}},{"$f":"SUMPRODUCT(('SCORE TABLE'!AL13<='SCORE TABLE'!$F13:$BC13)/COUNTIF('SCORE TABLE'!$F13:$BC13,'SCORE TABLE'!$F13:$BC13))","v":{"v":2.0000000000000018,"d":"2"}},{"$f":"SUMPRODUCT(('SCORE TABLE'!AM13<='SCORE TABLE'!$F13:$BC13)/COUNTIF('SCORE TABLE'!$F13:$BC13,'SCORE TABLE'!$F13:$BC13))","v":{"v":2.0000000000000018,"d":"2"}},{"$f":"SUMPRODUCT(('SCORE TABLE'!AN13<='SCORE TABLE'!$F13:$BC13)/COUNTIF('SCORE TABLE'!$F13:$BC13,'SCORE TABLE'!$F13:$BC13))","v":{"v":2.0000000000000018,"d":"2"}},{"$f":"SUMPRODUCT(('SCORE TABLE'!AO13<='SCORE TABLE'!$F13:$BC13)/COUNTIF('SCORE TABLE'!$F13:$BC13,'SCORE TABLE'!$F13:$BC13))","v":{"v":1.0000000000000002,"d":"1"}},{"$f":"SUMPRODUCT(('SCORE TABLE'!AP13<='SCORE TABLE'!$F13:$BC13)/COUNTIF('SCORE TABLE'!$F13:$BC13,'SCORE TABLE'!$F13:$BC13))","v":{"v":2.0000000000000018,"d":"2"}},{"$f":"SUMPRODUCT(('SCORE TABLE'!AQ13<='SCORE TABLE'!$F13:$BC13)/COUNTIF('SCORE TABLE'!$F13:$BC13,'SCORE TABLE'!$F13:$BC13))","v":{"v":1.0000000000000002,"d":"1"}},{"$f":"SUMPRODUCT(('SCORE TABLE'!AR13<='SCORE TABLE'!$F13:$BC13)/COUNTIF('SCORE TABLE'!$F13:$BC13,'SCORE TABLE'!$F13:$BC13))","v":{"v":1.0000000000000002,"d":"1"}},{"$f":"SUMPRODUCT(('SCORE TABLE'!AS13<='SCORE TABLE'!$F13:$BC13)/COUNTIF('SCORE TABLE'!$F13:$BC13,'SCORE TABLE'!$F13:$BC13))","v":{"v":2.0000000000000018,"d":"2"}},{"$f":"SUMPRODUCT(('SCORE TABLE'!AT13<='SCORE TABLE'!$F13:$BC13)/COUNTIF('SCORE TABLE'!$F13:$BC13,'SCORE TABLE'!$F13:$BC13))","v":{"v":1.0000000000000002,"d":"1"}},{"$f":"SUMPRODUCT(('SCORE TABLE'!AU13<='SCORE TABLE'!$F13:$BC13)/COUNTIF('SCORE TABLE'!$F13:$BC13,'SCORE TABLE'!$F13:$BC13))","v":{"v":1.0000000000000002,"d":"1"}},{"$f":"SUMPRODUCT(('SCORE TABLE'!AV13<='SCORE TABLE'!$F13:$BC13)/COUNTIF('SCORE TABLE'!$F13:$BC13,'SCORE TABLE'!$F13:$BC13))","v":{"v":2.0000000000000018,"d":"2"}},{"$f":"SUMPRODUCT(('SCORE TABLE'!AW13<='SCORE TABLE'!$F13:$BC13)/COUNTIF('SCORE TABLE'!$F13:$BC13,'SCORE TABLE'!$F13:$BC13))","v":{"v":2.0000000000000018,"d":"2"}},{"$f":"SUMPRODUCT(('SCORE TABLE'!AX13<='SCORE TABLE'!$F13:$BC13)/COUNTIF('SCORE TABLE'!$F13:$BC13,'SCORE TABLE'!$F13:$BC13))","v":{"v":2.0000000000000018,"d":"2"}},{"$f":"SUMPRODUCT(('SCORE TABLE'!AY13<='SCORE TABLE'!$F13:$BC13)/COUNTIF('SCORE TABLE'!$F13:$BC13,'SCORE TABLE'!$F13:$BC13))","v":{"v":1.0000000000000002,"d":"1"}},{"$f":"SUMPRODUCT(('SCORE TABLE'!AZ13<='SCORE TABLE'!$F13:$BC13)/COUNTIF('SCORE TABLE'!$F13:$BC13,'SCORE TABLE'!$F13:$BC13))","v":{"v":2.0000000000000018,"d":"2"}},{"$f":"SUMPRODUCT(('SCORE TABLE'!BA13<='SCORE TABLE'!$F13:$BC13)/COUNTIF('SCORE TABLE'!$F13:$BC13,'SCORE TABLE'!$F13:$BC13))","v":{"v":2.0000000000000018,"d":"2"}},{"$f":"SUMPRODUCT(('SCORE TABLE'!BB13<='SCORE TABLE'!$F13:$BC13)/COUNTIF('SCORE TABLE'!$F13:$BC13,'SCORE TABLE'!$F13:$BC13))","v":{"v":2.0000000000000018,"d":"2"}},{"$f":"SUMPRODUCT(('SCORE TABLE'!BC13<='SCORE TABLE'!$F13:$BC13)/COUNTIF('SCORE TABLE'!$F13:$BC13,'SCORE TABLE'!$F13:$BC13))","v":{"v":2.0000000000000018,"d":"2"}}]
[null,1003,"1.1.2","Definition of obesity",null,null,{"$f":"SUMPRODUCT(('SCORE TABLE'!F14<='SCORE TABLE'!$F14:$BC14)/COUNTIF('SCORE TABLE'!$F14:$BC14,'SCORE TABLE'!$F14:$BC14))","v":{"v":0.9999999999999996,"d":"1"}},{"$f":"SUMPRODUCT(('SCORE TABLE'!G14<='SCORE TABLE'!$F14:$BC14)/COUNTIF('SCORE TABLE'!$F14:$BC14,'SCORE TABLE'!$F14:$BC14))","v":{"v":0.9999999999999996,"d":"1"}},{"$f":"SUMPRODUCT(('SCORE TABLE'!H14<='SCORE TABLE'!$F14:$BC14)/COUNTIF('SCORE TABLE'!$F14:$BC14,'SCORE TABLE'!$F14:$BC14))","v":{"v":2.9999999999999996,"d":"3"}},{"$f":"SUMPRODUCT(('SCORE TABLE'!I14<='SCORE TABLE'!$F14:$BC14)/COUNTIF('SCORE TABLE'!$F14:$BC14,'SCORE TABLE'!$F14:$BC14))","v":{"v":2.9999999999999996,"d":"3"}},{"$f":"SUMPRODUCT(('SCORE TABLE'!J14<='SCORE TABLE'!$F14:$BC14)/COUNTIF('SCORE TABLE'!$F14:$BC14,'SCORE TABLE'!$F14:$BC14))","v":{"v":0.9999999999999996,"d":"1"}},{"$f":"SUMPRODUCT(('SCORE TABLE'!K14<='SCORE TABLE'!$F14:$BC14)/COUNTIF('SCORE TABLE'!$F14:$BC14,'SCORE TABLE'!$F14:$BC14))","v":{"v":0.9999999999999996,"d":"1"}},{"$f":"SUMPRODUCT(('SCORE TABLE'!L14<='SCORE TABLE'!$F14:$BC14)/COUNTIF('SCORE TABLE'!$F14:$BC14,'SCORE TABLE'!$F14:$BC14))","v":{"v":0.9999999999999996,"d":"1"}},{"$f":"SUMPRODUCT(('SCORE TABLE'!M14<='SCORE TABLE'!$F14:$BC14)/COUNTIF('SCORE TABLE'!$F14:$BC14,'SCORE TABLE'!$F14:$BC14))","v":{"v":2.0000000000000004,"d":"2"}},{"$f":"SUMPRODUCT(('SCORE TABLE'!N14<='SCORE TABLE'!$F14:$BC14)/COUNTIF('SCORE TABLE'!$F14:$BC14,'SCORE TABLE'!$F14:$BC14))","v":{"v":2.0000000000000004,"d":"2"}},{"$f":"SUMPRODUCT(('SCORE TABLE'!O14<='SCORE TABLE'!$F14:$BC14)/COUNTIF('SCORE TABLE'!$F14:$BC14,'SCORE TABLE'!$F14:$BC14))","v":{"v":2.0000000000000004,"d":"2"}},{"$f":"SUMPRODUCT(('SCORE TABLE'!P14<='SCORE TABLE'!$F14:$BC14)/COUNTIF('SCORE TABLE'!$F14:$BC14,'SCORE TABLE'!$F14:$BC14))","v":{"v":2.0000000000000004,"d":"2"}},{"$f":"SUMPRODUCT(('SCORE TABLE'!Q14<='SCORE TABLE'!$F14:$BC14)/COUNTIF('SCORE TABLE'!$F14:$BC14,'SCORE TABLE'!$F14:$BC14))","v":{"v":2.0000000000000004,"d":"2"}},{"$f":"SUMPRODUCT(('SCORE TABLE'!R14<='SCORE TABLE'!$F14:$BC14)/COUNTIF('SCORE TABLE'!$F14:$BC14,'SCORE TABLE'!$F14:$BC14))","v":{"v":0.9999999999999996,"d":"1"}},{"$f":"SUMPRODUCT(('SCORE TABLE'!S14<='SCORE TABLE'!$F14:$BC14)/COUNTIF('SCORE TABLE'!$F14:$BC14,'SCORE TABLE'!$F14:$BC14))","v":{"v":0.9999999999999996,"d":"1"}},{"$f":"SUMPRODUCT(('SCORE TABLE'!T14<='SCORE TABLE'!$F14:$BC14)/COUNTIF('SCORE TABLE'!$F14:$BC14,'SCORE TABLE'!$F14:$BC14))","v":{"v":2.0000000000000004,"d":"2"}},{"$f":"SUMPRODUCT(('SCORE TABLE'!U14<='SCORE TABLE'!$F14:$BC14)/COUNTIF('SCORE TABLE'!$F14:$BC14,'SCORE TABLE'!$F14:$BC14))","v":{"v":2.9999999999999996,"d":"3"}},{"$f":"SUMPRODUCT(('SCORE TABLE'!V14<='SCORE TABLE'!$F14:$BC14)/COUNTIF('SCORE TABLE'!$F14:$BC14,'SCORE TABLE'!$F14:$BC14))","v":{"v":2.0000000000000004,"d":"2"}},{"$f":"SUMPRODUCT(('SCORE TABLE'!W14<='SCORE TABLE'!$F14:$BC14)/COUNTIF('SCORE TABLE'!$F14:$BC14,'SCORE TABLE'!$F14:$BC14))","v":{"v":2.0000000000000004,"d":"2"}},{"$f":"SUMPRODUCT(('SCORE TABLE'!X14<='SCORE TABLE'!$F14:$BC14)/COUNTIF('SCORE TABLE'!$F14:$BC14,'SCORE TABLE'!$F14:$BC14))","v":{"v":0.9999999999999996,"d":"1"}},{"$f":"SUMPRODUCT(('SCORE TABLE'!Y14<='SCORE TABLE'!$F14:$BC14)/COUNTIF('SCORE TABLE'!$F14:$BC14,'SCORE TABLE'!$F14:$BC14))","v":{"v":0.9999999999999996,"d":"1"}},{"$f":"SUMPRODUCT(('SCORE TABLE'!Z14<='SCORE TABLE'!$F14:$BC14)/COUNTIF('SCORE TABLE'!$F14:$BC14,'SCORE TABLE'!$F14:$BC14))","v":{"v":2.0000000000000004,"d":"2"}},{"$f":"SUMPRODUCT(('SCORE TABLE'!AA14<='SCORE TABLE'!$F14:$BC14)/COUNTIF('SCORE TABLE'!$F14:$BC14,'SCORE TABLE'!$F14:$BC14))","v":{"v":0.9999999999999996,"d":"1"}},{"$f":"SUMPRODUCT(('SCORE TABLE'!AB14<='SCORE TABLE'!$F14:$BC14)/COUNTIF('SCORE TABLE'!$F14:$BC14,'SCORE TABLE'!$F14:$BC14))","v":{"v":2.0000000000000004,"d":"2"}},{"$f":"SUMPRODUCT(('SCORE TABLE'!AC14<='SCORE TABLE'!$F14:$BC14)/COUNTIF('SCORE TABLE'!$F14:$BC14,'SCORE TABLE'!$F14:$BC14))","v":{"v":0.9999999999999996,"d":"1"}},{"$f":"SUMPRODUCT(('SCORE TABLE'!AD14<='SCORE TABLE'!$F14:$BC14)/COUNTIF('SCORE TABLE'!$F14:$BC14,'SCORE TABLE'!$F14:$BC14))","v":{"v":2.0000000000000004,"d":"2"}},{"$f":"SUMPRODUCT(('SCORE TABLE'!AE14<='SCORE TABLE'!$F14:$BC14)/COUNTIF('SCORE TABLE'!$F14:$BC14,'SCORE TABLE'!$F14:$BC14))","v":{"v":2.9999999999999996,"d":"3"}},{"$f":"SUMPRODUCT(('SCORE TABLE'!AF14<='SCORE TABLE'!$F14:$BC14)/COUNTIF('SCORE TABLE'!$F14:$BC14,'SCORE TABLE'!$F14:$BC14))","v":{"v":2.0000000000000004,"d":"2"}},{"$f":"SUMPRODUCT(('SCORE TABLE'!AG14<='SCORE TABLE'!$F14:$BC14)/COUNTIF('SCORE TABLE'!$F14:$BC14,'SCORE TABLE'!$F14:$BC14))","v":{"v":0.9999999999999996,"d":"1"}},{"$f":"SUMPRODUCT(('SCORE TABLE'!AH14<='SCORE TABLE'!$F14:$BC14)/COUNTIF('SCORE TABLE'!$F14:$BC14,'SCORE TABLE'!$F14:$BC14))","v":{"v":0.9999999999999996,"d":"1"}},{"$f":"SUMPRODUCT(('SCORE TABLE'!AI14<='SCORE TABLE'!$F14:$BC14)/COUNTIF('SCORE TABLE'!$F14:$BC14,'SCORE TABLE'!$F14:$BC14))","v":{"v":2.0000000000000004,"d":"2"}},{"$f":"SUMPRODUCT(('SCORE TABLE'!AJ14<='SCORE TABLE'!$F14:$BC14)/COUNTIF('SCORE TABLE'!$F14:$BC14,'SCORE TABLE'!$F14:$BC14))","v":{"v":0.9999999999999996,"d":"1"}},{"$f":"SUMPRODUCT(('SCORE TABLE'!AK14<='SCORE TABLE'!$F14:$BC14)/COUNTIF('SCORE TABLE'!$F14:$BC14,'SCORE TABLE'!$F14:$BC14))","v":{"v":2.0000000000000004,"d":"2"}},{"$f":"SUMPRODUCT(('SCORE TABLE'!AL14<='SCORE TABLE'!$F14:$BC14)/COUNTIF('SCORE TABLE'!$F14:$BC14,'SCORE TABLE'!$F14:$BC14))","v":{"v":2.0000000000000004,"d":"2"}},{"$f":"SUMPRODUCT(('SCORE TABLE'!AM14<='SCORE TABLE'!$F14:$BC14)/COUNTIF('SCORE TABLE'!$F14:$BC14,'SCORE TABLE'!$F14:$BC14))","v":{"v":2.9999999999999996,"d":"3"}},{"$f":"SUMPRODUCT(('SCORE TABLE'!AN14<='SCORE TABLE'!$F14:$BC14)/COUNTIF('SCORE TABLE'!$F14:$BC14,'SCORE TABLE'!$F14:$BC14))","v":{"v":2.0000000000000004,"d":"2"}},{"$f":"SUMPRODUCT(('SCORE TABLE'!AO14<='SCORE TABLE'!$F14:$BC14)/COUNTIF('SCORE TABLE'!$F14:$BC14,'SCORE TABLE'!$F14:$BC14))","v":{"v":2.0000000000000004,"d":"2"}},{"$f":"SUMPRODUCT(('SCORE TABLE'!AP14<='SCORE TABLE'!$F14:$BC14)/COUNTIF('SCORE TABLE'!$F14:$BC14,'SCORE TABLE'!$F14:$BC14))","v":{"v":0.9999999999999996,"d":"1"}},{"$f":"SUMPRODUCT(('SCORE TABLE'!AQ14<='SCORE TABLE'!$F14:$BC14)/COUNTIF('SCORE TABLE'!$F14:$BC14,'SCORE TABLE'!$F14:$BC14))","v":{"v":0.9999999999999996,"d":"1"}},{"$f":"SUMPRODUCT(('SCORE TABLE'!AR14<='SCORE TABLE'!$F14:$BC14)/COUNTIF('SCORE TABLE'!$F14:$BC14,'SCORE TABLE'!$F14:$BC14))","v":{"v":2.0000000000000004,"d":"2"}},{"$f":"SUMPRODUCT(('SCORE TABLE'!AS14<='SCORE TABLE'!$F14:$BC14)/COUNTIF('SCORE TABLE'!$F14:$BC14,'SCORE TABLE'!$F14:$BC14))","v":{"v":2.0000000000000004,"d":"2"}},{"$f":"SUMPRODUCT(('SCORE TABLE'!AT14<='SCORE TABLE'!$F14:$BC14)/COUNTIF('SCORE TABLE'!$F14:$BC14,'SCORE TABLE'!$F14:$BC14))","v":{"v":2.0000000000000004,"d":"2"}},{"$f":"SUMPRODUCT(('SCORE TABLE'!AU14<='SCORE TABLE'!$F14:$BC14)/COUNTIF('SCORE TABLE'!$F14:$BC14,'SCORE TABLE'!$F14:$BC14))","v":{"v":2.0000000000000004,"d":"2"}},{"$f":"SUMPRODUCT(('SCORE TABLE'!AV14<='SCORE TABLE'!$F14:$BC14)/COUNTIF('SCORE TABLE'!$F14:$BC14,'SCORE TABLE'!$F14:$BC14))","v":{"v":2.0000000000000004,"d":"2"}},{"$f":"SUMPRODUCT(('SCORE TABLE'!AW14<='SCORE TABLE'!$F14:$BC14)/COUNTIF('SCORE TABLE'!$F14:$BC14,'SCORE TABLE'!$F14:$BC14))","v":{"v":0.9999999999999996,"d":"1"}},{"$f":"SUMPRODUCT(('SCORE TABLE'!AX14<='SCORE TABLE'!$F14:$BC14)/COUNTIF('SCORE TABLE'!$F14:$BC14,'SCORE TABLE'!$F14:$BC14))","v":{"v":0.9999999999999996,"d":"1"}},{"$f":"SUMPRODUCT(('SCORE TABLE'!AY14<='SCORE TABLE'!$F14:$BC14)/COUNTIF('SCORE TABLE'!$F14:$BC14,'SCORE TABLE'!$F14:$BC14))","v":{"v":2.9999999999999996,"d":"3"}},{"$f":"SUMPRODUCT(('SCORE TABLE'!AZ14<='SCORE TABLE'!$F14:$BC14)/COUNTIF('SCORE TABLE'!$F14:$BC14,'SCORE TABLE'!$F14:$BC14))","v":{"v":2.0000000000000004,"d":"2"}},{"$f":"SUMPRODUCT(('SCORE TABLE'!BA14<='SCORE TABLE'!$F14:$BC14)/COUNTIF('SCORE TABLE'!$F14:$BC14,'SCORE TABLE'!$F14:$BC14))","v":{"v":0.9999999999999996,"d":"1"}},{"$f":"SUMPRODUCT(('SCORE TABLE'!BB14<='SCORE TABLE'!$F14:$BC14)/COUNTIF('SCORE TABLE'!$F14:$BC14,'SCORE TABLE'!$F14:$BC14))","v":{"v":2.0000000000000004,"d":"2"}},{"$f":"SUMPRODUCT(('SCORE TABLE'!BC14<='SCORE TABLE'!$F14:$BC14)/COUNTIF('SCORE TABLE'!$F14:$BC14,'SCORE TABLE'!$F14:$BC14))","v":{"v":2.9999999999999996,"d":"3"}}]
[null,1004,"1.1.3","Obesity-related policy/strategy/plan",null,null,{"$f":"SUMPRODUCT(('SCORE TABLE'!F15<='SCORE TABLE'!$F15:$BC15)/COUNTIF('SCORE TABLE'!$F15:$BC15,'SCORE TABLE'!$F15:$BC15))","v":6},{"$f":"SUMPRODUCT(('SCORE TABLE'!G15<='SCORE TABLE'!$F15:$BC15)/COUNTIF('SCORE TABLE'!$F15:$BC15,'SCORE TABLE'!$F15:$BC15))","v":{"v":11.999999999999998,"d":"12"}},{"$f":"SUMPRODUCT(('SCORE TABLE'!H15<='SCORE TABLE'!$F15:$BC15)/COUNTIF('SCORE TABLE'!$F15:$BC15,'SCORE TABLE'!$F15:$BC15))","v":{"v":10.999999999999996,"d":"11"}},{"$f":"SUMPRODUCT(('SCORE TABLE'!I15<='SCORE TABLE'!$F15:$BC15)/COUNTIF('SCORE TABLE'!$F15:$BC15,'SCORE TABLE'!$F15:$BC15))","v":{"v":10.999999999999996,"d":"11"}},{"$f":"SUMPRODUCT(('SCORE TABLE'!J15<='SCORE TABLE'!$F15:$BC15)/COUNTIF('SCORE TABLE'!$F15:$BC15,'SCORE TABLE'!$F15:$BC15))","v":{"v":10.999999999999996,"d":"11"}},{"$f":"SUMPRODUCT(('SCORE TABLE'!K15<='SCORE TABLE'!$F15:$BC15)/COUNTIF('SCORE TABLE'!$F15:$BC15,'SCORE TABLE'!$F15:$BC15))","v":3},{"$f":"SUMPRODUCT(('SCORE TABLE'!L15<='SCORE TABLE'!$F15:$BC15)/COUNTIF('SCORE TABLE'!$F15:$BC15,'SCORE TABLE'!$F15:$BC15))","v":{"v":11.999999999999998,"d":"12"}},{"$f":"SUMPRODUCT(('SCORE TABLE'!M15<='SCORE TABLE'!$F15:$BC15)/COUNTIF('SCORE TABLE'!$F15:$BC15,'SCORE TABLE'!$F15:$BC15))","v":{"v":10.999999999999996,"d":"11"}},{"$f":"SUMPRODUCT(('SCORE TABLE'!N15<='SCORE TABLE'!$F15:$BC15)/COUNTIF('SCORE TABLE'!$F15:$BC15,'SCORE TABLE'!$F15:$BC15))","v":{"v":11.999999999999998,"d":"12"}},{"$f":"SUMPRODUCT(('SCORE TABLE'!O15<='SCORE TABLE'!$F15:$BC15)/COUNTIF('SCORE TABLE'!$F15:$BC15,'SCORE TABLE'!$F15:$BC15))","v":{"v":11.999999999999998,"d":"12"}},{"$f":"SUMPRODUCT(('SCORE TABLE'!P15<='SCORE TABLE'!$F15:$BC15)/COUNTIF('SCORE TABLE'!$F15:$BC15,'SCORE TABLE'!$F15:$BC15))","v":2},{"$f":"SUMPRODUCT(('SCORE TABLE'!Q15<='SCORE TABLE'!$F15:$BC15)/COUNTIF('SCORE TABLE'!$F15:$BC15,'SCORE TABLE'!$F15:$BC15))","v":{"v":11.999999999999998,"d":"12"}},{"$f":"SUMPRODUCT(('SCORE TABLE'!R15<='SCORE TABLE'!$F15:$BC15)/COUNTIF('SCORE TABLE'!$F15:$BC15,'SCORE TABLE'!$F15:$BC15))","v":{"v":11.999999999999998,"d":"12"}},{"$f":"SUMPRODUCT(('SCORE TABLE'!S15<='SCORE TABLE'!$F15:$BC15)/COUNTIF('SCORE TABLE'!$F15:$BC15,'SCORE TABLE'!$F15:$BC15))","v":{"v":10.999999999999996,"d":"11"}},{"$f":"SUMPRODUCT(('SCORE TABLE'!T15<='SCORE TABLE'!$F15:$BC15)/COUNTIF('SCORE TABLE'!$F15:$BC15,'SCORE TABLE'!$F15:$BC15))","v":{"v":10.999999999999996,"d":"11"}},{"$f":"SUMPRODUCT(('SCORE TABLE'!U15<='SCORE TABLE'!$F15:$BC15)/COUNTIF('SCORE TABLE'!$F15:$BC15,'SCORE TABLE'!$F15:$BC15))","v":{"v":11.999999999999998,"d":"12"}},{"$f":"SUMPRODUCT(('SCORE TABLE'!V15<='SCORE TABLE'!$F15:$BC15)/COUNTIF('SCORE TABLE'!$F15:$BC15,'SCORE TABLE'!$F15:$BC15))","v":{"v":10.999999999999996,"d":"11"}},{"$f":"SUMPRODUCT(('SCORE TABLE'!W15<='SCORE TABLE'!$F15:$BC15)/COUNTIF('SCORE TABLE'!$F15:$BC15,'SCORE TABLE'!$F15:$BC15))","v":{"v":11.999999999999998,"d":"12"}},{"$f":"SUMPRODUCT(('SCORE TABLE'!X15<='SCORE TABLE'!$F15:$BC15)/COUNTIF('SCORE TABLE'!$F15:$BC15,'SCORE TABLE'!$F15:$BC15))","v":8},{"$f":"SUMPRODUCT(('SCORE TABLE'!Y15<='SCORE TABLE'!$F15:$BC15)/COUNTIF('SCORE TABLE'!$F15:$BC15,'SCORE TABLE'!$F15:$BC15))","v":{"v":10.999999999999996,"d":"11"}},{"$f":"SUMPRODUCT(('SCORE TABLE'!Z15<='SCORE TABLE'!$F15:$BC15)/COUNTIF('SCORE TABLE'!$F15:$BC15,'SCORE TABLE'!$F15:$BC15))","v":{"v":11.999999999999998,"d":"12"}},{"$f":"SUMPRODUCT(('SCORE TABLE'!AA15<='SCORE TABLE'!$F15:$BC15)/COUNTIF('SCORE TABLE'!$F15:$BC15,'SCORE TABLE'!$F15:$BC15))","v":10},{"$f":"SUMPRODUCT(('SCORE TABLE'!AB15<='SCORE TABLE'!$F15:$BC15)/COUNTIF('SCORE TABLE'!$F15:$BC15,'SCORE TABLE'!$F15:$BC15))","v":{"v":10.999999999999996,"d":"11"}},{"$f":"SUMPRODUCT(('SCORE TABLE'!AC15<='SCORE TABLE'!$F15:$BC15)/COUNTIF('SCORE TABLE'!$F15:$BC15,'SCORE TABLE'!$F15:$BC15))","v":{"v":10.999999999999996,"d":"11"}},{"$f":"SUMPRODUCT(('SCORE TABLE'!AD15<='SCORE TABLE'!$F15:$BC15)/COUNTIF('SCORE TABLE'!$F15:$BC15,'SCORE TABLE'!$F15:$BC15))","v":{"v":11.999999999999998,"d":"12"}},{"$f":"SUMPRODUCT(('SCORE TABLE'!AE15<='SCORE TABLE'!$F15:$BC15)/COUNTIF('SCORE TABLE'!$F15:$BC15,'SCORE TABLE'!$F15:$BC15))","v":{"v":11.999999999999998,"d":"12"}},{"$f":"SUMPRODUCT(('SCORE TABLE'!AF15<='SCORE TABLE'!$F15:$BC15)/COUNTIF('SCORE TABLE'!$F15:$BC15,'SCORE TABLE'!$F15:$BC15))","v":{"v":10.999999999999996,"d":"11"}},{"$f":"SUMPRODUCT(('SCORE TABLE'!AG15<='SCORE TABLE'!$F15:$BC15)/COUNTIF('SCORE TABLE'!$F15:$BC15,'SCORE TABLE'!$F15:$BC15))","v":{"v":10.999999999999996,"d":"11"}},{"$f":"SUMPRODUCT(('SCORE TABLE'!AH15<='SCORE TABLE'!$F15:$BC15)/COUNTIF('SCORE TABLE'!$F15:$BC15,'SCORE TABLE'!$F15:$BC15))","v":{"v":11.999999999999998,"d":"12"}},{"$f":"SUMPRODUCT(('SCORE TABLE'!AI15<='SCORE TABLE'!$F15:$BC15)/COUNTIF('SCORE TABLE'!$F15:$BC15,'SCORE TABLE'!$F15:$BC15))","v":{"v":10.999999999999996,"d":"11"}},{"$f":"SUMPRODUCT(('SCORE TABLE'!AJ15<='SCORE TABLE'!$F15:$BC15)/COUNTIF('SCORE TABLE'!$F15:$BC15,'SCORE TABLE'!$F15:$BC15))","v":{"v":11.999999999999998,"d":"12"}},{"$f":"SUMPRODUCT(('SCORE TABLE'!AK15<='SCORE TABLE'!$F15:$BC15)/COUNTIF('SCORE TABLE'!$F15:$BC15,'SCORE TABLE'!$F15:$BC15))","v":{"v":10.999999999999996,"d":"11"}},{"$f":"SUMPRODUCT(('SCORE TABLE'!AL15<='SCORE TABLE'!$F15:$BC15)/COUNTIF('SCORE TABLE'!$F15:$BC15,'SCORE TABLE'!$F15:$BC15))","v":{"v":11.999999999999998,"d":"12"}},{"$f":"SUMPRODUCT(('SCORE TABLE'!AM15<='SCORE TABLE'!$F15:$BC15)/COUNTIF('SCORE TABLE'!$F15:$BC15,'SCORE TABLE'!$F15:$BC15))","v":{"v":11.999999999999998,"d":"12"}},{"$f":"SUMPRODUCT(('SCORE TABLE'!AN15<='SCORE TABLE'!$F15:$BC15)/COUNTIF('SCORE TABLE'!$F15:$BC15,'SCORE TABLE'!$F15:$BC15))","v":{"v":10.999999999999996,"d":"11"}},{"$f":"SUMPRODUCT(('SCORE TABLE'!AO15<='SCORE TABLE'!$F15:$BC15)/COUNTIF('SCORE TABLE'!$F15:$BC15,'SCORE TABLE'!$F15:$BC15))","v":1},{"$f":"SUMPRODUCT(('SCORE TABLE'!AP15<='SCORE TABLE'!$F15:$BC15)/COUNTIF('SCORE TABLE'!$F15:$BC15,'SCORE TABLE'!$F15:$BC15))","v":4},{"$f":"SUMPRODUCT(('SCORE TABLE'!AQ15<='SCORE TABLE'!$F15:$BC15)/COUNTIF('SCORE TABLE'!$F15:$BC15,'SCORE TABLE'!$F15:$BC15))","v":{"v":11.999999999999998,"d":"12"}},{"$f":"SUMPRODUCT(('SCORE TABLE'!AR15<='SCORE TABLE'!$F15:$BC15)/COUNTIF('SCORE TABLE'!$F15:$BC15,'SCORE TABLE'!$F15:$BC15))","v":5},{"$f":"SUMPRODUCT(('SCORE TABLE'!AS15<='SCORE TABLE'!$F15:$BC15)/COUNTIF('SCORE TABLE'!$F15:$BC15,'SCORE TABLE'!$F15:$BC15))","v":{"v":11.999999999999998,"d":"12"}},{"$f":"SUMPRODUCT(('SCORE TABLE'!AT15<='SCORE TABLE'!$F15:$BC15)/COUNTIF('SCORE TABLE'!$F15:$BC15,'SCORE TABLE'!$F15:$BC15))","v":{"v":10.999999999999996,"d":"11"}},{"$f":"SUMPRODUCT(('SCORE TABLE'!AU15<='SCORE TABLE'!$F15:$BC15)/COUNTIF('SCORE TABLE'!$F15:$BC15,'SCORE TABLE'!$F15:$BC15))","v":{"v":10.999999999999996,"d":"11"}},{"$f":"SUMPRODUCT(('SCORE TABLE'!AV15<='SCORE TABLE'!$F15:$BC15)/COUNTIF('SCORE TABLE'!$F15:$BC15,'SCORE TABLE'!$F15:$BC15))","v":9},{"$f":"SUMPRODUCT(('SCORE TABLE'!AW15<='SCORE TABLE'!$F15:$BC15)/COUNTIF('SCORE TABLE'!$F15:$BC15,'SCORE TABLE'!$F15:$BC15))","v":5},{"$f":"SUMPRODUCT(('SCORE TABLE'!AX15<='SCORE TABLE'!$F15:$BC15)/COUNTIF('SCORE TABLE'!$F15:$BC15,'SCORE TABLE'!$F15:$BC15))","v":{"v":11.999999999999998,"d":"12"}},{"$f":"SUMPRODUCT(('SCORE TABLE'!AY15<='SCORE TABLE'!$F15:$BC15)/COUNTIF('SCORE TABLE'!$F15:$BC15,'SCORE TABLE'!$F15:$BC15))","v":{"v":11.999999999999998,"d":"12"}},{"$f":"SUMPRODUCT(('SCORE TABLE'!AZ15<='SCORE TABLE'!$F15:$BC15)/COUNTIF('SCORE TABLE'!$F15:$BC15,'SCORE TABLE'!$F15:$BC15))","v":{"v":10.999999999999996,"d":"11"}},{"$f":"SUMPRODUCT(('SCORE TABLE'!BA15<='SCORE TABLE'!$F15:$BC15)/COUNTIF('SCORE TABLE'!$F15:$BC15,'SCORE TABLE'!$F15:$BC15))","v":{"v":10.999999999999996,"d":"11"}},{"$f":"SUMPRODUCT(('SCORE TABLE'!BB15<='SCORE TABLE'!$F15:$BC15)/COUNTIF('SCORE TABLE'!$F15:$BC15,'SCORE TABLE'!$F15:$BC15))","v":7},{"$f":"SUMPRODUCT(('SCORE TABLE'!BC15<='SCORE TABLE'!$F15:$BC15)/COUNTIF('SCORE TABLE'!$F15:$BC15,'SCORE TABLE'!$F15:$BC15))","v":{"v":11.999999999999998,"d":"12"}}]
[null,1005,"1.1.3a","Obesity-related policy/strategy/plan",null,null,{"$f":"SUMPRODUCT(('SCORE TABLE'!F16<='SCORE TABLE'!$F16:$BC16)/COUNTIF('SCORE TABLE'!$F16:$BC16,'SCORE TABLE'!$F16:$BC16))","v":{"v":1.0000000000000002,"d":"1"}},{"$f":"SUMPRODUCT(('SCORE TABLE'!G16<='SCORE TABLE'!$F16:$BC16)/COUNTIF('SCORE TABLE'!$F16:$BC16,'SCORE TABLE'!$F16:$BC16))","v":{"v":2.999999999999999,"d":"3"}},{"$f":"SUMPRODUCT(('SCORE TABLE'!H16<='SCORE TABLE'!$F16:$BC16)/COUNTIF('SCORE TABLE'!$F16:$BC16,'SCORE TABLE'!$F16:$BC16))","v":{"v":1.999999999999999,"d":"2"}},{"$f":"SUMPRODUCT(('SCORE TABLE'!I16<='SCORE TABLE'!$F16:$BC16)/COUNTIF('SCORE TABLE'!$F16:$BC16,'SCORE TABLE'!$F16:$BC16))","v":{"v":1.999999999999999,"d":"2"}},{"$f":"SUMPRODUCT(('SCORE TABLE'!J16<='SCORE TABLE'!$F16:$BC16)/COUNTIF('SCORE TABLE'!$F16:$BC16,'SCORE TABLE'!$F16:$BC16))","v":{"v":1.999999999999999,"d":"2"}},{"$f":"SUMPRODUCT(('SCORE TABLE'!K16<='SCORE TABLE'!$F16:$BC16)/COUNTIF('SCORE TABLE'!$F16:$BC16,'SCORE TABLE'!$F16:$BC16))","v":{"v":1.0000000000000002,"d":"1"}},{"$f":"SUMPRODUCT(('SCORE TABLE'!L16<='SCORE TABLE'!$F16:$BC16)/COUNTIF('SCORE TABLE'!$F16:$BC16,'SCORE TABLE'!$F16:$BC16))","v":{"v":2.999999999999999,"d":"3"}},{"$f":"SUMPRODUCT(('SCORE TABLE'!M16<='SCORE TABLE'!$F16:$BC16)/COUNTIF('SCORE TABLE'!$F16:$BC16,'SCORE TABLE'!$F16:$BC16))","v":{"v":1.999999999999999,"d":"2"}},{"$f":"SUMPRODUCT(('SCORE TABLE'!N16<='SCORE TABLE'!$F16:$BC16)/COUNTIF('SCORE TABLE'!$F16:$BC16,'SCORE TABLE'!$F16:$BC16))","v":{"v":2.999999999999999,"d":"3"}},{"$f":"SUMPRODUCT(('SCORE TABLE'!O16<='SCORE TABLE'!$F16:$BC16)/COUNTIF('SCORE TABLE'!$F16:$BC16,'SCORE TABLE'!$F16:$BC16))","v":{"v":2.999999999999999,"d":"3"}},{"$f":"SUMPRODUCT(('SCORE TABLE'!P16<='SCORE TABLE'!$F16:$BC16)/COUNTIF('SCORE TABLE'!$F16:$BC16,'SCORE TABLE'!$F16:$BC16))","v":{"v":1.0000000000000002,"d":"1"}},{"$f":"SUMPRODUCT(('SCORE TABLE'!Q16<='SCORE TABLE'!$F16:$BC16)/COUNTIF('SCORE TABLE'!$F16:$BC16,'SCORE TABLE'!$F16:$BC16))","v":{"v":2.999999999999999,"d":"3"}},{"$f":"SUMPRODUCT(('SCORE TABLE'!R16<='SCORE TABLE'!$F16:$BC16)/COUNTIF('SCORE TABLE'!$F16:$BC16,'SCORE TABLE'!$F16:$BC16))","v":{"v":2.999999999999999,"d":"3"}},{"$f":"SUMPRODUCT(('SCORE TABLE'!S16<='SCORE TABLE'!$F16:$BC16)/COUNTIF('SCORE TABLE'!$F16:$BC16,'SCORE TABLE'!$F16:$BC16))","v":{"v":1.999999999999999,"d":"2"}},{"$f":"SUMPRODUCT(('SCORE TABLE'!T16<='SCORE TABLE'!$F16:$BC16)/COUNTIF('SCORE TABLE'!$F16:$BC16,'SCORE TABLE'!$F16:$BC16))","v":{"v":1.999999999999999,"d":"2"}},{"$f":"SUMPRODUCT(('SCORE TABLE'!U16<='SCORE TABLE'!$F16:$BC16)/COUNTIF('SCORE TABLE'!$F16:$BC16,'SCORE TABLE'!$F16:$BC16))","v":{"v":2.999999999999999,"d":"3"}},{"$f":"SUMPRODUCT(('SCORE TABLE'!V16<='SCORE TABLE'!$F16:$BC16)/COUNTIF('SCORE TABLE'!$F16:$BC16,'SCORE TABLE'!$F16:$BC16))","v":{"v":1.999999999999999,"d":"2"}},{"$f":"SUMPRODUCT(('SCORE TABLE'!W16<='SCORE TABLE'!$F16:$BC16)/COUNTIF('SCORE TABLE'!$F16:$BC16,'SCORE TABLE'!$F16:$BC16))","v":{"v":2.999999999999999,"d":"3"}},{"$f":"SUMPRODUCT(('SCORE TABLE'!X16<='SCORE TABLE'!$F16:$BC16)/COUNTIF('SCORE TABLE'!$F16:$BC16,'SCORE TABLE'!$F16:$BC16))","v":{"v":1.0000000000000002,"d":"1"}},{"$f":"SUMPRODUCT(('SCORE TABLE'!Y16<='SCORE TABLE'!$F16:$BC16)/COUNTIF('SCORE TABLE'!$F16:$BC16,'SCORE TABLE'!$F16:$BC16))","v":{"v":1.999999999999999,"d":"2"}},{"$f":"SUMPRODUCT(('SCORE TABLE'!Z16<='SCORE TABLE'!$F16:$BC16)/COUNTIF('SCORE TABLE'!$F16:$BC16,'SCORE TABLE'!$F16:$BC16))","v":{"v":2.999999999999999,"d":"3"}},{"$f":"SUMPRODUCT(('SCORE TABLE'!AA16<='SCORE TABLE'!$F16:$BC16)/COUNTIF('SCORE TABLE'!$F16:$BC16,'SCORE TABLE'!$F16:$BC16))","v":{"v":1.0000000000000002,"d":"1"}},{"$f":"SUMPRODUCT(('SCORE TABLE'!AB16<='SCORE TABLE'!$F16:$BC16)/COUNTIF('SCORE TABLE'!$F16:$BC16,'SCORE TABLE'!$F16:$BC16))","v":{"v":1.999999999999999,"d":"2"}},{"$f":"SUMPRODUCT(('SCORE TABLE'!AC16<='SCORE TABLE'!$F16:$BC16)/COUNTIF('SCORE TABLE'!$F16:$BC16,'SCORE TABLE'!$F16:$BC16))","v":{"v":1.999999999999999,"d":"2"}},{"$f":"SUMPRODUCT(('SCORE TABLE'!AD16<='SCORE TABLE'!$F16:$BC16)/COUNTIF('SCORE TABLE'!$F16:$BC16,'SCORE TABLE'!$F16:$BC16))","v":{"v":2.999999999999999,"d":"3"}},{"$f":"SUMPRODUCT(('SCORE TABLE'!AE16<='SCORE TABLE'!$F16:$BC16)/COUNTIF('SCORE TABLE'!$F16:$BC16,'SCORE TABLE'!$F16:$BC16))","v":{"v":2.999999999999999,"d":"3"}},{"$f":"SUMPRODUCT(('SCORE TABLE'!AF16<='SCORE TABLE'!$F16:$BC16)/COUNTIF('SCORE TABLE'!$F16:$BC16,'SCORE TABLE'!$F16:$BC16))","v":{"v":1.999999999999999,"d":"2"}},{"$f":"SUMPRODUCT(('SCORE TABLE'!AG16<='SCORE TABLE'!$F16:$BC16)/COUNTIF('SCORE TABLE'!$F16:$BC16,'SCORE TABLE'!$F16:$BC16))","v":{"v":1.999999999999999,"d":"2"}},{"$f":"SUMPRODUCT(('SCORE TABLE'!AH16<='SCORE TABLE'!$F16:$BC16)/COUNTIF('SCORE TABLE'!$F16:$BC16,'SCORE TABLE'!$F16:$BC16))","v":{"v":2.999999999999999,"d":"3"}},{"$f":"SUMPRODUCT(('SCORE TABLE'!AI16<='SCORE TABLE'!$F16:$BC16)/COUNTIF('SCORE TABLE'!$F16:$BC16,'SCORE TABLE'!$F16:$BC16))","v":{"v":1.999999999999999,"d":"2"}},{"$f":"SUMPRODUCT(('SCORE TABLE'!AJ16<='SCORE TABLE'!$F16:$BC16)/COUNTIF('SCORE TABLE'!$F16:$BC16,'SCORE TABLE'!$F16:$BC16))","v":{"v":2.999999999999999,"d":"3"}},{"$f":"SUMPRODUCT(('SCORE TABLE'!AK16<='SCORE TABLE'!$F16:$BC16)/COUNTIF('SCORE TABLE'!$F16:$BC16,'SCORE TABLE'!$F16:$BC16))","v":{"v":1.999999999999999,"d":"2"}},{"$f":"SUMPRODUCT(('SCORE TABLE'!AL16<='SCORE TABLE'!$F16:$BC16)/COUNTIF('SCORE TABLE'!$F16:$BC16,'SCORE TABLE'!$F16:$BC16))","v":{"v":2.999999999999999,"d":"3"}},{"$f":"SUMPRODUCT(('SCORE TABLE'!AM16<='SCORE TABLE'!$F16:$BC16)/COUNTIF('SCORE TABLE'!$F16:$BC16,'SCORE TABLE'!$F16:$BC16))","v":{"v":2.999999999999999,"d":"3"}},{"$f":"SUMPRODUCT(('SCORE TABLE'!AN16<='SCORE TABLE'!$F16:$BC16)/COUNTIF('SCORE TABLE'!$F16:$BC16,'SCORE TABLE'!$F16:$BC16))","v":{"v":1.999999999999999,"d":"2"}},{"$f":"SUMPRODUCT(('SCORE TABLE'!AO16<='SCORE TABLE'!$F16:$BC16)/COUNTIF('SCORE TABLE'!$F16:$BC16,'SCORE TABLE'!$F16:$BC16))","v":{"v":1.0000000000000002,"d":"1"}},{"$f":"SUMPRODUCT(('SCORE TABLE'!AP16<='SCORE TABLE'!$F16:$BC16)/COUNTIF('SCORE TABLE'!$F16:$BC16,'SCORE TABLE'!$F16:$BC16))","v":{"v":1.0000000000000002,"d":"1"}},{"$f":"SUMPRODUCT(('SCORE TABLE'!AQ16<='SCORE TABLE'!$F16:$BC16)/COUNTIF('SCORE TABLE'!$F16:$BC16,'SCORE TABLE'!$F16:$BC16))","v":{"v":2.999999999999999,"d":"3"}},{"$f":"SUMPRODUCT(('SCORE TABLE'!AR16<='SCORE TABLE'!$F16:$BC16)/COUNTIF('SCORE TABLE'!$F16:$BC16,'SCORE TABLE'!$F16:$BC16))","v":{"v":1.0000000000000002,"d":"1"}},{"$f":"SUMPRODUCT(('SCORE TABLE'!AS16<='SCORE TABLE'!$F16:$BC16)/COUNTIF('SCORE TABLE'!$F16:$BC16,'SCORE TABLE'!$F16:$BC16))","v":{"v":2.999999999999999,"d":"3"}},{"$f":"SUMPRODUCT(('SCORE TABLE'!AT16<='SCORE TABLE'!$F16:$BC16)/COUNTIF('SCORE TABLE'!$F16:$BC16,'SCORE TABLE'!$F16:$BC16))","v":{"v":1.999999999999999,"d":"2"}},{"$f":"SUMPRODUCT(('SCORE TABLE'!AU16<='SCORE TABLE'!$F16:$BC16)/COUNTIF('SCORE TABLE'!$F16:$BC16,'SCORE TABLE'!$F16:$BC16))","v":{"v":1.999999999999999,"d":"2"}},{"$f":"SUMPRODUCT(('SCORE TABLE'!AV16<='SCORE TABLE'!$F16:$BC16)/COUNTIF('SCORE TABLE'!$F16:$BC16,'SCORE TABLE'!$F16:$BC16))","v":{"v":1.0000000000000002,"d":"1"}},{"$f":"SUMPRODUCT(('SCORE TABLE'!AW16<='SCORE TABLE'!$F16:$BC16)/COUNTIF('SCORE TABLE'!$F16:$BC16,'SCORE TABLE'!$F16:$BC16))","v":{"v":1.0000000000000002,"d":"1"}},{"$f":"SUMPRODUCT(('SCORE TABLE'!AX16<='SCORE TABLE'!$F16:$BC16)/COUNTIF('SCORE TABLE'!$F16:$BC16,'SCORE TABLE'!$F16:$BC16))","v":{"v":2.999999999999999,"d":"3"}},{"$f":"SUMPRODUCT(('SCORE TABLE'!AY16<='SCORE TABLE'!$F16:$BC16)/COUNTIF('SCORE TABLE'!$F16:$BC16,'SCORE TABLE'!$F16:$BC16))","v":{"v":2.999999999999999,"d":"3"}},{"$f":"SUMPRODUCT(('SCORE TABLE'!AZ16<='SCORE TABLE'!$F16:$BC16)/COUNTIF('SCORE TABLE'!$F16:$BC16,'SCORE TABLE'!$F16:$BC16))","v":{"v":1.999999999999999,"d":"2"}},{"$f":"SUMPRODUCT(('SCORE TABLE'!BA16<='SCORE TABLE'!$F16:$BC16)/COUNTIF('SCORE TABLE'!$F16:$BC16,'SCORE TABLE'!$F16:$BC16))","v":{"v":1.999999999999999,"d":"2"}},{"$f":"SUMPRODUCT(('SCORE TABLE'!BB16<='SCORE TABLE'!$F16:$BC16)/COUNTIF('SCORE TABLE'!$F16:$BC16,'SCORE TABLE'!$F16:$BC16))","v":{"v":1.0000000000000002,"d":"1"}},{"$f":"SUMPRODUCT(('SCORE TABLE'!BC16<='SCORE TABLE'!$F16:$BC16)/COUNTIF('SCORE TABLE'!$F16:$BC16,'SCORE TABLE'!$F16:$BC16))","v":{"v":2.999999999999999,"d":"3"}}]
[null,1006,"1.1.3b","Engagement with stakeholders during development",null,null,{"$f":"SUMPRODUCT(('SCORE TABLE'!F17<='SCORE TABLE'!$F17:$BC17)/COUNTIF('SCORE TABLE'!$F17:$BC17,'SCORE TABLE'!$F17:$BC17))","v":{"v":0.9999999999999998,"d":"1"}},{"$f":"SUMPRODUCT(('SCORE TABLE'!G17<='SCORE TABLE'!$F17:$BC17)/COUNTIF('SCORE TABLE'!$F17:$BC17,'SCORE TABLE'!$F17:$BC17))","v":{"v":2.9999999999999982,"d":"3"}},{"$f":"SUMPRODUCT(('SCORE TABLE'!H17<='SCORE TABLE'!$F17:$BC17)/COUNTIF('SCORE TABLE'!$F17:$BC17,'SCORE TABLE'!$F17:$BC17))","v":{"v":2.9999999999999982,"d":"3"}},{"$f":"SUMPRODUCT(('SCORE TABLE'!I17<='SCORE TABLE'!$F17:$BC17)/COUNTIF('SCORE TABLE'!$F17:$BC17,'SCORE TABLE'!$F17:$BC17))","v":{"v":2.9999999999999982,"d":"3"}},{"$f":"SUMPRODUCT(('SCORE TABLE'!J17<='SCORE TABLE'!$F17:$BC17)/COUNTIF('SCORE TABLE'!$F17:$BC17,'SCORE TABLE'!$F17:$BC17))","v":{"v":2.9999999999999982,"d":"3"}},{"$f":"SUMPRODUCT(('SCORE TABLE'!K17<='SCORE TABLE'!$F17:$BC17)/COUNTIF('SCORE TABLE'!$F17:$BC17,'SCORE TABLE'!$F17:$BC17))","v":{"v":0.9999999999999998,"d":"1"}},{"$f":"SUMPRODUCT(('SCORE TABLE'!L17<='SCORE TABLE'!$F17:$BC17)/COUNTIF('SCORE TABLE'!$F17:$BC17,'SCORE TABLE'!$F17:$BC17))","v":{"v":2.9999999999999982,"d":"3"}},{"$f":"SUMPRODUCT(('SCORE TABLE'!M17<='SCORE TABLE'!$F17:$BC17)/COUNTIF('SCORE TABLE'!$F17:$BC17,'SCORE TABLE'!$F17:$BC17))","v":{"v":2.9999999999999982,"d":"3"}},{"$f":"SUMPRODUCT(('SCORE TABLE'!N17<='SCORE TABLE'!$F17:$BC17)/COUNTIF('SCORE TABLE'!$F17:$BC17,'SCORE TABLE'!$F17:$BC17))","v":{"v":2.9999999999999982,"d":"3"}},{"$f":"SUMPRODUCT(('SCORE TABLE'!O17<='SCORE TABLE'!$F17:$BC17)/COUNTIF('SCORE TABLE'!$F17:$BC17,'SCORE TABLE'!$F17:$BC17))","v":{"v":2.9999999999999982,"d":"3"}},{"$f":"SUMPRODUCT(('SCORE TABLE'!P17<='SCORE TABLE'!$F17:$BC17)/COUNTIF('SCORE TABLE'!$F17:$BC17,'SCORE TABLE'!$F17:$BC17))","v":{"v":0.9999999999999998,"d":"1"}},{"$f":"SUMPRODUCT(('SCORE TABLE'!Q17<='SCORE TABLE'!$F17:$BC17)/COUNTIF('SCORE TABLE'!$F17:$BC17,'SCORE TABLE'!$F17:$BC17))","v":{"v":2.9999999999999982,"d":"3"}},{"$f":"SUMPRODUCT(('SCORE TABLE'!R17<='SCORE TABLE'!$F17:$BC17)/COUNTIF('SCORE TABLE'!$F17:$BC17,'SCORE TABLE'!$F17:$BC17))","v":{"v":2.9999999999999982,"d":"3"}},{"$f":"SUMPRODUCT(('SCORE TABLE'!S17<='SCORE TABLE'!$F17:$BC17)/COUNTIF('SCORE TABLE'!$F17:$BC17,'SCORE TABLE'!$F17:$BC17))","v":{"v":2.9999999999999982,"d":"3"}},{"$f":"SUMPRODUCT(('SCORE TABLE'!T17<='SCORE TABLE'!$F17:$BC17)/COUNTIF('SCORE TABLE'!$F17:$BC17,'SCORE TABLE'!$F17:$BC17))","v":{"v":2.9999999999999982,"d":"3"}},{"$f":"SUMPRODUCT(('SCORE TABLE'!U17<='SCORE TABLE'!$F17:$BC17)/COUNTIF('SCORE TABLE'!$F17:$BC17,'SCORE TABLE'!$F17:$BC17))","v":{"v":2.9999999999999982,"d":"3"}},{"$f":"SUMPRODUCT(('SCORE TABLE'!V17<='SCORE TABLE'!$F17:$BC17)/COUNTIF('SCORE TABLE'!$F17:$BC17,'SCORE TABLE'!$F17:$BC17))","v":{"v":2.9999999999999982,"d":"3"}},{"$f":"SUMPRODUCT(('SCORE TABLE'!W17<='SCORE TABLE'!$F17:$BC17)/COUNTIF('SCORE TABLE'!$F17:$BC17,'SCORE TABLE'!$F17:$BC17))","v":{"v":2.9999999999999982,"d":"3"}},{"$f":"SUMPRODUCT(('SCORE TABLE'!X17<='SCORE TABLE'!$F17:$BC17)/COUNTIF('SCORE TABLE'!$F17:$BC17,'SCORE TABLE'!$F17:$BC17))","v":{"v":0.9999999999999998,"d":"1"}},{"$f":"SUMPRODUCT(('SCORE TABLE'!Y17<='SCORE TABLE'!$F17:$BC17)/COUNTIF('SCORE TABLE'!$F17:$BC17,'SCORE TABLE'!$F17:$BC17))","v":{"v":2.9999999999999982,"d":"3"}},{"$f":"SUMPRODUCT(('SCORE TABLE'!Z17<='SCORE TABLE'!$F17:$BC17)/COUNTIF('SCORE TABLE'!$F17:$BC17,'SCORE TABLE'!$F17:$BC17))","v":{"v":2.9999999999999982,"d":"3"}},{"$f":"SUMPRODUCT(('SCORE TABLE'!AA17<='SCORE TABLE'!$F17:$BC17)/COUNTIF('SCORE TABLE'!$F17:$BC17,'SCORE TABLE'!$F17:$BC17))","v":{"v":2.9999999999999982,"d":"3"}},{"$f":"SUMPRODUCT(('SCORE TABLE'!AB17<='SCORE TABLE'!$F17:$BC17)/COUNTIF('SCORE TABLE'!$F17:$BC17,'SCORE TABLE'!$F17:$BC17))","v":{"v":2.9999999999999982,"d":"3"}},{"$f":"SUMPRODUCT(('SCORE TABLE'!AC17<='SCORE TABLE'!$F17:$BC17)/COUNTIF('SCORE TABLE'!$F17:$BC17,'SCORE TABLE'!$F17:$BC17))","v":{"v":2.9999999999999982,"d":"3"}},{"$f":"SUMPRODUCT(('SCORE TABLE'!AD17<='SCORE TABLE'!$F17:$BC17)/COUNTIF('SCORE TABLE'!$F17:$BC17,'SCORE TABLE'!$F17:$BC17))","v":{"v":2.9999999999999982,"d":"3"}},{"$f":"SUMPRODUCT(('SCORE TABLE'!AE17<='SCORE TABLE'!$F17:$BC17)/COUNTIF('SCORE TABLE'!$F17:$BC17,'SCORE TABLE'!$F17:$BC17))","v":{"v":2.9999999999999982,"d":"3"}},{"$f":"SUMPRODUCT(('SCORE TABLE'!AF17<='SCORE TABLE'!$F17:$BC17)/COUNTIF('SCORE TABLE'!$F17:$BC17,'SCORE TABLE'!$F17:$BC17))","v":{"v":2.9999999999999982,"d":"3"}},{"$f":"SUMPRODUCT(('SCORE TABLE'!AG17<='SCORE TABLE'!$F17:$BC17)/COUNTIF('SCORE TABLE'!$F17:$BC17,'SCORE TABLE'!$F17:$BC17))","v":{"v":2.9999999999999982,"d":"3"}},{"$f":"SUMPRODUCT(('SCORE TABLE'!AH17<='SCORE TABLE'!$F17:$BC17)/COUNTIF('SCORE TABLE'!$F17:$BC17,'SCORE TABLE'!$F17:$BC17))","v":{"v":2.9999999999999982,"d":"3"}},{"$f":"SUMPRODUCT(('SCORE TABLE'!AI17<='SCORE TABLE'!$F17:$BC17)/COUNTIF('SCORE TABLE'!$F17:$BC17,'SCORE TABLE'!$F17:$BC17))","v":{"v":2.9999999999999982,"d":"3"}},{"$f":"SUMPRODUCT(('SCORE TABLE'!AJ17<='SCORE TABLE'!$F17:$BC17)/COUNTIF('SCORE TABLE'!$F17:$BC17,'SCORE TABLE'!$F17:$BC17))","v":{"v":2.9999999999999982,"d":"3"}},{"$f":"SUMPRODUCT(('SCORE TABLE'!AK17<='SCORE TABLE'!$F17:$BC17)/COUNTIF('SCORE TABLE'!$F17:$BC17,'SCORE TABLE'!$F17:$BC17))","v":{"v":2.9999999999999982,"d":"3"}},{"$f":"SUMPRODUCT(('SCORE TABLE'!AL17<='SCORE TABLE'!$F17:$BC17)/COUNTIF('SCORE TABLE'!$F17:$BC17,'SCORE TABLE'!$F17:$BC17))","v":{"v":2.9999999999999982,"d":"3"}},{"$f":"SUMPRODUCT(('SCORE TABLE'!AM17<='SCORE TABLE'!$F17:$BC17)/COUNTIF('SCORE TABLE'!$F17:$BC17,'SCORE TABLE'!$F17:$BC17))","v":{"v":2.9999999999999982,"d":"3"}},{"$f":"SUMPRODUCT(('SCORE TABLE'!AN17<='SCORE TABLE'!$F17:$BC17)/COUNTIF('SCORE TABLE'!$F17:$BC17,'SCORE TABLE'!$F17:$BC17))","v":{"v":2.9999999999999982,"d":"3"}},{"$f":"SUMPRODUCT(('SCORE TABLE'!AO17<='SCORE TABLE'!$F17:$BC17)/COUNTIF('SCORE TABLE'!$F17:$BC17,'SCORE TABLE'!$F17:$BC17))","v":{"v":0.9999999999999998,"d":"1"}},{"$f":"SUMPRODUCT(('SCORE TABLE'!AP17<='SCORE TABLE'!$F17:$BC17)/COUNTIF('SCORE TABLE'!$F17:$BC17,'SCORE TABLE'!$F17:$BC17))","v":{"v":2.9999999999999982,"d":"3"}},{"$f":"SUMPRODUCT(('SCORE TABLE'!AQ17<='SCORE TABLE'!$F17:$BC17)/COUNTIF('SCORE TABLE'!$F17:$BC17,'SCORE TABLE'!$F17:$BC17))","v":{"v":2.9999999999999982,"d":"3"}},{"$f":"SUMPRODUCT(('SCORE TABLE'!AR17<='SCORE TABLE'!$F17:$BC17)/COUNTIF('SCORE TABLE'!$F17:$BC17,'SCORE TABLE'!$F17:$BC17))","v":{"v":0.9999999999999998,"d":"1"}},{"$f":"SUMPRODUCT(('SCORE TABLE'!AS17<='SCORE TABLE'!$F17:$BC17)/COUNTIF('SCORE TABLE'!$F17:$BC17,'SCORE TABLE'!$F17:$BC17))","v":{"v":2.9999999999999982,"d":"3"}},{"$f":"SUMPRODUCT(('SCORE TABLE'!AT17<='SCORE TABLE'!$F17:$BC17)/COUNTIF('SCORE TABLE'!$F17:$BC17,'SCORE TABLE'!$F17:$BC17))","v":{"v":2.9999999999999982,"d":"3"}},{"$f":"SUMPRODUCT(('SCORE TABLE'!AU17<='SCORE TABLE'!$F17:$BC17)/COUNTIF('SCORE TABLE'!$F17:$BC17,'SCORE TABLE'!$F17:$BC17))","v":{"v":2.9999999999999982,"d":"3"}},{"$f":"SUMPRODUCT(('SCORE TABLE'!AV17<='SCORE TABLE'!$F17:$BC17)/COUNTIF('SCORE TABLE'!$F17:$BC17,'SCORE TABLE'!$F17:$BC17))","v":{"v":2.9999999999999982,"d":"3"}},{"$f":"SUMPRODUCT(('SCORE TABLE'!AW17<='SCORE TABLE'!$F17:$BC17)/COUNTIF('SCORE TABLE'!$F17:$BC17,'SCORE TABLE'!$F17:$BC17))","v":{"v":0.9999999999999998,"d":"1"}},{"$f":"SUMPRODUCT(('SCORE TABLE'!AX17<='SCORE TABLE'!$F17:$BC17)/COUNTIF('SCORE TABLE'!$F17:$BC17,'SCORE TABLE'!$F17:$BC17))","v":{"v":2.9999999999999982,"d":"3"}},{"$f":"SUMPRODUCT(('SCORE TABLE'!AY17<='SCORE TABLE'!$F17:$BC17)/COUNTIF('SCORE TABLE'!$F17:$BC17,'SCORE TABLE'!$F17:$BC17))","v":{"v":2.9999999999999982,"d":"3"}},{"$f":"SUMPRODUCT(('SCORE TABLE'!AZ17<='SCORE TABLE'!$F17:$BC17)/COUNTIF('SCORE TABLE'!$F17:$BC17,'SCORE TABLE'!$F17:$BC17))","v":{"v":2.9999999999999982,"d":"3"}},{"$f":"SUMPRODUCT(('SCORE TABLE'!BA17<='SCORE TABLE'!$F17:$BC17)/COUNTIF('SCORE TABLE'!$F17:$BC17,'SCORE TABLE'!$F17:$BC17))","v":{"v":2.9999999999999982,"d":"3"}},{"$f":"SUMPRODUCT(('SCORE TABLE'!BB17<='SCORE TABLE'!$F17:$BC17)/COUNTIF('SCORE TABLE'!$F17:$BC17,'SCORE TABLE'!$F17:$BC17))","v":{"v":1.9999999999999998,"d":"2"}},{"$f":"SUMPRODUCT(('SCORE TABLE'!BC17<='SCORE TABLE'!$F17:$BC17)/COUNTIF('SCORE TABLE'!$F17:$BC17,'SCORE TABLE'!$F17:$BC17))","v":{"v":2.9999999999999982,"d":"3"}}]
[null,1007,"1.1.3c","Measures for obesity prevention",null,null,{"$f":"SUMPRODUCT(('SCORE TABLE'!F18<='SCORE TABLE'!$F18:$BC18)/COUNTIF('SCORE TABLE'!$F18:$BC18,'SCORE TABLE'!$F18:$BC18))","v":1},{"$f":"SUMPRODUCT(('SCORE TABLE'!G18<='SCORE TABLE'!$F18:$BC18)/COUNTIF('SCORE TABLE'!$F18:$BC18,'SCORE TABLE'!$F18:$BC18))","v":{"v":3.9999999999999982,"d":"4"}},{"$f":"SUMPRODUCT(('SCORE TABLE'!H18<='SCORE TABLE'!$F18:$BC18)/COUNTIF('SCORE TABLE'!$F18:$BC18,'SCORE TABLE'!$F18:$BC18))","v":{"v":3.9999999999999982,"d":"4"}},{"$f":"SUMPRODUCT(('SCORE TABLE'!I18<='SCORE TABLE'!$F18:$BC18)/COUNTIF('SCORE TABLE'!$F18:$BC18,'SCORE TABLE'!$F18:$BC18))","v":{"v":3.9999999999999982,"d":"4"}},{"$f":"SUMPRODUCT(('SCORE TABLE'!J18<='SCORE TABLE'!$F18:$BC18)/COUNTIF('SCORE TABLE'!$F18:$BC18,'SCORE TABLE'!$F18:$BC18))","v":{"v":3.9999999999999982,"d":"4"}},{"$f":"SUMPRODUCT(('SCORE TABLE'!K18<='SCORE TABLE'!$F18:$BC18)/COUNTIF('SCORE TABLE'!$F18:$BC18,'SCORE TABLE'!$F18:$BC18))","v":{"v":1.9999999999999998,"d":"2"}},{"$f":"SUMPRODUCT(('SCORE TABLE'!L18<='SCORE TABLE'!$F18:$BC18)/COUNTIF('SCORE TABLE'!$F18:$BC18,'SCORE TABLE'!$F18:$BC18))","v":{"v":3.9999999999999982,"d":"4"}},{"$f":"SUMPRODUCT(('SCORE TABLE'!M18<='SCORE TABLE'!$F18:$BC18)/COUNTIF('SCORE TABLE'!$F18:$BC18,'SCORE TABLE'!$F18:$BC18))","v":{"v":3.9999999999999982,"d":"4"}},{"$f":"SUMPRODUCT(('SCORE TABLE'!N18<='SCORE TABLE'!$F18:$BC18)/COUNTIF('SCORE TABLE'!$F18:$BC18,'SCORE TABLE'!$F18:$BC18))","v":{"v":3.9999999999999982,"d":"4"}},{"$f":"SUMPRODUCT(('SCORE TABLE'!O18<='SCORE TABLE'!$F18:$BC18)/COUNTIF('SCORE TABLE'!$F18:$BC18,'SCORE TABLE'!$F18:$BC18))","v":{"v":3.9999999999999982,"d":"4"}},{"$f":"SUMPRODUCT(('SCORE TABLE'!P18<='SCORE TABLE'!$F18:$BC18)/COUNTIF('SCORE TABLE'!$F18:$BC18,'SCORE TABLE'!$F18:$BC18))","v":1},{"$f":"SUMPRODUCT(('SCORE TABLE'!Q18<='SCORE TABLE'!$F18:$BC18)/COUNTIF('SCORE TABLE'!$F18:$BC18,'SCORE TABLE'!$F18:$BC18))","v":{"v":3.9999999999999982,"d":"4"}},{"$f":"SUMPRODUCT(('SCORE TABLE'!R18<='SCORE TABLE'!$F18:$BC18)/COUNTIF('SCORE TABLE'!$F18:$BC18,'SCORE TABLE'!$F18:$BC18))","v":{"v":3.9999999999999982,"d":"4"}},{"$f":"SUMPRODUCT(('SCORE TABLE'!S18<='SCORE TABLE'!$F18:$BC18)/COUNTIF('SCORE TABLE'!$F18:$BC18,'SCORE TABLE'!$F18:$BC18))","v":{"v":3.9999999999999982,"d":"4"}},{"$f":"SUMPRODUCT(('SCORE TABLE'!T18<='SCORE TABLE'!$F18:$BC18)/COUNTIF('SCORE TABLE'!$F18:$BC18,'SCORE TABLE'!$F18:$BC18))","v":{"v":3.9999999999999982,"d":"4"}},{"$f":"SUMPRODUCT(('SCORE TABLE'!U18<='SCORE TABLE'!$F18:$BC18)/COUNTIF('SCORE TABLE'!$F18:$BC18,'SCORE TABLE'!$F18:$BC18))","v":{"v":3.9999999999999982,"d":"4"}},{"$f":"SUMPRODUCT(('SCORE TABLE'!V18<='SCORE TABLE'!$F18:$BC18)/COUNTIF('SCORE TABLE'!$F18:$BC18,'SCORE TABLE'!$F18:$BC18))","v":{"v":3.9999999999999982,"d":"4"}},{"$f":"SUMPRODUCT(('SCORE TABLE'!W18<='SCORE TABLE'!$F18:$BC18)/COUNTIF('SCORE TABLE'!$F18:$BC18,'SCORE TABLE'!$F18:$BC18))","v":{"v":3.9999999999999982,"d":"4"}},{"$f":"SUMPRODUCT(('SCORE TABLE'!X18<='SCORE TABLE'!$F18:$BC18)/COUNTIF('SCORE TABLE'!$F18:$BC18,'SCORE TABLE'!$F18:$BC18))","v":3},{"$f":"SUMPRODUCT(('SCORE TABLE'!Y18<='SCORE TABLE'!$F18:$BC18)/COUNTIF('SCORE TABLE'!$F18:$BC18,'SCORE TABLE'!$F18:$BC18))","v":{"v":3.9999999999999982,"d":"4"}},{"$f":"SUMPRODUCT(('SCORE TABLE'!Z18<='SCORE TABLE'!$F18:$BC18)/COUNTIF('SCORE TABLE'!$F18:$BC18,'SCORE TABLE'!$F18:$BC18))","v":{"v":3.9999999999999982,"d":"4"}},{"$f":"SUMPRODUCT(('SCORE TABLE'!AA18<='SCORE TABLE'!$F18:$BC18)/COUNTIF('SCORE TABLE'!$F18:$BC18,'SCORE TABLE'!$F18:$BC18))","v":3},{"$f":"SUMPRODUCT(('SCORE TABLE'!AB18<='SCORE TABLE'!$F18:$BC18)/COUNTIF('SCORE TABLE'!$F18:$BC18,'SCORE TABLE'!$F18:$BC18))","v":{"v":3.9999999999999982,"d":"4"}},{"$f":"SUMPRODUCT(('SCORE TABLE'!AC18<='SCORE TABLE'!$F18:$BC18)/COUNTIF('SCORE TABLE'!$F18:$BC18,'SCORE TABLE'!$F18:$BC18))","v":{"v":3.9999999999999982,"d":"4"}},{"$f":"SUMPRODUCT(('SCORE TABLE'!AD18<='SCORE TABLE'!$F18:$BC18)/COUNTIF('SCORE TABLE'!$F18:$BC18,'SCORE TABLE'!$F18:$BC18))","v":{"v":3.9999999999999982,"d":"4"}},{"$f":"SUMPRODUCT(('SCORE TABLE'!AE18<='SCORE TABLE'!$F18:$BC18)/COUNTIF('SCORE TABLE'!$F18:$BC18,'SCORE TABLE'!$F18:$BC18))","v":{"v":3.9999999999999982,"d":"4"}},{"$f":"SUMPRODUCT(('SCORE TABLE'!AF18<='SCORE TABLE'!$F18:$BC18)/COUNTIF('SCORE TABLE'!$F18:$BC18,'SCORE TABLE'!$F18:$BC18))","v":{"v":3.9999999999999982,"d":"4"}},{"$f":"SUMPRODUCT(('SCORE TABLE'!AG18<='SCORE TABLE'!$F18:$BC18)/COUNTIF('SCORE TABLE'!$F18:$BC18,'SCORE TABLE'!$F18:$BC18))","v":{"v":3.9999999999999982,"d":"4"}},{"$f":"SUMPRODUCT(('SCORE TABLE'!AH18<='SCORE TABLE'!$F18:$BC18)/COUNTIF('SCORE TABLE'!$F18:$BC18,'SCORE TABLE'!$F18:$BC18))","v":{"v":3.9999999999999982,"d":"4"}},{"$f":"SUMPRODUCT(('SCORE TABLE'!AI18<='SCORE TABLE'!$F18:$BC18)/COUNTIF('SCORE TABLE'!$F18:$BC18,'SCORE TABLE'!$F18:$BC18))","v":{"v":3.9999999999999982,"d":"4"}},{"$f":"SUMPRODUCT(('SCORE TABLE'!AJ18<='SCORE TABLE'!$F18:$BC18)/COUNTIF('SCORE TABLE'!$F18:$BC18,'SCORE TABLE'!$F18:$BC18))","v":{"v":3.9999999999999982,"d":"4"}},{"$f":"SUMPRODUCT(('SCORE TABLE'!AK18<='SCORE TABLE'!$F18:$BC18)/COUNTIF('SCORE TABLE'!$F18:$BC18,'SCORE TABLE'!$F18:$BC18))","v":{"v":3.9999999999999982,"d":"4"}},{"$f":"SUMPRODUCT(('SCORE TABLE'!AL18<='SCORE TABLE'!$F18:$BC18)/COUNTIF('SCORE TABLE'!$F18:$BC18,'SCORE TABLE'!$F18:$BC18))","v":{"v":3.9999999999999982,"d":"4"}},{"$f":"SUMPRODUCT(('SCORE TABLE'!AM18<='SCORE TABLE'!$F18:$BC18)/COUNTIF('SCORE TABLE'!$F18:$BC18,'SCORE TABLE'!$F18:$BC18))","v":{"v":3.9999999999999982,"d":"4"}},{"$f":"SUMPRODUCT(('SCORE TABLE'!AN18<='SCORE TABLE'!$F18:$BC18)/COUNTIF('SCORE TABLE'!$F18:$BC18,'SCORE TABLE'!$F18:$BC18))","v":{"v":3.9999999999999982,"d":"4"}},{"$f":"SUMPRODUCT(('SCORE TABLE'!AO18<='SCORE TABLE'!$F18:$BC18)/COUNTIF('SCORE TABLE'!$F18:$BC18,'SCORE TABLE'!$F18:$BC18))","v":1},{"$f":"SUMPRODUCT(('SCORE TABLE'!AP18<='SCORE TABLE'!$F18:$BC18)/COUNTIF('SCORE TABLE'!$F18:$BC18,'SCORE TABLE'!$F18:$BC18))","v":1},{"$f":"SUMPRODUCT(('SCORE TABLE'!AQ18<='SCORE TABLE'!$F18:$BC18)/COUNTIF('SCORE TABLE'!$F18:$BC18,'SCORE TABLE'!$F18:$BC18))","v":{"v":3.9999999999999982,"d":"4"}},{"$f":"SUMPRODUCT(('SCORE TABLE'!AR18<='SCORE TABLE'!$F18:$BC18)/COUNTIF('SCORE TABLE'!$F18:$BC18,'SCORE TABLE'!$F18:$BC18))","v":1},{"$f":"SUMPRODUCT(('SCORE TABLE'!AS18<='SCORE TABLE'!$F18:$BC18)/COUNTIF('SCORE TABLE'!$F18:$BC18,'SCORE TABLE'!$F18:$BC18))","v":{"v":3.9999999999999982,"d":"4"}},{"$f":"SUMPRODUCT(('SCORE TABLE'!AT18<='SCORE TABLE'!$F18:$BC18)/COUNTIF('SCORE TABLE'!$F18:$BC18,'SCORE TABLE'!$F18:$BC18))","v":{"v":3.9999999999999982,"d":"4"}},{"$f":"SUMPRODUCT(('SCORE TABLE'!AU18<='SCORE TABLE'!$F18:$BC18)/COUNTIF('SCORE TABLE'!$F18:$BC18,'SCORE TABLE'!$F18:$BC18))","v":{"v":3.9999999999999982,"d":"4"}},{"$f":"SUMPRODUCT(('SCORE TABLE'!AV18<='SCORE TABLE'!$F18:$BC18)/COUNTIF('SCORE TABLE'!$F18:$BC18,'SCORE TABLE'!$F18:$BC18))","v":{"v":1.9999999999999998,"d":"2"}},{"$f":"SUMPRODUCT(('SCORE TABLE'!AW18<='SCORE TABLE'!$F18:$BC18)/COUNTIF('SCORE TABLE'!$F18:$BC18,'SCORE TABLE'!$F18:$BC18))","v":{"v":1.9999999999999998,"d":"2"}},{"$f":"SUMPRODUCT(('SCORE TABLE'!AX18<='SCORE TABLE'!$F18:$BC18)/COUNTIF('SCORE TABLE'!$F18:$BC18,'SCORE TABLE'!$F18:$BC18))","v":{"v":3.9999999999999982,"d":"4"}},{"$f":"SUMPRODUCT(('SCORE TABLE'!AY18<='SCORE TABLE'!$F18:$BC18)/COUNTIF('SCORE TABLE'!$F18:$BC18,'SCORE TABLE'!$F18:$BC18))","v":{"v":3.9999999999999982,"d":"4"}},{"$f":"SUMPRODUCT(('SCORE TABLE'!AZ18<='SCORE TABLE'!$F18:$BC18)/COUNTIF('SCORE TABLE'!$F18:$BC18,'SCORE TABLE'!$F18:$BC18))","v":{"v":3.9999999999999982,"d":"4"}},{"$f":"SUMPRODUCT(('SCORE TABLE'!BA18<='SCORE TABLE'!$F18:$BC18)/COUNTIF('SCORE TABLE'!$F18:$BC18,'SCORE TABLE'!$F18:$BC18))","v":{"v":3.9999999999999982,"d":"4"}},{"$f":"SUMPRODUCT(('SCORE TABLE'!BB18<='SCORE TABLE'!$F18:$BC18)/COUNTIF('SCORE TABLE'!$F18:$BC18,'SCORE TABLE'!$F18:$BC18))","v":3},{"$f":"SUMPRODUCT(('SCORE TABLE'!BC18<='SCORE TABLE'!$F18:$BC18)/COUNTIF('SCORE TABLE'!$F18:$BC18,'SCORE TABLE'!$F18:$BC18))","v":{"v":3.9999999999999982,"d":"4"}}]
[null,1008,"1.1.3d","Measures for obesity management",null,null,{"$f":"SUMPRODUCT(('SCORE TABLE'!F19<='SCORE TABLE'!$F19:$BC19)/COUNTIF('SCORE TABLE'!$F19:$BC19,'SCORE TABLE'!$F19:$BC19))","v":{"v":3.9999999999999973,"d":"4"}},{"$f":"SUMPRODUCT(('SCORE TABLE'!G19<='SCORE TABLE'!$F19:$BC19)/COUNTIF('SCORE TABLE'!$F19:$BC19,'SCORE TABLE'!$F19:$BC19))","v":{"v":3.9999999999999973,"d":"4"}},{"$f":"SUMPRODUCT(('SCORE TABLE'!H19<='SCORE TABLE'!$F19:$BC19)/COUNTIF('SCORE TABLE'!$F19:$BC19,'SCORE TABLE'!$F19:$BC19))","v":{"v":3.9999999999999973,"d":"4"}},{"$f":"SUMPRODUCT(('SCORE TABLE'!I19<='SCORE TABLE'!$F19:$BC19)/COUNTIF('SCORE TABLE'!$F19:$BC19,'SCORE TABLE'!$F19:$BC19))","v":{"v":3.9999999999999973,"d":"4"}},{"$f":"SUMPRODUCT(('SCORE TABLE'!J19<='SCORE TABLE'!$F19:$BC19)/COUNTIF('SCORE TABLE'!$F19:$BC19,'SCORE TABLE'!$F19:$BC19))","v":{"v":3.9999999999999973,"d":"4"}},{"$f":"SUMPRODUCT(('SCORE TABLE'!K19<='SCORE TABLE'!$F19:$BC19)/COUNTIF('SCORE TABLE'!$F19:$BC19,'SCORE TABLE'!$F19:$BC19))","v":2},{"$f":"SUMPRODUCT(('SCORE TABLE'!L19<='SCORE TABLE'!$F19:$BC19)/COUNTIF('SCORE TABLE'!$F19:$BC19,'SCORE TABLE'!$F19:$BC19))","v":{"v":3.9999999999999973,"d":"4"}},{"$f":"SUMPRODUCT(('SCORE TABLE'!M19<='SCORE TABLE'!$F19:$BC19)/COUNTIF('SCORE TABLE'!$F19:$BC19,'SCORE TABLE'!$F19:$BC19))","v":{"v":3.9999999999999973,"d":"4"}},{"$f":"SUMPRODUCT(('SCORE TABLE'!N19<='SCORE TABLE'!$F19:$BC19)/COUNTIF('SCORE TABLE'!$F19:$BC19,'SCORE TABLE'!$F19:$BC19))","v":{"v":3.9999999999999973,"d":"4"}},{"$f":"SUMPRODUCT(('SCORE TABLE'!O19<='SCORE TABLE'!$F19:$BC19)/COUNTIF('SCORE TABLE'!$F19:$BC19,'SCORE TABLE'!$F19:$BC19))","v":{"v":3.9999999999999973,"d":"4"}},{"$f":"SUMPRODUCT(('SCORE TABLE'!P19<='SCORE TABLE'!$F19:$BC19)/COUNTIF('SCORE TABLE'!$F19:$BC19,'SCORE TABLE'!$F19:$BC19))","v":1},{"$f":"SUMPRODUCT(('SCORE TABLE'!Q19<='SCORE TABLE'!$F19:$BC19)/COUNTIF('SCORE TABLE'!$F19:$BC19,'SCORE TABLE'!$F19:$BC19))","v":{"v":3.9999999999999973,"d":"4"}},{"$f":"SUMPRODUCT(('SCORE TABLE'!R19<='SCORE TABLE'!$F19:$BC19)/COUNTIF('SCORE TABLE'!$F19:$BC19,'SCORE TABLE'!$F19:$BC19))","v":{"v":3.9999999999999973,"d":"4"}},{"$f":"SUMPRODUCT(('SCORE TABLE'!S19<='SCORE TABLE'!$F19:$BC19)/COUNTIF('SCORE TABLE'!$F19:$BC19,'SCORE TABLE'!$F19:$BC19))","v":{"v":3.9999999999999973,"d":"4"}},{"$f":"SUMPRODUCT(('SCORE TABLE'!T19<='SCORE TABLE'!$F19:$BC19)/COUNTIF('SCORE TABLE'!$F19:$BC19,'SCORE TABLE'!$F19:$BC19))","v":{"v":3.9999999999999973,"d":"4"}},{"$f":"SUMPRODUCT(('SCORE TABLE'!U19<='SCORE TABLE'!$F19:$BC19)/COUNTIF('SCORE TABLE'!$F19:$BC19,'SCORE TABLE'!$F19:$BC19))","v":{"v":3.9999999999999973,"d":"4"}},{"$f":"SUMPRODUCT(('SCORE TABLE'!V19<='SCORE TABLE'!$F19:$BC19)/COUNTIF('SCORE TABLE'!$F19:$BC19,'SCORE TABLE'!$F19:$BC19))","v":{"v":3.9999999999999973,"d":"4"}},{"$f":"SUMPRODUCT(('SCORE TABLE'!W19<='SCORE TABLE'!$F19:$BC19)/COUNTIF('SCORE TABLE'!$F19:$BC19,'SCORE TABLE'!$F19:$BC19))","v":{"v":3.9999999999999973,"d":"4"}},{"$f":"SUMPRODUCT(('SCORE TABLE'!X19<='SCORE TABLE'!$F19:$BC19)/COUNTIF('SCORE TABLE'!$F19:$BC19,'SCORE TABLE'!$F19:$BC19))","v":{"v":3.9999999999999973,"d":"4"}},{"$f":"SUMPRODUCT(('SCORE TABLE'!Y19<='SCORE TABLE'!$F19:$BC19)/COUNTIF('SCORE TABLE'!$F19:$BC19,'SCORE TABLE'!$F19:$BC19))","v":{"v":3.9999999999999973,"d":"4"}},{"$f":"SUMPRODUCT(('SCORE TABLE'!Z19<='SCORE TABLE'!$F19:$BC19)/COUNTIF('SCORE TABLE'!$F19:$BC19,'SCORE TABLE'!$F19:$BC19))","v":{"v":3.9999999999999973,"d":"4"}},{"$f":"SUMPRODUCT(('SCORE TABLE'!AA19<='SCORE TABLE'!$F19:$BC19)/COUNTIF('SCORE TABLE'!$F19:$BC19,'SCORE TABLE'!$F19:$BC19))","v":3},{"$f":"SUMPRODUCT(('SCORE TABLE'!AB19<='SCORE TABLE'!$F19:$BC19)/COUNTIF('SCORE TABLE'!$F19:$BC19,'SCORE TABLE'!$F19:$BC19))","v":{"v":3.9999999999999973,"d":"4"}},{"$f":"SUMPRODUCT(('SCORE TABLE'!AC19<='SCORE TABLE'!$F19:$BC19)/COUNTIF('SCORE TABLE'!$F19:$BC19,'SCORE TABLE'!$F19:$BC19))","v":{"v":3.9999999999999973,"d":"4"}},{"$f":"SUMPRODUCT(('SCORE TABLE'!AD19<='SCORE TABLE'!$F19:$BC19)/COUNTIF('SCORE TABLE'!$F19:$BC19,'SCORE TABLE'!$F19:$BC19))","v":{"v":3.9999999999999973,"d":"4"}},{"$f":"SUMPRODUCT(('SCORE TABLE'!AE19<='SCORE TABLE'!$F19:$BC19)/COUNTIF('SCORE TABLE'!$F19:$BC19,'SCORE TABLE'!$F19:$BC19))","v":{"v":3.9999999999999973,"d":"4"}},{"$f":"SUMPRODUCT(('SCORE TABLE'!AF19<='SCORE TABLE'!$F19:$BC19)/COUNTIF('SCORE TABLE'!$F19:$BC19,'SCORE TABLE'!$F19:$BC19))","v":{"v":3.9999999999999973,"d":"4"}},{"$f":"SUMPRODUCT(('SCORE TABLE'!AG19<='SCORE TABLE'!$F19:$BC19)/COUNTIF('SCORE TABLE'!$F19:$BC19,'SCORE TABLE'!$F19:$BC19))","v":{"v":3.9999999999999973,"d":"4"}},{"$f":"SUMPRODUCT(('SCORE TABLE'!AH19<='SCORE TABLE'!$F19:$BC19)/COUNTIF('SCORE TABLE'!$F19:$BC19,'SCORE TABLE'!$F19:$BC19))","v":{"v":3.9999999999999973,"d":"4"}},{"$f":"SUMPRODUCT(('SCORE TABLE'!AI19<='SCORE TABLE'!$F19:$BC19)/COUNTIF('SCORE TABLE'!$F19:$BC19,'SCORE TABLE'!$F19:$BC19))","v":{"v":3.9999999999999973,"d":"4"}},{"$f":"SUMPRODUCT(('SCORE TABLE'!AJ19<='SCORE TABLE'!$F19:$BC19)/COUNTIF('SCORE TABLE'!$F19:$BC19,'SCORE TABLE'!$F19:$BC19))","v":{"v":3.9999999999999973,"d":"4"}},{"$f":"SUMPRODUCT(('SCORE TABLE'!AK19<='SCORE TABLE'!$F19:$BC19)/COUNTIF('SCORE TABLE'!$F19:$BC19,'SCORE TABLE'!$F19:$BC19))","v":{"v":3.9999999999999973,"d":"4"}},{"$f":"SUMPRODUCT(('SCORE TABLE'!AL19<='SCORE TABLE'!$F19:$BC19)/COUNTIF('SCORE TABLE'!$F19:$BC19,'SCORE TABLE'!$F19:$BC19))","v":{"v":3.9999999999999973,"d":"4"}},{"$f":"SUMPRODUCT(('SCORE TABLE'!AM19<='SCORE TABLE'!$F19:$BC19)/COUNTIF('SCORE TABLE'!$F19:$BC19,'SCORE TABLE'!$F19:$BC19))","v":{"v":3.9999999999999973,"d":"4"}},{"$f":"SUMPRODUCT(('SCORE TABLE'!AN19<='SCORE TABLE'!$F19:$BC19)/COUNTIF('SCORE TABLE'!$F19:$BC19,'SCORE TABLE'!$F19:$BC19))","v":{"v":3.9999999999999973,"d":"4"}},{"$f":"SUMPRODUCT(('SCORE TABLE'!AO19<='SCORE TABLE'!$F19:$BC19)/COUNTIF('SCORE TABLE'!$F19:$BC19,'SCORE TABLE'!$F19:$BC19))","v":1},{"$f":"SUMPRODUCT(('SCORE TABLE'!AP19<='SCORE TABLE'!$F19:$BC19)/COUNTIF('SCORE TABLE'!$F19:$BC19,'SCORE TABLE'!$F19:$BC19))","v":3},{"$f":"SUMPRODUCT(('SCORE TABLE'!AQ19<='SCORE TABLE'!$F19:$BC19)/COUNTIF('SCORE TABLE'!$F19:$BC19,'SCORE TABLE'!$F19:$BC19))","v":{"v":3.9999999999999973,"d":"4"}},{"$f":"SUMPRODUCT(('SCORE TABLE'!AR19<='SCORE TABLE'!$F19:$BC19)/COUNTIF('SCORE TABLE'!$F19:$BC19,'SCORE TABLE'!$F19:$BC19))","v":3},{"$f":"SUMPRODUCT(('SCORE TABLE'!AS19<='SCORE TABLE'!$F19:$BC19)/COUNTIF('SCORE TABLE'!$F19:$BC19,'SCORE TABLE'!$F19:$BC19))","v":{"v":3.9999999999999973,"d":"4"}},{"$f":"SUMPRODUCT(('SCORE TABLE'!AT19<='SCORE TABLE'!$F19:$BC19)/COUNTIF('SCORE TABLE'!$F19:$BC19,'SCORE TABLE'!$F19:$BC19))","v":{"v":3.9999999999999973,"d":"4"}},{"$f":"SUMPRODUCT(('SCORE TABLE'!AU19<='SCORE TABLE'!$F19:$BC19)/COUNTIF('SCORE TABLE'!$F19:$BC19,'SCORE TABLE'!$F19:$BC19))","v":{"v":3.9999999999999973,"d":"4"}},{"$f":"SUMPRODUCT(('SCORE TABLE'!AV19<='SCORE TABLE'!$F19:$BC19)/COUNTIF('SCORE TABLE'!$F19:$BC19,'SCORE TABLE'!$F19:$BC19))","v":3},{"$f":"SUMPRODUCT(('SCORE TABLE'!AW19<='SCORE TABLE'!$F19:$BC19)/COUNTIF('SCORE TABLE'!$F19:$BC19,'SCORE TABLE'!$F19:$BC19))","v":2},{"$f":"SUMPRODUCT(('SCORE TABLE'!AX19<='SCORE TABLE'!$F19:$BC19)/COUNTIF('SCORE TABLE'!$F19:$BC19,'SCORE TABLE'!$F19:$BC19))","v":{"v":3.9999999999999973,"d":"4"}},{"$f":"SUMPRODUCT(('SCORE TABLE'!AY19<='SCORE TABLE'!$F19:$BC19)/COUNTIF('SCORE TABLE'!$F19:$BC19,'SCORE TABLE'!$F19:$BC19))","v":{"v":3.9999999999999973,"d":"4"}},{"$f":"SUMPRODUCT(('SCORE TABLE'!AZ19<='SCORE TABLE'!$F19:$BC19)/COUNTIF('SCORE TABLE'!$F19:$BC19,'SCORE TABLE'!$F19:$BC19))","v":{"v":3.9999999999999973,"d":"4"}},{"$f":"SUMPRODUCT(('SCORE TABLE'!BA19<='SCORE TABLE'!$F19:$BC19)/COUNTIF('SCORE TABLE'!$F19:$BC19,'SCORE TABLE'!$F19:$BC19))","v":{"v":3.9999999999999973,"d":"4"}},{"$f":"SUMPRODUCT(('SCORE TABLE'!BB19<='SCORE TABLE'!$F19:$BC19)/COUNTIF('SCORE TABLE'!$F19:$BC19,'SCORE TABLE'!$F19:$BC19))","v":{"v":3.9999999999999973,"d":"4"}},{"$f":"SUMPRODUCT(('SCORE TABLE'!BC19<='SCORE TABLE'!$F19:$BC19)/COUNTIF('SCORE TABLE'!$F19:$BC19,'SCORE TABLE'!$F19:$BC19))","v":{"v":3.9999999999999973,"d":"4"}}]
[null,1009,"1.1.3e","Targets for obesity prevalence reduction",null,null,{"$f":"SUMPRODUCT(('SCORE TABLE'!F20<='SCORE TABLE'!$F20:$BC20)/COUNTIF('SCORE TABLE'!$F20:$BC20,'SCORE TABLE'!$F20:$BC20))","v":{"v":2.0000000000000018,"d":"2"}},{"$f":"SUMPRODUCT(('SCORE TABLE'!G20<='SCORE TABLE'!$F20:$BC20)/COUNTIF('SCORE TABLE'!$F20:$BC20,'SCORE TABLE'!$F20:$BC20))","v":{"v":2.0000000000000018,"d":"2"}},{"$f":"SUMPRODUCT(('SCORE TABLE'!H20<='SCORE TABLE'!$F20:$BC20)/COUNTIF('SCORE TABLE'!$F20:$BC20,'SCORE TABLE'!$F20:$BC20))","v":{"v":2.0000000000000018,"d":"2"}},{"$f":"SUMPRODUCT(('SCORE TABLE'!I20<='SCORE TABLE'!$F20:$BC20)/COUNTIF('SCORE TABLE'!$F20:$BC20,'SCORE TABLE'!$F20:$BC20))","v":{"v":2.0000000000000018,"d":"2"}},{"$f":"SUMPRODUCT(('SCORE TABLE'!J20<='SCORE TABLE'!$F20:$BC20)/COUNTIF('SCORE TABLE'!$F20:$BC20,'SCORE TABLE'!$F20:$BC20))","v":{"v":2.0000000000000018,"d":"2"}},{"$f":"SUMPRODUCT(('SCORE TABLE'!K20<='SCORE TABLE'!$F20:$BC20)/COUNTIF('SCORE TABLE'!$F20:$BC20,'SCORE TABLE'!$F20:$BC20))","v":1},{"$f":"SUMPRODUCT(('SCORE TABLE'!L20<='SCORE TABLE'!$F20:$BC20)/COUNTIF('SCORE TABLE'!$F20:$BC20,'SCORE TABLE'!$F20:$BC20))","v":{"v":2.0000000000000018,"d":"2"}},{"$f":"SUMPRODUCT(('SCORE TABLE'!M20<='SCORE TABLE'!$F20:$BC20)/COUNTIF('SCORE TABLE'!$F20:$BC20,'SCORE TABLE'!$F20:$BC20))","v":{"v":2.0000000000000018,"d":"2"}},{"$f":"SUMPRODUCT(('SCORE TABLE'!N20<='SCORE TABLE'!$F20:$BC20)/COUNTIF('SCORE TABLE'!$F20:$BC20,'SCORE TABLE'!$F20:$BC20))","v":{"v":2.0000000000000018,"d":"2"}},{"$f":"SUMPRODUCT(('SCORE TABLE'!O20<='SCORE TABLE'!$F20:$BC20)/COUNTIF('SCORE TABLE'!$F20:$BC20,'SCORE TABLE'!$F20:$BC20))","v":{"v":2.0000000000000018,"d":"2"}},{"$f":"SUMPRODUCT(('SCORE TABLE'!P20<='SCORE TABLE'!$F20:$BC20)/COUNTIF('SCORE TABLE'!$F20:$BC20,'SCORE TABLE'!$F20:$BC20))","v":1},{"$f":"SUMPRODUCT(('SCORE TABLE'!Q20<='SCORE TABLE'!$F20:$BC20)/COUNTIF('SCORE TABLE'!$F20:$BC20,'SCORE TABLE'!$F20:$BC20))","v":{"v":2.0000000000000018,"d":"2"}},{"$f":"SUMPRODUCT(('SCORE TABLE'!R20<='SCORE TABLE'!$F20:$BC20)/COUNTIF('SCORE TABLE'!$F20:$BC20,'SCORE TABLE'!$F20:$BC20))","v":{"v":2.0000000000000018,"d":"2"}},{"$f":"SUMPRODUCT(('SCORE TABLE'!S20<='SCORE TABLE'!$F20:$BC20)/COUNTIF('SCORE TABLE'!$F20:$BC20,'SCORE TABLE'!$F20:$BC20))","v":{"v":2.0000000000000018,"d":"2"}},{"$f":"SUMPRODUCT(('SCORE TABLE'!T20<='SCORE TABLE'!$F20:$BC20)/COUNTIF('SCORE TABLE'!$F20:$BC20,'SCORE TABLE'!$F20:$BC20))","v":{"v":2.0000000000000018,"d":"2"}},{"$f":"SUMPRODUCT(('SCORE TABLE'!U20<='SCORE TABLE'!$F20:$BC20)/COUNTIF('SCORE TABLE'!$F20:$BC20,'SCORE TABLE'!$F20:$BC20))","v":{"v":2.0000000000000018,"d":"2"}},{"$f":"SUMPRODUCT(('SCORE TABLE'!V20<='SCORE TABLE'!$F20:$BC20)/COUNTIF('SCORE TABLE'!$F20:$BC20,'SCORE TABLE'!$F20:$BC20))","v":{"v":2.0000000000000018,"d":"2"}},{"$f":"SUMPRODUCT(('SCORE TABLE'!W20<='SCORE TABLE'!$F20:$BC20)/COUNTIF('SCORE TABLE'!$F20:$BC20,'SCORE TABLE'!$F20:$BC20))","v":{"v":2.0000000000000018,"d":"2"}},{"$f":"SUMPRODUCT(('SCORE TABLE'!X20<='SCORE TABLE'!$F20:$BC20)/COUNTIF('SCORE TABLE'!$F20:$BC20,'SCORE TABLE'!$F20:$BC20))","v":{"v":2.0000000000000018,"d":"2"}},{"$f":"SUMPRODUCT(('SCORE TABLE'!Y20<='SCORE TABLE'!$F20:$BC20)/COUNTIF('SCORE TABLE'!$F20:$BC20,'SCORE TABLE'!$F20:$BC20))","v":{"v":2.0000000000000018,"d":"2"}},{"$f":"SUMPRODUCT(('SCORE TABLE'!Z20<='SCORE TABLE'!$F20:$BC20)/COUNTIF('SCORE TABLE'!$F20:$BC20,'SCORE TABLE'!$F20:$BC20))","v":{"v":2.0000000000000018,"d":"2"}},{"$f":"SUMPRODUCT(('SCORE TABLE'!AA20<='SCORE TABLE'!$F20:$BC20)/COUNTIF('SCORE TABLE'!$F20:$BC20,'SCORE TABLE'!$F20:$BC20))","v":{"v":2.0000000000000018,"d":"2"}},{"$f":"SUMPRODUCT(('SCORE TABLE'!AB20<='SCORE TABLE'!$F20:$BC20)/COUNTIF('SCORE TABLE'!$F20:$BC20,'SCORE TABLE'!$F20:$BC20))","v":{"v":2.0000000000000018,"d":"2"}},{"$f":"SUMPRODUCT(('SCORE TABLE'!AC20<='SCORE TABLE'!$F20:$BC20)/COUNTIF('SCORE TABLE'!$F20:$BC20,'SCORE TABLE'!$F20:$BC20))","v":{"v":2.0000000000000018,"d":"2"}},{"$f":"SUMPRODUCT(('SCORE TABLE'!AD20<='SCORE TABLE'!$F20:$BC20)/COUNTIF('SCORE TABLE'!$F20:$BC20,'SCORE TABLE'!$F20:$BC20))","v":{"v":2.0000000000000018,"d":"2"}},{"$f":"SUMPRODUCT(('SCORE TABLE'!AE20<='SCORE TABLE'!$F20:$BC20)/COUNTIF('SCORE TABLE'!$F20:$BC20,'SCORE TABLE'!$F20:$BC20))","v":{"v":2.0000000000000018,"d":"2"}},{"$f":"SUMPRODUCT(('SCORE TABLE'!AF20<='SCORE TABLE'!$F20:$BC20)/COUNTIF('SCORE TABLE'!$F20:$BC20,'SCORE TABLE'!$F20:$BC20))","v":{"v":2.0000000000000018,"d":"2"}},{"$f":"SUMPRODUCT(('SCORE TABLE'!AG20<='SCORE TABLE'!$F20:$BC20)/COUNTIF('SCORE TABLE'!$F20:$BC20,'SCORE TABLE'!$F20:$BC20))","v":{"v":2.0000000000000018,"d":"2"}},{"$f":"SUMPRODUCT(('SCORE TABLE'!AH20<='SCORE TABLE'!$F20:$BC20)/COUNTIF('SCORE TABLE'!$F20:$BC20,'SCORE TABLE'!$F20:$BC20))","v":{"v":2.0000000000000018,"d":"2"}},{"$f":"SUMPRODUCT(('SCORE TABLE'!AI20<='SCORE TABLE'!$F20:$BC20)/COUNTIF('SCORE TABLE'!$F20:$BC20,'SCORE TABLE'!$F20:$BC20))","v":{"v":2.0000000000000018,"d":"2"}},{"$f":"SUMPRODUCT(('SCORE TABLE'!AJ20<='SCORE TABLE'!$F20:$BC20)/COUNTIF('SCORE TABLE'!$F20:$BC20,'SCORE TABLE'!$F20:$BC20))","v":{"v":2.0000000000000018,"d":"2"}},{"$f":"SUMPRODUCT(('SCORE TABLE'!AK20<='SCORE TABLE'!$F20:$BC20)/COUNTIF('SCORE TABLE'!$F20:$BC20,'SCORE TABLE'!$F20:$BC20))","v":{"v":2.0000000000000018,"d":"2"}},{"$f":"SUMPRODUCT(('SCORE TABLE'!AL20<='SCORE TABLE'!$F20:$BC20)/COUNTIF('SCORE TABLE'!$F20:$BC20,'SCORE TABLE'!$F20:$BC20))","v":{"v":2.0000000000000018,"d":"2"}},{"$f":"SUMPRODUCT(('SCORE TABLE'!AM20<='SCORE TABLE'!$F20:$BC20)/COUNTIF('SCORE TABLE'!$F20:$BC20,'SCORE TABLE'!$F20:$BC20))","v":{"v":2.0000000000000018,"d":"2"}},{"$f":"SUMPRODUCT(('SCORE TABLE'!AN20<='SCORE TABLE'!$F20:$BC20)/COUNTIF('SCORE TABLE'!$F20:$BC20,'SCORE TABLE'!$F20:$BC20))","v":{"v":2.0000000000000018,"d":"2"}},{"$f":"SUMPRODUCT(('SCORE TABLE'!AO20<='SCORE TABLE'!$F20:$BC20)/COUNTIF('SCORE TABLE'!$F20:$BC20,'SCORE TABLE'!$F20:$BC20))","v":1},{"$f":"SUMPRODUCT(('SCORE TABLE'!AP20<='SCORE TABLE'!$F20:$BC20)/COUNTIF('SCORE TABLE'!$F20:$BC20,'SCORE TABLE'!$F20:$BC20))","v":1},{"$f":"SUMPRODUCT(('SCORE TABLE'!AQ20<='SCORE TABLE'!$F20:$BC20)/COUNTIF('SCORE TABLE'!$F20:$BC20,'SCORE TABLE'!$F20:$BC20))","v":{"v":2.0000000000000018,"d":"2"}},{"$f":"SUMPRODUCT(('SCORE TABLE'!AR20<='SCORE TABLE'!$F20:$BC20)/COUNTIF('SCORE TABLE'!$F20:$BC20,'SCORE TABLE'!$F20:$BC20))","v":{"v":2.0000000000000018,"d":"2"}},{"$f":"SUMPRODUCT(('SCORE TABLE'!AS20<='SCORE TABLE'!$F20:$BC20)/COUNTIF('SCORE TABLE'!$F20:$BC20,'SCORE TABLE'!$F20:$BC20))","v":{"v":2.0000000000000018,"d":"2"}},{"$f":"SUMPRODUCT(('SCORE TABLE'!AT20<='SCORE TABLE'!$F20:$BC20)/COUNTIF('SCORE TABLE'!$F20:$BC20,'SCORE TABLE'!$F20:$BC20))","v":{"v":2.0000000000000018,"d":"2"}},{"$f":"SUMPRODUCT(('SCORE TABLE'!AU20<='SCORE TABLE'!$F20:$BC20)/COUNTIF('SCORE TABLE'!$F20:$BC20,'SCORE TABLE'!$F20:$BC20))","v":{"v":2.0000000000000018,"d":"2"}},{"$f":"SUMPRODUCT(('SCORE TABLE'!AV20<='SCORE TABLE'!$F20:$BC20)/COUNTIF('SCORE TABLE'!$F20:$BC20,'SCORE TABLE'!$F20:$BC20))","v":{"v":2.0000000000000018,"d":"2"}},{"$f":"SUMPRODUCT(('SCORE TABLE'!AW20<='SCORE TABLE'!$F20:$BC20)/COUNTIF('SCORE TABLE'!$F20:$BC20,'SCORE TABLE'!$F20:$BC20))","v":{"v":2.0000000000000018,"d":"2"}},{"$f":"SUMPRODUCT(('SCORE TABLE'!AX20<='SCORE TABLE'!$F20:$BC20)/COUNTIF('SCORE TABLE'!$F20:$BC20,'SCORE TABLE'!$F20:$BC20))","v":{"v":2.0000000000000018,"d":"2"}},{"$f":"SUMPRODUCT(('SCORE TABLE'!AY20<='SCORE TABLE'!$F20:$BC20)/COUNTIF('SCORE TABLE'!$F20:$BC20,'SCORE TABLE'!$F20:$BC20))","v":{"v":2.0000000000000018,"d":"2"}},{"$f":"SUMPRODUCT(('SCORE TABLE'!AZ20<='SCORE TABLE'!$F20:$BC20)/COUNTIF('SCORE TABLE'!$F20:$BC20,'SCORE TABLE'!$F20:$BC20))","v":{"v":2.0000000000000018,"d":"2"}},{"$f":"SUMPRODUCT(('SCORE TABLE'!BA20<='SCORE TABLE'!$F20:$BC20)/COUNTIF('SCORE TABLE'!$F20:$BC20,'SCORE TABLE'!$F20:$BC20))","v":{"v":2.0000000000000018,"d":"2"}},{"$f":"SUMPRODUCT(('SCORE TABLE'!BB20<='SCORE TABLE'!$F20:$BC20)/COUNTIF('SCORE TABLE'!$F20:$BC20,'SCORE TABLE'!$F20:$BC20))","v":{"v":2.0000000000000018,"d":"2"}},{"$f":"SUMPRODUCT(('SCORE TABLE'!BC20<='SCORE TABLE'!$F20:$BC20)/COUNTIF('SCORE TABLE'!$F20:$BC20,'SCORE TABLE'!$F20:$BC20))","v":{"v":2.0000000000000018,"d":"2"}}]
[null,1010,"1.1.3f","Focus on vulnerable groups",null,null,{"$f":"SUMPRODUCT(('SCORE TABLE'!F21<='SCORE TABLE'!$F21:$BC21)/COUNTIF('SCORE TABLE'!$F21:$BC21,'SCORE TABLE'!$F21:$BC21))","v":{"v":0.9999999999999998,"d":"1"}},{"$f":"SUMPRODUCT(('SCORE TABLE'!G21<='SCORE TABLE'!$F21:$BC21)/COUNTIF('SCORE TABLE'!$F21:$BC21,'SCORE TABLE'!$F21:$BC21))","v":{"v":3.0000000000000004,"d":"3"}},{"$f":"SUMPRODUCT(('SCORE TABLE'!H21<='SCORE TABLE'!$F21:$BC21)/COUNTIF('SCORE TABLE'!$F21:$BC21,'SCORE TABLE'!$F21:$BC21))","v":{"v":3.0000000000000004,"d":"3"}},{"$f":"SUMPRODUCT(('SCORE TABLE'!I21<='SCORE TABLE'!$F21:$BC21)/COUNTIF('SCORE TABLE'!$F21:$BC21,'SCORE TABLE'!$F21:$BC21))","v":{"v":3.0000000000000004,"d":"3"}},{"$f":"SUMPRODUCT(('SCORE TABLE'!J21<='SCORE TABLE'!$F21:$BC21)/COUNTIF('SCORE TABLE'!$F21:$BC21,'SCORE TABLE'!$F21:$BC21))","v":{"v":3.0000000000000004,"d":"3"}},{"$f":"SUMPRODUCT(('SCORE TABLE'!K21<='SCORE TABLE'!$F21:$BC21)/COUNTIF('SCORE TABLE'!$F21:$BC21,'SCORE TABLE'!$F21:$BC21))","v":{"v":1.9999999999999996,"d":"2"}},{"$f":"SUMPRODUCT(('SCORE TABLE'!L21<='SCORE TABLE'!$F21:$BC21)/COUNTIF('SCORE TABLE'!$F21:$BC21,'SCORE TABLE'!$F21:$BC21))","v":{"v":3.0000000000000004,"d":"3"}},{"$f":"SUMPRODUCT(('SCORE TABLE'!M21<='SCORE TABLE'!$F21:$BC21)/COUNTIF('SCORE TABLE'!$F21:$BC21,'SCORE TABLE'!$F21:$BC21))","v":{"v":3.0000000000000004,"d":"3"}},{"$f":"SUMPRODUCT(('SCORE TABLE'!N21<='SCORE TABLE'!$F21:$BC21)/COUNTIF('SCORE TABLE'!$F21:$BC21,'SCORE TABLE'!$F21:$BC21))","v":{"v":3.0000000000000004,"d":"3"}},{"$f":"SUMPRODUCT(('SCORE TABLE'!O21<='SCORE TABLE'!$F21:$BC21)/COUNTIF('SCORE TABLE'!$F21:$BC21,'SCORE TABLE'!$F21:$BC21))","v":{"v":3.0000000000000004,"d":"3"}},{"$f":"SUMPRODUCT(('SCORE TABLE'!P21<='SCORE TABLE'!$F21:$BC21)/COUNTIF('SCORE TABLE'!$F21:$BC21,'SCORE TABLE'!$F21:$BC21))","v":{"v":0.9999999999999998,"d":"1"}},{"$f":"SUMPRODUCT(('SCORE TABLE'!Q21<='SCORE TABLE'!$F21:$BC21)/COUNTIF('SCORE TABLE'!$F21:$BC21,'SCORE TABLE'!$F21:$BC21))","v":{"v":3.0000000000000004,"d":"3"}},{"$f":"SUMPRODUCT(('SCORE TABLE'!R21<='SCORE TABLE'!$F21:$BC21)/COUNTIF('SCORE TABLE'!$F21:$BC21,'SCORE TABLE'!$F21:$BC21))","v":{"v":3.0000000000000004,"d":"3"}},{"$f":"SUMPRODUCT(('SCORE TABLE'!S21<='SCORE TABLE'!$F21:$BC21)/COUNTIF('SCORE TABLE'!$F21:$BC21,'SCORE TABLE'!$F21:$BC21))","v":{"v":3.0000000000000004,"d":"3"}},{"$f":"SUMPRODUCT(('SCORE TABLE'!T21<='SCORE TABLE'!$F21:$BC21)/COUNTIF('SCORE TABLE'!$F21:$BC21,'SCORE TABLE'!$F21:$BC21))","v":{"v":3.0000000000000004,"d":"3"}},{"$f":"SUMPRODUCT(('SCORE TABLE'!U21<='SCORE TABLE'!$F21:$BC21)/COUNTIF('SCORE TABLE'!$F21:$BC21,'SCORE TABLE'!$F21:$BC21))","v":{"v":3.0000000000000004,"d":"3"}},{"$f":"SUMPRODUCT(('SCORE TABLE'!V21<='SCORE TABLE'!$F21:$BC21)/COUNTIF('SCORE TABLE'!$F21:$BC21,'SCORE TABLE'!$F21:$BC21))","v":{"v":3.0000000000000004,"d":"3"}},{"$f":"SUMPRODUCT(('SCORE TABLE'!W21<='SCORE TABLE'!$F21:$BC21)/COUNTIF('SCORE TABLE'!$F21:$BC21,'SCORE TABLE'!$F21:$BC21))","v":{"v":3.0000000000000004,"d":"3"}},{"$f":"SUMPRODUCT(('SCORE TABLE'!X21<='SCORE TABLE'!$F21:$BC21)/COUNTIF('SCORE TABLE'!$F21:$BC21,'SCORE TABLE'!$F21:$BC21))","v":{"v":1.9999999999999996,"d":"2"}},{"$f":"SUMPRODUCT(('SCORE TABLE'!Y21<='SCORE TABLE'!$F21:$BC21)/COUNTIF('SCORE TABLE'!$F21:$BC21,'SCORE TABLE'!$F21:$BC21))","v":{"v":3.0000000000000004,"d":"3"}},{"$f":"SUMPRODUCT(('SCORE TABLE'!Z21<='SCORE TABLE'!$F21:$BC21)/COUNTIF('SCORE TABLE'!$F21:$BC21,'SCORE TABLE'!$F21:$BC21))","v":{"v":3.0000000000000004,"d":"3"}},{"$f":"SUMPRODUCT(('SCORE TABLE'!AA21<='SCORE TABLE'!$F21:$BC21)/COUNTIF('SCORE TABLE'!$F21:$BC21,'SCORE TABLE'!$F21:$BC21))","v":{"v":3.0000000000000004,"d":"3"}},{"$f":"SUMPRODUCT(('SCORE TABLE'!AB21<='SCORE TABLE'!$F21:$BC21)/COUNTIF('SCORE TABLE'!$F21:$BC21,'SCORE TABLE'!$F21:$BC21))","v":{"v":3.0000000000000004,"d":"3"}},{"$f":"SUMPRODUCT(('SCORE TABLE'!AC21<='SCORE TABLE'!$F21:$BC21)/COUNTIF('SCORE TABLE'!$F21:$BC21,'SCORE TABLE'!$F21:$BC21))","v":{"v":3.0000000000000004,"d":"3"}},{"$f":"SUMPRODUCT(('SCORE TABLE'!AD21<='SCORE TABLE'!$F21:$BC21)/COUNTIF('SCORE TABLE'!$F21:$BC21,'SCORE TABLE'!$F21:$BC21))","v":{"v":3.0000000000000004,"d":"3"}},{"$f":"SUMPRODUCT(('SCORE TABLE'!AE21<='SCORE TABLE'!$F21:$BC21)/COUNTIF('SCORE TABLE'!$F21:$BC21,'SCORE TABLE'!$F21:$BC21))","v":{"v":3.0000000000000004,"d":"3"}},{"$f":"SUMPRODUCT(('SCORE TABLE'!AF21<='SCORE TABLE'!$F21:$BC21)/COUNTIF('SCORE TABLE'!$F21:$BC21,'SCORE TABLE'!$F21:$BC21))","v":{"v":3.0000000000000004,"d":"3"}},{"$f":"SUMPRODUCT(('SCORE TABLE'!AG21<='SCORE TABLE'!$F21:$BC21)/COUNTIF('SCORE TABLE'!$F21:$BC21,'SCORE TABLE'!$F21:$BC21))","v":{"v":3.0000000000000004,"d":"3"}},{"$f":"SUMPRODUCT(('SCORE TABLE'!AH21<='SCORE TABLE'!$F21:$BC21)/COUNTIF('SCORE TABLE'!$F21:$BC21,'SCORE TABLE'!$F21:$BC21))","v":{"v":3.0000000000000004,"d":"3"}},{"$f":"SUMPRODUCT(('SCORE TABLE'!AI21<='SCORE TABLE'!$F21:$BC21)/COUNTIF('SCORE TABLE'!$F21:$BC21,'SCORE TABLE'!$F21:$BC21))","v":{"v":3.0000000000000004,"d":"3"}},{"$f":"SUMPRODUCT(('SCORE TABLE'!AJ21<='SCORE TABLE'!$F21:$BC21)/COUNTIF('SCORE TABLE'!$F21:$BC21,'SCORE TABLE'!$F21:$BC21))","v":{"v":3.0000000000000004,"d":"3"}},{"$f":"SUMPRODUCT(('SCORE TABLE'!AK21<='SCORE TABLE'!$F21:$BC21)/COUNTIF('SCORE TABLE'!$F21:$BC21,'SCORE TABLE'!$F21:$BC21))","v":{"v":3.0000000000000004,"d":"3"}},{"$f":"SUMPRODUCT(('SCORE TABLE'!AL21<='SCORE TABLE'!$F21:$BC21)/COUNTIF('SCORE TABLE'!$F21:$BC21,'SCORE TABLE'!$F21:$BC21))","v":{"v":3.0000000000000004,"d":"3"}},{"$f":"SUMPRODUCT(('SCORE TABLE'!AM21<='SCORE TABLE'!$F21:$BC21)/COUNTIF('SCORE TABLE'!$F21:$BC21,'SCORE TABLE'!$F21:$BC21))","v":{"v":3.0000000000000004,"d":"3"}},{"$f":"SUMPRODUCT(('SCORE TABLE'!AN21<='SCORE TABLE'!$F21:$BC21)/COUNTIF('SCORE TABLE'!$F21:$BC21,'SCORE TABLE'!$F21:$BC21))","v":{"v":3.0000000000000004,"d":"3"}},{"$f":"SUMPRODUCT(('SCORE TABLE'!AO21<='SCORE TABLE'!$F21:$BC21)/COUNTIF('SCORE TABLE'!$F21:$BC21,'SCORE TABLE'!$F21:$BC21))","v":{"v":0.9999999999999998,"d":"1"}},{"$f":"SUMPRODUCT(('SCORE TABLE'!AP21<='SCORE TABLE'!$F21:$BC21)/COUNTIF('SCORE TABLE'!$F21:$BC21,'SCORE TABLE'!$F21:$BC21))","v":{"v":0.9999999999999998,"d":"1"}},{"$f":"SUMPRODUCT(('SCORE TABLE'!AQ21<='SCORE TABLE'!$F21:$BC21)/COUNTIF('SCORE TABLE'!$F21:$BC21,'SCORE TABLE'!$F21:$BC21))","v":{"v":3.0000000000000004,"d":"3"}},{"$f":"SUMPRODUCT(('SCORE TABLE'!AR21<='SCORE TABLE'!$F21:$BC21)/COUNTIF('SCORE TABLE'!$F21:$BC21,'SCORE TABLE'!$F21:$BC21))","v":{"v":0.9999999999999998,"d":"1"}},{"$f":"SUMPRODUCT(('SCORE TABLE'!AS21<='SCORE TABLE'!$F21:$BC21)/COUNTIF('SCORE TABLE'!$F21:$BC21,'SCORE TABLE'!$F21:$BC21))","v":{"v":3.0000000000000004,"d":"3"}},{"$f":"SUMPRODUCT(('SCORE TABLE'!AT21<='SCORE TABLE'!$F21:$BC21)/COUNTIF('SCORE TABLE'!$F21:$BC21,'SCORE TABLE'!$F21:$BC21))","v":{"v":3.0000000000000004,"d":"3"}},{"$f":"SUMPRODUCT(('SCORE TABLE'!AU21<='SCORE TABLE'!$F21:$BC21)/COUNTIF('SCORE TABLE'!$F21:$BC21,'SCORE TABLE'!$F21:$BC21))","v":{"v":3.0000000000000004,"d":"3"}},{"$f":"SUMPRODUCT(('SCORE TABLE'!AV21<='SCORE TABLE'!$F21:$BC21)/COUNTIF('SCORE TABLE'!$F21:$BC21,'SCORE TABLE'!$F21:$BC21))","v":{"v":3.0000000000000004,"d":"3"}},{"$f":"SUMPRODUCT(('SCORE TABLE'!AW21<='SCORE TABLE'!$F21:$BC21)/COUNTIF('SCORE TABLE'!$F21:$BC21,'SCORE TABLE'!$F21:$BC21))","v":{"v":0.9999999999999998,"d":"1"}},{"$f":"SUMPRODUCT(('SCORE TABLE'!AX21<='SCORE TABLE'!$F21:$BC21)/COUNTIF('SCORE TABLE'!$F21:$BC21,'SCORE TABLE'!$F21:$BC21))","v":{"v":3.0000000000000004,"d":"3"}},{"$f":"SUMPRODUCT(('SCORE TABLE'!AY21<='SCORE TABLE'!$F21:$BC21)/COUNTIF('SCORE TABLE'!$F21:$BC21,'SCORE TABLE'!$F21:$BC21))","v":{"v":3.0000000000000004,"d":"3"}},{"$f":"SUMPRODUCT(('SCORE TABLE'!AZ21<='SCORE TABLE'!$F21:$BC21)/COUNTIF('SCORE TABLE'!$F21:$BC21,'SCORE TABLE'!$F21:$BC21))","v":{"v":3.0000000000000004,"d":"3"}},{"$f":"SUMPRODUCT(('SCORE TABLE'!BA21<='SCORE TABLE'!$F21:$BC21)/COUNTIF('SCORE TABLE'!$F21:$BC21,'SCORE TABLE'!$F21:$BC21))","v":{"v":3.0000000000000004,"d":"3"}},{"$f":"SUMPRODUCT(('SCORE TABLE'!BB21<='SCORE TABLE'!$F21:$BC21)/COUNTIF('SCORE TABLE'!$F21:$BC21,'SCORE TABLE'!$F21:$BC21))","v":{"v":0.9999999999999998,"d":"1"}},{"$f":"SUMPRODUCT(('SCORE TABLE'!BC21<='SCORE TABLE'!$F21:$BC21)/COUNTIF('SCORE TABLE'!$F21:$BC21,'SCORE TABLE'!$F21:$BC21))","v":{"v":3.0000000000000004,"d":"3"}}]
[null,1011,"1.1.3g","Obesity-related stigma and discrimination",null,null,{"$f":"SUMPRODUCT(('SCORE TABLE'!F22<='SCORE TABLE'!$F22:$BC22)/COUNTIF('SCORE TABLE'!$F22:$BC22,'SCORE TABLE'!$F22:$BC22))","v":{"v":3.0000000000000013,"d":"3"}},{"$f":"SUMPRODUCT(('SCORE TABLE'!G22<='SCORE TABLE'!$F22:$BC22)/COUNTIF('SCORE TABLE'!$F22:$BC22,'SCORE TABLE'!$F22:$BC22))","v":{"v":3.0000000000000013,"d":"3"}},{"$f":"SUMPRODUCT(('SCORE TABLE'!H22<='SCORE TABLE'!$F22:$BC22)/COUNTIF('SCORE TABLE'!$F22:$BC22,'SCORE TABLE'!$F22:$BC22))","v":{"v":3.0000000000000013,"d":"3"}},{"$f":"SUMPRODUCT(('SCORE TABLE'!I22<='SCORE TABLE'!$F22:$BC22)/COUNTIF('SCORE TABLE'!$F22:$BC22,'SCORE TABLE'!$F22:$BC22))","v":{"v":3.0000000000000013,"d":"3"}},{"$f":"SUMPRODUCT(('SCORE TABLE'!J22<='SCORE TABLE'!$F22:$BC22)/COUNTIF('SCORE TABLE'!$F22:$BC22,'SCORE TABLE'!$F22:$BC22))","v":{"v":3.0000000000000013,"d":"3"}},{"$f":"SUMPRODUCT(('SCORE TABLE'!K22<='SCORE TABLE'!$F22:$BC22)/COUNTIF('SCORE TABLE'!$F22:$BC22,'SCORE TABLE'!$F22:$BC22))","v":2},{"$f":"SUMPRODUCT(('SCORE TABLE'!L22<='SCORE TABLE'!$F22:$BC22)/COUNTIF('SCORE TABLE'!$F22:$BC22,'SCORE TABLE'!$F22:$BC22))","v":{"v":3.0000000000000013,"d":"3"}},{"$f":"SUMPRODUCT(('SCORE TABLE'!M22<='SCORE TABLE'!$F22:$BC22)/COUNTIF('SCORE TABLE'!$F22:$BC22,'SCORE TABLE'!$F22:$BC22))","v":{"v":3.0000000000000013,"d":"3"}},{"$f":"SUMPRODUCT(('SCORE TABLE'!N22<='SCORE TABLE'!$F22:$BC22)/COUNTIF('SCORE TABLE'!$F22:$BC22,'SCORE TABLE'!$F22:$BC22))","v":{"v":3.0000000000000013,"d":"3"}},{"$f":"SUMPRODUCT(('SCORE TABLE'!O22<='SCORE TABLE'!$F22:$BC22)/COUNTIF('SCORE TABLE'!$F22:$BC22,'SCORE TABLE'!$F22:$BC22))","v":{"v":3.0000000000000013,"d":"3"}},{"$f":"SUMPRODUCT(('SCORE TABLE'!P22<='SCORE TABLE'!$F22:$BC22)/COUNTIF('SCORE TABLE'!$F22:$BC22,'SCORE TABLE'!$F22:$BC22))","v":{"v":3.0000000000000013,"d":"3"}},{"$f":"SUMPRODUCT(('SCORE TABLE'!Q22<='SCORE TABLE'!$F22:$BC22)/COUNTIF('SCORE TABLE'!$F22:$BC22,'SCORE TABLE'!$F22:$BC22))","v":{"v":3.0000000000000013,"d":"3"}},{"$f":"SUMPRODUCT(('SCORE TABLE'!R22<='SCORE TABLE'!$F22:$BC22)/COUNTIF('SCORE TABLE'!$F22:$BC22,'SCORE TABLE'!$F22:$BC22))","v":{"v":3.0000000000000013,"d":"3"}},{"$f":"SUMPRODUCT(('SCORE TABLE'!S22<='SCORE TABLE'!$F22:$BC22)/COUNTIF('SCORE TABLE'!$F22:$BC22,'SCORE TABLE'!$F22:$BC22))","v":{"v":3.0000000000000013,"d":"3"}},{"$f":"SUMPRODUCT(('SCORE TABLE'!T22<='SCORE TABLE'!$F22:$BC22)/COUNTIF('SCORE TABLE'!$F22:$BC22,'SCORE TABLE'!$F22:$BC22))","v":{"v":3.0000000000000013,"d":"3"}},{"$f":"SUMPRODUCT(('SCORE TABLE'!U22<='SCORE TABLE'!$F22:$BC22)/COUNTIF('SCORE TABLE'!$F22:$BC22,'SCORE TABLE'!$F22:$BC22))","v":{"v":3.0000000000000013,"d":"3"}},{"$f":"SUMPRODUCT(('SCORE TABLE'!V22<='SCORE TABLE'!$F22:$BC22)/COUNTIF('SCORE TABLE'!$F22:$BC22,'SCORE TABLE'!$F22:$BC22))","v":{"v":3.0000000000000013,"d":"3"}},{"$f":"SUMPRODUCT(('SCORE TABLE'!W22<='SCORE TABLE'!$F22:$BC22)/COUNTIF('SCORE TABLE'!$F22:$BC22,'SCORE TABLE'!$F22:$BC22))","v":{"v":3.0000000000000013,"d":"3"}},{"$f":"SUMPRODUCT(('SCORE TABLE'!X22<='SCORE TABLE'!$F22:$BC22)/COUNTIF('SCORE TABLE'!$F22:$BC22,'SCORE TABLE'!$F22:$BC22))","v":{"v":3.0000000000000013,"d":"3"}},{"$f":"SUMPRODUCT(('SCORE TABLE'!Y22<='SCORE TABLE'!$F22:$BC22)/COUNTIF('SCORE TABLE'!$F22:$BC22,'SCORE TABLE'!$F22:$BC22))","v":{"v":3.0000000000000013,"d":"3"}},{"$f":"SUMPRODUCT(('SCORE TABLE'!Z22<='SCORE TABLE'!$F22:$BC22)/COUNTIF('SCORE TABLE'!$F22:$BC22,'SCORE TABLE'!$F22:$BC22))","v":{"v":3.0000000000000013,"d":"3"}},{"$f":"SUMPRODUCT(('SCORE TABLE'!AA22<='SCORE TABLE'!$F22:$BC22)/COUNTIF('SCORE TABLE'!$F22:$BC22,'SCORE TABLE'!$F22:$BC22))","v":{"v":3.0000000000000013,"d":"3"}},{"$f":"SUMPRODUCT(('SCORE TABLE'!AB22<='SCORE TABLE'!$F22:$BC22)/COUNTIF('SCORE TABLE'!$F22:$BC22,'SCORE TABLE'!$F22:$BC22))","v":{"v":3.0000000000000013,"d":"3"}},{"$f":"SUMPRODUCT(('SCORE TABLE'!AC22<='SCORE TABLE'!$F22:$BC22)/COUNTIF('SCORE TABLE'!$F22:$BC22,'SCORE TABLE'!$F22:$BC22))","v":{"v":3.0000000000000013,"d":"3"}},{"$f":"SUMPRODUCT(('SCORE TABLE'!AD22<='SCORE TABLE'!$F22:$BC22)/COUNTIF('SCORE TABLE'!$F22:$BC22,'SCORE TABLE'!$F22:$BC22))","v":{"v":3.0000000000000013,"d":"3"}},{"$f":"SUMPRODUCT(('SCORE TABLE'!AE22<='SCORE TABLE'!$F22:$BC22)/COUNTIF('SCORE TABLE'!$F22:$BC22,'SCORE TABLE'!$F22:$BC22))","v":{"v":3.0000000000000013,"d":"3"}},{"$f":"SUMPRODUCT(('SCORE TABLE'!AF22<='SCORE TABLE'!$F22:$BC22)/COUNTIF('SCORE TABLE'!$F22:$BC22,'SCORE TABLE'!$F22:$BC22))","v":{"v":3.0000000000000013,"d":"3"}},{"$f":"SUMPRODUCT(('SCORE TABLE'!AG22<='SCORE TABLE'!$F22:$BC22)/COUNTIF('SCORE TABLE'!$F22:$BC22,'SCORE TABLE'!$F22:$BC22))","v":{"v":3.0000000000000013,"d":"3"}},{"$f":"SUMPRODUCT(('SCORE TABLE'!AH22<='SCORE TABLE'!$F22:$BC22)/COUNTIF('SCORE TABLE'!$F22:$BC22,'SCORE TABLE'!$F22:$BC22))","v":{"v":3.0000000000000013,"d":"3"}},{"$f":"SUMPRODUCT(('SCORE TABLE'!AI22<='SCORE TABLE'!$F22:$BC22)/COUNTIF('SCORE TABLE'!$F22:$BC22,'SCORE TABLE'!$F22:$BC22))","v":{"v":3.0000000000000013,"d":"3"}},{"$f":"SUMPRODUCT(('SCORE TABLE'!AJ22<='SCORE TABLE'!$F22:$BC22)/COUNTIF('SCORE TABLE'!$F22:$BC22,'SCORE TABLE'!$F22:$BC22))","v":{"v":3.0000000000000013,"d":"3"}},{"$f":"SUMPRODUCT(('SCORE TABLE'!AK22<='SCORE TABLE'!$F22:$BC22)/COUNTIF('SCORE TABLE'!$F22:$BC22,'SCORE TABLE'!$F22:$BC22))","v":{"v":3.0000000000000013,"d":"3"}},{"$f":"SUMPRODUCT(('SCORE TABLE'!AL22<='SCORE TABLE'!$F22:$BC22)/COUNTIF('SCORE TABLE'!$F22:$BC22,'SCORE TABLE'!$F22:$BC22))","v":{"v":3.0000000000000013,"d":"3"}},{"$f":"SUMPRODUCT(('SCORE TABLE'!AM22<='SCORE TABLE'!$F22:$BC22)/COUNTIF('SCORE TABLE'!$F22:$BC22,'SCORE TABLE'!$F22:$BC22))","v":{"v":3.0000000000000013,"d":"3"}},{"$f":"SUMPRODUCT(('SCORE TABLE'!AN22<='SCORE TABLE'!$F22:$BC22)/COUNTIF('SCORE TABLE'!$F22:$BC22,'SCORE TABLE'!$F22:$BC22))","v":{"v":3.0000000000000013,"d":"3"}},{"$f":"SUMPRODUCT(('SCORE TABLE'!AO22<='SCORE TABLE'!$F22:$BC22)/COUNTIF('SCORE TABLE'!$F22:$BC22,'SCORE TABLE'!$F22:$BC22))","v":1},{"$f":"SUMPRODUCT(('SCORE TABLE'!AP22<='SCORE TABLE'!$F22:$BC22)/COUNTIF('SCORE TABLE'!$F22:$BC22,'SCORE TABLE'!$F22:$BC22))","v":2},{"$f":"SUMPRODUCT(('SCORE TABLE'!AQ22<='SCORE TABLE'!$F22:$BC22)/COUNTIF('SCORE TABLE'!$F22:$BC22,'SCORE TABLE'!$F22:$BC22))","v":{"v":3.0000000000000013,"d":"3"}},{"$f":"SUMPRODUCT(('SCORE TABLE'!AR22<='SCORE TABLE'!$F22:$BC22)/COUNTIF('SCORE TABLE'!$F22:$BC22,'SCORE TABLE'!$F22:$BC22))","v":{"v":3.0000000000000013,"d":"3"}},{"$f":"SUMPRODUCT(('SCORE TABLE'!AS22<='SCORE TABLE'!$F22:$BC22)/COUNTIF('SCORE TABLE'!$F22:$BC22,'SCORE TABLE'!$F22:$BC22))","v":{"v":3.0000000000000013,"d":"3"}},{"$f":"SUMPRODUCT(('SCORE TABLE'!AT22<='SCORE TABLE'!$F22:$BC22)/COUNTIF('SCORE TABLE'!$F22:$BC22,'SCORE TABLE'!$F22:$BC22))","v":{"v":3.0000000000000013,"d":"3"}},{"$f":"SUMPRODUCT(('SCORE TABLE'!AU22<='SCORE TABLE'!$F22:$BC22)/COUNTIF('SCORE TABLE'!$F22:$BC22,'SCORE TABLE'!$F22:$BC22))","v":{"v":3.0000000000000013,"d":"3"}},{"$f":"SUMPRODUCT(('SCORE TABLE'!AV22<='SCORE TABLE'!$F22:$BC22)/COUNTIF('SCORE TABLE'!$F22:$BC22,'SCORE TABLE'!$F22:$BC22))","v":{"v":3.0000000000000013,"d":"3"}},{"$f":"SUMPRODUCT(('SCORE TABLE'!AW22<='SCORE TABLE'!$F22:$BC22)/COUNTIF('SCORE TABLE'!$F22:$BC22,'SCORE TABLE'!$F22:$BC22))","v":{"v":3.0000000000000013,"d":"3"}},{"$f":"SUMPRODUCT(('SCORE TABLE'!AX22<='SCORE TABLE'!$F22:$BC22)/COUNTIF('SCORE TABLE'!$F22:$BC22,'SCORE TABLE'!$F22:$BC22))","v":{"v":3.0000000000000013,"d":"3"}},{"$f":"SUMPRODUCT(('SCORE TABLE'!AY22<='SCORE TABLE'!$F22:$BC22)/COUNTIF('SCORE TABLE'!$F22:$BC22,'SCORE TABLE'!$F22:$BC22))","v":{"v":3.0000000000000013,"d":"3"}},{"$f":"SUMPRODUCT(('SCORE TABLE'!AZ22<='SCORE TABLE'!$F22:$BC22)/COUNTIF('SCORE TABLE'!$F22:$BC22,'SCORE TABLE'!$F22:$BC22))","v":{"v":3.0000000000000013,"d":"3"}},{"$f":"SUMPRODUCT(('SCORE TABLE'!BA22<='SCORE TABLE'!$F22:$BC22)/COUNTIF('SCORE TABLE'!$F22:$BC22,'SCORE TABLE'!$F22:$BC22))","v":{"v":3.0000000000000013,"d":"3"}},{"$f":"SUMPRODUCT(('SCORE TABLE'!BB22<='SCORE TABLE'!$F22:$BC22)/COUNTIF('SCORE TABLE'!$F22:$BC22,'SCORE TABLE'!$F22:$BC22))","v":{"v":3.0000000000000013,"d":"3"}},{"$f":"SUMPRODUCT(('SCORE TABLE'!BC22<='SCORE TABLE'!$F22:$BC22)/COUNTIF('SCORE TABLE'!$F22:$BC22,'SCORE TABLE'!$F22:$BC22))","v":{"v":3.0000000000000013,"d":"3"}}]
[null,1012,"1.1.4","Obesity-related funding",null,null,{"$f":"SUMPRODUCT(('SCORE TABLE'!F23<='SCORE TABLE'!$F23:$BC23)/COUNTIF('SCORE TABLE'!$F23:$BC23,'SCORE TABLE'!$F23:$BC23))","v":{"v":1.999999999999999,"d":"2"}},{"$f":"SUMPRODUCT(('SCORE TABLE'!G23<='SCORE TABLE'!$F23:$BC23)/COUNTIF('SCORE TABLE'!$F23:$BC23,'SCORE TABLE'!$F23:$BC23))","v":{"v":1.999999999999999,"d":"2"}},{"$f":"SUMPRODUCT(('SCORE TABLE'!H23<='SCORE TABLE'!$F23:$BC23)/COUNTIF('SCORE TABLE'!$F23:$BC23,'SCORE TABLE'!$F23:$BC23))","v":{"v":1.999999999999999,"d":"2"}},{"$f":"SUMPRODUCT(('SCORE TABLE'!I23<='SCORE TABLE'!$F23:$BC23)/COUNTIF('SCORE TABLE'!$F23:$BC23,'SCORE TABLE'!$F23:$BC23))","v":{"v":1.999999999999999,"d":"2"}},{"$f":"SUMPRODUCT(('SCORE TABLE'!J23<='SCORE TABLE'!$F23:$BC23)/COUNTIF('SCORE TABLE'!$F23:$BC23,'SCORE TABLE'!$F23:$BC23))","v":{"v":1.999999999999999,"d":"2"}},{"$f":"SUMPRODUCT(('SCORE TABLE'!K23<='SCORE TABLE'!$F23:$BC23)/COUNTIF('SCORE TABLE'!$F23:$BC23,'SCORE TABLE'!$F23:$BC23))","v":1},{"$f":"SUMPRODUCT(('SCORE TABLE'!L23<='SCORE TABLE'!$F23:$BC23)/COUNTIF('SCORE TABLE'!$F23:$BC23,'SCORE TABLE'!$F23:$BC23))","v":{"v":1.999999999999999,"d":"2"}},{"$f":"SUMPRODUCT(('SCORE TABLE'!M23<='SCORE TABLE'!$F23:$BC23)/COUNTIF('SCORE TABLE'!$F23:$BC23,'SCORE TABLE'!$F23:$BC23))","v":{"v":1.999999999999999,"d":"2"}},{"$f":"SUMPRODUCT(('SCORE TABLE'!N23<='SCORE TABLE'!$F23:$BC23)/COUNTIF('SCORE TABLE'!$F23:$BC23,'SCORE TABLE'!$F23:$BC23))","v":{"v":1.999999999999999,"d":"2"}},{"$f":"SUMPRODUCT(('SCORE TABLE'!O23<='SCORE TABLE'!$F23:$BC23)/COUNTIF('SCORE TABLE'!$F23:$BC23,'SCORE TABLE'!$F23:$BC23))","v":{"v":1.999999999999999,"d":"2"}},{"$f":"SUMPRODUCT(('SCORE TABLE'!P23<='SCORE TABLE'!$F23:$BC23)/COUNTIF('SCORE TABLE'!$F23:$BC23,'SCORE TABLE'!$F23:$BC23))","v":{"v":1.999999999999999,"d":"2"}},{"$f":"SUMPRODUCT(('SCORE TABLE'!Q23<='SCORE TABLE'!$F23:$BC23)/COUNTIF('SCORE TABLE'!$F23:$BC23,'SCORE TABLE'!$F23:$BC23))","v":{"v":1.999999999999999,"d":"2"}},{"$f":"SUMPRODUCT(('SCORE TABLE'!R23<='SCORE TABLE'!$F23:$BC23)/COUNTIF('SCORE TABLE'!$F23:$BC23,'SCORE TABLE'!$F23:$BC23))","v":{"v":1.999999999999999,"d":"2"}},{"$f":"SUMPRODUCT(('SCORE TABLE'!S23<='SCORE TABLE'!$F23:$BC23)/COUNTIF('SCORE TABLE'!$F23:$BC23,'SCORE TABLE'!$F23:$BC23))","v":{"v":1.999999999999999,"d":"2"}},{"$f":"SUMPRODUCT(('SCORE TABLE'!T23<='SCORE TABLE'!$F23:$BC23)/COUNTIF('SCORE TABLE'!$F23:$BC23,'SCORE TABLE'!$F23:$BC23))","v":{"v":1.999999999999999,"d":"2"}},{"$f":"SUMPRODUCT(('SCORE TABLE'!U23<='SCORE TABLE'!$F23:$BC23)/COUNTIF('SCORE TABLE'!$F23:$BC23,'SCORE TABLE'!$F23:$BC23))","v":{"v":1.999999999999999,"d":"2"}},{"$f":"SUMPRODUCT(('SCORE TABLE'!V23<='SCORE TABLE'!$F23:$BC23)/COUNTIF('SCORE TABLE'!$F23:$BC23,'SCORE TABLE'!$F23:$BC23))","v":{"v":1.999999999999999,"d":"2"}},{"$f":"SUMPRODUCT(('SCORE TABLE'!W23<='SCORE TABLE'!$F23:$BC23)/COUNTIF('SCORE TABLE'!$F23:$BC23,'SCORE TABLE'!$F23:$BC23))","v":{"v":1.999999999999999,"d":"2"}},{"$f":"SUMPRODUCT(('SCORE TABLE'!X23<='SCORE TABLE'!$F23:$BC23)/COUNTIF('SCORE TABLE'!$F23:$BC23,'SCORE TABLE'!$F23:$BC23))","v":{"v":1.999999999999999,"d":"2"}},{"$f":"SUMPRODUCT(('SCORE TABLE'!Y23<='SCORE TABLE'!$F23:$BC23)/COUNTIF('SCORE TABLE'!$F23:$BC23,'SCORE TABLE'!$F23:$BC23))","v":{"v":1.999999999999999,"d":"2"}},{"$f":"SUMPRODUCT(('SCORE TABLE'!Z23<='SCORE TABLE'!$F23:$BC23)/COUNTIF('SCORE TABLE'!$F23:$BC23,'SCORE TABLE'!$F23:$BC23))","v":{"v":1.999999999999999,"d":"2"}},{"$f":"SUMPRODUCT(('SCORE TABLE'!AA23<='SCORE TABLE'!$F23:$BC23)/COUNTIF('SCORE TABLE'!$F23:$BC23,'SCORE TABLE'!$F23:$BC23))","v":{"v":1.999999999999999,"d":"2"}},{"$f":"SUMPRODUCT(('SCORE TABLE'!AB23<='SCORE TABLE'!$F23:$BC23)/COUNTIF('SCORE TABLE'!$F23:$BC23,'SCORE TABLE'!$F23:$BC23))","v":{"v":1.999999999999999,"d":"2"}},{"$f":"SUMPRODUCT(('SCORE TABLE'!AC23<='SCORE TABLE'!$F23:$BC23)/COUNTIF('SCORE TABLE'!$F23:$BC23,'SCORE TABLE'!$F23:$BC23))","v":{"v":1.999999999999999,"d":"2"}},{"$f":"SUMPRODUCT(('SCORE TABLE'!AD23<='SCORE TABLE'!$F23:$BC23)/COUNTIF('SCORE TABLE'!$F23:$BC23,'SCORE TABLE'!$F23:$BC23))","v":{"v":1.999999999999999,"d":"2"}},{"$f":"SUMPRODUCT(('SCORE TABLE'!AE23<='SCORE TABLE'!$F23:$BC23)/COUNTIF('SCORE TABLE'!$F23:$BC23,'SCORE TABLE'!$F23:$BC23))","v":{"v":1.999999999999999,"d":"2"}},{"$f":"SUMPRODUCT(('SCORE TABLE'!AF23<='SCORE TABLE'!$F23:$BC23)/COUNTIF('SCORE TABLE'!$F23:$BC23,'SCORE TABLE'!$F23:$BC23))","v":{"v":1.999999999999999,"d":"2"}},{"$f":"SUMPRODUCT(('SCORE TABLE'!AG23<='SCORE TABLE'!$F23:$BC23)/COUNTIF('SCORE TABLE'!$F23:$BC23,'SCORE TABLE'!$F23:$BC23))","v":{"v":1.999999999999999,"d":"2"}},{"$f":"SUMPRODUCT(('SCORE TABLE'!AH23<='SCORE TABLE'!$F23:$BC23)/COUNTIF('SCORE TABLE'!$F23:$BC23,'SCORE TABLE'!$F23:$BC23))","v":{"v":1.999999999999999,"d":"2"}},{"$f":"SUMPRODUCT(('SCORE TABLE'!AI23<='SCORE TABLE'!$F23:$BC23)/COUNTIF('SCORE TABLE'!$F23:$BC23,'SCORE TABLE'!$F23:$BC23))","v":{"v":1.999999999999999,"d":"2"}},{"$f":"SUMPRODUCT(('SCORE TABLE'!AJ23<='SCORE TABLE'!$F23:$BC23)/COUNTIF('SCORE TABLE'!$F23:$BC23,'SCORE TABLE'!$F23:$BC23))","v":{"v":1.999999999999999,"d":"2"}},{"$f":"SUMPRODUCT(('SCORE TABLE'!AK23<='SCORE TABLE'!$F23:$BC23)/COUNTIF('SCORE TABLE'!$F23:$BC23,'SCORE TABLE'!$F23:$BC23))","v":{"v":1.999999999999999,"d":"2"}},{"$f":"SUMPRODUCT(('SCORE TABLE'!AL23<='SCORE TABLE'!$F23:$BC23)/COUNTIF('SCORE TABLE'!$F23:$BC23,'SCORE TABLE'!$F23:$BC23))","v":{"v":1.999999999999999,"d":"2"}},{"$f":"SUMPRODUCT(('SCORE TABLE'!AM23<='SCORE TABLE'!$F23:$BC23)/COUNTIF('SCORE TABLE'!$F23:$BC23,'SCORE TABLE'!$F23:$BC23))","v":{"v":1.999999999999999,"d":"2"}},{"$f":"SUMPRODUCT(('SCORE TABLE'!AN23<='SCORE TABLE'!$F23:$BC23)/COUNTIF('SCORE TABLE'!$F23:$BC23,'SCORE TABLE'!$F23:$BC23))","v":{"v":1.999999999999999,"d":"2"}},{"$f":"SUMPRODUCT(('SCORE TABLE'!AO23<='SCORE TABLE'!$F23:$BC23)/COUNTIF('SCORE TABLE'!$F23:$BC23,'SCORE TABLE'!$F23:$BC23))","v":{"v":1.999999999999999,"d":"2"}},{"$f":"SUMPRODUCT(('SCORE TABLE'!AP23<='SCORE TABLE'!$F23:$BC23)/COUNTIF('SCORE TABLE'!$F23:$BC23,'SCORE TABLE'!$F23:$BC23))","v":{"v":1.999999999999999,"d":"2"}},{"$f":"SUMPRODUCT(('SCORE TABLE'!AQ23<='SCORE TABLE'!$F23:$BC23)/COUNTIF('SCORE TABLE'!$F23:$BC23,'SCORE TABLE'!$F23:$BC23))","v":{"v":1.999999999999999,"d":"2"}},{"$f":"SUMPRODUCT(('SCORE TABLE'!AR23<='SCORE TABLE'!$F23:$BC23)/COUNTIF('SCORE TABLE'!$F23:$BC23,'SCORE TABLE'!$F23:$BC23))","v":{"v":1.999999999999999,"d":"2"}},{"$f":"SUMPRODUCT(('SCORE TABLE'!AS23<='SCORE TABLE'!$F23:$BC23)/COUNTIF('SCORE TABLE'!$F23:$BC23,'SCORE TABLE'!$F23:$BC23))","v":{"v":1.999999999999999,"d":"2"}},{"$f":"SUMPRODUCT(('SCORE TABLE'!AT23<='SCORE TABLE'!$F23:$BC23)/COUNTIF('SCORE TABLE'!$F23:$BC23,'SCORE TABLE'!$F23:$BC23))","v":{"v":1.999999999999999,"d":"2"}},{"$f":"SUMPRODUCT(('SCORE TABLE'!AU23<='SCORE TABLE'!$F23:$BC23)/COUNTIF('SCORE TABLE'!$F23:$BC23,'SCORE TABLE'!$F23:$BC23))","v":{"v":1.999999999999999,"d":"2"}},{"$f":"SUMPRODUCT(('SCORE TABLE'!AV23<='SCORE TABLE'!$F23:$BC23)/COUNTIF('SCORE TABLE'!$F23:$BC23,'SCORE TABLE'!$F23:$BC23))","v":1},{"$f":"SUMPRODUCT(('SCORE TABLE'!AW23<='SCORE TABLE'!$F23:$BC23)/COUNTIF('SCORE TABLE'!$F23:$BC23,'SCORE TABLE'!$F23:$BC23))","v":{"v":1.999999999999999,"d":"2"}},{"$f":"SUMPRODUCT(('SCORE TABLE'!AX23<='SCORE TABLE'!$F23:$BC23)/COUNTIF('SCORE TABLE'!$F23:$BC23,'SCORE TABLE'!$F23:$BC23))","v":{"v":1.999999999999999,"d":"2"}},{"$f":"SUMPRODUCT(('SCORE TABLE'!AY23<='SCORE TABLE'!$F23:$BC23)/COUNTIF('SCORE TABLE'!$F23:$BC23,'SCORE TABLE'!$F23:$BC23))","v":{"v":1.999999999999999,"d":"2"}},{"$f":"SUMPRODUCT(('SCORE TABLE'!AZ23<='SCORE TABLE'!$F23:$BC23)/COUNTIF('SCORE TABLE'!$F23:$BC23,'SCORE TABLE'!$F23:$BC23))","v":{"v":1.999999999999999,"d":"2"}},{"$f":"SUMPRODUCT(('SCORE TABLE'!BA23<='SCORE TABLE'!$F23:$BC23)/COUNTIF('SCORE TABLE'!$F23:$BC23,'SCORE TABLE'!$F23:$BC23))","v":{"v":1.999999999999999,"d":"2"}},{"$f":"SUMPRODUCT(('SCORE TABLE'!BB23<='SCORE TABLE'!$F23:$BC23)/COUNTIF('SCORE TABLE'!$F23:$BC23,'SCORE TABLE'!$F23:$BC23))","v":{"v":1.999999999999999,"d":"2"}},{"$f":"SUMPRODUCT(('SCORE TABLE'!BC23<='SCORE TABLE'!$F23:$BC23)/COUNTIF('SCORE TABLE'!$F23:$BC23,'SCORE TABLE'!$F23:$BC23))","v":{"v":1.999999999999999,"d":"2"}}]
[null,1013,"1.1.5","Weight-related discrimination",null,null,{"$f":"SUMPRODUCT(('SCORE TABLE'!F24<='SCORE TABLE'!$F24:$BC24)/COUNTIF('SCORE TABLE'!$F24:$BC24,'SCORE TABLE'!$F24:$BC24))","v":{"v":1.9999999999999982,"d":"2"}},{"$f":"SUMPRODUCT(('SCORE TABLE'!G24<='SCORE TABLE'!$F24:$BC24)/COUNTIF('SCORE TABLE'!$F24:$BC24,'SCORE TABLE'!$F24:$BC24))","v":{"v":1.9999999999999982,"d":"2"}},{"$f":"SUMPRODUCT(('SCORE TABLE'!H24<='SCORE TABLE'!$F24:$BC24)/COUNTIF('SCORE TABLE'!$F24:$BC24,'SCORE TABLE'!$F24:$BC24))","v":{"v":1.9999999999999982,"d":"2"}},{"$f":"SUMPRODUCT(('SCORE TABLE'!I24<='SCORE TABLE'!$F24:$BC24)/COUNTIF('SCORE TABLE'!$F24:$BC24,'SCORE TABLE'!$F24:$BC24))","v":{"v":1.9999999999999982,"d":"2"}},{"$f":"SUMPRODUCT(('SCORE TABLE'!J24<='SCORE TABLE'!$F24:$BC24)/COUNTIF('SCORE TABLE'!$F24:$BC24,'SCORE TABLE'!$F24:$BC24))","v":{"v":1.9999999999999982,"d":"2"}},{"$f":"SUMPRODUCT(('SCORE TABLE'!K24<='SCORE TABLE'!$F24:$BC24)/COUNTIF('SCORE TABLE'!$F24:$BC24,'SCORE TABLE'!$F24:$BC24))","v":{"v":1.9999999999999982,"d":"2"}},{"$f":"SUMPRODUCT(('SCORE TABLE'!L24<='SCORE TABLE'!$F24:$BC24)/COUNTIF('SCORE TABLE'!$F24:$BC24,'SCORE TABLE'!$F24:$BC24))","v":{"v":1.9999999999999982,"d":"2"}},{"$f":"SUMPRODUCT(('SCORE TABLE'!M24<='SCORE TABLE'!$F24:$BC24)/COUNTIF('SCORE TABLE'!$F24:$BC24,'SCORE TABLE'!$F24:$BC24))","v":{"v":1.9999999999999982,"d":"2"}},{"$f":"SUMPRODUCT(('SCORE TABLE'!N24<='SCORE TABLE'!$F24:$BC24)/COUNTIF('SCORE TABLE'!$F24:$BC24,'SCORE TABLE'!$F24:$BC24))","v":{"v":1.9999999999999982,"d":"2"}},{"$f":"SUMPRODUCT(('SCORE TABLE'!O24<='SCORE TABLE'!$F24:$BC24)/COUNTIF('SCORE TABLE'!$F24:$BC24,'SCORE TABLE'!$F24:$BC24))","v":{"v":1.9999999999999982,"d":"2"}},{"$f":"SUMPRODUCT(('SCORE TABLE'!P24<='SCORE TABLE'!$F24:$BC24)/COUNTIF('SCORE TABLE'!$F24:$BC24,'SCORE TABLE'!$F24:$BC24))","v":{"v":1.9999999999999982,"d":"2"}},{"$f":"SUMPRODUCT(('SCORE TABLE'!Q24<='SCORE TABLE'!$F24:$BC24)/COUNTIF('SCORE TABLE'!$F24:$BC24,'SCORE TABLE'!$F24:$BC24))","v":{"v":1.9999999999999982,"d":"2"}},{"$f":"SUMPRODUCT(('SCORE TABLE'!R24<='SCORE TABLE'!$F24:$BC24)/COUNTIF('SCORE TABLE'!$F24:$BC24,'SCORE TABLE'!$F24:$BC24))","v":{"v":1.9999999999999982,"d":"2"}},{"$f":"SUMPRODUCT(('SCORE TABLE'!S24<='SCORE TABLE'!$F24:$BC24)/COUNTIF('SCORE TABLE'!$F24:$BC24,'SCORE TABLE'!$F24:$BC24))","v":{"v":1.9999999999999982,"d":"2"}},{"$f":"SUMPRODUCT(('SCORE TABLE'!T24<='SCORE TABLE'!$F24:$BC24)/COUNTIF('SCORE TABLE'!$F24:$BC24,'SCORE TABLE'!$F24:$BC24))","v":{"v":1.9999999999999982,"d":"2"}},{"$f":"SUMPRODUCT(('SCORE TABLE'!U24<='SCORE TABLE'!$F24:$BC24)/COUNTIF('SCORE TABLE'!$F24:$BC24,'SCORE TABLE'!$F24:$BC24))","v":{"v":1.9999999999999982,"d":"2"}},{"$f":"SUMPRODUCT(('SCORE TABLE'!V24<='SCORE TABLE'!$F24:$BC24)/COUNTIF('SCORE TABLE'!$F24:$BC24,'SCORE TABLE'!$F24:$BC24))","v":{"v":1.9999999999999982,"d":"2"}},{"$f":"SUMPRODUCT(('SCORE TABLE'!W24<='SCORE TABLE'!$F24:$BC24)/COUNTIF('SCORE TABLE'!$F24:$BC24,'SCORE TABLE'!$F24:$BC24))","v":{"v":1.9999999999999982,"d":"2"}},{"$f":"SUMPRODUCT(('SCORE TABLE'!X24<='SCORE TABLE'!$F24:$BC24)/COUNTIF('SCORE TABLE'!$F24:$BC24,'SCORE TABLE'!$F24:$BC24))","v":{"v":1.9999999999999982,"d":"2"}},{"$f":"SUMPRODUCT(('SCORE TABLE'!Y24<='SCORE TABLE'!$F24:$BC24)/COUNTIF('SCORE TABLE'!$F24:$BC24,'SCORE TABLE'!$F24:$BC24))","v":{"v":1.9999999999999982,"d":"2"}},{"$f":"SUMPRODUCT(('SCORE TABLE'!Z24<='SCORE TABLE'!$F24:$BC24)/COUNTIF('SCORE TABLE'!$F24:$BC24,'SCORE TABLE'!$F24:$BC24))","v":{"v":1.9999999999999982,"d":"2"}},{"$f":"SUMPRODUCT(('SCORE TABLE'!AA24<='SCORE TABLE'!$F24:$BC24)/COUNTIF('SCORE TABLE'!$F24:$BC24,'SCORE TABLE'!$F24:$BC24))","v":1},{"$f":"SUMPRODUCT(('SCORE TABLE'!AB24<='SCORE TABLE'!$F24:$BC24)/COUNTIF('SCORE TABLE'!$F24:$BC24,'SCORE TABLE'!$F24:$BC24))","v":{"v":1.9999999999999982,"d":"2"}},{"$f":"SUMPRODUCT(('SCORE TABLE'!AC24<='SCORE TABLE'!$F24:$BC24)/COUNTIF('SCORE TABLE'!$F24:$BC24,'SCORE TABLE'!$F24:$BC24))","v":{"v":1.9999999999999982,"d":"2"}},{"$f":"SUMPRODUCT(('SCORE TABLE'!AD24<='SCORE TABLE'!$F24:$BC24)/COUNTIF('SCORE TABLE'!$F24:$BC24,'SCORE TABLE'!$F24:$BC24))","v":{"v":1.9999999999999982,"d":"2"}},{"$f":"SUMPRODUCT(('SCORE TABLE'!AE24<='SCORE TABLE'!$F24:$BC24)/COUNTIF('SCORE TABLE'!$F24:$BC24,'SCORE TABLE'!$F24:$BC24))","v":{"v":1.9999999999999982,"d":"2"}},{"$f":"SUMPRODUCT(('SCORE TABLE'!AF24<='SCORE TABLE'!$F24:$BC24)/COUNTIF('SCORE TABLE'!$F24:$BC24,'SCORE TABLE'!$F24:$BC24))","v":{"v":1.9999999999999982,"d":"2"}},{"$f":"SUMPRODUCT(('SCORE TABLE'!AG24<='SCORE TABLE'!$F24:$BC24)/COUNTIF('SCORE TABLE'!$F24:$BC24,'SCORE TABLE'!$F24:$BC24))","v":{"v":1.9999999999999982,"d":"2"}},{"$f":"SUMPRODUCT(('SCORE TABLE'!AH24<='SCORE TABLE'!$F24:$BC24)/COUNTIF('SCORE TABLE'!$F24:$BC24,'SCORE TABLE'!$F24:$BC24))","v":{"v":1.9999999999999982,"d":"2"}},{"$f":"SUMPRODUCT(('SCORE TABLE'!AI24<='SCORE TABLE'!$F24:$BC24)/COUNTIF('SCORE TABLE'!$F24:$BC24,'SCORE TABLE'!$F24:$BC24))","v":{"v":1.9999999999999982,"d":"2"}},{"$f":"SUMPRODUCT(('SCORE TABLE'!AJ24<='SCORE TABLE'!$F24:$BC24)/COUNTIF('SCORE TABLE'!$F24:$BC24,'SCORE TABLE'!$F24:$BC24))","v":{"v":1.9999999999999982,"d":"2"}},{"$f":"SUMPRODUCT(('SCORE TABLE'!AK24<='SCORE TABLE'!$F24:$BC24)/COUNTIF('SCORE TABLE'!$F24:$BC24,'SCORE TABLE'!$F24:$BC24))","v":{"v":1.9999999999999982,"d":"2"}},{"$f":"SUMPRODUCT(('SCORE TABLE'!AL24<='SCORE TABLE'!$F24:$BC24)/COUNTIF('SCORE TABLE'!$F24:$BC24,'SCORE TABLE'!$F24:$BC24))","v":{"v":1.9999999999999982,"d":"2"}},{"$f":"SUMPRODUCT(('SCORE TABLE'!AM24<='SCORE TABLE'!$F24:$BC24)/COUNTIF('SCORE TABLE'!$F24:$BC24,'SCORE TABLE'!$F24:$BC24))","v":{"v":1.9999999999999982,"d":"2"}},{"$f":"SUMPRODUCT(('SCORE TABLE'!AN24<='SCORE TABLE'!$F24:$BC24)/COUNTIF('SCORE TABLE'!$F24:$BC24,'SCORE TABLE'!$F24:$BC24))","v":{"v":1.9999999999999982,"d":"2"}},{"$f":"SUMPRODUCT(('SCORE TABLE'!AO24<='SCORE TABLE'!$F24:$BC24)/COUNTIF('SCORE TABLE'!$F24:$BC24,'SCORE TABLE'!$F24:$BC24))","v":{"v":1.9999999999999982,"d":"2"}},{"$f":"SUMPRODUCT(('SCORE TABLE'!AP24<='SCORE TABLE'!$F24:$BC24)/COUNTIF('SCORE TABLE'!$F24:$BC24,'SCORE TABLE'!$F24:$BC24))","v":{"v":1.9999999999999982,"d":"2"}},{"$f":"SUMPRODUCT(('SCORE TABLE'!AQ24<='SCORE TABLE'!$F24:$BC24)/COUNTIF('SCORE TABLE'!$F24:$BC24,'SCORE TABLE'!$F24:$BC24))","v":{"v":1.9999999999999982,"d":"2"}},{"$f":"SUMPRODUCT(('SCORE TABLE'!AR24<='SCORE TABLE'!$F24:$BC24)/COUNTIF('SCORE TABLE'!$F24:$BC24,'SCORE TABLE'!$F24:$BC24))","v":{"v":1.9999999999999982,"d":"2"}},{"$f":"SUMPRODUCT(('SCORE TABLE'!AS24<='SCORE TABLE'!$F24:$BC24)/COUNTIF('SCORE TABLE'!$F24:$BC24,'SCORE TABLE'!$F24:$BC24))","v":{"v":1.9999999999999982,"d":"2"}},{"$f":"SUMPRODUCT(('SCORE TABLE'!AT24<='SCORE TABLE'!$F24:$BC24)/COUNTIF('SCORE TABLE'!$F24:$BC24,'SCORE TABLE'!$F24:$BC24))","v":{"v":1.9999999999999982,"d":"2"}},{"$f":"SUMPRODUCT(('SCORE TABLE'!AU24<='SCORE TABLE'!$F24:$BC24)/COUNTIF('SCORE TABLE'!$F24:$BC24,'SCORE TABLE'!$F24:$BC24))","v":{"v":1.9999999999999982,"d":"2"}},{"$f":"SUMPRODUCT(('SCORE TABLE'!AV24<='SCORE TABLE'!$F24:$BC24)/COUNTIF('SCORE TABLE'!$F24:$BC24,'SCORE TABLE'!$F24:$BC24))","v":{"v":1.9999999999999982,"d":"2"}},{"$f":"SUMPRODUCT(('SCORE TABLE'!AW24<='SCORE TABLE'!$F24:$BC24)/COUNTIF('SCORE TABLE'!$F24:$BC24,'SCORE TABLE'!$F24:$BC24))","v":{"v":1.9999999999999982,"d":"2"}},{"$f":"SUMPRODUCT(('SCORE TABLE'!AX24<='SCORE TABLE'!$F24:$BC24)/COUNTIF('SCORE TABLE'!$F24:$BC24,'SCORE TABLE'!$F24:$BC24))","v":{"v":1.9999999999999982,"d":"2"}},{"$f":"SUMPRODUCT(('SCORE TABLE'!AY24<='SCORE TABLE'!$F24:$BC24)/COUNTIF('SCORE TABLE'!$F24:$BC24,'SCORE TABLE'!$F24:$BC24))","v":{"v":1.9999999999999982,"d":"2"}},{"$f":"SUMPRODUCT(('SCORE TABLE'!AZ24<='SCORE TABLE'!$F24:$BC24)/COUNTIF('SCORE TABLE'!$F24:$BC24,'SCORE TABLE'!$F24:$BC24))","v":1},{"$f":"SUMPRODUCT(('SCORE TABLE'!BA24<='SCORE TABLE'!$F24:$BC24)/COUNTIF('SCORE TABLE'!$F24:$BC24,'SCORE TABLE'!$F24:$BC24))","v":{"v":1.9999999999999982,"d":"2"}},{"$f":"SUMPRODUCT(('SCORE TABLE'!BB24<='SCORE TABLE'!$F24:$BC24)/COUNTIF('SCORE TABLE'!$F24:$BC24,'SCORE TABLE'!$F24:$BC24))","v":{"v":1.9999999999999982,"d":"2"}},{"$f":"SUMPRODUCT(('SCORE TABLE'!BC24<='SCORE TABLE'!$F24:$BC24)/COUNTIF('SCORE TABLE'!$F24:$BC24,'SCORE TABLE'!$F24:$BC24))","v":{"v":1.9999999999999982,"d":"2"}}]
[null,1014,1.2,"Availability and affordability of obesity-related care",null,null,{"$f":"SUMPRODUCT(('SCORE TABLE'!F25<='SCORE TABLE'!$F25:$BC25)/COUNTIF('SCORE TABLE'!$F25:$BC25,'SCORE TABLE'!$F25:$BC25))","v":{"v":6.9999999999999964,"d":"7"}},{"$f":"SUMPRODUCT(('SCORE TABLE'!G25<='SCORE TABLE'!$F25:$BC25)/COUNTIF('SCORE TABLE'!$F25:$BC25,'SCORE TABLE'!$F25:$BC25))","v":{"v":6.9999999999999964,"d":"7"}},{"$f":"SUMPRODUCT(('SCORE TABLE'!H25<='SCORE TABLE'!$F25:$BC25)/COUNTIF('SCORE TABLE'!$F25:$BC25,'SCORE TABLE'!$F25:$BC25))","v":{"v":5.999999999999997,"d":"6"}},{"$f":"SUMPRODUCT(('SCORE TABLE'!I25<='SCORE TABLE'!$F25:$BC25)/COUNTIF('SCORE TABLE'!$F25:$BC25,'SCORE TABLE'!$F25:$BC25))","v":{"v":6.9999999999999964,"d":"7"}},{"$f":"SUMPRODUCT(('SCORE TABLE'!J25<='SCORE TABLE'!$F25:$BC25)/COUNTIF('SCORE TABLE'!$F25:$BC25,'SCORE TABLE'!$F25:$BC25))","v":{"v":4.999999999999999,"d":"5"}},{"$f":"SUMPRODUCT(('SCORE TABLE'!K25<='SCORE TABLE'!$F25:$BC25)/COUNTIF('SCORE TABLE'!$F25:$BC25,'SCORE TABLE'!$F25:$BC25))","v":{"v":5.999999999999997,"d":"6"}},{"$f":"SUMPRODUCT(('SCORE TABLE'!L25<='SCORE TABLE'!$F25:$BC25)/COUNTIF('SCORE TABLE'!$F25:$BC25,'SCORE TABLE'!$F25:$BC25))","v":{"v":5.999999999999997,"d":"6"}},{"$f":"SUMPRODUCT(('SCORE TABLE'!M25<='SCORE TABLE'!$F25:$BC25)/COUNTIF('SCORE TABLE'!$F25:$BC25,'SCORE TABLE'!$F25:$BC25))","v":{"v":4.999999999999999,"d":"5"}},{"$f":"SUMPRODUCT(('SCORE TABLE'!N25<='SCORE TABLE'!$F25:$BC25)/COUNTIF('SCORE TABLE'!$F25:$BC25,'SCORE TABLE'!$F25:$BC25))","v":{"v":1.9999999999999996,"d":"2"}},{"$f":"SUMPRODUCT(('SCORE TABLE'!O25<='SCORE TABLE'!$F25:$BC25)/COUNTIF('SCORE TABLE'!$F25:$BC25,'SCORE TABLE'!$F25:$BC25))","v":{"v":6.9999999999999964,"d":"7"}},{"$f":"SUMPRODUCT(('SCORE TABLE'!P25<='SCORE TABLE'!$F25:$BC25)/COUNTIF('SCORE TABLE'!$F25:$BC25,'SCORE TABLE'!$F25:$BC25))","v":{"v":5.999999999999997,"d":"6"}},{"$f":"SUMPRODUCT(('SCORE TABLE'!Q25<='SCORE TABLE'!$F25:$BC25)/COUNTIF('SCORE TABLE'!$F25:$BC25,'SCORE TABLE'!$F25:$BC25))","v":{"v":1.9999999999999996,"d":"2"}},{"$f":"SUMPRODUCT(('SCORE TABLE'!R25<='SCORE TABLE'!$F25:$BC25)/COUNTIF('SCORE TABLE'!$F25:$BC25,'SCORE TABLE'!$F25:$BC25))","v":{"v":6.9999999999999964,"d":"7"}},{"$f":"SUMPRODUCT(('SCORE TABLE'!S25<='SCORE TABLE'!$F25:$BC25)/COUNTIF('SCORE TABLE'!$F25:$BC25,'SCORE TABLE'!$F25:$BC25))","v":{"v":5.999999999999997,"d":"6"}},{"$f":"SUMPRODUCT(('SCORE TABLE'!T25<='SCORE TABLE'!$F25:$BC25)/COUNTIF('SCORE TABLE'!$F25:$BC25,'SCORE TABLE'!$F25:$BC25))","v":{"v":1.9999999999999996,"d":"2"}},{"$f":"SUMPRODUCT(('SCORE TABLE'!U25<='SCORE TABLE'!$F25:$BC25)/COUNTIF('SCORE TABLE'!$F25:$BC25,'SCORE TABLE'!$F25:$BC25))","v":{"v":4.999999999999999,"d":"5"}},{"$f":"SUMPRODUCT(('SCORE TABLE'!V25<='SCORE TABLE'!$F25:$BC25)/COUNTIF('SCORE TABLE'!$F25:$BC25,'SCORE TABLE'!$F25:$BC25))","v":{"v":1.9999999999999996,"d":"2"}},{"$f":"SUMPRODUCT(('SCORE TABLE'!W25<='SCORE TABLE'!$F25:$BC25)/COUNTIF('SCORE TABLE'!$F25:$BC25,'SCORE TABLE'!$F25:$BC25))","v":{"v":2.9999999999999996,"d":"3"}},{"$f":"SUMPRODUCT(('SCORE TABLE'!X25<='SCORE TABLE'!$F25:$BC25)/COUNTIF('SCORE TABLE'!$F25:$BC25,'SCORE TABLE'!$F25:$BC25))","v":{"v":5.999999999999997,"d":"6"}},{"$f":"SUMPRODUCT(('SCORE TABLE'!Y25<='SCORE TABLE'!$F25:$BC25)/COUNTIF('SCORE TABLE'!$F25:$BC25,'SCORE TABLE'!$F25:$BC25))","v":{"v":4.999999999999999,"d":"5"}},{"$f":"SUMPRODUCT(('SCORE TABLE'!Z25<='SCORE TABLE'!$F25:$BC25)/COUNTIF('SCORE TABLE'!$F25:$BC25,'SCORE TABLE'!$F25:$BC25))","v":{"v":4.999999999999999,"d":"5"}},{"$f":"SUMPRODUCT(('SCORE TABLE'!AA25<='SCORE TABLE'!$F25:$BC25)/COUNTIF('SCORE TABLE'!$F25:$BC25,'SCORE TABLE'!$F25:$BC25))","v":{"v":5.999999999999997,"d":"6"}},{"$f":"SUMPRODUCT(('SCORE TABLE'!AB25<='SCORE TABLE'!$F25:$BC25)/COUNTIF('SCORE TABLE'!$F25:$BC25,'SCORE TABLE'!$F25:$BC25))","v":1},{"$f":"SUMPRODUCT(('SCORE TABLE'!AC25<='SCORE TABLE'!$F25:$BC25)/COUNTIF('SCORE TABLE'!$F25:$BC25,'SCORE TABLE'!$F25:$BC25))","v":{"v":2.9999999999999996,"d":"3"}},{"$f":"SUMPRODUCT(('SCORE TABLE'!AD25<='SCORE TABLE'!$F25:$BC25)/COUNTIF('SCORE TABLE'!$F25:$BC25,'SCORE TABLE'!$F25:$BC25))","v":{"v":4.999999999999999,"d":"5"}},{"$f":"SUMPRODUCT(('SCORE TABLE'!AE25<='SCORE TABLE'!$F25:$BC25)/COUNTIF('SCORE TABLE'!$F25:$BC25,'SCORE TABLE'!$F25:$BC25))","v":{"v":3.9999999999999996,"d":"4"}},{"$f":"SUMPRODUCT(('SCORE TABLE'!AF25<='SCORE TABLE'!$F25:$BC25)/COUNTIF('SCORE TABLE'!$F25:$BC25,'SCORE TABLE'!$F25:$BC25))","v":{"v":1.9999999999999996,"d":"2"}},{"$f":"SUMPRODUCT(('SCORE TABLE'!AG25<='SCORE TABLE'!$F25:$BC25)/COUNTIF('SCORE TABLE'!$F25:$BC25,'SCORE TABLE'!$F25:$BC25))","v":{"v":1.9999999999999996,"d":"2"}},{"$f":"SUMPRODUCT(('SCORE TABLE'!AH25<='SCORE TABLE'!$F25:$BC25)/COUNTIF('SCORE TABLE'!$F25:$BC25,'SCORE TABLE'!$F25:$BC25))","v":{"v":5.999999999999997,"d":"6"}},{"$f":"SUMPRODUCT(('SCORE TABLE'!AI25<='SCORE TABLE'!$F25:$BC25)/COUNTIF('SCORE TABLE'!$F25:$BC25,'SCORE TABLE'!$F25:$BC25))","v":{"v":6.9999999999999964,"d":"7"}},{"$f":"SUMPRODUCT(('SCORE TABLE'!AJ25<='SCORE TABLE'!$F25:$BC25)/COUNTIF('SCORE TABLE'!$F25:$BC25,'SCORE TABLE'!$F25:$BC25))","v":{"v":1.9999999999999996,"d":"2"}},{"$f":"SUMPRODUCT(('SCORE TABLE'!AK25<='SCORE TABLE'!$F25:$BC25)/COUNTIF('SCORE TABLE'!$F25:$BC25,'SCORE TABLE'!$F25:$BC25))","v":{"v":3.9999999999999996,"d":"4"}},{"$f":"SUMPRODUCT(('SCORE TABLE'!AL25<='SCORE TABLE'!$F25:$BC25)/COUNTIF('SCORE TABLE'!$F25:$BC25,'SCORE TABLE'!$F25:$BC25))","v":{"v":4.999999999999999,"d":"5"}},{"$f":"SUMPRODUCT(('SCORE TABLE'!AM25<='SCORE TABLE'!$F25:$BC25)/COUNTIF('SCORE TABLE'!$F25:$BC25,'SCORE TABLE'!$F25:$BC25))","v":{"v":4.999999999999999,"d":"5"}},{"$f":"SUMPRODUCT(('SCORE TABLE'!AN25<='SCORE TABLE'!$F25:$BC25)/COUNTIF('SCORE TABLE'!$F25:$BC25,'SCORE TABLE'!$F25:$BC25))","v":{"v":1.9999999999999996,"d":"2"}},{"$f":"SUMPRODUCT(('SCORE TABLE'!AO25<='SCORE TABLE'!$F25:$BC25)/COUNTIF('SCORE TABLE'!$F25:$BC25,'SCORE TABLE'!$F25:$BC25))","v":{"v":1.9999999999999996,"d":"2"}},{"$f":"SUMPRODUCT(('SCORE TABLE'!AP25<='SCORE TABLE'!$F25:$BC25)/COUNTIF('SCORE TABLE'!$F25:$BC25,'SCORE TABLE'!$F25:$BC25))","v":{"v":5.999999999999997,"d":"6"}},{"$f":"SUMPRODUCT(('SCORE TABLE'!AQ25<='SCORE TABLE'!$F25:$BC25)/COUNTIF('SCORE TABLE'!$F25:$BC25,'SCORE TABLE'!$F25:$BC25))","v":{"v":5.999999999999997,"d":"6"}},{"$f":"SUMPRODUCT(('SCORE TABLE'!AR25<='SCORE TABLE'!$F25:$BC25)/COUNTIF('SCORE TABLE'!$F25:$BC25,'SCORE TABLE'!$F25:$BC25))","v":{"v":4.999999999999999,"d":"5"}},{"$f":"SUMPRODUCT(('SCORE TABLE'!AS25<='SCORE TABLE'!$F25:$BC25)/COUNTIF('SCORE TABLE'!$F25:$BC25,'SCORE TABLE'!$F25:$BC25))","v":{"v":5.999999999999997,"d":"6"}},{"$f":"SUMPRODUCT(('SCORE TABLE'!AT25<='SCORE TABLE'!$F25:$BC25)/COUNTIF('SCORE TABLE'!$F25:$BC25,'SCORE TABLE'!$F25:$BC25))","v":{"v":5.999999999999997,"d":"6"}},{"$f":"SUMPRODUCT(('SCORE TABLE'!AU25<='SCORE TABLE'!$F25:$BC25)/COUNTIF('SCORE TABLE'!$F25:$BC25,'SCORE TABLE'!$F25:$BC25))","v":{"v":5.999999999999997,"d":"6"}},{"$f":"SUMPRODUCT(('SCORE TABLE'!AV25<='SCORE TABLE'!$F25:$BC25)/COUNTIF('SCORE TABLE'!$F25:$BC25,'SCORE TABLE'!$F25:$BC25))","v":{"v":5.999999999999997,"d":"6"}},{"$f":"SUMPRODUCT(('SCORE TABLE'!AW25<='SCORE TABLE'!$F25:$BC25)/COUNTIF('SCORE TABLE'!$F25:$BC25,'SCORE TABLE'!$F25:$BC25))","v":{"v":5.999999999999997,"d":"6"}},{"$f":"SUMPRODUCT(('SCORE TABLE'!AX25<='SCORE TABLE'!$F25:$BC25)/COUNTIF('SCORE TABLE'!$F25:$BC25,'SCORE TABLE'!$F25:$BC25))","v":{"v":5.999999999999997,"d":"6"}},{"$f":"SUMPRODUCT(('SCORE TABLE'!AY25<='SCORE TABLE'!$F25:$BC25)/COUNTIF('SCORE TABLE'!$F25:$BC25,'SCORE TABLE'!$F25:$BC25))","v":{"v":4.999999999999999,"d":"5"}},{"$f":"SUMPRODUCT(('SCORE TABLE'!AZ25<='SCORE TABLE'!$F25:$BC25)/COUNTIF('SCORE TABLE'!$F25:$BC25,'SCORE TABLE'!$F25:$BC25))","v":{"v":5.999999999999997,"d":"6"}},{"$f":"SUMPRODUCT(('SCORE TABLE'!BA25<='SCORE TABLE'!$F25:$BC25)/COUNTIF('SCORE TABLE'!$F25:$BC25,'SCORE TABLE'!$F25:$BC25))","v":{"v":1.9999999999999996,"d":"2"}},{"$f":"SUMPRODUCT(('SCORE TABLE'!BB25<='SCORE TABLE'!$F25:$BC25)/COUNTIF('SCORE TABLE'!$F25:$BC25,'SCORE TABLE'!$F25:$BC25))","v":{"v":4.999999999999999,"d":"5"}},{"$f":"SUMPRODUCT(('SCORE TABLE'!BC25<='SCORE TABLE'!$F25:$BC25)/COUNTIF('SCORE TABLE'!$F25:$BC25,'SCORE TABLE'!$F25:$BC25))","v":{"v":1.9999999999999996,"d":"2"}}]
[null,1015,"1.2.1","Obesity treatment coverage",null,null,{"$f":"SUMPRODUCT(('SCORE TABLE'!F26<='SCORE TABLE'!$F26:$BC26)/COUNTIF('SCORE TABLE'!$F26:$BC26,'SCORE TABLE'!$F26:$BC26))","v":{"v":2.9999999999999996,"d":"3"}},{"$f":"SUMPRODUCT(('SCORE TABLE'!G26<='SCORE TABLE'!$F26:$BC26)/COUNTIF('SCORE TABLE'!$F26:$BC26,'SCORE TABLE'!$F26:$BC26))","v":{"v":2.9999999999999996,"d":"3"}},{"$f":"SUMPRODUCT(('SCORE TABLE'!H26<='SCORE TABLE'!$F26:$BC26)/COUNTIF('SCORE TABLE'!$F26:$BC26,'SCORE TABLE'!$F26:$BC26))","v":{"v":2.000000000000001,"d":"2"}},{"$f":"SUMPRODUCT(('SCORE TABLE'!I26<='SCORE TABLE'!$F26:$BC26)/COUNTIF('SCORE TABLE'!$F26:$BC26,'SCORE TABLE'!$F26:$BC26))","v":{"v":2.9999999999999996,"d":"3"}},{"$f":"SUMPRODUCT(('SCORE TABLE'!J26<='SCORE TABLE'!$F26:$BC26)/COUNTIF('SCORE TABLE'!$F26:$BC26,'SCORE TABLE'!$F26:$BC26))","v":1},{"$f":"SUMPRODUCT(('SCORE TABLE'!K26<='SCORE TABLE'!$F26:$BC26)/COUNTIF('SCORE TABLE'!$F26:$BC26,'SCORE TABLE'!$F26:$BC26))","v":{"v":2.000000000000001,"d":"2"}},{"$f":"SUMPRODUCT(('SCORE TABLE'!L26<='SCORE TABLE'!$F26:$BC26)/COUNTIF('SCORE TABLE'!$F26:$BC26,'SCORE TABLE'!$F26:$BC26))","v":{"v":2.000000000000001,"d":"2"}},{"$f":"SUMPRODUCT(('SCORE TABLE'!M26<='SCORE TABLE'!$F26:$BC26)/COUNTIF('SCORE TABLE'!$F26:$BC26,'SCORE TABLE'!$F26:$BC26))","v":1},{"$f":"SUMPRODUCT(('SCORE TABLE'!N26<='SCORE TABLE'!$F26:$BC26)/COUNTIF('SCORE TABLE'!$F26:$BC26,'SCORE TABLE'!$F26:$BC26))","v":{"v":2.000000000000001,"d":"2"}},{"$f":"SUMPRODUCT(('SCORE TABLE'!O26<='SCORE TABLE'!$F26:$BC26)/COUNTIF('SCORE TABLE'!$F26:$BC26,'SCORE TABLE'!$F26:$BC26))","v":{"v":2.9999999999999996,"d":"3"}},{"$f":"SUMPRODUCT(('SCORE TABLE'!P26<='SCORE TABLE'!$F26:$BC26)/COUNTIF('SCORE TABLE'!$F26:$BC26,'SCORE TABLE'!$F26:$BC26))","v":{"v":2.000000000000001,"d":"2"}},{"$f":"SUMPRODUCT(('SCORE TABLE'!Q26<='SCORE TABLE'!$F26:$BC26)/COUNTIF('SCORE TABLE'!$F26:$BC26,'SCORE TABLE'!$F26:$BC26))","v":{"v":2.000000000000001,"d":"2"}},{"$f":"SUMPRODUCT(('SCORE TABLE'!R26<='SCORE TABLE'!$F26:$BC26)/COUNTIF('SCORE TABLE'!$F26:$BC26,'SCORE TABLE'!$F26:$BC26))","v":{"v":2.9999999999999996,"d":"3"}},{"$f":"SUMPRODUCT(('SCORE TABLE'!S26<='SCORE TABLE'!$F26:$BC26)/COUNTIF('SCORE TABLE'!$F26:$BC26,'SCORE TABLE'!$F26:$BC26))","v":{"v":2.000000000000001,"d":"2"}},{"$f":"SUMPRODUCT(('SCORE TABLE'!T26<='SCORE TABLE'!$F26:$BC26)/COUNTIF('SCORE TABLE'!$F26:$BC26,'SCORE TABLE'!$F26:$BC26))","v":{"v":2.000000000000001,"d":"2"}},{"$f":"SUMPRODUCT(('SCORE TABLE'!U26<='SCORE TABLE'!$F26:$BC26)/COUNTIF('SCORE TABLE'!$F26:$BC26,'SCORE TABLE'!$F26:$BC26))","v":1},{"$f":"SUMPRODUCT(('SCORE TABLE'!V26<='SCORE TABLE'!$F26:$BC26)/COUNTIF('SCORE TABLE'!$F26:$BC26,'SCORE TABLE'!$F26:$BC26))","v":{"v":2.000000000000001,"d":"2"}},{"$f":"SUMPRODUCT(('SCORE TABLE'!W26<='SCORE TABLE'!$F26:$BC26)/COUNTIF('SCORE TABLE'!$F26:$BC26,'SCORE TABLE'!$F26:$BC26))","v":{"v":2.9999999999999996,"d":"3"}},{"$f":"SUMPRODUCT(('SCORE TABLE'!X26<='SCORE TABLE'!$F26:$BC26)/COUNTIF('SCORE TABLE'!$F26:$BC26,'SCORE TABLE'!$F26:$BC26))","v":{"v":2.000000000000001,"d":"2"}},{"$f":"SUMPRODUCT(('SCORE TABLE'!Y26<='SCORE TABLE'!$F26:$BC26)/COUNTIF('SCORE TABLE'!$F26:$BC26,'SCORE TABLE'!$F26:$BC26))","v":1},{"$f":"SUMPRODUCT(('SCORE TABLE'!Z26<='SCORE TABLE'!$F26:$BC26)/COUNTIF('SCORE TABLE'!$F26:$BC26,'SCORE TABLE'!$F26:$BC26))","v":1},{"$f":"SUMPRODUCT(('SCORE TABLE'!AA26<='SCORE TABLE'!$F26:$BC26)/COUNTIF('SCORE TABLE'!$F26:$BC26,'SCORE TABLE'!$F26:$BC26))","v":{"v":2.000000000000001,"d":"2"}},{"$f":"SUMPRODUCT(('SCORE TABLE'!AB26<='SCORE TABLE'!$F26:$BC26)/COUNTIF('SCORE TABLE'!$F26:$BC26,'SCORE TABLE'!$F26:$BC26))","v":1},{"$f":"SUMPRODUCT(('SCORE TABLE'!AC26<='SCORE TABLE'!$F26:$BC26)/COUNTIF('SCORE TABLE'!$F26:$BC26,'SCORE TABLE'!$F26:$BC26))","v":{"v":2.9999999999999996,"d":"3"}},{"$f":"SUMPRODUCT(('SCORE TABLE'!AD26<='SCORE TABLE'!$F26:$BC26)/COUNTIF('SCORE TABLE'!$F26:$BC26,'SCORE TABLE'!$F26:$BC26))","v":1},{"$f":"SUMPRODUCT(('SCORE TABLE'!AE26<='SCORE TABLE'!$F26:$BC26)/COUNTIF('SCORE TABLE'!$F26:$BC26,'SCORE TABLE'!$F26:$BC26))","v":{"v":3.9999999999999987,"d":"4"}},{"$f":"SUMPRODUCT(('SCORE TABLE'!AF26<='SCORE TABLE'!$F26:$BC26)/COUNTIF('SCORE TABLE'!$F26:$BC26,'SCORE TABLE'!$F26:$BC26))","v":{"v":2.000000000000001,"d":"2"}},{"$f":"SUMPRODUCT(('SCORE TABLE'!AG26<='SCORE TABLE'!$F26:$BC26)/COUNTIF('SCORE TABLE'!$F26:$BC26,'SCORE TABLE'!$F26:$BC26))","v":{"v":2.000000000000001,"d":"2"}},{"$f":"SUMPRODUCT(('SCORE TABLE'!AH26<='SCORE TABLE'!$F26:$BC26)/COUNTIF('SCORE TABLE'!$F26:$BC26,'SCORE TABLE'!$F26:$BC26))","v":{"v":2.000000000000001,"d":"2"}},{"$f":"SUMPRODUCT(('SCORE TABLE'!AI26<='SCORE TABLE'!$F26:$BC26)/COUNTIF('SCORE TABLE'!$F26:$BC26,'SCORE TABLE'!$F26:$BC26))","v":{"v":2.9999999999999996,"d":"3"}},{"$f":"SUMPRODUCT(('SCORE TABLE'!AJ26<='SCORE TABLE'!$F26:$BC26)/COUNTIF('SCORE TABLE'!$F26:$BC26,'SCORE TABLE'!$F26:$BC26))","v":{"v":2.000000000000001,"d":"2"}},{"$f":"SUMPRODUCT(('SCORE TABLE'!AK26<='SCORE TABLE'!$F26:$BC26)/COUNTIF('SCORE TABLE'!$F26:$BC26,'SCORE TABLE'!$F26:$BC26))","v":{"v":3.9999999999999987,"d":"4"}},{"$f":"SUMPRODUCT(('SCORE TABLE'!AL26<='SCORE TABLE'!$F26:$BC26)/COUNTIF('SCORE TABLE'!$F26:$BC26,'SCORE TABLE'!$F26:$BC26))","v":1},{"$f":"SUMPRODUCT(('SCORE TABLE'!AM26<='SCORE TABLE'!$F26:$BC26)/COUNTIF('SCORE TABLE'!$F26:$BC26,'SCORE TABLE'!$F26:$BC26))","v":1},{"$f":"SUMPRODUCT(('SCORE TABLE'!AN26<='SCORE TABLE'!$F26:$BC26)/COUNTIF('SCORE TABLE'!$F26:$BC26,'SCORE TABLE'!$F26:$BC26))","v":{"v":2.000000000000001,"d":"2"}},{"$f":"SUMPRODUCT(('SCORE TABLE'!AO26<='SCORE TABLE'!$F26:$BC26)/COUNTIF('SCORE TABLE'!$F26:$BC26,'SCORE TABLE'!$F26:$BC26))","v":{"v":2.000000000000001,"d":"2"}},{"$f":"SUMPRODUCT(('SCORE TABLE'!AP26<='SCORE TABLE'!$F26:$BC26)/COUNTIF('SCORE TABLE'!$F26:$BC26,'SCORE TABLE'!$F26:$BC26))","v":{"v":2.000000000000001,"d":"2"}},{"$f":"SUMPRODUCT(('SCORE TABLE'!AQ26<='SCORE TABLE'!$F26:$BC26)/COUNTIF('SCORE TABLE'!$F26:$BC26,'SCORE TABLE'!$F26:$BC26))","v":{"v":2.000000000000001,"d":"2"}},{"$f":"SUMPRODUCT(('SCORE TABLE'!AR26<='SCORE TABLE'!$F26:$BC26)/COUNTIF('SCORE TABLE'!$F26:$BC26,'SCORE TABLE'!$F26:$BC26))","v":1},{"$f":"SUMPRODUCT(('SCORE TABLE'!AS26<='SCORE TABLE'!$F26:$BC26)/COUNTIF('SCORE TABLE'!$F26:$BC26,'SCORE TABLE'!$F26:$BC26))","v":{"v":2.000000000000001,"d":"2"}},{"$f":"SUMPRODUCT(('SCORE TABLE'!AT26<='SCORE TABLE'!$F26:$BC26)/COUNTIF('SCORE TABLE'!$F26:$BC26,'SCORE TABLE'!$F26:$BC26))","v":{"v":2.000000000000001,"d":"2"}},{"$f":"SUMPRODUCT(('SCORE TABLE'!AU26<='SCORE TABLE'!$F26:$BC26)/COUNTIF('SCORE TABLE'!$F26:$BC26,'SCORE TABLE'!$F26:$BC26))","v":{"v":2.000000000000001,"d":"2"}},{"$f":"SUMPRODUCT(('SCORE TABLE'!AV26<='SCORE TABLE'!$F26:$BC26)/COUNTIF('SCORE TABLE'!$F26:$BC26,'SCORE TABLE'!$F26:$BC26))","v":{"v":2.000000000000001,"d":"2"}},{"$f":"SUMPRODUCT(('SCORE TABLE'!AW26<='SCORE TABLE'!$F26:$BC26)/COUNTIF('SCORE TABLE'!$F26:$BC26,'SCORE TABLE'!$F26:$BC26))","v":{"v":2.000000000000001,"d":"2"}},{"$f":"SUMPRODUCT(('SCORE TABLE'!AX26<='SCORE TABLE'!$F26:$BC26)/COUNTIF('SCORE TABLE'!$F26:$BC26,'SCORE TABLE'!$F26:$BC26))","v":{"v":2.000000000000001,"d":"2"}},{"$f":"SUMPRODUCT(('SCORE TABLE'!AY26<='SCORE TABLE'!$F26:$BC26)/COUNTIF('SCORE TABLE'!$F26:$BC26,'SCORE TABLE'!$F26:$BC26))","v":1},{"$f":"SUMPRODUCT(('SCORE TABLE'!AZ26<='SCORE TABLE'!$F26:$BC26)/COUNTIF('SCORE TABLE'!$F26:$BC26,'SCORE TABLE'!$F26:$BC26))","v":{"v":2.000000000000001,"d":"2"}},{"$f":"SUMPRODUCT(('SCORE TABLE'!BA26<='SCORE TABLE'!$F26:$BC26)/COUNTIF('SCORE TABLE'!$F26:$BC26,'SCORE TABLE'!$F26:$BC26))","v":{"v":2.000000000000001,"d":"2"}},{"$f":"SUMPRODUCT(('SCORE TABLE'!BB26<='SCORE TABLE'!$F26:$BC26)/COUNTIF('SCORE TABLE'!$F26:$BC26,'SCORE TABLE'!$F26:$BC26))","v":1},{"$f":"SUMPRODUCT(('SCORE TABLE'!BC26<='SCORE TABLE'!$F26:$BC26)/COUNTIF('SCORE TABLE'!$F26:$BC26,'SCORE TABLE'!$F26:$BC26))","v":{"v":2.000000000000001,"d":"2"}}]
[null,1016,"1.2.2","State-level weight loss programmes",null,null,{"$f":"SUMPRODUCT(('SCORE TABLE'!F27<='SCORE TABLE'!$F27:$BC27)/COUNTIF('SCORE TABLE'!$F27:$BC27,'SCORE TABLE'!$F27:$BC27))","v":1.9999999999999984},{"$f":"SUMPRODUCT(('SCORE TABLE'!G27<='SCORE TABLE'!$F27:$BC27)/COUNTIF('SCORE TABLE'!$F27:$BC27,'SCORE TABLE'!$F27:$BC27))","v":1.9999999999999984},{"$f":"SUMPRODUCT(('SCORE TABLE'!H27<='SCORE TABLE'!$F27:$BC27)/COUNTIF('SCORE TABLE'!$F27:$BC27,'SCORE TABLE'!$F27:$BC27))","v":1.9999999999999984},{"$f":"SUMPRODUCT(('SCORE TABLE'!I27<='SCORE TABLE'!$F27:$BC27)/COUNTIF('SCORE TABLE'!$F27:$BC27,'SCORE TABLE'!$F27:$BC27))","v":1.9999999999999984},{"$f":"SUMPRODUCT(('SCORE TABLE'!J27<='SCORE TABLE'!$F27:$BC27)/COUNTIF('SCORE TABLE'!$F27:$BC27,'SCORE TABLE'!$F27:$BC27))","v":1.9999999999999984},{"$f":"SUMPRODUCT(('SCORE TABLE'!K27<='SCORE TABLE'!$F27:$BC27)/COUNTIF('SCORE TABLE'!$F27:$BC27,'SCORE TABLE'!$F27:$BC27))","v":1.9999999999999984},{"$f":"SUMPRODUCT(('SCORE TABLE'!L27<='SCORE TABLE'!$F27:$BC27)/COUNTIF('SCORE TABLE'!$F27:$BC27,'SCORE TABLE'!$F27:$BC27))","v":1.9999999999999984},{"$f":"SUMPRODUCT(('SCORE TABLE'!M27<='SCORE TABLE'!$F27:$BC27)/COUNTIF('SCORE TABLE'!$F27:$BC27,'SCORE TABLE'!$F27:$BC27))","v":1.9999999999999984},{"$f":"SUMPRODUCT(('SCORE TABLE'!N27<='SCORE TABLE'!$F27:$BC27)/COUNTIF('SCORE TABLE'!$F27:$BC27,'SCORE TABLE'!$F27:$BC27))","v":1},{"$f":"SUMPRODUCT(('SCORE TABLE'!O27<='SCORE TABLE'!$F27:$BC27)/COUNTIF('SCORE TABLE'!$F27:$BC27,'SCORE TABLE'!$F27:$BC27))","v":1.9999999999999984},{"$f":"SUMPRODUCT(('SCORE TABLE'!P27<='SCORE TABLE'!$F27:$BC27)/COUNTIF('SCORE TABLE'!$F27:$BC27,'SCORE TABLE'!$F27:$BC27))","v":1.9999999999999984},{"$f":"SUMPRODUCT(('SCORE TABLE'!Q27<='SCORE TABLE'!$F27:$BC27)/COUNTIF('SCORE TABLE'!$F27:$BC27,'SCORE TABLE'!$F27:$BC27))","v":1},{"$f":"SUMPRODUCT(('SCORE TABLE'!R27<='SCORE TABLE'!$F27:$BC27)/COUNTIF('SCORE TABLE'!$F27:$BC27,'SCORE TABLE'!$F27:$BC27))","v":1.9999999999999984},{"$f":"SUMPRODUCT(('SCORE TABLE'!S27<='SCORE TABLE'!$F27:$BC27)/COUNTIF('SCORE TABLE'!$F27:$BC27,'SCORE TABLE'!$F27:$BC27))","v":1.9999999999999984},{"$f":"SUMPRODUCT(('SCORE TABLE'!T27<='SCORE TABLE'!$F27:$BC27)/COUNTIF('SCORE TABLE'!$F27:$BC27,'SCORE TABLE'!$F27:$BC27))","v":1},{"$f":"SUMPRODUCT(('SCORE TABLE'!U27<='SCORE TABLE'!$F27:$BC27)/COUNTIF('SCORE TABLE'!$F27:$BC27,'SCORE TABLE'!$F27:$BC27))","v":1.9999999999999984},{"$f":"SUMPRODUCT(('SCORE TABLE'!V27<='SCORE TABLE'!$F27:$BC27)/COUNTIF('SCORE TABLE'!$F27:$BC27,'SCORE TABLE'!$F27:$BC27))","v":1},{"$f":"SUMPRODUCT(('SCORE TABLE'!W27<='SCORE TABLE'!$F27:$BC27)/COUNTIF('SCORE TABLE'!$F27:$BC27,'SCORE TABLE'!$F27:$BC27))","v":1},{"$f":"SUMPRODUCT(('SCORE TABLE'!X27<='SCORE TABLE'!$F27:$BC27)/COUNTIF('SCORE TABLE'!$F27:$BC27,'SCORE TABLE'!$F27:$BC27))","v":1.9999999999999984},{"$f":"SUMPRODUCT(('SCORE TABLE'!Y27<='SCORE TABLE'!$F27:$BC27)/COUNTIF('SCORE TABLE'!$F27:$BC27,'SCORE TABLE'!$F27:$BC27))","v":1.9999999999999984},{"$f":"SUMPRODUCT(('SCORE TABLE'!Z27<='SCORE TABLE'!$F27:$BC27)/COUNTIF('SCORE TABLE'!$F27:$BC27,'SCORE TABLE'!$F27:$BC27))","v":1.9999999999999984},{"$f":"SUMPRODUCT(('SCORE TABLE'!AA27<='SCORE TABLE'!$F27:$BC27)/COUNTIF('SCORE TABLE'!$F27:$BC27,'SCORE TABLE'!$F27:$BC27))","v":1.9999999999999984},{"$f":"SUMPRODUCT(('SCORE TABLE'!AB27<='SCORE TABLE'!$F27:$BC27)/COUNTIF('SCORE TABLE'!$F27:$BC27,'SCORE TABLE'!$F27:$BC27))","v":1},{"$f":"SUMPRODUCT(('SCORE TABLE'!AC27<='SCORE TABLE'!$F27:$BC27)/COUNTIF('SCORE TABLE'!$F27:$BC27,'SCORE TABLE'!$F27:$BC27))","v":1},{"$f":"SUMPRODUCT(('SCORE TABLE'!AD27<='SCORE TABLE'!$F27:$BC27)/COUNTIF('SCORE TABLE'!$F27:$BC27,'SCORE TABLE'!$F27:$BC27))","v":1.9999999999999984},{"$f":"SUMPRODUCT(('SCORE TABLE'!AE27<='SCORE TABLE'!$F27:$BC27)/COUNTIF('SCORE TABLE'!$F27:$BC27,'SCORE TABLE'!$F27:$BC27))","v":1},{"$f":"SUMPRODUCT(('SCORE TABLE'!AF27<='SCORE TABLE'!$F27:$BC27)/COUNTIF('SCORE TABLE'!$F27:$BC27,'SCORE TABLE'!$F27:$BC27))","v":1},{"$f":"SUMPRODUCT(('SCORE TABLE'!AG27<='SCORE TABLE'!$F27:$BC27)/COUNTIF('SCORE TABLE'!$F27:$BC27,'SCORE TABLE'!$F27:$BC27))","v":1},{"$f":"SUMPRODUCT(('SCORE TABLE'!AH27<='SCORE TABLE'!$F27:$BC27)/COUNTIF('SCORE TABLE'!$F27:$BC27,'SCORE TABLE'!$F27:$BC27))","v":1.9999999999999984},{"$f":"SUMPRODUCT(('SCORE TABLE'!AI27<='SCORE TABLE'!$F27:$BC27)/COUNTIF('SCORE TABLE'!$F27:$BC27,'SCORE TABLE'!$F27:$BC27))","v":1.9999999999999984},{"$f":"SUMPRODUCT(('SCORE TABLE'!AJ27<='SCORE TABLE'!$F27:$BC27)/COUNTIF('SCORE TABLE'!$F27:$BC27,'SCORE TABLE'!$F27:$BC27))","v":1},{"$f":"SUMPRODUCT(('SCORE TABLE'!AK27<='SCORE TABLE'!$F27:$BC27)/COUNTIF('SCORE TABLE'!$F27:$BC27,'SCORE TABLE'!$F27:$BC27))","v":1},{"$f":"SUMPRODUCT(('SCORE TABLE'!AL27<='SCORE TABLE'!$F27:$BC27)/COUNTIF('SCORE TABLE'!$F27:$BC27,'SCORE TABLE'!$F27:$BC27))","v":1.9999999999999984},{"$f":"SUMPRODUCT(('SCORE TABLE'!AM27<='SCORE TABLE'!$F27:$BC27)/COUNTIF('SCORE TABLE'!$F27:$BC27,'SCORE TABLE'!$F27:$BC27))","v":1.9999999999999984},{"$f":"SUMPRODUCT(('SCORE TABLE'!AN27<='SCORE TABLE'!$F27:$BC27)/COUNTIF('SCORE TABLE'!$F27:$BC27,'SCORE TABLE'!$F27:$BC27))","v":1},{"$f":"SUMPRODUCT(('SCORE TABLE'!AO27<='SCORE TABLE'!$F27:$BC27)/COUNTIF('SCORE TABLE'!$F27:$BC27,'SCORE TABLE'!$F27:$BC27))","v":1},{"$f":"SUMPRODUCT(('SCORE TABLE'!AP27<='SCORE TABLE'!$F27:$BC27)/COUNTIF('SCORE TABLE'!$F27:$BC27,'SCORE TABLE'!$F27:$BC27))","v":1.9999999999999984},{"$f":"SUMPRODUCT(('SCORE TABLE'!AQ27<='SCORE TABLE'!$F27:$BC27)/COUNTIF('SCORE TABLE'!$F27:$BC27,'SCORE TABLE'!$F27:$BC27))","v":1.9999999999999984},{"$f":"SUMPRODUCT(('SCORE TABLE'!AR27<='SCORE TABLE'!$F27:$BC27)/COUNTIF('SCORE TABLE'!$F27:$BC27,'SCORE TABLE'!$F27:$BC27))","v":1.9999999999999984},{"$f":"SUMPRODUCT(('SCORE TABLE'!AS27<='SCORE TABLE'!$F27:$BC27)/COUNTIF('SCORE TABLE'!$F27:$BC27,'SCORE TABLE'!$F27:$BC27))","v":1.9999999999999984},{"$f":"SUMPRODUCT(('SCORE TABLE'!AT27<='SCORE TABLE'!$F27:$BC27)/COUNTIF('SCORE TABLE'!$F27:$BC27,'SCORE TABLE'!$F27:$BC27))","v":1.9999999999999984},{"$f":"SUMPRODUCT(('SCORE TABLE'!AU27<='SCORE TABLE'!$F27:$BC27)/COUNTIF('SCORE TABLE'!$F27:$BC27,'SCORE TABLE'!$F27:$BC27))","v":1.9999999999999984},{"$f":"SUMPRODUCT(('SCORE TABLE'!AV27<='SCORE TABLE'!$F27:$BC27)/COUNTIF('SCORE TABLE'!$F27:$BC27,'SCORE TABLE'!$F27:$BC27))","v":1.9999999999999984},{"$f":"SUMPRODUCT(('SCORE TABLE'!AW27<='SCORE TABLE'!$F27:$BC27)/COUNTIF('SCORE TABLE'!$F27:$BC27,'SCORE TABLE'!$F27:$BC27))","v":1.9999999999999984},{"$f":"SUMPRODUCT(('SCORE TABLE'!AX27<='SCORE TABLE'!$F27:$BC27)/COUNTIF('SCORE TABLE'!$F27:$BC27,'SCORE TABLE'!$F27:$BC27))","v":1.9999999999999984},{"$f":"SUMPRODUCT(('SCORE TABLE'!AY27<='SCORE TABLE'!$F27:$BC27)/COUNTIF('SCORE TABLE'!$F27:$BC27,'SCORE TABLE'!$F27:$BC27))","v":1.9999999999999984},{"$f":"SUMPRODUCT(('SCORE TABLE'!AZ27<='SCORE TABLE'!$F27:$BC27)/COUNTIF('SCORE TABLE'!$F27:$BC27,'SCORE TABLE'!$F27:$BC27))","v":1.9999999999999984},{"$f":"SUMPRODUCT(('SCORE TABLE'!BA27<='SCORE TABLE'!$F27:$BC27)/COUNTIF('SCORE TABLE'!$F27:$BC27,'SCORE TABLE'!$F27:$BC27))","v":1},{"$f":"SUMPRODUCT(('SCORE TABLE'!BB27<='SCORE TABLE'!$F27:$BC27)/COUNTIF('SCORE TABLE'!$F27:$BC27,'SCORE TABLE'!$F27:$BC27))","v":1.9999999999999984},{"$f":"SUMPRODUCT(('SCORE TABLE'!BC27<='SCORE TABLE'!$F27:$BC27)/COUNTIF('SCORE TABLE'!$F27:$BC27,'SCORE TABLE'!$F27:$BC27))","v":1}]
[null,1017,2,"Food quality and access",null,null,{"$f":"SUMPRODUCT(('SCORE TABLE'!F28<='SCORE TABLE'!$F28:$BC28)/COUNTIF('SCORE TABLE'!$F28:$BC28,'SCORE TABLE'!$F28:$BC28))","v":39},{"$f":"SUMPRODUCT(('SCORE TABLE'!G28<='SCORE TABLE'!$F28:$BC28)/COUNTIF('SCORE TABLE'!$F28:$BC28,'SCORE TABLE'!$F28:$BC28))","v":33},{"$f":"SUMPRODUCT(('SCORE TABLE'!H28<='SCORE TABLE'!$F28:$BC28)/COUNTIF('SCORE TABLE'!$F28:$BC28,'SCORE TABLE'!$F28:$BC28))","v":36},{"$f":"SUMPRODUCT(('SCORE TABLE'!I28<='SCORE TABLE'!$F28:$BC28)/COUNTIF('SCORE TABLE'!$F28:$BC28,'SCORE TABLE'!$F28:$BC28))","v":8},{"$f":"SUMPRODUCT(('SCORE TABLE'!J28<='SCORE TABLE'!$F28:$BC28)/COUNTIF('SCORE TABLE'!$F28:$BC28,'SCORE TABLE'!$F28:$BC28))","v":29},{"$f":"SUMPRODUCT(('SCORE TABLE'!K28<='SCORE TABLE'!$F28:$BC28)/COUNTIF('SCORE TABLE'!$F28:$BC28,'SCORE TABLE'!$F28:$BC28))","v":13},{"$f":"SUMPRODUCT(('SCORE TABLE'!L28<='SCORE TABLE'!$F28:$BC28)/COUNTIF('SCORE TABLE'!$F28:$BC28,'SCORE TABLE'!$F28:$BC28))","v":18},{"$f":"SUMPRODUCT(('SCORE TABLE'!M28<='SCORE TABLE'!$F28:$BC28)/COUNTIF('SCORE TABLE'!$F28:$BC28,'SCORE TABLE'!$F28:$BC28))","v":42},{"$f":"SUMPRODUCT(('SCORE TABLE'!N28<='SCORE TABLE'!$F28:$BC28)/COUNTIF('SCORE TABLE'!$F28:$BC28,'SCORE TABLE'!$F28:$BC28))","v":14},{"$f":"SUMPRODUCT(('SCORE TABLE'!O28<='SCORE TABLE'!$F28:$BC28)/COUNTIF('SCORE TABLE'!$F28:$BC28,'SCORE TABLE'!$F28:$BC28))","v":37},{"$f":"SUMPRODUCT(('SCORE TABLE'!P28<='SCORE TABLE'!$F28:$BC28)/COUNTIF('SCORE TABLE'!$F28:$BC28,'SCORE TABLE'!$F28:$BC28))","v":24},{"$f":"SUMPRODUCT(('SCORE TABLE'!Q28<='SCORE TABLE'!$F28:$BC28)/COUNTIF('SCORE TABLE'!$F28:$BC28,'SCORE TABLE'!$F28:$BC28))","v":44},{"$f":"SUMPRODUCT(('SCORE TABLE'!R28<='SCORE TABLE'!$F28:$BC28)/COUNTIF('SCORE TABLE'!$F28:$BC28,'SCORE TABLE'!$F28:$BC28))","v":3},{"$f":"SUMPRODUCT(('SCORE TABLE'!S28<='SCORE TABLE'!$F28:$BC28)/COUNTIF('SCORE TABLE'!$F28:$BC28,'SCORE TABLE'!$F28:$BC28))","v":12},{"$f":"SUMPRODUCT(('SCORE TABLE'!T28<='SCORE TABLE'!$F28:$BC28)/COUNTIF('SCORE TABLE'!$F28:$BC28,'SCORE TABLE'!$F28:$BC28))","v":1},{"$f":"SUMPRODUCT(('SCORE TABLE'!U28<='SCORE TABLE'!$F28:$BC28)/COUNTIF('SCORE TABLE'!$F28:$BC28,'SCORE TABLE'!$F28:$BC28))","v":46},{"$f":"SUMPRODUCT(('SCORE TABLE'!V28<='SCORE TABLE'!$F28:$BC28)/COUNTIF('SCORE TABLE'!$F28:$BC28,'SCORE TABLE'!$F28:$BC28))","v":7},{"$f":"SUMPRODUCT(('SCORE TABLE'!W28<='SCORE TABLE'!$F28:$BC28)/COUNTIF('SCORE TABLE'!$F28:$BC28,'SCORE TABLE'!$F28:$BC28))","v":31},{"$f":"SUMPRODUCT(('SCORE TABLE'!X28<='SCORE TABLE'!$F28:$BC28)/COUNTIF('SCORE TABLE'!$F28:$BC28,'SCORE TABLE'!$F28:$BC28))","v":10},{"$f":"SUMPRODUCT(('SCORE TABLE'!Y28<='SCORE TABLE'!$F28:$BC28)/COUNTIF('SCORE TABLE'!$F28:$BC28,'SCORE TABLE'!$F28:$BC28))","v":5},{"$f":"SUMPRODUCT(('SCORE TABLE'!Z28<='SCORE TABLE'!$F28:$BC28)/COUNTIF('SCORE TABLE'!$F28:$BC28,'SCORE TABLE'!$F28:$BC28))","v":23},{"$f":"SUMPRODUCT(('SCORE TABLE'!AA28<='SCORE TABLE'!$F28:$BC28)/COUNTIF('SCORE TABLE'!$F28:$BC28,'SCORE TABLE'!$F28:$BC28))","v":27},{"$f":"SUMPRODUCT(('SCORE TABLE'!AB28<='SCORE TABLE'!$F28:$BC28)/COUNTIF('SCORE TABLE'!$F28:$BC28,'SCORE TABLE'!$F28:$BC28))","v":2},{"$f":"SUMPRODUCT(('SCORE TABLE'!AC28<='SCORE TABLE'!$F28:$BC28)/COUNTIF('SCORE TABLE'!$F28:$BC28,'SCORE TABLE'!$F28:$BC28))","v":47},{"$f":"SUMPRODUCT(('SCORE TABLE'!AD28<='SCORE TABLE'!$F28:$BC28)/COUNTIF('SCORE TABLE'!$F28:$BC28,'SCORE TABLE'!$F28:$BC28))","v":40},{"$f":"SUMPRODUCT(('SCORE TABLE'!AE28<='SCORE TABLE'!$F28:$BC28)/COUNTIF('SCORE TABLE'!$F28:$BC28,'SCORE TABLE'!$F28:$BC28))","v":50},{"$f":"SUMPRODUCT(('SCORE TABLE'!AF28<='SCORE TABLE'!$F28:$BC28)/COUNTIF('SCORE TABLE'!$F28:$BC28,'SCORE TABLE'!$F28:$BC28))","v":45},{"$f":"SUMPRODUCT(('SCORE TABLE'!AG28<='SCORE TABLE'!$F28:$BC28)/COUNTIF('SCORE TABLE'!$F28:$BC28,'SCORE TABLE'!$F28:$BC28))","v":34},{"$f":"SUMPRODUCT(('SCORE TABLE'!AH28<='SCORE TABLE'!$F28:$BC28)/COUNTIF('SCORE TABLE'!$F28:$BC28,'SCORE TABLE'!$F28:$BC28))","v":49},{"$f":"SUMPRODUCT(('SCORE TABLE'!AI28<='SCORE TABLE'!$F28:$BC28)/COUNTIF('SCORE TABLE'!$F28:$BC28,'SCORE TABLE'!$F28:$BC28))","v":35},{"$f":"SUMPRODUCT(('SCORE TABLE'!AJ28<='SCORE TABLE'!$F28:$BC28)/COUNTIF('SCORE TABLE'!$F28:$BC28,'SCORE TABLE'!$F28:$BC28))","v":25},{"$f":"SUMPRODUCT(('SCORE TABLE'!AK28<='SCORE TABLE'!$F28:$BC28)/COUNTIF('SCORE TABLE'!$F28:$BC28,'SCORE TABLE'!$F28:$BC28))","v":9},{"$f":"SUMPRODUCT(('SCORE TABLE'!AL28<='SCORE TABLE'!$F28:$BC28)/COUNTIF('SCORE TABLE'!$F28:$BC28,'SCORE TABLE'!$F28:$BC28))","v":4},{"$f":"SUMPRODUCT(('SCORE TABLE'!AM28<='SCORE TABLE'!$F28:$BC28)/COUNTIF('SCORE TABLE'!$F28:$BC28,'SCORE TABLE'!$F28:$BC28))","v":21},{"$f":"SUMPRODUCT(('SCORE TABLE'!AN28<='SCORE TABLE'!$F28:$BC28)/COUNTIF('SCORE TABLE'!$F28:$BC28,'SCORE TABLE'!$F28:$BC28))","v":20},{"$f":"SUMPRODUCT(('SCORE TABLE'!AO28<='SCORE TABLE'!$F28:$BC28)/COUNTIF('SCORE TABLE'!$F28:$BC28,'SCORE TABLE'!$F28:$BC28))","v":41},{"$f":"SUMPRODUCT(('SCORE TABLE'!AP28<='SCORE TABLE'!$F28:$BC28)/COUNTIF('SCORE TABLE'!$F28:$BC28,'SCORE TABLE'!$F28:$BC28))","v":30},{"$f":"SUMPRODUCT(('SCORE TABLE'!AQ28<='SCORE TABLE'!$F28:$BC28)/COUNTIF('SCORE TABLE'!$F28:$BC28,'SCORE TABLE'!$F28:$BC28))","v":26},{"$f":"SUMPRODUCT(('SCORE TABLE'!AR28<='SCORE TABLE'!$F28:$BC28)/COUNTIF('SCORE TABLE'!$F28:$BC28,'SCORE TABLE'!$F28:$BC28))","v":15},{"$f":"SUMPRODUCT(('SCORE TABLE'!AS28<='SCORE TABLE'!$F28:$BC28)/COUNTIF('SCORE TABLE'!$F28:$BC28,'SCORE TABLE'!$F28:$BC28))","v":28},{"$f":"SUMPRODUCT(('SCORE TABLE'!AT28<='SCORE TABLE'!$F28:$BC28)/COUNTIF('SCORE TABLE'!$F28:$BC28,'SCORE TABLE'!$F28:$BC28))","v":38},{"$f":"SUMPRODUCT(('SCORE TABLE'!AU28<='SCORE TABLE'!$F28:$BC28)/COUNTIF('SCORE TABLE'!$F28:$BC28,'SCORE TABLE'!$F28:$BC28))","v":19},{"$f":"SUMPRODUCT(('SCORE TABLE'!AV28<='SCORE TABLE'!$F28:$BC28)/COUNTIF('SCORE TABLE'!$F28:$BC28,'SCORE TABLE'!$F28:$BC28))","v":6},{"$f":"SUMPRODUCT(('SCORE TABLE'!AW28<='SCORE TABLE'!$F28:$BC28)/COUNTIF('SCORE TABLE'!$F28:$BC28,'SCORE TABLE'!$F28:$BC28))","v":43},{"$f":"SUMPRODUCT(('SCORE TABLE'!AX28<='SCORE TABLE'!$F28:$BC28)/COUNTIF('SCORE TABLE'!$F28:$BC28,'SCORE TABLE'!$F28:$BC28))","v":16},{"$f":"SUMPRODUCT(('SCORE TABLE'!AY28<='SCORE TABLE'!$F28:$BC28)/COUNTIF('SCORE TABLE'!$F28:$BC28,'SCORE TABLE'!$F28:$BC28))","v":22},{"$f":"SUMPRODUCT(('SCORE TABLE'!AZ28<='SCORE TABLE'!$F28:$BC28)/COUNTIF('SCORE TABLE'!$F28:$BC28,'SCORE TABLE'!$F28:$BC28))","v":17},{"$f":"SUMPRODUCT(('SCORE TABLE'!BA28<='SCORE TABLE'!$F28:$BC28)/COUNTIF('SCORE TABLE'!$F28:$BC28,'SCORE TABLE'!$F28:$BC28))","v":32},{"$f":"SUMPRODUCT(('SCORE TABLE'!BB28<='SCORE TABLE'!$F28:$BC28)/COUNTIF('SCORE TABLE'!$F28:$BC28,'SCORE TABLE'!$F28:$BC28))","v":11},{"$f":"SUMPRODUCT(('SCORE TABLE'!BC28<='SCORE TABLE'!$F28:$BC28)/COUNTIF('SCORE TABLE'!$F28:$BC28,'SCORE TABLE'!$F28:$BC28))","v":48}]
[null,1018,2.1,"Food access and affordability",null,null,{"$f":"SUMPRODUCT(('SCORE TABLE'!F29<='SCORE TABLE'!$F29:$BC29)/COUNTIF('SCORE TABLE'!$F29:$BC29,'SCORE TABLE'!$F29:$BC29))","v":14},{"$f":"SUMPRODUCT(('SCORE TABLE'!G29<='SCORE TABLE'!$F29:$BC29)/COUNTIF('SCORE TABLE'!$F29:$BC29,'SCORE TABLE'!$F29:$BC29))","v":2},{"$f":"SUMPRODUCT(('SCORE TABLE'!H29<='SCORE TABLE'!$F29:$BC29)/COUNTIF('SCORE TABLE'!$F29:$BC29,'SCORE TABLE'!$F29:$BC29))","v":41},{"$f":"SUMPRODUCT(('SCORE TABLE'!I29<='SCORE TABLE'!$F29:$BC29)/COUNTIF('SCORE TABLE'!$F29:$BC29,'SCORE TABLE'!$F29:$BC29))","v":49},{"$f":"SUMPRODUCT(('SCORE TABLE'!J29<='SCORE TABLE'!$F29:$BC29)/COUNTIF('SCORE TABLE'!$F29:$BC29,'SCORE TABLE'!$F29:$BC29))","v":45},{"$f":"SUMPRODUCT(('SCORE TABLE'!K29<='SCORE TABLE'!$F29:$BC29)/COUNTIF('SCORE TABLE'!$F29:$BC29,'SCORE TABLE'!$F29:$BC29))","v":32},{"$f":"SUMPRODUCT(('SCORE TABLE'!L29<='SCORE TABLE'!$F29:$BC29)/COUNTIF('SCORE TABLE'!$F29:$BC29,'SCORE TABLE'!$F29:$BC29))","v":8},{"$f":"SUMPRODUCT(('SCORE TABLE'!M29<='SCORE TABLE'!$F29:$BC29)/COUNTIF('SCORE TABLE'!$F29:$BC29,'SCORE TABLE'!$F29:$BC29))","v":22},{"$f":"SUMPRODUCT(('SCORE TABLE'!N29<='SCORE TABLE'!$F29:$BC29)/COUNTIF('SCORE TABLE'!$F29:$BC29,'SCORE TABLE'!$F29:$BC29))","v":33},{"$f":"SUMPRODUCT(('SCORE TABLE'!O29<='SCORE TABLE'!$F29:$BC29)/COUNTIF('SCORE TABLE'!$F29:$BC29,'SCORE TABLE'!$F29:$BC29))","v":43},{"$f":"SUMPRODUCT(('SCORE TABLE'!P29<='SCORE TABLE'!$F29:$BC29)/COUNTIF('SCORE TABLE'!$F29:$BC29,'SCORE TABLE'!$F29:$BC29))","v":1},{"$f":"SUMPRODUCT(('SCORE TABLE'!Q29<='SCORE TABLE'!$F29:$BC29)/COUNTIF('SCORE TABLE'!$F29:$BC29,'SCORE TABLE'!$F29:$BC29))","v":31},{"$f":"SUMPRODUCT(('SCORE TABLE'!R29<='SCORE TABLE'!$F29:$BC29)/COUNTIF('SCORE TABLE'!$F29:$BC29,'SCORE TABLE'!$F29:$BC29))","v":7},{"$f":"SUMPRODUCT(('SCORE TABLE'!S29<='SCORE TABLE'!$F29:$BC29)/COUNTIF('SCORE TABLE'!$F29:$BC29,'SCORE TABLE'!$F29:$BC29))","v":26},{"$f":"SUMPRODUCT(('SCORE TABLE'!T29<='SCORE TABLE'!$F29:$BC29)/COUNTIF('SCORE TABLE'!$F29:$BC29,'SCORE TABLE'!$F29:$BC29))","v":27},{"$f":"SUMPRODUCT(('SCORE TABLE'!U29<='SCORE TABLE'!$F29:$BC29)/COUNTIF('SCORE TABLE'!$F29:$BC29,'SCORE TABLE'!$F29:$BC29))","v":42},{"$f":"SUMPRODUCT(('SCORE TABLE'!V29<='SCORE TABLE'!$F29:$BC29)/COUNTIF('SCORE TABLE'!$F29:$BC29,'SCORE TABLE'!$F29:$BC29))","v":47},{"$f":"SUMPRODUCT(('SCORE TABLE'!W29<='SCORE TABLE'!$F29:$BC29)/COUNTIF('SCORE TABLE'!$F29:$BC29,'SCORE TABLE'!$F29:$BC29))","v":21},{"$f":"SUMPRODUCT(('SCORE TABLE'!X29<='SCORE TABLE'!$F29:$BC29)/COUNTIF('SCORE TABLE'!$F29:$BC29,'SCORE TABLE'!$F29:$BC29))","v":19},{"$f":"SUMPRODUCT(('SCORE TABLE'!Y29<='SCORE TABLE'!$F29:$BC29)/COUNTIF('SCORE TABLE'!$F29:$BC29,'SCORE TABLE'!$F29:$BC29))","v":30},{"$f":"SUMPRODUCT(('SCORE TABLE'!Z29<='SCORE TABLE'!$F29:$BC29)/COUNTIF('SCORE TABLE'!$F29:$BC29,'SCORE TABLE'!$F29:$BC29))","v":5},{"$f":"SUMPRODUCT(('SCORE TABLE'!AA29<='SCORE TABLE'!$F29:$BC29)/COUNTIF('SCORE TABLE'!$F29:$BC29,'SCORE TABLE'!$F29:$BC29))","v":35},{"$f":"SUMPRODUCT(('SCORE TABLE'!AB29<='SCORE TABLE'!$F29:$BC29)/COUNTIF('SCORE TABLE'!$F29:$BC29,'SCORE TABLE'!$F29:$BC29))","v":44},{"$f":"SUMPRODUCT(('SCORE TABLE'!AC29<='SCORE TABLE'!$F29:$BC29)/COUNTIF('SCORE TABLE'!$F29:$BC29,'SCORE TABLE'!$F29:$BC29))","v":48},{"$f":"SUMPRODUCT(('SCORE TABLE'!AD29<='SCORE TABLE'!$F29:$BC29)/COUNTIF('SCORE TABLE'!$F29:$BC29,'SCORE TABLE'!$F29:$BC29))","v":16},{"$f":"SUMPRODUCT(('SCORE TABLE'!AE29<='SCORE TABLE'!$F29:$BC29)/COUNTIF('SCORE TABLE'!$F29:$BC29,'SCORE TABLE'!$F29:$BC29))","v":29},{"$f":"SUMPRODUCT(('SCORE TABLE'!AF29<='SCORE TABLE'!$F29:$BC29)/COUNTIF('SCORE TABLE'!$F29:$BC29,'SCORE TABLE'!$F29:$BC29))","v":36},{"$f":"SUMPRODUCT(('SCORE TABLE'!AG29<='SCORE TABLE'!$F29:$BC29)/COUNTIF('SCORE TABLE'!$F29:$BC29,'SCORE TABLE'!$F29:$BC29))","v":37},{"$f":"SUMPRODUCT(('SCORE TABLE'!AH29<='SCORE TABLE'!$F29:$BC29)/COUNTIF('SCORE TABLE'!$F29:$BC29,'SCORE TABLE'!$F29:$BC29))","v":34},{"$f":"SUMPRODUCT(('SCORE TABLE'!AI29<='SCORE TABLE'!$F29:$BC29)/COUNTIF('SCORE TABLE'!$F29:$BC29,'SCORE TABLE'!$F29:$BC29))","v":40},{"$f":"SUMPRODUCT(('SCORE TABLE'!AJ29<='SCORE TABLE'!$F29:$BC29)/COUNTIF('SCORE TABLE'!$F29:$BC29,'SCORE TABLE'!$F29:$BC29))","v":9},{"$f":"SUMPRODUCT(('SCORE TABLE'!AK29<='SCORE TABLE'!$F29:$BC29)/COUNTIF('SCORE TABLE'!$F29:$BC29,'SCORE TABLE'!$F29:$BC29))","v":13},{"$f":"SUMPRODUCT(('SCORE TABLE'!AL29<='SCORE TABLE'!$F29:$BC29)/COUNTIF('SCORE TABLE'!$F29:$BC29,'SCORE TABLE'!$F29:$BC29))","v":24},{"$f":"SUMPRODUCT(('SCORE TABLE'!AM29<='SCORE TABLE'!$F29:$BC29)/COUNTIF('SCORE TABLE'!$F29:$BC29,'SCORE TABLE'!$F29:$BC29))","v":38},{"$f":"SUMPRODUCT(('SCORE TABLE'!AN29<='SCORE TABLE'!$F29:$BC29)/COUNTIF('SCORE TABLE'!$F29:$BC29,'SCORE TABLE'!$F29:$BC29))","v":15},{"$f":"SUMPRODUCT(('SCORE TABLE'!AO29<='SCORE TABLE'!$F29:$BC29)/COUNTIF('SCORE TABLE'!$F29:$BC29,'SCORE TABLE'!$F29:$BC29))","v":20},{"$f":"SUMPRODUCT(('SCORE TABLE'!AP29<='SCORE TABLE'!$F29:$BC29)/COUNTIF('SCORE TABLE'!$F29:$BC29,'SCORE TABLE'!$F29:$BC29))","v":18},{"$f":"SUMPRODUCT(('SCORE TABLE'!AQ29<='SCORE TABLE'!$F29:$BC29)/COUNTIF('SCORE TABLE'!$F29:$BC29,'SCORE TABLE'!$F29:$BC29))","v":10},{"$f":"SUMPRODUCT(('SCORE TABLE'!AR29<='SCORE TABLE'!$F29:$BC29)/COUNTIF('SCORE TABLE'!$F29:$BC29,'SCORE TABLE'!$F29:$BC29))","v":4},{"$f":"SUMPRODUCT(('SCORE TABLE'!AS29<='SCORE TABLE'!$F29:$BC29)/COUNTIF('SCORE TABLE'!$F29:$BC29,'SCORE TABLE'!$F29:$BC29))","v":3},{"$f":"SUMPRODUCT(('SCORE TABLE'!AT29<='SCORE TABLE'!$F29:$BC29)/COUNTIF('SCORE TABLE'!$F29:$BC29,'SCORE TABLE'!$F29:$BC29))","v":11},{"$f":"SUMPRODUCT(('SCORE TABLE'!AU29<='SCORE TABLE'!$F29:$BC29)/COUNTIF('SCORE TABLE'!$F29:$BC29,'SCORE TABLE'!$F29:$BC29))","v":12},{"$f":"SUMPRODUCT(('SCORE TABLE'!AV29<='SCORE TABLE'!$F29:$BC29)/COUNTIF('SCORE TABLE'!$F29:$BC29,'SCORE TABLE'!$F29:$BC29))","v":46},{"$f":"SUMPRODUCT(('SCORE TABLE'!AW29<='SCORE TABLE'!$F29:$BC29)/COUNTIF('SCORE TABLE'!$F29:$BC29,'SCORE TABLE'!$F29:$BC29))","v":25},{"$f":"SUMPRODUCT(('SCORE TABLE'!AX29<='SCORE TABLE'!$F29:$BC29)/COUNTIF('SCORE TABLE'!$F29:$BC29,'SCORE TABLE'!$F29:$BC29))","v":6},{"$f":"SUMPRODUCT(('SCORE TABLE'!AY29<='SCORE TABLE'!$F29:$BC29)/COUNTIF('SCORE TABLE'!$F29:$BC29,'SCORE TABLE'!$F29:$BC29))","v":39},{"$f":"SUMPRODUCT(('SCORE TABLE'!AZ29<='SCORE TABLE'!$F29:$BC29)/COUNTIF('SCORE TABLE'!$F29:$BC29,'SCORE TABLE'!$F29:$BC29))","v":17},{"$f":"SUMPRODUCT(('SCORE TABLE'!BA29<='SCORE TABLE'!$F29:$BC29)/COUNTIF('SCORE TABLE'!$F29:$BC29,'SCORE TABLE'!$F29:$BC29))","v":28},{"$f":"SUMPRODUCT(('SCORE TABLE'!BB29<='SCORE TABLE'!$F29:$BC29)/COUNTIF('SCORE TABLE'!$F29:$BC29,'SCORE TABLE'!$F29:$BC29))","v":23},{"$f":"SUMPRODUCT(('SCORE TABLE'!BC29<='SCORE TABLE'!$F29:$BC29)/COUNTIF('SCORE TABLE'!$F29:$BC29,'SCORE TABLE'!$F29:$BC29))","v":50}]
[null,1019,"2.1.1","Level of food security",null,null,{"$f":"SUMPRODUCT(('SCORE TABLE'!F30<='SCORE TABLE'!$F30:$BC30)/COUNTIF('SCORE TABLE'!$F30:$BC30,'SCORE TABLE'!$F30:$BC30))","v":{"v":4.999999999999999,"d":"5"}},{"$f":"SUMPRODUCT(('SCORE TABLE'!G30<='SCORE TABLE'!$F30:$BC30)/COUNTIF('SCORE TABLE'!$F30:$BC30,'SCORE TABLE'!$F30:$BC30))","v":{"v":2.9999999999999996,"d":"3"}},{"$f":"SUMPRODUCT(('SCORE TABLE'!H30<='SCORE TABLE'!$F30:$BC30)/COUNTIF('SCORE TABLE'!$F30:$BC30,'SCORE TABLE'!$F30:$BC30))","v":{"v":4.999999999999999,"d":"5"}},{"$f":"SUMPRODUCT(('SCORE TABLE'!I30<='SCORE TABLE'!$F30:$BC30)/COUNTIF('SCORE TABLE'!$F30:$BC30,'SCORE TABLE'!$F30:$BC30))","v":{"v":10.999999999999996,"d":"11"}},{"$f":"SUMPRODUCT(('SCORE TABLE'!J30<='SCORE TABLE'!$F30:$BC30)/COUNTIF('SCORE TABLE'!$F30:$BC30,'SCORE TABLE'!$F30:$BC30))","v":4},{"$f":"SUMPRODUCT(('SCORE TABLE'!K30<='SCORE TABLE'!$F30:$BC30)/COUNTIF('SCORE TABLE'!$F30:$BC30,'SCORE TABLE'!$F30:$BC30))","v":{"v":2.9999999999999996,"d":"3"}},{"$f":"SUMPRODUCT(('SCORE TABLE'!L30<='SCORE TABLE'!$F30:$BC30)/COUNTIF('SCORE TABLE'!$F30:$BC30,'SCORE TABLE'!$F30:$BC30))","v":{"v":2.9999999999999996,"d":"3"}},{"$f":"SUMPRODUCT(('SCORE TABLE'!M30<='SCORE TABLE'!$F30:$BC30)/COUNTIF('SCORE TABLE'!$F30:$BC30,'SCORE TABLE'!$F30:$BC30))","v":4},{"$f":"SUMPRODUCT(('SCORE TABLE'!N30<='SCORE TABLE'!$F30:$BC30)/COUNTIF('SCORE TABLE'!$F30:$BC30,'SCORE TABLE'!$F30:$BC30))","v":{"v":4.999999999999999,"d":"5"}},{"$f":"SUMPRODUCT(('SCORE TABLE'!O30<='SCORE TABLE'!$F30:$BC30)/COUNTIF('SCORE TABLE'!$F30:$BC30,'SCORE TABLE'!$F30:$BC30))","v":{"v":5.999999999999998,"d":"6"}},{"$f":"SUMPRODUCT(('SCORE TABLE'!P30<='SCORE TABLE'!$F30:$BC30)/COUNTIF('SCORE TABLE'!$F30:$BC30,'SCORE TABLE'!$F30:$BC30))","v":{"v":2.9999999999999996,"d":"3"}},{"$f":"SUMPRODUCT(('SCORE TABLE'!Q30<='SCORE TABLE'!$F30:$BC30)/COUNTIF('SCORE TABLE'!$F30:$BC30,'SCORE TABLE'!$F30:$BC30))","v":4},{"$f":"SUMPRODUCT(('SCORE TABLE'!R30<='SCORE TABLE'!$F30:$BC30)/COUNTIF('SCORE TABLE'!$F30:$BC30,'SCORE TABLE'!$F30:$BC30))","v":{"v":4.999999999999999,"d":"5"}},{"$f":"SUMPRODUCT(('SCORE TABLE'!S30<='SCORE TABLE'!$F30:$BC30)/COUNTIF('SCORE TABLE'!$F30:$BC30,'SCORE TABLE'!$F30:$BC30))","v":{"v":4.999999999999999,"d":"5"}},{"$f":"SUMPRODUCT(('SCORE TABLE'!T30<='SCORE TABLE'!$F30:$BC30)/COUNTIF('SCORE TABLE'!$F30:$BC30,'SCORE TABLE'!$F30:$BC30))","v":{"v":2.9999999999999996,"d":"3"}},{"$f":"SUMPRODUCT(('SCORE TABLE'!U30<='SCORE TABLE'!$F30:$BC30)/COUNTIF('SCORE TABLE'!$F30:$BC30,'SCORE TABLE'!$F30:$BC30))","v":4},{"$f":"SUMPRODUCT(('SCORE TABLE'!V30<='SCORE TABLE'!$F30:$BC30)/COUNTIF('SCORE TABLE'!$F30:$BC30,'SCORE TABLE'!$F30:$BC30))","v":{"v":7.999999999999997,"d":"8"}},{"$f":"SUMPRODUCT(('SCORE TABLE'!W30<='SCORE TABLE'!$F30:$BC30)/COUNTIF('SCORE TABLE'!$F30:$BC30,'SCORE TABLE'!$F30:$BC30))","v":{"v":8.999999999999996,"d":"9"}},{"$f":"SUMPRODUCT(('SCORE TABLE'!X30<='SCORE TABLE'!$F30:$BC30)/COUNTIF('SCORE TABLE'!$F30:$BC30,'SCORE TABLE'!$F30:$BC30))","v":4},{"$f":"SUMPRODUCT(('SCORE TABLE'!Y30<='SCORE TABLE'!$F30:$BC30)/COUNTIF('SCORE TABLE'!$F30:$BC30,'SCORE TABLE'!$F30:$BC30))","v":{"v":2.9999999999999996,"d":"3"}},{"$f":"SUMPRODUCT(('SCORE TABLE'!Z30<='SCORE TABLE'!$F30:$BC30)/COUNTIF('SCORE TABLE'!$F30:$BC30,'SCORE TABLE'!$F30:$BC30))","v":2},{"$f":"SUMPRODUCT(('SCORE TABLE'!AA30<='SCORE TABLE'!$F30:$BC30)/COUNTIF('SCORE TABLE'!$F30:$BC30,'SCORE TABLE'!$F30:$BC30))","v":{"v":5.999999999999998,"d":"6"}},{"$f":"SUMPRODUCT(('SCORE TABLE'!AB30<='SCORE TABLE'!$F30:$BC30)/COUNTIF('SCORE TABLE'!$F30:$BC30,'SCORE TABLE'!$F30:$BC30))","v":2},{"$f":"SUMPRODUCT(('SCORE TABLE'!AC30<='SCORE TABLE'!$F30:$BC30)/COUNTIF('SCORE TABLE'!$F30:$BC30,'SCORE TABLE'!$F30:$BC30))","v":{"v":8.999999999999996,"d":"9"}},{"$f":"SUMPRODUCT(('SCORE TABLE'!AD30<='SCORE TABLE'!$F30:$BC30)/COUNTIF('SCORE TABLE'!$F30:$BC30,'SCORE TABLE'!$F30:$BC30))","v":{"v":5.999999999999998,"d":"6"}},{"$f":"SUMPRODUCT(('SCORE TABLE'!AE30<='SCORE TABLE'!$F30:$BC30)/COUNTIF('SCORE TABLE'!$F30:$BC30,'SCORE TABLE'!$F30:$BC30))","v":2},{"$f":"SUMPRODUCT(('SCORE TABLE'!AF30<='SCORE TABLE'!$F30:$BC30)/COUNTIF('SCORE TABLE'!$F30:$BC30,'SCORE TABLE'!$F30:$BC30))","v":{"v":5.999999999999998,"d":"6"}},{"$f":"SUMPRODUCT(('SCORE TABLE'!AG30<='SCORE TABLE'!$F30:$BC30)/COUNTIF('SCORE TABLE'!$F30:$BC30,'SCORE TABLE'!$F30:$BC30))","v":{"v":5.999999999999998,"d":"6"}},{"$f":"SUMPRODUCT(('SCORE TABLE'!AH30<='SCORE TABLE'!$F30:$BC30)/COUNTIF('SCORE TABLE'!$F30:$BC30,'SCORE TABLE'!$F30:$BC30))","v":1},{"$f":"SUMPRODUCT(('SCORE TABLE'!AI30<='SCORE TABLE'!$F30:$BC30)/COUNTIF('SCORE TABLE'!$F30:$BC30,'SCORE TABLE'!$F30:$BC30))","v":{"v":2.9999999999999996,"d":"3"}},{"$f":"SUMPRODUCT(('SCORE TABLE'!AJ30<='SCORE TABLE'!$F30:$BC30)/COUNTIF('SCORE TABLE'!$F30:$BC30,'SCORE TABLE'!$F30:$BC30))","v":{"v":5.999999999999998,"d":"6"}},{"$f":"SUMPRODUCT(('SCORE TABLE'!AK30<='SCORE TABLE'!$F30:$BC30)/COUNTIF('SCORE TABLE'!$F30:$BC30,'SCORE TABLE'!$F30:$BC30))","v":{"v":4.999999999999999,"d":"5"}},{"$f":"SUMPRODUCT(('SCORE TABLE'!AL30<='SCORE TABLE'!$F30:$BC30)/COUNTIF('SCORE TABLE'!$F30:$BC30,'SCORE TABLE'!$F30:$BC30))","v":4},{"$f":"SUMPRODUCT(('SCORE TABLE'!AM30<='SCORE TABLE'!$F30:$BC30)/COUNTIF('SCORE TABLE'!$F30:$BC30,'SCORE TABLE'!$F30:$BC30))","v":2},{"$f":"SUMPRODUCT(('SCORE TABLE'!AN30<='SCORE TABLE'!$F30:$BC30)/COUNTIF('SCORE TABLE'!$F30:$BC30,'SCORE TABLE'!$F30:$BC30))","v":{"v":5.999999999999998,"d":"6"}},{"$f":"SUMPRODUCT(('SCORE TABLE'!AO30<='SCORE TABLE'!$F30:$BC30)/COUNTIF('SCORE TABLE'!$F30:$BC30,'SCORE TABLE'!$F30:$BC30))","v":{"v":7.999999999999997,"d":"8"}},{"$f":"SUMPRODUCT(('SCORE TABLE'!AP30<='SCORE TABLE'!$F30:$BC30)/COUNTIF('SCORE TABLE'!$F30:$BC30,'SCORE TABLE'!$F30:$BC30))","v":{"v":5.999999999999998,"d":"6"}},{"$f":"SUMPRODUCT(('SCORE TABLE'!AQ30<='SCORE TABLE'!$F30:$BC30)/COUNTIF('SCORE TABLE'!$F30:$BC30,'SCORE TABLE'!$F30:$BC30))","v":4},{"$f":"SUMPRODUCT(('SCORE TABLE'!AR30<='SCORE TABLE'!$F30:$BC30)/COUNTIF('SCORE TABLE'!$F30:$BC30,'SCORE TABLE'!$F30:$BC30))","v":{"v":2.9999999999999996,"d":"3"}},{"$f":"SUMPRODUCT(('SCORE TABLE'!AS30<='SCORE TABLE'!$F30:$BC30)/COUNTIF('SCORE TABLE'!$F30:$BC30,'SCORE TABLE'!$F30:$BC30))","v":{"v":6.999999999999998,"d":"7"}},{"$f":"SUMPRODUCT(('SCORE TABLE'!AT30<='SCORE TABLE'!$F30:$BC30)/COUNTIF('SCORE TABLE'!$F30:$BC30,'SCORE TABLE'!$F30:$BC30))","v":2},{"$f":"SUMPRODUCT(('SCORE TABLE'!AU30<='SCORE TABLE'!$F30:$BC30)/COUNTIF('SCORE TABLE'!$F30:$BC30,'SCORE TABLE'!$F30:$BC30))","v":{"v":4.999999999999999,"d":"5"}},{"$f":"SUMPRODUCT(('SCORE TABLE'!AV30<='SCORE TABLE'!$F30:$BC30)/COUNTIF('SCORE TABLE'!$F30:$BC30,'SCORE TABLE'!$F30:$BC30))","v":{"v":9.999999999999996,"d":"10"}},{"$f":"SUMPRODUCT(('SCORE TABLE'!AW30<='SCORE TABLE'!$F30:$BC30)/COUNTIF('SCORE TABLE'!$F30:$BC30,'SCORE TABLE'!$F30:$BC30))","v":{"v":4.999999999999999,"d":"5"}},{"$f":"SUMPRODUCT(('SCORE TABLE'!AX30<='SCORE TABLE'!$F30:$BC30)/COUNTIF('SCORE TABLE'!$F30:$BC30,'SCORE TABLE'!$F30:$BC30))","v":2},{"$f":"SUMPRODUCT(('SCORE TABLE'!AY30<='SCORE TABLE'!$F30:$BC30)/COUNTIF('SCORE TABLE'!$F30:$BC30,'SCORE TABLE'!$F30:$BC30))","v":{"v":2.9999999999999996,"d":"3"}},{"$f":"SUMPRODUCT(('SCORE TABLE'!AZ30<='SCORE TABLE'!$F30:$BC30)/COUNTIF('SCORE TABLE'!$F30:$BC30,'SCORE TABLE'!$F30:$BC30))","v":{"v":2.9999999999999996,"d":"3"}},{"$f":"SUMPRODUCT(('SCORE TABLE'!BA30<='SCORE TABLE'!$F30:$BC30)/COUNTIF('SCORE TABLE'!$F30:$BC30,'SCORE TABLE'!$F30:$BC30))","v":{"v":6.999999999999998,"d":"7"}},{"$f":"SUMPRODUCT(('SCORE TABLE'!BB30<='SCORE TABLE'!$F30:$BC30)/COUNTIF('SCORE TABLE'!$F30:$BC30,'SCORE TABLE'!$F30:$BC30))","v":4},{"$f":"SUMPRODUCT(('SCORE TABLE'!BC30<='SCORE TABLE'!$F30:$BC30)/COUNTIF('SCORE TABLE'!$F30:$BC30,'SCORE TABLE'!$F30:$BC30))","v":{"v":5.999999999999998,"d":"6"}}]
[null,1020,"2.1.2","Nutrition programmes for lower-income individuals",null,null,{"$f":"SUMPRODUCT(('SCORE TABLE'!F31<='SCORE TABLE'!$F31:$BC31)/COUNTIF('SCORE TABLE'!$F31:$BC31,'SCORE TABLE'!$F31:$BC31))","v":18},{"$f":"SUMPRODUCT(('SCORE TABLE'!G31<='SCORE TABLE'!$F31:$BC31)/COUNTIF('SCORE TABLE'!$F31:$BC31,'SCORE TABLE'!$F31:$BC31))","v":2},{"$f":"SUMPRODUCT(('SCORE TABLE'!H31<='SCORE TABLE'!$F31:$BC31)/COUNTIF('SCORE TABLE'!$F31:$BC31,'SCORE TABLE'!$F31:$BC31))","v":38},{"$f":"SUMPRODUCT(('SCORE TABLE'!I31<='SCORE TABLE'!$F31:$BC31)/COUNTIF('SCORE TABLE'!$F31:$BC31,'SCORE TABLE'!$F31:$BC31))","v":47},{"$f":"SUMPRODUCT(('SCORE TABLE'!J31<='SCORE TABLE'!$F31:$BC31)/COUNTIF('SCORE TABLE'!$F31:$BC31,'SCORE TABLE'!$F31:$BC31))","v":48},{"$f":"SUMPRODUCT(('SCORE TABLE'!K31<='SCORE TABLE'!$F31:$BC31)/COUNTIF('SCORE TABLE'!$F31:$BC31,'SCORE TABLE'!$F31:$BC31))","v":35},{"$f":"SUMPRODUCT(('SCORE TABLE'!L31<='SCORE TABLE'!$F31:$BC31)/COUNTIF('SCORE TABLE'!$F31:$BC31,'SCORE TABLE'!$F31:$BC31))","v":11},{"$f":"SUMPRODUCT(('SCORE TABLE'!M31<='SCORE TABLE'!$F31:$BC31)/COUNTIF('SCORE TABLE'!$F31:$BC31,'SCORE TABLE'!$F31:$BC31))","v":22},{"$f":"SUMPRODUCT(('SCORE TABLE'!N31<='SCORE TABLE'!$F31:$BC31)/COUNTIF('SCORE TABLE'!$F31:$BC31,'SCORE TABLE'!$F31:$BC31))","v":31},{"$f":"SUMPRODUCT(('SCORE TABLE'!O31<='SCORE TABLE'!$F31:$BC31)/COUNTIF('SCORE TABLE'!$F31:$BC31,'SCORE TABLE'!$F31:$BC31))","v":37},{"$f":"SUMPRODUCT(('SCORE TABLE'!P31<='SCORE TABLE'!$F31:$BC31)/COUNTIF('SCORE TABLE'!$F31:$BC31,'SCORE TABLE'!$F31:$BC31))","v":1},{"$f":"SUMPRODUCT(('SCORE TABLE'!Q31<='SCORE TABLE'!$F31:$BC31)/COUNTIF('SCORE TABLE'!$F31:$BC31,'SCORE TABLE'!$F31:$BC31))","v":32},{"$f":"SUMPRODUCT(('SCORE TABLE'!R31<='SCORE TABLE'!$F31:$BC31)/COUNTIF('SCORE TABLE'!$F31:$BC31,'SCORE TABLE'!$F31:$BC31))","v":5},{"$f":"SUMPRODUCT(('SCORE TABLE'!S31<='SCORE TABLE'!$F31:$BC31)/COUNTIF('SCORE TABLE'!$F31:$BC31,'SCORE TABLE'!$F31:$BC31))","v":25},{"$f":"SUMPRODUCT(('SCORE TABLE'!T31<='SCORE TABLE'!$F31:$BC31)/COUNTIF('SCORE TABLE'!$F31:$BC31,'SCORE TABLE'!$F31:$BC31))","v":29},{"$f":"SUMPRODUCT(('SCORE TABLE'!U31<='SCORE TABLE'!$F31:$BC31)/COUNTIF('SCORE TABLE'!$F31:$BC31,'SCORE TABLE'!$F31:$BC31))","v":42},{"$f":"SUMPRODUCT(('SCORE TABLE'!V31<='SCORE TABLE'!$F31:$BC31)/COUNTIF('SCORE TABLE'!$F31:$BC31,'SCORE TABLE'!$F31:$BC31))","v":46},{"$f":"SUMPRODUCT(('SCORE TABLE'!W31<='SCORE TABLE'!$F31:$BC31)/COUNTIF('SCORE TABLE'!$F31:$BC31,'SCORE TABLE'!$F31:$BC31))","v":9},{"$f":"SUMPRODUCT(('SCORE TABLE'!X31<='SCORE TABLE'!$F31:$BC31)/COUNTIF('SCORE TABLE'!$F31:$BC31,'SCORE TABLE'!$F31:$BC31))","v":21},{"$f":"SUMPRODUCT(('SCORE TABLE'!Y31<='SCORE TABLE'!$F31:$BC31)/COUNTIF('SCORE TABLE'!$F31:$BC31,'SCORE TABLE'!$F31:$BC31))","v":34},{"$f":"SUMPRODUCT(('SCORE TABLE'!Z31<='SCORE TABLE'!$F31:$BC31)/COUNTIF('SCORE TABLE'!$F31:$BC31,'SCORE TABLE'!$F31:$BC31))","v":6},{"$f":"SUMPRODUCT(('SCORE TABLE'!AA31<='SCORE TABLE'!$F31:$BC31)/COUNTIF('SCORE TABLE'!$F31:$BC31,'SCORE TABLE'!$F31:$BC31))","v":28},{"$f":"SUMPRODUCT(('SCORE TABLE'!AB31<='SCORE TABLE'!$F31:$BC31)/COUNTIF('SCORE TABLE'!$F31:$BC31,'SCORE TABLE'!$F31:$BC31))","v":49},{"$f":"SUMPRODUCT(('SCORE TABLE'!AC31<='SCORE TABLE'!$F31:$BC31)/COUNTIF('SCORE TABLE'!$F31:$BC31,'SCORE TABLE'!$F31:$BC31))","v":45},{"$f":"SUMPRODUCT(('SCORE TABLE'!AD31<='SCORE TABLE'!$F31:$BC31)/COUNTIF('SCORE TABLE'!$F31:$BC31,'SCORE TABLE'!$F31:$BC31))","v":16},{"$f":"SUMPRODUCT(('SCORE TABLE'!AE31<='SCORE TABLE'!$F31:$BC31)/COUNTIF('SCORE TABLE'!$F31:$BC31,'SCORE TABLE'!$F31:$BC31))","v":36},{"$f":"SUMPRODUCT(('SCORE TABLE'!AF31<='SCORE TABLE'!$F31:$BC31)/COUNTIF('SCORE TABLE'!$F31:$BC31,'SCORE TABLE'!$F31:$BC31))","v":30},{"$f":"SUMPRODUCT(('SCORE TABLE'!AG31<='SCORE TABLE'!$F31:$BC31)/COUNTIF('SCORE TABLE'!$F31:$BC31,'SCORE TABLE'!$F31:$BC31))","v":33},{"$f":"SUMPRODUCT(('SCORE TABLE'!AH31<='SCORE TABLE'!$F31:$BC31)/COUNTIF('SCORE TABLE'!$F31:$BC31,'SCORE TABLE'!$F31:$BC31))","v":41},{"$f":"SUMPRODUCT(('SCORE TABLE'!AI31<='SCORE TABLE'!$F31:$BC31)/COUNTIF('SCORE TABLE'!$F31:$BC31,'SCORE TABLE'!$F31:$BC31))","v":43},{"$f":"SUMPRODUCT(('SCORE TABLE'!AJ31<='SCORE TABLE'!$F31:$BC31)/COUNTIF('SCORE TABLE'!$F31:$BC31,'SCORE TABLE'!$F31:$BC31))","v":8},{"$f":"SUMPRODUCT(('SCORE TABLE'!AK31<='SCORE TABLE'!$F31:$BC31)/COUNTIF('SCORE TABLE'!$F31:$BC31,'SCORE TABLE'!$F31:$BC31))","v":14},{"$f":"SUMPRODUCT(('SCORE TABLE'!AL31<='SCORE TABLE'!$F31:$BC31)/COUNTIF('SCORE TABLE'!$F31:$BC31,'SCORE TABLE'!$F31:$BC31))","v":27},{"$f":"SUMPRODUCT(('SCORE TABLE'!AM31<='SCORE TABLE'!$F31:$BC31)/COUNTIF('SCORE TABLE'!$F31:$BC31,'SCORE TABLE'!$F31:$BC31))","v":40},{"$f":"SUMPRODUCT(('SCORE TABLE'!AN31<='SCORE TABLE'!$F31:$BC31)/COUNTIF('SCORE TABLE'!$F31:$BC31,'SCORE TABLE'!$F31:$BC31))","v":15},{"$f":"SUMPRODUCT(('SCORE TABLE'!AO31<='SCORE TABLE'!$F31:$BC31)/COUNTIF('SCORE TABLE'!$F31:$BC31,'SCORE TABLE'!$F31:$BC31))","v":12},{"$f":"SUMPRODUCT(('SCORE TABLE'!AP31<='SCORE TABLE'!$F31:$BC31)/COUNTIF('SCORE TABLE'!$F31:$BC31,'SCORE TABLE'!$F31:$BC31))","v":17},{"$f":"SUMPRODUCT(('SCORE TABLE'!AQ31<='SCORE TABLE'!$F31:$BC31)/COUNTIF('SCORE TABLE'!$F31:$BC31,'SCORE TABLE'!$F31:$BC31))","v":10},{"$f":"SUMPRODUCT(('SCORE TABLE'!AR31<='SCORE TABLE'!$F31:$BC31)/COUNTIF('SCORE TABLE'!$F31:$BC31,'SCORE TABLE'!$F31:$BC31))","v":4},{"$f":"SUMPRODUCT(('SCORE TABLE'!AS31<='SCORE TABLE'!$F31:$BC31)/COUNTIF('SCORE TABLE'!$F31:$BC31,'SCORE TABLE'!$F31:$BC31))","v":3},{"$f":"SUMPRODUCT(('SCORE TABLE'!AT31<='SCORE TABLE'!$F31:$BC31)/COUNTIF('SCORE TABLE'!$F31:$BC31,'SCORE TABLE'!$F31:$BC31))","v":19},{"$f":"SUMPRODUCT(('SCORE TABLE'!AU31<='SCORE TABLE'!$F31:$BC31)/COUNTIF('SCORE TABLE'!$F31:$BC31,'SCORE TABLE'!$F31:$BC31))","v":13},{"$f":"SUMPRODUCT(('SCORE TABLE'!AV31<='SCORE TABLE'!$F31:$BC31)/COUNTIF('SCORE TABLE'!$F31:$BC31,'SCORE TABLE'!$F31:$BC31))","v":44},{"$f":"SUMPRODUCT(('SCORE TABLE'!AW31<='SCORE TABLE'!$F31:$BC31)/COUNTIF('SCORE TABLE'!$F31:$BC31,'SCORE TABLE'!$F31:$BC31))","v":23},{"$f":"SUMPRODUCT(('SCORE TABLE'!AX31<='SCORE TABLE'!$F31:$BC31)/COUNTIF('SCORE TABLE'!$F31:$BC31,'SCORE TABLE'!$F31:$BC31))","v":7},{"$f":"SUMPRODUCT(('SCORE TABLE'!AY31<='SCORE TABLE'!$F31:$BC31)/COUNTIF('SCORE TABLE'!$F31:$BC31,'SCORE TABLE'!$F31:$BC31))","v":39},{"$f":"SUMPRODUCT(('SCORE TABLE'!AZ31<='SCORE TABLE'!$F31:$BC31)/COUNTIF('SCORE TABLE'!$F31:$BC31,'SCORE TABLE'!$F31:$BC31))","v":24},{"$f":"SUMPRODUCT(('SCORE TABLE'!BA31<='SCORE TABLE'!$F31:$BC31)/COUNTIF('SCORE TABLE'!$F31:$BC31,'SCORE TABLE'!$F31:$BC31))","v":20},{"$f":"SUMPRODUCT(('SCORE TABLE'!BB31<='SCORE TABLE'!$F31:$BC31)/COUNTIF('SCORE TABLE'!$F31:$BC31,'SCORE TABLE'!$F31:$BC31))","v":26},{"$f":"SUMPRODUCT(('SCORE TABLE'!BC31<='SCORE TABLE'!$F31:$BC31)/COUNTIF('SCORE TABLE'!$F31:$BC31,'SCORE TABLE'!$F31:$BC31))","v":50}]
[null,1021,"2.1.2a","Supplemental Nutrition Assistance Program (SNAP): monthly benefit per person",null,null,{"$f":"SUMPRODUCT(('SCORE TABLE'!F32<='SCORE TABLE'!$F32:$BC32)/COUNTIF('SCORE TABLE'!$F32:$BC32,'SCORE TABLE'!$F32:$BC32))","v":13},{"$f":"SUMPRODUCT(('SCORE TABLE'!G32<='SCORE TABLE'!$F32:$BC32)/COUNTIF('SCORE TABLE'!$F32:$BC32,'SCORE TABLE'!$F32:$BC32))","v":3},{"$f":"SUMPRODUCT(('SCORE TABLE'!H32<='SCORE TABLE'!$F32:$BC32)/COUNTIF('SCORE TABLE'!$F32:$BC32,'SCORE TABLE'!$F32:$BC32))","v":34},{"$f":"SUMPRODUCT(('SCORE TABLE'!I32<='SCORE TABLE'!$F32:$BC32)/COUNTIF('SCORE TABLE'!$F32:$BC32,'SCORE TABLE'!$F32:$BC32))","v":26},{"$f":"SUMPRODUCT(('SCORE TABLE'!J32<='SCORE TABLE'!$F32:$BC32)/COUNTIF('SCORE TABLE'!$F32:$BC32,'SCORE TABLE'!$F32:$BC32))","v":42},{"$f":"SUMPRODUCT(('SCORE TABLE'!K32<='SCORE TABLE'!$F32:$BC32)/COUNTIF('SCORE TABLE'!$F32:$BC32,'SCORE TABLE'!$F32:$BC32))","v":27},{"$f":"SUMPRODUCT(('SCORE TABLE'!L32<='SCORE TABLE'!$F32:$BC32)/COUNTIF('SCORE TABLE'!$F32:$BC32,'SCORE TABLE'!$F32:$BC32))","v":18},{"$f":"SUMPRODUCT(('SCORE TABLE'!M32<='SCORE TABLE'!$F32:$BC32)/COUNTIF('SCORE TABLE'!$F32:$BC32,'SCORE TABLE'!$F32:$BC32))","v":33},{"$f":"SUMPRODUCT(('SCORE TABLE'!N32<='SCORE TABLE'!$F32:$BC32)/COUNTIF('SCORE TABLE'!$F32:$BC32,'SCORE TABLE'!$F32:$BC32))","v":17},{"$f":"SUMPRODUCT(('SCORE TABLE'!O32<='SCORE TABLE'!$F32:$BC32)/COUNTIF('SCORE TABLE'!$F32:$BC32,'SCORE TABLE'!$F32:$BC32))","v":25},{"$f":"SUMPRODUCT(('SCORE TABLE'!P32<='SCORE TABLE'!$F32:$BC32)/COUNTIF('SCORE TABLE'!$F32:$BC32,'SCORE TABLE'!$F32:$BC32))","v":1},{"$f":"SUMPRODUCT(('SCORE TABLE'!Q32<='SCORE TABLE'!$F32:$BC32)/COUNTIF('SCORE TABLE'!$F32:$BC32,'SCORE TABLE'!$F32:$BC32))","v":28},{"$f":"SUMPRODUCT(('SCORE TABLE'!R32<='SCORE TABLE'!$F32:$BC32)/COUNTIF('SCORE TABLE'!$F32:$BC32,'SCORE TABLE'!$F32:$BC32))","v":19},{"$f":"SUMPRODUCT(('SCORE TABLE'!S32<='SCORE TABLE'!$F32:$BC32)/COUNTIF('SCORE TABLE'!$F32:$BC32,'SCORE TABLE'!$F32:$BC32))","v":5},{"$f":"SUMPRODUCT(('SCORE TABLE'!T32<='SCORE TABLE'!$F32:$BC32)/COUNTIF('SCORE TABLE'!$F32:$BC32,'SCORE TABLE'!$F32:$BC32))","v":40},{"$f":"SUMPRODUCT(('SCORE TABLE'!U32<='SCORE TABLE'!$F32:$BC32)/COUNTIF('SCORE TABLE'!$F32:$BC32,'SCORE TABLE'!$F32:$BC32))","v":31},{"$f":"SUMPRODUCT(('SCORE TABLE'!V32<='SCORE TABLE'!$F32:$BC32)/COUNTIF('SCORE TABLE'!$F32:$BC32,'SCORE TABLE'!$F32:$BC32))","v":32},{"$f":"SUMPRODUCT(('SCORE TABLE'!W32<='SCORE TABLE'!$F32:$BC32)/COUNTIF('SCORE TABLE'!$F32:$BC32,'SCORE TABLE'!$F32:$BC32))","v":4},{"$f":"SUMPRODUCT(('SCORE TABLE'!X32<='SCORE TABLE'!$F32:$BC32)/COUNTIF('SCORE TABLE'!$F32:$BC32,'SCORE TABLE'!$F32:$BC32))","v":37},{"$f":"SUMPRODUCT(('SCORE TABLE'!Y32<='SCORE TABLE'!$F32:$BC32)/COUNTIF('SCORE TABLE'!$F32:$BC32,'SCORE TABLE'!$F32:$BC32))","v":45},{"$f":"SUMPRODUCT(('SCORE TABLE'!Z32<='SCORE TABLE'!$F32:$BC32)/COUNTIF('SCORE TABLE'!$F32:$BC32,'SCORE TABLE'!$F32:$BC32))","v":21},{"$f":"SUMPRODUCT(('SCORE TABLE'!AA32<='SCORE TABLE'!$F32:$BC32)/COUNTIF('SCORE TABLE'!$F32:$BC32,'SCORE TABLE'!$F32:$BC32))","v":38},{"$f":"SUMPRODUCT(('SCORE TABLE'!AB32<='SCORE TABLE'!$F32:$BC32)/COUNTIF('SCORE TABLE'!$F32:$BC32,'SCORE TABLE'!$F32:$BC32))","v":50},{"$f":"SUMPRODUCT(('SCORE TABLE'!AC32<='SCORE TABLE'!$F32:$BC32)/COUNTIF('SCORE TABLE'!$F32:$BC32,'SCORE TABLE'!$F32:$BC32))","v":22},{"$f":"SUMPRODUCT(('SCORE TABLE'!AD32<='SCORE TABLE'!$F32:$BC32)/COUNTIF('SCORE TABLE'!$F32:$BC32,'SCORE TABLE'!$F32:$BC32))","v":16},{"$f":"SUMPRODUCT(('SCORE TABLE'!AE32<='SCORE TABLE'!$F32:$BC32)/COUNTIF('SCORE TABLE'!$F32:$BC32,'SCORE TABLE'!$F32:$BC32))","v":35},{"$f":"SUMPRODUCT(('SCORE TABLE'!AF32<='SCORE TABLE'!$F32:$BC32)/COUNTIF('SCORE TABLE'!$F32:$BC32,'SCORE TABLE'!$F32:$BC32))","v":23},{"$f":"SUMPRODUCT(('SCORE TABLE'!AG32<='SCORE TABLE'!$F32:$BC32)/COUNTIF('SCORE TABLE'!$F32:$BC32,'SCORE TABLE'!$F32:$BC32))","v":41},{"$f":"SUMPRODUCT(('SCORE TABLE'!AH32<='SCORE TABLE'!$F32:$BC32)/COUNTIF('SCORE TABLE'!$F32:$BC32,'SCORE TABLE'!$F32:$BC32))","v":49},{"$f":"SUMPRODUCT(('SCORE TABLE'!AI32<='SCORE TABLE'!$F32:$BC32)/COUNTIF('SCORE TABLE'!$F32:$BC32,'SCORE TABLE'!$F32:$BC32))","v":36},{"$f":"SUMPRODUCT(('SCORE TABLE'!AJ32<='SCORE TABLE'!$F32:$BC32)/COUNTIF('SCORE TABLE'!$F32:$BC32,'SCORE TABLE'!$F32:$BC32))","v":29},{"$f":"SUMPRODUCT(('SCORE TABLE'!AK32<='SCORE TABLE'!$F32:$BC32)/COUNTIF('SCORE TABLE'!$F32:$BC32,'SCORE TABLE'!$F32:$BC32))","v":10},{"$f":"SUMPRODUCT(('SCORE TABLE'!AL32<='SCORE TABLE'!$F32:$BC32)/COUNTIF('SCORE TABLE'!$F32:$BC32,'SCORE TABLE'!$F32:$BC32))","v":12},{"$f":"SUMPRODUCT(('SCORE TABLE'!AM32<='SCORE TABLE'!$F32:$BC32)/COUNTIF('SCORE TABLE'!$F32:$BC32,'SCORE TABLE'!$F32:$BC32))","v":20},{"$f":"SUMPRODUCT(('SCORE TABLE'!AN32<='SCORE TABLE'!$F32:$BC32)/COUNTIF('SCORE TABLE'!$F32:$BC32,'SCORE TABLE'!$F32:$BC32))","v":7},{"$f":"SUMPRODUCT(('SCORE TABLE'!AO32<='SCORE TABLE'!$F32:$BC32)/COUNTIF('SCORE TABLE'!$F32:$BC32,'SCORE TABLE'!$F32:$BC32))","v":8},{"$f":"SUMPRODUCT(('SCORE TABLE'!AP32<='SCORE TABLE'!$F32:$BC32)/COUNTIF('SCORE TABLE'!$F32:$BC32,'SCORE TABLE'!$F32:$BC32))","v":48},{"$f":"SUMPRODUCT(('SCORE TABLE'!AQ32<='SCORE TABLE'!$F32:$BC32)/COUNTIF('SCORE TABLE'!$F32:$BC32,'SCORE TABLE'!$F32:$BC32))","v":39},{"$f":"SUMPRODUCT(('SCORE TABLE'!AR32<='SCORE TABLE'!$F32:$BC32)/COUNTIF('SCORE TABLE'!$F32:$BC32,'SCORE TABLE'!$F32:$BC32))","v":9},{"$f":"SUMPRODUCT(('SCORE TABLE'!AS32<='SCORE TABLE'!$F32:$BC32)/COUNTIF('SCORE TABLE'!$F32:$BC32,'SCORE TABLE'!$F32:$BC32))","v":2},{"$f":"SUMPRODUCT(('SCORE TABLE'!AT32<='SCORE TABLE'!$F32:$BC32)/COUNTIF('SCORE TABLE'!$F32:$BC32,'SCORE TABLE'!$F32:$BC32))","v":11},{"$f":"SUMPRODUCT(('SCORE TABLE'!AU32<='SCORE TABLE'!$F32:$BC32)/COUNTIF('SCORE TABLE'!$F32:$BC32,'SCORE TABLE'!$F32:$BC32))","v":14},{"$f":"SUMPRODUCT(('SCORE TABLE'!AV32<='SCORE TABLE'!$F32:$BC32)/COUNTIF('SCORE TABLE'!$F32:$BC32,'SCORE TABLE'!$F32:$BC32))","v":30},{"$f":"SUMPRODUCT(('SCORE TABLE'!AW32<='SCORE TABLE'!$F32:$BC32)/COUNTIF('SCORE TABLE'!$F32:$BC32,'SCORE TABLE'!$F32:$BC32))","v":6},{"$f":"SUMPRODUCT(('SCORE TABLE'!AX32<='SCORE TABLE'!$F32:$BC32)/COUNTIF('SCORE TABLE'!$F32:$BC32,'SCORE TABLE'!$F32:$BC32))","v":15},{"$f":"SUMPRODUCT(('SCORE TABLE'!AY32<='SCORE TABLE'!$F32:$BC32)/COUNTIF('SCORE TABLE'!$F32:$BC32,'SCORE TABLE'!$F32:$BC32))","v":43},{"$f":"SUMPRODUCT(('SCORE TABLE'!AZ32<='SCORE TABLE'!$F32:$BC32)/COUNTIF('SCORE TABLE'!$F32:$BC32,'SCORE TABLE'!$F32:$BC32))","v":47},{"$f":"SUMPRODUCT(('SCORE TABLE'!BA32<='SCORE TABLE'!$F32:$BC32)/COUNTIF('SCORE TABLE'!$F32:$BC32,'SCORE TABLE'!$F32:$BC32))","v":44},{"$f":"SUMPRODUCT(('SCORE TABLE'!BB32<='SCORE TABLE'!$F32:$BC32)/COUNTIF('SCORE TABLE'!$F32:$BC32,'SCORE TABLE'!$F32:$BC32))","v":46},{"$f":"SUMPRODUCT(('SCORE TABLE'!BC32<='SCORE TABLE'!$F32:$BC32)/COUNTIF('SCORE TABLE'!$F32:$BC32,'SCORE TABLE'!$F32:$BC32))","v":24}]
[null,1022,"2.1.2b","Supplemental Nutrition Assistance Program (SNAP): participation rate",null,null,{"$f":"SUMPRODUCT(('SCORE TABLE'!F33<='SCORE TABLE'!$F33:$BC33)/COUNTIF('SCORE TABLE'!$F33:$BC33,'SCORE TABLE'!$F33:$BC33))","v":{"v":11.999999999999998,"d":"12"}},{"$f":"SUMPRODUCT(('SCORE TABLE'!G33<='SCORE TABLE'!$F33:$BC33)/COUNTIF('SCORE TABLE'!$F33:$BC33,'SCORE TABLE'!$F33:$BC33))","v":{"v":11.999999999999998,"d":"12"}},{"$f":"SUMPRODUCT(('SCORE TABLE'!H33<='SCORE TABLE'!$F33:$BC33)/COUNTIF('SCORE TABLE'!$F33:$BC33,'SCORE TABLE'!$F33:$BC33))","v":18},{"$f":"SUMPRODUCT(('SCORE TABLE'!I33<='SCORE TABLE'!$F33:$BC33)/COUNTIF('SCORE TABLE'!$F33:$BC33,'SCORE TABLE'!$F33:$BC33))","v":25},{"$f":"SUMPRODUCT(('SCORE TABLE'!J33<='SCORE TABLE'!$F33:$BC33)/COUNTIF('SCORE TABLE'!$F33:$BC33,'SCORE TABLE'!$F33:$BC33))","v":{"v":23.000000000000004,"d":"23"}},{"$f":"SUMPRODUCT(('SCORE TABLE'!K33<='SCORE TABLE'!$F33:$BC33)/COUNTIF('SCORE TABLE'!$F33:$BC33,'SCORE TABLE'!$F33:$BC33))","v":17},{"$f":"SUMPRODUCT(('SCORE TABLE'!L33<='SCORE TABLE'!$F33:$BC33)/COUNTIF('SCORE TABLE'!$F33:$BC33,'SCORE TABLE'!$F33:$BC33))","v":6},{"$f":"SUMPRODUCT(('SCORE TABLE'!M33<='SCORE TABLE'!$F33:$BC33)/COUNTIF('SCORE TABLE'!$F33:$BC33,'SCORE TABLE'!$F33:$BC33))","v":{"v":6.999999999999999,"d":"7"}},{"$f":"SUMPRODUCT(('SCORE TABLE'!N33<='SCORE TABLE'!$F33:$BC33)/COUNTIF('SCORE TABLE'!$F33:$BC33,'SCORE TABLE'!$F33:$BC33))","v":19},{"$f":"SUMPRODUCT(('SCORE TABLE'!O33<='SCORE TABLE'!$F33:$BC33)/COUNTIF('SCORE TABLE'!$F33:$BC33,'SCORE TABLE'!$F33:$BC33))","v":20},{"$f":"SUMPRODUCT(('SCORE TABLE'!P33<='SCORE TABLE'!$F33:$BC33)/COUNTIF('SCORE TABLE'!$F33:$BC33,'SCORE TABLE'!$F33:$BC33))","v":10},{"$f":"SUMPRODUCT(('SCORE TABLE'!Q33<='SCORE TABLE'!$F33:$BC33)/COUNTIF('SCORE TABLE'!$F33:$BC33,'SCORE TABLE'!$F33:$BC33))","v":{"v":13.999999999999998,"d":"14"}},{"$f":"SUMPRODUCT(('SCORE TABLE'!R33<='SCORE TABLE'!$F33:$BC33)/COUNTIF('SCORE TABLE'!$F33:$BC33,'SCORE TABLE'!$F33:$BC33))","v":{"v":0.9999999999999999,"d":"1"}},{"$f":"SUMPRODUCT(('SCORE TABLE'!S33<='SCORE TABLE'!$F33:$BC33)/COUNTIF('SCORE TABLE'!$F33:$BC33,'SCORE TABLE'!$F33:$BC33))","v":19},{"$f":"SUMPRODUCT(('SCORE TABLE'!T33<='SCORE TABLE'!$F33:$BC33)/COUNTIF('SCORE TABLE'!$F33:$BC33,'SCORE TABLE'!$F33:$BC33))","v":8},{"$f":"SUMPRODUCT(('SCORE TABLE'!U33<='SCORE TABLE'!$F33:$BC33)/COUNTIF('SCORE TABLE'!$F33:$BC33,'SCORE TABLE'!$F33:$BC33))","v":{"v":20.999999999999996,"d":"21"}},{"$f":"SUMPRODUCT(('SCORE TABLE'!V33<='SCORE TABLE'!$F33:$BC33)/COUNTIF('SCORE TABLE'!$F33:$BC33,'SCORE TABLE'!$F33:$BC33))","v":{"v":24.000000000000004,"d":"24"}},{"$f":"SUMPRODUCT(('SCORE TABLE'!W33<='SCORE TABLE'!$F33:$BC33)/COUNTIF('SCORE TABLE'!$F33:$BC33,'SCORE TABLE'!$F33:$BC33))","v":10},{"$f":"SUMPRODUCT(('SCORE TABLE'!X33<='SCORE TABLE'!$F33:$BC33)/COUNTIF('SCORE TABLE'!$F33:$BC33,'SCORE TABLE'!$F33:$BC33))","v":5},{"$f":"SUMPRODUCT(('SCORE TABLE'!Y33<='SCORE TABLE'!$F33:$BC33)/COUNTIF('SCORE TABLE'!$F33:$BC33,'SCORE TABLE'!$F33:$BC33))","v":8},{"$f":"SUMPRODUCT(('SCORE TABLE'!Z33<='SCORE TABLE'!$F33:$BC33)/COUNTIF('SCORE TABLE'!$F33:$BC33,'SCORE TABLE'!$F33:$BC33))","v":{"v":0.9999999999999999,"d":"1"}},{"$f":"SUMPRODUCT(('SCORE TABLE'!AA33<='SCORE TABLE'!$F33:$BC33)/COUNTIF('SCORE TABLE'!$F33:$BC33,'SCORE TABLE'!$F33:$BC33))","v":8},{"$f":"SUMPRODUCT(('SCORE TABLE'!AB33<='SCORE TABLE'!$F33:$BC33)/COUNTIF('SCORE TABLE'!$F33:$BC33,'SCORE TABLE'!$F33:$BC33))","v":17},{"$f":"SUMPRODUCT(('SCORE TABLE'!AC33<='SCORE TABLE'!$F33:$BC33)/COUNTIF('SCORE TABLE'!$F33:$BC33,'SCORE TABLE'!$F33:$BC33))","v":25},{"$f":"SUMPRODUCT(('SCORE TABLE'!AD33<='SCORE TABLE'!$F33:$BC33)/COUNTIF('SCORE TABLE'!$F33:$BC33,'SCORE TABLE'!$F33:$BC33))","v":9},{"$f":"SUMPRODUCT(('SCORE TABLE'!AE33<='SCORE TABLE'!$F33:$BC33)/COUNTIF('SCORE TABLE'!$F33:$BC33,'SCORE TABLE'!$F33:$BC33))","v":{"v":13.999999999999998,"d":"14"}},{"$f":"SUMPRODUCT(('SCORE TABLE'!AF33<='SCORE TABLE'!$F33:$BC33)/COUNTIF('SCORE TABLE'!$F33:$BC33,'SCORE TABLE'!$F33:$BC33))","v":{"v":14.999999999999998,"d":"15"}},{"$f":"SUMPRODUCT(('SCORE TABLE'!AG33<='SCORE TABLE'!$F33:$BC33)/COUNTIF('SCORE TABLE'!$F33:$BC33,'SCORE TABLE'!$F33:$BC33))","v":9},{"$f":"SUMPRODUCT(('SCORE TABLE'!AH33<='SCORE TABLE'!$F33:$BC33)/COUNTIF('SCORE TABLE'!$F33:$BC33,'SCORE TABLE'!$F33:$BC33))","v":{"v":13.999999999999998,"d":"14"}},{"$f":"SUMPRODUCT(('SCORE TABLE'!AI33<='SCORE TABLE'!$F33:$BC33)/COUNTIF('SCORE TABLE'!$F33:$BC33,'SCORE TABLE'!$F33:$BC33))","v":20},{"$f":"SUMPRODUCT(('SCORE TABLE'!AJ33<='SCORE TABLE'!$F33:$BC33)/COUNTIF('SCORE TABLE'!$F33:$BC33,'SCORE TABLE'!$F33:$BC33))","v":{"v":0.9999999999999999,"d":"1"}},{"$f":"SUMPRODUCT(('SCORE TABLE'!AK33<='SCORE TABLE'!$F33:$BC33)/COUNTIF('SCORE TABLE'!$F33:$BC33,'SCORE TABLE'!$F33:$BC33))","v":11},{"$f":"SUMPRODUCT(('SCORE TABLE'!AL33<='SCORE TABLE'!$F33:$BC33)/COUNTIF('SCORE TABLE'!$F33:$BC33,'SCORE TABLE'!$F33:$BC33))","v":18},{"$f":"SUMPRODUCT(('SCORE TABLE'!AM33<='SCORE TABLE'!$F33:$BC33)/COUNTIF('SCORE TABLE'!$F33:$BC33,'SCORE TABLE'!$F33:$BC33))","v":{"v":23.000000000000004,"d":"23"}},{"$f":"SUMPRODUCT(('SCORE TABLE'!AN33<='SCORE TABLE'!$F33:$BC33)/COUNTIF('SCORE TABLE'!$F33:$BC33,'SCORE TABLE'!$F33:$BC33))","v":{"v":11.999999999999998,"d":"12"}},{"$f":"SUMPRODUCT(('SCORE TABLE'!AO33<='SCORE TABLE'!$F33:$BC33)/COUNTIF('SCORE TABLE'!$F33:$BC33,'SCORE TABLE'!$F33:$BC33))","v":9},{"$f":"SUMPRODUCT(('SCORE TABLE'!AP33<='SCORE TABLE'!$F33:$BC33)/COUNTIF('SCORE TABLE'!$F33:$BC33,'SCORE TABLE'!$F33:$BC33))","v":{"v":0.9999999999999999,"d":"1"}},{"$f":"SUMPRODUCT(('SCORE TABLE'!AQ33<='SCORE TABLE'!$F33:$BC33)/COUNTIF('SCORE TABLE'!$F33:$BC33,'SCORE TABLE'!$F33:$BC33))","v":{"v":0.9999999999999999,"d":"1"}},{"$f":"SUMPRODUCT(('SCORE TABLE'!AR33<='SCORE TABLE'!$F33:$BC33)/COUNTIF('SCORE TABLE'!$F33:$BC33,'SCORE TABLE'!$F33:$BC33))","v":{"v":0.9999999999999999,"d":"1"}},{"$f":"SUMPRODUCT(('SCORE TABLE'!AS33<='SCORE TABLE'!$F33:$BC33)/COUNTIF('SCORE TABLE'!$F33:$BC33,'SCORE TABLE'!$F33:$BC33))","v":{"v":21.999999999999996,"d":"22"}},{"$f":"SUMPRODUCT(('SCORE TABLE'!AT33<='SCORE TABLE'!$F33:$BC33)/COUNTIF('SCORE TABLE'!$F33:$BC33,'SCORE TABLE'!$F33:$BC33))","v":{"v":12.999999999999998,"d":"13"}},{"$f":"SUMPRODUCT(('SCORE TABLE'!AU33<='SCORE TABLE'!$F33:$BC33)/COUNTIF('SCORE TABLE'!$F33:$BC33,'SCORE TABLE'!$F33:$BC33))","v":9},{"$f":"SUMPRODUCT(('SCORE TABLE'!AV33<='SCORE TABLE'!$F33:$BC33)/COUNTIF('SCORE TABLE'!$F33:$BC33,'SCORE TABLE'!$F33:$BC33))","v":{"v":21.999999999999996,"d":"22"}},{"$f":"SUMPRODUCT(('SCORE TABLE'!AW33<='SCORE TABLE'!$F33:$BC33)/COUNTIF('SCORE TABLE'!$F33:$BC33,'SCORE TABLE'!$F33:$BC33))","v":18},{"$f":"SUMPRODUCT(('SCORE TABLE'!AX33<='SCORE TABLE'!$F33:$BC33)/COUNTIF('SCORE TABLE'!$F33:$BC33,'SCORE TABLE'!$F33:$BC33))","v":2},{"$f":"SUMPRODUCT(('SCORE TABLE'!AY33<='SCORE TABLE'!$F33:$BC33)/COUNTIF('SCORE TABLE'!$F33:$BC33,'SCORE TABLE'!$F33:$BC33))","v":{"v":15.999999999999998,"d":"16"}},{"$f":"SUMPRODUCT(('SCORE TABLE'!AZ33<='SCORE TABLE'!$F33:$BC33)/COUNTIF('SCORE TABLE'!$F33:$BC33,'SCORE TABLE'!$F33:$BC33))","v":3},{"$f":"SUMPRODUCT(('SCORE TABLE'!BA33<='SCORE TABLE'!$F33:$BC33)/COUNTIF('SCORE TABLE'!$F33:$BC33,'SCORE TABLE'!$F33:$BC33))","v":3},{"$f":"SUMPRODUCT(('SCORE TABLE'!BB33<='SCORE TABLE'!$F33:$BC33)/COUNTIF('SCORE TABLE'!$F33:$BC33,'SCORE TABLE'!$F33:$BC33))","v":4},{"$f":"SUMPRODUCT(('SCORE TABLE'!BC33<='SCORE TABLE'!$F33:$BC33)/COUNTIF('SCORE TABLE'!$F33:$BC33,'SCORE TABLE'!$F33:$BC33))","v":26}]
[null,1023,2.2,"Nutrition regulation",null,null,{"$f":"SUMPRODUCT(('SCORE TABLE'!F34<='SCORE TABLE'!$F34:$BC34)/COUNTIF('SCORE TABLE'!$F34:$BC34,'SCORE TABLE'!$F34:$BC34))","v":3.0000000000000013},{"$f":"SUMPRODUCT(('SCORE TABLE'!G34<='SCORE TABLE'!$F34:$BC34)/COUNTIF('SCORE TABLE'!$F34:$BC34,'SCORE TABLE'!$F34:$BC34))","v":3.0000000000000013},{"$f":"SUMPRODUCT(('SCORE TABLE'!H34<='SCORE TABLE'!$F34:$BC34)/COUNTIF('SCORE TABLE'!$F34:$BC34,'SCORE TABLE'!$F34:$BC34))","v":3.0000000000000013},{"$f":"SUMPRODUCT(('SCORE TABLE'!I34<='SCORE TABLE'!$F34:$BC34)/COUNTIF('SCORE TABLE'!$F34:$BC34,'SCORE TABLE'!$F34:$BC34))","v":1},{"$f":"SUMPRODUCT(('SCORE TABLE'!J34<='SCORE TABLE'!$F34:$BC34)/COUNTIF('SCORE TABLE'!$F34:$BC34,'SCORE TABLE'!$F34:$BC34))","v":3.0000000000000013},{"$f":"SUMPRODUCT(('SCORE TABLE'!K34<='SCORE TABLE'!$F34:$BC34)/COUNTIF('SCORE TABLE'!$F34:$BC34,'SCORE TABLE'!$F34:$BC34))","v":1},{"$f":"SUMPRODUCT(('SCORE TABLE'!L34<='SCORE TABLE'!$F34:$BC34)/COUNTIF('SCORE TABLE'!$F34:$BC34,'SCORE TABLE'!$F34:$BC34))","v":1},{"$f":"SUMPRODUCT(('SCORE TABLE'!M34<='SCORE TABLE'!$F34:$BC34)/COUNTIF('SCORE TABLE'!$F34:$BC34,'SCORE TABLE'!$F34:$BC34))","v":3.0000000000000013},{"$f":"SUMPRODUCT(('SCORE TABLE'!N34<='SCORE TABLE'!$F34:$BC34)/COUNTIF('SCORE TABLE'!$F34:$BC34,'SCORE TABLE'!$F34:$BC34))","v":1},{"$f":"SUMPRODUCT(('SCORE TABLE'!O34<='SCORE TABLE'!$F34:$BC34)/COUNTIF('SCORE TABLE'!$F34:$BC34,'SCORE TABLE'!$F34:$BC34))","v":3.0000000000000013},{"$f":"SUMPRODUCT(('SCORE TABLE'!P34<='SCORE TABLE'!$F34:$BC34)/COUNTIF('SCORE TABLE'!$F34:$BC34,'SCORE TABLE'!$F34:$BC34))","v":3.0000000000000013},{"$f":"SUMPRODUCT(('SCORE TABLE'!Q34<='SCORE TABLE'!$F34:$BC34)/COUNTIF('SCORE TABLE'!$F34:$BC34,'SCORE TABLE'!$F34:$BC34))","v":3.0000000000000013},{"$f":"SUMPRODUCT(('SCORE TABLE'!R34<='SCORE TABLE'!$F34:$BC34)/COUNTIF('SCORE TABLE'!$F34:$BC34,'SCORE TABLE'!$F34:$BC34))","v":1},{"$f":"SUMPRODUCT(('SCORE TABLE'!S34<='SCORE TABLE'!$F34:$BC34)/COUNTIF('SCORE TABLE'!$F34:$BC34,'SCORE TABLE'!$F34:$BC34))","v":1},{"$f":"SUMPRODUCT(('SCORE TABLE'!T34<='SCORE TABLE'!$F34:$BC34)/COUNTIF('SCORE TABLE'!$F34:$BC34,'SCORE TABLE'!$F34:$BC34))","v":1},{"$f":"SUMPRODUCT(('SCORE TABLE'!U34<='SCORE TABLE'!$F34:$BC34)/COUNTIF('SCORE TABLE'!$F34:$BC34,'SCORE TABLE'!$F34:$BC34))","v":3.0000000000000013},{"$f":"SUMPRODUCT(('SCORE TABLE'!V34<='SCORE TABLE'!$F34:$BC34)/COUNTIF('SCORE TABLE'!$F34:$BC34,'SCORE TABLE'!$F34:$BC34))","v":1},{"$f":"SUMPRODUCT(('SCORE TABLE'!W34<='SCORE TABLE'!$F34:$BC34)/COUNTIF('SCORE TABLE'!$F34:$BC34,'SCORE TABLE'!$F34:$BC34))","v":3.0000000000000013},{"$f":"SUMPRODUCT(('SCORE TABLE'!X34<='SCORE TABLE'!$F34:$BC34)/COUNTIF('SCORE TABLE'!$F34:$BC34,'SCORE TABLE'!$F34:$BC34))","v":1},{"$f":"SUMPRODUCT(('SCORE TABLE'!Y34<='SCORE TABLE'!$F34:$BC34)/COUNTIF('SCORE TABLE'!$F34:$BC34,'SCORE TABLE'!$F34:$BC34))","v":1},{"$f":"SUMPRODUCT(('SCORE TABLE'!Z34<='SCORE TABLE'!$F34:$BC34)/COUNTIF('SCORE TABLE'!$F34:$BC34,'SCORE TABLE'!$F34:$BC34))","v":3.0000000000000013},{"$f":"SUMPRODUCT(('SCORE TABLE'!AA34<='SCORE TABLE'!$F34:$BC34)/COUNTIF('SCORE TABLE'!$F34:$BC34,'SCORE TABLE'!$F34:$BC34))","v":3.0000000000000013},{"$f":"SUMPRODUCT(('SCORE TABLE'!AB34<='SCORE TABLE'!$F34:$BC34)/COUNTIF('SCORE TABLE'!$F34:$BC34,'SCORE TABLE'!$F34:$BC34))","v":1},{"$f":"SUMPRODUCT(('SCORE TABLE'!AC34<='SCORE TABLE'!$F34:$BC34)/COUNTIF('SCORE TABLE'!$F34:$BC34,'SCORE TABLE'!$F34:$BC34))","v":3.0000000000000013},{"$f":"SUMPRODUCT(('SCORE TABLE'!AD34<='SCORE TABLE'!$F34:$BC34)/COUNTIF('SCORE TABLE'!$F34:$BC34,'SCORE TABLE'!$F34:$BC34))","v":3.0000000000000013},{"$f":"SUMPRODUCT(('SCORE TABLE'!AE34<='SCORE TABLE'!$F34:$BC34)/COUNTIF('SCORE TABLE'!$F34:$BC34,'SCORE TABLE'!$F34:$BC34))","v":3.0000000000000013},{"$f":"SUMPRODUCT(('SCORE TABLE'!AF34<='SCORE TABLE'!$F34:$BC34)/COUNTIF('SCORE TABLE'!$F34:$BC34,'SCORE TABLE'!$F34:$BC34))","v":3.0000000000000013},{"$f":"SUMPRODUCT(('SCORE TABLE'!AG34<='SCORE TABLE'!$F34:$BC34)/COUNTIF('SCORE TABLE'!$F34:$BC34,'SCORE TABLE'!$F34:$BC34))","v":3.0000000000000013},{"$f":"SUMPRODUCT(('SCORE TABLE'!AH34<='SCORE TABLE'!$F34:$BC34)/COUNTIF('SCORE TABLE'!$F34:$BC34,'SCORE TABLE'!$F34:$BC34))","v":3.0000000000000013},{"$f":"SUMPRODUCT(('SCORE TABLE'!AI34<='SCORE TABLE'!$F34:$BC34)/COUNTIF('SCORE TABLE'!$F34:$BC34,'SCORE TABLE'!$F34:$BC34))","v":3.0000000000000013},{"$f":"SUMPRODUCT(('SCORE TABLE'!AJ34<='SCORE TABLE'!$F34:$BC34)/COUNTIF('SCORE TABLE'!$F34:$BC34,'SCORE TABLE'!$F34:$BC34))","v":3.0000000000000013},{"$f":"SUMPRODUCT(('SCORE TABLE'!AK34<='SCORE TABLE'!$F34:$BC34)/COUNTIF('SCORE TABLE'!$F34:$BC34,'SCORE TABLE'!$F34:$BC34))","v":1},{"$f":"SUMPRODUCT(('SCORE TABLE'!AL34<='SCORE TABLE'!$F34:$BC34)/COUNTIF('SCORE TABLE'!$F34:$BC34,'SCORE TABLE'!$F34:$BC34))","v":1},{"$f":"SUMPRODUCT(('SCORE TABLE'!AM34<='SCORE TABLE'!$F34:$BC34)/COUNTIF('SCORE TABLE'!$F34:$BC34,'SCORE TABLE'!$F34:$BC34))","v":1},{"$f":"SUMPRODUCT(('SCORE TABLE'!AN34<='SCORE TABLE'!$F34:$BC34)/COUNTIF('SCORE TABLE'!$F34:$BC34,'SCORE TABLE'!$F34:$BC34))","v":2},{"$f":"SUMPRODUCT(('SCORE TABLE'!AO34<='SCORE TABLE'!$F34:$BC34)/COUNTIF('SCORE TABLE'!$F34:$BC34,'SCORE TABLE'!$F34:$BC34))","v":3.0000000000000013},{"$f":"SUMPRODUCT(('SCORE TABLE'!AP34<='SCORE TABLE'!$F34:$BC34)/COUNTIF('SCORE TABLE'!$F34:$BC34,'SCORE TABLE'!$F34:$BC34))","v":3.0000000000000013},{"$f":"SUMPRODUCT(('SCORE TABLE'!AQ34<='SCORE TABLE'!$F34:$BC34)/COUNTIF('SCORE TABLE'!$F34:$BC34,'SCORE TABLE'!$F34:$BC34))","v":3.0000000000000013},{"$f":"SUMPRODUCT(('SCORE TABLE'!AR34<='SCORE TABLE'!$F34:$BC34)/COUNTIF('SCORE TABLE'!$F34:$BC34,'SCORE TABLE'!$F34:$BC34))","v":1},{"$f":"SUMPRODUCT(('SCORE TABLE'!AS34<='SCORE TABLE'!$F34:$BC34)/COUNTIF('SCORE TABLE'!$F34:$BC34,'SCORE TABLE'!$F34:$BC34))","v":3.0000000000000013},{"$f":"SUMPRODUCT(('SCORE TABLE'!AT34<='SCORE TABLE'!$F34:$BC34)/COUNTIF('SCORE TABLE'!$F34:$BC34,'SCORE TABLE'!$F34:$BC34))","v":3.0000000000000013},{"$f":"SUMPRODUCT(('SCORE TABLE'!AU34<='SCORE TABLE'!$F34:$BC34)/COUNTIF('SCORE TABLE'!$F34:$BC34,'SCORE TABLE'!$F34:$BC34))","v":2},{"$f":"SUMPRODUCT(('SCORE TABLE'!AV34<='SCORE TABLE'!$F34:$BC34)/COUNTIF('SCORE TABLE'!$F34:$BC34,'SCORE TABLE'!$F34:$BC34))","v":1},{"$f":"SUMPRODUCT(('SCORE TABLE'!AW34<='SCORE TABLE'!$F34:$BC34)/COUNTIF('SCORE TABLE'!$F34:$BC34,'SCORE TABLE'!$F34:$BC34))","v":3.0000000000000013},{"$f":"SUMPRODUCT(('SCORE TABLE'!AX34<='SCORE TABLE'!$F34:$BC34)/COUNTIF('SCORE TABLE'!$F34:$BC34,'SCORE TABLE'!$F34:$BC34))","v":2},{"$f":"SUMPRODUCT(('SCORE TABLE'!AY34<='SCORE TABLE'!$F34:$BC34)/COUNTIF('SCORE TABLE'!$F34:$BC34,'SCORE TABLE'!$F34:$BC34))","v":2},{"$f":"SUMPRODUCT(('SCORE TABLE'!AZ34<='SCORE TABLE'!$F34:$BC34)/COUNTIF('SCORE TABLE'!$F34:$BC34,'SCORE TABLE'!$F34:$BC34))","v":2},{"$f":"SUMPRODUCT(('SCORE TABLE'!BA34<='SCORE TABLE'!$F34:$BC34)/COUNTIF('SCORE TABLE'!$F34:$BC34,'SCORE TABLE'!$F34:$BC34))","v":3.0000000000000013},{"$f":"SUMPRODUCT(('SCORE TABLE'!BB34<='SCORE TABLE'!$F34:$BC34)/COUNTIF('SCORE TABLE'!$F34:$BC34,'SCORE TABLE'!$F34:$BC34))","v":1},{"$f":"SUMPRODUCT(('SCORE TABLE'!BC34<='SCORE TABLE'!$F34:$BC34)/COUNTIF('SCORE TABLE'!$F34:$BC34,'SCORE TABLE'!$F34:$BC34))","v":3.0000000000000013}]
[null,1024,"2.2.1","Taxes on unhealthy food and beverages",null,null,{"$f":"SUMPRODUCT(('SCORE TABLE'!F35<='SCORE TABLE'!$F35:$BC35)/COUNTIF('SCORE TABLE'!$F35:$BC35,'SCORE TABLE'!$F35:$BC35))","v":{"v":3.0000000000000013,"d":"3"}},{"$f":"SUMPRODUCT(('SCORE TABLE'!G35<='SCORE TABLE'!$F35:$BC35)/COUNTIF('SCORE TABLE'!$F35:$BC35,'SCORE TABLE'!$F35:$BC35))","v":{"v":3.0000000000000013,"d":"3"}},{"$f":"SUMPRODUCT(('SCORE TABLE'!H35<='SCORE TABLE'!$F35:$BC35)/COUNTIF('SCORE TABLE'!$F35:$BC35,'SCORE TABLE'!$F35:$BC35))","v":{"v":3.0000000000000013,"d":"3"}},{"$f":"SUMPRODUCT(('SCORE TABLE'!I35<='SCORE TABLE'!$F35:$BC35)/COUNTIF('SCORE TABLE'!$F35:$BC35,'SCORE TABLE'!$F35:$BC35))","v":1},{"$f":"SUMPRODUCT(('SCORE TABLE'!J35<='SCORE TABLE'!$F35:$BC35)/COUNTIF('SCORE TABLE'!$F35:$BC35,'SCORE TABLE'!$F35:$BC35))","v":{"v":3.0000000000000013,"d":"3"}},{"$f":"SUMPRODUCT(('SCORE TABLE'!K35<='SCORE TABLE'!$F35:$BC35)/COUNTIF('SCORE TABLE'!$F35:$BC35,'SCORE TABLE'!$F35:$BC35))","v":1},{"$f":"SUMPRODUCT(('SCORE TABLE'!L35<='SCORE TABLE'!$F35:$BC35)/COUNTIF('SCORE TABLE'!$F35:$BC35,'SCORE TABLE'!$F35:$BC35))","v":1},{"$f":"SUMPRODUCT(('SCORE TABLE'!M35<='SCORE TABLE'!$F35:$BC35)/COUNTIF('SCORE TABLE'!$F35:$BC35,'SCORE TABLE'!$F35:$BC35))","v":{"v":3.0000000000000013,"d":"3"}},{"$f":"SUMPRODUCT(('SCORE TABLE'!N35<='SCORE TABLE'!$F35:$BC35)/COUNTIF('SCORE TABLE'!$F35:$BC35,'SCORE TABLE'!$F35:$BC35))","v":1},{"$f":"SUMPRODUCT(('SCORE TABLE'!O35<='SCORE TABLE'!$F35:$BC35)/COUNTIF('SCORE TABLE'!$F35:$BC35,'SCORE TABLE'!$F35:$BC35))","v":{"v":3.0000000000000013,"d":"3"}},{"$f":"SUMPRODUCT(('SCORE TABLE'!P35<='SCORE TABLE'!$F35:$BC35)/COUNTIF('SCORE TABLE'!$F35:$BC35,'SCORE TABLE'!$F35:$BC35))","v":{"v":3.0000000000000013,"d":"3"}},{"$f":"SUMPRODUCT(('SCORE TABLE'!Q35<='SCORE TABLE'!$F35:$BC35)/COUNTIF('SCORE TABLE'!$F35:$BC35,'SCORE TABLE'!$F35:$BC35))","v":{"v":3.0000000000000013,"d":"3"}},{"$f":"SUMPRODUCT(('SCORE TABLE'!R35<='SCORE TABLE'!$F35:$BC35)/COUNTIF('SCORE TABLE'!$F35:$BC35,'SCORE TABLE'!$F35:$BC35))","v":1},{"$f":"SUMPRODUCT(('SCORE TABLE'!S35<='SCORE TABLE'!$F35:$BC35)/COUNTIF('SCORE TABLE'!$F35:$BC35,'SCORE TABLE'!$F35:$BC35))","v":1},{"$f":"SUMPRODUCT(('SCORE TABLE'!T35<='SCORE TABLE'!$F35:$BC35)/COUNTIF('SCORE TABLE'!$F35:$BC35,'SCORE TABLE'!$F35:$BC35))","v":1},{"$f":"SUMPRODUCT(('SCORE TABLE'!U35<='SCORE TABLE'!$F35:$BC35)/COUNTIF('SCORE TABLE'!$F35:$BC35,'SCORE TABLE'!$F35:$BC35))","v":{"v":3.0000000000000013,"d":"3"}},{"$f":"SUMPRODUCT(('SCORE TABLE'!V35<='SCORE TABLE'!$F35:$BC35)/COUNTIF('SCORE TABLE'!$F35:$BC35,'SCORE TABLE'!$F35:$BC35))","v":1},{"$f":"SUMPRODUCT(('SCORE TABLE'!W35<='SCORE TABLE'!$F35:$BC35)/COUNTIF('SCORE TABLE'!$F35:$BC35,'SCORE TABLE'!$F35:$BC35))","v":{"v":3.0000000000000013,"d":"3"}},{"$f":"SUMPRODUCT(('SCORE TABLE'!X35<='SCORE TABLE'!$F35:$BC35)/COUNTIF('SCORE TABLE'!$F35:$BC35,'SCORE TABLE'!$F35:$BC35))","v":1},{"$f":"SUMPRODUCT(('SCORE TABLE'!Y35<='SCORE TABLE'!$F35:$BC35)/COUNTIF('SCORE TABLE'!$F35:$BC35,'SCORE TABLE'!$F35:$BC35))","v":1},{"$f":"SUMPRODUCT(('SCORE TABLE'!Z35<='SCORE TABLE'!$F35:$BC35)/COUNTIF('SCORE TABLE'!$F35:$BC35,'SCORE TABLE'!$F35:$BC35))","v":{"v":3.0000000000000013,"d":"3"}},{"$f":"SUMPRODUCT(('SCORE TABLE'!AA35<='SCORE TABLE'!$F35:$BC35)/COUNTIF('SCORE TABLE'!$F35:$BC35,'SCORE TABLE'!$F35:$BC35))","v":{"v":3.0000000000000013,"d":"3"}},{"$f":"SUMPRODUCT(('SCORE TABLE'!AB35<='SCORE TABLE'!$F35:$BC35)/COUNTIF('SCORE TABLE'!$F35:$BC35,'SCORE TABLE'!$F35:$BC35))","v":1},{"$f":"SUMPRODUCT(('SCORE TABLE'!AC35<='SCORE TABLE'!$F35:$BC35)/COUNTIF('SCORE TABLE'!$F35:$BC35,'SCORE TABLE'!$F35:$BC35))","v":{"v":3.0000000000000013,"d":"3"}},{"$f":"SUMPRODUCT(('SCORE TABLE'!AD35<='SCORE TABLE'!$F35:$BC35)/COUNTIF('SCORE TABLE'!$F35:$BC35,'SCORE TABLE'!$F35:$BC35))","v":{"v":3.0000000000000013,"d":"3"}},{"$f":"SUMPRODUCT(('SCORE TABLE'!AE35<='SCORE TABLE'!$F35:$BC35)/COUNTIF('SCORE TABLE'!$F35:$BC35,'SCORE TABLE'!$F35:$BC35))","v":{"v":3.0000000000000013,"d":"3"}},{"$f":"SUMPRODUCT(('SCORE TABLE'!AF35<='SCORE TABLE'!$F35:$BC35)/COUNTIF('SCORE TABLE'!$F35:$BC35,'SCORE TABLE'!$F35:$BC35))","v":{"v":3.0000000000000013,"d":"3"}},{"$f":"SUMPRODUCT(('SCORE TABLE'!AG35<='SCORE TABLE'!$F35:$BC35)/COUNTIF('SCORE TABLE'!$F35:$BC35,'SCORE TABLE'!$F35:$BC35))","v":{"v":3.0000000000000013,"d":"3"}},{"$f":"SUMPRODUCT(('SCORE TABLE'!AH35<='SCORE TABLE'!$F35:$BC35)/COUNTIF('SCORE TABLE'!$F35:$BC35,'SCORE TABLE'!$F35:$BC35))","v":{"v":3.0000000000000013,"d":"3"}},{"$f":"SUMPRODUCT(('SCORE TABLE'!AI35<='SCORE TABLE'!$F35:$BC35)/COUNTIF('SCORE TABLE'!$F35:$BC35,'SCORE TABLE'!$F35:$BC35))","v":{"v":3.0000000000000013,"d":"3"}},{"$f":"SUMPRODUCT(('SCORE TABLE'!AJ35<='SCORE TABLE'!$F35:$BC35)/COUNTIF('SCORE TABLE'!$F35:$BC35,'SCORE TABLE'!$F35:$BC35))","v":{"v":3.0000000000000013,"d":"3"}},{"$f":"SUMPRODUCT(('SCORE TABLE'!AK35<='SCORE TABLE'!$F35:$BC35)/COUNTIF('SCORE TABLE'!$F35:$BC35,'SCORE TABLE'!$F35:$BC35))","v":1},{"$f":"SUMPRODUCT(('SCORE TABLE'!AL35<='SCORE TABLE'!$F35:$BC35)/COUNTIF('SCORE TABLE'!$F35:$BC35,'SCORE TABLE'!$F35:$BC35))","v":1},{"$f":"SUMPRODUCT(('SCORE TABLE'!AM35<='SCORE TABLE'!$F35:$BC35)/COUNTIF('SCORE TABLE'!$F35:$BC35,'SCORE TABLE'!$F35:$BC35))","v":1},{"$f":"SUMPRODUCT(('SCORE TABLE'!AN35<='SCORE TABLE'!$F35:$BC35)/COUNTIF('SCORE TABLE'!$F35:$BC35,'SCORE TABLE'!$F35:$BC35))","v":2},{"$f":"SUMPRODUCT(('SCORE TABLE'!AO35<='SCORE TABLE'!$F35:$BC35)/COUNTIF('SCORE TABLE'!$F35:$BC35,'SCORE TABLE'!$F35:$BC35))","v":{"v":3.0000000000000013,"d":"3"}},{"$f":"SUMPRODUCT(('SCORE TABLE'!AP35<='SCORE TABLE'!$F35:$BC35)/COUNTIF('SCORE TABLE'!$F35:$BC35,'SCORE TABLE'!$F35:$BC35))","v":{"v":3.0000000000000013,"d":"3"}},{"$f":"SUMPRODUCT(('SCORE TABLE'!AQ35<='SCORE TABLE'!$F35:$BC35)/COUNTIF('SCORE TABLE'!$F35:$BC35,'SCORE TABLE'!$F35:$BC35))","v":{"v":3.0000000000000013,"d":"3"}},{"$f":"SUMPRODUCT(('SCORE TABLE'!AR35<='SCORE TABLE'!$F35:$BC35)/COUNTIF('SCORE TABLE'!$F35:$BC35,'SCORE TABLE'!$F35:$BC35))","v":1},{"$f":"SUMPRODUCT(('SCORE TABLE'!AS35<='SCORE TABLE'!$F35:$BC35)/COUNTIF('SCORE TABLE'!$F35:$BC35,'SCORE TABLE'!$F35:$BC35))","v":{"v":3.0000000000000013,"d":"3"}},{"$f":"SUMPRODUCT(('SCORE TABLE'!AT35<='SCORE TABLE'!$F35:$BC35)/COUNTIF('SCORE TABLE'!$F35:$BC35,'SCORE TABLE'!$F35:$BC35))","v":{"v":3.0000000000000013,"d":"3"}},{"$f":"SUMPRODUCT(('SCORE TABLE'!AU35<='SCORE TABLE'!$F35:$BC35)/COUNTIF('SCORE TABLE'!$F35:$BC35,'SCORE TABLE'!$F35:$BC35))","v":2},{"$f":"SUMPRODUCT(('SCORE TABLE'!AV35<='SCORE TABLE'!$F35:$BC35)/COUNTIF('SCORE TABLE'!$F35:$BC35,'SCORE TABLE'!$F35:$BC35))","v":1},{"$f":"SUMPRODUCT(('SCORE TABLE'!AW35<='SCORE TABLE'!$F35:$BC35)/COUNTIF('SCORE TABLE'!$F35:$BC35,'SCORE TABLE'!$F35:$BC35))","v":{"v":3.0000000000000013,"d":"3"}},{"$f":"SUMPRODUCT(('SCORE TABLE'!AX35<='SCORE TABLE'!$F35:$BC35)/COUNTIF('SCORE TABLE'!$F35:$BC35,'SCORE TABLE'!$F35:$BC35))","v":2},{"$f":"SUMPRODUCT(('SCORE TABLE'!AY35<='SCORE TABLE'!$F35:$BC35)/COUNTIF('SCORE TABLE'!$F35:$BC35,'SCORE TABLE'!$F35:$BC35))","v":2},{"$f":"SUMPRODUCT(('SCORE TABLE'!AZ35<='SCORE TABLE'!$F35:$BC35)/COUNTIF('SCORE TABLE'!$F35:$BC35,'SCORE TABLE'!$F35:$BC35))","v":2},{"$f":"SUMPRODUCT(('SCORE TABLE'!BA35<='SCORE TABLE'!$F35:$BC35)/COUNTIF('SCORE TABLE'!$F35:$BC35,'SCORE TABLE'!$F35:$BC35))","v":{"v":3.0000000000000013,"d":"3"}},{"$f":"SUMPRODUCT(('SCORE TABLE'!BB35<='SCORE TABLE'!$F35:$BC35)/COUNTIF('SCORE TABLE'!$F35:$BC35,'SCORE TABLE'!$F35:$BC35))","v":1},{"$f":"SUMPRODUCT(('SCORE TABLE'!BC35<='SCORE TABLE'!$F35:$BC35)/COUNTIF('SCORE TABLE'!$F35:$BC35,'SCORE TABLE'!$F35:$BC35))","v":{"v":3.0000000000000013,"d":"3"}}]
[null,1025,2.3,"Nutrition in schools",null,null,{"$f":"SUMPRODUCT(('SCORE TABLE'!F36<='SCORE TABLE'!$F36:$BC36)/COUNTIF('SCORE TABLE'!$F36:$BC36,'SCORE TABLE'!$F36:$BC36))","v":{"v":2.9999999999999982,"d":"3"}},{"$f":"SUMPRODUCT(('SCORE TABLE'!G36<='SCORE TABLE'!$F36:$BC36)/COUNTIF('SCORE TABLE'!$F36:$BC36,'SCORE TABLE'!$F36:$BC36))","v":{"v":2.9999999999999982,"d":"3"}},{"$f":"SUMPRODUCT(('SCORE TABLE'!H36<='SCORE TABLE'!$F36:$BC36)/COUNTIF('SCORE TABLE'!$F36:$BC36,'SCORE TABLE'!$F36:$BC36))","v":{"v":2.0000000000000004,"d":"2"}},{"$f":"SUMPRODUCT(('SCORE TABLE'!I36<='SCORE TABLE'!$F36:$BC36)/COUNTIF('SCORE TABLE'!$F36:$BC36,'SCORE TABLE'!$F36:$BC36))","v":{"v":2.0000000000000004,"d":"2"}},{"$f":"SUMPRODUCT(('SCORE TABLE'!J36<='SCORE TABLE'!$F36:$BC36)/COUNTIF('SCORE TABLE'!$F36:$BC36,'SCORE TABLE'!$F36:$BC36))","v":{"v":1.0000000000000002,"d":"1"}},{"$f":"SUMPRODUCT(('SCORE TABLE'!K36<='SCORE TABLE'!$F36:$BC36)/COUNTIF('SCORE TABLE'!$F36:$BC36,'SCORE TABLE'!$F36:$BC36))","v":{"v":2.9999999999999982,"d":"3"}},{"$f":"SUMPRODUCT(('SCORE TABLE'!L36<='SCORE TABLE'!$F36:$BC36)/COUNTIF('SCORE TABLE'!$F36:$BC36,'SCORE TABLE'!$F36:$BC36))","v":{"v":4.9999999999999964,"d":"5"}},{"$f":"SUMPRODUCT(('SCORE TABLE'!M36<='SCORE TABLE'!$F36:$BC36)/COUNTIF('SCORE TABLE'!$F36:$BC36,'SCORE TABLE'!$F36:$BC36))","v":{"v":2.9999999999999982,"d":"3"}},{"$f":"SUMPRODUCT(('SCORE TABLE'!N36<='SCORE TABLE'!$F36:$BC36)/COUNTIF('SCORE TABLE'!$F36:$BC36,'SCORE TABLE'!$F36:$BC36))","v":{"v":2.9999999999999982,"d":"3"}},{"$f":"SUMPRODUCT(('SCORE TABLE'!O36<='SCORE TABLE'!$F36:$BC36)/COUNTIF('SCORE TABLE'!$F36:$BC36,'SCORE TABLE'!$F36:$BC36))","v":{"v":2.0000000000000004,"d":"2"}},{"$f":"SUMPRODUCT(('SCORE TABLE'!P36<='SCORE TABLE'!$F36:$BC36)/COUNTIF('SCORE TABLE'!$F36:$BC36,'SCORE TABLE'!$F36:$BC36))","v":{"v":2.0000000000000004,"d":"2"}},{"$f":"SUMPRODUCT(('SCORE TABLE'!Q36<='SCORE TABLE'!$F36:$BC36)/COUNTIF('SCORE TABLE'!$F36:$BC36,'SCORE TABLE'!$F36:$BC36))","v":{"v":2.9999999999999982,"d":"3"}},{"$f":"SUMPRODUCT(('SCORE TABLE'!R36<='SCORE TABLE'!$F36:$BC36)/COUNTIF('SCORE TABLE'!$F36:$BC36,'SCORE TABLE'!$F36:$BC36))","v":{"v":2.0000000000000004,"d":"2"}},{"$f":"SUMPRODUCT(('SCORE TABLE'!S36<='SCORE TABLE'!$F36:$BC36)/COUNTIF('SCORE TABLE'!$F36:$BC36,'SCORE TABLE'!$F36:$BC36))","v":{"v":2.9999999999999982,"d":"3"}},{"$f":"SUMPRODUCT(('SCORE TABLE'!T36<='SCORE TABLE'!$F36:$BC36)/COUNTIF('SCORE TABLE'!$F36:$BC36,'SCORE TABLE'!$F36:$BC36))","v":{"v":1.0000000000000002,"d":"1"}},{"$f":"SUMPRODUCT(('SCORE TABLE'!U36<='SCORE TABLE'!$F36:$BC36)/COUNTIF('SCORE TABLE'!$F36:$BC36,'SCORE TABLE'!$F36:$BC36))","v":{"v":2.9999999999999982,"d":"3"}},{"$f":"SUMPRODUCT(('SCORE TABLE'!V36<='SCORE TABLE'!$F36:$BC36)/COUNTIF('SCORE TABLE'!$F36:$BC36,'SCORE TABLE'!$F36:$BC36))","v":{"v":2.0000000000000004,"d":"2"}},{"$f":"SUMPRODUCT(('SCORE TABLE'!W36<='SCORE TABLE'!$F36:$BC36)/COUNTIF('SCORE TABLE'!$F36:$BC36,'SCORE TABLE'!$F36:$BC36))","v":{"v":2.0000000000000004,"d":"2"}},{"$f":"SUMPRODUCT(('SCORE TABLE'!X36<='SCORE TABLE'!$F36:$BC36)/COUNTIF('SCORE TABLE'!$F36:$BC36,'SCORE TABLE'!$F36:$BC36))","v":{"v":2.9999999999999982,"d":"3"}},{"$f":"SUMPRODUCT(('SCORE TABLE'!Y36<='SCORE TABLE'!$F36:$BC36)/COUNTIF('SCORE TABLE'!$F36:$BC36,'SCORE TABLE'!$F36:$BC36))","v":{"v":2.0000000000000004,"d":"2"}},{"$f":"SUMPRODUCT(('SCORE TABLE'!Z36<='SCORE TABLE'!$F36:$BC36)/COUNTIF('SCORE TABLE'!$F36:$BC36,'SCORE TABLE'!$F36:$BC36))","v":{"v":1.0000000000000002,"d":"1"}},{"$f":"SUMPRODUCT(('SCORE TABLE'!AA36<='SCORE TABLE'!$F36:$BC36)/COUNTIF('SCORE TABLE'!$F36:$BC36,'SCORE TABLE'!$F36:$BC36))","v":{"v":1.0000000000000002,"d":"1"}},{"$f":"SUMPRODUCT(('SCORE TABLE'!AB36<='SCORE TABLE'!$F36:$BC36)/COUNTIF('SCORE TABLE'!$F36:$BC36,'SCORE TABLE'!$F36:$BC36))","v":{"v":1.0000000000000002,"d":"1"}},{"$f":"SUMPRODUCT(('SCORE TABLE'!AC36<='SCORE TABLE'!$F36:$BC36)/COUNTIF('SCORE TABLE'!$F36:$BC36,'SCORE TABLE'!$F36:$BC36))","v":{"v":2.9999999999999982,"d":"3"}},{"$f":"SUMPRODUCT(('SCORE TABLE'!AD36<='SCORE TABLE'!$F36:$BC36)/COUNTIF('SCORE TABLE'!$F36:$BC36,'SCORE TABLE'!$F36:$BC36))","v":{"v":2.9999999999999982,"d":"3"}},{"$f":"SUMPRODUCT(('SCORE TABLE'!AE36<='SCORE TABLE'!$F36:$BC36)/COUNTIF('SCORE TABLE'!$F36:$BC36,'SCORE TABLE'!$F36:$BC36))","v":{"v":4.9999999999999964,"d":"5"}},{"$f":"SUMPRODUCT(('SCORE TABLE'!AF36<='SCORE TABLE'!$F36:$BC36)/COUNTIF('SCORE TABLE'!$F36:$BC36,'SCORE TABLE'!$F36:$BC36))","v":{"v":2.9999999999999982,"d":"3"}},{"$f":"SUMPRODUCT(('SCORE TABLE'!AG36<='SCORE TABLE'!$F36:$BC36)/COUNTIF('SCORE TABLE'!$F36:$BC36,'SCORE TABLE'!$F36:$BC36))","v":{"v":2.0000000000000004,"d":"2"}},{"$f":"SUMPRODUCT(('SCORE TABLE'!AH36<='SCORE TABLE'!$F36:$BC36)/COUNTIF('SCORE TABLE'!$F36:$BC36,'SCORE TABLE'!$F36:$BC36))","v":{"v":3.999999999999998,"d":"4"}},{"$f":"SUMPRODUCT(('SCORE TABLE'!AI36<='SCORE TABLE'!$F36:$BC36)/COUNTIF('SCORE TABLE'!$F36:$BC36,'SCORE TABLE'!$F36:$BC36))","v":{"v":2.0000000000000004,"d":"2"}},{"$f":"SUMPRODUCT(('SCORE TABLE'!AJ36<='SCORE TABLE'!$F36:$BC36)/COUNTIF('SCORE TABLE'!$F36:$BC36,'SCORE TABLE'!$F36:$BC36))","v":{"v":1.0000000000000002,"d":"1"}},{"$f":"SUMPRODUCT(('SCORE TABLE'!AK36<='SCORE TABLE'!$F36:$BC36)/COUNTIF('SCORE TABLE'!$F36:$BC36,'SCORE TABLE'!$F36:$BC36))","v":{"v":2.9999999999999982,"d":"3"}},{"$f":"SUMPRODUCT(('SCORE TABLE'!AL36<='SCORE TABLE'!$F36:$BC36)/COUNTIF('SCORE TABLE'!$F36:$BC36,'SCORE TABLE'!$F36:$BC36))","v":{"v":2.0000000000000004,"d":"2"}},{"$f":"SUMPRODUCT(('SCORE TABLE'!AM36<='SCORE TABLE'!$F36:$BC36)/COUNTIF('SCORE TABLE'!$F36:$BC36,'SCORE TABLE'!$F36:$BC36))","v":{"v":4.9999999999999964,"d":"5"}},{"$f":"SUMPRODUCT(('SCORE TABLE'!AN36<='SCORE TABLE'!$F36:$BC36)/COUNTIF('SCORE TABLE'!$F36:$BC36,'SCORE TABLE'!$F36:$BC36))","v":{"v":2.0000000000000004,"d":"2"}},{"$f":"SUMPRODUCT(('SCORE TABLE'!AO36<='SCORE TABLE'!$F36:$BC36)/COUNTIF('SCORE TABLE'!$F36:$BC36,'SCORE TABLE'!$F36:$BC36))","v":{"v":2.9999999999999982,"d":"3"}},{"$f":"SUMPRODUCT(('SCORE TABLE'!AP36<='SCORE TABLE'!$F36:$BC36)/COUNTIF('SCORE TABLE'!$F36:$BC36,'SCORE TABLE'!$F36:$BC36))","v":{"v":2.0000000000000004,"d":"2"}},{"$f":"SUMPRODUCT(('SCORE TABLE'!AQ36<='SCORE TABLE'!$F36:$BC36)/COUNTIF('SCORE TABLE'!$F36:$BC36,'SCORE TABLE'!$F36:$BC36))","v":{"v":1.0000000000000002,"d":"1"}},{"$f":"SUMPRODUCT(('SCORE TABLE'!AR36<='SCORE TABLE'!$F36:$BC36)/COUNTIF('SCORE TABLE'!$F36:$BC36,'SCORE TABLE'!$F36:$BC36))","v":{"v":3.999999999999998,"d":"4"}},{"$f":"SUMPRODUCT(('SCORE TABLE'!AS36<='SCORE TABLE'!$F36:$BC36)/COUNTIF('SCORE TABLE'!$F36:$BC36,'SCORE TABLE'!$F36:$BC36))","v":{"v":2.0000000000000004,"d":"2"}},{"$f":"SUMPRODUCT(('SCORE TABLE'!AT36<='SCORE TABLE'!$F36:$BC36)/COUNTIF('SCORE TABLE'!$F36:$BC36,'SCORE TABLE'!$F36:$BC36))","v":{"v":2.9999999999999982,"d":"3"}},{"$f":"SUMPRODUCT(('SCORE TABLE'!AU36<='SCORE TABLE'!$F36:$BC36)/COUNTIF('SCORE TABLE'!$F36:$BC36,'SCORE TABLE'!$F36:$BC36))","v":{"v":2.0000000000000004,"d":"2"}},{"$f":"SUMPRODUCT(('SCORE TABLE'!AV36<='SCORE TABLE'!$F36:$BC36)/COUNTIF('SCORE TABLE'!$F36:$BC36,'SCORE TABLE'!$F36:$BC36))","v":{"v":2.0000000000000004,"d":"2"}},{"$f":"SUMPRODUCT(('SCORE TABLE'!AW36<='SCORE TABLE'!$F36:$BC36)/COUNTIF('SCORE TABLE'!$F36:$BC36,'SCORE TABLE'!$F36:$BC36))","v":{"v":2.9999999999999982,"d":"3"}},{"$f":"SUMPRODUCT(('SCORE TABLE'!AX36<='SCORE TABLE'!$F36:$BC36)/COUNTIF('SCORE TABLE'!$F36:$BC36,'SCORE TABLE'!$F36:$BC36))","v":{"v":1.0000000000000002,"d":"1"}},{"$f":"SUMPRODUCT(('SCORE TABLE'!AY36<='SCORE TABLE'!$F36:$BC36)/COUNTIF('SCORE TABLE'!$F36:$BC36,'SCORE TABLE'!$F36:$BC36))","v":{"v":2.0000000000000004,"d":"2"}},{"$f":"SUMPRODUCT(('SCORE TABLE'!AZ36<='SCORE TABLE'!$F36:$BC36)/COUNTIF('SCORE TABLE'!$F36:$BC36,'SCORE TABLE'!$F36:$BC36))","v":{"v":1.0000000000000002,"d":"1"}},{"$f":"SUMPRODUCT(('SCORE TABLE'!BA36<='SCORE TABLE'!$F36:$BC36)/COUNTIF('SCORE TABLE'!$F36:$BC36,'SCORE TABLE'!$F36:$BC36))","v":{"v":2.0000000000000004,"d":"2"}},{"$f":"SUMPRODUCT(('SCORE TABLE'!BB36<='SCORE TABLE'!$F36:$BC36)/COUNTIF('SCORE TABLE'!$F36:$BC36,'SCORE TABLE'!$F36:$BC36))","v":{"v":2.9999999999999982,"d":"3"}},{"$f":"SUMPRODUCT(('SCORE TABLE'!BC36<='SCORE TABLE'!$F36:$BC36)/COUNTIF('SCORE TABLE'!$F36:$BC36,'SCORE TABLE'!$F36:$BC36))","v":{"v":2.9999999999999982,"d":"3"}}]
[null,1026,"2.3.1","School nutrition standards",null,null,{"$f":"SUMPRODUCT(('SCORE TABLE'!F37<='SCORE TABLE'!$F37:$BC37)/COUNTIF('SCORE TABLE'!$F37:$BC37,'SCORE TABLE'!$F37:$BC37))","v":{"v":1.0000000000000007,"d":"1"}},{"$f":"SUMPRODUCT(('SCORE TABLE'!G37<='SCORE TABLE'!$F37:$BC37)/COUNTIF('SCORE TABLE'!$F37:$BC37,'SCORE TABLE'!$F37:$BC37))","v":{"v":1.0000000000000007,"d":"1"}},{"$f":"SUMPRODUCT(('SCORE TABLE'!H37<='SCORE TABLE'!$F37:$BC37)/COUNTIF('SCORE TABLE'!$F37:$BC37,'SCORE TABLE'!$F37:$BC37))","v":{"v":1.0000000000000007,"d":"1"}},{"$f":"SUMPRODUCT(('SCORE TABLE'!I37<='SCORE TABLE'!$F37:$BC37)/COUNTIF('SCORE TABLE'!$F37:$BC37,'SCORE TABLE'!$F37:$BC37))","v":{"v":1.0000000000000007,"d":"1"}},{"$f":"SUMPRODUCT(('SCORE TABLE'!J37<='SCORE TABLE'!$F37:$BC37)/COUNTIF('SCORE TABLE'!$F37:$BC37,'SCORE TABLE'!$F37:$BC37))","v":{"v":1.0000000000000007,"d":"1"}},{"$f":"SUMPRODUCT(('SCORE TABLE'!K37<='SCORE TABLE'!$F37:$BC37)/COUNTIF('SCORE TABLE'!$F37:$BC37,'SCORE TABLE'!$F37:$BC37))","v":{"v":1.0000000000000007,"d":"1"}},{"$f":"SUMPRODUCT(('SCORE TABLE'!L37<='SCORE TABLE'!$F37:$BC37)/COUNTIF('SCORE TABLE'!$F37:$BC37,'SCORE TABLE'!$F37:$BC37))","v":{"v":1.0000000000000007,"d":"1"}},{"$f":"SUMPRODUCT(('SCORE TABLE'!M37<='SCORE TABLE'!$F37:$BC37)/COUNTIF('SCORE TABLE'!$F37:$BC37,'SCORE TABLE'!$F37:$BC37))","v":{"v":1.0000000000000007,"d":"1"}},{"$f":"SUMPRODUCT(('SCORE TABLE'!N37<='SCORE TABLE'!$F37:$BC37)/COUNTIF('SCORE TABLE'!$F37:$BC37,'SCORE TABLE'!$F37:$BC37))","v":{"v":1.0000000000000007,"d":"1"}},{"$f":"SUMPRODUCT(('SCORE TABLE'!O37<='SCORE TABLE'!$F37:$BC37)/COUNTIF('SCORE TABLE'!$F37:$BC37,'SCORE TABLE'!$F37:$BC37))","v":{"v":1.0000000000000007,"d":"1"}},{"$f":"SUMPRODUCT(('SCORE TABLE'!P37<='SCORE TABLE'!$F37:$BC37)/COUNTIF('SCORE TABLE'!$F37:$BC37,'SCORE TABLE'!$F37:$BC37))","v":{"v":1.0000000000000007,"d":"1"}},{"$f":"SUMPRODUCT(('SCORE TABLE'!Q37<='SCORE TABLE'!$F37:$BC37)/COUNTIF('SCORE TABLE'!$F37:$BC37,'SCORE TABLE'!$F37:$BC37))","v":{"v":1.0000000000000007,"d":"1"}},{"$f":"SUMPRODUCT(('SCORE TABLE'!R37<='SCORE TABLE'!$F37:$BC37)/COUNTIF('SCORE TABLE'!$F37:$BC37,'SCORE TABLE'!$F37:$BC37))","v":{"v":1.0000000000000007,"d":"1"}},{"$f":"SUMPRODUCT(('SCORE TABLE'!S37<='SCORE TABLE'!$F37:$BC37)/COUNTIF('SCORE TABLE'!$F37:$BC37,'SCORE TABLE'!$F37:$BC37))","v":{"v":1.0000000000000007,"d":"1"}},{"$f":"SUMPRODUCT(('SCORE TABLE'!T37<='SCORE TABLE'!$F37:$BC37)/COUNTIF('SCORE TABLE'!$F37:$BC37,'SCORE TABLE'!$F37:$BC37))","v":{"v":1.0000000000000007,"d":"1"}},{"$f":"SUMPRODUCT(('SCORE TABLE'!U37<='SCORE TABLE'!$F37:$BC37)/COUNTIF('SCORE TABLE'!$F37:$BC37,'SCORE TABLE'!$F37:$BC37))","v":{"v":1.0000000000000007,"d":"1"}},{"$f":"SUMPRODUCT(('SCORE TABLE'!V37<='SCORE TABLE'!$F37:$BC37)/COUNTIF('SCORE TABLE'!$F37:$BC37,'SCORE TABLE'!$F37:$BC37))","v":{"v":1.0000000000000007,"d":"1"}},{"$f":"SUMPRODUCT(('SCORE TABLE'!W37<='SCORE TABLE'!$F37:$BC37)/COUNTIF('SCORE TABLE'!$F37:$BC37,'SCORE TABLE'!$F37:$BC37))","v":{"v":1.0000000000000007,"d":"1"}},{"$f":"SUMPRODUCT(('SCORE TABLE'!X37<='SCORE TABLE'!$F37:$BC37)/COUNTIF('SCORE TABLE'!$F37:$BC37,'SCORE TABLE'!$F37:$BC37))","v":{"v":1.0000000000000007,"d":"1"}},{"$f":"SUMPRODUCT(('SCORE TABLE'!Y37<='SCORE TABLE'!$F37:$BC37)/COUNTIF('SCORE TABLE'!$F37:$BC37,'SCORE TABLE'!$F37:$BC37))","v":{"v":1.0000000000000007,"d":"1"}},{"$f":"SUMPRODUCT(('SCORE TABLE'!Z37<='SCORE TABLE'!$F37:$BC37)/COUNTIF('SCORE TABLE'!$F37:$BC37,'SCORE TABLE'!$F37:$BC37))","v":{"v":1.0000000000000007,"d":"1"}},{"$f":"SUMPRODUCT(('SCORE TABLE'!AA37<='SCORE TABLE'!$F37:$BC37)/COUNTIF('SCORE TABLE'!$F37:$BC37,'SCORE TABLE'!$F37:$BC37))","v":{"v":1.0000000000000007,"d":"1"}},{"$f":"SUMPRODUCT(('SCORE TABLE'!AB37<='SCORE TABLE'!$F37:$BC37)/COUNTIF('SCORE TABLE'!$F37:$BC37,'SCORE TABLE'!$F37:$BC37))","v":{"v":1.0000000000000007,"d":"1"}},{"$f":"SUMPRODUCT(('SCORE TABLE'!AC37<='SCORE TABLE'!$F37:$BC37)/COUNTIF('SCORE TABLE'!$F37:$BC37,'SCORE TABLE'!$F37:$BC37))","v":{"v":1.0000000000000007,"d":"1"}},{"$f":"SUMPRODUCT(('SCORE TABLE'!AD37<='SCORE TABLE'!$F37:$BC37)/COUNTIF('SCORE TABLE'!$F37:$BC37,'SCORE TABLE'!$F37:$BC37))","v":{"v":1.0000000000000007,"d":"1"}},{"$f":"SUMPRODUCT(('SCORE TABLE'!AE37<='SCORE TABLE'!$F37:$BC37)/COUNTIF('SCORE TABLE'!$F37:$BC37,'SCORE TABLE'!$F37:$BC37))","v":{"v":2.000000000000001,"d":"2"}},{"$f":"SUMPRODUCT(('SCORE TABLE'!AF37<='SCORE TABLE'!$F37:$BC37)/COUNTIF('SCORE TABLE'!$F37:$BC37,'SCORE TABLE'!$F37:$BC37))","v":{"v":1.0000000000000007,"d":"1"}},{"$f":"SUMPRODUCT(('SCORE TABLE'!AG37<='SCORE TABLE'!$F37:$BC37)/COUNTIF('SCORE TABLE'!$F37:$BC37,'SCORE TABLE'!$F37:$BC37))","v":{"v":1.0000000000000007,"d":"1"}},{"$f":"SUMPRODUCT(('SCORE TABLE'!AH37<='SCORE TABLE'!$F37:$BC37)/COUNTIF('SCORE TABLE'!$F37:$BC37,'SCORE TABLE'!$F37:$BC37))","v":{"v":1.0000000000000007,"d":"1"}},{"$f":"SUMPRODUCT(('SCORE TABLE'!AI37<='SCORE TABLE'!$F37:$BC37)/COUNTIF('SCORE TABLE'!$F37:$BC37,'SCORE TABLE'!$F37:$BC37))","v":{"v":1.0000000000000007,"d":"1"}},{"$f":"SUMPRODUCT(('SCORE TABLE'!AJ37<='SCORE TABLE'!$F37:$BC37)/COUNTIF('SCORE TABLE'!$F37:$BC37,'SCORE TABLE'!$F37:$BC37))","v":{"v":1.0000000000000007,"d":"1"}},{"$f":"SUMPRODUCT(('SCORE TABLE'!AK37<='SCORE TABLE'!$F37:$BC37)/COUNTIF('SCORE TABLE'!$F37:$BC37,'SCORE TABLE'!$F37:$BC37))","v":{"v":1.0000000000000007,"d":"1"}},{"$f":"SUMPRODUCT(('SCORE TABLE'!AL37<='SCORE TABLE'!$F37:$BC37)/COUNTIF('SCORE TABLE'!$F37:$BC37,'SCORE TABLE'!$F37:$BC37))","v":{"v":1.0000000000000007,"d":"1"}},{"$f":"SUMPRODUCT(('SCORE TABLE'!AM37<='SCORE TABLE'!$F37:$BC37)/COUNTIF('SCORE TABLE'!$F37:$BC37,'SCORE TABLE'!$F37:$BC37))","v":{"v":1.0000000000000007,"d":"1"}},{"$f":"SUMPRODUCT(('SCORE TABLE'!AN37<='SCORE TABLE'!$F37:$BC37)/COUNTIF('SCORE TABLE'!$F37:$BC37,'SCORE TABLE'!$F37:$BC37))","v":{"v":1.0000000000000007,"d":"1"}},{"$f":"SUMPRODUCT(('SCORE TABLE'!AO37<='SCORE TABLE'!$F37:$BC37)/COUNTIF('SCORE TABLE'!$F37:$BC37,'SCORE TABLE'!$F37:$BC37))","v":{"v":1.0000000000000007,"d":"1"}},{"$f":"SUMPRODUCT(('SCORE TABLE'!AP37<='SCORE TABLE'!$F37:$BC37)/COUNTIF('SCORE TABLE'!$F37:$BC37,'SCORE TABLE'!$F37:$BC37))","v":{"v":1.0000000000000007,"d":"1"}},{"$f":"SUMPRODUCT(('SCORE TABLE'!AQ37<='SCORE TABLE'!$F37:$BC37)/COUNTIF('SCORE TABLE'!$F37:$BC37,'SCORE TABLE'!$F37:$BC37))","v":{"v":1.0000000000000007,"d":"1"}},{"$f":"SUMPRODUCT(('SCORE TABLE'!AR37<='SCORE TABLE'!$F37:$BC37)/COUNTIF('SCORE TABLE'!$F37:$BC37,'SCORE TABLE'!$F37:$BC37))","v":{"v":1.0000000000000007,"d":"1"}},{"$f":"SUMPRODUCT(('SCORE TABLE'!AS37<='SCORE TABLE'!$F37:$BC37)/COUNTIF('SCORE TABLE'!$F37:$BC37,'SCORE TABLE'!$F37:$BC37))","v":{"v":1.0000000000000007,"d":"1"}},{"$f":"SUMPRODUCT(('SCORE TABLE'!AT37<='SCORE TABLE'!$F37:$BC37)/COUNTIF('SCORE TABLE'!$F37:$BC37,'SCORE TABLE'!$F37:$BC37))","v":{"v":1.0000000000000007,"d":"1"}},{"$f":"SUMPRODUCT(('SCORE TABLE'!AU37<='SCORE TABLE'!$F37:$BC37)/COUNTIF('SCORE TABLE'!$F37:$BC37,'SCORE TABLE'!$F37:$BC37))","v":{"v":1.0000000000000007,"d":"1"}},{"$f":"SUMPRODUCT(('SCORE TABLE'!AV37<='SCORE TABLE'!$F37:$BC37)/COUNTIF('SCORE TABLE'!$F37:$BC37,'SCORE TABLE'!$F37:$BC37))","v":{"v":1.0000000000000007,"d":"1"}},{"$f":"SUMPRODUCT(('SCORE TABLE'!AW37<='SCORE TABLE'!$F37:$BC37)/COUNTIF('SCORE TABLE'!$F37:$BC37,'SCORE TABLE'!$F37:$BC37))","v":{"v":1.0000000000000007,"d":"1"}},{"$f":"SUMPRODUCT(('SCORE TABLE'!AX37<='SCORE TABLE'!$F37:$BC37)/COUNTIF('SCORE TABLE'!$F37:$BC37,'SCORE TABLE'!$F37:$BC37))","v":{"v":1.0000000000000007,"d":"1"}},{"$f":"SUMPRODUCT(('SCORE TABLE'!AY37<='SCORE TABLE'!$F37:$BC37)/COUNTIF('SCORE TABLE'!$F37:$BC37,'SCORE TABLE'!$F37:$BC37))","v":{"v":1.0000000000000007,"d":"1"}},{"$f":"SUMPRODUCT(('SCORE TABLE'!AZ37<='SCORE TABLE'!$F37:$BC37)/COUNTIF('SCORE TABLE'!$F37:$BC37,'SCORE TABLE'!$F37:$BC37))","v":{"v":1.0000000000000007,"d":"1"}},{"$f":"SUMPRODUCT(('SCORE TABLE'!BA37<='SCORE TABLE'!$F37:$BC37)/COUNTIF('SCORE TABLE'!$F37:$BC37,'SCORE TABLE'!$F37:$BC37))","v":{"v":1.0000000000000007,"d":"1"}},{"$f":"SUMPRODUCT(('SCORE TABLE'!BB37<='SCORE TABLE'!$F37:$BC37)/COUNTIF('SCORE TABLE'!$F37:$BC37,'SCORE TABLE'!$F37:$BC37))","v":{"v":1.0000000000000007,"d":"1"}},{"$f":"SUMPRODUCT(('SCORE TABLE'!BC37<='SCORE TABLE'!$F37:$BC37)/COUNTIF('SCORE TABLE'!$F37:$BC37,'SCORE TABLE'!$F37:$BC37))","v":{"v":1.0000000000000007,"d":"1"}}]
[null,1027,"2.3.2","Nutrition education",null,null,{"$f":"SUMPRODUCT(('SCORE TABLE'!F38<='SCORE TABLE'!$F38:$BC38)/COUNTIF('SCORE TABLE'!$F38:$BC38,'SCORE TABLE'!$F38:$BC38))","v":{"v":0.9999999999999994,"d":"1"}},{"$f":"SUMPRODUCT(('SCORE TABLE'!G38<='SCORE TABLE'!$F38:$BC38)/COUNTIF('SCORE TABLE'!$F38:$BC38,'SCORE TABLE'!$F38:$BC38))","v":{"v":0.9999999999999994,"d":"1"}},{"$f":"SUMPRODUCT(('SCORE TABLE'!H38<='SCORE TABLE'!$F38:$BC38)/COUNTIF('SCORE TABLE'!$F38:$BC38,'SCORE TABLE'!$F38:$BC38))","v":{"v":0.9999999999999994,"d":"1"}},{"$f":"SUMPRODUCT(('SCORE TABLE'!I38<='SCORE TABLE'!$F38:$BC38)/COUNTIF('SCORE TABLE'!$F38:$BC38,'SCORE TABLE'!$F38:$BC38))","v":{"v":0.9999999999999994,"d":"1"}},{"$f":"SUMPRODUCT(('SCORE TABLE'!J38<='SCORE TABLE'!$F38:$BC38)/COUNTIF('SCORE TABLE'!$F38:$BC38,'SCORE TABLE'!$F38:$BC38))","v":{"v":0.9999999999999994,"d":"1"}},{"$f":"SUMPRODUCT(('SCORE TABLE'!K38<='SCORE TABLE'!$F38:$BC38)/COUNTIF('SCORE TABLE'!$F38:$BC38,'SCORE TABLE'!$F38:$BC38))","v":{"v":0.9999999999999994,"d":"1"}},{"$f":"SUMPRODUCT(('SCORE TABLE'!L38<='SCORE TABLE'!$F38:$BC38)/COUNTIF('SCORE TABLE'!$F38:$BC38,'SCORE TABLE'!$F38:$BC38))","v":{"v":1.9999999999999996,"d":"2"}},{"$f":"SUMPRODUCT(('SCORE TABLE'!M38<='SCORE TABLE'!$F38:$BC38)/COUNTIF('SCORE TABLE'!$F38:$BC38,'SCORE TABLE'!$F38:$BC38))","v":{"v":0.9999999999999994,"d":"1"}},{"$f":"SUMPRODUCT(('SCORE TABLE'!N38<='SCORE TABLE'!$F38:$BC38)/COUNTIF('SCORE TABLE'!$F38:$BC38,'SCORE TABLE'!$F38:$BC38))","v":{"v":0.9999999999999994,"d":"1"}},{"$f":"SUMPRODUCT(('SCORE TABLE'!O38<='SCORE TABLE'!$F38:$BC38)/COUNTIF('SCORE TABLE'!$F38:$BC38,'SCORE TABLE'!$F38:$BC38))","v":{"v":0.9999999999999994,"d":"1"}},{"$f":"SUMPRODUCT(('SCORE TABLE'!P38<='SCORE TABLE'!$F38:$BC38)/COUNTIF('SCORE TABLE'!$F38:$BC38,'SCORE TABLE'!$F38:$BC38))","v":{"v":0.9999999999999994,"d":"1"}},{"$f":"SUMPRODUCT(('SCORE TABLE'!Q38<='SCORE TABLE'!$F38:$BC38)/COUNTIF('SCORE TABLE'!$F38:$BC38,'SCORE TABLE'!$F38:$BC38))","v":{"v":0.9999999999999994,"d":"1"}},{"$f":"SUMPRODUCT(('SCORE TABLE'!R38<='SCORE TABLE'!$F38:$BC38)/COUNTIF('SCORE TABLE'!$F38:$BC38,'SCORE TABLE'!$F38:$BC38))","v":{"v":0.9999999999999994,"d":"1"}},{"$f":"SUMPRODUCT(('SCORE TABLE'!S38<='SCORE TABLE'!$F38:$BC38)/COUNTIF('SCORE TABLE'!$F38:$BC38,'SCORE TABLE'!$F38:$BC38))","v":{"v":0.9999999999999994,"d":"1"}},{"$f":"SUMPRODUCT(('SCORE TABLE'!T38<='SCORE TABLE'!$F38:$BC38)/COUNTIF('SCORE TABLE'!$F38:$BC38,'SCORE TABLE'!$F38:$BC38))","v":{"v":0.9999999999999994,"d":"1"}},{"$f":"SUMPRODUCT(('SCORE TABLE'!U38<='SCORE TABLE'!$F38:$BC38)/COUNTIF('SCORE TABLE'!$F38:$BC38,'SCORE TABLE'!$F38:$BC38))","v":{"v":1.9999999999999996,"d":"2"}},{"$f":"SUMPRODUCT(('SCORE TABLE'!V38<='SCORE TABLE'!$F38:$BC38)/COUNTIF('SCORE TABLE'!$F38:$BC38,'SCORE TABLE'!$F38:$BC38))","v":{"v":0.9999999999999994,"d":"1"}},{"$f":"SUMPRODUCT(('SCORE TABLE'!W38<='SCORE TABLE'!$F38:$BC38)/COUNTIF('SCORE TABLE'!$F38:$BC38,'SCORE TABLE'!$F38:$BC38))","v":{"v":0.9999999999999994,"d":"1"}},{"$f":"SUMPRODUCT(('SCORE TABLE'!X38<='SCORE TABLE'!$F38:$BC38)/COUNTIF('SCORE TABLE'!$F38:$BC38,'SCORE TABLE'!$F38:$BC38))","v":{"v":1.9999999999999996,"d":"2"}},{"$f":"SUMPRODUCT(('SCORE TABLE'!Y38<='SCORE TABLE'!$F38:$BC38)/COUNTIF('SCORE TABLE'!$F38:$BC38,'SCORE TABLE'!$F38:$BC38))","v":{"v":0.9999999999999994,"d":"1"}},{"$f":"SUMPRODUCT(('SCORE TABLE'!Z38<='SCORE TABLE'!$F38:$BC38)/COUNTIF('SCORE TABLE'!$F38:$BC38,'SCORE TABLE'!$F38:$BC38))","v":{"v":0.9999999999999994,"d":"1"}},{"$f":"SUMPRODUCT(('SCORE TABLE'!AA38<='SCORE TABLE'!$F38:$BC38)/COUNTIF('SCORE TABLE'!$F38:$BC38,'SCORE TABLE'!$F38:$BC38))","v":{"v":0.9999999999999994,"d":"1"}},{"$f":"SUMPRODUCT(('SCORE TABLE'!AB38<='SCORE TABLE'!$F38:$BC38)/COUNTIF('SCORE TABLE'!$F38:$BC38,'SCORE TABLE'!$F38:$BC38))","v":{"v":0.9999999999999994,"d":"1"}},{"$f":"SUMPRODUCT(('SCORE TABLE'!AC38<='SCORE TABLE'!$F38:$BC38)/COUNTIF('SCORE TABLE'!$F38:$BC38,'SCORE TABLE'!$F38:$BC38))","v":{"v":0.9999999999999994,"d":"1"}},{"$f":"SUMPRODUCT(('SCORE TABLE'!AD38<='SCORE TABLE'!$F38:$BC38)/COUNTIF('SCORE TABLE'!$F38:$BC38,'SCORE TABLE'!$F38:$BC38))","v":{"v":0.9999999999999994,"d":"1"}},{"$f":"SUMPRODUCT(('SCORE TABLE'!AE38<='SCORE TABLE'!$F38:$BC38)/COUNTIF('SCORE TABLE'!$F38:$BC38,'SCORE TABLE'!$F38:$BC38))","v":{"v":0.9999999999999994,"d":"1"}},{"$f":"SUMPRODUCT(('SCORE TABLE'!AF38<='SCORE TABLE'!$F38:$BC38)/COUNTIF('SCORE TABLE'!$F38:$BC38,'SCORE TABLE'!$F38:$BC38))","v":{"v":0.9999999999999994,"d":"1"}},{"$f":"SUMPRODUCT(('SCORE TABLE'!AG38<='SCORE TABLE'!$F38:$BC38)/COUNTIF('SCORE TABLE'!$F38:$BC38,'SCORE TABLE'!$F38:$BC38))","v":{"v":0.9999999999999994,"d":"1"}},{"$f":"SUMPRODUCT(('SCORE TABLE'!AH38<='SCORE TABLE'!$F38:$BC38)/COUNTIF('SCORE TABLE'!$F38:$BC38,'SCORE TABLE'!$F38:$BC38))","v":{"v":1.9999999999999996,"d":"2"}},{"$f":"SUMPRODUCT(('SCORE TABLE'!AI38<='SCORE TABLE'!$F38:$BC38)/COUNTIF('SCORE TABLE'!$F38:$BC38,'SCORE TABLE'!$F38:$BC38))","v":{"v":0.9999999999999994,"d":"1"}},{"$f":"SUMPRODUCT(('SCORE TABLE'!AJ38<='SCORE TABLE'!$F38:$BC38)/COUNTIF('SCORE TABLE'!$F38:$BC38,'SCORE TABLE'!$F38:$BC38))","v":{"v":0.9999999999999994,"d":"1"}},{"$f":"SUMPRODUCT(('SCORE TABLE'!AK38<='SCORE TABLE'!$F38:$BC38)/COUNTIF('SCORE TABLE'!$F38:$BC38,'SCORE TABLE'!$F38:$BC38))","v":{"v":0.9999999999999994,"d":"1"}},{"$f":"SUMPRODUCT(('SCORE TABLE'!AL38<='SCORE TABLE'!$F38:$BC38)/COUNTIF('SCORE TABLE'!$F38:$BC38,'SCORE TABLE'!$F38:$BC38))","v":{"v":0.9999999999999994,"d":"1"}},{"$f":"SUMPRODUCT(('SCORE TABLE'!AM38<='SCORE TABLE'!$F38:$BC38)/COUNTIF('SCORE TABLE'!$F38:$BC38,'SCORE TABLE'!$F38:$BC38))","v":{"v":1.9999999999999996,"d":"2"}},{"$f":"SUMPRODUCT(('SCORE TABLE'!AN38<='SCORE TABLE'!$F38:$BC38)/COUNTIF('SCORE TABLE'!$F38:$BC38,'SCORE TABLE'!$F38:$BC38))","v":{"v":0.9999999999999994,"d":"1"}},{"$f":"SUMPRODUCT(('SCORE TABLE'!AO38<='SCORE TABLE'!$F38:$BC38)/COUNTIF('SCORE TABLE'!$F38:$BC38,'SCORE TABLE'!$F38:$BC38))","v":{"v":0.9999999999999994,"d":"1"}},{"$f":"SUMPRODUCT(('SCORE TABLE'!AP38<='SCORE TABLE'!$F38:$BC38)/COUNTIF('SCORE TABLE'!$F38:$BC38,'SCORE TABLE'!$F38:$BC38))","v":{"v":0.9999999999999994,"d":"1"}},{"$f":"SUMPRODUCT(('SCORE TABLE'!AQ38<='SCORE TABLE'!$F38:$BC38)/COUNTIF('SCORE TABLE'!$F38:$BC38,'SCORE TABLE'!$F38:$BC38))","v":{"v":0.9999999999999994,"d":"1"}},{"$f":"SUMPRODUCT(('SCORE TABLE'!AR38<='SCORE TABLE'!$F38:$BC38)/COUNTIF('SCORE TABLE'!$F38:$BC38,'SCORE TABLE'!$F38:$BC38))","v":{"v":1.9999999999999996,"d":"2"}},{"$f":"SUMPRODUCT(('SCORE TABLE'!AS38<='SCORE TABLE'!$F38:$BC38)/COUNTIF('SCORE TABLE'!$F38:$BC38,'SCORE TABLE'!$F38:$BC38))","v":{"v":0.9999999999999994,"d":"1"}},{"$f":"SUMPRODUCT(('SCORE TABLE'!AT38<='SCORE TABLE'!$F38:$BC38)/COUNTIF('SCORE TABLE'!$F38:$BC38,'SCORE TABLE'!$F38:$BC38))","v":{"v":0.9999999999999994,"d":"1"}},{"$f":"SUMPRODUCT(('SCORE TABLE'!AU38<='SCORE TABLE'!$F38:$BC38)/COUNTIF('SCORE TABLE'!$F38:$BC38,'SCORE TABLE'!$F38:$BC38))","v":{"v":0.9999999999999994,"d":"1"}},{"$f":"SUMPRODUCT(('SCORE TABLE'!AV38<='SCORE TABLE'!$F38:$BC38)/COUNTIF('SCORE TABLE'!$F38:$BC38,'SCORE TABLE'!$F38:$BC38))","v":{"v":0.9999999999999994,"d":"1"}},{"$f":"SUMPRODUCT(('SCORE TABLE'!AW38<='SCORE TABLE'!$F38:$BC38)/COUNTIF('SCORE TABLE'!$F38:$BC38,'SCORE TABLE'!$F38:$BC38))","v":{"v":0.9999999999999994,"d":"1"}},{"$f":"SUMPRODUCT(('SCORE TABLE'!AX38<='SCORE TABLE'!$F38:$BC38)/COUNTIF('SCORE TABLE'!$F38:$BC38,'SCORE TABLE'!$F38:$BC38))","v":{"v":0.9999999999999994,"d":"1"}},{"$f":"SUMPRODUCT(('SCORE TABLE'!AY38<='SCORE TABLE'!$F38:$BC38)/COUNTIF('SCORE TABLE'!$F38:$BC38,'SCORE TABLE'!$F38:$BC38))","v":{"v":0.9999999999999994,"d":"1"}},{"$f":"SUMPRODUCT(('SCORE TABLE'!AZ38<='SCORE TABLE'!$F38:$BC38)/COUNTIF('SCORE TABLE'!$F38:$BC38,'SCORE TABLE'!$F38:$BC38))","v":{"v":0.9999999999999994,"d":"1"}},{"$f":"SUMPRODUCT(('SCORE TABLE'!BA38<='SCORE TABLE'!$F38:$BC38)/COUNTIF('SCORE TABLE'!$F38:$BC38,'SCORE TABLE'!$F38:$BC38))","v":{"v":0.9999999999999994,"d":"1"}},{"$f":"SUMPRODUCT(('SCORE TABLE'!BB38<='SCORE TABLE'!$F38:$BC38)/COUNTIF('SCORE TABLE'!$F38:$BC38,'SCORE TABLE'!$F38:$BC38))","v":{"v":0.9999999999999994,"d":"1"}},{"$f":"SUMPRODUCT(('SCORE TABLE'!BC38<='SCORE TABLE'!$F38:$BC38)/COUNTIF('SCORE TABLE'!$F38:$BC38,'SCORE TABLE'!$F38:$BC38))","v":{"v":0.9999999999999994,"d":"1"}}]
[null,1028,"2.3.3","Universal free school meals",null,null,{"$f":"SUMPRODUCT(('SCORE TABLE'!F39<='SCORE TABLE'!$F39:$BC39)/COUNTIF('SCORE TABLE'!$F39:$BC39,'SCORE TABLE'!$F39:$BC39))","v":{"v":2.999999999999999,"d":"3"}},{"$f":"SUMPRODUCT(('SCORE TABLE'!G39<='SCORE TABLE'!$F39:$BC39)/COUNTIF('SCORE TABLE'!$F39:$BC39,'SCORE TABLE'!$F39:$BC39))","v":{"v":2.999999999999999,"d":"3"}},{"$f":"SUMPRODUCT(('SCORE TABLE'!H39<='SCORE TABLE'!$F39:$BC39)/COUNTIF('SCORE TABLE'!$F39:$BC39,'SCORE TABLE'!$F39:$BC39))","v":{"v":2.0000000000000004,"d":"2"}},{"$f":"SUMPRODUCT(('SCORE TABLE'!I39<='SCORE TABLE'!$F39:$BC39)/COUNTIF('SCORE TABLE'!$F39:$BC39,'SCORE TABLE'!$F39:$BC39))","v":{"v":2.0000000000000004,"d":"2"}},{"$f":"SUMPRODUCT(('SCORE TABLE'!J39<='SCORE TABLE'!$F39:$BC39)/COUNTIF('SCORE TABLE'!$F39:$BC39,'SCORE TABLE'!$F39:$BC39))","v":{"v":1.0000000000000002,"d":"1"}},{"$f":"SUMPRODUCT(('SCORE TABLE'!K39<='SCORE TABLE'!$F39:$BC39)/COUNTIF('SCORE TABLE'!$F39:$BC39,'SCORE TABLE'!$F39:$BC39))","v":{"v":2.999999999999999,"d":"3"}},{"$f":"SUMPRODUCT(('SCORE TABLE'!L39<='SCORE TABLE'!$F39:$BC39)/COUNTIF('SCORE TABLE'!$F39:$BC39,'SCORE TABLE'!$F39:$BC39))","v":{"v":2.999999999999999,"d":"3"}},{"$f":"SUMPRODUCT(('SCORE TABLE'!M39<='SCORE TABLE'!$F39:$BC39)/COUNTIF('SCORE TABLE'!$F39:$BC39,'SCORE TABLE'!$F39:$BC39))","v":{"v":2.999999999999999,"d":"3"}},{"$f":"SUMPRODUCT(('SCORE TABLE'!N39<='SCORE TABLE'!$F39:$BC39)/COUNTIF('SCORE TABLE'!$F39:$BC39,'SCORE TABLE'!$F39:$BC39))","v":{"v":2.999999999999999,"d":"3"}},{"$f":"SUMPRODUCT(('SCORE TABLE'!O39<='SCORE TABLE'!$F39:$BC39)/COUNTIF('SCORE TABLE'!$F39:$BC39,'SCORE TABLE'!$F39:$BC39))","v":{"v":2.0000000000000004,"d":"2"}},{"$f":"SUMPRODUCT(('SCORE TABLE'!P39<='SCORE TABLE'!$F39:$BC39)/COUNTIF('SCORE TABLE'!$F39:$BC39,'SCORE TABLE'!$F39:$BC39))","v":{"v":2.0000000000000004,"d":"2"}},{"$f":"SUMPRODUCT(('SCORE TABLE'!Q39<='SCORE TABLE'!$F39:$BC39)/COUNTIF('SCORE TABLE'!$F39:$BC39,'SCORE TABLE'!$F39:$BC39))","v":{"v":2.999999999999999,"d":"3"}},{"$f":"SUMPRODUCT(('SCORE TABLE'!R39<='SCORE TABLE'!$F39:$BC39)/COUNTIF('SCORE TABLE'!$F39:$BC39,'SCORE TABLE'!$F39:$BC39))","v":{"v":2.0000000000000004,"d":"2"}},{"$f":"SUMPRODUCT(('SCORE TABLE'!S39<='SCORE TABLE'!$F39:$BC39)/COUNTIF('SCORE TABLE'!$F39:$BC39,'SCORE TABLE'!$F39:$BC39))","v":{"v":2.999999999999999,"d":"3"}},{"$f":"SUMPRODUCT(('SCORE TABLE'!T39<='SCORE TABLE'!$F39:$BC39)/COUNTIF('SCORE TABLE'!$F39:$BC39,'SCORE TABLE'!$F39:$BC39))","v":{"v":1.0000000000000002,"d":"1"}},{"$f":"SUMPRODUCT(('SCORE TABLE'!U39<='SCORE TABLE'!$F39:$BC39)/COUNTIF('SCORE TABLE'!$F39:$BC39,'SCORE TABLE'!$F39:$BC39))","v":{"v":1.0000000000000002,"d":"1"}},{"$f":"SUMPRODUCT(('SCORE TABLE'!V39<='SCORE TABLE'!$F39:$BC39)/COUNTIF('SCORE TABLE'!$F39:$BC39,'SCORE TABLE'!$F39:$BC39))","v":{"v":2.0000000000000004,"d":"2"}},{"$f":"SUMPRODUCT(('SCORE TABLE'!W39<='SCORE TABLE'!$F39:$BC39)/COUNTIF('SCORE TABLE'!$F39:$BC39,'SCORE TABLE'!$F39:$BC39))","v":{"v":2.0000000000000004,"d":"2"}},{"$f":"SUMPRODUCT(('SCORE TABLE'!X39<='SCORE TABLE'!$F39:$BC39)/COUNTIF('SCORE TABLE'!$F39:$BC39,'SCORE TABLE'!$F39:$BC39))","v":{"v":1.0000000000000002,"d":"1"}},{"$f":"SUMPRODUCT(('SCORE TABLE'!Y39<='SCORE TABLE'!$F39:$BC39)/COUNTIF('SCORE TABLE'!$F39:$BC39,'SCORE TABLE'!$F39:$BC39))","v":{"v":2.0000000000000004,"d":"2"}},{"$f":"SUMPRODUCT(('SCORE TABLE'!Z39<='SCORE TABLE'!$F39:$BC39)/COUNTIF('SCORE TABLE'!$F39:$BC39,'SCORE TABLE'!$F39:$BC39))","v":{"v":1.0000000000000002,"d":"1"}},{"$f":"SUMPRODUCT(('SCORE TABLE'!AA39<='SCORE TABLE'!$F39:$BC39)/COUNTIF('SCORE TABLE'!$F39:$BC39,'SCORE TABLE'!$F39:$BC39))","v":{"v":1.0000000000000002,"d":"1"}},{"$f":"SUMPRODUCT(('SCORE TABLE'!AB39<='SCORE TABLE'!$F39:$BC39)/COUNTIF('SCORE TABLE'!$F39:$BC39,'SCORE TABLE'!$F39:$BC39))","v":{"v":1.0000000000000002,"d":"1"}},{"$f":"SUMPRODUCT(('SCORE TABLE'!AC39<='SCORE TABLE'!$F39:$BC39)/COUNTIF('SCORE TABLE'!$F39:$BC39,'SCORE TABLE'!$F39:$BC39))","v":{"v":2.999999999999999,"d":"3"}},{"$f":"SUMPRODUCT(('SCORE TABLE'!AD39<='SCORE TABLE'!$F39:$BC39)/COUNTIF('SCORE TABLE'!$F39:$BC39,'SCORE TABLE'!$F39:$BC39))","v":{"v":2.999999999999999,"d":"3"}},{"$f":"SUMPRODUCT(('SCORE TABLE'!AE39<='SCORE TABLE'!$F39:$BC39)/COUNTIF('SCORE TABLE'!$F39:$BC39,'SCORE TABLE'!$F39:$BC39))","v":{"v":2.999999999999999,"d":"3"}},{"$f":"SUMPRODUCT(('SCORE TABLE'!AF39<='SCORE TABLE'!$F39:$BC39)/COUNTIF('SCORE TABLE'!$F39:$BC39,'SCORE TABLE'!$F39:$BC39))","v":{"v":2.999999999999999,"d":"3"}},{"$f":"SUMPRODUCT(('SCORE TABLE'!AG39<='SCORE TABLE'!$F39:$BC39)/COUNTIF('SCORE TABLE'!$F39:$BC39,'SCORE TABLE'!$F39:$BC39))","v":{"v":2.0000000000000004,"d":"2"}},{"$f":"SUMPRODUCT(('SCORE TABLE'!AH39<='SCORE TABLE'!$F39:$BC39)/COUNTIF('SCORE TABLE'!$F39:$BC39,'SCORE TABLE'!$F39:$BC39))","v":{"v":2.0000000000000004,"d":"2"}},{"$f":"SUMPRODUCT(('SCORE TABLE'!AI39<='SCORE TABLE'!$F39:$BC39)/COUNTIF('SCORE TABLE'!$F39:$BC39,'SCORE TABLE'!$F39:$BC39))","v":{"v":2.0000000000000004,"d":"2"}},{"$f":"SUMPRODUCT(('SCORE TABLE'!AJ39<='SCORE TABLE'!$F39:$BC39)/COUNTIF('SCORE TABLE'!$F39:$BC39,'SCORE TABLE'!$F39:$BC39))","v":{"v":1.0000000000000002,"d":"1"}},{"$f":"SUMPRODUCT(('SCORE TABLE'!AK39<='SCORE TABLE'!$F39:$BC39)/COUNTIF('SCORE TABLE'!$F39:$BC39,'SCORE TABLE'!$F39:$BC39))","v":{"v":2.999999999999999,"d":"3"}},{"$f":"SUMPRODUCT(('SCORE TABLE'!AL39<='SCORE TABLE'!$F39:$BC39)/COUNTIF('SCORE TABLE'!$F39:$BC39,'SCORE TABLE'!$F39:$BC39))","v":{"v":2.0000000000000004,"d":"2"}},{"$f":"SUMPRODUCT(('SCORE TABLE'!AM39<='SCORE TABLE'!$F39:$BC39)/COUNTIF('SCORE TABLE'!$F39:$BC39,'SCORE TABLE'!$F39:$BC39))","v":{"v":2.999999999999999,"d":"3"}},{"$f":"SUMPRODUCT(('SCORE TABLE'!AN39<='SCORE TABLE'!$F39:$BC39)/COUNTIF('SCORE TABLE'!$F39:$BC39,'SCORE TABLE'!$F39:$BC39))","v":{"v":2.0000000000000004,"d":"2"}},{"$f":"SUMPRODUCT(('SCORE TABLE'!AO39<='SCORE TABLE'!$F39:$BC39)/COUNTIF('SCORE TABLE'!$F39:$BC39,'SCORE TABLE'!$F39:$BC39))","v":{"v":2.999999999999999,"d":"3"}},{"$f":"SUMPRODUCT(('SCORE TABLE'!AP39<='SCORE TABLE'!$F39:$BC39)/COUNTIF('SCORE TABLE'!$F39:$BC39,'SCORE TABLE'!$F39:$BC39))","v":{"v":2.0000000000000004,"d":"2"}},{"$f":"SUMPRODUCT(('SCORE TABLE'!AQ39<='SCORE TABLE'!$F39:$BC39)/COUNTIF('SCORE TABLE'!$F39:$BC39,'SCORE TABLE'!$F39:$BC39))","v":{"v":1.0000000000000002,"d":"1"}},{"$f":"SUMPRODUCT(('SCORE TABLE'!AR39<='SCORE TABLE'!$F39:$BC39)/COUNTIF('SCORE TABLE'!$F39:$BC39,'SCORE TABLE'!$F39:$BC39))","v":{"v":2.0000000000000004,"d":"2"}},{"$f":"SUMPRODUCT(('SCORE TABLE'!AS39<='SCORE TABLE'!$F39:$BC39)/COUNTIF('SCORE TABLE'!$F39:$BC39,'SCORE TABLE'!$F39:$BC39))","v":{"v":2.0000000000000004,"d":"2"}},{"$f":"SUMPRODUCT(('SCORE TABLE'!AT39<='SCORE TABLE'!$F39:$BC39)/COUNTIF('SCORE TABLE'!$F39:$BC39,'SCORE TABLE'!$F39:$BC39))","v":{"v":2.999999999999999,"d":"3"}},{"$f":"SUMPRODUCT(('SCORE TABLE'!AU39<='SCORE TABLE'!$F39:$BC39)/COUNTIF('SCORE TABLE'!$F39:$BC39,'SCORE TABLE'!$F39:$BC39))","v":{"v":2.0000000000000004,"d":"2"}},{"$f":"SUMPRODUCT(('SCORE TABLE'!AV39<='SCORE TABLE'!$F39:$BC39)/COUNTIF('SCORE TABLE'!$F39:$BC39,'SCORE TABLE'!$F39:$BC39))","v":{"v":2.0000000000000004,"d":"2"}},{"$f":"SUMPRODUCT(('SCORE TABLE'!AW39<='SCORE TABLE'!$F39:$BC39)/COUNTIF('SCORE TABLE'!$F39:$BC39,'SCORE TABLE'!$F39:$BC39))","v":{"v":2.999999999999999,"d":"3"}},{"$f":"SUMPRODUCT(('SCORE TABLE'!AX39<='SCORE TABLE'!$F39:$BC39)/COUNTIF('SCORE TABLE'!$F39:$BC39,'SCORE TABLE'!$F39:$BC39))","v":{"v":1.0000000000000002,"d":"1"}},{"$f":"SUMPRODUCT(('SCORE TABLE'!AY39<='SCORE TABLE'!$F39:$BC39)/COUNTIF('SCORE TABLE'!$F39:$BC39,'SCORE TABLE'!$F39:$BC39))","v":{"v":2.0000000000000004,"d":"2"}},{"$f":"SUMPRODUCT(('SCORE TABLE'!AZ39<='SCORE TABLE'!$F39:$BC39)/COUNTIF('SCORE TABLE'!$F39:$BC39,'SCORE TABLE'!$F39:$BC39))","v":{"v":1.0000000000000002,"d":"1"}},{"$f":"SUMPRODUCT(('SCORE TABLE'!BA39<='SCORE TABLE'!$F39:$BC39)/COUNTIF('SCORE TABLE'!$F39:$BC39,'SCORE TABLE'!$F39:$BC39))","v":{"v":2.0000000000000004,"d":"2"}},{"$f":"SUMPRODUCT(('SCORE TABLE'!BB39<='SCORE TABLE'!$F39:$BC39)/COUNTIF('SCORE TABLE'!$F39:$BC39,'SCORE TABLE'!$F39:$BC39))","v":{"v":2.999999999999999,"d":"3"}},{"$f":"SUMPRODUCT(('SCORE TABLE'!BC39<='SCORE TABLE'!$F39:$BC39)/COUNTIF('SCORE TABLE'!$F39:$BC39,'SCORE TABLE'!$F39:$BC39))","v":{"v":2.999999999999999,"d":"3"}}]
[null,1029,3,"Physical activity",null,null,{"$f":"SUMPRODUCT(('SCORE TABLE'!F40<='SCORE TABLE'!$F40:$BC40)/COUNTIF('SCORE TABLE'!$F40:$BC40,'SCORE TABLE'!$F40:$BC40))","v":{"v":30.999999999999996,"d":"31"}},{"$f":"SUMPRODUCT(('SCORE TABLE'!G40<='SCORE TABLE'!$F40:$BC40)/COUNTIF('SCORE TABLE'!$F40:$BC40,'SCORE TABLE'!$F40:$BC40))","v":20},{"$f":"SUMPRODUCT(('SCORE TABLE'!H40<='SCORE TABLE'!$F40:$BC40)/COUNTIF('SCORE TABLE'!$F40:$BC40,'SCORE TABLE'!$F40:$BC40))","v":39},{"$f":"SUMPRODUCT(('SCORE TABLE'!I40<='SCORE TABLE'!$F40:$BC40)/COUNTIF('SCORE TABLE'!$F40:$BC40,'SCORE TABLE'!$F40:$BC40))","v":{"v":28.999999999999996,"d":"29"}},{"$f":"SUMPRODUCT(('SCORE TABLE'!J40<='SCORE TABLE'!$F40:$BC40)/COUNTIF('SCORE TABLE'!$F40:$BC40,'SCORE TABLE'!$F40:$BC40))","v":2},{"$f":"SUMPRODUCT(('SCORE TABLE'!K40<='SCORE TABLE'!$F40:$BC40)/COUNTIF('SCORE TABLE'!$F40:$BC40,'SCORE TABLE'!$F40:$BC40))","v":4},{"$f":"SUMPRODUCT(('SCORE TABLE'!L40<='SCORE TABLE'!$F40:$BC40)/COUNTIF('SCORE TABLE'!$F40:$BC40,'SCORE TABLE'!$F40:$BC40))","v":14},{"$f":"SUMPRODUCT(('SCORE TABLE'!M40<='SCORE TABLE'!$F40:$BC40)/COUNTIF('SCORE TABLE'!$F40:$BC40,'SCORE TABLE'!$F40:$BC40))","v":9},{"$f":"SUMPRODUCT(('SCORE TABLE'!N40<='SCORE TABLE'!$F40:$BC40)/COUNTIF('SCORE TABLE'!$F40:$BC40,'SCORE TABLE'!$F40:$BC40))","v":33},{"$f":"SUMPRODUCT(('SCORE TABLE'!O40<='SCORE TABLE'!$F40:$BC40)/COUNTIF('SCORE TABLE'!$F40:$BC40,'SCORE TABLE'!$F40:$BC40))","v":38},{"$f":"SUMPRODUCT(('SCORE TABLE'!P40<='SCORE TABLE'!$F40:$BC40)/COUNTIF('SCORE TABLE'!$F40:$BC40,'SCORE TABLE'!$F40:$BC40))","v":14},{"$f":"SUMPRODUCT(('SCORE TABLE'!Q40<='SCORE TABLE'!$F40:$BC40)/COUNTIF('SCORE TABLE'!$F40:$BC40,'SCORE TABLE'!$F40:$BC40))","v":37},{"$f":"SUMPRODUCT(('SCORE TABLE'!R40<='SCORE TABLE'!$F40:$BC40)/COUNTIF('SCORE TABLE'!$F40:$BC40,'SCORE TABLE'!$F40:$BC40))","v":3},{"$f":"SUMPRODUCT(('SCORE TABLE'!S40<='SCORE TABLE'!$F40:$BC40)/COUNTIF('SCORE TABLE'!$F40:$BC40,'SCORE TABLE'!$F40:$BC40))","v":10},{"$f":"SUMPRODUCT(('SCORE TABLE'!T40<='SCORE TABLE'!$F40:$BC40)/COUNTIF('SCORE TABLE'!$F40:$BC40,'SCORE TABLE'!$F40:$BC40))","v":36},{"$f":"SUMPRODUCT(('SCORE TABLE'!U40<='SCORE TABLE'!$F40:$BC40)/COUNTIF('SCORE TABLE'!$F40:$BC40,'SCORE TABLE'!$F40:$BC40))","v":41},{"$f":"SUMPRODUCT(('SCORE TABLE'!V40<='SCORE TABLE'!$F40:$BC40)/COUNTIF('SCORE TABLE'!$F40:$BC40,'SCORE TABLE'!$F40:$BC40))","v":12},{"$f":"SUMPRODUCT(('SCORE TABLE'!W40<='SCORE TABLE'!$F40:$BC40)/COUNTIF('SCORE TABLE'!$F40:$BC40,'SCORE TABLE'!$F40:$BC40))","v":23},{"$f":"SUMPRODUCT(('SCORE TABLE'!X40<='SCORE TABLE'!$F40:$BC40)/COUNTIF('SCORE TABLE'!$F40:$BC40,'SCORE TABLE'!$F40:$BC40))","v":28},{"$f":"SUMPRODUCT(('SCORE TABLE'!Y40<='SCORE TABLE'!$F40:$BC40)/COUNTIF('SCORE TABLE'!$F40:$BC40,'SCORE TABLE'!$F40:$BC40))","v":{"v":15.000000000000002,"d":"15"}},{"$f":"SUMPRODUCT(('SCORE TABLE'!Z40<='SCORE TABLE'!$F40:$BC40)/COUNTIF('SCORE TABLE'!$F40:$BC40,'SCORE TABLE'!$F40:$BC40))","v":{"v":29.999999999999996,"d":"30"}},{"$f":"SUMPRODUCT(('SCORE TABLE'!AA40<='SCORE TABLE'!$F40:$BC40)/COUNTIF('SCORE TABLE'!$F40:$BC40,'SCORE TABLE'!$F40:$BC40))","v":34},{"$f":"SUMPRODUCT(('SCORE TABLE'!AB40<='SCORE TABLE'!$F40:$BC40)/COUNTIF('SCORE TABLE'!$F40:$BC40,'SCORE TABLE'!$F40:$BC40))","v":17},{"$f":"SUMPRODUCT(('SCORE TABLE'!AC40<='SCORE TABLE'!$F40:$BC40)/COUNTIF('SCORE TABLE'!$F40:$BC40,'SCORE TABLE'!$F40:$BC40))","v":16},{"$f":"SUMPRODUCT(('SCORE TABLE'!AD40<='SCORE TABLE'!$F40:$BC40)/COUNTIF('SCORE TABLE'!$F40:$BC40,'SCORE TABLE'!$F40:$BC40))","v":22},{"$f":"SUMPRODUCT(('SCORE TABLE'!AE40<='SCORE TABLE'!$F40:$BC40)/COUNTIF('SCORE TABLE'!$F40:$BC40,'SCORE TABLE'!$F40:$BC40))","v":24},{"$f":"SUMPRODUCT(('SCORE TABLE'!AF40<='SCORE TABLE'!$F40:$BC40)/COUNTIF('SCORE TABLE'!$F40:$BC40,'SCORE TABLE'!$F40:$BC40))","v":40},{"$f":"SUMPRODUCT(('SCORE TABLE'!AG40<='SCORE TABLE'!$F40:$BC40)/COUNTIF('SCORE TABLE'!$F40:$BC40,'SCORE TABLE'!$F40:$BC40))","v":3},{"$f":"SUMPRODUCT(('SCORE TABLE'!AH40<='SCORE TABLE'!$F40:$BC40)/COUNTIF('SCORE TABLE'!$F40:$BC40,'SCORE TABLE'!$F40:$BC40))","v":18},{"$f":"SUMPRODUCT(('SCORE TABLE'!AI40<='SCORE TABLE'!$F40:$BC40)/COUNTIF('SCORE TABLE'!$F40:$BC40,'SCORE TABLE'!$F40:$BC40))","v":13},{"$f":"SUMPRODUCT(('SCORE TABLE'!AJ40<='SCORE TABLE'!$F40:$BC40)/COUNTIF('SCORE TABLE'!$F40:$BC40,'SCORE TABLE'!$F40:$BC40))","v":23},{"$f":"SUMPRODUCT(('SCORE TABLE'!AK40<='SCORE TABLE'!$F40:$BC40)/COUNTIF('SCORE TABLE'!$F40:$BC40,'SCORE TABLE'!$F40:$BC40))","v":14},{"$f":"SUMPRODUCT(('SCORE TABLE'!AL40<='SCORE TABLE'!$F40:$BC40)/COUNTIF('SCORE TABLE'!$F40:$BC40,'SCORE TABLE'!$F40:$BC40))","v":21},{"$f":"SUMPRODUCT(('SCORE TABLE'!AM40<='SCORE TABLE'!$F40:$BC40)/COUNTIF('SCORE TABLE'!$F40:$BC40,'SCORE TABLE'!$F40:$BC40))","v":42},{"$f":"SUMPRODUCT(('SCORE TABLE'!AN40<='SCORE TABLE'!$F40:$BC40)/COUNTIF('SCORE TABLE'!$F40:$BC40,'SCORE TABLE'!$F40:$BC40))","v":8},{"$f":"SUMPRODUCT(('SCORE TABLE'!AO40<='SCORE TABLE'!$F40:$BC40)/COUNTIF('SCORE TABLE'!$F40:$BC40,'SCORE TABLE'!$F40:$BC40))","v":11},{"$f":"SUMPRODUCT(('SCORE TABLE'!AP40<='SCORE TABLE'!$F40:$BC40)/COUNTIF('SCORE TABLE'!$F40:$BC40,'SCORE TABLE'!$F40:$BC40))","v":5},{"$f":"SUMPRODUCT(('SCORE TABLE'!AQ40<='SCORE TABLE'!$F40:$BC40)/COUNTIF('SCORE TABLE'!$F40:$BC40,'SCORE TABLE'!$F40:$BC40))","v":17},{"$f":"SUMPRODUCT(('SCORE TABLE'!AR40<='SCORE TABLE'!$F40:$BC40)/COUNTIF('SCORE TABLE'!$F40:$BC40,'SCORE TABLE'!$F40:$BC40))","v":13},{"$f":"SUMPRODUCT(('SCORE TABLE'!AS40<='SCORE TABLE'!$F40:$BC40)/COUNTIF('SCORE TABLE'!$F40:$BC40,'SCORE TABLE'!$F40:$BC40))","v":43},{"$f":"SUMPRODUCT(('SCORE TABLE'!AT40<='SCORE TABLE'!$F40:$BC40)/COUNTIF('SCORE TABLE'!$F40:$BC40,'SCORE TABLE'!$F40:$BC40))","v":25},{"$f":"SUMPRODUCT(('SCORE TABLE'!AU40<='SCORE TABLE'!$F40:$BC40)/COUNTIF('SCORE TABLE'!$F40:$BC40,'SCORE TABLE'!$F40:$BC40))","v":27},{"$f":"SUMPRODUCT(('SCORE TABLE'!AV40<='SCORE TABLE'!$F40:$BC40)/COUNTIF('SCORE TABLE'!$F40:$BC40,'SCORE TABLE'!$F40:$BC40))","v":35},{"$f":"SUMPRODUCT(('SCORE TABLE'!AW40<='SCORE TABLE'!$F40:$BC40)/COUNTIF('SCORE TABLE'!$F40:$BC40,'SCORE TABLE'!$F40:$BC40))","v":7},{"$f":"SUMPRODUCT(('SCORE TABLE'!AX40<='SCORE TABLE'!$F40:$BC40)/COUNTIF('SCORE TABLE'!$F40:$BC40,'SCORE TABLE'!$F40:$BC40))","v":26},{"$f":"SUMPRODUCT(('SCORE TABLE'!AY40<='SCORE TABLE'!$F40:$BC40)/COUNTIF('SCORE TABLE'!$F40:$BC40,'SCORE TABLE'!$F40:$BC40))","v":1},{"$f":"SUMPRODUCT(('SCORE TABLE'!AZ40<='SCORE TABLE'!$F40:$BC40)/COUNTIF('SCORE TABLE'!$F40:$BC40,'SCORE TABLE'!$F40:$BC40))","v":6},{"$f":"SUMPRODUCT(('SCORE TABLE'!BA40<='SCORE TABLE'!$F40:$BC40)/COUNTIF('SCORE TABLE'!$F40:$BC40,'SCORE TABLE'!$F40:$BC40))","v":{"v":31.999999999999996,"d":"32"}},{"$f":"SUMPRODUCT(('SCORE TABLE'!BB40<='SCORE TABLE'!$F40:$BC40)/COUNTIF('SCORE TABLE'!$F40:$BC40,'SCORE TABLE'!$F40:$BC40))","v":19},{"$f":"SUMPRODUCT(('SCORE TABLE'!BC40<='SCORE TABLE'!$F40:$BC40)/COUNTIF('SCORE TABLE'!$F40:$BC40,'SCORE TABLE'!$F40:$BC40))","v":22}]
[null,1030,3.1,"Physical activity among the population",null,null,{"$f":"SUMPRODUCT(('SCORE TABLE'!F41<='SCORE TABLE'!$F41:$BC41)/COUNTIF('SCORE TABLE'!$F41:$BC41,'SCORE TABLE'!$F41:$BC41))","v":{"v":30.999999999999996,"d":"31"}},{"$f":"SUMPRODUCT(('SCORE TABLE'!G41<='SCORE TABLE'!$F41:$BC41)/COUNTIF('SCORE TABLE'!$F41:$BC41,'SCORE TABLE'!$F41:$BC41))","v":20},{"$f":"SUMPRODUCT(('SCORE TABLE'!H41<='SCORE TABLE'!$F41:$BC41)/COUNTIF('SCORE TABLE'!$F41:$BC41,'SCORE TABLE'!$F41:$BC41))","v":5},{"$f":"SUMPRODUCT(('SCORE TABLE'!I41<='SCORE TABLE'!$F41:$BC41)/COUNTIF('SCORE TABLE'!$F41:$BC41,'SCORE TABLE'!$F41:$BC41))","v":{"v":28.999999999999996,"d":"29"}},{"$f":"SUMPRODUCT(('SCORE TABLE'!J41<='SCORE TABLE'!$F41:$BC41)/COUNTIF('SCORE TABLE'!$F41:$BC41,'SCORE TABLE'!$F41:$BC41))","v":1},{"$f":"SUMPRODUCT(('SCORE TABLE'!K41<='SCORE TABLE'!$F41:$BC41)/COUNTIF('SCORE TABLE'!$F41:$BC41,'SCORE TABLE'!$F41:$BC41))","v":3},{"$f":"SUMPRODUCT(('SCORE TABLE'!L41<='SCORE TABLE'!$F41:$BC41)/COUNTIF('SCORE TABLE'!$F41:$BC41,'SCORE TABLE'!$F41:$BC41))","v":{"v":14.000000000000002,"d":"14"}},{"$f":"SUMPRODUCT(('SCORE TABLE'!M41<='SCORE TABLE'!$F41:$BC41)/COUNTIF('SCORE TABLE'!$F41:$BC41,'SCORE TABLE'!$F41:$BC41))","v":9},{"$f":"SUMPRODUCT(('SCORE TABLE'!N41<='SCORE TABLE'!$F41:$BC41)/COUNTIF('SCORE TABLE'!$F41:$BC41,'SCORE TABLE'!$F41:$BC41))","v":33},{"$f":"SUMPRODUCT(('SCORE TABLE'!O41<='SCORE TABLE'!$F41:$BC41)/COUNTIF('SCORE TABLE'!$F41:$BC41,'SCORE TABLE'!$F41:$BC41))","v":38},{"$f":"SUMPRODUCT(('SCORE TABLE'!P41<='SCORE TABLE'!$F41:$BC41)/COUNTIF('SCORE TABLE'!$F41:$BC41,'SCORE TABLE'!$F41:$BC41))","v":{"v":14.000000000000002,"d":"14"}},{"$f":"SUMPRODUCT(('SCORE TABLE'!Q41<='SCORE TABLE'!$F41:$BC41)/COUNTIF('SCORE TABLE'!$F41:$BC41,'SCORE TABLE'!$F41:$BC41))","v":37},{"$f":"SUMPRODUCT(('SCORE TABLE'!R41<='SCORE TABLE'!$F41:$BC41)/COUNTIF('SCORE TABLE'!$F41:$BC41,'SCORE TABLE'!$F41:$BC41))","v":2},{"$f":"SUMPRODUCT(('SCORE TABLE'!S41<='SCORE TABLE'!$F41:$BC41)/COUNTIF('SCORE TABLE'!$F41:$BC41,'SCORE TABLE'!$F41:$BC41))","v":10},{"$f":"SUMPRODUCT(('SCORE TABLE'!T41<='SCORE TABLE'!$F41:$BC41)/COUNTIF('SCORE TABLE'!$F41:$BC41,'SCORE TABLE'!$F41:$BC41))","v":36},{"$f":"SUMPRODUCT(('SCORE TABLE'!U41<='SCORE TABLE'!$F41:$BC41)/COUNTIF('SCORE TABLE'!$F41:$BC41,'SCORE TABLE'!$F41:$BC41))","v":8},{"$f":"SUMPRODUCT(('SCORE TABLE'!V41<='SCORE TABLE'!$F41:$BC41)/COUNTIF('SCORE TABLE'!$F41:$BC41,'SCORE TABLE'!$F41:$BC41))","v":12},{"$f":"SUMPRODUCT(('SCORE TABLE'!W41<='SCORE TABLE'!$F41:$BC41)/COUNTIF('SCORE TABLE'!$F41:$BC41,'SCORE TABLE'!$F41:$BC41))","v":23},{"$f":"SUMPRODUCT(('SCORE TABLE'!X41<='SCORE TABLE'!$F41:$BC41)/COUNTIF('SCORE TABLE'!$F41:$BC41,'SCORE TABLE'!$F41:$BC41))","v":28},{"$f":"SUMPRODUCT(('SCORE TABLE'!Y41<='SCORE TABLE'!$F41:$BC41)/COUNTIF('SCORE TABLE'!$F41:$BC41,'SCORE TABLE'!$F41:$BC41))","v":{"v":15.000000000000002,"d":"15"}},{"$f":"SUMPRODUCT(('SCORE TABLE'!Z41<='SCORE TABLE'!$F41:$BC41)/COUNTIF('SCORE TABLE'!$F41:$BC41,'SCORE TABLE'!$F41:$BC41))","v":{"v":29.999999999999996,"d":"30"}},{"$f":"SUMPRODUCT(('SCORE TABLE'!AA41<='SCORE TABLE'!$F41:$BC41)/COUNTIF('SCORE TABLE'!$F41:$BC41,'SCORE TABLE'!$F41:$BC41))","v":34},{"$f":"SUMPRODUCT(('SCORE TABLE'!AB41<='SCORE TABLE'!$F41:$BC41)/COUNTIF('SCORE TABLE'!$F41:$BC41,'SCORE TABLE'!$F41:$BC41))","v":17},{"$f":"SUMPRODUCT(('SCORE TABLE'!AC41<='SCORE TABLE'!$F41:$BC41)/COUNTIF('SCORE TABLE'!$F41:$BC41,'SCORE TABLE'!$F41:$BC41))","v":16},{"$f":"SUMPRODUCT(('SCORE TABLE'!AD41<='SCORE TABLE'!$F41:$BC41)/COUNTIF('SCORE TABLE'!$F41:$BC41,'SCORE TABLE'!$F41:$BC41))","v":22},{"$f":"SUMPRODUCT(('SCORE TABLE'!AE41<='SCORE TABLE'!$F41:$BC41)/COUNTIF('SCORE TABLE'!$F41:$BC41,'SCORE TABLE'!$F41:$BC41))","v":24},{"$f":"SUMPRODUCT(('SCORE TABLE'!AF41<='SCORE TABLE'!$F41:$BC41)/COUNTIF('SCORE TABLE'!$F41:$BC41,'SCORE TABLE'!$F41:$BC41))","v":39},{"$f":"SUMPRODUCT(('SCORE TABLE'!AG41<='SCORE TABLE'!$F41:$BC41)/COUNTIF('SCORE TABLE'!$F41:$BC41,'SCORE TABLE'!$F41:$BC41))","v":2},{"$f":"SUMPRODUCT(('SCORE TABLE'!AH41<='SCORE TABLE'!$F41:$BC41)/COUNTIF('SCORE TABLE'!$F41:$BC41,'SCORE TABLE'!$F41:$BC41))","v":18},{"$f":"SUMPRODUCT(('SCORE TABLE'!AI41<='SCORE TABLE'!$F41:$BC41)/COUNTIF('SCORE TABLE'!$F41:$BC41,'SCORE TABLE'!$F41:$BC41))","v":13},{"$f":"SUMPRODUCT(('SCORE TABLE'!AJ41<='SCORE TABLE'!$F41:$BC41)/COUNTIF('SCORE TABLE'!$F41:$BC41,'SCORE TABLE'!$F41:$BC41))","v":23},{"$f":"SUMPRODUCT(('SCORE TABLE'!AK41<='SCORE TABLE'!$F41:$BC41)/COUNTIF('SCORE TABLE'!$F41:$BC41,'SCORE TABLE'!$F41:$BC41))","v":{"v":14.000000000000002,"d":"14"}},{"$f":"SUMPRODUCT(('SCORE TABLE'!AL41<='SCORE TABLE'!$F41:$BC41)/COUNTIF('SCORE TABLE'!$F41:$BC41,'SCORE TABLE'!$F41:$BC41))","v":21},{"$f":"SUMPRODUCT(('SCORE TABLE'!AM41<='SCORE TABLE'!$F41:$BC41)/COUNTIF('SCORE TABLE'!$F41:$BC41,'SCORE TABLE'!$F41:$BC41))","v":40},{"$f":"SUMPRODUCT(('SCORE TABLE'!AN41<='SCORE TABLE'!$F41:$BC41)/COUNTIF('SCORE TABLE'!$F41:$BC41,'SCORE TABLE'!$F41:$BC41))","v":7},{"$f":"SUMPRODUCT(('SCORE TABLE'!AO41<='SCORE TABLE'!$F41:$BC41)/COUNTIF('SCORE TABLE'!$F41:$BC41,'SCORE TABLE'!$F41:$BC41))","v":11},{"$f":"SUMPRODUCT(('SCORE TABLE'!AP41<='SCORE TABLE'!$F41:$BC41)/COUNTIF('SCORE TABLE'!$F41:$BC41,'SCORE TABLE'!$F41:$BC41))","v":4},{"$f":"SUMPRODUCT(('SCORE TABLE'!AQ41<='SCORE TABLE'!$F41:$BC41)/COUNTIF('SCORE TABLE'!$F41:$BC41,'SCORE TABLE'!$F41:$BC41))","v":17},{"$f":"SUMPRODUCT(('SCORE TABLE'!AR41<='SCORE TABLE'!$F41:$BC41)/COUNTIF('SCORE TABLE'!$F41:$BC41,'SCORE TABLE'!$F41:$BC41))","v":13},{"$f":"SUMPRODUCT(('SCORE TABLE'!AS41<='SCORE TABLE'!$F41:$BC41)/COUNTIF('SCORE TABLE'!$F41:$BC41,'SCORE TABLE'!$F41:$BC41))","v":41},{"$f":"SUMPRODUCT(('SCORE TABLE'!AT41<='SCORE TABLE'!$F41:$BC41)/COUNTIF('SCORE TABLE'!$F41:$BC41,'SCORE TABLE'!$F41:$BC41))","v":25},{"$f":"SUMPRODUCT(('SCORE TABLE'!AU41<='SCORE TABLE'!$F41:$BC41)/COUNTIF('SCORE TABLE'!$F41:$BC41,'SCORE TABLE'!$F41:$BC41))","v":27},{"$f":"SUMPRODUCT(('SCORE TABLE'!AV41<='SCORE TABLE'!$F41:$BC41)/COUNTIF('SCORE TABLE'!$F41:$BC41,'SCORE TABLE'!$F41:$BC41))","v":35},{"$f":"SUMPRODUCT(('SCORE TABLE'!AW41<='SCORE TABLE'!$F41:$BC41)/COUNTIF('SCORE TABLE'!$F41:$BC41,'SCORE TABLE'!$F41:$BC41))","v":6},{"$f":"SUMPRODUCT(('SCORE TABLE'!AX41<='SCORE TABLE'!$F41:$BC41)/COUNTIF('SCORE TABLE'!$F41:$BC41,'SCORE TABLE'!$F41:$BC41))","v":26},{"$f":"SUMPRODUCT(('SCORE TABLE'!AY41<='SCORE TABLE'!$F41:$BC41)/COUNTIF('SCORE TABLE'!$F41:$BC41,'SCORE TABLE'!$F41:$BC41))","v":19},{"$f":"SUMPRODUCT(('SCORE TABLE'!AZ41<='SCORE TABLE'!$F41:$BC41)/COUNTIF('SCORE TABLE'!$F41:$BC41,'SCORE TABLE'!$F41:$BC41))","v":5},{"$f":"SUMPRODUCT(('SCORE TABLE'!BA41<='SCORE TABLE'!$F41:$BC41)/COUNTIF('SCORE TABLE'!$F41:$BC41,'SCORE TABLE'!$F41:$BC41))","v":{"v":31.999999999999996,"d":"32"}},{"$f":"SUMPRODUCT(('SCORE TABLE'!BB41<='SCORE TABLE'!$F41:$BC41)/COUNTIF('SCORE TABLE'!$F41:$BC41,'SCORE TABLE'!$F41:$BC41))","v":19},{"$f":"SUMPRODUCT(('SCORE TABLE'!BC41<='SCORE TABLE'!$F41:$BC41)/COUNTIF('SCORE TABLE'!$F41:$BC41,'SCORE TABLE'!$F41:$BC41))","v":22}]
[null,1031,"3.1.1","Promotion of physical activity",null,null,{"$f":"SUMPRODUCT(('SCORE TABLE'!F42<='SCORE TABLE'!$F42:$BC42)/COUNTIF('SCORE TABLE'!$F42:$BC42,'SCORE TABLE'!$F42:$BC42))","v":{"v":2.0000000000000004,"d":"2"}},{"$f":"SUMPRODUCT(('SCORE TABLE'!G42<='SCORE TABLE'!$F42:$BC42)/COUNTIF('SCORE TABLE'!$F42:$BC42,'SCORE TABLE'!$F42:$BC42))","v":{"v":2.0000000000000004,"d":"2"}},{"$f":"SUMPRODUCT(('SCORE TABLE'!H42<='SCORE TABLE'!$F42:$BC42)/COUNTIF('SCORE TABLE'!$F42:$BC42,'SCORE TABLE'!$F42:$BC42))","v":{"v":0.9999999999999999,"d":"1"}},{"$f":"SUMPRODUCT(('SCORE TABLE'!I42<='SCORE TABLE'!$F42:$BC42)/COUNTIF('SCORE TABLE'!$F42:$BC42,'SCORE TABLE'!$F42:$BC42))","v":{"v":2.0000000000000004,"d":"2"}},{"$f":"SUMPRODUCT(('SCORE TABLE'!J42<='SCORE TABLE'!$F42:$BC42)/COUNTIF('SCORE TABLE'!$F42:$BC42,'SCORE TABLE'!$F42:$BC42))","v":{"v":0.9999999999999999,"d":"1"}},{"$f":"SUMPRODUCT(('SCORE TABLE'!K42<='SCORE TABLE'!$F42:$BC42)/COUNTIF('SCORE TABLE'!$F42:$BC42,'SCORE TABLE'!$F42:$BC42))","v":{"v":0.9999999999999999,"d":"1"}},{"$f":"SUMPRODUCT(('SCORE TABLE'!L42<='SCORE TABLE'!$F42:$BC42)/COUNTIF('SCORE TABLE'!$F42:$BC42,'SCORE TABLE'!$F42:$BC42))","v":{"v":2.0000000000000004,"d":"2"}},{"$f":"SUMPRODUCT(('SCORE TABLE'!M42<='SCORE TABLE'!$F42:$BC42)/COUNTIF('SCORE TABLE'!$F42:$BC42,'SCORE TABLE'!$F42:$BC42))","v":{"v":0.9999999999999999,"d":"1"}},{"$f":"SUMPRODUCT(('SCORE TABLE'!N42<='SCORE TABLE'!$F42:$BC42)/COUNTIF('SCORE TABLE'!$F42:$BC42,'SCORE TABLE'!$F42:$BC42))","v":{"v":3.0000000000000013,"d":"3"}},{"$f":"SUMPRODUCT(('SCORE TABLE'!O42<='SCORE TABLE'!$F42:$BC42)/COUNTIF('SCORE TABLE'!$F42:$BC42,'SCORE TABLE'!$F42:$BC42))","v":{"v":3.0000000000000013,"d":"3"}},{"$f":"SUMPRODUCT(('SCORE TABLE'!P42<='SCORE TABLE'!$F42:$BC42)/COUNTIF('SCORE TABLE'!$F42:$BC42,'SCORE TABLE'!$F42:$BC42))","v":{"v":2.0000000000000004,"d":"2"}},{"$f":"SUMPRODUCT(('SCORE TABLE'!Q42<='SCORE TABLE'!$F42:$BC42)/COUNTIF('SCORE TABLE'!$F42:$BC42,'SCORE TABLE'!$F42:$BC42))","v":{"v":3.0000000000000013,"d":"3"}},{"$f":"SUMPRODUCT(('SCORE TABLE'!R42<='SCORE TABLE'!$F42:$BC42)/COUNTIF('SCORE TABLE'!$F42:$BC42,'SCORE TABLE'!$F42:$BC42))","v":{"v":0.9999999999999999,"d":"1"}},{"$f":"SUMPRODUCT(('SCORE TABLE'!S42<='SCORE TABLE'!$F42:$BC42)/COUNTIF('SCORE TABLE'!$F42:$BC42,'SCORE TABLE'!$F42:$BC42))","v":{"v":0.9999999999999999,"d":"1"}},{"$f":"SUMPRODUCT(('SCORE TABLE'!T42<='SCORE TABLE'!$F42:$BC42)/COUNTIF('SCORE TABLE'!$F42:$BC42,'SCORE TABLE'!$F42:$BC42))","v":{"v":3.0000000000000013,"d":"3"}},{"$f":"SUMPRODUCT(('SCORE TABLE'!U42<='SCORE TABLE'!$F42:$BC42)/COUNTIF('SCORE TABLE'!$F42:$BC42,'SCORE TABLE'!$F42:$BC42))","v":{"v":0.9999999999999999,"d":"1"}},{"$f":"SUMPRODUCT(('SCORE TABLE'!V42<='SCORE TABLE'!$F42:$BC42)/COUNTIF('SCORE TABLE'!$F42:$BC42,'SCORE TABLE'!$F42:$BC42))","v":{"v":0.9999999999999999,"d":"1"}},{"$f":"SUMPRODUCT(('SCORE TABLE'!W42<='SCORE TABLE'!$F42:$BC42)/COUNTIF('SCORE TABLE'!$F42:$BC42,'SCORE TABLE'!$F42:$BC42))","v":{"v":2.0000000000000004,"d":"2"}},{"$f":"SUMPRODUCT(('SCORE TABLE'!X42<='SCORE TABLE'!$F42:$BC42)/COUNTIF('SCORE TABLE'!$F42:$BC42,'SCORE TABLE'!$F42:$BC42))","v":{"v":2.0000000000000004,"d":"2"}},{"$f":"SUMPRODUCT(('SCORE TABLE'!Y42<='SCORE TABLE'!$F42:$BC42)/COUNTIF('SCORE TABLE'!$F42:$BC42,'SCORE TABLE'!$F42:$BC42))","v":{"v":2.0000000000000004,"d":"2"}},{"$f":"SUMPRODUCT(('SCORE TABLE'!Z42<='SCORE TABLE'!$F42:$BC42)/COUNTIF('SCORE TABLE'!$F42:$BC42,'SCORE TABLE'!$F42:$BC42))","v":{"v":3.0000000000000013,"d":"3"}},{"$f":"SUMPRODUCT(('SCORE TABLE'!AA42<='SCORE TABLE'!$F42:$BC42)/COUNTIF('SCORE TABLE'!$F42:$BC42,'SCORE TABLE'!$F42:$BC42))","v":{"v":3.0000000000000013,"d":"3"}},{"$f":"SUMPRODUCT(('SCORE TABLE'!AB42<='SCORE TABLE'!$F42:$BC42)/COUNTIF('SCORE TABLE'!$F42:$BC42,'SCORE TABLE'!$F42:$BC42))","v":{"v":2.0000000000000004,"d":"2"}},{"$f":"SUMPRODUCT(('SCORE TABLE'!AC42<='SCORE TABLE'!$F42:$BC42)/COUNTIF('SCORE TABLE'!$F42:$BC42,'SCORE TABLE'!$F42:$BC42))","v":{"v":0.9999999999999999,"d":"1"}},{"$f":"SUMPRODUCT(('SCORE TABLE'!AD42<='SCORE TABLE'!$F42:$BC42)/COUNTIF('SCORE TABLE'!$F42:$BC42,'SCORE TABLE'!$F42:$BC42))","v":{"v":2.0000000000000004,"d":"2"}},{"$f":"SUMPRODUCT(('SCORE TABLE'!AE42<='SCORE TABLE'!$F42:$BC42)/COUNTIF('SCORE TABLE'!$F42:$BC42,'SCORE TABLE'!$F42:$BC42))","v":{"v":2.0000000000000004,"d":"2"}},{"$f":"SUMPRODUCT(('SCORE TABLE'!AF42<='SCORE TABLE'!$F42:$BC42)/COUNTIF('SCORE TABLE'!$F42:$BC42,'SCORE TABLE'!$F42:$BC42))","v":{"v":4.000000000000002,"d":"4"}},{"$f":"SUMPRODUCT(('SCORE TABLE'!AG42<='SCORE TABLE'!$F42:$BC42)/COUNTIF('SCORE TABLE'!$F42:$BC42,'SCORE TABLE'!$F42:$BC42))","v":{"v":0.9999999999999999,"d":"1"}},{"$f":"SUMPRODUCT(('SCORE TABLE'!AH42<='SCORE TABLE'!$F42:$BC42)/COUNTIF('SCORE TABLE'!$F42:$BC42,'SCORE TABLE'!$F42:$BC42))","v":{"v":2.0000000000000004,"d":"2"}},{"$f":"SUMPRODUCT(('SCORE TABLE'!AI42<='SCORE TABLE'!$F42:$BC42)/COUNTIF('SCORE TABLE'!$F42:$BC42,'SCORE TABLE'!$F42:$BC42))","v":{"v":2.0000000000000004,"d":"2"}},{"$f":"SUMPRODUCT(('SCORE TABLE'!AJ42<='SCORE TABLE'!$F42:$BC42)/COUNTIF('SCORE TABLE'!$F42:$BC42,'SCORE TABLE'!$F42:$BC42))","v":{"v":2.0000000000000004,"d":"2"}},{"$f":"SUMPRODUCT(('SCORE TABLE'!AK42<='SCORE TABLE'!$F42:$BC42)/COUNTIF('SCORE TABLE'!$F42:$BC42,'SCORE TABLE'!$F42:$BC42))","v":{"v":2.0000000000000004,"d":"2"}},{"$f":"SUMPRODUCT(('SCORE TABLE'!AL42<='SCORE TABLE'!$F42:$BC42)/COUNTIF('SCORE TABLE'!$F42:$BC42,'SCORE TABLE'!$F42:$BC42))","v":{"v":2.0000000000000004,"d":"2"}},{"$f":"SUMPRODUCT(('SCORE TABLE'!AM42<='SCORE TABLE'!$F42:$BC42)/COUNTIF('SCORE TABLE'!$F42:$BC42,'SCORE TABLE'!$F42:$BC42))","v":{"v":4.000000000000002,"d":"4"}},{"$f":"SUMPRODUCT(('SCORE TABLE'!AN42<='SCORE TABLE'!$F42:$BC42)/COUNTIF('SCORE TABLE'!$F42:$BC42,'SCORE TABLE'!$F42:$BC42))","v":{"v":0.9999999999999999,"d":"1"}},{"$f":"SUMPRODUCT(('SCORE TABLE'!AO42<='SCORE TABLE'!$F42:$BC42)/COUNTIF('SCORE TABLE'!$F42:$BC42,'SCORE TABLE'!$F42:$BC42))","v":{"v":0.9999999999999999,"d":"1"}},{"$f":"SUMPRODUCT(('SCORE TABLE'!AP42<='SCORE TABLE'!$F42:$BC42)/COUNTIF('SCORE TABLE'!$F42:$BC42,'SCORE TABLE'!$F42:$BC42))","v":{"v":0.9999999999999999,"d":"1"}},{"$f":"SUMPRODUCT(('SCORE TABLE'!AQ42<='SCORE TABLE'!$F42:$BC42)/COUNTIF('SCORE TABLE'!$F42:$BC42,'SCORE TABLE'!$F42:$BC42))","v":{"v":2.0000000000000004,"d":"2"}},{"$f":"SUMPRODUCT(('SCORE TABLE'!AR42<='SCORE TABLE'!$F42:$BC42)/COUNTIF('SCORE TABLE'!$F42:$BC42,'SCORE TABLE'!$F42:$BC42))","v":{"v":2.0000000000000004,"d":"2"}},{"$f":"SUMPRODUCT(('SCORE TABLE'!AS42<='SCORE TABLE'!$F42:$BC42)/COUNTIF('SCORE TABLE'!$F42:$BC42,'SCORE TABLE'!$F42:$BC42))","v":{"v":4.000000000000002,"d":"4"}},{"$f":"SUMPRODUCT(('SCORE TABLE'!AT42<='SCORE TABLE'!$F42:$BC42)/COUNTIF('SCORE TABLE'!$F42:$BC42,'SCORE TABLE'!$F42:$BC42))","v":{"v":2.0000000000000004,"d":"2"}},{"$f":"SUMPRODUCT(('SCORE TABLE'!AU42<='SCORE TABLE'!$F42:$BC42)/COUNTIF('SCORE TABLE'!$F42:$BC42,'SCORE TABLE'!$F42:$BC42))","v":{"v":2.0000000000000004,"d":"2"}},{"$f":"SUMPRODUCT(('SCORE TABLE'!AV42<='SCORE TABLE'!$F42:$BC42)/COUNTIF('SCORE TABLE'!$F42:$BC42,'SCORE TABLE'!$F42:$BC42))","v":{"v":3.0000000000000013,"d":"3"}},{"$f":"SUMPRODUCT(('SCORE TABLE'!AW42<='SCORE TABLE'!$F42:$BC42)/COUNTIF('SCORE TABLE'!$F42:$BC42,'SCORE TABLE'!$F42:$BC42))","v":{"v":0.9999999999999999,"d":"1"}},{"$f":"SUMPRODUCT(('SCORE TABLE'!AX42<='SCORE TABLE'!$F42:$BC42)/COUNTIF('SCORE TABLE'!$F42:$BC42,'SCORE TABLE'!$F42:$BC42))","v":{"v":2.0000000000000004,"d":"2"}},{"$f":"SUMPRODUCT(('SCORE TABLE'!AY42<='SCORE TABLE'!$F42:$BC42)/COUNTIF('SCORE TABLE'!$F42:$BC42,'SCORE TABLE'!$F42:$BC42))","v":{"v":2.0000000000000004,"d":"2"}},{"$f":"SUMPRODUCT(('SCORE TABLE'!AZ42<='SCORE TABLE'!$F42:$BC42)/COUNTIF('SCORE TABLE'!$F42:$BC42,'SCORE TABLE'!$F42:$BC42))","v":{"v":0.9999999999999999,"d":"1"}},{"$f":"SUMPRODUCT(('SCORE TABLE'!BA42<='SCORE TABLE'!$F42:$BC42)/COUNTIF('SCORE TABLE'!$F42:$BC42,'SCORE TABLE'!$F42:$BC42))","v":{"v":2.0000000000000004,"d":"2"}},{"$f":"SUMPRODUCT(('SCORE TABLE'!BB42<='SCORE TABLE'!$F42:$BC42)/COUNTIF('SCORE TABLE'!$F42:$BC42,'SCORE TABLE'!$F42:$BC42))","v":{"v":2.0000000000000004,"d":"2"}},{"$f":"SUMPRODUCT(('SCORE TABLE'!BC42<='SCORE TABLE'!$F42:$BC42)/COUNTIF('SCORE TABLE'!$F42:$BC42,'SCORE TABLE'!$F42:$BC42))","v":{"v":2.0000000000000004,"d":"2"}}]
[null,1032,"3.1.2","Access to exercise facilities",null,null,{"$f":"SUMPRODUCT(('SCORE TABLE'!F43<='SCORE TABLE'!$F43:$BC43)/COUNTIF('SCORE TABLE'!$F43:$BC43,'SCORE TABLE'!$F43:$BC43))","v":{"v":26.99999999999999,"d":"27"}},{"$f":"SUMPRODUCT(('SCORE TABLE'!G43<='SCORE TABLE'!$F43:$BC43)/COUNTIF('SCORE TABLE'!$F43:$BC43,'SCORE TABLE'!$F43:$BC43))","v":{"v":14.000000000000002,"d":"14"}},{"$f":"SUMPRODUCT(('SCORE TABLE'!H43<='SCORE TABLE'!$F43:$BC43)/COUNTIF('SCORE TABLE'!$F43:$BC43,'SCORE TABLE'!$F43:$BC43))","v":9},{"$f":"SUMPRODUCT(('SCORE TABLE'!I43<='SCORE TABLE'!$F43:$BC43)/COUNTIF('SCORE TABLE'!$F43:$BC43,'SCORE TABLE'!$F43:$BC43))","v":{"v":25.999999999999993,"d":"26"}},{"$f":"SUMPRODUCT(('SCORE TABLE'!J43<='SCORE TABLE'!$F43:$BC43)/COUNTIF('SCORE TABLE'!$F43:$BC43,'SCORE TABLE'!$F43:$BC43))","v":3},{"$f":"SUMPRODUCT(('SCORE TABLE'!K43<='SCORE TABLE'!$F43:$BC43)/COUNTIF('SCORE TABLE'!$F43:$BC43,'SCORE TABLE'!$F43:$BC43))","v":7},{"$f":"SUMPRODUCT(('SCORE TABLE'!L43<='SCORE TABLE'!$F43:$BC43)/COUNTIF('SCORE TABLE'!$F43:$BC43,'SCORE TABLE'!$F43:$BC43))","v":4},{"$f":"SUMPRODUCT(('SCORE TABLE'!M43<='SCORE TABLE'!$F43:$BC43)/COUNTIF('SCORE TABLE'!$F43:$BC43,'SCORE TABLE'!$F43:$BC43))","v":{"v":14.000000000000002,"d":"14"}},{"$f":"SUMPRODUCT(('SCORE TABLE'!N43<='SCORE TABLE'!$F43:$BC43)/COUNTIF('SCORE TABLE'!$F43:$BC43,'SCORE TABLE'!$F43:$BC43))","v":8},{"$f":"SUMPRODUCT(('SCORE TABLE'!O43<='SCORE TABLE'!$F43:$BC43)/COUNTIF('SCORE TABLE'!$F43:$BC43,'SCORE TABLE'!$F43:$BC43))","v":{"v":17.999999999999996,"d":"18"}},{"$f":"SUMPRODUCT(('SCORE TABLE'!P43<='SCORE TABLE'!$F43:$BC43)/COUNTIF('SCORE TABLE'!$F43:$BC43,'SCORE TABLE'!$F43:$BC43))","v":4},{"$f":"SUMPRODUCT(('SCORE TABLE'!Q43<='SCORE TABLE'!$F43:$BC43)/COUNTIF('SCORE TABLE'!$F43:$BC43,'SCORE TABLE'!$F43:$BC43))","v":16},{"$f":"SUMPRODUCT(('SCORE TABLE'!R43<='SCORE TABLE'!$F43:$BC43)/COUNTIF('SCORE TABLE'!$F43:$BC43,'SCORE TABLE'!$F43:$BC43))","v":{"v":5.999999999999999,"d":"6"}},{"$f":"SUMPRODUCT(('SCORE TABLE'!S43<='SCORE TABLE'!$F43:$BC43)/COUNTIF('SCORE TABLE'!$F43:$BC43,'SCORE TABLE'!$F43:$BC43))","v":{"v":16.999999999999996,"d":"17"}},{"$f":"SUMPRODUCT(('SCORE TABLE'!T43<='SCORE TABLE'!$F43:$BC43)/COUNTIF('SCORE TABLE'!$F43:$BC43,'SCORE TABLE'!$F43:$BC43))","v":{"v":13.000000000000004,"d":"13"}},{"$f":"SUMPRODUCT(('SCORE TABLE'!U43<='SCORE TABLE'!$F43:$BC43)/COUNTIF('SCORE TABLE'!$F43:$BC43,'SCORE TABLE'!$F43:$BC43))","v":{"v":13.000000000000004,"d":"13"}},{"$f":"SUMPRODUCT(('SCORE TABLE'!V43<='SCORE TABLE'!$F43:$BC43)/COUNTIF('SCORE TABLE'!$F43:$BC43,'SCORE TABLE'!$F43:$BC43))","v":{"v":21.999999999999993,"d":"22"}},{"$f":"SUMPRODUCT(('SCORE TABLE'!W43<='SCORE TABLE'!$F43:$BC43)/COUNTIF('SCORE TABLE'!$F43:$BC43,'SCORE TABLE'!$F43:$BC43))","v":{"v":16.999999999999996,"d":"17"}},{"$f":"SUMPRODUCT(('SCORE TABLE'!X43<='SCORE TABLE'!$F43:$BC43)/COUNTIF('SCORE TABLE'!$F43:$BC43,'SCORE TABLE'!$F43:$BC43))","v":{"v":24.999999999999993,"d":"25"}},{"$f":"SUMPRODUCT(('SCORE TABLE'!Y43<='SCORE TABLE'!$F43:$BC43)/COUNTIF('SCORE TABLE'!$F43:$BC43,'SCORE TABLE'!$F43:$BC43))","v":{"v":4.999999999999999,"d":"5"}},{"$f":"SUMPRODUCT(('SCORE TABLE'!Z43<='SCORE TABLE'!$F43:$BC43)/COUNTIF('SCORE TABLE'!$F43:$BC43,'SCORE TABLE'!$F43:$BC43))","v":2},{"$f":"SUMPRODUCT(('SCORE TABLE'!AA43<='SCORE TABLE'!$F43:$BC43)/COUNTIF('SCORE TABLE'!$F43:$BC43,'SCORE TABLE'!$F43:$BC43))","v":9},{"$f":"SUMPRODUCT(('SCORE TABLE'!AB43<='SCORE TABLE'!$F43:$BC43)/COUNTIF('SCORE TABLE'!$F43:$BC43,'SCORE TABLE'!$F43:$BC43))","v":9},{"$f":"SUMPRODUCT(('SCORE TABLE'!AC43<='SCORE TABLE'!$F43:$BC43)/COUNTIF('SCORE TABLE'!$F43:$BC43,'SCORE TABLE'!$F43:$BC43))","v":{"v":28.99999999999999,"d":"29"}},{"$f":"SUMPRODUCT(('SCORE TABLE'!AD43<='SCORE TABLE'!$F43:$BC43)/COUNTIF('SCORE TABLE'!$F43:$BC43,'SCORE TABLE'!$F43:$BC43))","v":16},{"$f":"SUMPRODUCT(('SCORE TABLE'!AE43<='SCORE TABLE'!$F43:$BC43)/COUNTIF('SCORE TABLE'!$F43:$BC43,'SCORE TABLE'!$F43:$BC43))","v":{"v":18.999999999999996,"d":"19"}},{"$f":"SUMPRODUCT(('SCORE TABLE'!AF43<='SCORE TABLE'!$F43:$BC43)/COUNTIF('SCORE TABLE'!$F43:$BC43,'SCORE TABLE'!$F43:$BC43))","v":10},{"$f":"SUMPRODUCT(('SCORE TABLE'!AG43<='SCORE TABLE'!$F43:$BC43)/COUNTIF('SCORE TABLE'!$F43:$BC43,'SCORE TABLE'!$F43:$BC43))","v":{"v":5.999999999999999,"d":"6"}},{"$f":"SUMPRODUCT(('SCORE TABLE'!AH43<='SCORE TABLE'!$F43:$BC43)/COUNTIF('SCORE TABLE'!$F43:$BC43,'SCORE TABLE'!$F43:$BC43))","v":10},{"$f":"SUMPRODUCT(('SCORE TABLE'!AI43<='SCORE TABLE'!$F43:$BC43)/COUNTIF('SCORE TABLE'!$F43:$BC43,'SCORE TABLE'!$F43:$BC43))","v":1},{"$f":"SUMPRODUCT(('SCORE TABLE'!AJ43<='SCORE TABLE'!$F43:$BC43)/COUNTIF('SCORE TABLE'!$F43:$BC43,'SCORE TABLE'!$F43:$BC43))","v":{"v":16.999999999999996,"d":"17"}},{"$f":"SUMPRODUCT(('SCORE TABLE'!AK43<='SCORE TABLE'!$F43:$BC43)/COUNTIF('SCORE TABLE'!$F43:$BC43,'SCORE TABLE'!$F43:$BC43))","v":4},{"$f":"SUMPRODUCT(('SCORE TABLE'!AL43<='SCORE TABLE'!$F43:$BC43)/COUNTIF('SCORE TABLE'!$F43:$BC43,'SCORE TABLE'!$F43:$BC43))","v":{"v":15.000000000000002,"d":"15"}},{"$f":"SUMPRODUCT(('SCORE TABLE'!AM43<='SCORE TABLE'!$F43:$BC43)/COUNTIF('SCORE TABLE'!$F43:$BC43,'SCORE TABLE'!$F43:$BC43))","v":{"v":16.999999999999996,"d":"17"}},{"$f":"SUMPRODUCT(('SCORE TABLE'!AN43<='SCORE TABLE'!$F43:$BC43)/COUNTIF('SCORE TABLE'!$F43:$BC43,'SCORE TABLE'!$F43:$BC43))","v":{"v":11.000000000000002,"d":"11"}},{"$f":"SUMPRODUCT(('SCORE TABLE'!AO43<='SCORE TABLE'!$F43:$BC43)/COUNTIF('SCORE TABLE'!$F43:$BC43,'SCORE TABLE'!$F43:$BC43))","v":{"v":20.999999999999993,"d":"21"}},{"$f":"SUMPRODUCT(('SCORE TABLE'!AP43<='SCORE TABLE'!$F43:$BC43)/COUNTIF('SCORE TABLE'!$F43:$BC43,'SCORE TABLE'!$F43:$BC43))","v":8},{"$f":"SUMPRODUCT(('SCORE TABLE'!AQ43<='SCORE TABLE'!$F43:$BC43)/COUNTIF('SCORE TABLE'!$F43:$BC43,'SCORE TABLE'!$F43:$BC43))","v":9},{"$f":"SUMPRODUCT(('SCORE TABLE'!AR43<='SCORE TABLE'!$F43:$BC43)/COUNTIF('SCORE TABLE'!$F43:$BC43,'SCORE TABLE'!$F43:$BC43))","v":1},{"$f":"SUMPRODUCT(('SCORE TABLE'!AS43<='SCORE TABLE'!$F43:$BC43)/COUNTIF('SCORE TABLE'!$F43:$BC43,'SCORE TABLE'!$F43:$BC43))","v":{"v":22.999999999999993,"d":"23"}},{"$f":"SUMPRODUCT(('SCORE TABLE'!AT43<='SCORE TABLE'!$F43:$BC43)/COUNTIF('SCORE TABLE'!$F43:$BC43,'SCORE TABLE'!$F43:$BC43))","v":{"v":19.999999999999996,"d":"20"}},{"$f":"SUMPRODUCT(('SCORE TABLE'!AU43<='SCORE TABLE'!$F43:$BC43)/COUNTIF('SCORE TABLE'!$F43:$BC43,'SCORE TABLE'!$F43:$BC43))","v":{"v":23.999999999999993,"d":"24"}},{"$f":"SUMPRODUCT(('SCORE TABLE'!AV43<='SCORE TABLE'!$F43:$BC43)/COUNTIF('SCORE TABLE'!$F43:$BC43,'SCORE TABLE'!$F43:$BC43))","v":{"v":12.000000000000002,"d":"12"}},{"$f":"SUMPRODUCT(('SCORE TABLE'!AW43<='SCORE TABLE'!$F43:$BC43)/COUNTIF('SCORE TABLE'!$F43:$BC43,'SCORE TABLE'!$F43:$BC43))","v":10},{"$f":"SUMPRODUCT(('SCORE TABLE'!AX43<='SCORE TABLE'!$F43:$BC43)/COUNTIF('SCORE TABLE'!$F43:$BC43,'SCORE TABLE'!$F43:$BC43))","v":{"v":21.999999999999993,"d":"22"}},{"$f":"SUMPRODUCT(('SCORE TABLE'!AY43<='SCORE TABLE'!$F43:$BC43)/COUNTIF('SCORE TABLE'!$F43:$BC43,'SCORE TABLE'!$F43:$BC43))","v":{"v":11.000000000000002,"d":"11"}},{"$f":"SUMPRODUCT(('SCORE TABLE'!AZ43<='SCORE TABLE'!$F43:$BC43)/COUNTIF('SCORE TABLE'!$F43:$BC43,'SCORE TABLE'!$F43:$BC43))","v":9},{"$f":"SUMPRODUCT(('SCORE TABLE'!BA43<='SCORE TABLE'!$F43:$BC43)/COUNTIF('SCORE TABLE'!$F43:$BC43,'SCORE TABLE'!$F43:$BC43))","v":{"v":27.99999999999999,"d":"28"}},{"$f":"SUMPRODUCT(('SCORE TABLE'!BB43<='SCORE TABLE'!$F43:$BC43)/COUNTIF('SCORE TABLE'!$F43:$BC43,'SCORE TABLE'!$F43:$BC43))","v":{"v":11.000000000000002,"d":"11"}},{"$f":"SUMPRODUCT(('SCORE TABLE'!BC43<='SCORE TABLE'!$F43:$BC43)/COUNTIF('SCORE TABLE'!$F43:$BC43,'SCORE TABLE'!$F43:$BC43))","v":16}]
[null,1033,3.2,"Physical activity among children",null,null,{"$f":"SUMPRODUCT(('SCORE TABLE'!F44<='SCORE TABLE'!$F44:$BC44)/COUNTIF('SCORE TABLE'!$F44:$BC44,'SCORE TABLE'!$F44:$BC44))","v":2},{"$f":"SUMPRODUCT(('SCORE TABLE'!G44<='SCORE TABLE'!$F44:$BC44)/COUNTIF('SCORE TABLE'!$F44:$BC44,'SCORE TABLE'!$F44:$BC44))","v":2},{"$f":"SUMPRODUCT(('SCORE TABLE'!H44<='SCORE TABLE'!$F44:$BC44)/COUNTIF('SCORE TABLE'!$F44:$BC44,'SCORE TABLE'!$F44:$BC44))","v":2.9999999999999982},{"$f":"SUMPRODUCT(('SCORE TABLE'!I44<='SCORE TABLE'!$F44:$BC44)/COUNTIF('SCORE TABLE'!$F44:$BC44,'SCORE TABLE'!$F44:$BC44))","v":2},{"$f":"SUMPRODUCT(('SCORE TABLE'!J44<='SCORE TABLE'!$F44:$BC44)/COUNTIF('SCORE TABLE'!$F44:$BC44,'SCORE TABLE'!$F44:$BC44))","v":2},{"$f":"SUMPRODUCT(('SCORE TABLE'!K44<='SCORE TABLE'!$F44:$BC44)/COUNTIF('SCORE TABLE'!$F44:$BC44,'SCORE TABLE'!$F44:$BC44))","v":2},{"$f":"SUMPRODUCT(('SCORE TABLE'!L44<='SCORE TABLE'!$F44:$BC44)/COUNTIF('SCORE TABLE'!$F44:$BC44,'SCORE TABLE'!$F44:$BC44))","v":2},{"$f":"SUMPRODUCT(('SCORE TABLE'!M44<='SCORE TABLE'!$F44:$BC44)/COUNTIF('SCORE TABLE'!$F44:$BC44,'SCORE TABLE'!$F44:$BC44))","v":2},{"$f":"SUMPRODUCT(('SCORE TABLE'!N44<='SCORE TABLE'!$F44:$BC44)/COUNTIF('SCORE TABLE'!$F44:$BC44,'SCORE TABLE'!$F44:$BC44))","v":2},{"$f":"SUMPRODUCT(('SCORE TABLE'!O44<='SCORE TABLE'!$F44:$BC44)/COUNTIF('SCORE TABLE'!$F44:$BC44,'SCORE TABLE'!$F44:$BC44))","v":2},{"$f":"SUMPRODUCT(('SCORE TABLE'!P44<='SCORE TABLE'!$F44:$BC44)/COUNTIF('SCORE TABLE'!$F44:$BC44,'SCORE TABLE'!$F44:$BC44))","v":2},{"$f":"SUMPRODUCT(('SCORE TABLE'!Q44<='SCORE TABLE'!$F44:$BC44)/COUNTIF('SCORE TABLE'!$F44:$BC44,'SCORE TABLE'!$F44:$BC44))","v":2},{"$f":"SUMPRODUCT(('SCORE TABLE'!R44<='SCORE TABLE'!$F44:$BC44)/COUNTIF('SCORE TABLE'!$F44:$BC44,'SCORE TABLE'!$F44:$BC44))","v":2},{"$f":"SUMPRODUCT(('SCORE TABLE'!S44<='SCORE TABLE'!$F44:$BC44)/COUNTIF('SCORE TABLE'!$F44:$BC44,'SCORE TABLE'!$F44:$BC44))","v":2},{"$f":"SUMPRODUCT(('SCORE TABLE'!T44<='SCORE TABLE'!$F44:$BC44)/COUNTIF('SCORE TABLE'!$F44:$BC44,'SCORE TABLE'!$F44:$BC44))","v":2},{"$f":"SUMPRODUCT(('SCORE TABLE'!U44<='SCORE TABLE'!$F44:$BC44)/COUNTIF('SCORE TABLE'!$F44:$BC44,'SCORE TABLE'!$F44:$BC44))","v":2.9999999999999982},{"$f":"SUMPRODUCT(('SCORE TABLE'!V44<='SCORE TABLE'!$F44:$BC44)/COUNTIF('SCORE TABLE'!$F44:$BC44,'SCORE TABLE'!$F44:$BC44))","v":2},{"$f":"SUMPRODUCT(('SCORE TABLE'!W44<='SCORE TABLE'!$F44:$BC44)/COUNTIF('SCORE TABLE'!$F44:$BC44,'SCORE TABLE'!$F44:$BC44))","v":2},{"$f":"SUMPRODUCT(('SCORE TABLE'!X44<='SCORE TABLE'!$F44:$BC44)/COUNTIF('SCORE TABLE'!$F44:$BC44,'SCORE TABLE'!$F44:$BC44))","v":2},{"$f":"SUMPRODUCT(('SCORE TABLE'!Y44<='SCORE TABLE'!$F44:$BC44)/COUNTIF('SCORE TABLE'!$F44:$BC44,'SCORE TABLE'!$F44:$BC44))","v":2},{"$f":"SUMPRODUCT(('SCORE TABLE'!Z44<='SCORE TABLE'!$F44:$BC44)/COUNTIF('SCORE TABLE'!$F44:$BC44,'SCORE TABLE'!$F44:$BC44))","v":2},{"$f":"SUMPRODUCT(('SCORE TABLE'!AA44<='SCORE TABLE'!$F44:$BC44)/COUNTIF('SCORE TABLE'!$F44:$BC44,'SCORE TABLE'!$F44:$BC44))","v":2},{"$f":"SUMPRODUCT(('SCORE TABLE'!AB44<='SCORE TABLE'!$F44:$BC44)/COUNTIF('SCORE TABLE'!$F44:$BC44,'SCORE TABLE'!$F44:$BC44))","v":2},{"$f":"SUMPRODUCT(('SCORE TABLE'!AC44<='SCORE TABLE'!$F44:$BC44)/COUNTIF('SCORE TABLE'!$F44:$BC44,'SCORE TABLE'!$F44:$BC44))","v":2},{"$f":"SUMPRODUCT(('SCORE TABLE'!AD44<='SCORE TABLE'!$F44:$BC44)/COUNTIF('SCORE TABLE'!$F44:$BC44,'SCORE TABLE'!$F44:$BC44))","v":2},{"$f":"SUMPRODUCT(('SCORE TABLE'!AE44<='SCORE TABLE'!$F44:$BC44)/COUNTIF('SCORE TABLE'!$F44:$BC44,'SCORE TABLE'!$F44:$BC44))","v":2},{"$f":"SUMPRODUCT(('SCORE TABLE'!AF44<='SCORE TABLE'!$F44:$BC44)/COUNTIF('SCORE TABLE'!$F44:$BC44,'SCORE TABLE'!$F44:$BC44))","v":2},{"$f":"SUMPRODUCT(('SCORE TABLE'!AG44<='SCORE TABLE'!$F44:$BC44)/COUNTIF('SCORE TABLE'!$F44:$BC44,'SCORE TABLE'!$F44:$BC44))","v":2},{"$f":"SUMPRODUCT(('SCORE TABLE'!AH44<='SCORE TABLE'!$F44:$BC44)/COUNTIF('SCORE TABLE'!$F44:$BC44,'SCORE TABLE'!$F44:$BC44))","v":2},{"$f":"SUMPRODUCT(('SCORE TABLE'!AI44<='SCORE TABLE'!$F44:$BC44)/COUNTIF('SCORE TABLE'!$F44:$BC44,'SCORE TABLE'!$F44:$BC44))","v":2},{"$f":"SUMPRODUCT(('SCORE TABLE'!AJ44<='SCORE TABLE'!$F44:$BC44)/COUNTIF('SCORE TABLE'!$F44:$BC44,'SCORE TABLE'!$F44:$BC44))","v":2},{"$f":"SUMPRODUCT(('SCORE TABLE'!AK44<='SCORE TABLE'!$F44:$BC44)/COUNTIF('SCORE TABLE'!$F44:$BC44,'SCORE TABLE'!$F44:$BC44))","v":2},{"$f":"SUMPRODUCT(('SCORE TABLE'!AL44<='SCORE TABLE'!$F44:$BC44)/COUNTIF('SCORE TABLE'!$F44:$BC44,'SCORE TABLE'!$F44:$BC44))","v":2},{"$f":"SUMPRODUCT(('SCORE TABLE'!AM44<='SCORE TABLE'!$F44:$BC44)/COUNTIF('SCORE TABLE'!$F44:$BC44,'SCORE TABLE'!$F44:$BC44))","v":2},{"$f":"SUMPRODUCT(('SCORE TABLE'!AN44<='SCORE TABLE'!$F44:$BC44)/COUNTIF('SCORE TABLE'!$F44:$BC44,'SCORE TABLE'!$F44:$BC44))","v":2},{"$f":"SUMPRODUCT(('SCORE TABLE'!AO44<='SCORE TABLE'!$F44:$BC44)/COUNTIF('SCORE TABLE'!$F44:$BC44,'SCORE TABLE'!$F44:$BC44))","v":2},{"$f":"SUMPRODUCT(('SCORE TABLE'!AP44<='SCORE TABLE'!$F44:$BC44)/COUNTIF('SCORE TABLE'!$F44:$BC44,'SCORE TABLE'!$F44:$BC44))","v":2},{"$f":"SUMPRODUCT(('SCORE TABLE'!AQ44<='SCORE TABLE'!$F44:$BC44)/COUNTIF('SCORE TABLE'!$F44:$BC44,'SCORE TABLE'!$F44:$BC44))","v":2},{"$f":"SUMPRODUCT(('SCORE TABLE'!AR44<='SCORE TABLE'!$F44:$BC44)/COUNTIF('SCORE TABLE'!$F44:$BC44,'SCORE TABLE'!$F44:$BC44))","v":2},{"$f":"SUMPRODUCT(('SCORE TABLE'!AS44<='SCORE TABLE'!$F44:$BC44)/COUNTIF('SCORE TABLE'!$F44:$BC44,'SCORE TABLE'!$F44:$BC44))","v":2},{"$f":"SUMPRODUCT(('SCORE TABLE'!AT44<='SCORE TABLE'!$F44:$BC44)/COUNTIF('SCORE TABLE'!$F44:$BC44,'SCORE TABLE'!$F44:$BC44))","v":2},{"$f":"SUMPRODUCT(('SCORE TABLE'!AU44<='SCORE TABLE'!$F44:$BC44)/COUNTIF('SCORE TABLE'!$F44:$BC44,'SCORE TABLE'!$F44:$BC44))","v":2},{"$f":"SUMPRODUCT(('SCORE TABLE'!AV44<='SCORE TABLE'!$F44:$BC44)/COUNTIF('SCORE TABLE'!$F44:$BC44,'SCORE TABLE'!$F44:$BC44))","v":2},{"$f":"SUMPRODUCT(('SCORE TABLE'!AW44<='SCORE TABLE'!$F44:$BC44)/COUNTIF('SCORE TABLE'!$F44:$BC44,'SCORE TABLE'!$F44:$BC44))","v":2},{"$f":"SUMPRODUCT(('SCORE TABLE'!AX44<='SCORE TABLE'!$F44:$BC44)/COUNTIF('SCORE TABLE'!$F44:$BC44,'SCORE TABLE'!$F44:$BC44))","v":2},{"$f":"SUMPRODUCT(('SCORE TABLE'!AY44<='SCORE TABLE'!$F44:$BC44)/COUNTIF('SCORE TABLE'!$F44:$BC44,'SCORE TABLE'!$F44:$BC44))","v":1},{"$f":"SUMPRODUCT(('SCORE TABLE'!AZ44<='SCORE TABLE'!$F44:$BC44)/COUNTIF('SCORE TABLE'!$F44:$BC44,'SCORE TABLE'!$F44:$BC44))","v":2},{"$f":"SUMPRODUCT(('SCORE TABLE'!BA44<='SCORE TABLE'!$F44:$BC44)/COUNTIF('SCORE TABLE'!$F44:$BC44,'SCORE TABLE'!$F44:$BC44))","v":2},{"$f":"SUMPRODUCT(('SCORE TABLE'!BB44<='SCORE TABLE'!$F44:$BC44)/COUNTIF('SCORE TABLE'!$F44:$BC44,'SCORE TABLE'!$F44:$BC44))","v":2},{"$f":"SUMPRODUCT(('SCORE TABLE'!BC44<='SCORE TABLE'!$F44:$BC44)/COUNTIF('SCORE TABLE'!$F44:$BC44,'SCORE TABLE'!$F44:$BC44))","v":2}]
[null,1034,"3.2.1","Physical activity mandates",null,null,{"$f":"SUMPRODUCT(('SCORE TABLE'!F45<='SCORE TABLE'!$F45:$BC45)/COUNTIF('SCORE TABLE'!$F45:$BC45,'SCORE TABLE'!$F45:$BC45))","v":2},{"$f":"SUMPRODUCT(('SCORE TABLE'!G45<='SCORE TABLE'!$F45:$BC45)/COUNTIF('SCORE TABLE'!$F45:$BC45,'SCORE TABLE'!$F45:$BC45))","v":2},{"$f":"SUMPRODUCT(('SCORE TABLE'!H45<='SCORE TABLE'!$F45:$BC45)/COUNTIF('SCORE TABLE'!$F45:$BC45,'SCORE TABLE'!$F45:$BC45))","v":{"v":2.9999999999999982,"d":"3"}},{"$f":"SUMPRODUCT(('SCORE TABLE'!I45<='SCORE TABLE'!$F45:$BC45)/COUNTIF('SCORE TABLE'!$F45:$BC45,'SCORE TABLE'!$F45:$BC45))","v":2},{"$f":"SUMPRODUCT(('SCORE TABLE'!J45<='SCORE TABLE'!$F45:$BC45)/COUNTIF('SCORE TABLE'!$F45:$BC45,'SCORE TABLE'!$F45:$BC45))","v":2},{"$f":"SUMPRODUCT(('SCORE TABLE'!K45<='SCORE TABLE'!$F45:$BC45)/COUNTIF('SCORE TABLE'!$F45:$BC45,'SCORE TABLE'!$F45:$BC45))","v":2},{"$f":"SUMPRODUCT(('SCORE TABLE'!L45<='SCORE TABLE'!$F45:$BC45)/COUNTIF('SCORE TABLE'!$F45:$BC45,'SCORE TABLE'!$F45:$BC45))","v":2},{"$f":"SUMPRODUCT(('SCORE TABLE'!M45<='SCORE TABLE'!$F45:$BC45)/COUNTIF('SCORE TABLE'!$F45:$BC45,'SCORE TABLE'!$F45:$BC45))","v":2},{"$f":"SUMPRODUCT(('SCORE TABLE'!N45<='SCORE TABLE'!$F45:$BC45)/COUNTIF('SCORE TABLE'!$F45:$BC45,'SCORE TABLE'!$F45:$BC45))","v":2},{"$f":"SUMPRODUCT(('SCORE TABLE'!O45<='SCORE TABLE'!$F45:$BC45)/COUNTIF('SCORE TABLE'!$F45:$BC45,'SCORE TABLE'!$F45:$BC45))","v":2},{"$f":"SUMPRODUCT(('SCORE TABLE'!P45<='SCORE TABLE'!$F45:$BC45)/COUNTIF('SCORE TABLE'!$F45:$BC45,'SCORE TABLE'!$F45:$BC45))","v":2},{"$f":"SUMPRODUCT(('SCORE TABLE'!Q45<='SCORE TABLE'!$F45:$BC45)/COUNTIF('SCORE TABLE'!$F45:$BC45,'SCORE TABLE'!$F45:$BC45))","v":2},{"$f":"SUMPRODUCT(('SCORE TABLE'!R45<='SCORE TABLE'!$F45:$BC45)/COUNTIF('SCORE TABLE'!$F45:$BC45,'SCORE TABLE'!$F45:$BC45))","v":2},{"$f":"SUMPRODUCT(('SCORE TABLE'!S45<='SCORE TABLE'!$F45:$BC45)/COUNTIF('SCORE TABLE'!$F45:$BC45,'SCORE TABLE'!$F45:$BC45))","v":2},{"$f":"SUMPRODUCT(('SCORE TABLE'!T45<='SCORE TABLE'!$F45:$BC45)/COUNTIF('SCORE TABLE'!$F45:$BC45,'SCORE TABLE'!$F45:$BC45))","v":2},{"$f":"SUMPRODUCT(('SCORE TABLE'!U45<='SCORE TABLE'!$F45:$BC45)/COUNTIF('SCORE TABLE'!$F45:$BC45,'SCORE TABLE'!$F45:$BC45))","v":{"v":2.9999999999999982,"d":"3"}},{"$f":"SUMPRODUCT(('SCORE TABLE'!V45<='SCORE TABLE'!$F45:$BC45)/COUNTIF('SCORE TABLE'!$F45:$BC45,'SCORE TABLE'!$F45:$BC45))","v":2},{"$f":"SUMPRODUCT(('SCORE TABLE'!W45<='SCORE TABLE'!$F45:$BC45)/COUNTIF('SCORE TABLE'!$F45:$BC45,'SCORE TABLE'!$F45:$BC45))","v":2},{"$f":"SUMPRODUCT(('SCORE TABLE'!X45<='SCORE TABLE'!$F45:$BC45)/COUNTIF('SCORE TABLE'!$F45:$BC45,'SCORE TABLE'!$F45:$BC45))","v":2},{"$f":"SUMPRODUCT(('SCORE TABLE'!Y45<='SCORE TABLE'!$F45:$BC45)/COUNTIF('SCORE TABLE'!$F45:$BC45,'SCORE TABLE'!$F45:$BC45))","v":2},{"$f":"SUMPRODUCT(('SCORE TABLE'!Z45<='SCORE TABLE'!$F45:$BC45)/COUNTIF('SCORE TABLE'!$F45:$BC45,'SCORE TABLE'!$F45:$BC45))","v":2},{"$f":"SUMPRODUCT(('SCORE TABLE'!AA45<='SCORE TABLE'!$F45:$BC45)/COUNTIF('SCORE TABLE'!$F45:$BC45,'SCORE TABLE'!$F45:$BC45))","v":2},{"$f":"SUMPRODUCT(('SCORE TABLE'!AB45<='SCORE TABLE'!$F45:$BC45)/COUNTIF('SCORE TABLE'!$F45:$BC45,'SCORE TABLE'!$F45:$BC45))","v":2},{"$f":"SUMPRODUCT(('SCORE TABLE'!AC45<='SCORE TABLE'!$F45:$BC45)/COUNTIF('SCORE TABLE'!$F45:$BC45,'SCORE TABLE'!$F45:$BC45))","v":2},{"$f":"SUMPRODUCT(('SCORE TABLE'!AD45<='SCORE TABLE'!$F45:$BC45)/COUNTIF('SCORE TABLE'!$F45:$BC45,'SCORE TABLE'!$F45:$BC45))","v":2},{"$f":"SUMPRODUCT(('SCORE TABLE'!AE45<='SCORE TABLE'!$F45:$BC45)/COUNTIF('SCORE TABLE'!$F45:$BC45,'SCORE TABLE'!$F45:$BC45))","v":2},{"$f":"SUMPRODUCT(('SCORE TABLE'!AF45<='SCORE TABLE'!$F45:$BC45)/COUNTIF('SCORE TABLE'!$F45:$BC45,'SCORE TABLE'!$F45:$BC45))","v":2},{"$f":"SUMPRODUCT(('SCORE TABLE'!AG45<='SCORE TABLE'!$F45:$BC45)/COUNTIF('SCORE TABLE'!$F45:$BC45,'SCORE TABLE'!$F45:$BC45))","v":2},{"$f":"SUMPRODUCT(('SCORE TABLE'!AH45<='SCORE TABLE'!$F45:$BC45)/COUNTIF('SCORE TABLE'!$F45:$BC45,'SCORE TABLE'!$F45:$BC45))","v":2},{"$f":"SUMPRODUCT(('SCORE TABLE'!AI45<='SCORE TABLE'!$F45:$BC45)/COUNTIF('SCORE TABLE'!$F45:$BC45,'SCORE TABLE'!$F45:$BC45))","v":2},{"$f":"SUMPRODUCT(('SCORE TABLE'!AJ45<='SCORE TABLE'!$F45:$BC45)/COUNTIF('SCORE TABLE'!$F45:$BC45,'SCORE TABLE'!$F45:$BC45))","v":2},{"$f":"SUMPRODUCT(('SCORE TABLE'!AK45<='SCORE TABLE'!$F45:$BC45)/COUNTIF('SCORE TABLE'!$F45:$BC45,'SCORE TABLE'!$F45:$BC45))","v":2},{"$f":"SUMPRODUCT(('SCORE TABLE'!AL45<='SCORE TABLE'!$F45:$BC45)/COUNTIF('SCORE TABLE'!$F45:$BC45,'SCORE TABLE'!$F45:$BC45))","v":2},{"$f":"SUMPRODUCT(('SCORE TABLE'!AM45<='SCORE TABLE'!$F45:$BC45)/COUNTIF('SCORE TABLE'!$F45:$BC45,'SCORE TABLE'!$F45:$BC45))","v":2},{"$f":"SUMPRODUCT(('SCORE TABLE'!AN45<='SCORE TABLE'!$F45:$BC45)/COUNTIF('SCORE TABLE'!$F45:$BC45,'SCORE TABLE'!$F45:$BC45))","v":2},{"$f":"SUMPRODUCT(('SCORE TABLE'!AO45<='SCORE TABLE'!$F45:$BC45)/COUNTIF('SCORE TABLE'!$F45:$BC45,'SCORE TABLE'!$F45:$BC45))","v":2},{"$f":"SUMPRODUCT(('SCORE TABLE'!AP45<='SCORE TABLE'!$F45:$BC45)/COUNTIF('SCORE TABLE'!$F45:$BC45,'SCORE TABLE'!$F45:$BC45))","v":2},{"$f":"SUMPRODUCT(('SCORE TABLE'!AQ45<='SCORE TABLE'!$F45:$BC45)/COUNTIF('SCORE TABLE'!$F45:$BC45,'SCORE TABLE'!$F45:$BC45))","v":2},{"$f":"SUMPRODUCT(('SCORE TABLE'!AR45<='SCORE TABLE'!$F45:$BC45)/COUNTIF('SCORE TABLE'!$F45:$BC45,'SCORE TABLE'!$F45:$BC45))","v":2},{"$f":"SUMPRODUCT(('SCORE TABLE'!AS45<='SCORE TABLE'!$F45:$BC45)/COUNTIF('SCORE TABLE'!$F45:$BC45,'SCORE TABLE'!$F45:$BC45))","v":2},{"$f":"SUMPRODUCT(('SCORE TABLE'!AT45<='SCORE TABLE'!$F45:$BC45)/COUNTIF('SCORE TABLE'!$F45:$BC45,'SCORE TABLE'!$F45:$BC45))","v":2},{"$f":"SUMPRODUCT(('SCORE TABLE'!AU45<='SCORE TABLE'!$F45:$BC45)/COUNTIF('SCORE TABLE'!$F45:$BC45,'SCORE TABLE'!$F45:$BC45))","v":2},{"$f":"SUMPRODUCT(('SCORE TABLE'!AV45<='SCORE TABLE'!$F45:$BC45)/COUNTIF('SCORE TABLE'!$F45:$BC45,'SCORE TABLE'!$F45:$BC45))","v":2},{"$f":"SUMPRODUCT(('SCORE TABLE'!AW45<='SCORE TABLE'!$F45:$BC45)/COUNTIF('SCORE TABLE'!$F45:$BC45,'SCORE TABLE'!$F45:$BC45))","v":2},{"$f":"SUMPRODUCT(('SCORE TABLE'!AX45<='SCORE TABLE'!$F45:$BC45)/COUNTIF('SCORE TABLE'!$F45:$BC45,'SCORE TABLE'!$F45:$BC45))","v":2},{"$f":"SUMPRODUCT(('SCORE TABLE'!AY45<='SCORE TABLE'!$F45:$BC45)/COUNTIF('SCORE TABLE'!$F45:$BC45,'SCORE TABLE'!$F45:$BC45))","v":1},{"$f":"SUMPRODUCT(('SCORE TABLE'!AZ45<='SCORE TABLE'!$F45:$BC45)/COUNTIF('SCORE TABLE'!$F45:$BC45,'SCORE TABLE'!$F45:$BC45))","v":2},{"$f":"SUMPRODUCT(('SCORE TABLE'!BA45<='SCORE TABLE'!$F45:$BC45)/COUNTIF('SCORE TABLE'!$F45:$BC45,'SCORE TABLE'!$F45:$BC45))","v":2},{"$f":"SUMPRODUCT(('SCORE TABLE'!BB45<='SCORE TABLE'!$F45:$BC45)/COUNTIF('SCORE TABLE'!$F45:$BC45,'SCORE TABLE'!$F45:$BC45))","v":2},{"$f":"SUMPRODUCT(('SCORE TABLE'!BC45<='SCORE TABLE'!$F45:$BC45)/COUNTIF('SCORE TABLE'!$F45:$BC45,'SCORE TABLE'!$F45:$BC45))","v":2}]

{"sheet":"Lists","index":11,"n_rows":59,"n_cols":11,"rows_kept":59,"hidden":true}
["States",null,"Pillars",null,null,"No.","Indicator",{"$nulls":3},"Sorting"]
["Alabama",null,"OVERALL","OVERALL",null,0,"OVERALL",{"$f":"G2","v":"OVERALL"},"Overall index",null,"Alphabetical"]
["Alaska",null,"1) Policy and governance","_1Policy",null,1,"Policy and governance",{"$f":"IF(F3=\"\",G3,CONCATENATE(F3,\") \",G3))","v":"1) Policy and governance"},"Policy and governance",null,"Best response to worst"]
["Arizona",null,"2) Food quality and access","_2QualityAccess",null,1.1,"Obesity-related policy",{"$f":"IF(F4=\"\",G4,CONCATENATE(F4,\") \",G4))","v":"1.1) Obesity-related policy"},"Policy and governance",null,"Worst response to best"]
["Arkansas",null,"3) Physical activity","_3Activity",null,"1.1.1","Health policy/strategy/plan that includes obesity","1.1.1) Health policy/strategy/plan that includes obesity","Policy and governance >> Obesity-related policy"]
["California",null,"Background indicators","BACKGROUND",null,"1.1.2","Definition of obesity","1.1.2) Definition of obesity","Policy and governance >> Obesity-related policy"]
["Colorado",{"$nulls":4},"1.1.3","Obesity-related policy/strategy/plan","1.1.3) Obesity-related policy/strategy/plan","Policy and governance >> Obesity-related policy"]
["Connecticut",{"$nulls":4},"1.1.3a","Existence of an obesity-related policy/strategy/plan","1.1.3a) Existence of an obesity-related policy/strategy/plan","Policy and governance >> Obesity-related policy"]
["Delaware",{"$nulls":4},"1.1.3b","Engagement with stakeholders during development","1.1.3b) Engagement with stakeholders during development","Policy and governance >> Obesity-related policy"]
["Florida",{"$nulls":4},"1.1.3c","Measures for obesity prevention","1.1.3c) Measures for obesity prevention","Policy and governance >> Obesity-related policy"]
["Georgia",{"$nulls":4},"1.1.3d","Measures for obesity management","1.1.3d) Measures for obesity management","Policy and governance >> Obesity-related policy"]
["Hawaii",{"$nulls":4},"1.1.3e","Targets for obesity prevalence reduction","1.1.3e) Targets for obesity prevalence reduction","Policy and governance >> Obesity-related policy"]
["Idaho",{"$nulls":4},"1.1.3f","Focus on vulnerable groups","1.1.3f) Focus on vulnerable groups","Policy and governance >> Obesity-related policy"]
["Illinois",{"$nulls":4},"1.1.3g","Obesity-related stigma and discrimination","1.1.3g) Obesity-related stigma and discrimination","Policy and governance >> Obesity-related policy"]
["Indiana",{"$nulls":4},"1.1.4","Obesity-related funding","1.1.4) Obesity-related funding","Policy and governance >> Obesity-related policy"]
["Iowa",{"$nulls":4},"1.1.5","Weight-related discrimination","1.1.5) Weight-related discrimination","Policy and governance >> Obesity-related policy"]
["Kansas",{"$nulls":4},1.2,"Availability and affordability of obesity-related care","1.2) Availability and affordability of obesity-related care","Policy and governance"]
["Kentucky",{"$nulls":4},"1.2.1","Obesity treatment coverage","1.2.1) Obesity treatment coverage","Policy and governance >> Availability and affordability of obesity-related care"]
["Louisiana",{"$nulls":4},"1.2.2","State-level weight loss programmes","1.2.2) State-level weight loss programmes","Policy and governance >> Availability and affordability of obesity-related care"]
["Maine",{"$nulls":4},2,"Food quality and access","2) Food quality and access","Food quality and access"]
["Maryland",{"$nulls":4},2.1,"Food access and affordability","2.1) Food access and affordability","Food quality and access"]
["Massachusetts",{"$nulls":4},"2.1.1","Level of food security","2.1.1) Level of food security","Food quality and access >> Food access and affordability"]
["Michigan",{"$nulls":4},"2.1.2","Nutrition programmes for lower-income individuals","2.1.2) Nutrition programmes for lower-income individuals","Food quality and access >> Food access and affordability"]
["Minnesota",{"$nulls":4},"2.1.2a","Supplemental Nutrition Assistance Program (SNAP): monthly benefit per person, adjusted for regional price parities\n","2.1.2a) Supplemental Nutrition Assistance Program (SNAP): monthly benefit per person, adjusted for regional price parities\n","Food quality and access >> Food access and affordability"]
["Mississippi",{"$nulls":4},"2.1.2b","Supplemental Nutrition Assistance Program (SNAP): participation rate","2.1.2b) Supplemental Nutrition Assistance Program (SNAP): participation rate","Food quality and access >> Food access and affordability"]
["Missouri",{"$nulls":4},2.2,"Nutrition regulation","2.2) Nutrition regulation","Food quality and access"]
["Montana",{"$nulls":4},"2.2.1","Taxes on unhealthy food and beverages","2.2.1) Taxes on unhealthy food and beverages","Food quality and access >> Nutrition regulation"]
["Nebraska",{"$nulls":4},2.3,"Nutrition in schools","2.3) Nutrition in schools","Food quality and access"]
["Nevada",{"$nulls":4},"2.3.1","School nutrition standards","2.3.1) School nutrition standards","Food quality and access >> Nutrition in schools"]
["New Hampshire",{"$nulls":4},"2.3.2","Nutrition education","2.3.2) Nutrition education","Food quality and access >> Nutrition in schools"]
["New Jersey",{"$nulls":4},"2.3.3","Universal free school meals","2.3.3) Universal free school meals","Food quality and access >> Nutrition in schools"]
["New Mexico",{"$nulls":4},3,"Physical activity","3) Physical activity","Physical activity"]
["New York",{"$nulls":4},3.1,"Physical activity among the population","3.1) Physical activity among the population","Physical activity"]
["North Carolina",{"$nulls":4},"3.1.1","Promotion of physical activity",{"$f":"IF(F34=\"\",G34,CONCATENATE(F34,\") \",G34))","v":"3.1.1) Promotion of physical activity"},"Physical activity >> Physical activity among the population"]
["North Dakota",{"$nulls":4},"3.1.2","Access to exercise facilities","3.1.2) Access to exercise facilities","Physical activity >> Physical activity among the population"]
["Ohio",{"$nulls":4},3.2,"Physical activity among children","3.2) Physical activity among children","Physical activity"]
["Oklahoma",{"$nulls":4},"3.2.1","Physical activity mandates","3.2.1) Physical activity mandates","Physical activity >> Physical activity among children"]
["Oregon",{"$nulls":4},"BG01","Adult obesity prevalence","BG01) Adult obesity prevalence","Background indicator"]
["Pennsylvania",{"$nulls":4},"BG02a","Obesity prevalence by gender: Men","BG02a) Obesity prevalence by gender: Men","Background indicator"]
["Rhode Island",{"$nulls":4},"BG02b","Obesity prevalence by gender: Women","BG02b) Obesity prevalence by gender: Women","Background indicator"]
["South Carolina",{"$nulls":4},"BG03a","Obesity prevalence by race/ethnicity: White","BG03a) Obesity prevalence by race/ethnicity: White","Background indicator"]
["South Dakota",{"$nulls":4},"BG03b","Obesity prevalence by race/ethnicity: Black","BG03b) Obesity prevalence by race/ethnicity: Black","Background indicator"]
["Tennessee",{"$nulls":4},"BG03c","Obesity prevalence by race/ethnicity: Hispanic","BG03c) Obesity prevalence by race/ethnicity: Hispanic","Background indicator"]
["Texas",{"$nulls":4},"BG03d","Obesity prevalence by race/ethnicity: Asian/Native Hawaiian or Pacific Islander","BG03d) Obesity prevalence by race/ethnicity: Asian/Native Hawaiian or Pacific Islander","Background indicator"]
["Utah",{"$nulls":4},"BG04a","Obesity prevalence by education level: Less than high school","BG04a) Obesity prevalence by education level: Less than high school","Background indicator"]
["Vermont",{"$nulls":4},"BG04b","Obesity prevalence by education level: High school or GED","BG04b) Obesity prevalence by education level: High school or GED","Background indicator"]
["Virginia",{"$nulls":4},"BG04c","Obesity prevalence by education level: Some post-high school","BG04c) Obesity prevalence by education level: Some post-high school","Background indicator"]
["Washington",{"$nulls":4},"BG04d","Obesity prevalence by education level: College grad","BG04d) Obesity prevalence by education level: College grad","Background indicator"]
["West Virginia",{"$nulls":4},"BG05a","Obesity prevalence by rural/urban area: Metro","BG05a) Obesity prevalence by rural/urban area: Metro","Background indicator"]
["Wisconsin",{"$nulls":4},"BG05b","Obesity prevalence by rural/urban area: Non-metro","BG05b) Obesity prevalence by rural/urban area: Non-metro","Background indicator"]
["Wyoming",{"$nulls":4},"BG06","Childhood obesity prevalence","BG06) Childhood obesity prevalence","Background indicator"]
[{"$nulls":5},"BG07","Life expectancy",{"$f":"IF(F52=\"\",G52,CONCATENATE(F52,\") \",G52))","v":"BG07) Life expectancy"},"Background indicator"]
[{"$nulls":5},"BG08","Household income","BG08) Household income","Background indicator"]
[{"$nulls":5},"BG09","Gini Index of Income Inequality","BG09) Gini Index of Income Inequality","Background indicator"]
[{"$nulls":5},"BG10","Location quotient for dietitians and nutritionists","BG10) Location quotient for dietitians and nutritionists","Background indicator"]
[{"$nulls":5},"BG11","Healthcare spending per capita","BG11) Healthcare spending per capita","Background indicator"]
[{"$nulls":5},"BG12","Health insured population","BG12) Health insured population","Background indicator"]
[{"$nulls":5},"BG13","Access to a personal doctor","BG13) Access to a personal doctor","Background indicator"]
[{"$nulls":5},"BG14","Physical activity","BG14) Physical activity","Background indicator"]

{"sheet":"Selected values","index":12,"n_rows":54,"n_cols":55,"rows_kept":54,"hidden":true}
["Selected indicator: ",{"$nulls":10},"Overall",{"$nulls":10},"Pillar 1",{"$nulls":10},"Pillar 2",{"$nulls":10},"Pillar 3"]
[{"$f":"INDICATORS!H13","v":0},{"$f":"INDEX(Lists!$I$2:$I$59,MATCH(A$2,Lists!$F$2:$F$59))","v":"Overall index"},{"$nulls":9},0,{"$nulls":10},1,{"$nulls":10},2,{"$nulls":10},3]
[null,null,"Score","Rank_alphabetical","Rank_unique","Rank_shared",null,"Re-ordered",{"$nulls":5},"Score","Rank_alphabetical","Rank_unique","Rank_shared",null,"Re-ordered",{"$nulls":5},"Score","Rank_alphabetical","Rank_unique","Rank_shared",null,"Re-ordered",{"$nulls":5},"Score","Rank_alphabetical","Rank_unique","Rank_shared",null,"Re-ordered",{"$nulls":5},"Score","Rank_alphabetical","Rank_unique","Rank_shared",null,"Re-ordered"]
[1,"Alabama",{"$f":"IFERROR(INDEX('SCORE TABLE'!$F$10:$BC$45, MATCH(A$2,'SCORE TABLE'!$B$10:$B$45,0), MATCH(B4,'SCORE TABLE'!$F$9:$BC$9,0)),\"Not scored\")","v":43.67517026227893},{"$f":"IFERROR(INDEX(Score_alphabetical!$G$3:$BD$38, MATCH(A$2,Score_alphabetical!$C$3:$C$38,0), MATCH(B4,Score_alphabetical!$G$2:$BD$2,0)),A4)","v":1},{"$f":"IF(C4=\"Not scored\",D4,(RANK(C4,C$4:C$54,0)+COUNTIF(C$4:C4,C4)-1))","v":46},{"$f":"IF(C4=\"Not scored\",D4,(SUMPRODUCT((C4<=C$4:C$54)/COUNTIF(C$4:C$54,C$4:C$54))))","v":46},{"$f":"IF(C4=\"Not scored\",D4,(SUMPRODUCT((C4<=C$4:C$53)/COUNTIF(C$4:C$53,C$4:C$53))))","v":45},{"$f":"INDEX(B$4:B$54, MATCH(A4,E$4:E$54,0))","v":"Minnesota"},{"$f":"IF(H4=\"AVERAGE\",\"\", IF(COUNTIF(H$4:H4, \"AVERAGE\") < 1, (ROUNDUP(INDEX(F$4:F$54,MATCH(H4,B$4:B$54,0)),1)), (ROUNDUP(INDEX(G$4:G$54,MATCH(H4,B$4:B$54,0)),1))))","v":1},{"$f":"IF(K4=K5,CONCATENATE(\"=\",K4),K4)","v":1},{"$f":"I4","v":1},1,"Alabama",{"$f":"IFERROR(INDEX('SCORE TABLE'!$F$10:$BC$45, MATCH(L$2,'SCORE TABLE'!$B$10:$B$45,0), MATCH(M4,'SCORE TABLE'!$F$9:$BC$9,0)),\"Not scored\")","v":43.67517026227893},{"$f":"IFERROR(INDEX(Score_alphabetical!$G$3:$BD$38, MATCH(L$2,Score_alphabetical!$C$3:$C$38,0), MATCH(M4,Score_alphabetical!$G$2:$BD$2,0)),L4)","v":1},{"$f":"IF(N4=\"Not scored\",O4,(RANK(N4,N$4:N$54,0)+COUNTIF(N$4:N4,N4)-1))","v":46},{"$f":"IF(N4=\"Not scored\",O4,(SUMPRODUCT((N4<=N$4:N$54)/COUNTIF(N$4:N$54,N$4:N$54))))","v":46},{"$f":"IF(N4=\"Not scored\",O4,(SUMPRODUCT((N4<=N$4:N$53)/COUNTIF(N$4:N$53,N$4:N$53))))","v":45},{"$f":"INDEX(M$4:M$54, MATCH(L4,P$4:P$54,0))","v":"Minnesota"},{"$f":"IF(S4=\"AVERAGE\",\"\", IF(COUNTIF(S$4:S4, \"AVERAGE\") < 1, (ROUNDUP(INDEX(Q$4:Q$54,MATCH(S4,M$4:M$54,0)),1)), (ROUNDUP(INDEX(R$4:R$54,MATCH(S4,M$4:M$54,0)),1))))","v":1},{"$f":"IF(V4=V5,CONCATENATE(\"=\",V4),V4)","v":1},{"$f":"T4","v":1},1,"Alabama",{"$f":"IFERROR(INDEX('SCORE TABLE'!$F$10:$BC$45, MATCH(W$2,'SCORE TABLE'!$B$10:$B$45,0), MATCH(X4,'SCORE TABLE'!$F$9:$BC$9,0)),\"Not scored\")","v":28.33334},{"$f":"IFERROR(INDEX(Score_alphabetical!$G$3:$BD$38, MATCH(W$2,Score_alphabetical!$C$3:$C$38,0), MATCH(X4,Score_alphabetical!$G$2:$BD$2,0)),W4)","v":1},{"$f":"IF(Y4=\"Not scored\",Z4,(RANK(Y4,Y$4:Y$54,0)+COUNTIF(Y$4:Y4,Y4)-1))","v":45},{"$f":"IF(Y4=\"Not scored\",Z4,(SUMPRODUCT((Y4<=Y$4:Y$54)/COUNTIF(Y$4:Y$54,Y$4:Y$54))))","v":27.999999999999993},{"$f":"IF(Y4=\"Not scored\",Z4,(SUMPRODUCT((Y4<=Y$4:Y$53)/COUNTIF(Y$4:Y$53,Y$4:Y$53))))","v":26.999999999999993},{"$f":"INDEX(X$4:X$54, MATCH(W4,AA$4:AA$54,0))","v":"Oklahoma"},{"$f":"IF(AD4=\"AVERAGE\",\"\", IF(COUNTIF(AD$4:AD4, \"AVERAGE\") < 1, (ROUNDUP(INDEX(AB$4:AB$54,MATCH(AD4,X$4:X$54,0)),1)), (ROUNDUP(INDEX(AC$4:AC$54,MATCH(AD4,X$4:X$54,0)),1))))","v":1},{"$f":"IF(AG4=AG5,CONCATENATE(\"=\",AG4),AG4)","v":1},{"$f":"AE4","v":1},1,"Alabama",{"$f":"IFERROR(INDEX('SCORE TABLE'!$F$10:$BC$45, MATCH(AH$2,'SCORE TABLE'!$B$10:$B$45,0), MATCH(AI4,'SCORE TABLE'!$F$9:$BC$9,0)),\"Not scored\")","v":45.77550412017014},{"$f":"IFERROR(INDEX(Score_alphabetical!$G$3:$BD$38, MATCH(AH$2,Score_alphabetical!$C$3:$C$38,0), MATCH(AI4,Score_alphabetical!$G$2:$BD$2,0)),AH4)","v":1},{"$f":"IF(AJ4=\"Not scored\",AK4,(RANK(AJ4,AJ$4:AJ$54,0)+COUNTIF(AJ$4:AJ4,AJ4)-1))","v":40},{"$f":"IF(AJ4=\"Not scored\",AK4,(SUMPRODUCT((AJ4<=AJ$4:AJ$54)/COUNTIF(AJ$4:AJ$54,AJ$4:AJ$54))))","v":40},{"$f":"IF(AJ4=\"Not scored\",AK4,(SUMPRODUCT((AJ4<=AJ$4:AJ$53)/COUNTIF(AJ$4:AJ$53,AJ$4:AJ$53))))","v":39},{"$f":"INDEX(AI$4:AI$54, MATCH(AH4,AL$4:AL$54,0))","v":"Iowa"},{"$f":"IF(AO4=\"AVERAGE\",\"\", IF(COUNTIF(AO$4:AO4, \"AVERAGE\") < 1, (ROUNDUP(INDEX(AM$4:AM$54,MATCH(AO4,AI$4:AI$54,0)),1)), (ROUNDUP(INDEX(AN$4:AN$54,MATCH(AO4,AI$4:AI$54,0)),1))))","v":1},{"$f":"IF(AR4=AR5,CONCATENATE(\"=\",AR4),AR4)","v":1},{"$f":"AP4","v":1},1,"Alabama",{"$f":"IFERROR(INDEX('SCORE TABLE'!$F$10:$BC$45, MATCH(AS$2,'SCORE TABLE'!$B$10:$B$45,0), MATCH(AT4,'SCORE TABLE'!$F$9:$BC$9,0)),\"Not scored\")","v":56.916666666666664},{"$f":"IFERROR(INDEX(Score_alphabetical!$G$3:$BD$38, MATCH(AS$2,Score_alphabetical!$C$3:$C$38,0), MATCH(AT4,Score_alphabetical!$G$2:$BD$2,0)),AS4)","v":1},{"$f":"IF(AU4=\"Not scored\",AV4,(RANK(AU4,AU$4:AU$54,0)+COUNTIF(AU$4:AU4,AU4)-1))","v":39},{"$f":"IF(AU4=\"Not scored\",AV4,(SUMPRODUCT((AU4<=AU$4:AU$54)/COUNTIF(AU$4:AU$54,AU$4:AU$54))))","v":31.999999999999996},{"$f":"IF(AU4=\"Not scored\",AV4,(SUMPRODUCT((AU4<=AU$4:AU$53)/COUNTIF(AU$4:AU$53,AU$4:AU$53))))","v":30.999999999999996},{"$f":"INDEX(AT$4:AT$54, MATCH(AS4,AW$4:AW$54,0))","v":"Virginia"},{"$f":"IF(AZ4=\"AVERAGE\",\"\", IF(COUNTIF(AZ$4:AZ4, \"AVERAGE\") < 1, (ROUNDUP(INDEX(AX$4:AX$54,MATCH(AZ4,AT$4:AT$54,0)),1)), (ROUNDUP(INDEX(AY$4:AY$54,MATCH(AZ4,AT$4:AT$54,0)),1))))","v":1},{"$f":"IF(BC4=BC5,CONCATENATE(\"=\",BC4),BC4)","v":1},{"$f":"BA4","v":1}]
[2,"Alaska",{"$f":"IFERROR(INDEX('SCORE TABLE'!$F$10:$BC$45, MATCH(A$2,'SCORE TABLE'!$B$10:$B$45,0), MATCH(B5,'SCORE TABLE'!$F$9:$BC$9,0)),\"Not scored\")","v":48.07214005612211},{"$f":"IFERROR(INDEX(Score_alphabetical!$G$3:$BD$38, MATCH(A$2,Score_alphabetical!$C$3:$C$38,0), MATCH(B5,Score_alphabetical!$G$2:$BD$2,0)),A5)","v":2},{"$f":"IF(C5=\"Not scored\",D5,(RANK(C5,C$4:C$54,0)+COUNTIF(C$4:C5,C5)-1))","v":42},{"$f":"IF(C5=\"Not scored\",D5,(SUMPRODUCT((C5<=C$4:C$54)/COUNTIF(C$4:C$54,C$4:C$54))))","v":42},{"$f":"IF(C5=\"Not scored\",D5,(SUMPRODUCT((C5<=C$4:C$53)/COUNTIF(C$4:C$53,C$4:C$53))))","v":41},"Kentucky",{"$f":"IF(H5=\"AVERAGE\",\"\", IF(COUNTIF(H$4:H5, \"AVERAGE\") < 1, (ROUNDUP(INDEX(F$4:F$54,MATCH(H5,B$4:B$54,0)),1)), (ROUNDUP(INDEX(G$4:G$54,MATCH(H5,B$4:B$54,0)),1))))","v":2},{"$f":"IF(K5=K4,CONCATENATE(\"=\",K5), IF(K5=K6,CONCATENATE(\"=\",K5),K5))","v":2},{"$f":"IF(H5=\"AVERAGE\",\"\",IF(K4=\"\",IF(I5=I3,K3,COUNTIFS(K$3:K3,K3)+K3),IF(I5=I4,K4,COUNTIFS(K$4:K4,K4)+K4)))","v":2},2,"Alaska",{"$f":"IFERROR(INDEX('SCORE TABLE'!$F$10:$BC$45, MATCH(L$2,'SCORE TABLE'!$B$10:$B$45,0), MATCH(M5,'SCORE TABLE'!$F$9:$BC$9,0)),\"Not scored\")","v":48.07214005612211},{"$f":"IFERROR(INDEX(Score_alphabetical!$G$3:$BD$38, MATCH(L$2,Score_alphabetical!$C$3:$C$38,0), MATCH(M5,Score_alphabetical!$G$2:$BD$2,0)),L5)","v":2},{"$f":"IF(N5=\"Not scored\",O5,(RANK(N5,N$4:N$54,0)+COUNTIF(N$4:N5,N5)-1))","v":42},{"$f":"IF(N5=\"Not scored\",O5,(SUMPRODUCT((N5<=N$4:N$54)/COUNTIF(N$4:N$54,N$4:N$54))))","v":42},{"$f":"IF(N5=\"Not scored\",O5,(SUMPRODUCT((N5<=N$4:N$53)/COUNTIF(N$4:N$53,N$4:N$53))))","v":41},"Kentucky",{"$f":"IF(S5=\"AVERAGE\",\"\", IF(COUNTIF(S$4:S5, \"AVERAGE\") < 1, (ROUNDUP(INDEX(Q$4:Q$54,MATCH(S5,M$4:M$54,0)),1)), (ROUNDUP(INDEX(R$4:R$54,MATCH(S5,M$4:M$54,0)),1))))","v":2},{"$f":"IF(V5=V4,CONCATENATE(\"=\",V5), IF(V5=V6,CONCATENATE(\"=\",V5),V5))","v":2},{"$f":"IF(S5=\"AVERAGE\",\"\",IF(V4=\"\",IF(T5=T3,V3,COUNTIFS(V$3:V3,V3)+V3),IF(T5=T4,V4,COUNTIFS(V$4:V4,V4)+V4)))","v":2},2,"Alaska",{"$f":"IFERROR(INDEX('SCORE TABLE'!$F$10:$BC$45, MATCH(W$2,'SCORE TABLE'!$B$10:$B$45,0), MATCH(X5,'SCORE TABLE'!$F$9:$BC$9,0)),\"Not scored\")","v":32.5},{"$f":"IFERROR(INDEX(Score_alphabetical!$G$3:$BD$38, MATCH(W$2,Score_alphabetical!$C$3:$C$38,0), MATCH(X5,Score_alphabetical!$G$2:$BD$2,0)),W5)","v":2},{"$f":"IF(Y5=\"Not scored\",Z5,(RANK(Y5,Y$4:Y$54,0)+COUNTIF(Y$4:Y5,Y5)-1))","v":35},{"$f":"IF(Y5=\"Not scored\",Z5,(SUMPRODUCT((Y5<=Y$4:Y$54)/COUNTIF(Y$4:Y$54,Y$4:Y$54))))","v":23.999999999999996},{"$f":"IF(Y5=\"Not scored\",Z5,(SUMPRODUCT((Y5<=Y$4:Y$53)/COUNTIF(Y$4:Y$53,Y$4:Y$53))))","v":22.999999999999996},"New Mexico",{"$f":"IF(AD5=\"AVERAGE\",\"\", IF(COUNTIF(AD$4:AD5, \"AVERAGE\") < 1, (ROUNDUP(INDEX(AB$4:AB$54,MATCH(AD5,X$4:X$54,0)),1)), (ROUNDUP(INDEX(AC$4:AC$54,MATCH(AD5,X$4:X$54,0)),1))))","v":2},{"$f":"IF(AG5=AG4,CONCATENATE(\"=\",AG5), IF(AG5=AG6,CONCATENATE(\"=\",AG5),AG5))","v":2},{"$f":"IF(AD5=\"AVERAGE\",\"\",IF(AG4=\"\",IF(AE5=AE3,AG3,COUNTIFS(AG$3:AG3,AG3)+AG3),IF(AE5=AE4,AG4,COUNTIFS(AG$4:AG4,AG4)+AG4)))","v":2},2,"Alaska",{"$f":"IFERROR(INDEX('SCORE TABLE'!$F$10:$BC$45, MATCH(AH$2,'SCORE TABLE'!$B$10:$B$45,0), MATCH(AI5,'SCORE TABLE'!$F$9:$BC$9,0)),\"Not scored\")","v":50.299753501699676},{"$f":"IFERROR(INDEX(Score_alphabetical!$G$3:$BD$38, MATCH(AH$2,Score_alphabetical!$C$3:$C$38,0), MATCH(AI5,Score_alphabetical!$G$2:$BD$2,0)),AH5)","v":2},{"$f":"IF(AJ5=\"Not scored\",AK5,(RANK(AJ5,AJ$4:AJ$54,0)+COUNTIF(AJ$4:AJ5,AJ5)-1))","v":34},{"$f":"IF(AJ5=\"Not scored\",AK5,(SUMPRODUCT((AJ5<=AJ$4:AJ$54)/COUNTIF(AJ$4:AJ$54,AJ$4:AJ$54))))","v":34},{"$f":"IF(AJ5=\"Not scored\",AK5,(SUMPRODUCT((AJ5<=AJ$4:AJ$53)/COUNTIF(AJ$4:AJ$53,AJ$4:AJ$53))))","v":33},"Minnesota",{"$f":"IF(AO5=\"AVERAGE\",\"\", IF(COUNTIF(AO$4:AO5, \"AVERAGE\") < 1, (ROUNDUP(INDEX(AM$4:AM$54,MATCH(AO5,AI$4:AI$54,0)),1)), (ROUNDUP(INDEX(AN$4:AN$54,MATCH(AO5,AI$4:AI$54,0)),1))))","v":2},{"$f":"IF(AR5=AR4,CONCATENATE(\"=\",AR5), IF(AR5=AR6,CONCATENATE(\"=\",AR5),AR5))","v":2},{"$f":"IF(AO5=\"AVERAGE\",\"\",IF(AR4=\"\",IF(AP5=AP3,AR3,COUNTIFS(AR$3:AR3,AR3)+AR3),IF(AP5=AP4,AR4,COUNTIFS(AR$4:AR4,AR4)+AR4)))","v":2},2,"Alaska",{"$f":"IFERROR(INDEX('SCORE TABLE'!$F$10:$BC$45, MATCH(AS$2,'SCORE TABLE'!$B$10:$B$45,0), MATCH(AT5,'SCORE TABLE'!$F$9:$BC$9,0)),\"Not scored\")","v":61.416666666666664},{"$f":"IFERROR(INDEX(Score_alphabetical!$G$3:$BD$38, MATCH(AS$2,Score_alphabetical!$C$3:$C$38,0), MATCH(AT5,Score_alphabetical!$G$2:$BD$2,0)),AS5)","v":2},{"$f":"IF(AU5=\"Not scored\",AV5,(RANK(AU5,AU$4:AU$54,0)+COUNTIF(AU$4:AU5,AU5)-1))","v":26},{"$f":"IF(AU5=\"Not scored\",AV5,(SUMPRODUCT((AU5<=AU$4:AU$54)/COUNTIF(AU$4:AU$54,AU$4:AU$54))))","v":21},{"$f":"IF(AU5=\"Not scored\",AV5,(SUMPRODUCT((AU5<=AU$4:AU$53)/COUNTIF(AU$4:AU$53,AU$4:AU$53))))","v":20},"California",{"$f":"IF(AZ5=\"AVERAGE\",\"\", IF(COUNTIF(AZ$4:AZ5, \"AVERAGE\") < 1, (ROUNDUP(INDEX(AX$4:AX$54,MATCH(AZ5,AT$4:AT$54,0)),1)), (ROUNDUP(INDEX(AY$4:AY$54,MATCH(AZ5,AT$4:AT$54,0)),1))))","v":2},{"$f":"IF(BC5=BC4,CONCATENATE(\"=\",BC5), IF(BC5=BC6,CONCATENATE(\"=\",BC5),BC5))","v":2},{"$f":"IF(AZ5=\"AVERAGE\",\"\",IF(BC4=\"\",IF(BA5=BA3,BC3,COUNTIFS(BC$3:BC3,BC3)+BC3),IF(BA5=BA4,BC4,COUNTIFS(BC$4:BC4,BC4)+BC4)))","v":2}]
[3,"Arizona",{"$f":"IFERROR(INDEX('SCORE TABLE'!$F$10:$BC$45, MATCH(A$2,'SCORE TABLE'!$B$10:$B$45,0), MATCH(B6,'SCORE TABLE'!$F$9:$BC$9,0)),\"Not scored\")","v":38.785946927225154},{"$f":"IFERROR(INDEX(Score_alphabetical!$G$3:$BD$38, MATCH(A$2,Score_alphabetical!$C$3:$C$38,0), MATCH(B6,Score_alphabetical!$G$2:$BD$2,0)),A6)","v":3},{"$f":"IF(C6=\"Not scored\",D6,(RANK(C6,C$4:C$54,0)+COUNTIF(C$4:C6,C6)-1))","v":50},50,49,"Colorado",{"$f":"IF(H6=\"AVERAGE\",\"\", IF(COUNTIF(H$4:H6, \"AVERAGE\") < 1, (ROUNDUP(INDEX(F$4:F$54,MATCH(H6,B$4:B$54,0)),1)), (ROUNDUP(INDEX(G$4:G$54,MATCH(H6,B$4:B$54,0)),1))))","v":3},{"$f":"IF(K6=K5,CONCATENATE(\"=\",K6), IF(K6=K7,CONCATENATE(\"=\",K6),K6))","v":3},{"$f":"IF(H6=\"AVERAGE\",\"\",IF(K5=\"\",IF(I6=I4,K4,COUNTIFS(K$3:K4,K4)+K4),IF(I6=I5,K5,COUNTIFS(K$4:K5,K5)+K5)))","v":3},3,"Arizona",{"$f":"IFERROR(INDEX('SCORE TABLE'!$F$10:$BC$45, MATCH(L$2,'SCORE TABLE'!$B$10:$B$45,0), MATCH(M6,'SCORE TABLE'!$F$9:$BC$9,0)),\"Not scored\")","v":38.785946927225154},{"$f":"IFERROR(INDEX(Score_alphabetical!$G$3:$BD$38, MATCH(L$2,Score_alphabetical!$C$3:$C$38,0), MATCH(M6,Score_alphabetical!$G$2:$BD$2,0)),L6)","v":3},{"$f":"IF(N6=\"Not scored\",O6,(RANK(N6,N$4:N$54,0)+COUNTIF(N$4:N6,N6)-1))","v":50},50,49,"Colorado",{"$f":"IF(S6=\"AVERAGE\",\"\", IF(COUNTIF(S$4:S6, \"AVERAGE\") < 1, (ROUNDUP(INDEX(Q$4:Q$54,MATCH(S6,M$4:M$54,0)),1)), (ROUNDUP(INDEX(R$4:R$54,MATCH(S6,M$4:M$54,0)),1))))","v":3},{"$f":"IF(V6=V5,CONCATENATE(\"=\",V6), IF(V6=V7,CONCATENATE(\"=\",V6),V6))","v":3},{"$f":"IF(S6=\"AVERAGE\",\"\",IF(V5=\"\",IF(T6=T4,V4,COUNTIFS(V$3:V4,V4)+V4),IF(T6=T5,V5,COUNTIFS(V$4:V5,V5)+V5)))","v":3},3,"Arizona",{"$f":"IFERROR(INDEX('SCORE TABLE'!$F$10:$BC$45, MATCH(W$2,'SCORE TABLE'!$B$10:$B$45,0), MATCH(X6,'SCORE TABLE'!$F$9:$BC$9,0)),\"Not scored\")","v":20},{"$f":"IFERROR(INDEX(Score_alphabetical!$G$3:$BD$38, MATCH(W$2,Score_alphabetical!$C$3:$C$38,0), MATCH(X6,Score_alphabetical!$G$2:$BD$2,0)),W6)","v":3},{"$f":"IF(Y6=\"Not scored\",Z6,(RANK(Y6,Y$4:Y$54,0)+COUNTIF(Y$4:Y6,Y6)-1))","v":50},30.999999999999996,29.999999999999996,"Nebraska",{"$f":"IF(AD6=\"AVERAGE\",\"\", IF(COUNTIF(AD$4:AD6, \"AVERAGE\") < 1, (ROUNDUP(INDEX(AB$4:AB$54,MATCH(AD6,X$4:X$54,0)),1)), (ROUNDUP(INDEX(AC$4:AC$54,MATCH(AD6,X$4:X$54,0)),1))))","v":3},{"$f":"IF(AG6=AG5,CONCATENATE(\"=\",AG6), IF(AG6=AG7,CONCATENATE(\"=\",AG6),AG6))","v":3},{"$f":"IF(AD6=\"AVERAGE\",\"\",IF(AG5=\"\",IF(AE6=AE4,AG4,COUNTIFS(AG$3:AG4,AG4)+AG4),IF(AE6=AE5,AG5,COUNTIFS(AG$4:AG5,AG5)+AG5)))","v":3},3,"Arizona",{"$f":"IFERROR(INDEX('SCORE TABLE'!$F$10:$BC$45, MATCH(AH$2,'SCORE TABLE'!$B$10:$B$45,0), MATCH(AI6,'SCORE TABLE'!$F$9:$BC$9,0)),\"Not scored\")","v":49.85784078167546},{"$f":"IFERROR(INDEX(Score_alphabetical!$G$3:$BD$38, MATCH(AH$2,Score_alphabetical!$C$3:$C$38,0), MATCH(AI6,Score_alphabetical!$G$2:$BD$2,0)),AH6)","v":3},{"$f":"IF(AJ6=\"Not scored\",AK6,(RANK(AJ6,AJ$4:AJ$54,0)+COUNTIF(AJ$4:AJ6,AJ6)-1))","v":37},37,36,"Illinois",{"$f":"IF(AO6=\"AVERAGE\",\"\", IF(COUNTIF(AO$4:AO6, \"AVERAGE\") < 1, (ROUNDUP(INDEX(AM$4:AM$54,MATCH(AO6,AI$4:AI$54,0)),1)), (ROUNDUP(INDEX(AN$4:AN$54,MATCH(AO6,AI$4:AI$54,0)),1))))","v":3},{"$f":"IF(AR6=AR5,CONCATENATE(\"=\",AR6), IF(AR6=AR7,CONCATENATE(\"=\",AR6),AR6))","v":3},{"$f":"IF(AO6=\"AVERAGE\",\"\",IF(AR5=\"\",IF(AP6=AP4,AR4,COUNTIFS(AR$3:AR4,AR4)+AR4),IF(AP6=AP5,AR5,COUNTIFS(AR$4:AR5,AR5)+AR5)))","v":3},3,"Arizona",{"$f":"IFERROR(INDEX('SCORE TABLE'!$F$10:$BC$45, MATCH(AS$2,'SCORE TABLE'!$B$10:$B$45,0), MATCH(AT6,'SCORE TABLE'!$F$9:$BC$9,0)),\"Not scored\")","v":46.5},{"$f":"IFERROR(INDEX(Score_alphabetical!$G$3:$BD$38, MATCH(AS$2,Score_alphabetical!$C$3:$C$38,0), MATCH(AT6,Score_alphabetical!$G$2:$BD$2,0)),AS6)","v":3},{"$f":"IF(AU6=\"Not scored\",AV6,(RANK(AU6,AU$4:AU$54,0)+COUNTIF(AU$4:AU6,AU6)-1))","v":47},40,39,"Illinois",{"$f":"IF(AZ6=\"AVERAGE\",\"\", IF(COUNTIF(AZ$4:AZ6, \"AVERAGE\") < 1, (ROUNDUP(INDEX(AX$4:AX$54,MATCH(AZ6,AT$4:AT$54,0)),1)), (ROUNDUP(INDEX(AY$4:AY$54,MATCH(AZ6,AT$4:AT$54,0)),1))))","v":3},{"$f":"IF(BC6=BC5,CONCATENATE(\"=\",BC6), IF(BC6=BC7,CONCATENATE(\"=\",BC6),BC6))","v":"=3"},{"$f":"IF(AZ6=\"AVERAGE\",\"\",IF(BC5=\"\",IF(BA6=BA4,BC4,COUNTIFS(BC$3:BC4,BC4)+BC4),IF(BA6=BA5,BC5,COUNTIFS(BC$4:BC5,BC5)+BC5)))","v":3}]
[4,"Arkansas",{"$f":"IFERROR(INDEX('SCORE TABLE'!$F$10:$BC$45, MATCH(A$2,'SCORE TABLE'!$B$10:$B$45,0), MATCH(B7,'SCORE TABLE'!$F$9:$BC$9,0)),\"Not scored\")","v":54.132394207438246},{"$f":"IFERROR(INDEX(Score_alphabetical!$G$3:$BD$38, MATCH(A$2,Score_alphabetical!$C$3:$C$38,0), MATCH(B7,Score_alphabetical!$G$2:$BD$2,0)),A7)","v":4},{"$f":"IF(C7=\"Not scored\",D7,(RANK(C7,C$4:C$54,0)+COUNTIF(C$4:C7,C7)-1))","v":28},28,27,"Iowa",{"$f":"IF(H7=\"AVERAGE\",\"\", IF(COUNTIF(H$4:H7, \"AVERAGE\") < 1, (ROUNDUP(INDEX(F$4:F$54,MATCH(H7,B$4:B$54,0)),1)), (ROUNDUP(INDEX(G$4:G$54,MATCH(H7,B$4:B$54,0)),1))))","v":4},4,{"$f":"IF(H7=\"AVERAGE\",\"\",IF(K6=\"\",IF(I7=I5,K5,COUNTIFS(K$3:K5,K5)+K5),IF(I7=I6,K6,COUNTIFS(K$4:K6,K6)+K6)))","v":4},4,"Arkansas",{"$f":"IFERROR(INDEX('SCORE TABLE'!$F$10:$BC$45, MATCH(L$2,'SCORE TABLE'!$B$10:$B$45,0), MATCH(M7,'SCORE TABLE'!$F$9:$BC$9,0)),\"Not scored\")","v":54.132394207438246},{"$f":"IFERROR(INDEX(Score_alphabetical!$G$3:$BD$38, MATCH(L$2,Score_alphabetical!$C$3:$C$38,0), MATCH(M7,Score_alphabetical!$G$2:$BD$2,0)),L7)","v":4},{"$f":"IF(N7=\"Not scored\",O7,(RANK(N7,N$4:N$54,0)+COUNTIF(N$4:N7,N7)-1))","v":28},28,27,"Iowa",{"$f":"IF(S7=\"AVERAGE\",\"\", IF(COUNTIF(S$4:S7, \"AVERAGE\") < 1, (ROUNDUP(INDEX(Q$4:Q$54,MATCH(S7,M$4:M$54,0)),1)), (ROUNDUP(INDEX(R$4:R$54,MATCH(S7,M$4:M$54,0)),1))))","v":4},4,{"$f":"IF(S7=\"AVERAGE\",\"\",IF(V6=\"\",IF(T7=T5,V5,COUNTIFS(V$3:V5,V5)+V5),IF(T7=T6,V6,COUNTIFS(V$4:V6,V6)+V6)))","v":4},4,"Arkansas",{"$f":"IFERROR(INDEX('SCORE TABLE'!$F$10:$BC$45, MATCH(W$2,'SCORE TABLE'!$B$10:$B$45,0), MATCH(X7,'SCORE TABLE'!$F$9:$BC$9,0)),\"Not scored\")","v":23.75},{"$f":"IFERROR(INDEX(Score_alphabetical!$G$3:$BD$38, MATCH(W$2,Score_alphabetical!$C$3:$C$38,0), MATCH(X7,Score_alphabetical!$G$2:$BD$2,0)),W7)","v":4},{"$f":"IF(Y7=\"Not scored\",Z7,(RANK(Y7,Y$4:Y$54,0)+COUNTIF(Y$4:Y7,Y7)-1))","v":48},29.999999999999996,28.999999999999996,"Florida",{"$f":"IF(AD7=\"AVERAGE\",\"\", IF(COUNTIF(AD$4:AD7, \"AVERAGE\") < 1, (ROUNDUP(INDEX(AB$4:AB$54,MATCH(AD7,X$4:X$54,0)),1)), (ROUNDUP(INDEX(AC$4:AC$54,MATCH(AD7,X$4:X$54,0)),1))))","v":4},"=4",{"$f":"IF(AD7=\"AVERAGE\",\"\",IF(AG6=\"\",IF(AE7=AE5,AG5,COUNTIFS(AG$3:AG5,AG5)+AG5),IF(AE7=AE6,AG6,COUNTIFS(AG$4:AG6,AG6)+AG6)))","v":4},4,"Arkansas",{"$f":"IFERROR(INDEX('SCORE TABLE'!$F$10:$BC$45, MATCH(AH$2,'SCORE TABLE'!$B$10:$B$45,0), MATCH(AI7,'SCORE TABLE'!$F$9:$BC$9,0)),\"Not scored\")","v":81.23051595564809},{"$f":"IFERROR(INDEX(Score_alphabetical!$G$3:$BD$38, MATCH(AH$2,Score_alphabetical!$C$3:$C$38,0), MATCH(AI7,Score_alphabetical!$G$2:$BD$2,0)),AH7)","v":4},{"$f":"IF(AJ7=\"Not scored\",AK7,(RANK(AJ7,AJ$4:AJ$54,0)+COUNTIF(AJ$4:AJ7,AJ7)-1))","v":8},8,8,"North Carolina",{"$f":"IF(AO7=\"AVERAGE\",\"\", IF(COUNTIF(AO$4:AO7, \"AVERAGE\") < 1, (ROUNDUP(INDEX(AM$4:AM$54,MATCH(AO7,AI$4:AI$54,0)),1)), (ROUNDUP(INDEX(AN$4:AN$54,MATCH(AO7,AI$4:AI$54,0)),1))))","v":4},4,{"$f":"IF(AO7=\"AVERAGE\",\"\",IF(AR6=\"\",IF(AP7=AP5,AR5,COUNTIFS(AR$3:AR5,AR5)+AR5),IF(AP7=AP6,AR6,COUNTIFS(AR$4:AR6,AR6)+AR6)))","v":4},4,"Arkansas",{"$f":"IFERROR(INDEX('SCORE TABLE'!$F$10:$BC$45, MATCH(AS$2,'SCORE TABLE'!$B$10:$B$45,0), MATCH(AT7,'SCORE TABLE'!$F$9:$BC$9,0)),\"Not scored\")","v":57.416666666666664},{"$f":"IFERROR(INDEX(Score_alphabetical!$G$3:$BD$38, MATCH(AS$2,Score_alphabetical!$C$3:$C$38,0), MATCH(AT7,Score_alphabetical!$G$2:$BD$2,0)),AS7)","v":4},{"$f":"IF(AU7=\"Not scored\",AV7,(RANK(AU7,AU$4:AU$54,0)+COUNTIF(AU$4:AU7,AU7)-1))","v":37},29.999999999999996,28.999999999999996,"Nevada",{"$f":"IF(AZ7=\"AVERAGE\",\"\", IF(COUNTIF(AZ$4:AZ7, \"AVERAGE\") < 1, (ROUNDUP(INDEX(AX$4:AX$54,MATCH(AZ7,AT$4:AT$54,0)),1)), (ROUNDUP(INDEX(AY$4:AY$54,MATCH(AZ7,AT$4:AT$54,0)),1))))","v":3},"=3",{"$f":"IF(AZ7=\"AVERAGE\",\"\",IF(BC6=\"\",IF(BA7=BA5,BC5,COUNTIFS(BC$3:BC5,BC5)+BC5),IF(BA7=BA6,BC6,COUNTIFS(BC$4:BC6,BC6)+BC6)))","v":3}]
[5,"California",{"$f":"IFERROR(INDEX('SCORE TABLE'!$F$10:$BC$45, MATCH(A$2,'SCORE TABLE'!$B$10:$B$45,0), MATCH(B8,'SCORE TABLE'!$F$9:$BC$9,0)),\"Not scored\")","v":58.12279975795112},{"$f":"IFERROR(INDEX(Score_alphabetical!$G$3:$BD$38, MATCH(A$2,Score_alphabetical!$C$3:$C$38,0), MATCH(B8,Score_alphabetical!$G$2:$BD$2,0)),A8)","v":5},{"$f":"IF(C8=\"Not scored\",D8,(RANK(C8,C$4:C$54,0)+COUNTIF(C$4:C8,C8)-1))","v":19},19,19,"Florida",{"$f":"IF(H8=\"AVERAGE\",\"\", IF(COUNTIF(H$4:H8, \"AVERAGE\") < 1, (ROUNDUP(INDEX(F$4:F$54,MATCH(H8,B$4:B$54,0)),1)), (ROUNDUP(INDEX(G$4:G$54,MATCH(H8,B$4:B$54,0)),1))))","v":5},{"$f":"IF(K8=K7,CONCATENATE(\"=\",K8), IF(K8=K9,CONCATENATE(\"=\",K8),K8))","v":5},{"$f":"IF(H8=\"AVERAGE\",\"\",IF(K7=\"\",IF(I8=I6,K6,COUNTIFS(K$3:K6,K6)+K6),IF(I8=I7,K7,COUNTIFS(K$4:K7,K7)+K7)))","v":5},5,"California",{"$f":"IFERROR(INDEX('SCORE TABLE'!$F$10:$BC$45, MATCH(L$2,'SCORE TABLE'!$B$10:$B$45,0), MATCH(M8,'SCORE TABLE'!$F$9:$BC$9,0)),\"Not scored\")","v":58.12279975795112},{"$f":"IFERROR(INDEX(Score_alphabetical!$G$3:$BD$38, MATCH(L$2,Score_alphabetical!$C$3:$C$38,0), MATCH(M8,Score_alphabetical!$G$2:$BD$2,0)),L8)","v":5},{"$f":"IF(N8=\"Not scored\",O8,(RANK(N8,N$4:N$54,0)+COUNTIF(N$4:N8,N8)-1))","v":19},19,19,"Florida",{"$f":"IF(S8=\"AVERAGE\",\"\", IF(COUNTIF(S$4:S8, \"AVERAGE\") < 1, (ROUNDUP(INDEX(Q$4:Q$54,MATCH(S8,M$4:M$54,0)),1)), (ROUNDUP(INDEX(R$4:R$54,MATCH(S8,M$4:M$54,0)),1))))","v":5},{"$f":"IF(V8=V7,CONCATENATE(\"=\",V8), IF(V8=V9,CONCATENATE(\"=\",V8),V8))","v":5},{"$f":"IF(S8=\"AVERAGE\",\"\",IF(V7=\"\",IF(T8=T6,V6,COUNTIFS(V$3:V6,V6)+V6),IF(T8=T7,V7,COUNTIFS(V$4:V7,V7)+V7)))","v":5},5,"California",{"$f":"IFERROR(INDEX('SCORE TABLE'!$F$10:$BC$45, MATCH(W$2,'SCORE TABLE'!$B$10:$B$45,0), MATCH(X8,'SCORE TABLE'!$F$9:$BC$9,0)),\"Not scored\")","v":46.25},{"$f":"IFERROR(INDEX(Score_alphabetical!$G$3:$BD$38, MATCH(W$2,Score_alphabetical!$C$3:$C$38,0), MATCH(X8,Score_alphabetical!$G$2:$BD$2,0)),W8)","v":5},{"$f":"IF(Y8=\"Not scored\",Z8,(RANK(Y8,Y$4:Y$54,0)+COUNTIF(Y$4:Y8,Y8)-1))","v":14},9,9,"Idaho",{"$f":"IF(AD8=\"AVERAGE\",\"\", IF(COUNTIF(AD$4:AD8, \"AVERAGE\") < 1, (ROUNDUP(INDEX(AB$4:AB$54,MATCH(AD8,X$4:X$54,0)),1)), (ROUNDUP(INDEX(AC$4:AC$54,MATCH(AD8,X$4:X$54,0)),1))))","v":4},{"$f":"IF(AG8=AG7,CONCATENATE(\"=\",AG8), IF(AG8=AG9,CONCATENATE(\"=\",AG8),AG8))","v":"=4"},{"$f":"IF(AD8=\"AVERAGE\",\"\",IF(AG7=\"\",IF(AE8=AE6,AG6,COUNTIFS(AG$3:AG6,AG6)+AG6),IF(AE8=AE7,AG7,COUNTIFS(AG$4:AG7,AG7)+AG7)))","v":4},5,"California",{"$f":"IFERROR(INDEX('SCORE TABLE'!$F$10:$BC$45, MATCH(AH$2,'SCORE TABLE'!$B$10:$B$45,0), MATCH(AI8,'SCORE TABLE'!$F$9:$BC$9,0)),\"Not scored\")","v":54.61839927385338},{"$f":"IFERROR(INDEX(Score_alphabetical!$G$3:$BD$38, MATCH(AH$2,Score_alphabetical!$C$3:$C$38,0), MATCH(AI8,Score_alphabetical!$G$2:$BD$2,0)),AH8)","v":5},{"$f":"IF(AJ8=\"Not scored\",AK8,(RANK(AJ8,AJ$4:AJ$54,0)+COUNTIF(AJ$4:AJ8,AJ8)-1))","v":30},30,29,"Maryland",{"$f":"IF(AO8=\"AVERAGE\",\"\", IF(COUNTIF(AO$4:AO8, \"AVERAGE\") < 1, (ROUNDUP(INDEX(AM$4:AM$54,MATCH(AO8,AI$4:AI$54,0)),1)), (ROUNDUP(INDEX(AN$4:AN$54,MATCH(AO8,AI$4:AI$54,0)),1))))","v":5},{"$f":"IF(AR8=AR7,CONCATENATE(\"=\",AR8), IF(AR8=AR9,CONCATENATE(\"=\",AR8),AR8))","v":5},{"$f":"IF(AO8=\"AVERAGE\",\"\",IF(AR7=\"\",IF(AP8=AP6,AR6,COUNTIFS(AR$3:AR6,AR6)+AR6),IF(AP8=AP7,AR7,COUNTIFS(AR$4:AR7,AR7)+AR7)))","v":5},5,"California",{"$f":"IFERROR(INDEX('SCORE TABLE'!$F$10:$BC$45, MATCH(AS$2,'SCORE TABLE'!$B$10:$B$45,0), MATCH(AT8,'SCORE TABLE'!$F$9:$BC$9,0)),\"Not scored\")","v":73.5},{"$f":"IFERROR(INDEX(Score_alphabetical!$G$3:$BD$38, MATCH(AS$2,Score_alphabetical!$C$3:$C$38,0), MATCH(AT8,Score_alphabetical!$G$2:$BD$2,0)),AS8)","v":5},{"$f":"IF(AU8=\"Not scored\",AV8,(RANK(AU8,AU$4:AU$54,0)+COUNTIF(AU$4:AU8,AU8)-1))","v":2},2,2,"Colorado",{"$f":"IF(AZ8=\"AVERAGE\",\"\", IF(COUNTIF(AZ$4:AZ8, \"AVERAGE\") < 1, (ROUNDUP(INDEX(AX$4:AX$54,MATCH(AZ8,AT$4:AT$54,0)),1)), (ROUNDUP(INDEX(AY$4:AY$54,MATCH(AZ8,AT$4:AT$54,0)),1))))","v":4},{"$f":"IF(BC8=BC7,CONCATENATE(\"=\",BC8), IF(BC8=BC9,CONCATENATE(\"=\",BC8),BC8))","v":5},{"$f":"IF(AZ8=\"AVERAGE\",\"\",IF(BC7=\"\",IF(BA8=BA6,BC6,COUNTIFS(BC$3:BC6,BC6)+BC6),IF(BA8=BA7,BC7,COUNTIFS(BC$4:BC7,BC7)+BC7)))","v":5}]
[6,"Colorado",{"$f":"IFERROR(INDEX('SCORE TABLE'!$F$10:$BC$45, MATCH(A$2,'SCORE TABLE'!$B$10:$B$45,0), MATCH(B9,'SCORE TABLE'!$F$9:$BC$9,0)),\"Not scored\")","v":65.48828243187924},{"$f":"IFERROR(INDEX(Score_alphabetical!$G$3:$BD$38, MATCH(A$2,Score_alphabetical!$C$3:$C$38,0), MATCH(B9,Score_alphabetical!$G$2:$BD$2,0)),A9)","v":6},{"$f":"IF(C9=\"Not scored\",D9,(RANK(C9,C$4:C$54,0)+COUNTIF(C$4:C9,C9)-1))","v":3},3,3,"Illinois",{"$f":"IF(H9=\"AVERAGE\",\"\", IF(COUNTIF(H$4:H9, \"AVERAGE\") < 1, (ROUNDUP(INDEX(F$4:F$54,MATCH(H9,B$4:B$54,0)),1)), (ROUNDUP(INDEX(G$4:G$54,MATCH(H9,B$4:B$54,0)),1))))","v":6},6,{"$f":"IF(H9=\"AVERAGE\",\"\",IF(K8=\"\",IF(I9=I7,K7,COUNTIFS(K$3:K7,K7)+K7),IF(I9=I8,K8,COUNTIFS(K$4:K8,K8)+K8)))","v":6},6,"Colorado",{"$f":"IFERROR(INDEX('SCORE TABLE'!$F$10:$BC$45, MATCH(L$2,'SCORE TABLE'!$B$10:$B$45,0), MATCH(M9,'SCORE TABLE'!$F$9:$BC$9,0)),\"Not scored\")","v":65.48828243187924},{"$f":"IFERROR(INDEX(Score_alphabetical!$G$3:$BD$38, MATCH(L$2,Score_alphabetical!$C$3:$C$38,0), MATCH(M9,Score_alphabetical!$G$2:$BD$2,0)),L9)","v":6},{"$f":"IF(N9=\"Not scored\",O9,(RANK(N9,N$4:N$54,0)+COUNTIF(N$4:N9,N9)-1))","v":3},3,3,"Illinois",{"$f":"IF(S9=\"AVERAGE\",\"\", IF(COUNTIF(S$4:S9, \"AVERAGE\") < 1, (ROUNDUP(INDEX(Q$4:Q$54,MATCH(S9,M$4:M$54,0)),1)), (ROUNDUP(INDEX(R$4:R$54,MATCH(S9,M$4:M$54,0)),1))))","v":6},6,{"$f":"IF(S9=\"AVERAGE\",\"\",IF(V8=\"\",IF(T9=T7,V7,COUNTIFS(V$3:V7,V7)+V7),IF(T9=T8,V8,COUNTIFS(V$4:V8,V8)+V8)))","v":6},6,"Colorado",{"$f":"IFERROR(INDEX('SCORE TABLE'!$F$10:$BC$45, MATCH(W$2,'SCORE TABLE'!$B$10:$B$45,0), MATCH(X9,'SCORE TABLE'!$F$9:$BC$9,0)),\"Not scored\")","v":45.625},{"$f":"IFERROR(INDEX(Score_alphabetical!$G$3:$BD$38, MATCH(W$2,Score_alphabetical!$C$3:$C$38,0), MATCH(X9,Score_alphabetical!$G$2:$BD$2,0)),W9)","v":6},{"$f":"IF(Y9=\"Not scored\",Z9,(RANK(Y9,Y$4:Y$54,0)+COUNTIF(Y$4:Y9,Y9)-1))","v":16},10,10,"Mississippi",{"$f":"IF(AD9=\"AVERAGE\",\"\", IF(COUNTIF(AD$4:AD9, \"AVERAGE\") < 1, (ROUNDUP(INDEX(AB$4:AB$54,MATCH(AD9,X$4:X$54,0)),1)), (ROUNDUP(INDEX(AC$4:AC$54,MATCH(AD9,X$4:X$54,0)),1))))","v":4},"=4",{"$f":"IF(AD9=\"AVERAGE\",\"\",IF(AG8=\"\",IF(AE9=AE7,AG7,COUNTIFS(AG$3:AG7,AG7)+AG7),IF(AE9=AE8,AG8,COUNTIFS(AG$4:AG8,AG8)+AG8)))","v":4},6,"Colorado",{"$f":"IFERROR(INDEX('SCORE TABLE'!$F$10:$BC$45, MATCH(AH$2,'SCORE TABLE'!$B$10:$B$45,0), MATCH(AI9,'SCORE TABLE'!$F$9:$BC$9,0)),\"Not scored\")","v":78.33984729563777},{"$f":"IFERROR(INDEX(Score_alphabetical!$G$3:$BD$38, MATCH(AH$2,Score_alphabetical!$C$3:$C$38,0), MATCH(AI9,Score_alphabetical!$G$2:$BD$2,0)),AH9)","v":6},{"$f":"IF(AJ9=\"Not scored\",AK9,(RANK(AJ9,AJ$4:AJ$54,0)+COUNTIF(AJ$4:AJ9,AJ9)-1))","v":13},13,13,"Texas",{"$f":"IF(AO9=\"AVERAGE\",\"\", IF(COUNTIF(AO$4:AO9, \"AVERAGE\") < 1, (ROUNDUP(INDEX(AM$4:AM$54,MATCH(AO9,AI$4:AI$54,0)),1)), (ROUNDUP(INDEX(AN$4:AN$54,MATCH(AO9,AI$4:AI$54,0)),1))))","v":6},6,{"$f":"IF(AO9=\"AVERAGE\",\"\",IF(AR8=\"\",IF(AP9=AP7,AR7,COUNTIFS(AR$3:AR7,AR7)+AR7),IF(AP9=AP8,AR8,COUNTIFS(AR$4:AR8,AR8)+AR8)))","v":6},6,"Colorado",{"$f":"IFERROR(INDEX('SCORE TABLE'!$F$10:$BC$45, MATCH(AS$2,'SCORE TABLE'!$B$10:$B$45,0), MATCH(AT9,'SCORE TABLE'!$F$9:$BC$9,0)),\"Not scored\")","v":72.5},{"$f":"IFERROR(INDEX(Score_alphabetical!$G$3:$BD$38, MATCH(AS$2,Score_alphabetical!$C$3:$C$38,0), MATCH(AT9,Score_alphabetical!$G$2:$BD$2,0)),AS9)","v":6},{"$f":"IF(AU9=\"Not scored\",AV9,(RANK(AU9,AU$4:AU$54,0)+COUNTIF(AU$4:AU9,AU9)-1))","v":5},4,4,"Oregon",{"$f":"IF(AZ9=\"AVERAGE\",\"\", IF(COUNTIF(AZ$4:AZ9, \"AVERAGE\") < 1, (ROUNDUP(INDEX(AX$4:AX$54,MATCH(AZ9,AT$4:AT$54,0)),1)), (ROUNDUP(INDEX(AY$4:AY$54,MATCH(AZ9,AT$4:AT$54,0)),1))))","v":5},6,{"$f":"IF(AZ9=\"AVERAGE\",\"\",IF(BC8=\"\",IF(BA9=BA7,BC7,COUNTIFS(BC$3:BC7,BC7)+BC7),IF(BA9=BA8,BC8,COUNTIFS(BC$4:BC8,BC8)+BC8)))","v":6}]
[7,"Connecticut",{"$f":"IFERROR(INDEX('SCORE TABLE'!$F$10:$BC$45, MATCH(A$2,'SCORE TABLE'!$B$10:$B$45,0), MATCH(B10,'SCORE TABLE'!$F$9:$BC$9,0)),\"Not scored\")","v":54.141819578668844},{"$f":"IFERROR(INDEX(Score_alphabetical!$G$3:$BD$38, MATCH(A$2,Score_alphabetical!$C$3:$C$38,0), MATCH(B10,Score_alphabetical!$G$2:$BD$2,0)),A10)","v":7},{"$f":"IF(C10=\"Not scored\",D10,(RANK(C10,C$4:C$54,0)+COUNTIF(C$4:C10,C10)-1))","v":27},27,26,"Virginia",{"$f":"IF(H10=\"AVERAGE\",\"\", IF(COUNTIF(H$4:H10, \"AVERAGE\") < 1, (ROUNDUP(INDEX(F$4:F$54,MATCH(H10,B$4:B$54,0)),1)), (ROUNDUP(INDEX(G$4:G$54,MATCH(H10,B$4:B$54,0)),1))))","v":7},7,{"$f":"IF(H10=\"AVERAGE\",\"\",IF(K9=\"\",IF(I10=I8,K8,COUNTIFS(K$3:K8,K8)+K8),IF(I10=I9,K9,COUNTIFS(K$4:K9,K9)+K9)))","v":7},7,"Connecticut",{"$f":"IFERROR(INDEX('SCORE TABLE'!$F$10:$BC$45, MATCH(L$2,'SCORE TABLE'!$B$10:$B$45,0), MATCH(M10,'SCORE TABLE'!$F$9:$BC$9,0)),\"Not scored\")","v":54.141819578668844},{"$f":"IFERROR(INDEX(Score_alphabetical!$G$3:$BD$38, MATCH(L$2,Score_alphabetical!$C$3:$C$38,0), MATCH(M10,Score_alphabetical!$G$2:$BD$2,0)),L10)","v":7},{"$f":"IF(N10=\"Not scored\",O10,(RANK(N10,N$4:N$54,0)+COUNTIF(N$4:N10,N10)-1))","v":27},27,26,"Virginia",{"$f":"IF(S10=\"AVERAGE\",\"\", IF(COUNTIF(S$4:S10, \"AVERAGE\") < 1, (ROUNDUP(INDEX(Q$4:Q$54,MATCH(S10,M$4:M$54,0)),1)), (ROUNDUP(INDEX(R$4:R$54,MATCH(S10,M$4:M$54,0)),1))))","v":7},7,{"$f":"IF(S10=\"AVERAGE\",\"\",IF(V9=\"\",IF(T10=T8,V8,COUNTIFS(V$3:V8,V8)+V8),IF(T10=T9,V9,COUNTIFS(V$4:V9,V9)+V9)))","v":7},7,"Connecticut",{"$f":"IFERROR(INDEX('SCORE TABLE'!$F$10:$BC$45, MATCH(W$2,'SCORE TABLE'!$B$10:$B$45,0), MATCH(X10,'SCORE TABLE'!$F$9:$BC$9,0)),\"Not scored\")","v":28.75},{"$f":"IFERROR(INDEX(Score_alphabetical!$G$3:$BD$38, MATCH(W$2,Score_alphabetical!$C$3:$C$38,0), MATCH(X10,Score_alphabetical!$G$2:$BD$2,0)),W10)","v":7},{"$f":"IF(Y10=\"Not scored\",Z10,(RANK(Y10,Y$4:Y$54,0)+COUNTIF(Y$4:Y10,Y10)-1))","v":41},26.999999999999996,25.999999999999996,"Minnesota",{"$f":"IF(AD10=\"AVERAGE\",\"\", IF(COUNTIF(AD$4:AD10, \"AVERAGE\") < 1, (ROUNDUP(INDEX(AB$4:AB$54,MATCH(AD10,X$4:X$54,0)),1)), (ROUNDUP(INDEX(AC$4:AC$54,MATCH(AD10,X$4:X$54,0)),1))))","v":5},7,{"$f":"IF(AD10=\"AVERAGE\",\"\",IF(AG9=\"\",IF(AE10=AE8,AG8,COUNTIFS(AG$3:AG8,AG8)+AG8),IF(AE10=AE9,AG9,COUNTIFS(AG$4:AG9,AG9)+AG9)))","v":7},7,"Connecticut",{"$f":"IFERROR(INDEX('SCORE TABLE'!$F$10:$BC$45, MATCH(AH$2,'SCORE TABLE'!$B$10:$B$45,0), MATCH(AI10,'SCORE TABLE'!$F$9:$BC$9,0)),\"Not scored\")","v":68.75879206933988},{"$f":"IFERROR(INDEX(Score_alphabetical!$G$3:$BD$38, MATCH(AH$2,Score_alphabetical!$C$3:$C$38,0), MATCH(AI10,Score_alphabetical!$G$2:$BD$2,0)),AH10)","v":7},{"$f":"IF(AJ10=\"Not scored\",AK10,(RANK(AJ10,AJ$4:AJ$54,0)+COUNTIF(AJ$4:AJ10,AJ10)-1))","v":18},18,18,"Kentucky",{"$f":"IF(AO10=\"AVERAGE\",\"\", IF(COUNTIF(AO$4:AO10, \"AVERAGE\") < 1, (ROUNDUP(INDEX(AM$4:AM$54,MATCH(AO10,AI$4:AI$54,0)),1)), (ROUNDUP(INDEX(AN$4:AN$54,MATCH(AO10,AI$4:AI$54,0)),1))))","v":7},7,{"$f":"IF(AO10=\"AVERAGE\",\"\",IF(AR9=\"\",IF(AP10=AP8,AR8,COUNTIFS(AR$3:AR8,AR8)+AR8),IF(AP10=AP9,AR9,COUNTIFS(AR$4:AR9,AR9)+AR9)))","v":7},7,"Connecticut",{"$f":"IFERROR(INDEX('SCORE TABLE'!$F$10:$BC$45, MATCH(AS$2,'SCORE TABLE'!$B$10:$B$45,0), MATCH(AT10,'SCORE TABLE'!$F$9:$BC$9,0)),\"Not scored\")","v":64.91666666666666},{"$f":"IFERROR(INDEX(Score_alphabetical!$G$3:$BD$38, MATCH(AS$2,Score_alphabetical!$C$3:$C$38,0), MATCH(AT10,Score_alphabetical!$G$2:$BD$2,0)),AS10)","v":7},{"$f":"IF(AU10=\"Not scored\",AV10,(RANK(AU10,AU$4:AU$54,0)+COUNTIF(AU$4:AU10,AU10)-1))","v":16},14,14,"Washington",{"$f":"IF(AZ10=\"AVERAGE\",\"\", IF(COUNTIF(AZ$4:AZ10, \"AVERAGE\") < 1, (ROUNDUP(INDEX(AX$4:AX$54,MATCH(AZ10,AT$4:AT$54,0)),1)), (ROUNDUP(INDEX(AY$4:AY$54,MATCH(AZ10,AT$4:AT$54,0)),1))))","v":6},7,{"$f":"IF(AZ10=\"AVERAGE\",\"\",IF(BC9=\"\",IF(BA10=BA8,BC8,COUNTIFS(BC$3:BC8,BC8)+BC8),IF(BA10=BA9,BC9,COUNTIFS(BC$4:BC9,BC9)+BC9)))","v":7}]
[8,"Delaware",{"$f":"IFERROR(INDEX('SCORE TABLE'!$F$10:$BC$45, MATCH(A$2,'SCORE TABLE'!$B$10:$B$45,0), MATCH(B11,'SCORE TABLE'!$F$9:$BC$9,0)),\"Not scored\")","v":48.85951228338702},{"$f":"IFERROR(INDEX(Score_alphabetical!$G$3:$BD$38, MATCH(A$2,Score_alphabetical!$C$3:$C$38,0), MATCH(B11,Score_alphabetical!$G$2:$BD$2,0)),A11)","v":8},{"$f":"IF(C11=\"Not scored\",D11,(RANK(C11,C$4:C$54,0)+COUNTIF(C$4:C11,C11)-1))","v":39},39,38,"Ohio",{"$f":"IF(H11=\"AVERAGE\",\"\", IF(COUNTIF(H$4:H11, \"AVERAGE\") < 1, (ROUNDUP(INDEX(F$4:F$54,MATCH(H11,B$4:B$54,0)),1)), (ROUNDUP(INDEX(G$4:G$54,MATCH(H11,B$4:B$54,0)),1))))","v":8},8,{"$f":"IF(H11=\"AVERAGE\",\"\",IF(K10=\"\",IF(I11=I9,K9,COUNTIFS(K$3:K9,K9)+K9),IF(I11=I10,K10,COUNTIFS(K$4:K10,K10)+K10)))","v":8},8,"Delaware",{"$f":"IFERROR(INDEX('SCORE TABLE'!$F$10:$BC$45, MATCH(L$2,'SCORE TABLE'!$B$10:$B$45,0), MATCH(M11,'SCORE TABLE'!$F$9:$BC$9,0)),\"Not scored\")","v":48.85951228338702},{"$f":"IFERROR(INDEX(Score_alphabetical!$G$3:$BD$38, MATCH(L$2,Score_alphabetical!$C$3:$C$38,0), MATCH(M11,Score_alphabetical!$G$2:$BD$2,0)),L11)","v":8},{"$f":"IF(N11=\"Not scored\",O11,(RANK(N11,N$4:N$54,0)+COUNTIF(N$4:N11,N11)-1))","v":39},39,38,"Ohio",{"$f":"IF(S11=\"AVERAGE\",\"\", IF(COUNTIF(S$4:S11, \"AVERAGE\") < 1, (ROUNDUP(INDEX(Q$4:Q$54,MATCH(S11,M$4:M$54,0)),1)), (ROUNDUP(INDEX(R$4:R$54,MATCH(S11,M$4:M$54,0)),1))))","v":8},8,{"$f":"IF(S11=\"AVERAGE\",\"\",IF(V10=\"\",IF(T11=T9,V9,COUNTIFS(V$3:V9,V9)+V9),IF(T11=T10,V10,COUNTIFS(V$4:V10,V10)+V10)))","v":8},8,"Delaware",{"$f":"IFERROR(INDEX('SCORE TABLE'!$F$10:$BC$45, MATCH(W$2,'SCORE TABLE'!$B$10:$B$45,0), MATCH(X11,'SCORE TABLE'!$F$9:$BC$9,0)),\"Not scored\")","v":31.25},{"$f":"IFERROR(INDEX(Score_alphabetical!$G$3:$BD$38, MATCH(W$2,Score_alphabetical!$C$3:$C$38,0), MATCH(X11,Score_alphabetical!$G$2:$BD$2,0)),W11)","v":8},{"$f":"IF(Y11=\"Not scored\",Z11,(RANK(Y11,Y$4:Y$54,0)+COUNTIF(Y$4:Y11,Y11)-1))","v":37},24.999999999999993,23.999999999999993,"Nevada",{"$f":"IF(AD11=\"AVERAGE\",\"\", IF(COUNTIF(AD$4:AD11, \"AVERAGE\") < 1, (ROUNDUP(INDEX(AB$4:AB$54,MATCH(AD11,X$4:X$54,0)),1)), (ROUNDUP(INDEX(AC$4:AC$54,MATCH(AD11,X$4:X$54,0)),1))))","v":6},"=8",{"$f":"IF(AD11=\"AVERAGE\",\"\",IF(AG10=\"\",IF(AE11=AE9,AG9,COUNTIFS(AG$3:AG9,AG9)+AG9),IF(AE11=AE10,AG10,COUNTIFS(AG$4:AG10,AG10)+AG10)))","v":8},8,"Delaware",{"$f":"IFERROR(INDEX('SCORE TABLE'!$F$10:$BC$45, MATCH(AH$2,'SCORE TABLE'!$B$10:$B$45,0), MATCH(AI11,'SCORE TABLE'!$F$9:$BC$9,0)),\"Not scored\")","v":45.578536850161065},{"$f":"IFERROR(INDEX(Score_alphabetical!$G$3:$BD$38, MATCH(AH$2,Score_alphabetical!$C$3:$C$38,0), MATCH(AI11,Score_alphabetical!$G$2:$BD$2,0)),AH11)","v":8},{"$f":"IF(AJ11=\"Not scored\",AK11,(RANK(AJ11,AJ$4:AJ$54,0)+COUNTIF(AJ$4:AJ11,AJ11)-1))","v":43},43,42,"Arkansas",{"$f":"IF(AO11=\"AVERAGE\",\"\", IF(COUNTIF(AO$4:AO11, \"AVERAGE\") < 1, (ROUNDUP(INDEX(AM$4:AM$54,MATCH(AO11,AI$4:AI$54,0)),1)), (ROUNDUP(INDEX(AN$4:AN$54,MATCH(AO11,AI$4:AI$54,0)),1))))","v":8},8,{"$f":"IF(AO11=\"AVERAGE\",\"\",IF(AR10=\"\",IF(AP11=AP9,AR9,COUNTIFS(AR$3:AR9,AR9)+AR9),IF(AP11=AP10,AR10,COUNTIFS(AR$4:AR10,AR10)+AR10)))","v":8},8,"Delaware",{"$f":"IFERROR(INDEX('SCORE TABLE'!$F$10:$BC$45, MATCH(AS$2,'SCORE TABLE'!$B$10:$B$45,0), MATCH(AT11,'SCORE TABLE'!$F$9:$BC$9,0)),\"Not scored\")","v":69.75},{"$f":"IFERROR(INDEX(Score_alphabetical!$G$3:$BD$38, MATCH(AS$2,Score_alphabetical!$C$3:$C$38,0), MATCH(AT11,Score_alphabetical!$G$2:$BD$2,0)),AS11)","v":8},{"$f":"IF(AU11=\"Not scored\",AV11,(RANK(AU11,AU$4:AU$54,0)+COUNTIF(AU$4:AU11,AU11)-1))","v":10},9,9,"Utah",{"$f":"IF(AZ11=\"AVERAGE\",\"\", IF(COUNTIF(AZ$4:AZ11, \"AVERAGE\") < 1, (ROUNDUP(INDEX(AX$4:AX$54,MATCH(AZ11,AT$4:AT$54,0)),1)), (ROUNDUP(INDEX(AY$4:AY$54,MATCH(AZ11,AT$4:AT$54,0)),1))))","v":7},8,{"$f":"IF(AZ11=\"AVERAGE\",\"\",IF(BC10=\"\",IF(BA11=BA9,BC9,COUNTIFS(BC$3:BC9,BC9)+BC9),IF(BA11=BA10,BC10,COUNTIFS(BC$4:BC10,BC10)+BC10)))","v":8}]
[9,"Florida",{"$f":"IFERROR(INDEX('SCORE TABLE'!$F$10:$BC$45, MATCH(A$2,'SCORE TABLE'!$B$10:$B$45,0), MATCH(B12,'SCORE TABLE'!$F$9:$BC$9,0)),\"Not scored\")","v":64.1156940217488},{"$f":"IFERROR(INDEX(Score_alphabetical!$G$3:$BD$38, MATCH(A$2,Score_alphabetical!$C$3:$C$38,0), MATCH(B12,Score_alphabetical!$G$2:$BD$2,0)),A12)","v":9},{"$f":"IF(C12=\"Not scored\",D12,(RANK(C12,C$4:C$54,0)+COUNTIF(C$4:C12,C12)-1))","v":5},5,5,"Rhode Island",{"$f":"IF(H12=\"AVERAGE\",\"\", IF(COUNTIF(H$4:H12, \"AVERAGE\") < 1, (ROUNDUP(INDEX(F$4:F$54,MATCH(H12,B$4:B$54,0)),1)), (ROUNDUP(INDEX(G$4:G$54,MATCH(H12,B$4:B$54,0)),1))))","v":9},9,{"$f":"IF(H12=\"AVERAGE\",\"\",IF(K11=\"\",IF(I12=I10,K10,COUNTIFS(K$3:K10,K10)+K10),IF(I12=I11,K11,COUNTIFS(K$4:K11,K11)+K11)))","v":9},9,"Florida",{"$f":"IFERROR(INDEX('SCORE TABLE'!$F$10:$BC$45, MATCH(L$2,'SCORE TABLE'!$B$10:$B$45,0), MATCH(M12,'SCORE TABLE'!$F$9:$BC$9,0)),\"Not scored\")","v":64.1156940217488},{"$f":"IFERROR(INDEX(Score_alphabetical!$G$3:$BD$38, MATCH(L$2,Score_alphabetical!$C$3:$C$38,0), MATCH(M12,Score_alphabetical!$G$2:$BD$2,0)),L12)","v":9},{"$f":"IF(N12=\"Not scored\",O12,(RANK(N12,N$4:N$54,0)+COUNTIF(N$4:N12,N12)-1))","v":5},5,5,"Rhode Island",{"$f":"IF(S12=\"AVERAGE\",\"\", IF(COUNTIF(S$4:S12, \"AVERAGE\") < 1, (ROUNDUP(INDEX(Q$4:Q$54,MATCH(S12,M$4:M$54,0)),1)), (ROUNDUP(INDEX(R$4:R$54,MATCH(S12,M$4:M$54,0)),1))))","v":9},9,{"$f":"IF(S12=\"AVERAGE\",\"\",IF(V11=\"\",IF(T12=T10,V10,COUNTIFS(V$3:V10,V10)+V10),IF(T12=T11,V11,COUNTIFS(V$4:V11,V11)+V11)))","v":9},9,"Florida",{"$f":"IFERROR(INDEX('SCORE TABLE'!$F$10:$BC$45, MATCH(W$2,'SCORE TABLE'!$B$10:$B$45,0), MATCH(X12,'SCORE TABLE'!$F$9:$BC$9,0)),\"Not scored\")","v":58.75},{"$f":"IFERROR(INDEX(Score_alphabetical!$G$3:$BD$38, MATCH(W$2,Score_alphabetical!$C$3:$C$38,0), MATCH(X12,Score_alphabetical!$G$2:$BD$2,0)),W12)","v":9},{"$f":"IF(Y12=\"Not scored\",Z12,(RANK(Y12,Y$4:Y$54,0)+COUNTIF(Y$4:Y12,Y12)-1))","v":4},4,4,"West Virginia",{"$f":"IF(AD12=\"AVERAGE\",\"\", IF(COUNTIF(AD$4:AD12, \"AVERAGE\") < 1, (ROUNDUP(INDEX(AB$4:AB$54,MATCH(AD12,X$4:X$54,0)),1)), (ROUNDUP(INDEX(AC$4:AC$54,MATCH(AD12,X$4:X$54,0)),1))))","v":6},"=8",{"$f":"IF(AD12=\"AVERAGE\",\"\",IF(AG11=\"\",IF(AE12=AE10,AG10,COUNTIFS(AG$3:AG10,AG10)+AG10),IF(AE12=AE11,AG11,COUNTIFS(AG$4:AG11,AG11)+AG11)))","v":8},9,"Florida",{"$f":"IFERROR(INDEX('SCORE TABLE'!$F$10:$BC$45, MATCH(AH$2,'SCORE TABLE'!$B$10:$B$45,0), MATCH(AI12,'SCORE TABLE'!$F$9:$BC$9,0)),\"Not scored\")","v":78.26374873191307},{"$f":"IFERROR(INDEX(Score_alphabetical!$G$3:$BD$38, MATCH(AH$2,Score_alphabetical!$C$3:$C$38,0), MATCH(AI12,Score_alphabetical!$G$2:$BD$2,0)),AH12)","v":9},{"$f":"IF(AJ12=\"Not scored\",AK12,(RANK(AJ12,AJ$4:AJ$54,0)+COUNTIF(AJ$4:AJ12,AJ12)-1))","v":14},14,14,"New York",{"$f":"IF(AO12=\"AVERAGE\",\"\", IF(COUNTIF(AO$4:AO12, \"AVERAGE\") < 1, (ROUNDUP(INDEX(AM$4:AM$54,MATCH(AO12,AI$4:AI$54,0)),1)), (ROUNDUP(INDEX(AN$4:AN$54,MATCH(AO12,AI$4:AI$54,0)),1))))","v":9},9,{"$f":"IF(AO12=\"AVERAGE\",\"\",IF(AR11=\"\",IF(AP12=AP10,AR10,COUNTIFS(AR$3:AR10,AR10)+AR10),IF(AP12=AP11,AR11,COUNTIFS(AR$4:AR11,AR11)+AR11)))","v":9},9,"Florida",{"$f":"IFERROR(INDEX('SCORE TABLE'!$F$10:$BC$45, MATCH(AS$2,'SCORE TABLE'!$B$10:$B$45,0), MATCH(AT12,'SCORE TABLE'!$F$9:$BC$9,0)),\"Not scored\")","v":55.33333333333333},{"$f":"IFERROR(INDEX(Score_alphabetical!$G$3:$BD$38, MATCH(AS$2,Score_alphabetical!$C$3:$C$38,0), MATCH(AT12,Score_alphabetical!$G$2:$BD$2,0)),AS12)","v":9},{"$f":"IF(AU12=\"Not scored\",AV12,(RANK(AU12,AU$4:AU$54,0)+COUNTIF(AU$4:AU12,AU12)-1))","v":41},34,33,"Ohio",{"$f":"IF(AZ12=\"AVERAGE\",\"\", IF(COUNTIF(AZ$4:AZ12, \"AVERAGE\") < 1, (ROUNDUP(INDEX(AX$4:AX$54,MATCH(AZ12,AT$4:AT$54,0)),1)), (ROUNDUP(INDEX(AY$4:AY$54,MATCH(AZ12,AT$4:AT$54,0)),1))))","v":8},9,{"$f":"IF(AZ12=\"AVERAGE\",\"\",IF(BC11=\"\",IF(BA12=BA10,BC10,COUNTIFS(BC$3:BC10,BC10)+BC10),IF(BA12=BA11,BC11,COUNTIFS(BC$4:BC11,BC11)+BC11)))","v":9}]
[10,"Georgia",{"$f":"IFERROR(INDEX('SCORE TABLE'!$F$10:$BC$45, MATCH(A$2,'SCORE TABLE'!$B$10:$B$45,0), MATCH(B13,'SCORE TABLE'!$F$9:$BC$9,0)),\"Not scored\")","v":39.775435895610485},{"$f":"IFERROR(INDEX(Score_alphabetical!$G$3:$BD$38, MATCH(A$2,Score_alphabetical!$C$3:$C$38,0), MATCH(B13,Score_alphabetical!$G$2:$BD$2,0)),A13)","v":10},{"$f":"IF(C13=\"Not scored\",D13,(RANK(C13,C$4:C$54,0)+COUNTIF(C$4:C13,C13)-1))","v":49},49,48,"Maryland",{"$f":"IF(H13=\"AVERAGE\",\"\", IF(COUNTIF(H$4:H13, \"AVERAGE\") < 1, (ROUNDUP(INDEX(F$4:F$54,MATCH(H13,B$4:B$54,0)),1)), (ROUNDUP(INDEX(G$4:G$54,MATCH(H13,B$4:B$54,0)),1))))","v":10},10,{"$f":"IF(H13=\"AVERAGE\",\"\",IF(K12=\"\",IF(I13=I11,K11,COUNTIFS(K$3:K11,K11)+K11),IF(I13=I12,K12,COUNTIFS(K$4:K12,K12)+K12)))","v":10},10,"Georgia",{"$f":"IFERROR(INDEX('SCORE TABLE'!$F$10:$BC$45, MATCH(L$2,'SCORE TABLE'!$B$10:$B$45,0), MATCH(M13,'SCORE TABLE'!$F$9:$BC$9,0)),\"Not scored\")","v":39.775435895610485},{"$f":"IFERROR(INDEX(Score_alphabetical!$G$3:$BD$38, MATCH(L$2,Score_alphabetical!$C$3:$C$38,0), MATCH(M13,Score_alphabetical!$G$2:$BD$2,0)),L13)","v":10},{"$f":"IF(N13=\"Not scored\",O13,(RANK(N13,N$4:N$54,0)+COUNTIF(N$4:N13,N13)-1))","v":49},49,48,"Maryland",{"$f":"IF(S13=\"AVERAGE\",\"\", IF(COUNTIF(S$4:S13, \"AVERAGE\") < 1, (ROUNDUP(INDEX(Q$4:Q$54,MATCH(S13,M$4:M$54,0)),1)), (ROUNDUP(INDEX(R$4:R$54,MATCH(S13,M$4:M$54,0)),1))))","v":10},10,{"$f":"IF(S13=\"AVERAGE\",\"\",IF(V12=\"\",IF(T13=T11,V11,COUNTIFS(V$3:V11,V11)+V11),IF(T13=T12,V12,COUNTIFS(V$4:V12,V12)+V12)))","v":10},10,"Georgia",{"$f":"IFERROR(INDEX('SCORE TABLE'!$F$10:$BC$45, MATCH(W$2,'SCORE TABLE'!$B$10:$B$45,0), MATCH(X13,'SCORE TABLE'!$F$9:$BC$9,0)),\"Not scored\")","v":17.5},{"$f":"IFERROR(INDEX(Score_alphabetical!$G$3:$BD$38, MATCH(W$2,Score_alphabetical!$C$3:$C$38,0), MATCH(X13,Score_alphabetical!$G$2:$BD$2,0)),W13)","v":10},{"$f":"IF(Y13=\"Not scored\",Z13,(RANK(Y13,Y$4:Y$54,0)+COUNTIF(Y$4:Y13,Y13)-1))","v":51},31.999999999999996,30.999999999999996,"Louisiana",{"$f":"IF(AD13=\"AVERAGE\",\"\", IF(COUNTIF(AD$4:AD13, \"AVERAGE\") < 1, (ROUNDUP(INDEX(AB$4:AB$54,MATCH(AD13,X$4:X$54,0)),1)), (ROUNDUP(INDEX(AC$4:AC$54,MATCH(AD13,X$4:X$54,0)),1))))","v":7},10,{"$f":"IF(AD13=\"AVERAGE\",\"\",IF(AG12=\"\",IF(AE13=AE11,AG11,COUNTIFS(AG$3:AG11,AG11)+AG11),IF(AE13=AE12,AG12,COUNTIFS(AG$4:AG12,AG12)+AG12)))","v":10},10,"Georgia",{"$f":"IFERROR(INDEX('SCORE TABLE'!$F$10:$BC$45, MATCH(AH$2,'SCORE TABLE'!$B$10:$B$45,0), MATCH(AI13,'SCORE TABLE'!$F$9:$BC$9,0)),\"Not scored\")","v":49.74297435349813},{"$f":"IFERROR(INDEX(Score_alphabetical!$G$3:$BD$38, MATCH(AH$2,Score_alphabetical!$C$3:$C$38,0), MATCH(AI13,Score_alphabetical!$G$2:$BD$2,0)),AH13)","v":10},{"$f":"IF(AJ13=\"Not scored\",AK13,(RANK(AJ13,AJ$4:AJ$54,0)+COUNTIF(AJ$4:AJ13,AJ13)-1))","v":38},38,37,"Maine",{"$f":"IF(AO13=\"AVERAGE\",\"\", IF(COUNTIF(AO$4:AO13, \"AVERAGE\") < 1, (ROUNDUP(INDEX(AM$4:AM$54,MATCH(AO13,AI$4:AI$54,0)),1)), (ROUNDUP(INDEX(AN$4:AN$54,MATCH(AO13,AI$4:AI$54,0)),1))))","v":10},10,{"$f":"IF(AO13=\"AVERAGE\",\"\",IF(AR12=\"\",IF(AP13=AP11,AR11,COUNTIFS(AR$3:AR11,AR11)+AR11),IF(AP13=AP12,AR12,COUNTIFS(AR$4:AR12,AR12)+AR12)))","v":10},10,"Georgia",{"$f":"IFERROR(INDEX('SCORE TABLE'!$F$10:$BC$45, MATCH(AS$2,'SCORE TABLE'!$B$10:$B$45,0), MATCH(AT13,'SCORE TABLE'!$F$9:$BC$9,0)),\"Not scored\")","v":52.08333333333333},{"$f":"IFERROR(INDEX(Score_alphabetical!$G$3:$BD$38, MATCH(AS$2,Score_alphabetical!$C$3:$C$38,0), MATCH(AT13,Score_alphabetical!$G$2:$BD$2,0)),AS13)","v":10},{"$f":"IF(AU13=\"Not scored\",AV13,(RANK(AU13,AU$4:AU$54,0)+COUNTIF(AU$4:AU13,AU13)-1))","v":46},39,38,"Delaware",{"$f":"IF(AZ13=\"AVERAGE\",\"\", IF(COUNTIF(AZ$4:AZ13, \"AVERAGE\") < 1, (ROUNDUP(INDEX(AX$4:AX$54,MATCH(AZ13,AT$4:AT$54,0)),1)), (ROUNDUP(INDEX(AY$4:AY$54,MATCH(AZ13,AT$4:AT$54,0)),1))))","v":9},10,{"$f":"IF(AZ13=\"AVERAGE\",\"\",IF(BC12=\"\",IF(BA13=BA11,BC11,COUNTIFS(BC$3:BC11,BC11)+BC11),IF(BA13=BA12,BC12,COUNTIFS(BC$4:BC12,BC12)+BC12)))","v":10}]
[11,"Hawaii",{"$f":"IFERROR(INDEX('SCORE TABLE'!$F$10:$BC$45, MATCH(A$2,'SCORE TABLE'!$B$10:$B$45,0), MATCH(B14,'SCORE TABLE'!$F$9:$BC$9,0)),\"Not scored\")","v":54.80092814814814},{"$f":"IFERROR(INDEX(Score_alphabetical!$G$3:$BD$38, MATCH(A$2,Score_alphabetical!$C$3:$C$38,0), MATCH(B14,Score_alphabetical!$G$2:$BD$2,0)),A14)","v":11},{"$f":"IF(C14=\"Not scored\",D14,(RANK(C14,C$4:C$54,0)+COUNTIF(C$4:C14,C14)-1))","v":23},23,23,"New Mexico",{"$f":"IF(H14=\"AVERAGE\",\"\", IF(COUNTIF(H$4:H14, \"AVERAGE\") < 1, (ROUNDUP(INDEX(F$4:F$54,MATCH(H14,B$4:B$54,0)),1)), (ROUNDUP(INDEX(G$4:G$54,MATCH(H14,B$4:B$54,0)),1))))","v":11},11,{"$f":"IF(H14=\"AVERAGE\",\"\",IF(K13=\"\",IF(I14=I12,K12,COUNTIFS(K$3:K12,K12)+K12),IF(I14=I13,K13,COUNTIFS(K$4:K13,K13)+K13)))","v":11},11,"Hawaii",{"$f":"IFERROR(INDEX('SCORE TABLE'!$F$10:$BC$45, MATCH(L$2,'SCORE TABLE'!$B$10:$B$45,0), MATCH(M14,'SCORE TABLE'!$F$9:$BC$9,0)),\"Not scored\")","v":54.80092814814814},{"$f":"IFERROR(INDEX(Score_alphabetical!$G$3:$BD$38, MATCH(L$2,Score_alphabetical!$C$3:$C$38,0), MATCH(M14,Score_alphabetical!$G$2:$BD$2,0)),L14)","v":11},{"$f":"IF(N14=\"Not scored\",O14,(RANK(N14,N$4:N$54,0)+COUNTIF(N$4:N14,N14)-1))","v":23},23,23,"New Mexico",{"$f":"IF(S14=\"AVERAGE\",\"\", IF(COUNTIF(S$4:S14, \"AVERAGE\") < 1, (ROUNDUP(INDEX(Q$4:Q$54,MATCH(S14,M$4:M$54,0)),1)), (ROUNDUP(INDEX(R$4:R$54,MATCH(S14,M$4:M$54,0)),1))))","v":11},11,{"$f":"IF(S14=\"AVERAGE\",\"\",IF(V13=\"\",IF(T14=T12,V12,COUNTIFS(V$3:V12,V12)+V12),IF(T14=T13,V13,COUNTIFS(V$4:V13,V13)+V13)))","v":11},11,"Hawaii",{"$f":"IFERROR(INDEX('SCORE TABLE'!$F$10:$BC$45, MATCH(W$2,'SCORE TABLE'!$B$10:$B$45,0), MATCH(X14,'SCORE TABLE'!$F$9:$BC$9,0)),\"Not scored\")","v":41.45834},{"$f":"IFERROR(INDEX(Score_alphabetical!$G$3:$BD$38, MATCH(W$2,Score_alphabetical!$C$3:$C$38,0), MATCH(X14,Score_alphabetical!$G$2:$BD$2,0)),W14)","v":11},{"$f":"IF(Y14=\"Not scored\",Z14,(RANK(Y14,Y$4:Y$54,0)+COUNTIF(Y$4:Y14,Y14)-1))","v":19},13.000000000000002,13.000000000000002,"Iowa",{"$f":"IF(AD14=\"AVERAGE\",\"\", IF(COUNTIF(AD$4:AD14, \"AVERAGE\") < 1, (ROUNDUP(INDEX(AB$4:AB$54,MATCH(AD14,X$4:X$54,0)),1)), (ROUNDUP(INDEX(AC$4:AC$54,MATCH(AD14,X$4:X$54,0)),1))))","v":8},"=11",{"$f":"IF(AD14=\"AVERAGE\",\"\",IF(AG13=\"\",IF(AE14=AE12,AG12,COUNTIFS(AG$3:AG12,AG12)+AG12),IF(AE14=AE13,AG13,COUNTIFS(AG$4:AG13,AG13)+AG13)))","v":11},11,"Hawaii",{"$f":"IFERROR(INDEX('SCORE TABLE'!$F$10:$BC$45, MATCH(AH$2,'SCORE TABLE'!$B$10:$B$45,0), MATCH(AI14,'SCORE TABLE'!$F$9:$BC$9,0)),\"Not scored\")","v":58.02777777777777},{"$f":"IFERROR(INDEX(Score_alphabetical!$G$3:$BD$38, MATCH(AH$2,Score_alphabetical!$C$3:$C$38,0), MATCH(AI14,Score_alphabetical!$G$2:$BD$2,0)),AH14)","v":11},{"$f":"IF(AJ14=\"Not scored\",AK14,(RANK(AJ14,AJ$4:AJ$54,0)+COUNTIF(AJ$4:AJ14,AJ14)-1))","v":25},25,24,"Wisconsin",{"$f":"IF(AO14=\"AVERAGE\",\"\", IF(COUNTIF(AO$4:AO14, \"AVERAGE\") < 1, (ROUNDUP(INDEX(AM$4:AM$54,MATCH(AO14,AI$4:AI$54,0)),1)), (ROUNDUP(INDEX(AN$4:AN$54,MATCH(AO14,AI$4:AI$54,0)),1))))","v":11},11,{"$f":"IF(AO14=\"AVERAGE\",\"\",IF(AR13=\"\",IF(AP14=AP12,AR12,COUNTIFS(AR$3:AR12,AR12)+AR12),IF(AP14=AP13,AR13,COUNTIFS(AR$4:AR13,AR13)+AR13)))","v":11},11,"Hawaii",{"$f":"IFERROR(INDEX('SCORE TABLE'!$F$10:$BC$45, MATCH(AS$2,'SCORE TABLE'!$B$10:$B$45,0), MATCH(AT14,'SCORE TABLE'!$F$9:$BC$9,0)),\"Not scored\")","v":64.91666666666666},{"$f":"IFERROR(INDEX(Score_alphabetical!$G$3:$BD$38, MATCH(AS$2,Score_alphabetical!$C$3:$C$38,0), MATCH(AT14,Score_alphabetical!$G$2:$BD$2,0)),AS14)","v":11},{"$f":"IF(AU14=\"Not scored\",AV14,(RANK(AU14,AU$4:AU$54,0)+COUNTIF(AU$4:AU14,AU14)-1))","v":17},14,14,"Indiana",{"$f":"IF(AZ14=\"AVERAGE\",\"\", IF(COUNTIF(AZ$4:AZ14, \"AVERAGE\") < 1, (ROUNDUP(INDEX(AX$4:AX$54,MATCH(AZ14,AT$4:AT$54,0)),1)), (ROUNDUP(INDEX(AY$4:AY$54,MATCH(AZ14,AT$4:AT$54,0)),1))))","v":10},11,{"$f":"IF(AZ14=\"AVERAGE\",\"\",IF(BC13=\"\",IF(BA14=BA12,BC12,COUNTIFS(BC$3:BC12,BC12)+BC12),IF(BA14=BA13,BC13,COUNTIFS(BC$4:BC13,BC13)+BC13)))","v":11}]
[12,"Idaho",{"$f":"IFERROR(INDEX('SCORE TABLE'!$F$10:$BC$45, MATCH(A$2,'SCORE TABLE'!$B$10:$B$45,0), MATCH(B15,'SCORE TABLE'!$F$9:$BC$9,0)),\"Not scored\")","v":52.13646246759333},{"$f":"IFERROR(INDEX(Score_alphabetical!$G$3:$BD$38, MATCH(A$2,Score_alphabetical!$C$3:$C$38,0), MATCH(B15,Score_alphabetical!$G$2:$BD$2,0)),A15)","v":12},{"$f":"IF(C15=\"Not scored\",D15,(RANK(C15,C$4:C$54,0)+COUNTIF(C$4:C15,C15)-1))","v":33},33,32,"New York",{"$f":"IF(H15=\"AVERAGE\",\"\", IF(COUNTIF(H$4:H15, \"AVERAGE\") < 1, (ROUNDUP(INDEX(F$4:F$54,MATCH(H15,B$4:B$54,0)),1)), (ROUNDUP(INDEX(G$4:G$54,MATCH(H15,B$4:B$54,0)),1))))","v":12},12,{"$f":"IF(H15=\"AVERAGE\",\"\",IF(K14=\"\",IF(I15=I13,K13,COUNTIFS(K$3:K13,K13)+K13),IF(I15=I14,K14,COUNTIFS(K$4:K14,K14)+K14)))","v":12},12,"Idaho",{"$f":"IFERROR(INDEX('SCORE TABLE'!$F$10:$BC$45, MATCH(L$2,'SCORE TABLE'!$B$10:$B$45,0), MATCH(M15,'SCORE TABLE'!$F$9:$BC$9,0)),\"Not scored\")","v":52.13646246759333},{"$f":"IFERROR(INDEX(Score_alphabetical!$G$3:$BD$38, MATCH(L$2,Score_alphabetical!$C$3:$C$38,0), MATCH(M15,Score_alphabetical!$G$2:$BD$2,0)),L15)","v":12},{"$f":"IF(N15=\"Not scored\",O15,(RANK(N15,N$4:N$54,0)+COUNTIF(N$4:N15,N15)-1))","v":33},33,32,"New York",{"$f":"IF(S15=\"AVERAGE\",\"\", IF(COUNTIF(S$4:S15, \"AVERAGE\") < 1, (ROUNDUP(INDEX(Q$4:Q$54,MATCH(S15,M$4:M$54,0)),1)), (ROUNDUP(INDEX(R$4:R$54,MATCH(S15,M$4:M$54,0)),1))))","v":12},12,{"$f":"IF(S15=\"AVERAGE\",\"\",IF(V14=\"\",IF(T15=T13,V13,COUNTIFS(V$3:V13,V13)+V13),IF(T15=T14,V14,COUNTIFS(V$4:V14,V14)+V14)))","v":12},12,"Idaho",{"$f":"IFERROR(INDEX('SCORE TABLE'!$F$10:$BC$45, MATCH(W$2,'SCORE TABLE'!$B$10:$B$45,0), MATCH(X15,'SCORE TABLE'!$F$9:$BC$9,0)),\"Not scored\")","v":58.75},{"$f":"IFERROR(INDEX(Score_alphabetical!$G$3:$BD$38, MATCH(W$2,Score_alphabetical!$C$3:$C$38,0), MATCH(X15,Score_alphabetical!$G$2:$BD$2,0)),W15)","v":12},{"$f":"IF(Y15=\"Not scored\",Z15,(RANK(Y15,Y$4:Y$54,0)+COUNTIF(Y$4:Y15,Y15)-1))","v":5},4,4,"Kentucky",{"$f":"IF(AD15=\"AVERAGE\",\"\", IF(COUNTIF(AD$4:AD15, \"AVERAGE\") < 1, (ROUNDUP(INDEX(AB$4:AB$54,MATCH(AD15,X$4:X$54,0)),1)), (ROUNDUP(INDEX(AC$4:AC$54,MATCH(AD15,X$4:X$54,0)),1))))","v":8},"=11",{"$f":"IF(AD15=\"AVERAGE\",\"\",IF(AG14=\"\",IF(AE15=AE13,AG13,COUNTIFS(AG$3:AG13,AG13)+AG13),IF(AE15=AE14,AG14,COUNTIFS(AG$4:AG14,AG14)+AG14)))","v":11},12,"Idaho",{"$f":"IFERROR(INDEX('SCORE TABLE'!$F$10:$BC$45, MATCH(AH$2,'SCORE TABLE'!$B$10:$B$45,0), MATCH(AI15,'SCORE TABLE'!$F$9:$BC$9,0)),\"Not scored\")","v":45.07605406944666},{"$f":"IFERROR(INDEX(Score_alphabetical!$G$3:$BD$38, MATCH(AH$2,Score_alphabetical!$C$3:$C$38,0), MATCH(AI15,Score_alphabetical!$G$2:$BD$2,0)),AH15)","v":12},{"$f":"IF(AJ15=\"Not scored\",AK15,(RANK(AJ15,AJ$4:AJ$54,0)+COUNTIF(AJ$4:AJ15,AJ15)-1))","v":45},45,44,"Indiana",{"$f":"IF(AO15=\"AVERAGE\",\"\", IF(COUNTIF(AO$4:AO15, \"AVERAGE\") < 1, (ROUNDUP(INDEX(AM$4:AM$54,MATCH(AO15,AI$4:AI$54,0)),1)), (ROUNDUP(INDEX(AN$4:AN$54,MATCH(AO15,AI$4:AI$54,0)),1))))","v":12},12,{"$f":"IF(AO15=\"AVERAGE\",\"\",IF(AR14=\"\",IF(AP15=AP13,AR13,COUNTIFS(AR$3:AR13,AR13)+AR13),IF(AP15=AP14,AR14,COUNTIFS(AR$4:AR14,AR14)+AR14)))","v":12},12,"Idaho",{"$f":"IFERROR(INDEX('SCORE TABLE'!$F$10:$BC$45, MATCH(AS$2,'SCORE TABLE'!$B$10:$B$45,0), MATCH(AT15,'SCORE TABLE'!$F$9:$BC$9,0)),\"Not scored\")","v":52.58333333333333},{"$f":"IFERROR(INDEX(Score_alphabetical!$G$3:$BD$38, MATCH(AS$2,Score_alphabetical!$C$3:$C$38,0), MATCH(AT15,Score_alphabetical!$G$2:$BD$2,0)),AS15)","v":12},{"$f":"IF(AU15=\"Not scored\",AV15,(RANK(AU15,AU$4:AU$54,0)+COUNTIF(AU$4:AU15,AU15)-1))","v":45},38,37,"Oklahoma",{"$f":"IF(AZ15=\"AVERAGE\",\"\", IF(COUNTIF(AZ$4:AZ15, \"AVERAGE\") < 1, (ROUNDUP(INDEX(AX$4:AX$54,MATCH(AZ15,AT$4:AT$54,0)),1)), (ROUNDUP(INDEX(AY$4:AY$54,MATCH(AZ15,AT$4:AT$54,0)),1))))","v":11},12,{"$f":"IF(AZ15=\"AVERAGE\",\"\",IF(BC14=\"\",IF(BA15=BA13,BC13,COUNTIFS(BC$3:BC13,BC13)+BC13),IF(BA15=BA14,BC14,COUNTIFS(BC$4:BC14,BC14)+BC14)))","v":12}]
[13,"Illinois",{"$f":"IFERROR(INDEX('SCORE TABLE'!$F$10:$BC$45, MATCH(A$2,'SCORE TABLE'!$B$10:$B$45,0), MATCH(B16,'SCORE TABLE'!$F$9:$BC$9,0)),\"Not scored\")","v":63.7335015217043},{"$f":"IFERROR(INDEX(Score_alphabetical!$G$3:$BD$38, MATCH(A$2,Score_alphabetical!$C$3:$C$38,0), MATCH(B16,Score_alphabetical!$G$2:$BD$2,0)),A16)","v":13},{"$f":"IF(C16=\"Not scored\",D16,(RANK(C16,C$4:C$54,0)+COUNTIF(C$4:C16,C16)-1))","v":6},6,6,"Oklahoma",{"$f":"IF(H16=\"AVERAGE\",\"\", IF(COUNTIF(H$4:H16, \"AVERAGE\") < 1, (ROUNDUP(INDEX(F$4:F$54,MATCH(H16,B$4:B$54,0)),1)), (ROUNDUP(INDEX(G$4:G$54,MATCH(H16,B$4:B$54,0)),1))))","v":13},13,{"$f":"IF(H16=\"AVERAGE\",\"\",IF(K15=\"\",IF(I16=I14,K14,COUNTIFS(K$3:K14,K14)+K14),IF(I16=I15,K15,COUNTIFS(K$4:K15,K15)+K15)))","v":13},13,"Illinois",{"$f":"IFERROR(INDEX('SCORE TABLE'!$F$10:$BC$45, MATCH(L$2,'SCORE TABLE'!$B$10:$B$45,0), MATCH(M16,'SCORE TABLE'!$F$9:$BC$9,0)),\"Not scored\")","v":63.7335015217043},{"$f":"IFERROR(INDEX(Score_alphabetical!$G$3:$BD$38, MATCH(L$2,Score_alphabetical!$C$3:$C$38,0), MATCH(M16,Score_alphabetical!$G$2:$BD$2,0)),L16)","v":13},{"$f":"IF(N16=\"Not scored\",O16,(RANK(N16,N$4:N$54,0)+COUNTIF(N$4:N16,N16)-1))","v":6},6,6,"Oklahoma",{"$f":"IF(S16=\"AVERAGE\",\"\", IF(COUNTIF(S$4:S16, \"AVERAGE\") < 1, (ROUNDUP(INDEX(Q$4:Q$54,MATCH(S16,M$4:M$54,0)),1)), (ROUNDUP(INDEX(R$4:R$54,MATCH(S16,M$4:M$54,0)),1))))","v":13},13,{"$f":"IF(S16=\"AVERAGE\",\"\",IF(V15=\"\",IF(T16=T14,V14,COUNTIFS(V$3:V14,V14)+V14),IF(T16=T15,V15,COUNTIFS(V$4:V15,V15)+V15)))","v":13},13,"Illinois",{"$f":"IFERROR(INDEX('SCORE TABLE'!$F$10:$BC$45, MATCH(W$2,'SCORE TABLE'!$B$10:$B$45,0), MATCH(X16,'SCORE TABLE'!$F$9:$BC$9,0)),\"Not scored\")","v":32.5},{"$f":"IFERROR(INDEX(Score_alphabetical!$G$3:$BD$38, MATCH(W$2,Score_alphabetical!$C$3:$C$38,0), MATCH(X16,Score_alphabetical!$G$2:$BD$2,0)),W16)","v":13},{"$f":"IF(Y16=\"Not scored\",Z16,(RANK(Y16,Y$4:Y$54,0)+COUNTIF(Y$4:Y16,Y16)-1))","v":36},23.999999999999996,22.999999999999996,"Ohio",{"$f":"IF(AD16=\"AVERAGE\",\"\", IF(COUNTIF(AD$4:AD16, \"AVERAGE\") < 1, (ROUNDUP(INDEX(AB$4:AB$54,MATCH(AD16,X$4:X$54,0)),1)), (ROUNDUP(INDEX(AC$4:AC$54,MATCH(AD16,X$4:X$54,0)),1))))","v":8},"=11",{"$f":"IF(AD16=\"AVERAGE\",\"\",IF(AG15=\"\",IF(AE16=AE14,AG14,COUNTIFS(AG$3:AG14,AG14)+AG14),IF(AE16=AE15,AG15,COUNTIFS(AG$4:AG15,AG15)+AG15)))","v":11},13,"Illinois",{"$f":"IFERROR(INDEX('SCORE TABLE'!$F$10:$BC$45, MATCH(AH$2,'SCORE TABLE'!$B$10:$B$45,0), MATCH(AI16,'SCORE TABLE'!$F$9:$BC$9,0)),\"Not scored\")","v":85.95050456511291},{"$f":"IFERROR(INDEX(Score_alphabetical!$G$3:$BD$38, MATCH(AH$2,Score_alphabetical!$C$3:$C$38,0), MATCH(AI16,Score_alphabetical!$G$2:$BD$2,0)),AH16)","v":13},{"$f":"IF(AJ16=\"Not scored\",AK16,(RANK(AJ16,AJ$4:AJ$54,0)+COUNTIF(AJ$4:AJ16,AJ16)-1))","v":3},3,3,"Colorado",{"$f":"IF(AO16=\"AVERAGE\",\"\", IF(COUNTIF(AO$4:AO16, \"AVERAGE\") < 1, (ROUNDUP(INDEX(AM$4:AM$54,MATCH(AO16,AI$4:AI$54,0)),1)), (ROUNDUP(INDEX(AN$4:AN$54,MATCH(AO16,AI$4:AI$54,0)),1))))","v":13},13,{"$f":"IF(AO16=\"AVERAGE\",\"\",IF(AR15=\"\",IF(AP16=AP14,AR14,COUNTIFS(AR$3:AR14,AR14)+AR14),IF(AP16=AP15,AR15,COUNTIFS(AR$4:AR15,AR15)+AR15)))","v":13},13,"Illinois",{"$f":"IFERROR(INDEX('SCORE TABLE'!$F$10:$BC$45, MATCH(AS$2,'SCORE TABLE'!$B$10:$B$45,0), MATCH(AT16,'SCORE TABLE'!$F$9:$BC$9,0)),\"Not scored\")","v":72.75},{"$f":"IFERROR(INDEX(Score_alphabetical!$G$3:$BD$38, MATCH(AS$2,Score_alphabetical!$C$3:$C$38,0), MATCH(AT16,Score_alphabetical!$G$2:$BD$2,0)),AS16)","v":13},{"$f":"IF(AU16=\"Not scored\",AV16,(RANK(AU16,AU$4:AU$54,0)+COUNTIF(AU$4:AU16,AU16)-1))","v":3},3,3,"Kentucky",{"$f":"IF(AZ16=\"AVERAGE\",\"\", IF(COUNTIF(AZ$4:AZ16, \"AVERAGE\") < 1, (ROUNDUP(INDEX(AX$4:AX$54,MATCH(AZ16,AT$4:AT$54,0)),1)), (ROUNDUP(INDEX(AY$4:AY$54,MATCH(AZ16,AT$4:AT$54,0)),1))))","v":12},13,{"$f":"IF(AZ16=\"AVERAGE\",\"\",IF(BC15=\"\",IF(BA16=BA14,BC14,COUNTIFS(BC$3:BC14,BC14)+BC14),IF(BA16=BA15,BC15,COUNTIFS(BC$4:BC15,BC15)+BC15)))","v":13}]
[14,"Indiana",{"$f":"IFERROR(INDEX('SCORE TABLE'!$F$10:$BC$45, MATCH(A$2,'SCORE TABLE'!$B$10:$B$45,0), MATCH(B17,'SCORE TABLE'!$F$9:$BC$9,0)),\"Not scored\")","v":59.22510693458154},{"$f":"IFERROR(INDEX(Score_alphabetical!$G$3:$BD$38, MATCH(A$2,Score_alphabetical!$C$3:$C$38,0), MATCH(B17,Score_alphabetical!$G$2:$BD$2,0)),A17)","v":14},{"$f":"IF(C17=\"Not scored\",D17,(RANK(C17,C$4:C$54,0)+COUNTIF(C$4:C17,C17)-1))","v":16},16,16,"Washington",{"$f":"IF(H17=\"AVERAGE\",\"\", IF(COUNTIF(H$4:H17, \"AVERAGE\") < 1, (ROUNDUP(INDEX(F$4:F$54,MATCH(H17,B$4:B$54,0)),1)), (ROUNDUP(INDEX(G$4:G$54,MATCH(H17,B$4:B$54,0)),1))))","v":14},14,{"$f":"IF(H17=\"AVERAGE\",\"\",IF(K16=\"\",IF(I17=I15,K15,COUNTIFS(K$3:K15,K15)+K15),IF(I17=I16,K16,COUNTIFS(K$4:K16,K16)+K16)))","v":14},14,"Indiana",{"$f":"IFERROR(INDEX('SCORE TABLE'!$F$10:$BC$45, MATCH(L$2,'SCORE TABLE'!$B$10:$B$45,0), MATCH(M17,'SCORE TABLE'!$F$9:$BC$9,0)),\"Not scored\")","v":59.22510693458154},{"$f":"IFERROR(INDEX(Score_alphabetical!$G$3:$BD$38, MATCH(L$2,Score_alphabetical!$C$3:$C$38,0), MATCH(M17,Score_alphabetical!$G$2:$BD$2,0)),L17)","v":14},{"$f":"IF(N17=\"Not scored\",O17,(RANK(N17,N$4:N$54,0)+COUNTIF(N$4:N17,N17)-1))","v":16},16,16,"Washington",{"$f":"IF(S17=\"AVERAGE\",\"\", IF(COUNTIF(S$4:S17, \"AVERAGE\") < 1, (ROUNDUP(INDEX(Q$4:Q$54,MATCH(S17,M$4:M$54,0)),1)), (ROUNDUP(INDEX(R$4:R$54,MATCH(S17,M$4:M$54,0)),1))))","v":14},14,{"$f":"IF(S17=\"AVERAGE\",\"\",IF(V16=\"\",IF(T17=T15,V15,COUNTIFS(V$3:V15,V15)+V15),IF(T17=T16,V16,COUNTIFS(V$4:V16,V16)+V16)))","v":14},14,"Indiana",{"$f":"IFERROR(INDEX('SCORE TABLE'!$F$10:$BC$45, MATCH(W$2,'SCORE TABLE'!$B$10:$B$45,0), MATCH(X17,'SCORE TABLE'!$F$9:$BC$9,0)),\"Not scored\")","v":30},{"$f":"IFERROR(INDEX(Score_alphabetical!$G$3:$BD$38, MATCH(W$2,Score_alphabetical!$C$3:$C$38,0), MATCH(X17,Score_alphabetical!$G$2:$BD$2,0)),W17)","v":14},{"$f":"IF(Y17=\"Not scored\",Z17,(RANK(Y17,Y$4:Y$54,0)+COUNTIF(Y$4:Y17,Y17)-1))","v":38},25.999999999999996,24.999999999999996,"California",{"$f":"IF(AD17=\"AVERAGE\",\"\", IF(COUNTIF(AD$4:AD17, \"AVERAGE\") < 1, (ROUNDUP(INDEX(AB$4:AB$54,MATCH(AD17,X$4:X$54,0)),1)), (ROUNDUP(INDEX(AC$4:AC$54,MATCH(AD17,X$4:X$54,0)),1))))","v":9},"=14",{"$f":"IF(AD17=\"AVERAGE\",\"\",IF(AG16=\"\",IF(AE17=AE15,AG15,COUNTIFS(AG$3:AG15,AG15)+AG15),IF(AE17=AE16,AG16,COUNTIFS(AG$4:AG16,AG16)+AG16)))","v":14},14,"Indiana",{"$f":"IFERROR(INDEX('SCORE TABLE'!$F$10:$BC$45, MATCH(AH$2,'SCORE TABLE'!$B$10:$B$45,0), MATCH(AI17,'SCORE TABLE'!$F$9:$BC$9,0)),\"Not scored\")","v":78.67532080374463},{"$f":"IFERROR(INDEX(Score_alphabetical!$G$3:$BD$38, MATCH(AH$2,Score_alphabetical!$C$3:$C$38,0), MATCH(AI17,Score_alphabetical!$G$2:$BD$2,0)),AH17)","v":14},{"$f":"IF(AJ17=\"Not scored\",AK17,(RANK(AJ17,AJ$4:AJ$54,0)+COUNTIF(AJ$4:AJ17,AJ17)-1))","v":12},12,12,"Florida",{"$f":"IF(AO17=\"AVERAGE\",\"\", IF(COUNTIF(AO$4:AO17, \"AVERAGE\") < 1, (ROUNDUP(INDEX(AM$4:AM$54,MATCH(AO17,AI$4:AI$54,0)),1)), (ROUNDUP(INDEX(AN$4:AN$54,MATCH(AO17,AI$4:AI$54,0)),1))))","v":14},14,{"$f":"IF(AO17=\"AVERAGE\",\"\",IF(AR16=\"\",IF(AP17=AP15,AR15,COUNTIFS(AR$3:AR15,AR15)+AR15),IF(AP17=AP16,AR16,COUNTIFS(AR$4:AR16,AR16)+AR16)))","v":14},14,"Indiana",{"$f":"IFERROR(INDEX('SCORE TABLE'!$F$10:$BC$45, MATCH(AS$2,'SCORE TABLE'!$B$10:$B$45,0), MATCH(AT17,'SCORE TABLE'!$F$9:$BC$9,0)),\"Not scored\")","v":69},{"$f":"IFERROR(INDEX(Score_alphabetical!$G$3:$BD$38, MATCH(AS$2,Score_alphabetical!$C$3:$C$38,0), MATCH(AT17,Score_alphabetical!$G$2:$BD$2,0)),AS17)","v":14},{"$f":"IF(AU17=\"Not scored\",AV17,(RANK(AU17,AU$4:AU$54,0)+COUNTIF(AU$4:AU17,AU17)-1))","v":11},10,10,"New Jersey",{"$f":"IF(AZ17=\"AVERAGE\",\"\", IF(COUNTIF(AZ$4:AZ17, \"AVERAGE\") < 1, (ROUNDUP(INDEX(AX$4:AX$54,MATCH(AZ17,AT$4:AT$54,0)),1)), (ROUNDUP(INDEX(AY$4:AY$54,MATCH(AZ17,AT$4:AT$54,0)),1))))","v":13},"=14",{"$f":"IF(AZ17=\"AVERAGE\",\"\",IF(BC16=\"\",IF(BA17=BA15,BC15,COUNTIFS(BC$3:BC15,BC15)+BC15),IF(BA17=BA16,BC16,COUNTIFS(BC$4:BC16,BC16)+BC16)))","v":14}]
[15,"Iowa",{"$f":"IFERROR(INDEX('SCORE TABLE'!$F$10:$BC$45, MATCH(A$2,'SCORE TABLE'!$B$10:$B$45,0), MATCH(B18,'SCORE TABLE'!$F$9:$BC$9,0)),\"Not scored\")","v":64.35970509192516},{"$f":"IFERROR(INDEX(Score_alphabetical!$G$3:$BD$38, MATCH(A$2,Score_alphabetical!$C$3:$C$38,0), MATCH(B18,Score_alphabetical!$G$2:$BD$2,0)),A18)","v":15},{"$f":"IF(C18=\"Not scored\",D18,(RANK(C18,C$4:C$54,0)+COUNTIF(C$4:C18,C18)-1))","v":4},4,4,"Nevada",{"$f":"IF(H18=\"AVERAGE\",\"\", IF(COUNTIF(H$4:H18, \"AVERAGE\") < 1, (ROUNDUP(INDEX(F$4:F$54,MATCH(H18,B$4:B$54,0)),1)), (ROUNDUP(INDEX(G$4:G$54,MATCH(H18,B$4:B$54,0)),1))))","v":15},15,{"$f":"IF(H18=\"AVERAGE\",\"\",IF(K17=\"\",IF(I18=I16,K16,COUNTIFS(K$3:K16,K16)+K16),IF(I18=I17,K17,COUNTIFS(K$4:K17,K17)+K17)))","v":15},15,"Iowa",{"$f":"IFERROR(INDEX('SCORE TABLE'!$F$10:$BC$45, MATCH(L$2,'SCORE TABLE'!$B$10:$B$45,0), MATCH(M18,'SCORE TABLE'!$F$9:$BC$9,0)),\"Not scored\")","v":64.35970509192516},{"$f":"IFERROR(INDEX(Score_alphabetical!$G$3:$BD$38, MATCH(L$2,Score_alphabetical!$C$3:$C$38,0), MATCH(M18,Score_alphabetical!$G$2:$BD$2,0)),L18)","v":15},{"$f":"IF(N18=\"Not scored\",O18,(RANK(N18,N$4:N$54,0)+COUNTIF(N$4:N18,N18)-1))","v":4},4,4,"Nevada",{"$f":"IF(S18=\"AVERAGE\",\"\", IF(COUNTIF(S$4:S18, \"AVERAGE\") < 1, (ROUNDUP(INDEX(Q$4:Q$54,MATCH(S18,M$4:M$54,0)),1)), (ROUNDUP(INDEX(R$4:R$54,MATCH(S18,M$4:M$54,0)),1))))","v":15},15,{"$f":"IF(S18=\"AVERAGE\",\"\",IF(V17=\"\",IF(T18=T16,V16,COUNTIFS(V$3:V16,V16)+V16),IF(T18=T17,V17,COUNTIFS(V$4:V17,V17)+V17)))","v":15},15,"Iowa",{"$f":"IFERROR(INDEX('SCORE TABLE'!$F$10:$BC$45, MATCH(W$2,'SCORE TABLE'!$B$10:$B$45,0), MATCH(X18,'SCORE TABLE'!$F$9:$BC$9,0)),\"Not scored\")","v":50},{"$f":"IFERROR(INDEX(Score_alphabetical!$G$3:$BD$38, MATCH(W$2,Score_alphabetical!$C$3:$C$38,0), MATCH(X18,Score_alphabetical!$G$2:$BD$2,0)),W18)","v":15},{"$f":"IF(Y18=\"Not scored\",Z18,(RANK(Y18,Y$4:Y$54,0)+COUNTIF(Y$4:Y18,Y18)-1))","v":11},7.999999999999999,7.999999999999999,"Rhode Island",{"$f":"IF(AD18=\"AVERAGE\",\"\", IF(COUNTIF(AD$4:AD18, \"AVERAGE\") < 1, (ROUNDUP(INDEX(AB$4:AB$54,MATCH(AD18,X$4:X$54,0)),1)), (ROUNDUP(INDEX(AC$4:AC$54,MATCH(AD18,X$4:X$54,0)),1))))","v":9},"=14",{"$f":"IF(AD18=\"AVERAGE\",\"\",IF(AG17=\"\",IF(AE18=AE16,AG16,COUNTIFS(AG$3:AG16,AG16)+AG16),IF(AE18=AE17,AG17,COUNTIFS(AG$4:AG17,AG17)+AG17)))","v":14},15,"Iowa",{"$f":"IFERROR(INDEX('SCORE TABLE'!$F$10:$BC$45, MATCH(AH$2,'SCORE TABLE'!$B$10:$B$45,0), MATCH(AI18,'SCORE TABLE'!$F$9:$BC$9,0)),\"Not scored\")","v":89.74578194244219},{"$f":"IFERROR(INDEX(Score_alphabetical!$G$3:$BD$38, MATCH(AH$2,Score_alphabetical!$C$3:$C$38,0), MATCH(AI18,Score_alphabetical!$G$2:$BD$2,0)),AH18)","v":15},{"$f":"IF(AJ18=\"Not scored\",AK18,(RANK(AJ18,AJ$4:AJ$54,0)+COUNTIF(AJ$4:AJ18,AJ18)-1))","v":1},1,1,"Rhode Island",{"$f":"IF(AO18=\"AVERAGE\",\"\", IF(COUNTIF(AO$4:AO18, \"AVERAGE\") < 1, (ROUNDUP(INDEX(AM$4:AM$54,MATCH(AO18,AI$4:AI$54,0)),1)), (ROUNDUP(INDEX(AN$4:AN$54,MATCH(AO18,AI$4:AI$54,0)),1))))","v":15},15,{"$f":"IF(AO18=\"AVERAGE\",\"\",IF(AR17=\"\",IF(AP18=AP16,AR16,COUNTIFS(AR$3:AR16,AR16)+AR16),IF(AP18=AP17,AR17,COUNTIFS(AR$4:AR17,AR17)+AR17)))","v":15},15,"Iowa",{"$f":"IFERROR(INDEX('SCORE TABLE'!$F$10:$BC$45, MATCH(AS$2,'SCORE TABLE'!$B$10:$B$45,0), MATCH(AT18,'SCORE TABLE'!$F$9:$BC$9,0)),\"Not scored\")","v":53.33333333333333},{"$f":"IFERROR(INDEX(Score_alphabetical!$G$3:$BD$38, MATCH(AS$2,Score_alphabetical!$C$3:$C$38,0), MATCH(AT18,Score_alphabetical!$G$2:$BD$2,0)),AS18)","v":15},{"$f":"IF(AU18=\"Not scored\",AV18,(RANK(AU18,AU$4:AU$54,0)+COUNTIF(AU$4:AU18,AU18)-1))","v":44},37,36,"Rhode Island",{"$f":"IF(AZ18=\"AVERAGE\",\"\", IF(COUNTIF(AZ$4:AZ18, \"AVERAGE\") < 1, (ROUNDUP(INDEX(AX$4:AX$54,MATCH(AZ18,AT$4:AT$54,0)),1)), (ROUNDUP(INDEX(AY$4:AY$54,MATCH(AZ18,AT$4:AT$54,0)),1))))","v":13},"=14",{"$f":"IF(AZ18=\"AVERAGE\",\"\",IF(BC17=\"\",IF(BA18=BA16,BC16,COUNTIFS(BC$3:BC16,BC16)+BC16),IF(BA18=BA17,BC17,COUNTIFS(BC$4:BC17,BC17)+BC17)))","v":14}]
[16,"Kansas",{"$f":"IFERROR(INDEX('SCORE TABLE'!$F$10:$BC$45, MATCH(A$2,'SCORE TABLE'!$B$10:$B$45,0), MATCH(B19,'SCORE TABLE'!$F$9:$BC$9,0)),\"Not scored\")","v":38.068788153843414},{"$f":"IFERROR(INDEX(Score_alphabetical!$G$3:$BD$38, MATCH(A$2,Score_alphabetical!$C$3:$C$38,0), MATCH(B19,Score_alphabetical!$G$2:$BD$2,0)),A19)","v":16},{"$f":"IF(C19=\"Not scored\",D19,(RANK(C19,C$4:C$54,0)+COUNTIF(C$4:C19,C19)-1))","v":51},51,50,"Indiana",{"$f":"IF(H19=\"AVERAGE\",\"\", IF(COUNTIF(H$4:H19, \"AVERAGE\") < 1, (ROUNDUP(INDEX(F$4:F$54,MATCH(H19,B$4:B$54,0)),1)), (ROUNDUP(INDEX(G$4:G$54,MATCH(H19,B$4:B$54,0)),1))))","v":16},16,{"$f":"IF(H19=\"AVERAGE\",\"\",IF(K18=\"\",IF(I19=I17,K17,COUNTIFS(K$3:K17,K17)+K17),IF(I19=I18,K18,COUNTIFS(K$4:K18,K18)+K18)))","v":16},16,"Kansas",{"$f":"IFERROR(INDEX('SCORE TABLE'!$F$10:$BC$45, MATCH(L$2,'SCORE TABLE'!$B$10:$B$45,0), MATCH(M19,'SCORE TABLE'!$F$9:$BC$9,0)),\"Not scored\")","v":38.068788153843414},{"$f":"IFERROR(INDEX(Score_alphabetical!$G$3:$BD$38, MATCH(L$2,Score_alphabetical!$C$3:$C$38,0), MATCH(M19,Score_alphabetical!$G$2:$BD$2,0)),L19)","v":16},{"$f":"IF(N19=\"Not scored\",O19,(RANK(N19,N$4:N$54,0)+COUNTIF(N$4:N19,N19)-1))","v":51},51,50,"Indiana",{"$f":"IF(S19=\"AVERAGE\",\"\", IF(COUNTIF(S$4:S19, \"AVERAGE\") < 1, (ROUNDUP(INDEX(Q$4:Q$54,MATCH(S19,M$4:M$54,0)),1)), (ROUNDUP(INDEX(R$4:R$54,MATCH(S19,M$4:M$54,0)),1))))","v":16},16,{"$f":"IF(S19=\"AVERAGE\",\"\",IF(V18=\"\",IF(T19=T17,V17,COUNTIFS(V$3:V17,V17)+V17),IF(T19=T18,V18,COUNTIFS(V$4:V18,V18)+V18)))","v":16},16,"Kansas",{"$f":"IFERROR(INDEX('SCORE TABLE'!$F$10:$BC$45, MATCH(W$2,'SCORE TABLE'!$B$10:$B$45,0), MATCH(X19,'SCORE TABLE'!$F$9:$BC$9,0)),\"Not scored\")","v":25},{"$f":"IFERROR(INDEX(Score_alphabetical!$G$3:$BD$38, MATCH(W$2,Score_alphabetical!$C$3:$C$38,0), MATCH(X19,Score_alphabetical!$G$2:$BD$2,0)),W19)","v":16},{"$f":"IF(Y19=\"Not scored\",Z19,(RANK(Y19,Y$4:Y$54,0)+COUNTIF(Y$4:Y19,Y19)-1))","v":46},28.999999999999993,27.999999999999993,"Colorado",{"$f":"IF(AD19=\"AVERAGE\",\"\", IF(COUNTIF(AD$4:AD19, \"AVERAGE\") < 1, (ROUNDUP(INDEX(AB$4:AB$54,MATCH(AD19,X$4:X$54,0)),1)), (ROUNDUP(INDEX(AC$4:AC$54,MATCH(AD19,X$4:X$54,0)),1))))","v":10},16,{"$f":"IF(AD19=\"AVERAGE\",\"\",IF(AG18=\"\",IF(AE19=AE17,AG17,COUNTIFS(AG$3:AG17,AG17)+AG17),IF(AE19=AE18,AG18,COUNTIFS(AG$4:AG18,AG18)+AG18)))","v":16},16,"Kansas",{"$f":"IFERROR(INDEX('SCORE TABLE'!$F$10:$BC$45, MATCH(AH$2,'SCORE TABLE'!$B$10:$B$45,0), MATCH(AI19,'SCORE TABLE'!$F$9:$BC$9,0)),\"Not scored\")","v":44.20636446153024},{"$f":"IFERROR(INDEX(Score_alphabetical!$G$3:$BD$38, MATCH(AH$2,Score_alphabetical!$C$3:$C$38,0), MATCH(AI19,Score_alphabetical!$G$2:$BD$2,0)),AH19)","v":16},{"$f":"IF(AJ19=\"Not scored\",AK19,(RANK(AJ19,AJ$4:AJ$54,0)+COUNTIF(AJ$4:AJ19,AJ19)-1))","v":47},47,46,"Vermont",{"$f":"IF(AO19=\"AVERAGE\",\"\", IF(COUNTIF(AO$4:AO19, \"AVERAGE\") < 1, (ROUNDUP(INDEX(AM$4:AM$54,MATCH(AO19,AI$4:AI$54,0)),1)), (ROUNDUP(INDEX(AN$4:AN$54,MATCH(AO19,AI$4:AI$54,0)),1))))","v":16},16,{"$f":"IF(AO19=\"AVERAGE\",\"\",IF(AR18=\"\",IF(AP19=AP17,AR17,COUNTIFS(AR$3:AR17,AR17)+AR17),IF(AP19=AP18,AR18,COUNTIFS(AR$4:AR18,AR18)+AR18)))","v":16},16,"Kansas",{"$f":"IFERROR(INDEX('SCORE TABLE'!$F$10:$BC$45, MATCH(AS$2,'SCORE TABLE'!$B$10:$B$45,0), MATCH(AT19,'SCORE TABLE'!$F$9:$BC$9,0)),\"Not scored\")","v":45},{"$f":"IFERROR(INDEX(Score_alphabetical!$G$3:$BD$38, MATCH(AS$2,Score_alphabetical!$C$3:$C$38,0), MATCH(AT19,Score_alphabetical!$G$2:$BD$2,0)),AS19)","v":16},{"$f":"IF(AU19=\"Not scored\",AV19,(RANK(AU19,AU$4:AU$54,0)+COUNTIF(AU$4:AU19,AU19)-1))","v":49},42,41,"Connecticut",{"$f":"IF(AZ19=\"AVERAGE\",\"\", IF(COUNTIF(AZ$4:AZ19, \"AVERAGE\") < 1, (ROUNDUP(INDEX(AX$4:AX$54,MATCH(AZ19,AT$4:AT$54,0)),1)), (ROUNDUP(INDEX(AY$4:AY$54,MATCH(AZ19,AT$4:AT$54,0)),1))))","v":14},"=16",{"$f":"IF(AZ19=\"AVERAGE\",\"\",IF(BC18=\"\",IF(BA19=BA17,BC17,COUNTIFS(BC$3:BC17,BC17)+BC17),IF(BA19=BA18,BC18,COUNTIFS(BC$4:BC18,BC18)+BC18)))","v":16}]
[17,"Kentucky",{"$f":"IFERROR(INDEX('SCORE TABLE'!$F$10:$BC$45, MATCH(A$2,'SCORE TABLE'!$B$10:$B$45,0), MATCH(B20,'SCORE TABLE'!$F$9:$BC$9,0)),\"Not scored\")","v":66.49700256880297},{"$f":"IFERROR(INDEX(Score_alphabetical!$G$3:$BD$38, MATCH(A$2,Score_alphabetical!$C$3:$C$38,0), MATCH(B20,Score_alphabetical!$G$2:$BD$2,0)),A20)","v":17},{"$f":"IF(C20=\"Not scored\",D20,(RANK(C20,C$4:C$54,0)+COUNTIF(C$4:C20,C20)-1))","v":2},2,2,"Wisconsin",{"$f":"IF(H20=\"AVERAGE\",\"\", IF(COUNTIF(H$4:H20, \"AVERAGE\") < 1, (ROUNDUP(INDEX(F$4:F$54,MATCH(H20,B$4:B$54,0)),1)), (ROUNDUP(INDEX(G$4:G$54,MATCH(H20,B$4:B$54,0)),1))))","v":17},17,{"$f":"IF(H20=\"AVERAGE\",\"\",IF(K19=\"\",IF(I20=I18,K18,COUNTIFS(K$3:K18,K18)+K18),IF(I20=I19,K19,COUNTIFS(K$4:K19,K19)+K19)))","v":17},17,"Kentucky",{"$f":"IFERROR(INDEX('SCORE TABLE'!$F$10:$BC$45, MATCH(L$2,'SCORE TABLE'!$B$10:$B$45,0), MATCH(M20,'SCORE TABLE'!$F$9:$BC$9,0)),\"Not scored\")","v":66.49700256880297},{"$f":"IFERROR(INDEX(Score_alphabetical!$G$3:$BD$38, MATCH(L$2,Score_alphabetical!$C$3:$C$38,0), MATCH(M20,Score_alphabetical!$G$2:$BD$2,0)),L20)","v":17},{"$f":"IF(N20=\"Not scored\",O20,(RANK(N20,N$4:N$54,0)+COUNTIF(N$4:N20,N20)-1))","v":2},2,2,"Wisconsin",{"$f":"IF(S20=\"AVERAGE\",\"\", IF(COUNTIF(S$4:S20, \"AVERAGE\") < 1, (ROUNDUP(INDEX(Q$4:Q$54,MATCH(S20,M$4:M$54,0)),1)), (ROUNDUP(INDEX(R$4:R$54,MATCH(S20,M$4:M$54,0)),1))))","v":17},17,{"$f":"IF(S20=\"AVERAGE\",\"\",IF(V19=\"\",IF(T20=T18,V18,COUNTIFS(V$3:V18,V18)+V18),IF(T20=T19,V19,COUNTIFS(V$4:V19,V19)+V19)))","v":17},17,"Kentucky",{"$f":"IFERROR(INDEX('SCORE TABLE'!$F$10:$BC$45, MATCH(W$2,'SCORE TABLE'!$B$10:$B$45,0), MATCH(X20,'SCORE TABLE'!$F$9:$BC$9,0)),\"Not scored\")","v":50},{"$f":"IFERROR(INDEX(Score_alphabetical!$G$3:$BD$38, MATCH(W$2,Score_alphabetical!$C$3:$C$38,0), MATCH(X20,Score_alphabetical!$G$2:$BD$2,0)),W20)","v":17},{"$f":"IF(Y20=\"Not scored\",Z20,(RANK(Y20,Y$4:Y$54,0)+COUNTIF(Y$4:Y20,Y20)-1))","v":12},7.999999999999999,7.999999999999999,"Wyoming",{"$f":"IF(AD20=\"AVERAGE\",\"\", IF(COUNTIF(AD$4:AD20, \"AVERAGE\") < 1, (ROUNDUP(INDEX(AB$4:AB$54,MATCH(AD20,X$4:X$54,0)),1)), (ROUNDUP(INDEX(AC$4:AC$54,MATCH(AD20,X$4:X$54,0)),1))))","v":11},17,{"$f":"IF(AD20=\"AVERAGE\",\"\",IF(AG19=\"\",IF(AE20=AE18,AG18,COUNTIFS(AG$3:AG18,AG18)+AG18),IF(AE20=AE19,AG19,COUNTIFS(AG$4:AG19,AG19)+AG19)))","v":17},17,"Kentucky",{"$f":"IFERROR(INDEX('SCORE TABLE'!$F$10:$BC$45, MATCH(AH$2,'SCORE TABLE'!$B$10:$B$45,0), MATCH(AI20,'SCORE TABLE'!$F$9:$BC$9,0)),\"Not scored\")","v":81.99100770640894},{"$f":"IFERROR(INDEX(Score_alphabetical!$G$3:$BD$38, MATCH(AH$2,Score_alphabetical!$C$3:$C$38,0), MATCH(AI20,Score_alphabetical!$G$2:$BD$2,0)),AH20)","v":17},{"$f":"IF(AJ20=\"Not scored\",AK20,(RANK(AJ20,AJ$4:AJ$54,0)+COUNTIF(AJ$4:AJ20,AJ20)-1))","v":7},7,7,"Washington",{"$f":"IF(AO20=\"AVERAGE\",\"\", IF(COUNTIF(AO$4:AO20, \"AVERAGE\") < 1, (ROUNDUP(INDEX(AM$4:AM$54,MATCH(AO20,AI$4:AI$54,0)),1)), (ROUNDUP(INDEX(AN$4:AN$54,MATCH(AO20,AI$4:AI$54,0)),1))))","v":17},17,{"$f":"IF(AO20=\"AVERAGE\",\"\",IF(AR19=\"\",IF(AP20=AP18,AR18,COUNTIFS(AR$3:AR18,AR18)+AR18),IF(AP20=AP19,AR19,COUNTIFS(AR$4:AR19,AR19)+AR19)))","v":17},17,"Kentucky",{"$f":"IFERROR(INDEX('SCORE TABLE'!$F$10:$BC$45, MATCH(AS$2,'SCORE TABLE'!$B$10:$B$45,0), MATCH(AT20,'SCORE TABLE'!$F$9:$BC$9,0)),\"Not scored\")","v":67.5},{"$f":"IFERROR(INDEX(Score_alphabetical!$G$3:$BD$38, MATCH(AS$2,Score_alphabetical!$C$3:$C$38,0), MATCH(AT20,Score_alphabetical!$G$2:$BD$2,0)),AS20)","v":17},{"$f":"IF(AU20=\"Not scored\",AV20,(RANK(AU20,AU$4:AU$54,0)+COUNTIF(AU$4:AU20,AU20)-1))","v":13},12,12,"Hawaii",{"$f":"IF(AZ20=\"AVERAGE\",\"\", IF(COUNTIF(AZ$4:AZ20, \"AVERAGE\") < 1, (ROUNDUP(INDEX(AX$4:AX$54,MATCH(AZ20,AT$4:AT$54,0)),1)), (ROUNDUP(INDEX(AY$4:AY$54,MATCH(AZ20,AT$4:AT$54,0)),1))))","v":14},"=16",{"$f":"IF(AZ20=\"AVERAGE\",\"\",IF(BC19=\"\",IF(BA20=BA18,BC18,COUNTIFS(BC$3:BC18,BC18)+BC18),IF(BA20=BA19,BC19,COUNTIFS(BC$4:BC19,BC19)+BC19)))","v":16}]
[18,"Louisiana",{"$f":"IFERROR(INDEX('SCORE TABLE'!$F$10:$BC$45, MATCH(A$2,'SCORE TABLE'!$B$10:$B$45,0), MATCH(B21,'SCORE TABLE'!$F$9:$BC$9,0)),\"Not scored\")","v":54.78025907534957},{"$f":"IFERROR(INDEX(Score_alphabetical!$G$3:$BD$38, MATCH(A$2,Score_alphabetical!$C$3:$C$38,0), MATCH(B21,Score_alphabetical!$G$2:$BD$2,0)),A21)","v":18},{"$f":"IF(C21=\"Not scored\",D21,(RANK(C21,C$4:C$54,0)+COUNTIF(C$4:C21,C21)-1))","v":24},24,24,"North Carolina",{"$f":"IF(H21=\"AVERAGE\",\"\", IF(COUNTIF(H$4:H21, \"AVERAGE\") < 1, (ROUNDUP(INDEX(F$4:F$54,MATCH(H21,B$4:B$54,0)),1)), (ROUNDUP(INDEX(G$4:G$54,MATCH(H21,B$4:B$54,0)),1))))","v":18},18,{"$f":"IF(H21=\"AVERAGE\",\"\",IF(K20=\"\",IF(I21=I19,K19,COUNTIFS(K$3:K19,K19)+K19),IF(I21=I20,K20,COUNTIFS(K$4:K20,K20)+K20)))","v":18},18,"Louisiana",{"$f":"IFERROR(INDEX('SCORE TABLE'!$F$10:$BC$45, MATCH(L$2,'SCORE TABLE'!$B$10:$B$45,0), MATCH(M21,'SCORE TABLE'!$F$9:$BC$9,0)),\"Not scored\")","v":54.78025907534957},{"$f":"IFERROR(INDEX(Score_alphabetical!$G$3:$BD$38, MATCH(L$2,Score_alphabetical!$C$3:$C$38,0), MATCH(M21,Score_alphabetical!$G$2:$BD$2,0)),L21)","v":18},{"$f":"IF(N21=\"Not scored\",O21,(RANK(N21,N$4:N$54,0)+COUNTIF(N$4:N21,N21)-1))","v":24},24,24,"North Carolina",{"$f":"IF(S21=\"AVERAGE\",\"\", IF(COUNTIF(S$4:S21, \"AVERAGE\") < 1, (ROUNDUP(INDEX(Q$4:Q$54,MATCH(S21,M$4:M$54,0)),1)), (ROUNDUP(INDEX(R$4:R$54,MATCH(S21,M$4:M$54,0)),1))))","v":18},18,{"$f":"IF(S21=\"AVERAGE\",\"\",IF(V20=\"\",IF(T21=T19,V19,COUNTIFS(V$3:V19,V19)+V19),IF(T21=T20,V20,COUNTIFS(V$4:V20,V20)+V20)))","v":18},18,"Louisiana",{"$f":"IFERROR(INDEX('SCORE TABLE'!$F$10:$BC$45, MATCH(W$2,'SCORE TABLE'!$B$10:$B$45,0), MATCH(X21,'SCORE TABLE'!$F$9:$BC$9,0)),\"Not scored\")","v":52.5},{"$f":"IFERROR(INDEX(Score_alphabetical!$G$3:$BD$38, MATCH(W$2,Score_alphabetical!$C$3:$C$38,0), MATCH(X21,Score_alphabetical!$G$2:$BD$2,0)),W21)","v":18},{"$f":"IF(Y21=\"Not scored\",Z21,(RANK(Y21,Y$4:Y$54,0)+COUNTIF(Y$4:Y21,Y21)-1))","v":10},7,7,"Michigan",{"$f":"IF(AD21=\"AVERAGE\",\"\", IF(COUNTIF(AD$4:AD21, \"AVERAGE\") < 1, (ROUNDUP(INDEX(AB$4:AB$54,MATCH(AD21,X$4:X$54,0)),1)), (ROUNDUP(INDEX(AC$4:AC$54,MATCH(AD21,X$4:X$54,0)),1))))","v":12},18,{"$f":"IF(AD21=\"AVERAGE\",\"\",IF(AG20=\"\",IF(AE21=AE19,AG19,COUNTIFS(AG$3:AG19,AG19)+AG19),IF(AE21=AE20,AG20,COUNTIFS(AG$4:AG20,AG20)+AG20)))","v":18},18,"Louisiana",{"$f":"IFERROR(INDEX('SCORE TABLE'!$F$10:$BC$45, MATCH(AH$2,'SCORE TABLE'!$B$10:$B$45,0), MATCH(AI21,'SCORE TABLE'!$F$9:$BC$9,0)),\"Not scored\")","v":51.17411055938206},{"$f":"IFERROR(INDEX(Score_alphabetical!$G$3:$BD$38, MATCH(AH$2,Score_alphabetical!$C$3:$C$38,0), MATCH(AI21,Score_alphabetical!$G$2:$BD$2,0)),AH21)","v":18},{"$f":"IF(AJ21=\"Not scored\",AK21,(RANK(AJ21,AJ$4:AJ$54,0)+COUNTIF(AJ$4:AJ21,AJ21)-1))","v":32},32,31,"Connecticut",{"$f":"IF(AO21=\"AVERAGE\",\"\", IF(COUNTIF(AO$4:AO21, \"AVERAGE\") < 1, (ROUNDUP(INDEX(AM$4:AM$54,MATCH(AO21,AI$4:AI$54,0)),1)), (ROUNDUP(INDEX(AN$4:AN$54,MATCH(AO21,AI$4:AI$54,0)),1))))","v":18},18,{"$f":"IF(AO21=\"AVERAGE\",\"\",IF(AR20=\"\",IF(AP21=AP19,AR19,COUNTIFS(AR$3:AR19,AR19)+AR19),IF(AP21=AP20,AR20,COUNTIFS(AR$4:AR20,AR20)+AR20)))","v":18},18,"Louisiana",{"$f":"IFERROR(INDEX('SCORE TABLE'!$F$10:$BC$45, MATCH(AS$2,'SCORE TABLE'!$B$10:$B$45,0), MATCH(AT21,'SCORE TABLE'!$F$9:$BC$9,0)),\"Not scored\")","v":60.666666666666664},{"$f":"IFERROR(INDEX(Score_alphabetical!$G$3:$BD$38, MATCH(AS$2,Score_alphabetical!$C$3:$C$38,0), MATCH(AT21,Score_alphabetical!$G$2:$BD$2,0)),AS21)","v":18},{"$f":"IF(AU21=\"Not scored\",AV21,(RANK(AU21,AU$4:AU$54,0)+COUNTIF(AU$4:AU21,AU21)-1))","v":30},24,23,"New York",{"$f":"IF(AZ21=\"AVERAGE\",\"\", IF(COUNTIF(AZ$4:AZ21, \"AVERAGE\") < 1, (ROUNDUP(INDEX(AX$4:AX$54,MATCH(AZ21,AT$4:AT$54,0)),1)), (ROUNDUP(INDEX(AY$4:AY$54,MATCH(AZ21,AT$4:AT$54,0)),1))))","v":14},"=16",{"$f":"IF(AZ21=\"AVERAGE\",\"\",IF(BC20=\"\",IF(BA21=BA19,BC19,COUNTIFS(BC$3:BC19,BC19)+BC19),IF(BA21=BA20,BC20,COUNTIFS(BC$4:BC20,BC20)+BC20)))","v":16}]
[19,"Maine",{"$f":"IFERROR(INDEX('SCORE TABLE'!$F$10:$BC$45, MATCH(A$2,'SCORE TABLE'!$B$10:$B$45,0), MATCH(B22,'SCORE TABLE'!$F$9:$BC$9,0)),\"Not scored\")","v":56.8366622469017},{"$f":"IFERROR(INDEX(Score_alphabetical!$G$3:$BD$38, MATCH(A$2,Score_alphabetical!$C$3:$C$38,0), MATCH(B22,Score_alphabetical!$G$2:$BD$2,0)),A22)","v":19},{"$f":"IF(C22=\"Not scored\",D22,(RANK(C22,C$4:C$54,0)+COUNTIF(C$4:C22,C22)-1))","v":21},21,21,"California",{"$f":"IF(H22=\"AVERAGE\",\"\", IF(COUNTIF(H$4:H22, \"AVERAGE\") < 1, (ROUNDUP(INDEX(F$4:F$54,MATCH(H22,B$4:B$54,0)),1)), (ROUNDUP(INDEX(G$4:G$54,MATCH(H22,B$4:B$54,0)),1))))","v":19},19,{"$f":"IF(H22=\"AVERAGE\",\"\",IF(K21=\"\",IF(I22=I20,K20,COUNTIFS(K$3:K20,K20)+K20),IF(I22=I21,K21,COUNTIFS(K$4:K21,K21)+K21)))","v":19},19,"Maine",{"$f":"IFERROR(INDEX('SCORE TABLE'!$F$10:$BC$45, MATCH(L$2,'SCORE TABLE'!$B$10:$B$45,0), MATCH(M22,'SCORE TABLE'!$F$9:$BC$9,0)),\"Not scored\")","v":56.8366622469017},{"$f":"IFERROR(INDEX(Score_alphabetical!$G$3:$BD$38, MATCH(L$2,Score_alphabetical!$C$3:$C$38,0), MATCH(M22,Score_alphabetical!$G$2:$BD$2,0)),L22)","v":19},{"$f":"IF(N22=\"Not scored\",O22,(RANK(N22,N$4:N$54,0)+COUNTIF(N$4:N22,N22)-1))","v":21},21,21,"California",{"$f":"IF(S22=\"AVERAGE\",\"\", IF(COUNTIF(S$4:S22, \"AVERAGE\") < 1, (ROUNDUP(INDEX(Q$4:Q$54,MATCH(S22,M$4:M$54,0)),1)), (ROUNDUP(INDEX(R$4:R$54,MATCH(S22,M$4:M$54,0)),1))))","v":19},19,{"$f":"IF(S22=\"AVERAGE\",\"\",IF(V21=\"\",IF(T22=T20,V20,COUNTIFS(V$3:V20,V20)+V20),IF(T22=T21,V21,COUNTIFS(V$4:V21,V21)+V21)))","v":19},19,"Maine",{"$f":"IFERROR(INDEX('SCORE TABLE'!$F$10:$BC$45, MATCH(W$2,'SCORE TABLE'!$B$10:$B$45,0), MATCH(X22,'SCORE TABLE'!$F$9:$BC$9,0)),\"Not scored\")","v":33.125},{"$f":"IFERROR(INDEX(Score_alphabetical!$G$3:$BD$38, MATCH(W$2,Score_alphabetical!$C$3:$C$38,0), MATCH(X22,Score_alphabetical!$G$2:$BD$2,0)),W22)","v":19},{"$f":"IF(Y22=\"Not scored\",Z22,(RANK(Y22,Y$4:Y$54,0)+COUNTIF(Y$4:Y22,Y22)-1))","v":34},22.999999999999996,21.999999999999996,"Hawaii",{"$f":"IF(AD22=\"AVERAGE\",\"\", IF(COUNTIF(AD$4:AD22, \"AVERAGE\") < 1, (ROUNDUP(INDEX(AB$4:AB$54,MATCH(AD22,X$4:X$54,0)),1)), (ROUNDUP(INDEX(AC$4:AC$54,MATCH(AD22,X$4:X$54,0)),1))))","v":13},19,{"$f":"IF(AD22=\"AVERAGE\",\"\",IF(AG21=\"\",IF(AE22=AE20,AG20,COUNTIFS(AG$3:AG20,AG20)+AG20),IF(AE22=AE21,AG21,COUNTIFS(AG$4:AG21,AG21)+AG21)))","v":19},19,"Maine",{"$f":"IFERROR(INDEX('SCORE TABLE'!$F$10:$BC$45, MATCH(AH$2,'SCORE TABLE'!$B$10:$B$45,0), MATCH(AI22,'SCORE TABLE'!$F$9:$BC$9,0)),\"Not scored\")","v":78.96832007403846},{"$f":"IFERROR(INDEX(Score_alphabetical!$G$3:$BD$38, MATCH(AH$2,Score_alphabetical!$C$3:$C$38,0), MATCH(AI22,Score_alphabetical!$G$2:$BD$2,0)),AH22)","v":19},{"$f":"IF(AJ22=\"Not scored\",AK22,(RANK(AJ22,AJ$4:AJ$54,0)+COUNTIF(AJ$4:AJ22,AJ22)-1))","v":10},10,10,"Tennessee",{"$f":"IF(AO22=\"AVERAGE\",\"\", IF(COUNTIF(AO$4:AO22, \"AVERAGE\") < 1, (ROUNDUP(INDEX(AM$4:AM$54,MATCH(AO22,AI$4:AI$54,0)),1)), (ROUNDUP(INDEX(AN$4:AN$54,MATCH(AO22,AI$4:AI$54,0)),1))))","v":19},19,{"$f":"IF(AO22=\"AVERAGE\",\"\",IF(AR21=\"\",IF(AP22=AP20,AR20,COUNTIFS(AR$3:AR20,AR20)+AR20),IF(AP22=AP21,AR21,COUNTIFS(AR$4:AR21,AR21)+AR21)))","v":19},19,"Maine",{"$f":"IFERROR(INDEX('SCORE TABLE'!$F$10:$BC$45, MATCH(AS$2,'SCORE TABLE'!$B$10:$B$45,0), MATCH(AT22,'SCORE TABLE'!$F$9:$BC$9,0)),\"Not scored\")","v":58.416666666666664},{"$f":"IFERROR(INDEX(Score_alphabetical!$G$3:$BD$38, MATCH(AS$2,Score_alphabetical!$C$3:$C$38,0), MATCH(AT22,Score_alphabetical!$G$2:$BD$2,0)),AS22)","v":19},{"$f":"IF(AU22=\"Not scored\",AV22,(RANK(AU22,AU$4:AU$54,0)+COUNTIF(AU$4:AU22,AU22)-1))","v":36},29,28,"Maryland",{"$f":"IF(AZ22=\"AVERAGE\",\"\", IF(COUNTIF(AZ$4:AZ22, \"AVERAGE\") < 1, (ROUNDUP(INDEX(AX$4:AX$54,MATCH(AZ22,AT$4:AT$54,0)),1)), (ROUNDUP(INDEX(AY$4:AY$54,MATCH(AZ22,AT$4:AT$54,0)),1))))","v":15},19,{"$f":"IF(AZ22=\"AVERAGE\",\"\",IF(BC21=\"\",IF(BA22=BA20,BC20,COUNTIFS(BC$3:BC20,BC20)+BC20),IF(BA22=BA21,BC21,COUNTIFS(BC$4:BC21,BC21)+BC21)))","v":19}]
[20,"Maryland",{"$f":"IFERROR(INDEX('SCORE TABLE'!$F$10:$BC$45, MATCH(A$2,'SCORE TABLE'!$B$10:$B$45,0), MATCH(B23,'SCORE TABLE'!$F$9:$BC$9,0)),\"Not scored\")","v":61.63066189688005},{"$f":"IFERROR(INDEX(Score_alphabetical!$G$3:$BD$38, MATCH(A$2,Score_alphabetical!$C$3:$C$38,0), MATCH(B23,Score_alphabetical!$G$2:$BD$2,0)),A23)","v":20},{"$f":"IF(C23=\"Not scored\",D23,(RANK(C23,C$4:C$54,0)+COUNTIF(C$4:C23,C23)-1))","v":10},10,10,"Texas",{"$f":"IF(H23=\"AVERAGE\",\"\", IF(COUNTIF(H$4:H23, \"AVERAGE\") < 1, (ROUNDUP(INDEX(F$4:F$54,MATCH(H23,B$4:B$54,0)),1)), (ROUNDUP(INDEX(G$4:G$54,MATCH(H23,B$4:B$54,0)),1))))","v":20},20,{"$f":"IF(H23=\"AVERAGE\",\"\",IF(K22=\"\",IF(I23=I21,K21,COUNTIFS(K$3:K21,K21)+K21),IF(I23=I22,K22,COUNTIFS(K$4:K22,K22)+K22)))","v":20},20,"Maryland",{"$f":"IFERROR(INDEX('SCORE TABLE'!$F$10:$BC$45, MATCH(L$2,'SCORE TABLE'!$B$10:$B$45,0), MATCH(M23,'SCORE TABLE'!$F$9:$BC$9,0)),\"Not scored\")","v":61.63066189688005},{"$f":"IFERROR(INDEX(Score_alphabetical!$G$3:$BD$38, MATCH(L$2,Score_alphabetical!$C$3:$C$38,0), MATCH(M23,Score_alphabetical!$G$2:$BD$2,0)),L23)","v":20},{"$f":"IF(N23=\"Not scored\",O23,(RANK(N23,N$4:N$54,0)+COUNTIF(N$4:N23,N23)-1))","v":10},10,10,"Texas",{"$f":"IF(S23=\"AVERAGE\",\"\", IF(COUNTIF(S$4:S23, \"AVERAGE\") < 1, (ROUNDUP(INDEX(Q$4:Q$54,MATCH(S23,M$4:M$54,0)),1)), (ROUNDUP(INDEX(R$4:R$54,MATCH(S23,M$4:M$54,0)),1))))","v":20},20,{"$f":"IF(S23=\"AVERAGE\",\"\",IF(V22=\"\",IF(T23=T21,V21,COUNTIFS(V$3:V21,V21)+V21),IF(T23=T22,V22,COUNTIFS(V$4:V22,V22)+V22)))","v":20},20,"Maryland",{"$f":"IFERROR(INDEX('SCORE TABLE'!$F$10:$BC$45, MATCH(W$2,'SCORE TABLE'!$B$10:$B$45,0), MATCH(X23,'SCORE TABLE'!$F$9:$BC$9,0)),\"Not scored\")","v":36.25},{"$f":"IFERROR(INDEX(Score_alphabetical!$G$3:$BD$38, MATCH(W$2,Score_alphabetical!$C$3:$C$38,0), MATCH(X23,Score_alphabetical!$G$2:$BD$2,0)),W23)","v":20},{"$f":"IF(Y23=\"Not scored\",Z23,(RANK(Y23,Y$4:Y$54,0)+COUNTIF(Y$4:Y23,Y23)-1))","v":26},19,18,"Montana",{"$f":"IF(AD23=\"AVERAGE\",\"\", IF(COUNTIF(AD$4:AD23, \"AVERAGE\") < 1, (ROUNDUP(INDEX(AB$4:AB$54,MATCH(AD23,X$4:X$54,0)),1)), (ROUNDUP(INDEX(AC$4:AC$54,MATCH(AD23,X$4:X$54,0)),1))))","v":14},20,{"$f":"IF(AD23=\"AVERAGE\",\"\",IF(AG22=\"\",IF(AE23=AE21,AG21,COUNTIFS(AG$3:AG21,AG21)+AG21),IF(AE23=AE22,AG22,COUNTIFS(AG$4:AG22,AG22)+AG22)))","v":20},20,"Maryland",{"$f":"IFERROR(INDEX('SCORE TABLE'!$F$10:$BC$45, MATCH(AH$2,'SCORE TABLE'!$B$10:$B$45,0), MATCH(AI23,'SCORE TABLE'!$F$9:$BC$9,0)),\"Not scored\")","v":83.9753190239735},{"$f":"IFERROR(INDEX(Score_alphabetical!$G$3:$BD$38, MATCH(AH$2,Score_alphabetical!$C$3:$C$38,0), MATCH(AI23,Score_alphabetical!$G$2:$BD$2,0)),AH23)","v":20},{"$f":"IF(AJ23=\"Not scored\",AK23,(RANK(AJ23,AJ$4:AJ$54,0)+COUNTIF(AJ$4:AJ23,AJ23)-1))","v":5},5,5,"Ohio",{"$f":"IF(AO23=\"AVERAGE\",\"\", IF(COUNTIF(AO$4:AO23, \"AVERAGE\") < 1, (ROUNDUP(INDEX(AM$4:AM$54,MATCH(AO23,AI$4:AI$54,0)),1)), (ROUNDUP(INDEX(AN$4:AN$54,MATCH(AO23,AI$4:AI$54,0)),1))))","v":20},20,{"$f":"IF(AO23=\"AVERAGE\",\"\",IF(AR22=\"\",IF(AP23=AP21,AR21,COUNTIFS(AR$3:AR21,AR21)+AR21),IF(AP23=AP22,AR22,COUNTIFS(AR$4:AR22,AR22)+AR22)))","v":20},20,"Maryland",{"$f":"IFERROR(INDEX('SCORE TABLE'!$F$10:$BC$45, MATCH(AS$2,'SCORE TABLE'!$B$10:$B$45,0), MATCH(AT23,'SCORE TABLE'!$F$9:$BC$9,0)),\"Not scored\")","v":64.66666666666666},{"$f":"IFERROR(INDEX(Score_alphabetical!$G$3:$BD$38, MATCH(AS$2,Score_alphabetical!$C$3:$C$38,0), MATCH(AT23,Score_alphabetical!$G$2:$BD$2,0)),AS23)","v":20},{"$f":"IF(AU23=\"Not scored\",AV23,(RANK(AU23,AU$4:AU$54,0)+COUNTIF(AU$4:AU23,AU23)-1))","v":19},15.000000000000002,15.000000000000002,"Mississippi",{"$f":"IF(AZ23=\"AVERAGE\",\"\", IF(COUNTIF(AZ$4:AZ23, \"AVERAGE\") < 1, (ROUNDUP(INDEX(AX$4:AX$54,MATCH(AZ23,AT$4:AT$54,0)),1)), (ROUNDUP(INDEX(AY$4:AY$54,MATCH(AZ23,AT$4:AT$54,0)),1))))","v":16},20,{"$f":"IF(AZ23=\"AVERAGE\",\"\",IF(BC22=\"\",IF(BA23=BA21,BC21,COUNTIFS(BC$3:BC21,BC21)+BC21),IF(BA23=BA22,BC22,COUNTIFS(BC$4:BC22,BC22)+BC22)))","v":20}]
[21,"Massachusetts",{"$f":"IFERROR(INDEX('SCORE TABLE'!$F$10:$BC$45, MATCH(A$2,'SCORE TABLE'!$B$10:$B$45,0), MATCH(B24,'SCORE TABLE'!$F$9:$BC$9,0)),\"Not scored\")","v":48.533443382514335},{"$f":"IFERROR(INDEX(Score_alphabetical!$G$3:$BD$38, MATCH(A$2,Score_alphabetical!$C$3:$C$38,0), MATCH(B24,Score_alphabetical!$G$2:$BD$2,0)),A24)","v":21},{"$f":"IF(C24=\"Not scored\",D24,(RANK(C24,C$4:C$54,0)+COUNTIF(C$4:C24,C24)-1))","v":40},40,39,"Maine",{"$f":"IF(H24=\"AVERAGE\",\"\", IF(COUNTIF(H$4:H24, \"AVERAGE\") < 1, (ROUNDUP(INDEX(F$4:F$54,MATCH(H24,B$4:B$54,0)),1)), (ROUNDUP(INDEX(G$4:G$54,MATCH(H24,B$4:B$54,0)),1))))","v":21},21,{"$f":"IF(H24=\"AVERAGE\",\"\",IF(K23=\"\",IF(I24=I22,K22,COUNTIFS(K$3:K22,K22)+K22),IF(I24=I23,K23,COUNTIFS(K$4:K23,K23)+K23)))","v":21},21,"Massachusetts",{"$f":"IFERROR(INDEX('SCORE TABLE'!$F$10:$BC$45, MATCH(L$2,'SCORE TABLE'!$B$10:$B$45,0), MATCH(M24,'SCORE TABLE'!$F$9:$BC$9,0)),\"Not scored\")","v":48.533443382514335},{"$f":"IFERROR(INDEX(Score_alphabetical!$G$3:$BD$38, MATCH(L$2,Score_alphabetical!$C$3:$C$38,0), MATCH(M24,Score_alphabetical!$G$2:$BD$2,0)),L24)","v":21},{"$f":"IF(N24=\"Not scored\",O24,(RANK(N24,N$4:N$54,0)+COUNTIF(N$4:N24,N24)-1))","v":40},40,39,"Maine",{"$f":"IF(S24=\"AVERAGE\",\"\", IF(COUNTIF(S$4:S24, \"AVERAGE\") < 1, (ROUNDUP(INDEX(Q$4:Q$54,MATCH(S24,M$4:M$54,0)),1)), (ROUNDUP(INDEX(R$4:R$54,MATCH(S24,M$4:M$54,0)),1))))","v":21},21,{"$f":"IF(S24=\"AVERAGE\",\"\",IF(V23=\"\",IF(T24=T22,V22,COUNTIFS(V$3:V22,V22)+V22),IF(T24=T23,V23,COUNTIFS(V$4:V23,V23)+V23)))","v":21},21,"Massachusetts",{"$f":"IFERROR(INDEX('SCORE TABLE'!$F$10:$BC$45, MATCH(W$2,'SCORE TABLE'!$B$10:$B$45,0), MATCH(X24,'SCORE TABLE'!$F$9:$BC$9,0)),\"Not scored\")","v":30},{"$f":"IFERROR(INDEX(Score_alphabetical!$G$3:$BD$38, MATCH(W$2,Score_alphabetical!$C$3:$C$38,0), MATCH(X24,Score_alphabetical!$G$2:$BD$2,0)),W24)","v":21},{"$f":"IF(Y24=\"Not scored\",Z24,(RANK(Y24,Y$4:Y$54,0)+COUNTIF(Y$4:Y24,Y24)-1))","v":39},25.999999999999996,24.999999999999996,"Missouri",{"$f":"IF(AD24=\"AVERAGE\",\"\", IF(COUNTIF(AD$4:AD24, \"AVERAGE\") < 1, (ROUNDUP(INDEX(AB$4:AB$54,MATCH(AD24,X$4:X$54,0)),1)), (ROUNDUP(INDEX(AC$4:AC$54,MATCH(AD24,X$4:X$54,0)),1))))","v":15},21,{"$f":"IF(AD24=\"AVERAGE\",\"\",IF(AG23=\"\",IF(AE24=AE22,AG22,COUNTIFS(AG$3:AG22,AG22)+AG22),IF(AE24=AE23,AG23,COUNTIFS(AG$4:AG23,AG23)+AG23)))","v":21},21,"Massachusetts",{"$f":"IFERROR(INDEX('SCORE TABLE'!$F$10:$BC$45, MATCH(AH$2,'SCORE TABLE'!$B$10:$B$45,0), MATCH(AI24,'SCORE TABLE'!$F$9:$BC$9,0)),\"Not scored\")","v":58.51699681420968},{"$f":"IFERROR(INDEX(Score_alphabetical!$G$3:$BD$38, MATCH(AH$2,Score_alphabetical!$C$3:$C$38,0), MATCH(AI24,Score_alphabetical!$G$2:$BD$2,0)),AH24)","v":21},{"$f":"IF(AJ24=\"Not scored\",AK24,(RANK(AJ24,AJ$4:AJ$54,0)+COUNTIF(AJ$4:AJ24,AJ24)-1))","v":24},24,23,"North Dakota",{"$f":"IF(AO24=\"AVERAGE\",\"\", IF(COUNTIF(AO$4:AO24, \"AVERAGE\") < 1, (ROUNDUP(INDEX(AM$4:AM$54,MATCH(AO24,AI$4:AI$54,0)),1)), (ROUNDUP(INDEX(AN$4:AN$54,MATCH(AO24,AI$4:AI$54,0)),1))))","v":21},21,{"$f":"IF(AO24=\"AVERAGE\",\"\",IF(AR23=\"\",IF(AP24=AP22,AR22,COUNTIFS(AR$3:AR22,AR22)+AR22),IF(AP24=AP23,AR23,COUNTIFS(AR$4:AR23,AR23)+AR23)))","v":21},21,"Massachusetts",{"$f":"IFERROR(INDEX('SCORE TABLE'!$F$10:$BC$45, MATCH(AS$2,'SCORE TABLE'!$B$10:$B$45,0), MATCH(AT24,'SCORE TABLE'!$F$9:$BC$9,0)),\"Not scored\")","v":57.08333333333333},{"$f":"IFERROR(INDEX(Score_alphabetical!$G$3:$BD$38, MATCH(AS$2,Score_alphabetical!$C$3:$C$38,0), MATCH(AT24,Score_alphabetical!$G$2:$BD$2,0)),AS24)","v":21},{"$f":"IF(AU24=\"Not scored\",AV24,(RANK(AU24,AU$4:AU$54,0)+COUNTIF(AU$4:AU24,AU24)-1))","v":38},30.999999999999996,29.999999999999996,"Minnesota",{"$f":"IF(AZ24=\"AVERAGE\",\"\", IF(COUNTIF(AZ$4:AZ24, \"AVERAGE\") < 1, (ROUNDUP(INDEX(AX$4:AX$54,MATCH(AZ24,AT$4:AT$54,0)),1)), (ROUNDUP(INDEX(AY$4:AY$54,MATCH(AZ24,AT$4:AT$54,0)),1))))","v":17},"=21",{"$f":"IF(AZ24=\"AVERAGE\",\"\",IF(BC23=\"\",IF(BA24=BA22,BC22,COUNTIFS(BC$3:BC22,BC22)+BC22),IF(BA24=BA23,BC23,COUNTIFS(BC$4:BC23,BC23)+BC23)))","v":21}]
[22,"Michigan",{"$f":"IFERROR(INDEX('SCORE TABLE'!$F$10:$BC$45, MATCH(A$2,'SCORE TABLE'!$B$10:$B$45,0), MATCH(B25,'SCORE TABLE'!$F$9:$BC$9,0)),\"Not scored\")","v":50.967364186140315},{"$f":"IFERROR(INDEX(Score_alphabetical!$G$3:$BD$38, MATCH(A$2,Score_alphabetical!$C$3:$C$38,0), MATCH(B25,Score_alphabetical!$G$2:$BD$2,0)),A25)","v":22},{"$f":"IF(C25=\"Not scored\",D25,(RANK(C25,C$4:C$54,0)+COUNTIF(C$4:C25,C25)-1))","v":34},34,33,"Mississippi",{"$f":"IF(H25=\"AVERAGE\",\"\", IF(COUNTIF(H$4:H25, \"AVERAGE\") < 1, (ROUNDUP(INDEX(F$4:F$54,MATCH(H25,B$4:B$54,0)),1)), (ROUNDUP(INDEX(G$4:G$54,MATCH(H25,B$4:B$54,0)),1))))","v":22},22,{"$f":"IF(H25=\"AVERAGE\",\"\",IF(K24=\"\",IF(I25=I23,K23,COUNTIFS(K$3:K23,K23)+K23),IF(I25=I24,K24,COUNTIFS(K$4:K24,K24)+K24)))","v":22},22,"Michigan",{"$f":"IFERROR(INDEX('SCORE TABLE'!$F$10:$BC$45, MATCH(L$2,'SCORE TABLE'!$B$10:$B$45,0), MATCH(M25,'SCORE TABLE'!$F$9:$BC$9,0)),\"Not scored\")","v":50.967364186140315},{"$f":"IFERROR(INDEX(Score_alphabetical!$G$3:$BD$38, MATCH(L$2,Score_alphabetical!$C$3:$C$38,0), MATCH(M25,Score_alphabetical!$G$2:$BD$2,0)),L25)","v":22},{"$f":"IF(N25=\"Not scored\",O25,(RANK(N25,N$4:N$54,0)+COUNTIF(N$4:N25,N25)-1))","v":34},34,33,"Mississippi",{"$f":"IF(S25=\"AVERAGE\",\"\", IF(COUNTIF(S$4:S25, \"AVERAGE\") < 1, (ROUNDUP(INDEX(Q$4:Q$54,MATCH(S25,M$4:M$54,0)),1)), (ROUNDUP(INDEX(R$4:R$54,MATCH(S25,M$4:M$54,0)),1))))","v":22},22,{"$f":"IF(S25=\"AVERAGE\",\"\",IF(V24=\"\",IF(T25=T23,V23,COUNTIFS(V$3:V23,V23)+V23),IF(T25=T24,V24,COUNTIFS(V$4:V24,V24)+V24)))","v":22},22,"Michigan",{"$f":"IFERROR(INDEX('SCORE TABLE'!$F$10:$BC$45, MATCH(W$2,'SCORE TABLE'!$B$10:$B$45,0), MATCH(X25,'SCORE TABLE'!$F$9:$BC$9,0)),\"Not scored\")","v":42.08334},{"$f":"IFERROR(INDEX(Score_alphabetical!$G$3:$BD$38, MATCH(W$2,Score_alphabetical!$C$3:$C$38,0), MATCH(X25,Score_alphabetical!$G$2:$BD$2,0)),W25)","v":22},{"$f":"IF(Y25=\"Not scored\",Z25,(RANK(Y25,Y$4:Y$54,0)+COUNTIF(Y$4:Y25,Y25)-1))","v":18},12.000000000000002,12.000000000000002,"AVERAGE",{"$f":"IF(AD25=\"AVERAGE\",\"\", IF(COUNTIF(AD$4:AD25, \"AVERAGE\") < 1, (ROUNDUP(INDEX(AB$4:AB$54,MATCH(AD25,X$4:X$54,0)),1)), (ROUNDUP(INDEX(AC$4:AC$54,MATCH(AD25,X$4:X$54,0)),1))))","v":""},"",{"$f":"IF(AD25=\"AVERAGE\",\"\",IF(AG24=\"\",IF(AE25=AE23,AG23,COUNTIFS(AG$3:AG23,AG23)+AG23),IF(AE25=AE24,AG24,COUNTIFS(AG$4:AG24,AG24)+AG24)))","v":""},22,"Michigan",{"$f":"IFERROR(INDEX('SCORE TABLE'!$F$10:$BC$45, MATCH(AH$2,'SCORE TABLE'!$B$10:$B$45,0), MATCH(AI25,'SCORE TABLE'!$F$9:$BC$9,0)),\"Not scored\")","v":55.98541922508765},{"$f":"IFERROR(INDEX(Score_alphabetical!$G$3:$BD$38, MATCH(AH$2,Score_alphabetical!$C$3:$C$38,0), MATCH(AI25,Score_alphabetical!$G$2:$BD$2,0)),AH25)","v":22},{"$f":"IF(AJ25=\"Not scored\",AK25,(RANK(AJ25,AJ$4:AJ$54,0)+COUNTIF(AJ$4:AJ25,AJ25)-1))","v":28},28,27,"Virginia",{"$f":"IF(AO25=\"AVERAGE\",\"\", IF(COUNTIF(AO$4:AO25, \"AVERAGE\") < 1, (ROUNDUP(INDEX(AM$4:AM$54,MATCH(AO25,AI$4:AI$54,0)),1)), (ROUNDUP(INDEX(AN$4:AN$54,MATCH(AO25,AI$4:AI$54,0)),1))))","v":22},22,{"$f":"IF(AO25=\"AVERAGE\",\"\",IF(AR24=\"\",IF(AP25=AP23,AR23,COUNTIFS(AR$3:AR23,AR23)+AR23),IF(AP25=AP24,AR24,COUNTIFS(AR$4:AR24,AR24)+AR24)))","v":22},22,"Michigan",{"$f":"IFERROR(INDEX('SCORE TABLE'!$F$10:$BC$45, MATCH(AS$2,'SCORE TABLE'!$B$10:$B$45,0), MATCH(AT25,'SCORE TABLE'!$F$9:$BC$9,0)),\"Not scored\")","v":54.83333333333333},{"$f":"IFERROR(INDEX(Score_alphabetical!$G$3:$BD$38, MATCH(AS$2,Score_alphabetical!$C$3:$C$38,0), MATCH(AT25,Score_alphabetical!$G$2:$BD$2,0)),AS25)","v":22},{"$f":"IF(AU25=\"Not scored\",AV25,(RANK(AU25,AU$4:AU$54,0)+COUNTIF(AU$4:AU25,AU25)-1))","v":42},35,34,"Pennsylvania",{"$f":"IF(AZ25=\"AVERAGE\",\"\", IF(COUNTIF(AZ$4:AZ25, \"AVERAGE\") < 1, (ROUNDUP(INDEX(AX$4:AX$54,MATCH(AZ25,AT$4:AT$54,0)),1)), (ROUNDUP(INDEX(AY$4:AY$54,MATCH(AZ25,AT$4:AT$54,0)),1))))","v":17},"=21",{"$f":"IF(AZ25=\"AVERAGE\",\"\",IF(BC24=\"\",IF(BA25=BA23,BC23,COUNTIFS(BC$3:BC23,BC23)+BC23),IF(BA25=BA24,BC24,COUNTIFS(BC$4:BC24,BC24)+BC24)))","v":21}]
[23,"Minnesota",{"$f":"IFERROR(INDEX('SCORE TABLE'!$F$10:$BC$45, MATCH(A$2,'SCORE TABLE'!$B$10:$B$45,0), MATCH(B26,'SCORE TABLE'!$F$9:$BC$9,0)),\"Not scored\")","v":69.19444444444444},{"$f":"IFERROR(INDEX(Score_alphabetical!$G$3:$BD$38, MATCH(A$2,Score_alphabetical!$C$3:$C$38,0), MATCH(B26,Score_alphabetical!$G$2:$BD$2,0)),A26)","v":23},{"$f":"IF(C26=\"Not scored\",D26,(RANK(C26,C$4:C$54,0)+COUNTIF(C$4:C26,C26)-1))","v":1},1,1,"Hawaii",{"$f":"IF(H26=\"AVERAGE\",\"\", IF(COUNTIF(H$4:H26, \"AVERAGE\") < 1, (ROUNDUP(INDEX(F$4:F$54,MATCH(H26,B$4:B$54,0)),1)), (ROUNDUP(INDEX(G$4:G$54,MATCH(H26,B$4:B$54,0)),1))))","v":23},23,{"$f":"IF(H26=\"AVERAGE\",\"\",IF(K25=\"\",IF(I26=I24,K24,COUNTIFS(K$3:K24,K24)+K24),IF(I26=I25,K25,COUNTIFS(K$4:K25,K25)+K25)))","v":23},23,"Minnesota",{"$f":"IFERROR(INDEX('SCORE TABLE'!$F$10:$BC$45, MATCH(L$2,'SCORE TABLE'!$B$10:$B$45,0), MATCH(M26,'SCORE TABLE'!$F$9:$BC$9,0)),\"Not scored\")","v":69.19444444444444},{"$f":"IFERROR(INDEX(Score_alphabetical!$G$3:$BD$38, MATCH(L$2,Score_alphabetical!$C$3:$C$38,0), MATCH(M26,Score_alphabetical!$G$2:$BD$2,0)),L26)","v":23},{"$f":"IF(N26=\"Not scored\",O26,(RANK(N26,N$4:N$54,0)+COUNTIF(N$4:N26,N26)-1))","v":1},1,1,"Hawaii",{"$f":"IF(S26=\"AVERAGE\",\"\", IF(COUNTIF(S$4:S26, \"AVERAGE\") < 1, (ROUNDUP(INDEX(Q$4:Q$54,MATCH(S26,M$4:M$54,0)),1)), (ROUNDUP(INDEX(R$4:R$54,MATCH(S26,M$4:M$54,0)),1))))","v":23},23,{"$f":"IF(S26=\"AVERAGE\",\"\",IF(V25=\"\",IF(T26=T24,V24,COUNTIFS(V$3:V24,V24)+V24),IF(T26=T25,V25,COUNTIFS(V$4:V25,V25)+V25)))","v":23},23,"Minnesota",{"$f":"IFERROR(INDEX('SCORE TABLE'!$F$10:$BC$45, MATCH(W$2,'SCORE TABLE'!$B$10:$B$45,0), MATCH(X26,'SCORE TABLE'!$F$9:$BC$9,0)),\"Not scored\")","v":56.25},{"$f":"IFERROR(INDEX(Score_alphabetical!$G$3:$BD$38, MATCH(W$2,Score_alphabetical!$C$3:$C$38,0), MATCH(X26,Score_alphabetical!$G$2:$BD$2,0)),W26)","v":23},{"$f":"IF(Y26=\"Not scored\",Z26,(RANK(Y26,Y$4:Y$54,0)+COUNTIF(Y$4:Y26,Y26)-1))","v":7},5,5,"Pennsylvania",{"$f":"IF(AD26=\"AVERAGE\",\"\", IF(COUNTIF(AD$4:AD26, \"AVERAGE\") < 1, (ROUNDUP(INDEX(AB$4:AB$54,MATCH(AD26,X$4:X$54,0)),1)), (ROUNDUP(INDEX(AC$4:AC$54,MATCH(AD26,X$4:X$54,0)),1))))","v":16},22,{"$f":"IF(AD26=\"AVERAGE\",\"\",IF(AG25=\"\",IF(AE26=AE24,AG24,COUNTIFS(AG$3:AG24,AG24)+AG24),IF(AE26=AE25,AG25,COUNTIFS(AG$4:AG25,AG25)+AG25)))","v":22},23,"Minnesota",{"$f":"IFERROR(INDEX('SCORE TABLE'!$F$10:$BC$45, MATCH(AH$2,'SCORE TABLE'!$B$10:$B$45,0), MATCH(AI26,'SCORE TABLE'!$F$9:$BC$9,0)),\"Not scored\")","v":88.16666666666666},{"$f":"IFERROR(INDEX(Score_alphabetical!$G$3:$BD$38, MATCH(AH$2,Score_alphabetical!$C$3:$C$38,0), MATCH(AI26,Score_alphabetical!$G$2:$BD$2,0)),AH26)","v":23},{"$f":"IF(AJ26=\"Not scored\",AK26,(RANK(AJ26,AJ$4:AJ$54,0)+COUNTIF(AJ$4:AJ26,AJ26)-1))","v":2},2,2,"AVERAGE",{"$f":"IF(AO26=\"AVERAGE\",\"\", IF(COUNTIF(AO$4:AO26, \"AVERAGE\") < 1, (ROUNDUP(INDEX(AM$4:AM$54,MATCH(AO26,AI$4:AI$54,0)),1)), (ROUNDUP(INDEX(AN$4:AN$54,MATCH(AO26,AI$4:AI$54,0)),1))))","v":""},"",{"$f":"IF(AO26=\"AVERAGE\",\"\",IF(AR25=\"\",IF(AP26=AP24,AR24,COUNTIFS(AR$3:AR24,AR24)+AR24),IF(AP26=AP25,AR25,COUNTIFS(AR$4:AR25,AR25)+AR25)))","v":""},23,"Minnesota",{"$f":"IFERROR(INDEX('SCORE TABLE'!$F$10:$BC$45, MATCH(AS$2,'SCORE TABLE'!$B$10:$B$45,0), MATCH(AT26,'SCORE TABLE'!$F$9:$BC$9,0)),\"Not scored\")","v":63.166666666666664},{"$f":"IFERROR(INDEX(Score_alphabetical!$G$3:$BD$38, MATCH(AS$2,Score_alphabetical!$C$3:$C$38,0), MATCH(AT26,Score_alphabetical!$G$2:$BD$2,0)),AS26)","v":23},{"$f":"IF(AU26=\"Not scored\",AV26,(RANK(AU26,AU$4:AU$54,0)+COUNTIF(AU$4:AU26,AU26)-1))","v":21},17,17,"New Hampshire",{"$f":"IF(AZ26=\"AVERAGE\",\"\", IF(COUNTIF(AZ$4:AZ26, \"AVERAGE\") < 1, (ROUNDUP(INDEX(AX$4:AX$54,MATCH(AZ26,AT$4:AT$54,0)),1)), (ROUNDUP(INDEX(AY$4:AY$54,MATCH(AZ26,AT$4:AT$54,0)),1))))","v":18},23,{"$f":"IF(AZ26=\"AVERAGE\",\"\",IF(BC25=\"\",IF(BA26=BA24,BC24,COUNTIFS(BC$3:BC24,BC24)+BC24),IF(BA26=BA25,BC25,COUNTIFS(BC$4:BC25,BC25)+BC25)))","v":23}]
[24,"Mississippi",{"$f":"IFERROR(INDEX('SCORE TABLE'!$F$10:$BC$45, MATCH(A$2,'SCORE TABLE'!$B$10:$B$45,0), MATCH(B27,'SCORE TABLE'!$F$9:$BC$9,0)),\"Not scored\")","v":55.41949353646454},{"$f":"IFERROR(INDEX(Score_alphabetical!$G$3:$BD$38, MATCH(A$2,Score_alphabetical!$C$3:$C$38,0), MATCH(B27,Score_alphabetical!$G$2:$BD$2,0)),A27)","v":24},{"$f":"IF(C27=\"Not scored\",D27,(RANK(C27,C$4:C$54,0)+COUNTIF(C$4:C27,C27)-1))","v":22},22,22,"Louisiana",{"$f":"IF(H27=\"AVERAGE\",\"\", IF(COUNTIF(H$4:H27, \"AVERAGE\") < 1, (ROUNDUP(INDEX(F$4:F$54,MATCH(H27,B$4:B$54,0)),1)), (ROUNDUP(INDEX(G$4:G$54,MATCH(H27,B$4:B$54,0)),1))))","v":24},24,{"$f":"IF(H27=\"AVERAGE\",\"\",IF(K26=\"\",IF(I27=I25,K25,COUNTIFS(K$3:K25,K25)+K25),IF(I27=I26,K26,COUNTIFS(K$4:K26,K26)+K26)))","v":24},24,"Mississippi",{"$f":"IFERROR(INDEX('SCORE TABLE'!$F$10:$BC$45, MATCH(L$2,'SCORE TABLE'!$B$10:$B$45,0), MATCH(M27,'SCORE TABLE'!$F$9:$BC$9,0)),\"Not scored\")","v":55.41949353646454},{"$f":"IFERROR(INDEX(Score_alphabetical!$G$3:$BD$38, MATCH(L$2,Score_alphabetical!$C$3:$C$38,0), MATCH(M27,Score_alphabetical!$G$2:$BD$2,0)),L27)","v":24},{"$f":"IF(N27=\"Not scored\",O27,(RANK(N27,N$4:N$54,0)+COUNTIF(N$4:N27,N27)-1))","v":22},22,22,"Louisiana",{"$f":"IF(S27=\"AVERAGE\",\"\", IF(COUNTIF(S$4:S27, \"AVERAGE\") < 1, (ROUNDUP(INDEX(Q$4:Q$54,MATCH(S27,M$4:M$54,0)),1)), (ROUNDUP(INDEX(R$4:R$54,MATCH(S27,M$4:M$54,0)),1))))","v":24},24,{"$f":"IF(S27=\"AVERAGE\",\"\",IF(V26=\"\",IF(T27=T25,V25,COUNTIFS(V$3:V25,V25)+V25),IF(T27=T26,V26,COUNTIFS(V$4:V26,V26)+V26)))","v":24},24,"Mississippi",{"$f":"IFERROR(INDEX('SCORE TABLE'!$F$10:$BC$45, MATCH(W$2,'SCORE TABLE'!$B$10:$B$45,0), MATCH(X27,'SCORE TABLE'!$F$9:$BC$9,0)),\"Not scored\")","v":58.75},{"$f":"IFERROR(INDEX(Score_alphabetical!$G$3:$BD$38, MATCH(W$2,Score_alphabetical!$C$3:$C$38,0), MATCH(X27,Score_alphabetical!$G$2:$BD$2,0)),W27)","v":24},{"$f":"IF(Y27=\"Not scored\",Z27,(RANK(Y27,Y$4:Y$54,0)+COUNTIF(Y$4:Y27,Y27)-1))","v":6},4,4,"New York",{"$f":"IF(AD27=\"AVERAGE\",\"\", IF(COUNTIF(AD$4:AD27, \"AVERAGE\") < 1, (ROUNDUP(INDEX(AB$4:AB$54,MATCH(AD27,X$4:X$54,0)),1)), (ROUNDUP(INDEX(AC$4:AC$54,MATCH(AD27,X$4:X$54,0)),1))))","v":17},"=23",{"$f":"IF(AD27=\"AVERAGE\",\"\",IF(AG26=\"\",IF(AE27=AE25,AG25,COUNTIFS(AG$3:AG25,AG25)+AG25),IF(AE27=AE26,AG26,COUNTIFS(AG$4:AG26,AG26)+AG26)))","v":23},24,"Mississippi",{"$f":"IFERROR(INDEX('SCORE TABLE'!$F$10:$BC$45, MATCH(AH$2,'SCORE TABLE'!$B$10:$B$45,0), MATCH(AI27,'SCORE TABLE'!$F$9:$BC$9,0)),\"Not scored\")","v":43.00848060939363},{"$f":"IFERROR(INDEX(Score_alphabetical!$G$3:$BD$38, MATCH(AH$2,Score_alphabetical!$C$3:$C$38,0), MATCH(AI27,Score_alphabetical!$G$2:$BD$2,0)),AH27)","v":24},{"$f":"IF(AJ27=\"Not scored\",AK27,(RANK(AJ27,AJ$4:AJ$54,0)+COUNTIF(AJ$4:AJ27,AJ27)-1))","v":48},48,47,"Massachusetts",{"$f":"IF(AO27=\"AVERAGE\",\"\", IF(COUNTIF(AO$4:AO27, \"AVERAGE\") < 1, (ROUNDUP(INDEX(AM$4:AM$54,MATCH(AO27,AI$4:AI$54,0)),1)), (ROUNDUP(INDEX(AN$4:AN$54,MATCH(AO27,AI$4:AI$54,0)),1))))","v":23},23,{"$f":"IF(AO27=\"AVERAGE\",\"\",IF(AR26=\"\",IF(AP27=AP25,AR25,COUNTIFS(AR$3:AR25,AR25)+AR25),IF(AP27=AP26,AR26,COUNTIFS(AR$4:AR26,AR26)+AR26)))","v":23},24,"Mississippi",{"$f":"IFERROR(INDEX('SCORE TABLE'!$F$10:$BC$45, MATCH(AS$2,'SCORE TABLE'!$B$10:$B$45,0), MATCH(AT27,'SCORE TABLE'!$F$9:$BC$9,0)),\"Not scored\")","v":64.5},{"$f":"IFERROR(INDEX(Score_alphabetical!$G$3:$BD$38, MATCH(AS$2,Score_alphabetical!$C$3:$C$38,0), MATCH(AT27,Score_alphabetical!$G$2:$BD$2,0)),AS27)","v":24},{"$f":"IF(AU27=\"Not scored\",AV27,(RANK(AU27,AU$4:AU$54,0)+COUNTIF(AU$4:AU27,AU27)-1))","v":20},16,16,"Wisconsin",{"$f":"IF(AZ27=\"AVERAGE\",\"\", IF(COUNTIF(AZ$4:AZ27, \"AVERAGE\") < 1, (ROUNDUP(INDEX(AX$4:AX$54,MATCH(AZ27,AT$4:AT$54,0)),1)), (ROUNDUP(INDEX(AY$4:AY$54,MATCH(AZ27,AT$4:AT$54,0)),1))))","v":19},24,{"$f":"IF(AZ27=\"AVERAGE\",\"\",IF(BC26=\"\",IF(BA27=BA25,BC25,COUNTIFS(BC$3:BC25,BC25)+BC25),IF(BA27=BA26,BC26,COUNTIFS(BC$4:BC26,BC26)+BC26)))","v":24}]
[25,"Missouri",{"$f":"IFERROR(INDEX('SCORE TABLE'!$F$10:$BC$45, MATCH(A$2,'SCORE TABLE'!$B$10:$B$45,0), MATCH(B28,'SCORE TABLE'!$F$9:$BC$9,0)),\"Not scored\")","v":48.88200859036194},{"$f":"IFERROR(INDEX(Score_alphabetical!$G$3:$BD$38, MATCH(A$2,Score_alphabetical!$C$3:$C$38,0), MATCH(B28,Score_alphabetical!$G$2:$BD$2,0)),A28)","v":25},{"$f":"IF(C28=\"Not scored\",D28,(RANK(C28,C$4:C$54,0)+COUNTIF(C$4:C28,C28)-1))","v":38},38,37,"Vermont",{"$f":"IF(H28=\"AVERAGE\",\"\", IF(COUNTIF(H$4:H28, \"AVERAGE\") < 1, (ROUNDUP(INDEX(F$4:F$54,MATCH(H28,B$4:B$54,0)),1)), (ROUNDUP(INDEX(G$4:G$54,MATCH(H28,B$4:B$54,0)),1))))","v":25},25,{"$f":"IF(H28=\"AVERAGE\",\"\",IF(K27=\"\",IF(I28=I26,K26,COUNTIFS(K$3:K26,K26)+K26),IF(I28=I27,K27,COUNTIFS(K$4:K27,K27)+K27)))","v":25},25,"Missouri",{"$f":"IFERROR(INDEX('SCORE TABLE'!$F$10:$BC$45, MATCH(L$2,'SCORE TABLE'!$B$10:$B$45,0), MATCH(M28,'SCORE TABLE'!$F$9:$BC$9,0)),\"Not scored\")","v":48.88200859036194},{"$f":"IFERROR(INDEX(Score_alphabetical!$G$3:$BD$38, MATCH(L$2,Score_alphabetical!$C$3:$C$38,0), MATCH(M28,Score_alphabetical!$G$2:$BD$2,0)),L28)","v":25},{"$f":"IF(N28=\"Not scored\",O28,(RANK(N28,N$4:N$54,0)+COUNTIF(N$4:N28,N28)-1))","v":38},38,37,"Vermont",{"$f":"IF(S28=\"AVERAGE\",\"\", IF(COUNTIF(S$4:S28, \"AVERAGE\") < 1, (ROUNDUP(INDEX(Q$4:Q$54,MATCH(S28,M$4:M$54,0)),1)), (ROUNDUP(INDEX(R$4:R$54,MATCH(S28,M$4:M$54,0)),1))))","v":25},25,{"$f":"IF(S28=\"AVERAGE\",\"\",IF(V27=\"\",IF(T28=T26,V26,COUNTIFS(V$3:V26,V26)+V26),IF(T28=T27,V27,COUNTIFS(V$4:V27,V27)+V27)))","v":25},25,"Missouri",{"$f":"IFERROR(INDEX('SCORE TABLE'!$F$10:$BC$45, MATCH(W$2,'SCORE TABLE'!$B$10:$B$45,0), MATCH(X28,'SCORE TABLE'!$F$9:$BC$9,0)),\"Not scored\")","v":40},{"$f":"IFERROR(INDEX(Score_alphabetical!$G$3:$BD$38, MATCH(W$2,Score_alphabetical!$C$3:$C$38,0), MATCH(X28,Score_alphabetical!$G$2:$BD$2,0)),W28)","v":25},{"$f":"IF(Y28=\"Not scored\",Z28,(RANK(Y28,Y$4:Y$54,0)+COUNTIF(Y$4:Y28,Y28)-1))","v":21},15.000000000000002,15.000000000000002,"Texas",{"$f":"IF(AD28=\"AVERAGE\",\"\", IF(COUNTIF(AD$4:AD28, \"AVERAGE\") < 1, (ROUNDUP(INDEX(AB$4:AB$54,MATCH(AD28,X$4:X$54,0)),1)), (ROUNDUP(INDEX(AC$4:AC$54,MATCH(AD28,X$4:X$54,0)),1))))","v":17},"=23",{"$f":"IF(AD28=\"AVERAGE\",\"\",IF(AG27=\"\",IF(AE28=AE26,AG26,COUNTIFS(AG$3:AG26,AG26)+AG26),IF(AE28=AE27,AG27,COUNTIFS(AG$4:AG27,AG27)+AG27)))","v":23},25,"Missouri",{"$f":"IFERROR(INDEX('SCORE TABLE'!$F$10:$BC$45, MATCH(AH$2,'SCORE TABLE'!$B$10:$B$45,0), MATCH(AI28,'SCORE TABLE'!$F$9:$BC$9,0)),\"Not scored\")","v":45.72935910441917},{"$f":"IFERROR(INDEX(Score_alphabetical!$G$3:$BD$38, MATCH(AH$2,Score_alphabetical!$C$3:$C$38,0), MATCH(AI28,Score_alphabetical!$G$2:$BD$2,0)),AH28)","v":25},{"$f":"IF(AJ28=\"Not scored\",AK28,(RANK(AJ28,AJ$4:AJ$54,0)+COUNTIF(AJ$4:AJ28,AJ28)-1))","v":41},41,40,"Hawaii",{"$f":"IF(AO28=\"AVERAGE\",\"\", IF(COUNTIF(AO$4:AO28, \"AVERAGE\") < 1, (ROUNDUP(INDEX(AM$4:AM$54,MATCH(AO28,AI$4:AI$54,0)),1)), (ROUNDUP(INDEX(AN$4:AN$54,MATCH(AO28,AI$4:AI$54,0)),1))))","v":24},24,{"$f":"IF(AO28=\"AVERAGE\",\"\",IF(AR27=\"\",IF(AP28=AP26,AR26,COUNTIFS(AR$3:AR26,AR26)+AR26),IF(AP28=AP27,AR27,COUNTIFS(AR$4:AR27,AR27)+AR27)))","v":24},25,"Missouri",{"$f":"IFERROR(INDEX('SCORE TABLE'!$F$10:$BC$45, MATCH(AS$2,'SCORE TABLE'!$B$10:$B$45,0), MATCH(AT28,'SCORE TABLE'!$F$9:$BC$9,0)),\"Not scored\")","v":60.916666666666664},{"$f":"IFERROR(INDEX(Score_alphabetical!$G$3:$BD$38, MATCH(AS$2,Score_alphabetical!$C$3:$C$38,0), MATCH(AT28,Score_alphabetical!$G$2:$BD$2,0)),AS28)","v":25},{"$f":"IF(AU28=\"Not scored\",AV28,(RANK(AU28,AU$4:AU$54,0)+COUNTIF(AU$4:AU28,AU28)-1))","v":28},23,22,"AVERAGE",{"$f":"IF(AZ28=\"AVERAGE\",\"\", IF(COUNTIF(AZ$4:AZ28, \"AVERAGE\") < 1, (ROUNDUP(INDEX(AX$4:AX$54,MATCH(AZ28,AT$4:AT$54,0)),1)), (ROUNDUP(INDEX(AY$4:AY$54,MATCH(AZ28,AT$4:AT$54,0)),1))))","v":""},"",{"$f":"IF(AZ28=\"AVERAGE\",\"\",IF(BC27=\"\",IF(BA28=BA26,BC26,COUNTIFS(BC$3:BC26,BC26)+BC26),IF(BA28=BA27,BC27,COUNTIFS(BC$4:BC27,BC27)+BC27)))","v":""}]
[26,"Montana",{"$f":"IFERROR(INDEX('SCORE TABLE'!$F$10:$BC$45, MATCH(A$2,'SCORE TABLE'!$B$10:$B$45,0), MATCH(B29,'SCORE TABLE'!$F$9:$BC$9,0)),\"Not scored\")","v":45.131824680679394},{"$f":"IFERROR(INDEX(Score_alphabetical!$G$3:$BD$38, MATCH(A$2,Score_alphabetical!$C$3:$C$38,0), MATCH(B29,Score_alphabetical!$G$2:$BD$2,0)),A29)","v":26},{"$f":"IF(C29=\"Not scored\",D29,(RANK(C29,C$4:C$54,0)+COUNTIF(C$4:C29,C29)-1))","v":45},45,44,"AVERAGE",{"$f":"IF(H29=\"AVERAGE\",\"\", IF(COUNTIF(H$4:H29, \"AVERAGE\") < 1, (ROUNDUP(INDEX(F$4:F$54,MATCH(H29,B$4:B$54,0)),1)), (ROUNDUP(INDEX(G$4:G$54,MATCH(H29,B$4:B$54,0)),1))))","v":""},"",{"$f":"IF(H29=\"AVERAGE\",\"\",IF(K28=\"\",IF(I29=I27,K27,COUNTIFS(K$3:K27,K27)+K27),IF(I29=I28,K28,COUNTIFS(K$4:K28,K28)+K28)))","v":""},26,"Montana",{"$f":"IFERROR(INDEX('SCORE TABLE'!$F$10:$BC$45, MATCH(L$2,'SCORE TABLE'!$B$10:$B$45,0), MATCH(M29,'SCORE TABLE'!$F$9:$BC$9,0)),\"Not scored\")","v":45.131824680679394},{"$f":"IFERROR(INDEX(Score_alphabetical!$G$3:$BD$38, MATCH(L$2,Score_alphabetical!$C$3:$C$38,0), MATCH(M29,Score_alphabetical!$G$2:$BD$2,0)),L29)","v":26},{"$f":"IF(N29=\"Not scored\",O29,(RANK(N29,N$4:N$54,0)+COUNTIF(N$4:N29,N29)-1))","v":45},45,44,"AVERAGE",{"$f":"IF(S29=\"AVERAGE\",\"\", IF(COUNTIF(S$4:S29, \"AVERAGE\") < 1, (ROUNDUP(INDEX(Q$4:Q$54,MATCH(S29,M$4:M$54,0)),1)), (ROUNDUP(INDEX(R$4:R$54,MATCH(S29,M$4:M$54,0)),1))))","v":""},"",{"$f":"IF(S29=\"AVERAGE\",\"\",IF(V28=\"\",IF(T29=T27,V27,COUNTIFS(V$3:V27,V27)+V27),IF(T29=T28,V28,COUNTIFS(V$4:V28,V28)+V28)))","v":""},26,"Montana",{"$f":"IFERROR(INDEX('SCORE TABLE'!$F$10:$BC$45, MATCH(W$2,'SCORE TABLE'!$B$10:$B$45,0), MATCH(X29,'SCORE TABLE'!$F$9:$BC$9,0)),\"Not scored\")","v":41.25},{"$f":"IFERROR(INDEX(Score_alphabetical!$G$3:$BD$38, MATCH(W$2,Score_alphabetical!$C$3:$C$38,0), MATCH(X29,Score_alphabetical!$G$2:$BD$2,0)),W29)","v":26},{"$f":"IF(Y29=\"Not scored\",Z29,(RANK(Y29,Y$4:Y$54,0)+COUNTIF(Y$4:Y29,Y29)-1))","v":20},14.000000000000002,14.000000000000002,"Maryland",{"$f":"IF(AD29=\"AVERAGE\",\"\", IF(COUNTIF(AD$4:AD29, \"AVERAGE\") < 1, (ROUNDUP(INDEX(AB$4:AB$54,MATCH(AD29,X$4:X$54,0)),1)), (ROUNDUP(INDEX(AC$4:AC$54,MATCH(AD29,X$4:X$54,0)),1))))","v":18},25,{"$f":"IF(AD29=\"AVERAGE\",\"\",IF(AG28=\"\",IF(AE29=AE27,AG27,COUNTIFS(AG$3:AG27,AG27)+AG27),IF(AE29=AE28,AG28,COUNTIFS(AG$4:AG28,AG28)+AG28)))","v":25},26,"Montana",{"$f":"IFERROR(INDEX('SCORE TABLE'!$F$10:$BC$45, MATCH(AH$2,'SCORE TABLE'!$B$10:$B$45,0), MATCH(AI29,'SCORE TABLE'!$F$9:$BC$9,0)),\"Not scored\")","v":33.978807375371524},{"$f":"IFERROR(INDEX(Score_alphabetical!$G$3:$BD$38, MATCH(AH$2,Score_alphabetical!$C$3:$C$38,0), MATCH(AI29,Score_alphabetical!$G$2:$BD$2,0)),AH29)","v":26},{"$f":"IF(AJ29=\"Not scored\",AK29,(RANK(AJ29,AJ$4:AJ$54,0)+COUNTIF(AJ$4:AJ29,AJ29)-1))","v":51},51,50,"New Mexico",{"$f":"IF(AO29=\"AVERAGE\",\"\", IF(COUNTIF(AO$4:AO29, \"AVERAGE\") < 1, (ROUNDUP(INDEX(AM$4:AM$54,MATCH(AO29,AI$4:AI$54,0)),1)), (ROUNDUP(INDEX(AN$4:AN$54,MATCH(AO29,AI$4:AI$54,0)),1))))","v":25},25,{"$f":"IF(AO29=\"AVERAGE\",\"\",IF(AR28=\"\",IF(AP29=AP27,AR27,COUNTIFS(AR$3:AR27,AR27)+AR27),IF(AP29=AP28,AR28,COUNTIFS(AR$4:AR28,AR28)+AR28)))","v":25},26,"Montana",{"$f":"IFERROR(INDEX('SCORE TABLE'!$F$10:$BC$45, MATCH(AS$2,'SCORE TABLE'!$B$10:$B$45,0), MATCH(AT29,'SCORE TABLE'!$F$9:$BC$9,0)),\"Not scored\")","v":60.166666666666664},{"$f":"IFERROR(INDEX(Score_alphabetical!$G$3:$BD$38, MATCH(AS$2,Score_alphabetical!$C$3:$C$38,0), MATCH(AT29,Score_alphabetical!$G$2:$BD$2,0)),AS29)","v":26},{"$f":"IF(AU29=\"Not scored\",AV29,(RANK(AU29,AU$4:AU$54,0)+COUNTIF(AU$4:AU29,AU29)-1))","v":32},25,24,"Alaska",{"$f":"IF(AZ29=\"AVERAGE\",\"\", IF(COUNTIF(AZ$4:AZ29, \"AVERAGE\") < 1, (ROUNDUP(INDEX(AX$4:AX$54,MATCH(AZ29,AT$4:AT$54,0)),1)), (ROUNDUP(INDEX(AY$4:AY$54,MATCH(AZ29,AT$4:AT$54,0)),1))))","v":20},25,{"$f":"IF(AZ29=\"AVERAGE\",\"\",IF(BC28=\"\",IF(BA29=BA27,BC27,COUNTIFS(BC$3:BC27,BC27)+BC27),IF(BA29=BA28,BC28,COUNTIFS(BC$4:BC28,BC28)+BC28)))","v":25}]
[27,"Nebraska",{"$f":"IFERROR(INDEX('SCORE TABLE'!$F$10:$BC$45, MATCH(A$2,'SCORE TABLE'!$B$10:$B$45,0), MATCH(B30,'SCORE TABLE'!$F$9:$BC$9,0)),\"Not scored\")","v":50.34450881283333},{"$f":"IFERROR(INDEX(Score_alphabetical!$G$3:$BD$38, MATCH(A$2,Score_alphabetical!$C$3:$C$38,0), MATCH(B30,Score_alphabetical!$G$2:$BD$2,0)),A30)","v":27},{"$f":"IF(C30=\"Not scored\",D30,(RANK(C30,C$4:C$54,0)+COUNTIF(C$4:C30,C30)-1))","v":36},36,35,"Connecticut",{"$f":"IF(H30=\"AVERAGE\",\"\", IF(COUNTIF(H$4:H30, \"AVERAGE\") < 1, (ROUNDUP(INDEX(F$4:F$54,MATCH(H30,B$4:B$54,0)),1)), (ROUNDUP(INDEX(G$4:G$54,MATCH(H30,B$4:B$54,0)),1))))","v":26},26,{"$f":"IF(H30=\"AVERAGE\",\"\",IF(K29=\"\",IF(I30=I28,K28,COUNTIFS(K$3:K28,K28)+K28),IF(I30=I29,K29,COUNTIFS(K$4:K29,K29)+K29)))","v":26},27,"Nebraska",{"$f":"IFERROR(INDEX('SCORE TABLE'!$F$10:$BC$45, MATCH(L$2,'SCORE TABLE'!$B$10:$B$45,0), MATCH(M30,'SCORE TABLE'!$F$9:$BC$9,0)),\"Not scored\")","v":50.34450881283333},{"$f":"IFERROR(INDEX(Score_alphabetical!$G$3:$BD$38, MATCH(L$2,Score_alphabetical!$C$3:$C$38,0), MATCH(M30,Score_alphabetical!$G$2:$BD$2,0)),L30)","v":27},{"$f":"IF(N30=\"Not scored\",O30,(RANK(N30,N$4:N$54,0)+COUNTIF(N$4:N30,N30)-1))","v":36},36,35,"Connecticut",{"$f":"IF(S30=\"AVERAGE\",\"\", IF(COUNTIF(S$4:S30, \"AVERAGE\") < 1, (ROUNDUP(INDEX(Q$4:Q$54,MATCH(S30,M$4:M$54,0)),1)), (ROUNDUP(INDEX(R$4:R$54,MATCH(S30,M$4:M$54,0)),1))))","v":26},26,{"$f":"IF(S30=\"AVERAGE\",\"\",IF(V29=\"\",IF(T30=T28,V28,COUNTIFS(V$3:V28,V28)+V28),IF(T30=T29,V29,COUNTIFS(V$4:V29,V29)+V29)))","v":26},27,"Nebraska",{"$f":"IFERROR(INDEX('SCORE TABLE'!$F$10:$BC$45, MATCH(W$2,'SCORE TABLE'!$B$10:$B$45,0), MATCH(X30,'SCORE TABLE'!$F$9:$BC$9,0)),\"Not scored\")","v":60},{"$f":"IFERROR(INDEX(Score_alphabetical!$G$3:$BD$38, MATCH(W$2,Score_alphabetical!$C$3:$C$38,0), MATCH(X30,Score_alphabetical!$G$2:$BD$2,0)),W30)","v":27},{"$f":"IF(Y30=\"Not scored\",Z30,(RANK(Y30,Y$4:Y$54,0)+COUNTIF(Y$4:Y30,Y30)-1))","v":3},3,3,"Oregon",{"$f":"IF(AD30=\"AVERAGE\",\"\", IF(COUNTIF(AD$4:AD30, \"AVERAGE\") < 1, (ROUNDUP(INDEX(AB$4:AB$54,MATCH(AD30,X$4:X$54,0)),1)), (ROUNDUP(INDEX(AC$4:AC$54,MATCH(AD30,X$4:X$54,0)),1))))","v":19},26,{"$f":"IF(AD30=\"AVERAGE\",\"\",IF(AG29=\"\",IF(AE30=AE28,AG28,COUNTIFS(AG$3:AG28,AG28)+AG28),IF(AE30=AE29,AG29,COUNTIFS(AG$4:AG29,AG29)+AG29)))","v":26},27,"Nebraska",{"$f":"IFERROR(INDEX('SCORE TABLE'!$F$10:$BC$45, MATCH(AH$2,'SCORE TABLE'!$B$10:$B$45,0), MATCH(AI30,'SCORE TABLE'!$F$9:$BC$9,0)),\"Not scored\")","v":44.783526438500004},{"$f":"IFERROR(INDEX(Score_alphabetical!$G$3:$BD$38, MATCH(AH$2,Score_alphabetical!$C$3:$C$38,0), MATCH(AI30,Score_alphabetical!$G$2:$BD$2,0)),AH30)","v":27},{"$f":"IF(AJ30=\"Not scored\",AK30,(RANK(AJ30,AJ$4:AJ$54,0)+COUNTIF(AJ$4:AJ30,AJ30)-1))","v":46},46,45,"Pennsylvania",{"$f":"IF(AO30=\"AVERAGE\",\"\", IF(COUNTIF(AO$4:AO30, \"AVERAGE\") < 1, (ROUNDUP(INDEX(AM$4:AM$54,MATCH(AO30,AI$4:AI$54,0)),1)), (ROUNDUP(INDEX(AN$4:AN$54,MATCH(AO30,AI$4:AI$54,0)),1))))","v":26},26,{"$f":"IF(AO30=\"AVERAGE\",\"\",IF(AR29=\"\",IF(AP30=AP28,AR28,COUNTIFS(AR$3:AR28,AR28)+AR28),IF(AP30=AP29,AR29,COUNTIFS(AR$4:AR29,AR29)+AR29)))","v":26},27,"Nebraska",{"$f":"IFERROR(INDEX('SCORE TABLE'!$F$10:$BC$45, MATCH(AS$2,'SCORE TABLE'!$B$10:$B$45,0), MATCH(AT30,'SCORE TABLE'!$F$9:$BC$9,0)),\"Not scored\")","v":46.25},{"$f":"IFERROR(INDEX(Score_alphabetical!$G$3:$BD$38, MATCH(AS$2,Score_alphabetical!$C$3:$C$38,0), MATCH(AT30,Score_alphabetical!$G$2:$BD$2,0)),AS30)","v":27},{"$f":"IF(AU30=\"Not scored\",AV30,(RANK(AU30,AU$4:AU$54,0)+COUNTIF(AU$4:AU30,AU30)-1))","v":48},41,40,"North Carolina",{"$f":"IF(AZ30=\"AVERAGE\",\"\", IF(COUNTIF(AZ$4:AZ30, \"AVERAGE\") < 1, (ROUNDUP(INDEX(AX$4:AX$54,MATCH(AZ30,AT$4:AT$54,0)),1)), (ROUNDUP(INDEX(AY$4:AY$54,MATCH(AZ30,AT$4:AT$54,0)),1))))","v":21},26,{"$f":"IF(AZ30=\"AVERAGE\",\"\",IF(BC29=\"\",IF(BA30=BA28,BC28,COUNTIFS(BC$3:BC28,BC28)+BC28),IF(BA30=BA29,BC29,COUNTIFS(BC$4:BC29,BC29)+BC29)))","v":26}]
[28,"Nevada",{"$f":"IFERROR(INDEX('SCORE TABLE'!$F$10:$BC$45, MATCH(A$2,'SCORE TABLE'!$B$10:$B$45,0), MATCH(B31,'SCORE TABLE'!$F$9:$BC$9,0)),\"Not scored\")","v":59.329469746857214},{"$f":"IFERROR(INDEX(Score_alphabetical!$G$3:$BD$38, MATCH(A$2,Score_alphabetical!$C$3:$C$38,0), MATCH(B31,Score_alphabetical!$G$2:$BD$2,0)),A31)","v":28},{"$f":"IF(C31=\"Not scored\",D31,(RANK(C31,C$4:C$54,0)+COUNTIF(C$4:C31,C31)-1))","v":15},15,15,"Arkansas",{"$f":"IF(H31=\"AVERAGE\",\"\", IF(COUNTIF(H$4:H31, \"AVERAGE\") < 1, (ROUNDUP(INDEX(F$4:F$54,MATCH(H31,B$4:B$54,0)),1)), (ROUNDUP(INDEX(G$4:G$54,MATCH(H31,B$4:B$54,0)),1))))","v":27},27,{"$f":"IF(H31=\"AVERAGE\",\"\",IF(K30=\"\",IF(I31=I29,K29,COUNTIFS(K$3:K29,K29)+K29),IF(I31=I30,K30,COUNTIFS(K$4:K30,K30)+K30)))","v":27},28,"Nevada",{"$f":"IFERROR(INDEX('SCORE TABLE'!$F$10:$BC$45, MATCH(L$2,'SCORE TABLE'!$B$10:$B$45,0), MATCH(M31,'SCORE TABLE'!$F$9:$BC$9,0)),\"Not scored\")","v":59.329469746857214},{"$f":"IFERROR(INDEX(Score_alphabetical!$G$3:$BD$38, MATCH(L$2,Score_alphabetical!$C$3:$C$38,0), MATCH(M31,Score_alphabetical!$G$2:$BD$2,0)),L31)","v":28},{"$f":"IF(N31=\"Not scored\",O31,(RANK(N31,N$4:N$54,0)+COUNTIF(N$4:N31,N31)-1))","v":15},15,15,"Arkansas",{"$f":"IF(S31=\"AVERAGE\",\"\", IF(COUNTIF(S$4:S31, \"AVERAGE\") < 1, (ROUNDUP(INDEX(Q$4:Q$54,MATCH(S31,M$4:M$54,0)),1)), (ROUNDUP(INDEX(R$4:R$54,MATCH(S31,M$4:M$54,0)),1))))","v":27},27,{"$f":"IF(S31=\"AVERAGE\",\"\",IF(V30=\"\",IF(T31=T29,V29,COUNTIFS(V$3:V29,V29)+V29),IF(T31=T30,V30,COUNTIFS(V$4:V30,V30)+V30)))","v":27},28,"Nevada",{"$f":"IFERROR(INDEX('SCORE TABLE'!$F$10:$BC$45, MATCH(W$2,'SCORE TABLE'!$B$10:$B$45,0), MATCH(X31,'SCORE TABLE'!$F$9:$BC$9,0)),\"Not scored\")","v":55},{"$f":"IFERROR(INDEX(Score_alphabetical!$G$3:$BD$38, MATCH(W$2,Score_alphabetical!$C$3:$C$38,0), MATCH(X31,Score_alphabetical!$G$2:$BD$2,0)),W31)","v":28},{"$f":"IF(Y31=\"Not scored\",Z31,(RANK(Y31,Y$4:Y$54,0)+COUNTIF(Y$4:Y31,Y31)-1))","v":8},6,6,"South Dakota",{"$f":"IF(AD31=\"AVERAGE\",\"\", IF(COUNTIF(AD$4:AD31, \"AVERAGE\") < 1, (ROUNDUP(INDEX(AB$4:AB$54,MATCH(AD31,X$4:X$54,0)),1)), (ROUNDUP(INDEX(AC$4:AC$54,MATCH(AD31,X$4:X$54,0)),1))))","v":20},"=27",{"$f":"IF(AD31=\"AVERAGE\",\"\",IF(AG30=\"\",IF(AE31=AE29,AG29,COUNTIFS(AG$3:AG29,AG29)+AG29),IF(AE31=AE30,AG30,COUNTIFS(AG$4:AG30,AG30)+AG30)))","v":27},28,"Nevada",{"$f":"IFERROR(INDEX('SCORE TABLE'!$F$10:$BC$45, MATCH(AH$2,'SCORE TABLE'!$B$10:$B$45,0), MATCH(AI31,'SCORE TABLE'!$F$9:$BC$9,0)),\"Not scored\")","v":50.238409240571656},{"$f":"IFERROR(INDEX(Score_alphabetical!$G$3:$BD$38, MATCH(AH$2,Score_alphabetical!$C$3:$C$38,0), MATCH(AI31,Score_alphabetical!$G$2:$BD$2,0)),AH31)","v":28},{"$f":"IF(AJ31=\"Not scored\",AK31,(RANK(AJ31,AJ$4:AJ$54,0)+COUNTIF(AJ$4:AJ31,AJ31)-1))","v":35},35,34,"Michigan",{"$f":"IF(AO31=\"AVERAGE\",\"\", IF(COUNTIF(AO$4:AO31, \"AVERAGE\") < 1, (ROUNDUP(INDEX(AM$4:AM$54,MATCH(AO31,AI$4:AI$54,0)),1)), (ROUNDUP(INDEX(AN$4:AN$54,MATCH(AO31,AI$4:AI$54,0)),1))))","v":27},27,{"$f":"IF(AO31=\"AVERAGE\",\"\",IF(AR30=\"\",IF(AP31=AP29,AR29,COUNTIFS(AR$3:AR29,AR29)+AR29),IF(AP31=AP30,AR30,COUNTIFS(AR$4:AR30,AR30)+AR30)))","v":27},28,"Nevada",{"$f":"IFERROR(INDEX('SCORE TABLE'!$F$10:$BC$45, MATCH(AS$2,'SCORE TABLE'!$B$10:$B$45,0), MATCH(AT31,'SCORE TABLE'!$F$9:$BC$9,0)),\"Not scored\")","v":72.75},{"$f":"IFERROR(INDEX(Score_alphabetical!$G$3:$BD$38, MATCH(AS$2,Score_alphabetical!$C$3:$C$38,0), MATCH(AT31,Score_alphabetical!$G$2:$BD$2,0)),AS31)","v":28},{"$f":"IF(AU31=\"Not scored\",AV31,(RANK(AU31,AU$4:AU$54,0)+COUNTIF(AU$4:AU31,AU31)-1))","v":4},3,3,"Missouri",{"$f":"IF(AZ31=\"AVERAGE\",\"\", IF(COUNTIF(AZ$4:AZ31, \"AVERAGE\") < 1, (ROUNDUP(INDEX(AX$4:AX$54,MATCH(AZ31,AT$4:AT$54,0)),1)), (ROUNDUP(INDEX(AY$4:AY$54,MATCH(AZ31,AT$4:AT$54,0)),1))))","v":22},"=27",{"$f":"IF(AZ31=\"AVERAGE\",\"\",IF(BC30=\"\",IF(BA31=BA29,BC29,COUNTIFS(BC$3:BC29,BC29)+BC29),IF(BA31=BA30,BC30,COUNTIFS(BC$4:BC30,BC30)+BC30)))","v":27}]
[29,"New Hampshire",{"$f":"IFERROR(INDEX('SCORE TABLE'!$F$10:$BC$45, MATCH(A$2,'SCORE TABLE'!$B$10:$B$45,0), MATCH(B32,'SCORE TABLE'!$F$9:$BC$9,0)),\"Not scored\")","v":43.66191616091504},{"$f":"IFERROR(INDEX(Score_alphabetical!$G$3:$BD$38, MATCH(A$2,Score_alphabetical!$C$3:$C$38,0), MATCH(B32,Score_alphabetical!$G$2:$BD$2,0)),A32)","v":29},{"$f":"IF(C32=\"Not scored\",D32,(RANK(C32,C$4:C$54,0)+COUNTIF(C$4:C32,C32)-1))","v":47},47,46,"West Virginia",{"$f":"IF(H32=\"AVERAGE\",\"\", IF(COUNTIF(H$4:H32, \"AVERAGE\") < 1, (ROUNDUP(INDEX(F$4:F$54,MATCH(H32,B$4:B$54,0)),1)), (ROUNDUP(INDEX(G$4:G$54,MATCH(H32,B$4:B$54,0)),1))))","v":28},28,{"$f":"IF(H32=\"AVERAGE\",\"\",IF(K31=\"\",IF(I32=I30,K30,COUNTIFS(K$3:K30,K30)+K30),IF(I32=I31,K31,COUNTIFS(K$4:K31,K31)+K31)))","v":28},29,"New Hampshire",{"$f":"IFERROR(INDEX('SCORE TABLE'!$F$10:$BC$45, MATCH(L$2,'SCORE TABLE'!$B$10:$B$45,0), MATCH(M32,'SCORE TABLE'!$F$9:$BC$9,0)),\"Not scored\")","v":43.66191616091504},{"$f":"IFERROR(INDEX(Score_alphabetical!$G$3:$BD$38, MATCH(L$2,Score_alphabetical!$C$3:$C$38,0), MATCH(M32,Score_alphabetical!$G$2:$BD$2,0)),L32)","v":29},{"$f":"IF(N32=\"Not scored\",O32,(RANK(N32,N$4:N$54,0)+COUNTIF(N$4:N32,N32)-1))","v":47},47,46,"West Virginia",{"$f":"IF(S32=\"AVERAGE\",\"\", IF(COUNTIF(S$4:S32, \"AVERAGE\") < 1, (ROUNDUP(INDEX(Q$4:Q$54,MATCH(S32,M$4:M$54,0)),1)), (ROUNDUP(INDEX(R$4:R$54,MATCH(S32,M$4:M$54,0)),1))))","v":28},28,{"$f":"IF(S32=\"AVERAGE\",\"\",IF(V31=\"\",IF(T32=T30,V30,COUNTIFS(V$3:V30,V30)+V30),IF(T32=T31,V31,COUNTIFS(V$4:V31,V31)+V31)))","v":28},29,"New Hampshire",{"$f":"IFERROR(INDEX('SCORE TABLE'!$F$10:$BC$45, MATCH(W$2,'SCORE TABLE'!$B$10:$B$45,0), MATCH(X32,'SCORE TABLE'!$F$9:$BC$9,0)),\"Not scored\")","v":28.75},{"$f":"IFERROR(INDEX(Score_alphabetical!$G$3:$BD$38, MATCH(W$2,Score_alphabetical!$C$3:$C$38,0), MATCH(X32,Score_alphabetical!$G$2:$BD$2,0)),W32)","v":29},{"$f":"IF(Y32=\"Not scored\",Z32,(RANK(Y32,Y$4:Y$54,0)+COUNTIF(Y$4:Y32,Y32)-1))","v":42},26.999999999999996,25.999999999999996,"Tennessee",{"$f":"IF(AD32=\"AVERAGE\",\"\", IF(COUNTIF(AD$4:AD32, \"AVERAGE\") < 1, (ROUNDUP(INDEX(AB$4:AB$54,MATCH(AD32,X$4:X$54,0)),1)), (ROUNDUP(INDEX(AC$4:AC$54,MATCH(AD32,X$4:X$54,0)),1))))","v":20},"=27",{"$f":"IF(AD32=\"AVERAGE\",\"\",IF(AG31=\"\",IF(AE32=AE30,AG30,COUNTIFS(AG$3:AG30,AG30)+AG30),IF(AE32=AE31,AG31,COUNTIFS(AG$4:AG31,AG31)+AG31)))","v":27},29,"New Hampshire",{"$f":"IFERROR(INDEX('SCORE TABLE'!$F$10:$BC$45, MATCH(AH$2,'SCORE TABLE'!$B$10:$B$45,0), MATCH(AI32,'SCORE TABLE'!$F$9:$BC$9,0)),\"Not scored\")","v":39.31908181607845},{"$f":"IFERROR(INDEX(Score_alphabetical!$G$3:$BD$38, MATCH(AH$2,Score_alphabetical!$C$3:$C$38,0), MATCH(AI32,Score_alphabetical!$G$2:$BD$2,0)),AH32)","v":29},{"$f":"IF(AJ32=\"Not scored\",AK32,(RANK(AJ32,AJ$4:AJ$54,0)+COUNTIF(AJ$4:AJ32,AJ32)-1))","v":50},50,49,"South Carolina",{"$f":"IF(AO32=\"AVERAGE\",\"\", IF(COUNTIF(AO$4:AO32, \"AVERAGE\") < 1, (ROUNDUP(INDEX(AM$4:AM$54,MATCH(AO32,AI$4:AI$54,0)),1)), (ROUNDUP(INDEX(AN$4:AN$54,MATCH(AO32,AI$4:AI$54,0)),1))))","v":28},28,{"$f":"IF(AO32=\"AVERAGE\",\"\",IF(AR31=\"\",IF(AP32=AP30,AR30,COUNTIFS(AR$3:AR30,AR30)+AR30),IF(AP32=AP31,AR31,COUNTIFS(AR$4:AR31,AR31)+AR31)))","v":28},29,"New Hampshire",{"$f":"IFERROR(INDEX('SCORE TABLE'!$F$10:$BC$45, MATCH(AS$2,'SCORE TABLE'!$B$10:$B$45,0), MATCH(AT32,'SCORE TABLE'!$F$9:$BC$9,0)),\"Not scored\")","v":62.916666666666664},{"$f":"IFERROR(INDEX(Score_alphabetical!$G$3:$BD$38, MATCH(AS$2,Score_alphabetical!$C$3:$C$38,0), MATCH(AT32,Score_alphabetical!$G$2:$BD$2,0)),AS32)","v":29},{"$f":"IF(AU32=\"Not scored\",AV32,(RANK(AU32,AU$4:AU$54,0)+COUNTIF(AU$4:AU32,AU32)-1))","v":23},18,18,"Wyoming",{"$f":"IF(AZ32=\"AVERAGE\",\"\", IF(COUNTIF(AZ$4:AZ32, \"AVERAGE\") < 1, (ROUNDUP(INDEX(AX$4:AX$54,MATCH(AZ32,AT$4:AT$54,0)),1)), (ROUNDUP(INDEX(AY$4:AY$54,MATCH(AZ32,AT$4:AT$54,0)),1))))","v":22},"=27",{"$f":"IF(AZ32=\"AVERAGE\",\"\",IF(BC31=\"\",IF(BA32=BA30,BC30,COUNTIFS(BC$3:BC30,BC30)+BC30),IF(BA32=BA31,BC31,COUNTIFS(BC$4:BC31,BC31)+BC31)))","v":27}]
[30,"New Jersey",{"$f":"IFERROR(INDEX('SCORE TABLE'!$F$10:$BC$45, MATCH(A$2,'SCORE TABLE'!$B$10:$B$45,0), MATCH(B33,'SCORE TABLE'!$F$9:$BC$9,0)),\"Not scored\")","v":48.10345364586114},{"$f":"IFERROR(INDEX(Score_alphabetical!$G$3:$BD$38, MATCH(A$2,Score_alphabetical!$C$3:$C$38,0), MATCH(B33,Score_alphabetical!$G$2:$BD$2,0)),A33)","v":30},{"$f":"IF(C33=\"Not scored\",D33,(RANK(C33,C$4:C$54,0)+COUNTIF(C$4:C33,C33)-1))","v":41},41,40,"Tennessee",{"$f":"IF(H33=\"AVERAGE\",\"\", IF(COUNTIF(H$4:H33, \"AVERAGE\") < 1, (ROUNDUP(INDEX(F$4:F$54,MATCH(H33,B$4:B$54,0)),1)), (ROUNDUP(INDEX(G$4:G$54,MATCH(H33,B$4:B$54,0)),1))))","v":29},29,{"$f":"IF(H33=\"AVERAGE\",\"\",IF(K32=\"\",IF(I33=I31,K31,COUNTIFS(K$3:K31,K31)+K31),IF(I33=I32,K32,COUNTIFS(K$4:K32,K32)+K32)))","v":29},30,"New Jersey",{"$f":"IFERROR(INDEX('SCORE TABLE'!$F$10:$BC$45, MATCH(L$2,'SCORE TABLE'!$B$10:$B$45,0), MATCH(M33,'SCORE TABLE'!$F$9:$BC$9,0)),\"Not scored\")","v":48.10345364586114},{"$f":"IFERROR(INDEX(Score_alphabetical!$G$3:$BD$38, MATCH(L$2,Score_alphabetical!$C$3:$C$38,0), MATCH(M33,Score_alphabetical!$G$2:$BD$2,0)),L33)","v":30},{"$f":"IF(N33=\"Not scored\",O33,(RANK(N33,N$4:N$54,0)+COUNTIF(N$4:N33,N33)-1))","v":41},41,40,"Tennessee",{"$f":"IF(S33=\"AVERAGE\",\"\", IF(COUNTIF(S$4:S33, \"AVERAGE\") < 1, (ROUNDUP(INDEX(Q$4:Q$54,MATCH(S33,M$4:M$54,0)),1)), (ROUNDUP(INDEX(R$4:R$54,MATCH(S33,M$4:M$54,0)),1))))","v":29},29,{"$f":"IF(S33=\"AVERAGE\",\"\",IF(V32=\"\",IF(T33=T31,V31,COUNTIFS(V$3:V31,V31)+V31),IF(T33=T32,V32,COUNTIFS(V$4:V32,V32)+V32)))","v":29},30,"New Jersey",{"$f":"IFERROR(INDEX('SCORE TABLE'!$F$10:$BC$45, MATCH(W$2,'SCORE TABLE'!$B$10:$B$45,0), MATCH(X33,'SCORE TABLE'!$F$9:$BC$9,0)),\"Not scored\")","v":28.75},{"$f":"IFERROR(INDEX(Score_alphabetical!$G$3:$BD$38, MATCH(W$2,Score_alphabetical!$C$3:$C$38,0), MATCH(X33,Score_alphabetical!$G$2:$BD$2,0)),W33)","v":30},{"$f":"IF(Y33=\"Not scored\",Z33,(RANK(Y33,Y$4:Y$54,0)+COUNTIF(Y$4:Y33,Y33)-1))","v":43},26.999999999999996,25.999999999999996,"Utah",{"$f":"IF(AD33=\"AVERAGE\",\"\", IF(COUNTIF(AD$4:AD33, \"AVERAGE\") < 1, (ROUNDUP(INDEX(AB$4:AB$54,MATCH(AD33,X$4:X$54,0)),1)), (ROUNDUP(INDEX(AC$4:AC$54,MATCH(AD33,X$4:X$54,0)),1))))","v":20},"=27",{"$f":"IF(AD33=\"AVERAGE\",\"\",IF(AG32=\"\",IF(AE33=AE31,AG31,COUNTIFS(AG$3:AG31,AG31)+AG31),IF(AE33=AE32,AG32,COUNTIFS(AG$4:AG32,AG32)+AG32)))","v":27},30,"New Jersey",{"$f":"IFERROR(INDEX('SCORE TABLE'!$F$10:$BC$45, MATCH(AH$2,'SCORE TABLE'!$B$10:$B$45,0), MATCH(AI33,'SCORE TABLE'!$F$9:$BC$9,0)),\"Not scored\")","v":49.893694270916754},{"$f":"IFERROR(INDEX(Score_alphabetical!$G$3:$BD$38, MATCH(AH$2,Score_alphabetical!$C$3:$C$38,0), MATCH(AI33,Score_alphabetical!$G$2:$BD$2,0)),AH33)","v":30},{"$f":"IF(AJ33=\"Not scored\",AK33,(RANK(AJ33,AJ$4:AJ$54,0)+COUNTIF(AJ$4:AJ33,AJ33)-1))","v":36},36,35,"California",{"$f":"IF(AO33=\"AVERAGE\",\"\", IF(COUNTIF(AO$4:AO33, \"AVERAGE\") < 1, (ROUNDUP(INDEX(AM$4:AM$54,MATCH(AO33,AI$4:AI$54,0)),1)), (ROUNDUP(INDEX(AN$4:AN$54,MATCH(AO33,AI$4:AI$54,0)),1))))","v":29},29,{"$f":"IF(AO33=\"AVERAGE\",\"\",IF(AR32=\"\",IF(AP33=AP31,AR31,COUNTIFS(AR$3:AR31,AR31)+AR31),IF(AP33=AP32,AR32,COUNTIFS(AR$4:AR32,AR32)+AR32)))","v":29},30,"New Jersey",{"$f":"IFERROR(INDEX('SCORE TABLE'!$F$10:$BC$45, MATCH(AS$2,'SCORE TABLE'!$B$10:$B$45,0), MATCH(AT33,'SCORE TABLE'!$F$9:$BC$9,0)),\"Not scored\")","v":65.66666666666666},{"$f":"IFERROR(INDEX(Score_alphabetical!$G$3:$BD$38, MATCH(AS$2,Score_alphabetical!$C$3:$C$38,0), MATCH(AT33,Score_alphabetical!$G$2:$BD$2,0)),AS33)","v":30},{"$f":"IF(AU33=\"Not scored\",AV33,(RANK(AU33,AU$4:AU$54,0)+COUNTIF(AU$4:AU33,AU33)-1))","v":14},13,13,"Louisiana",{"$f":"IF(AZ33=\"AVERAGE\",\"\", IF(COUNTIF(AZ$4:AZ33, \"AVERAGE\") < 1, (ROUNDUP(INDEX(AX$4:AX$54,MATCH(AZ33,AT$4:AT$54,0)),1)), (ROUNDUP(INDEX(AY$4:AY$54,MATCH(AZ33,AT$4:AT$54,0)),1))))","v":23},"=29",{"$f":"IF(AZ33=\"AVERAGE\",\"\",IF(BC32=\"\",IF(BA33=BA31,BC31,COUNTIFS(BC$3:BC31,BC31)+BC31),IF(BA33=BA32,BC32,COUNTIFS(BC$4:BC32,BC32)+BC32)))","v":29}]
[31,"New Mexico",{"$f":"IFERROR(INDEX('SCORE TABLE'!$F$10:$BC$45, MATCH(A$2,'SCORE TABLE'!$B$10:$B$45,0), MATCH(B34,'SCORE TABLE'!$F$9:$BC$9,0)),\"Not scored\")","v":60.64798945188981},{"$f":"IFERROR(INDEX(Score_alphabetical!$G$3:$BD$38, MATCH(A$2,Score_alphabetical!$C$3:$C$38,0), MATCH(B34,Score_alphabetical!$G$2:$BD$2,0)),A34)","v":31},{"$f":"IF(C34=\"Not scored\",D34,(RANK(C34,C$4:C$54,0)+COUNTIF(C$4:C34,C34)-1))","v":11},11,11,"Pennsylvania",{"$f":"IF(H34=\"AVERAGE\",\"\", IF(COUNTIF(H$4:H34, \"AVERAGE\") < 1, (ROUNDUP(INDEX(F$4:F$54,MATCH(H34,B$4:B$54,0)),1)), (ROUNDUP(INDEX(G$4:G$54,MATCH(H34,B$4:B$54,0)),1))))","v":30},30,{"$f":"IF(H34=\"AVERAGE\",\"\",IF(K33=\"\",IF(I34=I32,K32,COUNTIFS(K$3:K32,K32)+K32),IF(I34=I33,K33,COUNTIFS(K$4:K33,K33)+K33)))","v":30},31,"New Mexico",{"$f":"IFERROR(INDEX('SCORE TABLE'!$F$10:$BC$45, MATCH(L$2,'SCORE TABLE'!$B$10:$B$45,0), MATCH(M34,'SCORE TABLE'!$F$9:$BC$9,0)),\"Not scored\")","v":60.64798945188981},{"$f":"IFERROR(INDEX(Score_alphabetical!$G$3:$BD$38, MATCH(L$2,Score_alphabetical!$C$3:$C$38,0), MATCH(M34,Score_alphabetical!$G$2:$BD$2,0)),L34)","v":31},{"$f":"IF(N34=\"Not scored\",O34,(RANK(N34,N$4:N$54,0)+COUNTIF(N$4:N34,N34)-1))","v":11},11,11,"Pennsylvania",{"$f":"IF(S34=\"AVERAGE\",\"\", IF(COUNTIF(S$4:S34, \"AVERAGE\") < 1, (ROUNDUP(INDEX(Q$4:Q$54,MATCH(S34,M$4:M$54,0)),1)), (ROUNDUP(INDEX(R$4:R$54,MATCH(S34,M$4:M$54,0)),1))))","v":30},30,{"$f":"IF(S34=\"AVERAGE\",\"\",IF(V33=\"\",IF(T34=T32,V32,COUNTIFS(V$3:V32,V32)+V32),IF(T34=T33,V33,COUNTIFS(V$4:V33,V33)+V33)))","v":30},31,"New Mexico",{"$f":"IFERROR(INDEX('SCORE TABLE'!$F$10:$BC$45, MATCH(W$2,'SCORE TABLE'!$B$10:$B$45,0), MATCH(X34,'SCORE TABLE'!$F$9:$BC$9,0)),\"Not scored\")","v":63.75},{"$f":"IFERROR(INDEX(Score_alphabetical!$G$3:$BD$38, MATCH(W$2,Score_alphabetical!$C$3:$C$38,0), MATCH(X34,Score_alphabetical!$G$2:$BD$2,0)),W34)","v":31},{"$f":"IF(Y34=\"Not scored\",Z34,(RANK(Y34,Y$4:Y$54,0)+COUNTIF(Y$4:Y34,Y34)-1))","v":2},2,2,"Virginia",{"$f":"IF(AD34=\"AVERAGE\",\"\", IF(COUNTIF(AD$4:AD34, \"AVERAGE\") < 1, (ROUNDUP(INDEX(AB$4:AB$54,MATCH(AD34,X$4:X$54,0)),1)), (ROUNDUP(INDEX(AC$4:AC$54,MATCH(AD34,X$4:X$54,0)),1))))","v":20},"=27",{"$f":"IF(AD34=\"AVERAGE\",\"\",IF(AG33=\"\",IF(AE34=AE32,AG32,COUNTIFS(AG$3:AG32,AG32)+AG32),IF(AE34=AE33,AG33,COUNTIFS(AG$4:AG33,AG33)+AG33)))","v":27},31,"New Mexico",{"$f":"IFERROR(INDEX('SCORE TABLE'!$F$10:$BC$45, MATCH(AH$2,'SCORE TABLE'!$B$10:$B$45,0), MATCH(AI34,'SCORE TABLE'!$F$9:$BC$9,0)),\"Not scored\")","v":57.52730168900278},{"$f":"IFERROR(INDEX(Score_alphabetical!$G$3:$BD$38, MATCH(AH$2,Score_alphabetical!$C$3:$C$38,0), MATCH(AI34,Score_alphabetical!$G$2:$BD$2,0)),AH34)","v":31},{"$f":"IF(AJ34=\"Not scored\",AK34,(RANK(AJ34,AJ$4:AJ$54,0)+COUNTIF(AJ$4:AJ34,AJ34)-1))","v":26},26,25,"Oregon",{"$f":"IF(AO34=\"AVERAGE\",\"\", IF(COUNTIF(AO$4:AO34, \"AVERAGE\") < 1, (ROUNDUP(INDEX(AM$4:AM$54,MATCH(AO34,AI$4:AI$54,0)),1)), (ROUNDUP(INDEX(AN$4:AN$54,MATCH(AO34,AI$4:AI$54,0)),1))))","v":30},30,{"$f":"IF(AO34=\"AVERAGE\",\"\",IF(AR33=\"\",IF(AP34=AP32,AR32,COUNTIFS(AR$3:AR32,AR32)+AR32),IF(AP34=AP33,AR33,COUNTIFS(AR$4:AR33,AR33)+AR33)))","v":30},31,"New Mexico",{"$f":"IFERROR(INDEX('SCORE TABLE'!$F$10:$BC$45, MATCH(AS$2,'SCORE TABLE'!$B$10:$B$45,0), MATCH(AT34,'SCORE TABLE'!$F$9:$BC$9,0)),\"Not scored\")","v":60.666666666666664},{"$f":"IFERROR(INDEX(Score_alphabetical!$G$3:$BD$38, MATCH(AS$2,Score_alphabetical!$C$3:$C$38,0), MATCH(AT34,Score_alphabetical!$G$2:$BD$2,0)),AS34)","v":31},{"$f":"IF(AU34=\"Not scored\",AV34,(RANK(AU34,AU$4:AU$54,0)+COUNTIF(AU$4:AU34,AU34)-1))","v":31},24,23,"New Mexico",{"$f":"IF(AZ34=\"AVERAGE\",\"\", IF(COUNTIF(AZ$4:AZ34, \"AVERAGE\") < 1, (ROUNDUP(INDEX(AX$4:AX$54,MATCH(AZ34,AT$4:AT$54,0)),1)), (ROUNDUP(INDEX(AY$4:AY$54,MATCH(AZ34,AT$4:AT$54,0)),1))))","v":23},"=29",{"$f":"IF(AZ34=\"AVERAGE\",\"\",IF(BC33=\"\",IF(BA34=BA32,BC32,COUNTIFS(BC$3:BC32,BC32)+BC32),IF(BA34=BA33,BC33,COUNTIFS(BC$4:BC33,BC33)+BC33)))","v":29}]
[32,"New York",{"$f":"IFERROR(INDEX('SCORE TABLE'!$F$10:$BC$45, MATCH(A$2,'SCORE TABLE'!$B$10:$B$45,0), MATCH(B35,'SCORE TABLE'!$F$9:$BC$9,0)),\"Not scored\")","v":60.55496674794287},{"$f":"IFERROR(INDEX(Score_alphabetical!$G$3:$BD$38, MATCH(A$2,Score_alphabetical!$C$3:$C$38,0), MATCH(B35,Score_alphabetical!$G$2:$BD$2,0)),A35)","v":32},{"$f":"IF(C35=\"Not scored\",D35,(RANK(C35,C$4:C$54,0)+COUNTIF(C$4:C35,C35)-1))","v":12},12,12,"Oregon",{"$f":"IF(H35=\"AVERAGE\",\"\", IF(COUNTIF(H$4:H35, \"AVERAGE\") < 1, (ROUNDUP(INDEX(F$4:F$54,MATCH(H35,B$4:B$54,0)),1)), (ROUNDUP(INDEX(G$4:G$54,MATCH(H35,B$4:B$54,0)),1))))","v":31},31,{"$f":"IF(H35=\"AVERAGE\",\"\",IF(K34=\"\",IF(I35=I33,K33,COUNTIFS(K$3:K33,K33)+K33),IF(I35=I34,K34,COUNTIFS(K$4:K34,K34)+K34)))","v":31},32,"New York",{"$f":"IFERROR(INDEX('SCORE TABLE'!$F$10:$BC$45, MATCH(L$2,'SCORE TABLE'!$B$10:$B$45,0), MATCH(M35,'SCORE TABLE'!$F$9:$BC$9,0)),\"Not scored\")","v":60.55496674794287},{"$f":"IFERROR(INDEX(Score_alphabetical!$G$3:$BD$38, MATCH(L$2,Score_alphabetical!$C$3:$C$38,0), MATCH(M35,Score_alphabetical!$G$2:$BD$2,0)),L35)","v":32},{"$f":"IF(N35=\"Not scored\",O35,(RANK(N35,N$4:N$54,0)+COUNTIF(N$4:N35,N35)-1))","v":12},12,12,"Oregon",{"$f":"IF(S35=\"AVERAGE\",\"\", IF(COUNTIF(S$4:S35, \"AVERAGE\") < 1, (ROUNDUP(INDEX(Q$4:Q$54,MATCH(S35,M$4:M$54,0)),1)), (ROUNDUP(INDEX(R$4:R$54,MATCH(S35,M$4:M$54,0)),1))))","v":31},31,{"$f":"IF(S35=\"AVERAGE\",\"\",IF(V34=\"\",IF(T35=T33,V33,COUNTIFS(V$3:V33,V33)+V33),IF(T35=T34,V34,COUNTIFS(V$4:V34,V34)+V34)))","v":31},32,"New York",{"$f":"IFERROR(INDEX('SCORE TABLE'!$F$10:$BC$45, MATCH(W$2,'SCORE TABLE'!$B$10:$B$45,0), MATCH(X35,'SCORE TABLE'!$F$9:$BC$9,0)),\"Not scored\")","v":37.5},{"$f":"IFERROR(INDEX(Score_alphabetical!$G$3:$BD$38, MATCH(W$2,Score_alphabetical!$C$3:$C$38,0), MATCH(X35,Score_alphabetical!$G$2:$BD$2,0)),W35)","v":32},{"$f":"IF(Y35=\"Not scored\",Z35,(RANK(Y35,Y$4:Y$54,0)+COUNTIF(Y$4:Y35,Y35)-1))","v":24},18,17,"Washington",{"$f":"IF(AD35=\"AVERAGE\",\"\", IF(COUNTIF(AD$4:AD35, \"AVERAGE\") < 1, (ROUNDUP(INDEX(AB$4:AB$54,MATCH(AD35,X$4:X$54,0)),1)), (ROUNDUP(INDEX(AC$4:AC$54,MATCH(AD35,X$4:X$54,0)),1))))","v":20},"=27",{"$f":"IF(AD35=\"AVERAGE\",\"\",IF(AG34=\"\",IF(AE35=AE33,AG33,COUNTIFS(AG$3:AG33,AG33)+AG33),IF(AE35=AE34,AG34,COUNTIFS(AG$4:AG34,AG34)+AG34)))","v":27},32,"New York",{"$f":"IFERROR(INDEX('SCORE TABLE'!$F$10:$BC$45, MATCH(AH$2,'SCORE TABLE'!$B$10:$B$45,0), MATCH(AI35,'SCORE TABLE'!$F$9:$BC$9,0)),\"Not scored\")","v":79.24823357716197},{"$f":"IFERROR(INDEX(Score_alphabetical!$G$3:$BD$38, MATCH(AH$2,Score_alphabetical!$C$3:$C$38,0), MATCH(AI35,Score_alphabetical!$G$2:$BD$2,0)),AH35)","v":32},{"$f":"IF(AJ35=\"Not scored\",AK35,(RANK(AJ35,AJ$4:AJ$54,0)+COUNTIF(AJ$4:AJ35,AJ35)-1))","v":9},9,9,"Louisiana",{"$f":"IF(AO35=\"AVERAGE\",\"\", IF(COUNTIF(AO$4:AO35, \"AVERAGE\") < 1, (ROUNDUP(INDEX(AM$4:AM$54,MATCH(AO35,AI$4:AI$54,0)),1)), (ROUNDUP(INDEX(AN$4:AN$54,MATCH(AO35,AI$4:AI$54,0)),1))))","v":31},31,{"$f":"IF(AO35=\"AVERAGE\",\"\",IF(AR34=\"\",IF(AP35=AP33,AR33,COUNTIFS(AR$3:AR33,AR33)+AR33),IF(AP35=AP34,AR34,COUNTIFS(AR$4:AR34,AR34)+AR34)))","v":31},32,"New York",{"$f":"IFERROR(INDEX('SCORE TABLE'!$F$10:$BC$45, MATCH(AS$2,'SCORE TABLE'!$B$10:$B$45,0), MATCH(AT35,'SCORE TABLE'!$F$9:$BC$9,0)),\"Not scored\")","v":64.91666666666666},{"$f":"IFERROR(INDEX(Score_alphabetical!$G$3:$BD$38, MATCH(AS$2,Score_alphabetical!$C$3:$C$38,0), MATCH(AT35,Score_alphabetical!$G$2:$BD$2,0)),AS35)","v":32},{"$f":"IF(AU35=\"Not scored\",AV35,(RANK(AU35,AU$4:AU$54,0)+COUNTIF(AU$4:AU35,AU35)-1))","v":18},14,14,"Montana",{"$f":"IF(AZ35=\"AVERAGE\",\"\", IF(COUNTIF(AZ$4:AZ35, \"AVERAGE\") < 1, (ROUNDUP(INDEX(AX$4:AX$54,MATCH(AZ35,AT$4:AT$54,0)),1)), (ROUNDUP(INDEX(AY$4:AY$54,MATCH(AZ35,AT$4:AT$54,0)),1))))","v":24},31,{"$f":"IF(AZ35=\"AVERAGE\",\"\",IF(BC34=\"\",IF(BA35=BA33,BC33,COUNTIFS(BC$3:BC33,BC33)+BC33),IF(BA35=BA34,BC34,COUNTIFS(BC$4:BC34,BC34)+BC34)))","v":31}]
[33,"North Carolina",{"$f":"IFERROR(INDEX('SCORE TABLE'!$F$10:$BC$45, MATCH(A$2,'SCORE TABLE'!$B$10:$B$45,0), MATCH(B36,'SCORE TABLE'!$F$9:$BC$9,0)),\"Not scored\")","v":58.47739690675778},{"$f":"IFERROR(INDEX(Score_alphabetical!$G$3:$BD$38, MATCH(A$2,Score_alphabetical!$C$3:$C$38,0), MATCH(B36,Score_alphabetical!$G$2:$BD$2,0)),A36)","v":33},{"$f":"IF(C36=\"Not scored\",D36,(RANK(C36,C$4:C$54,0)+COUNTIF(C$4:C36,C36)-1))","v":18},18,18,"Idaho",{"$f":"IF(H36=\"AVERAGE\",\"\", IF(COUNTIF(H$4:H36, \"AVERAGE\") < 1, (ROUNDUP(INDEX(F$4:F$54,MATCH(H36,B$4:B$54,0)),1)), (ROUNDUP(INDEX(G$4:G$54,MATCH(H36,B$4:B$54,0)),1))))","v":32},32,{"$f":"IF(H36=\"AVERAGE\",\"\",IF(K35=\"\",IF(I36=I34,K34,COUNTIFS(K$3:K34,K34)+K34),IF(I36=I35,K35,COUNTIFS(K$4:K35,K35)+K35)))","v":32},33,"North Carolina",{"$f":"IFERROR(INDEX('SCORE TABLE'!$F$10:$BC$45, MATCH(L$2,'SCORE TABLE'!$B$10:$B$45,0), MATCH(M36,'SCORE TABLE'!$F$9:$BC$9,0)),\"Not scored\")","v":58.47739690675778},{"$f":"IFERROR(INDEX(Score_alphabetical!$G$3:$BD$38, MATCH(L$2,Score_alphabetical!$C$3:$C$38,0), MATCH(M36,Score_alphabetical!$G$2:$BD$2,0)),L36)","v":33},{"$f":"IF(N36=\"Not scored\",O36,(RANK(N36,N$4:N$54,0)+COUNTIF(N$4:N36,N36)-1))","v":18},18,18,{"$f":"INDEX(M$4:M$54, MATCH(L36,P$4:P$54,0))","v":"Idaho"},{"$f":"IF(S36=\"AVERAGE\",\"\", IF(COUNTIF(S$4:S36, \"AVERAGE\") < 1, (ROUNDUP(INDEX(Q$4:Q$54,MATCH(S36,M$4:M$54,0)),1)), (ROUNDUP(INDEX(R$4:R$54,MATCH(S36,M$4:M$54,0)),1))))","v":32},32,{"$f":"IF(S36=\"AVERAGE\",\"\",IF(V35=\"\",IF(T36=T34,V34,COUNTIFS(V$3:V34,V34)+V34),IF(T36=T35,V35,COUNTIFS(V$4:V35,V35)+V35)))","v":32},33,"North Carolina",{"$f":"IFERROR(INDEX('SCORE TABLE'!$F$10:$BC$45, MATCH(W$2,'SCORE TABLE'!$B$10:$B$45,0), MATCH(X36,'SCORE TABLE'!$F$9:$BC$9,0)),\"Not scored\")","v":30},{"$f":"IFERROR(INDEX(Score_alphabetical!$G$3:$BD$38, MATCH(W$2,Score_alphabetical!$C$3:$C$38,0), MATCH(X36,Score_alphabetical!$G$2:$BD$2,0)),W36)","v":33},{"$f":"IF(Y36=\"Not scored\",Z36,(RANK(Y36,Y$4:Y$54,0)+COUNTIF(Y$4:Y36,Y36)-1))","v":40},25.999999999999996,24.999999999999996,{"$f":"INDEX(X$4:X$54, MATCH(W36,AA$4:AA$54,0))","v":"Wisconsin"},{"$f":"IF(AD36=\"AVERAGE\",\"\", IF(COUNTIF(AD$4:AD36, \"AVERAGE\") < 1, (ROUNDUP(INDEX(AB$4:AB$54,MATCH(AD36,X$4:X$54,0)),1)), (ROUNDUP(INDEX(AC$4:AC$54,MATCH(AD36,X$4:X$54,0)),1))))","v":21},32,{"$f":"IF(AD36=\"AVERAGE\",\"\",IF(AG35=\"\",IF(AE36=AE34,AG34,COUNTIFS(AG$3:AG34,AG34)+AG34),IF(AE36=AE35,AG35,COUNTIFS(AG$4:AG35,AG35)+AG35)))","v":32},33,"North Carolina",{"$f":"IFERROR(INDEX('SCORE TABLE'!$F$10:$BC$45, MATCH(AH$2,'SCORE TABLE'!$B$10:$B$45,0), MATCH(AI36,'SCORE TABLE'!$F$9:$BC$9,0)),\"Not scored\")","v":84.2655240536067},{"$f":"IFERROR(INDEX(Score_alphabetical!$G$3:$BD$38, MATCH(AH$2,Score_alphabetical!$C$3:$C$38,0), MATCH(AI36,Score_alphabetical!$G$2:$BD$2,0)),AH36)","v":33},{"$f":"IF(AJ36=\"Not scored\",AK36,(RANK(AJ36,AJ$4:AJ$54,0)+COUNTIF(AJ$4:AJ36,AJ36)-1))","v":4},4,4,{"$f":"INDEX(AI$4:AI$54, MATCH(AH36,AL$4:AL$54,0))","v":"West Virginia"},{"$f":"IF(AO36=\"AVERAGE\",\"\", IF(COUNTIF(AO$4:AO36, \"AVERAGE\") < 1, (ROUNDUP(INDEX(AM$4:AM$54,MATCH(AO36,AI$4:AI$54,0)),1)), (ROUNDUP(INDEX(AN$4:AN$54,MATCH(AO36,AI$4:AI$54,0)),1))))","v":32},32,{"$f":"IF(AO36=\"AVERAGE\",\"\",IF(AR35=\"\",IF(AP36=AP34,AR34,COUNTIFS(AR$3:AR34,AR34)+AR34),IF(AP36=AP35,AR35,COUNTIFS(AR$4:AR35,AR35)+AR35)))","v":32},33,"North Carolina",{"$f":"IFERROR(INDEX('SCORE TABLE'!$F$10:$BC$45, MATCH(AS$2,'SCORE TABLE'!$B$10:$B$45,0), MATCH(AT36,'SCORE TABLE'!$F$9:$BC$9,0)),\"Not scored\")","v":61.166666666666664},{"$f":"IFERROR(INDEX(Score_alphabetical!$G$3:$BD$38, MATCH(AS$2,Score_alphabetical!$C$3:$C$38,0), MATCH(AT36,Score_alphabetical!$G$2:$BD$2,0)),AS36)","v":33},{"$f":"IF(AU36=\"Not scored\",AV36,(RANK(AU36,AU$4:AU$54,0)+COUNTIF(AU$4:AU36,AU36)-1))","v":27},22,21,{"$f":"INDEX(AT$4:AT$54, MATCH(AS36,AW$4:AW$54,0))","v":"South Dakota"},{"$f":"IF(AZ36=\"AVERAGE\",\"\", IF(COUNTIF(AZ$4:AZ36, \"AVERAGE\") < 1, (ROUNDUP(INDEX(AX$4:AX$54,MATCH(AZ36,AT$4:AT$54,0)),1)), (ROUNDUP(INDEX(AY$4:AY$54,MATCH(AZ36,AT$4:AT$54,0)),1))))","v":25},32,{"$f":"IF(AZ36=\"AVERAGE\",\"\",IF(BC35=\"\",IF(BA36=BA34,BC34,COUNTIFS(BC$3:BC34,BC34)+BC34),IF(BA36=BA35,BC35,COUNTIFS(BC$4:BC35,BC35)+BC35)))","v":32}]
[34,"North Dakota",{"$f":"IFERROR(INDEX('SCORE TABLE'!$F$10:$BC$45, MATCH(A$2,'SCORE TABLE'!$B$10:$B$45,0), MATCH(B37,'SCORE TABLE'!$F$9:$BC$9,0)),\"Not scored\")","v":45.28465066059171},{"$f":"IFERROR(INDEX(Score_alphabetical!$G$3:$BD$38, MATCH(A$2,Score_alphabetical!$C$3:$C$38,0), MATCH(B37,Score_alphabetical!$G$2:$BD$2,0)),A37)","v":34},{"$f":"IF(C37=\"Not scored\",D37,(RANK(C37,C$4:C$54,0)+COUNTIF(C$4:C37,C37)-1))","v":44},44,43,"Michigan",{"$f":"IF(H37=\"AVERAGE\",\"\", IF(COUNTIF(H$4:H37, \"AVERAGE\") < 1, (ROUNDUP(INDEX(F$4:F$54,MATCH(H37,B$4:B$54,0)),1)), (ROUNDUP(INDEX(G$4:G$54,MATCH(H37,B$4:B$54,0)),1))))","v":33},33,{"$f":"IF(H37=\"AVERAGE\",\"\",IF(K36=\"\",IF(I37=I35,K35,COUNTIFS(K$3:K35,K35)+K35),IF(I37=I36,K36,COUNTIFS(K$4:K36,K36)+K36)))","v":33},34,"North Dakota",{"$f":"IFERROR(INDEX('SCORE TABLE'!$F$10:$BC$45, MATCH(L$2,'SCORE TABLE'!$B$10:$B$45,0), MATCH(M37,'SCORE TABLE'!$F$9:$BC$9,0)),\"Not scored\")","v":45.28465066059171},{"$f":"IFERROR(INDEX(Score_alphabetical!$G$3:$BD$38, MATCH(L$2,Score_alphabetical!$C$3:$C$38,0), MATCH(M37,Score_alphabetical!$G$2:$BD$2,0)),L37)","v":34},{"$f":"IF(N37=\"Not scored\",O37,(RANK(N37,N$4:N$54,0)+COUNTIF(N$4:N37,N37)-1))","v":44},44,43,"Michigan",{"$f":"IF(S37=\"AVERAGE\",\"\", IF(COUNTIF(S$4:S37, \"AVERAGE\") < 1, (ROUNDUP(INDEX(Q$4:Q$54,MATCH(S37,M$4:M$54,0)),1)), (ROUNDUP(INDEX(R$4:R$54,MATCH(S37,M$4:M$54,0)),1))))","v":33},33,{"$f":"IF(S37=\"AVERAGE\",\"\",IF(V36=\"\",IF(T37=T35,V35,COUNTIFS(V$3:V35,V35)+V35),IF(T37=T36,V36,COUNTIFS(V$4:V36,V36)+V36)))","v":33},34,"North Dakota",{"$f":"IFERROR(INDEX('SCORE TABLE'!$F$10:$BC$45, MATCH(W$2,'SCORE TABLE'!$B$10:$B$45,0), MATCH(X37,'SCORE TABLE'!$F$9:$BC$9,0)),\"Not scored\")","v":25},{"$f":"IFERROR(INDEX(Score_alphabetical!$G$3:$BD$38, MATCH(W$2,Score_alphabetical!$C$3:$C$38,0), MATCH(X37,Score_alphabetical!$G$2:$BD$2,0)),W37)","v":34},{"$f":"IF(Y37=\"Not scored\",Z37,(RANK(Y37,Y$4:Y$54,0)+COUNTIF(Y$4:Y37,Y37)-1))","v":47},28.999999999999993,27.999999999999993,"Maine",{"$f":"IF(AD37=\"AVERAGE\",\"\", IF(COUNTIF(AD$4:AD37, \"AVERAGE\") < 1, (ROUNDUP(INDEX(AB$4:AB$54,MATCH(AD37,X$4:X$54,0)),1)), (ROUNDUP(INDEX(AC$4:AC$54,MATCH(AD37,X$4:X$54,0)),1))))","v":22},33,{"$f":"IF(AD37=\"AVERAGE\",\"\",IF(AG36=\"\",IF(AE37=AE35,AG35,COUNTIFS(AG$3:AG35,AG35)+AG35),IF(AE37=AE36,AG36,COUNTIFS(AG$4:AG36,AG36)+AG36)))","v":33},34,"North Dakota",{"$f":"IFERROR(INDEX('SCORE TABLE'!$F$10:$BC$45, MATCH(AH$2,'SCORE TABLE'!$B$10:$B$45,0), MATCH(AI37,'SCORE TABLE'!$F$9:$BC$9,0)),\"Not scored\")","v":66.85395198177514},{"$f":"IFERROR(INDEX(Score_alphabetical!$G$3:$BD$38, MATCH(AH$2,Score_alphabetical!$C$3:$C$38,0), MATCH(AI37,Score_alphabetical!$G$2:$BD$2,0)),AH37)","v":34},{"$f":"IF(AJ37=\"Not scored\",AK37,(RANK(AJ37,AJ$4:AJ$54,0)+COUNTIF(AJ$4:AJ37,AJ37)-1))","v":21},21,21,"Alaska",{"$f":"IF(AO37=\"AVERAGE\",\"\", IF(COUNTIF(AO$4:AO37, \"AVERAGE\") < 1, (ROUNDUP(INDEX(AM$4:AM$54,MATCH(AO37,AI$4:AI$54,0)),1)), (ROUNDUP(INDEX(AN$4:AN$54,MATCH(AO37,AI$4:AI$54,0)),1))))","v":33},33,{"$f":"IF(AO37=\"AVERAGE\",\"\",IF(AR36=\"\",IF(AP37=AP35,AR35,COUNTIFS(AR$3:AR35,AR35)+AR35),IF(AP37=AP36,AR36,COUNTIFS(AR$4:AR36,AR36)+AR36)))","v":33},34,"North Dakota",{"$f":"IFERROR(INDEX('SCORE TABLE'!$F$10:$BC$45, MATCH(AS$2,'SCORE TABLE'!$B$10:$B$45,0), MATCH(AT37,'SCORE TABLE'!$F$9:$BC$9,0)),\"Not scored\")","v":44},{"$f":"IFERROR(INDEX(Score_alphabetical!$G$3:$BD$38, MATCH(AS$2,Score_alphabetical!$C$3:$C$38,0), MATCH(AT37,Score_alphabetical!$G$2:$BD$2,0)),AS37)","v":34},{"$f":"IF(AU37=\"Not scored\",AV37,(RANK(AU37,AU$4:AU$54,0)+COUNTIF(AU$4:AU37,AU37)-1))","v":50},43,42,"Vermont",{"$f":"IF(AZ37=\"AVERAGE\",\"\", IF(COUNTIF(AZ$4:AZ37, \"AVERAGE\") < 1, (ROUNDUP(INDEX(AX$4:AX$54,MATCH(AZ37,AT$4:AT$54,0)),1)), (ROUNDUP(INDEX(AY$4:AY$54,MATCH(AZ37,AT$4:AT$54,0)),1))))","v":26},33,{"$f":"IF(AZ37=\"AVERAGE\",\"\",IF(BC36=\"\",IF(BA37=BA35,BC35,COUNTIFS(BC$3:BC35,BC35)+BC35),IF(BA37=BA36,BC36,COUNTIFS(BC$4:BC36,BC36)+BC36)))","v":33}]
[35,"Ohio",{"$f":"IFERROR(INDEX('SCORE TABLE'!$F$10:$BC$45, MATCH(A$2,'SCORE TABLE'!$B$10:$B$45,0), MATCH(B38,'SCORE TABLE'!$F$9:$BC$9,0)),\"Not scored\")","v":62.98877409365155},{"$f":"IFERROR(INDEX(Score_alphabetical!$G$3:$BD$38, MATCH(A$2,Score_alphabetical!$C$3:$C$38,0), MATCH(B38,Score_alphabetical!$G$2:$BD$2,0)),A38)","v":35},{"$f":"IF(C38=\"Not scored\",D38,(RANK(C38,C$4:C$54,0)+COUNTIF(C$4:C38,C38)-1))","v":8},8,8,"Utah",{"$f":"IF(H38=\"AVERAGE\",\"\", IF(COUNTIF(H$4:H38, \"AVERAGE\") < 1, (ROUNDUP(INDEX(F$4:F$54,MATCH(H38,B$4:B$54,0)),1)), (ROUNDUP(INDEX(G$4:G$54,MATCH(H38,B$4:B$54,0)),1))))","v":34},34,{"$f":"IF(H38=\"AVERAGE\",\"\",IF(K37=\"\",IF(I38=I36,K36,COUNTIFS(K$3:K36,K36)+K36),IF(I38=I37,K37,COUNTIFS(K$4:K37,K37)+K37)))","v":34},35,"Ohio",{"$f":"IFERROR(INDEX('SCORE TABLE'!$F$10:$BC$45, MATCH(L$2,'SCORE TABLE'!$B$10:$B$45,0), MATCH(M38,'SCORE TABLE'!$F$9:$BC$9,0)),\"Not scored\")","v":62.98877409365155},{"$f":"IFERROR(INDEX(Score_alphabetical!$G$3:$BD$38, MATCH(L$2,Score_alphabetical!$C$3:$C$38,0), MATCH(M38,Score_alphabetical!$G$2:$BD$2,0)),L38)","v":35},{"$f":"IF(N38=\"Not scored\",O38,(RANK(N38,N$4:N$54,0)+COUNTIF(N$4:N38,N38)-1))","v":8},8,8,"Utah",{"$f":"IF(S38=\"AVERAGE\",\"\", IF(COUNTIF(S$4:S38, \"AVERAGE\") < 1, (ROUNDUP(INDEX(Q$4:Q$54,MATCH(S38,M$4:M$54,0)),1)), (ROUNDUP(INDEX(R$4:R$54,MATCH(S38,M$4:M$54,0)),1))))","v":34},34,{"$f":"IF(S38=\"AVERAGE\",\"\",IF(V37=\"\",IF(T38=T36,V36,COUNTIFS(V$3:V36,V36)+V36),IF(T38=T37,V37,COUNTIFS(V$4:V37,V37)+V37)))","v":34},35,"Ohio",{"$f":"IFERROR(INDEX('SCORE TABLE'!$F$10:$BC$45, MATCH(W$2,'SCORE TABLE'!$B$10:$B$45,0), MATCH(X38,'SCORE TABLE'!$F$9:$BC$9,0)),\"Not scored\")","v":50},{"$f":"IFERROR(INDEX(Score_alphabetical!$G$3:$BD$38, MATCH(W$2,Score_alphabetical!$C$3:$C$38,0), MATCH(X38,Score_alphabetical!$G$2:$BD$2,0)),W38)","v":35},{"$f":"IF(Y38=\"Not scored\",Z38,(RANK(Y38,Y$4:Y$54,0)+COUNTIF(Y$4:Y38,Y38)-1))","v":13},7.999999999999999,7.999999999999999,"Alaska",{"$f":"IF(AD38=\"AVERAGE\",\"\", IF(COUNTIF(AD$4:AD38, \"AVERAGE\") < 1, (ROUNDUP(INDEX(AB$4:AB$54,MATCH(AD38,X$4:X$54,0)),1)), (ROUNDUP(INDEX(AC$4:AC$54,MATCH(AD38,X$4:X$54,0)),1))))","v":23},"=34",{"$f":"IF(AD38=\"AVERAGE\",\"\",IF(AG37=\"\",IF(AE38=AE36,AG36,COUNTIFS(AG$3:AG36,AG36)+AG36),IF(AE38=AE37,AG37,COUNTIFS(AG$4:AG37,AG37)+AG37)))","v":34},35,"Ohio",{"$f":"IFERROR(INDEX('SCORE TABLE'!$F$10:$BC$45, MATCH(AH$2,'SCORE TABLE'!$B$10:$B$45,0), MATCH(AI38,'SCORE TABLE'!$F$9:$BC$9,0)),\"Not scored\")","v":67.96632228095466},{"$f":"IFERROR(INDEX(Score_alphabetical!$G$3:$BD$38, MATCH(AH$2,Score_alphabetical!$C$3:$C$38,0), MATCH(AI38,Score_alphabetical!$G$2:$BD$2,0)),AH38)","v":35},{"$f":"IF(AJ38=\"Not scored\",AK38,(RANK(AJ38,AJ$4:AJ$54,0)+COUNTIF(AJ$4:AJ38,AJ38)-1))","v":20},20,20,"Nevada",{"$f":"IF(AO38=\"AVERAGE\",\"\", IF(COUNTIF(AO$4:AO38, \"AVERAGE\") < 1, (ROUNDUP(INDEX(AM$4:AM$54,MATCH(AO38,AI$4:AI$54,0)),1)), (ROUNDUP(INDEX(AN$4:AN$54,MATCH(AO38,AI$4:AI$54,0)),1))))","v":34},34,{"$f":"IF(AO38=\"AVERAGE\",\"\",IF(AR37=\"\",IF(AP38=AP36,AR36,COUNTIFS(AR$3:AR36,AR36)+AR36),IF(AP38=AP37,AR37,COUNTIFS(AR$4:AR37,AR37)+AR37)))","v":34},35,"Ohio",{"$f":"IFERROR(INDEX('SCORE TABLE'!$F$10:$BC$45, MATCH(AS$2,'SCORE TABLE'!$B$10:$B$45,0), MATCH(AT38,'SCORE TABLE'!$F$9:$BC$9,0)),\"Not scored\")","v":71},{"$f":"IFERROR(INDEX(Score_alphabetical!$G$3:$BD$38, MATCH(AS$2,Score_alphabetical!$C$3:$C$38,0), MATCH(AT38,Score_alphabetical!$G$2:$BD$2,0)),AS38)","v":35},{"$f":"IF(AU38=\"Not scored\",AV38,(RANK(AU38,AU$4:AU$54,0)+COUNTIF(AU$4:AU38,AU38)-1))","v":9},8,8,"Tennessee",{"$f":"IF(AZ38=\"AVERAGE\",\"\", IF(COUNTIF(AZ$4:AZ38, \"AVERAGE\") < 1, (ROUNDUP(INDEX(AX$4:AX$54,MATCH(AZ38,AT$4:AT$54,0)),1)), (ROUNDUP(INDEX(AY$4:AY$54,MATCH(AZ38,AT$4:AT$54,0)),1))))","v":27},34,{"$f":"IF(AZ38=\"AVERAGE\",\"\",IF(BC37=\"\",IF(BA38=BA36,BC36,COUNTIFS(BC$3:BC36,BC36)+BC36),IF(BA38=BA37,BC37,COUNTIFS(BC$4:BC37,BC37)+BC37)))","v":34}]
[36,"Oklahoma",{"$f":"IFERROR(INDEX('SCORE TABLE'!$F$10:$BC$45, MATCH(A$2,'SCORE TABLE'!$B$10:$B$45,0), MATCH(B39,'SCORE TABLE'!$F$9:$BC$9,0)),\"Not scored\")","v":60.36354346248538},{"$f":"IFERROR(INDEX(Score_alphabetical!$G$3:$BD$38, MATCH(A$2,Score_alphabetical!$C$3:$C$38,0), MATCH(B39,Score_alphabetical!$G$2:$BD$2,0)),A39)","v":36},{"$f":"IF(C39=\"Not scored\",D39,(RANK(C39,C$4:C$54,0)+COUNTIF(C$4:C39,C39)-1))","v":13},13,13,"Nebraska",{"$f":"IF(H39=\"AVERAGE\",\"\", IF(COUNTIF(H$4:H39, \"AVERAGE\") < 1, (ROUNDUP(INDEX(F$4:F$54,MATCH(H39,B$4:B$54,0)),1)), (ROUNDUP(INDEX(G$4:G$54,MATCH(H39,B$4:B$54,0)),1))))","v":35},35,{"$f":"IF(H39=\"AVERAGE\",\"\",IF(K38=\"\",IF(I39=I37,K37,COUNTIFS(K$3:K37,K37)+K37),IF(I39=I38,K38,COUNTIFS(K$4:K38,K38)+K38)))","v":35},36,"Oklahoma",{"$f":"IFERROR(INDEX('SCORE TABLE'!$F$10:$BC$45, MATCH(L$2,'SCORE TABLE'!$B$10:$B$45,0), MATCH(M39,'SCORE TABLE'!$F$9:$BC$9,0)),\"Not scored\")","v":60.36354346248538},{"$f":"IFERROR(INDEX(Score_alphabetical!$G$3:$BD$38, MATCH(L$2,Score_alphabetical!$C$3:$C$38,0), MATCH(M39,Score_alphabetical!$G$2:$BD$2,0)),L39)","v":36},{"$f":"IF(N39=\"Not scored\",O39,(RANK(N39,N$4:N$54,0)+COUNTIF(N$4:N39,N39)-1))","v":13},13,13,"Nebraska",{"$f":"IF(S39=\"AVERAGE\",\"\", IF(COUNTIF(S$4:S39, \"AVERAGE\") < 1, (ROUNDUP(INDEX(Q$4:Q$54,MATCH(S39,M$4:M$54,0)),1)), (ROUNDUP(INDEX(R$4:R$54,MATCH(S39,M$4:M$54,0)),1))))","v":35},35,{"$f":"IF(S39=\"AVERAGE\",\"\",IF(V38=\"\",IF(T39=T37,V37,COUNTIFS(V$3:V37,V37)+V37),IF(T39=T38,V38,COUNTIFS(V$4:V38,V38)+V38)))","v":35},36,"Oklahoma",{"$f":"IFERROR(INDEX('SCORE TABLE'!$F$10:$BC$45, MATCH(W$2,'SCORE TABLE'!$B$10:$B$45,0), MATCH(X39,'SCORE TABLE'!$F$9:$BC$9,0)),\"Not scored\")","v":67.70834},{"$f":"IFERROR(INDEX(Score_alphabetical!$G$3:$BD$38, MATCH(W$2,Score_alphabetical!$C$3:$C$38,0), MATCH(X39,Score_alphabetical!$G$2:$BD$2,0)),W39)","v":36},{"$f":"IF(Y39=\"Not scored\",Z39,(RANK(Y39,Y$4:Y$54,0)+COUNTIF(Y$4:Y39,Y39)-1))","v":1},1,1,"Illinois",{"$f":"IF(AD39=\"AVERAGE\",\"\", IF(COUNTIF(AD$4:AD39, \"AVERAGE\") < 1, (ROUNDUP(INDEX(AB$4:AB$54,MATCH(AD39,X$4:X$54,0)),1)), (ROUNDUP(INDEX(AC$4:AC$54,MATCH(AD39,X$4:X$54,0)),1))))","v":23},"=34",{"$f":"IF(AD39=\"AVERAGE\",\"\",IF(AG38=\"\",IF(AE39=AE37,AG37,COUNTIFS(AG$3:AG37,AG37)+AG37),IF(AE39=AE38,AG38,COUNTIFS(AG$4:AG38,AG38)+AG38)))","v":34},36,"Oklahoma",{"$f":"IFERROR(INDEX('SCORE TABLE'!$F$10:$BC$45, MATCH(AH$2,'SCORE TABLE'!$B$10:$B$45,0), MATCH(AI39,'SCORE TABLE'!$F$9:$BC$9,0)),\"Not scored\")","v":45.632290387456166},{"$f":"IFERROR(INDEX(Score_alphabetical!$G$3:$BD$38, MATCH(AH$2,Score_alphabetical!$C$3:$C$38,0), MATCH(AI39,Score_alphabetical!$G$2:$BD$2,0)),AH39)","v":36},{"$f":"IF(AJ39=\"Not scored\",AK39,(RANK(AJ39,AJ$4:AJ$54,0)+COUNTIF(AJ$4:AJ39,AJ39)-1))","v":42},42,41,"New Jersey",{"$f":"IF(AO39=\"AVERAGE\",\"\", IF(COUNTIF(AO$4:AO39, \"AVERAGE\") < 1, (ROUNDUP(INDEX(AM$4:AM$54,MATCH(AO39,AI$4:AI$54,0)),1)), (ROUNDUP(INDEX(AN$4:AN$54,MATCH(AO39,AI$4:AI$54,0)),1))))","v":35},35,{"$f":"IF(AO39=\"AVERAGE\",\"\",IF(AR38=\"\",IF(AP39=AP37,AR37,COUNTIFS(AR$3:AR37,AR37)+AR37),IF(AP39=AP38,AR38,COUNTIFS(AR$4:AR38,AR38)+AR38)))","v":35},36,"Oklahoma",{"$f":"IFERROR(INDEX('SCORE TABLE'!$F$10:$BC$45, MATCH(AS$2,'SCORE TABLE'!$B$10:$B$45,0), MATCH(AT39,'SCORE TABLE'!$F$9:$BC$9,0)),\"Not scored\")","v":67.75},{"$f":"IFERROR(INDEX(Score_alphabetical!$G$3:$BD$38, MATCH(AS$2,Score_alphabetical!$C$3:$C$38,0), MATCH(AT39,Score_alphabetical!$G$2:$BD$2,0)),AS39)","v":36},{"$f":"IF(AU39=\"Not scored\",AV39,(RANK(AU39,AU$4:AU$54,0)+COUNTIF(AU$4:AU39,AU39)-1))","v":12},11,11,"Maine",{"$f":"IF(AZ39=\"AVERAGE\",\"\", IF(COUNTIF(AZ$4:AZ39, \"AVERAGE\") < 1, (ROUNDUP(INDEX(AX$4:AX$54,MATCH(AZ39,AT$4:AT$54,0)),1)), (ROUNDUP(INDEX(AY$4:AY$54,MATCH(AZ39,AT$4:AT$54,0)),1))))","v":28},35,{"$f":"IF(AZ39=\"AVERAGE\",\"\",IF(BC38=\"\",IF(BA39=BA37,BC37,COUNTIFS(BC$3:BC37,BC37)+BC37),IF(BA39=BA38,BC38,COUNTIFS(BC$4:BC38,BC38)+BC38)))","v":35}]
[37,"Oregon",{"$f":"IFERROR(INDEX('SCORE TABLE'!$F$10:$BC$45, MATCH(A$2,'SCORE TABLE'!$B$10:$B$45,0), MATCH(B40,'SCORE TABLE'!$F$9:$BC$9,0)),\"Not scored\")","v":52.88341868694419},{"$f":"IFERROR(INDEX(Score_alphabetical!$G$3:$BD$38, MATCH(A$2,Score_alphabetical!$C$3:$C$38,0), MATCH(B40,Score_alphabetical!$G$2:$BD$2,0)),A40)","v":37},{"$f":"IF(C40=\"Not scored\",D40,(RANK(C40,C$4:C$54,0)+COUNTIF(C$4:C40,C40)-1))","v":32},32,31,"Wyoming",{"$f":"IF(H40=\"AVERAGE\",\"\", IF(COUNTIF(H$4:H40, \"AVERAGE\") < 1, (ROUNDUP(INDEX(F$4:F$54,MATCH(H40,B$4:B$54,0)),1)), (ROUNDUP(INDEX(G$4:G$54,MATCH(H40,B$4:B$54,0)),1))))","v":36},36,{"$f":"IF(H40=\"AVERAGE\",\"\",IF(K39=\"\",IF(I40=I38,K38,COUNTIFS(K$3:K38,K38)+K38),IF(I40=I39,K39,COUNTIFS(K$4:K39,K39)+K39)))","v":36},37,"Oregon",{"$f":"IFERROR(INDEX('SCORE TABLE'!$F$10:$BC$45, MATCH(L$2,'SCORE TABLE'!$B$10:$B$45,0), MATCH(M40,'SCORE TABLE'!$F$9:$BC$9,0)),\"Not scored\")","v":52.88341868694419},{"$f":"IFERROR(INDEX(Score_alphabetical!$G$3:$BD$38, MATCH(L$2,Score_alphabetical!$C$3:$C$38,0), MATCH(M40,Score_alphabetical!$G$2:$BD$2,0)),L40)","v":37},{"$f":"IF(N40=\"Not scored\",O40,(RANK(N40,N$4:N$54,0)+COUNTIF(N$4:N40,N40)-1))","v":32},32,31,"Wyoming",{"$f":"IF(S40=\"AVERAGE\",\"\", IF(COUNTIF(S$4:S40, \"AVERAGE\") < 1, (ROUNDUP(INDEX(Q$4:Q$54,MATCH(S40,M$4:M$54,0)),1)), (ROUNDUP(INDEX(R$4:R$54,MATCH(S40,M$4:M$54,0)),1))))","v":36},36,{"$f":"IF(S40=\"AVERAGE\",\"\",IF(V39=\"\",IF(T40=T38,V38,COUNTIFS(V$3:V38,V38)+V38),IF(T40=T39,V39,COUNTIFS(V$4:V39,V39)+V39)))","v":36},37,"Oregon",{"$f":"IFERROR(INDEX('SCORE TABLE'!$F$10:$BC$45, MATCH(W$2,'SCORE TABLE'!$B$10:$B$45,0), MATCH(X40,'SCORE TABLE'!$F$9:$BC$9,0)),\"Not scored\")","v":35.41667},{"$f":"IFERROR(INDEX(Score_alphabetical!$G$3:$BD$38, MATCH(W$2,Score_alphabetical!$C$3:$C$38,0), MATCH(X40,Score_alphabetical!$G$2:$BD$2,0)),W40)","v":37},{"$f":"IF(Y40=\"Not scored\",Z40,(RANK(Y40,Y$4:Y$54,0)+COUNTIF(Y$4:Y40,Y40)-1))","v":27},20,19,"Delaware",{"$f":"IF(AD40=\"AVERAGE\",\"\", IF(COUNTIF(AD$4:AD40, \"AVERAGE\") < 1, (ROUNDUP(INDEX(AB$4:AB$54,MATCH(AD40,X$4:X$54,0)),1)), (ROUNDUP(INDEX(AC$4:AC$54,MATCH(AD40,X$4:X$54,0)),1))))","v":24},36,{"$f":"IF(AD40=\"AVERAGE\",\"\",IF(AG39=\"\",IF(AE40=AE38,AG38,COUNTIFS(AG$3:AG38,AG38)+AG38),IF(AE40=AE39,AG39,COUNTIFS(AG$4:AG39,AG39)+AG39)))","v":36},37,"Oregon",{"$f":"IFERROR(INDEX('SCORE TABLE'!$F$10:$BC$45, MATCH(AH$2,'SCORE TABLE'!$B$10:$B$45,0), MATCH(AI40,'SCORE TABLE'!$F$9:$BC$9,0)),\"Not scored\")","v":51.233586060832565},{"$f":"IFERROR(INDEX(Score_alphabetical!$G$3:$BD$38, MATCH(AH$2,Score_alphabetical!$C$3:$C$38,0), MATCH(AI40,Score_alphabetical!$G$2:$BD$2,0)),AH40)","v":37},{"$f":"IF(AJ40=\"Not scored\",AK40,(RANK(AJ40,AJ$4:AJ$54,0)+COUNTIF(AJ$4:AJ40,AJ40)-1))","v":31},31,30,"Arizona",{"$f":"IF(AO40=\"AVERAGE\",\"\", IF(COUNTIF(AO$4:AO40, \"AVERAGE\") < 1, (ROUNDUP(INDEX(AM$4:AM$54,MATCH(AO40,AI$4:AI$54,0)),1)), (ROUNDUP(INDEX(AN$4:AN$54,MATCH(AO40,AI$4:AI$54,0)),1))))","v":36},36,{"$f":"IF(AO40=\"AVERAGE\",\"\",IF(AR39=\"\",IF(AP40=AP38,AR38,COUNTIFS(AR$3:AR38,AR38)+AR38),IF(AP40=AP39,AR39,COUNTIFS(AR$4:AR39,AR39)+AR39)))","v":36},37,"Oregon",{"$f":"IFERROR(INDEX('SCORE TABLE'!$F$10:$BC$45, MATCH(AS$2,'SCORE TABLE'!$B$10:$B$45,0), MATCH(AT40,'SCORE TABLE'!$F$9:$BC$9,0)),\"Not scored\")","v":72},{"$f":"IFERROR(INDEX(Score_alphabetical!$G$3:$BD$38, MATCH(AS$2,Score_alphabetical!$C$3:$C$38,0), MATCH(AT40,Score_alphabetical!$G$2:$BD$2,0)),AS40)","v":37},{"$f":"IF(AU40=\"Not scored\",AV40,(RANK(AU40,AU$4:AU$54,0)+COUNTIF(AU$4:AU40,AU40)-1))","v":6},5,5,"Arkansas",{"$f":"IF(AZ40=\"AVERAGE\",\"\", IF(COUNTIF(AZ$4:AZ40, \"AVERAGE\") < 1, (ROUNDUP(INDEX(AX$4:AX$54,MATCH(AZ40,AT$4:AT$54,0)),1)), (ROUNDUP(INDEX(AY$4:AY$54,MATCH(AZ40,AT$4:AT$54,0)),1))))","v":29},36,{"$f":"IF(AZ40=\"AVERAGE\",\"\",IF(BC39=\"\",IF(BA40=BA38,BC38,COUNTIFS(BC$3:BC38,BC38)+BC38),IF(BA40=BA39,BC39,COUNTIFS(BC$4:BC39,BC39)+BC39)))","v":36}]
[38,"Pennsylvania",{"$f":"IFERROR(INDEX('SCORE TABLE'!$F$10:$BC$45, MATCH(A$2,'SCORE TABLE'!$B$10:$B$45,0), MATCH(B41,'SCORE TABLE'!$F$9:$BC$9,0)),\"Not scored\")","v":53.14371206862796},{"$f":"IFERROR(INDEX(Score_alphabetical!$G$3:$BD$38, MATCH(A$2,Score_alphabetical!$C$3:$C$38,0), MATCH(B41,Score_alphabetical!$G$2:$BD$2,0)),A41)","v":38},{"$f":"IF(C41=\"Not scored\",D41,(RANK(C41,C$4:C$54,0)+COUNTIF(C$4:C41,C41)-1))","v":31},31,30,"Missouri",{"$f":"IF(H41=\"AVERAGE\",\"\", IF(COUNTIF(H$4:H41, \"AVERAGE\") < 1, (ROUNDUP(INDEX(F$4:F$54,MATCH(H41,B$4:B$54,0)),1)), (ROUNDUP(INDEX(G$4:G$54,MATCH(H41,B$4:B$54,0)),1))))","v":37},37,{"$f":"IF(H41=\"AVERAGE\",\"\",IF(K40=\"\",IF(I41=I39,K39,COUNTIFS(K$3:K39,K39)+K39),IF(I41=I40,K40,COUNTIFS(K$4:K40,K40)+K40)))","v":37},38,"Pennsylvania",{"$f":"IFERROR(INDEX('SCORE TABLE'!$F$10:$BC$45, MATCH(L$2,'SCORE TABLE'!$B$10:$B$45,0), MATCH(M41,'SCORE TABLE'!$F$9:$BC$9,0)),\"Not scored\")","v":53.14371206862796},{"$f":"IFERROR(INDEX(Score_alphabetical!$G$3:$BD$38, MATCH(L$2,Score_alphabetical!$C$3:$C$38,0), MATCH(M41,Score_alphabetical!$G$2:$BD$2,0)),L41)","v":38},{"$f":"IF(N41=\"Not scored\",O41,(RANK(N41,N$4:N$54,0)+COUNTIF(N$4:N41,N41)-1))","v":31},31,30,"Missouri",{"$f":"IF(S41=\"AVERAGE\",\"\", IF(COUNTIF(S$4:S41, \"AVERAGE\") < 1, (ROUNDUP(INDEX(Q$4:Q$54,MATCH(S41,M$4:M$54,0)),1)), (ROUNDUP(INDEX(R$4:R$54,MATCH(S41,M$4:M$54,0)),1))))","v":37},37,{"$f":"IF(S41=\"AVERAGE\",\"\",IF(V40=\"\",IF(T41=T39,V39,COUNTIFS(V$3:V39,V39)+V39),IF(T41=T40,V40,COUNTIFS(V$4:V40,V40)+V40)))","v":37},38,"Pennsylvania",{"$f":"IFERROR(INDEX('SCORE TABLE'!$F$10:$BC$45, MATCH(W$2,'SCORE TABLE'!$B$10:$B$45,0), MATCH(X41,'SCORE TABLE'!$F$9:$BC$9,0)),\"Not scored\")","v":38.75},{"$f":"IFERROR(INDEX(Score_alphabetical!$G$3:$BD$38, MATCH(W$2,Score_alphabetical!$C$3:$C$38,0), MATCH(X41,Score_alphabetical!$G$2:$BD$2,0)),W41)","v":38},{"$f":"IF(Y41=\"Not scored\",Z41,(RANK(Y41,Y$4:Y$54,0)+COUNTIF(Y$4:Y41,Y41)-1))","v":23},17,16,"Indiana",{"$f":"IF(AD41=\"AVERAGE\",\"\", IF(COUNTIF(AD$4:AD41, \"AVERAGE\") < 1, (ROUNDUP(INDEX(AB$4:AB$54,MATCH(AD41,X$4:X$54,0)),1)), (ROUNDUP(INDEX(AC$4:AC$54,MATCH(AD41,X$4:X$54,0)),1))))","v":25},"=37",{"$f":"IF(AD41=\"AVERAGE\",\"\",IF(AG40=\"\",IF(AE41=AE39,AG39,COUNTIFS(AG$3:AG39,AG39)+AG39),IF(AE41=AE40,AG40,COUNTIFS(AG$4:AG40,AG40)+AG40)))","v":37},38,"Pennsylvania",{"$f":"IFERROR(INDEX('SCORE TABLE'!$F$10:$BC$45, MATCH(AH$2,'SCORE TABLE'!$B$10:$B$45,0), MATCH(AI41,'SCORE TABLE'!$F$9:$BC$9,0)),\"Not scored\")","v":57.514469539217245},{"$f":"IFERROR(INDEX(Score_alphabetical!$G$3:$BD$38, MATCH(AH$2,Score_alphabetical!$C$3:$C$38,0), MATCH(AI41,Score_alphabetical!$G$2:$BD$2,0)),AH41)","v":38},{"$f":"IF(AJ41=\"Not scored\",AK41,(RANK(AJ41,AJ$4:AJ$54,0)+COUNTIF(AJ$4:AJ41,AJ41)-1))","v":27},27,26,"Georgia",{"$f":"IF(AO41=\"AVERAGE\",\"\", IF(COUNTIF(AO$4:AO41, \"AVERAGE\") < 1, (ROUNDUP(INDEX(AM$4:AM$54,MATCH(AO41,AI$4:AI$54,0)),1)), (ROUNDUP(INDEX(AN$4:AN$54,MATCH(AO41,AI$4:AI$54,0)),1))))","v":37},37,{"$f":"IF(AO41=\"AVERAGE\",\"\",IF(AR40=\"\",IF(AP41=AP39,AR39,COUNTIFS(AR$3:AR39,AR39)+AR39),IF(AP41=AP40,AR40,COUNTIFS(AR$4:AR40,AR40)+AR40)))","v":37},38,"Pennsylvania",{"$f":"IFERROR(INDEX('SCORE TABLE'!$F$10:$BC$45, MATCH(AS$2,'SCORE TABLE'!$B$10:$B$45,0), MATCH(AT41,'SCORE TABLE'!$F$9:$BC$9,0)),\"Not scored\")","v":63.166666666666664},{"$f":"IFERROR(INDEX(Score_alphabetical!$G$3:$BD$38, MATCH(AS$2,Score_alphabetical!$C$3:$C$38,0), MATCH(AT41,Score_alphabetical!$G$2:$BD$2,0)),AS41)","v":38},{"$f":"IF(AU41=\"Not scored\",AV41,(RANK(AU41,AU$4:AU$54,0)+COUNTIF(AU$4:AU41,AU41)-1))","v":22},17,17,"Massachusetts",{"$f":"IF(AZ41=\"AVERAGE\",\"\", IF(COUNTIF(AZ$4:AZ41, \"AVERAGE\") < 1, (ROUNDUP(INDEX(AX$4:AX$54,MATCH(AZ41,AT$4:AT$54,0)),1)), (ROUNDUP(INDEX(AY$4:AY$54,MATCH(AZ41,AT$4:AT$54,0)),1))))","v":30},37,{"$f":"IF(AZ41=\"AVERAGE\",\"\",IF(BC40=\"\",IF(BA41=BA39,BC39,COUNTIFS(BC$3:BC39,BC39)+BC39),IF(BA41=BA40,BC40,COUNTIFS(BC$4:BC40,BC40)+BC40)))","v":37}]
[39,"Rhode Island",{"$f":"IFERROR(INDEX('SCORE TABLE'!$F$10:$BC$45, MATCH(A$2,'SCORE TABLE'!$B$10:$B$45,0), MATCH(B42,'SCORE TABLE'!$F$9:$BC$9,0)),\"Not scored\")","v":62.490829729296806},{"$f":"IFERROR(INDEX(Score_alphabetical!$G$3:$BD$38, MATCH(A$2,Score_alphabetical!$C$3:$C$38,0), MATCH(B42,Score_alphabetical!$G$2:$BD$2,0)),A42)","v":39},{"$f":"IF(C42=\"Not scored\",D42,(RANK(C42,C$4:C$54,0)+COUNTIF(C$4:C42,C42)-1))","v":9},9,9,"Delaware",{"$f":"IF(H42=\"AVERAGE\",\"\", IF(COUNTIF(H$4:H42, \"AVERAGE\") < 1, (ROUNDUP(INDEX(F$4:F$54,MATCH(H42,B$4:B$54,0)),1)), (ROUNDUP(INDEX(G$4:G$54,MATCH(H42,B$4:B$54,0)),1))))","v":38},38,{"$f":"IF(H42=\"AVERAGE\",\"\",IF(K41=\"\",IF(I42=I40,K40,COUNTIFS(K$3:K40,K40)+K40),IF(I42=I41,K41,COUNTIFS(K$4:K41,K41)+K41)))","v":38},39,"Rhode Island",{"$f":"IFERROR(INDEX('SCORE TABLE'!$F$10:$BC$45, MATCH(L$2,'SCORE TABLE'!$B$10:$B$45,0), MATCH(M42,'SCORE TABLE'!$F$9:$BC$9,0)),\"Not scored\")","v":62.490829729296806},{"$f":"IFERROR(INDEX(Score_alphabetical!$G$3:$BD$38, MATCH(L$2,Score_alphabetical!$C$3:$C$38,0), MATCH(M42,Score_alphabetical!$G$2:$BD$2,0)),L42)","v":39},{"$f":"IF(N42=\"Not scored\",O42,(RANK(N42,N$4:N$54,0)+COUNTIF(N$4:N42,N42)-1))","v":9},9,9,"Delaware",{"$f":"IF(S42=\"AVERAGE\",\"\", IF(COUNTIF(S$4:S42, \"AVERAGE\") < 1, (ROUNDUP(INDEX(Q$4:Q$54,MATCH(S42,M$4:M$54,0)),1)), (ROUNDUP(INDEX(R$4:R$54,MATCH(S42,M$4:M$54,0)),1))))","v":38},38,{"$f":"IF(S42=\"AVERAGE\",\"\",IF(V41=\"\",IF(T42=T40,V40,COUNTIFS(V$3:V40,V40)+V40),IF(T42=T41,V41,COUNTIFS(V$4:V41,V41)+V41)))","v":38},39,"Rhode Island",{"$f":"IFERROR(INDEX('SCORE TABLE'!$F$10:$BC$45, MATCH(W$2,'SCORE TABLE'!$B$10:$B$45,0), MATCH(X42,'SCORE TABLE'!$F$9:$BC$9,0)),\"Not scored\")","v":46.25},{"$f":"IFERROR(INDEX(Score_alphabetical!$G$3:$BD$38, MATCH(W$2,Score_alphabetical!$C$3:$C$38,0), MATCH(X42,Score_alphabetical!$G$2:$BD$2,0)),W42)","v":39},{"$f":"IF(Y42=\"Not scored\",Z42,(RANK(Y42,Y$4:Y$54,0)+COUNTIF(Y$4:Y42,Y42)-1))","v":15},9,9,"Massachusetts",{"$f":"IF(AD42=\"AVERAGE\",\"\", IF(COUNTIF(AD$4:AD42, \"AVERAGE\") < 1, (ROUNDUP(INDEX(AB$4:AB$54,MATCH(AD42,X$4:X$54,0)),1)), (ROUNDUP(INDEX(AC$4:AC$54,MATCH(AD42,X$4:X$54,0)),1))))","v":25},"=37",{"$f":"IF(AD42=\"AVERAGE\",\"\",IF(AG41=\"\",IF(AE42=AE40,AG40,COUNTIFS(AG$3:AG40,AG40)+AG40),IF(AE42=AE41,AG41,COUNTIFS(AG$4:AG41,AG41)+AG41)))","v":37},39,"Rhode Island",{"$f":"IFERROR(INDEX('SCORE TABLE'!$F$10:$BC$45, MATCH(AH$2,'SCORE TABLE'!$B$10:$B$45,0), MATCH(AI42,'SCORE TABLE'!$F$9:$BC$9,0)),\"Not scored\")","v":75.55582252122376},{"$f":"IFERROR(INDEX(Score_alphabetical!$G$3:$BD$38, MATCH(AH$2,Score_alphabetical!$C$3:$C$38,0), MATCH(AI42,Score_alphabetical!$G$2:$BD$2,0)),AH42)","v":39},{"$f":"IF(AJ42=\"Not scored\",AK42,(RANK(AJ42,AJ$4:AJ$54,0)+COUNTIF(AJ$4:AJ42,AJ42)-1))","v":15},15,15,"South Dakota",{"$f":"IF(AO42=\"AVERAGE\",\"\", IF(COUNTIF(AO$4:AO42, \"AVERAGE\") < 1, (ROUNDUP(INDEX(AM$4:AM$54,MATCH(AO42,AI$4:AI$54,0)),1)), (ROUNDUP(INDEX(AN$4:AN$54,MATCH(AO42,AI$4:AI$54,0)),1))))","v":38},38,{"$f":"IF(AO42=\"AVERAGE\",\"\",IF(AR41=\"\",IF(AP42=AP40,AR40,COUNTIFS(AR$3:AR40,AR40)+AR40),IF(AP42=AP41,AR41,COUNTIFS(AR$4:AR41,AR41)+AR41)))","v":38},39,"Rhode Island",{"$f":"IFERROR(INDEX('SCORE TABLE'!$F$10:$BC$45, MATCH(AS$2,'SCORE TABLE'!$B$10:$B$45,0), MATCH(AT42,'SCORE TABLE'!$F$9:$BC$9,0)),\"Not scored\")","v":65.66666666666666},{"$f":"IFERROR(INDEX(Score_alphabetical!$G$3:$BD$38, MATCH(AS$2,Score_alphabetical!$C$3:$C$38,0), MATCH(AT42,Score_alphabetical!$G$2:$BD$2,0)),AS42)","v":39},{"$f":"IF(AU42=\"Not scored\",AV42,(RANK(AU42,AU$4:AU$54,0)+COUNTIF(AU$4:AU42,AU42)-1))","v":15},13,13,"Alabama",{"$f":"IF(AZ42=\"AVERAGE\",\"\", IF(COUNTIF(AZ$4:AZ42, \"AVERAGE\") < 1, (ROUNDUP(INDEX(AX$4:AX$54,MATCH(AZ42,AT$4:AT$54,0)),1)), (ROUNDUP(INDEX(AY$4:AY$54,MATCH(AZ42,AT$4:AT$54,0)),1))))","v":31},38,{"$f":"IF(AZ42=\"AVERAGE\",\"\",IF(BC41=\"\",IF(BA42=BA40,BC40,COUNTIFS(BC$3:BC40,BC40)+BC40),IF(BA42=BA41,BC41,COUNTIFS(BC$4:BC41,BC41)+BC41)))","v":38}]
[40,"South Carolina",{"$f":"IFERROR(INDEX('SCORE TABLE'!$F$10:$BC$45, MATCH(A$2,'SCORE TABLE'!$B$10:$B$45,0), MATCH(B43,'SCORE TABLE'!$F$9:$BC$9,0)),\"Not scored\")","v":40.25420619241699},{"$f":"IFERROR(INDEX(Score_alphabetical!$G$3:$BD$38, MATCH(A$2,Score_alphabetical!$C$3:$C$38,0), MATCH(B43,Score_alphabetical!$G$2:$BD$2,0)),A43)","v":40},{"$f":"IF(C43=\"Not scored\",D43,(RANK(C43,C$4:C$54,0)+COUNTIF(C$4:C43,C43)-1))","v":48},48,47,"Massachusetts",{"$f":"IF(H43=\"AVERAGE\",\"\", IF(COUNTIF(H$4:H43, \"AVERAGE\") < 1, (ROUNDUP(INDEX(F$4:F$54,MATCH(H43,B$4:B$54,0)),1)), (ROUNDUP(INDEX(G$4:G$54,MATCH(H43,B$4:B$54,0)),1))))","v":39},39,{"$f":"IF(H43=\"AVERAGE\",\"\",IF(K42=\"\",IF(I43=I41,K41,COUNTIFS(K$3:K41,K41)+K41),IF(I43=I42,K42,COUNTIFS(K$4:K42,K42)+K42)))","v":39},40,"South Carolina",{"$f":"IFERROR(INDEX('SCORE TABLE'!$F$10:$BC$45, MATCH(L$2,'SCORE TABLE'!$B$10:$B$45,0), MATCH(M43,'SCORE TABLE'!$F$9:$BC$9,0)),\"Not scored\")","v":40.25420619241699},{"$f":"IFERROR(INDEX(Score_alphabetical!$G$3:$BD$38, MATCH(L$2,Score_alphabetical!$C$3:$C$38,0), MATCH(M43,Score_alphabetical!$G$2:$BD$2,0)),L43)","v":40},{"$f":"IF(N43=\"Not scored\",O43,(RANK(N43,N$4:N$54,0)+COUNTIF(N$4:N43,N43)-1))","v":48},48,47,"Massachusetts",{"$f":"IF(S43=\"AVERAGE\",\"\", IF(COUNTIF(S$4:S43, \"AVERAGE\") < 1, (ROUNDUP(INDEX(Q$4:Q$54,MATCH(S43,M$4:M$54,0)),1)), (ROUNDUP(INDEX(R$4:R$54,MATCH(S43,M$4:M$54,0)),1))))","v":39},39,{"$f":"IF(S43=\"AVERAGE\",\"\",IF(V42=\"\",IF(T43=T41,V41,COUNTIFS(V$3:V41,V41)+V41),IF(T43=T42,V42,COUNTIFS(V$4:V42,V42)+V42)))","v":39},40,"South Carolina",{"$f":"IFERROR(INDEX('SCORE TABLE'!$F$10:$BC$45, MATCH(W$2,'SCORE TABLE'!$B$10:$B$45,0), MATCH(X43,'SCORE TABLE'!$F$9:$BC$9,0)),\"Not scored\")","v":23.75},{"$f":"IFERROR(INDEX(Score_alphabetical!$G$3:$BD$38, MATCH(W$2,Score_alphabetical!$C$3:$C$38,0), MATCH(X43,Score_alphabetical!$G$2:$BD$2,0)),W43)","v":40},{"$f":"IF(Y43=\"Not scored\",Z43,(RANK(Y43,Y$4:Y$54,0)+COUNTIF(Y$4:Y43,Y43)-1))","v":49},29.999999999999996,28.999999999999996,"North Carolina",{"$f":"IF(AD43=\"AVERAGE\",\"\", IF(COUNTIF(AD$4:AD43, \"AVERAGE\") < 1, (ROUNDUP(INDEX(AB$4:AB$54,MATCH(AD43,X$4:X$54,0)),1)), (ROUNDUP(INDEX(AC$4:AC$54,MATCH(AD43,X$4:X$54,0)),1))))","v":25},"=37",{"$f":"IF(AD43=\"AVERAGE\",\"\",IF(AG42=\"\",IF(AE43=AE41,AG41,COUNTIFS(AG$3:AG41,AG41)+AG41),IF(AE43=AE42,AG42,COUNTIFS(AG$4:AG42,AG42)+AG42)))","v":37},40,"South Carolina",{"$f":"IFERROR(INDEX('SCORE TABLE'!$F$10:$BC$45, MATCH(AH$2,'SCORE TABLE'!$B$10:$B$45,0), MATCH(AI43,'SCORE TABLE'!$F$9:$BC$9,0)),\"Not scored\")","v":54.76261857725096},{"$f":"IFERROR(INDEX(Score_alphabetical!$G$3:$BD$38, MATCH(AH$2,Score_alphabetical!$C$3:$C$38,0), MATCH(AI43,Score_alphabetical!$G$2:$BD$2,0)),AH43)","v":40},{"$f":"IF(AJ43=\"Not scored\",AK43,(RANK(AJ43,AJ$4:AJ$54,0)+COUNTIF(AJ$4:AJ43,AJ43)-1))","v":29},29,28,"Alabama",{"$f":"IF(AO43=\"AVERAGE\",\"\", IF(COUNTIF(AO$4:AO43, \"AVERAGE\") < 1, (ROUNDUP(INDEX(AM$4:AM$54,MATCH(AO43,AI$4:AI$54,0)),1)), (ROUNDUP(INDEX(AN$4:AN$54,MATCH(AO43,AI$4:AI$54,0)),1))))","v":39},39,{"$f":"IF(AO43=\"AVERAGE\",\"\",IF(AR42=\"\",IF(AP43=AP41,AR41,COUNTIFS(AR$3:AR41,AR41)+AR41),IF(AP43=AP42,AR42,COUNTIFS(AR$4:AR42,AR42)+AR42)))","v":39},40,"South Carolina",{"$f":"IFERROR(INDEX('SCORE TABLE'!$F$10:$BC$45, MATCH(AS$2,'SCORE TABLE'!$B$10:$B$45,0), MATCH(AT43,'SCORE TABLE'!$F$9:$BC$9,0)),\"Not scored\")","v":42.25},{"$f":"IFERROR(INDEX(Score_alphabetical!$G$3:$BD$38, MATCH(AS$2,Score_alphabetical!$C$3:$C$38,0), MATCH(AT43,Score_alphabetical!$G$2:$BD$2,0)),AS43)","v":40},{"$f":"IF(AU43=\"Not scored\",AV43,(RANK(AU43,AU$4:AU$54,0)+COUNTIF(AU$4:AU43,AU43)-1))","v":51},44,43,"West Virginia",{"$f":"IF(AZ43=\"AVERAGE\",\"\", IF(COUNTIF(AZ$4:AZ43, \"AVERAGE\") < 1, (ROUNDUP(INDEX(AX$4:AX$54,MATCH(AZ43,AT$4:AT$54,0)),1)), (ROUNDUP(INDEX(AY$4:AY$54,MATCH(AZ43,AT$4:AT$54,0)),1))))","v":32},39,{"$f":"IF(AZ43=\"AVERAGE\",\"\",IF(BC42=\"\",IF(BA43=BA41,BC41,COUNTIFS(BC$3:BC41,BC41)+BC41),IF(BA43=BA42,BC42,COUNTIFS(BC$4:BC42,BC42)+BC42)))","v":39}]
[41,"South Dakota",{"$f":"IFERROR(INDEX('SCORE TABLE'!$F$10:$BC$45, MATCH(A$2,'SCORE TABLE'!$B$10:$B$45,0), MATCH(B44,'SCORE TABLE'!$F$9:$BC$9,0)),\"Not scored\")","v":47.05051732013929},{"$f":"IFERROR(INDEX(Score_alphabetical!$G$3:$BD$38, MATCH(A$2,Score_alphabetical!$C$3:$C$38,0), MATCH(B44,Score_alphabetical!$G$2:$BD$2,0)),A44)","v":41},{"$f":"IF(C44=\"Not scored\",D44,(RANK(C44,C$4:C$54,0)+COUNTIF(C$4:C44,C44)-1))","v":43},43,42,"New Jersey",{"$f":"IF(H44=\"AVERAGE\",\"\", IF(COUNTIF(H$4:H44, \"AVERAGE\") < 1, (ROUNDUP(INDEX(F$4:F$54,MATCH(H44,B$4:B$54,0)),1)), (ROUNDUP(INDEX(G$4:G$54,MATCH(H44,B$4:B$54,0)),1))))","v":40},40,{"$f":"IF(H44=\"AVERAGE\",\"\",IF(K43=\"\",IF(I44=I42,K42,COUNTIFS(K$3:K42,K42)+K42),IF(I44=I43,K43,COUNTIFS(K$4:K43,K43)+K43)))","v":40},41,"South Dakota",{"$f":"IFERROR(INDEX('SCORE TABLE'!$F$10:$BC$45, MATCH(L$2,'SCORE TABLE'!$B$10:$B$45,0), MATCH(M44,'SCORE TABLE'!$F$9:$BC$9,0)),\"Not scored\")","v":47.05051732013929},{"$f":"IFERROR(INDEX(Score_alphabetical!$G$3:$BD$38, MATCH(L$2,Score_alphabetical!$C$3:$C$38,0), MATCH(M44,Score_alphabetical!$G$2:$BD$2,0)),L44)","v":41},{"$f":"IF(N44=\"Not scored\",O44,(RANK(N44,N$4:N$54,0)+COUNTIF(N$4:N44,N44)-1))","v":43},43,42,"New Jersey",{"$f":"IF(S44=\"AVERAGE\",\"\", IF(COUNTIF(S$4:S44, \"AVERAGE\") < 1, (ROUNDUP(INDEX(Q$4:Q$54,MATCH(S44,M$4:M$54,0)),1)), (ROUNDUP(INDEX(R$4:R$54,MATCH(S44,M$4:M$54,0)),1))))","v":40},40,{"$f":"IF(S44=\"AVERAGE\",\"\",IF(V43=\"\",IF(T44=T42,V42,COUNTIFS(V$3:V42,V42)+V42),IF(T44=T43,V43,COUNTIFS(V$4:V43,V43)+V43)))","v":40},41,"South Dakota",{"$f":"IFERROR(INDEX('SCORE TABLE'!$F$10:$BC$45, MATCH(W$2,'SCORE TABLE'!$B$10:$B$45,0), MATCH(X44,'SCORE TABLE'!$F$9:$BC$9,0)),\"Not scored\")","v":35},{"$f":"IFERROR(INDEX(Score_alphabetical!$G$3:$BD$38, MATCH(W$2,Score_alphabetical!$C$3:$C$38,0), MATCH(X44,Score_alphabetical!$G$2:$BD$2,0)),W44)","v":41},{"$f":"IF(Y44=\"Not scored\",Z44,(RANK(Y44,Y$4:Y$54,0)+COUNTIF(Y$4:Y44,Y44)-1))","v":28},20.999999999999996,19.999999999999996,"Connecticut",{"$f":"IF(AD44=\"AVERAGE\",\"\", IF(COUNTIF(AD$4:AD44, \"AVERAGE\") < 1, (ROUNDUP(INDEX(AB$4:AB$54,MATCH(AD44,X$4:X$54,0)),1)), (ROUNDUP(INDEX(AC$4:AC$54,MATCH(AD44,X$4:X$54,0)),1))))","v":26},"=40",{"$f":"IF(AD44=\"AVERAGE\",\"\",IF(AG43=\"\",IF(AE44=AE42,AG42,COUNTIFS(AG$3:AG42,AG42)+AG42),IF(AE44=AE43,AG43,COUNTIFS(AG$4:AG43,AG43)+AG43)))","v":40},41,"South Dakota",{"$f":"IFERROR(INDEX('SCORE TABLE'!$F$10:$BC$45, MATCH(AH$2,'SCORE TABLE'!$B$10:$B$45,0), MATCH(AI44,'SCORE TABLE'!$F$9:$BC$9,0)),\"Not scored\")","v":46.23488529375122},{"$f":"IFERROR(INDEX(Score_alphabetical!$G$3:$BD$38, MATCH(AH$2,Score_alphabetical!$C$3:$C$38,0), MATCH(AI44,Score_alphabetical!$G$2:$BD$2,0)),AH44)","v":41},{"$f":"IF(AJ44=\"Not scored\",AK44,(RANK(AJ44,AJ$4:AJ$54,0)+COUNTIF(AJ$4:AJ44,AJ44)-1))","v":39},39,38,"Missouri",{"$f":"IF(AO44=\"AVERAGE\",\"\", IF(COUNTIF(AO$4:AO44, \"AVERAGE\") < 1, (ROUNDUP(INDEX(AM$4:AM$54,MATCH(AO44,AI$4:AI$54,0)),1)), (ROUNDUP(INDEX(AN$4:AN$54,MATCH(AO44,AI$4:AI$54,0)),1))))","v":40},40,{"$f":"IF(AO44=\"AVERAGE\",\"\",IF(AR43=\"\",IF(AP44=AP42,AR42,COUNTIFS(AR$3:AR42,AR42)+AR42),IF(AP44=AP43,AR43,COUNTIFS(AR$4:AR43,AR43)+AR43)))","v":40},41,"South Dakota",{"$f":"IFERROR(INDEX('SCORE TABLE'!$F$10:$BC$45, MATCH(AS$2,'SCORE TABLE'!$B$10:$B$45,0), MATCH(AT44,'SCORE TABLE'!$F$9:$BC$9,0)),\"Not scored\")","v":59.916666666666664},{"$f":"IFERROR(INDEX(Score_alphabetical!$G$3:$BD$38, MATCH(AS$2,Score_alphabetical!$C$3:$C$38,0), MATCH(AT44,Score_alphabetical!$G$2:$BD$2,0)),AS44)","v":41},{"$f":"IF(AU44=\"Not scored\",AV44,(RANK(AU44,AU$4:AU$54,0)+COUNTIF(AU$4:AU44,AU44)-1))","v":33},26,25,"Florida",{"$f":"IF(AZ44=\"AVERAGE\",\"\", IF(COUNTIF(AZ$4:AZ44, \"AVERAGE\") < 1, (ROUNDUP(INDEX(AX$4:AX$54,MATCH(AZ44,AT$4:AT$54,0)),1)), (ROUNDUP(INDEX(AY$4:AY$54,MATCH(AZ44,AT$4:AT$54,0)),1))))","v":33},40,{"$f":"IF(AZ44=\"AVERAGE\",\"\",IF(BC43=\"\",IF(BA44=BA42,BC42,COUNTIFS(BC$3:BC42,BC42)+BC42),IF(BA44=BA43,BC43,COUNTIFS(BC$4:BC43,BC43)+BC43)))","v":40}]
[42,"Tennessee",{"$f":"IFERROR(INDEX('SCORE TABLE'!$F$10:$BC$45, MATCH(A$2,'SCORE TABLE'!$B$10:$B$45,0), MATCH(B45,'SCORE TABLE'!$F$9:$BC$9,0)),\"Not scored\")","v":53.939280141907076},{"$f":"IFERROR(INDEX(Score_alphabetical!$G$3:$BD$38, MATCH(A$2,Score_alphabetical!$C$3:$C$38,0), MATCH(B45,Score_alphabetical!$G$2:$BD$2,0)),A45)","v":42},{"$f":"IF(C45=\"Not scored\",D45,(RANK(C45,C$4:C$54,0)+COUNTIF(C$4:C45,C45)-1))","v":30},30,29,"Alaska",{"$f":"IF(H45=\"AVERAGE\",\"\", IF(COUNTIF(H$4:H45, \"AVERAGE\") < 1, (ROUNDUP(INDEX(F$4:F$54,MATCH(H45,B$4:B$54,0)),1)), (ROUNDUP(INDEX(G$4:G$54,MATCH(H45,B$4:B$54,0)),1))))","v":41},41,{"$f":"IF(H45=\"AVERAGE\",\"\",IF(K44=\"\",IF(I45=I43,K43,COUNTIFS(K$3:K43,K43)+K43),IF(I45=I44,K44,COUNTIFS(K$4:K44,K44)+K44)))","v":41},42,"Tennessee",{"$f":"IFERROR(INDEX('SCORE TABLE'!$F$10:$BC$45, MATCH(L$2,'SCORE TABLE'!$B$10:$B$45,0), MATCH(M45,'SCORE TABLE'!$F$9:$BC$9,0)),\"Not scored\")","v":53.939280141907076},{"$f":"IFERROR(INDEX(Score_alphabetical!$G$3:$BD$38, MATCH(L$2,Score_alphabetical!$C$3:$C$38,0), MATCH(M45,Score_alphabetical!$G$2:$BD$2,0)),L45)","v":42},{"$f":"IF(N45=\"Not scored\",O45,(RANK(N45,N$4:N$54,0)+COUNTIF(N$4:N45,N45)-1))","v":30},30,29,"Alaska",{"$f":"IF(S45=\"AVERAGE\",\"\", IF(COUNTIF(S$4:S45, \"AVERAGE\") < 1, (ROUNDUP(INDEX(Q$4:Q$54,MATCH(S45,M$4:M$54,0)),1)), (ROUNDUP(INDEX(R$4:R$54,MATCH(S45,M$4:M$54,0)),1))))","v":41},41,{"$f":"IF(S45=\"AVERAGE\",\"\",IF(V44=\"\",IF(T45=T43,V43,COUNTIFS(V$3:V43,V43)+V43),IF(T45=T44,V44,COUNTIFS(V$4:V44,V44)+V44)))","v":41},42,"Tennessee",{"$f":"IFERROR(INDEX('SCORE TABLE'!$F$10:$BC$45, MATCH(W$2,'SCORE TABLE'!$B$10:$B$45,0), MATCH(X45,'SCORE TABLE'!$F$9:$BC$9,0)),\"Not scored\")","v":35},{"$f":"IFERROR(INDEX(Score_alphabetical!$G$3:$BD$38, MATCH(W$2,Score_alphabetical!$C$3:$C$38,0), MATCH(X45,Score_alphabetical!$G$2:$BD$2,0)),W45)","v":42},{"$f":"IF(Y45=\"Not scored\",Z45,(RANK(Y45,Y$4:Y$54,0)+COUNTIF(Y$4:Y45,Y45)-1))","v":29},20.999999999999996,19.999999999999996,"New Hampshire",{"$f":"IF(AD45=\"AVERAGE\",\"\", IF(COUNTIF(AD$4:AD45, \"AVERAGE\") < 1, (ROUNDUP(INDEX(AB$4:AB$54,MATCH(AD45,X$4:X$54,0)),1)), (ROUNDUP(INDEX(AC$4:AC$54,MATCH(AD45,X$4:X$54,0)),1))))","v":26},"=40",{"$f":"IF(AD45=\"AVERAGE\",\"\",IF(AG44=\"\",IF(AE45=AE43,AG43,COUNTIFS(AG$3:AG43,AG43)+AG43),IF(AE45=AE44,AG44,COUNTIFS(AG$4:AG44,AG44)+AG44)))","v":40},42,"Tennessee",{"$f":"IFERROR(INDEX('SCORE TABLE'!$F$10:$BC$45, MATCH(AH$2,'SCORE TABLE'!$B$10:$B$45,0), MATCH(AI45,'SCORE TABLE'!$F$9:$BC$9,0)),\"Not scored\")","v":68.15117375905457},{"$f":"IFERROR(INDEX(Score_alphabetical!$G$3:$BD$38, MATCH(AH$2,Score_alphabetical!$C$3:$C$38,0), MATCH(AI45,Score_alphabetical!$G$2:$BD$2,0)),AH45)","v":42},{"$f":"IF(AJ45=\"Not scored\",AK45,(RANK(AJ45,AJ$4:AJ$54,0)+COUNTIF(AJ$4:AJ45,AJ45)-1))","v":19},19,19,"Oklahoma",{"$f":"IF(AO45=\"AVERAGE\",\"\", IF(COUNTIF(AO$4:AO45, \"AVERAGE\") < 1, (ROUNDUP(INDEX(AM$4:AM$54,MATCH(AO45,AI$4:AI$54,0)),1)), (ROUNDUP(INDEX(AN$4:AN$54,MATCH(AO45,AI$4:AI$54,0)),1))))","v":41},41,{"$f":"IF(AO45=\"AVERAGE\",\"\",IF(AR44=\"\",IF(AP45=AP43,AR43,COUNTIFS(AR$3:AR43,AR43)+AR43),IF(AP45=AP44,AR44,COUNTIFS(AR$4:AR44,AR44)+AR44)))","v":41},42,"Tennessee",{"$f":"IFERROR(INDEX('SCORE TABLE'!$F$10:$BC$45, MATCH(AS$2,'SCORE TABLE'!$B$10:$B$45,0), MATCH(AT45,'SCORE TABLE'!$F$9:$BC$9,0)),\"Not scored\")","v":58.666666666666664},{"$f":"IFERROR(INDEX(Score_alphabetical!$G$3:$BD$38, MATCH(AS$2,Score_alphabetical!$C$3:$C$38,0), MATCH(AT45,Score_alphabetical!$G$2:$BD$2,0)),AS45)","v":42},{"$f":"IF(AU45=\"Not scored\",AV45,(RANK(AU45,AU$4:AU$54,0)+COUNTIF(AU$4:AU45,AU45)-1))","v":35},28,27,"Michigan",{"$f":"IF(AZ45=\"AVERAGE\",\"\", IF(COUNTIF(AZ$4:AZ45, \"AVERAGE\") < 1, (ROUNDUP(INDEX(AX$4:AX$54,MATCH(AZ45,AT$4:AT$54,0)),1)), (ROUNDUP(INDEX(AY$4:AY$54,MATCH(AZ45,AT$4:AT$54,0)),1))))","v":34},41,{"$f":"IF(AZ45=\"AVERAGE\",\"\",IF(BC44=\"\",IF(BA45=BA43,BC43,COUNTIFS(BC$3:BC43,BC43)+BC43),IF(BA45=BA44,BC44,COUNTIFS(BC$4:BC44,BC44)+BC44)))","v":41}]
[43,"Texas",{"$f":"IFERROR(INDEX('SCORE TABLE'!$F$10:$BC$45, MATCH(A$2,'SCORE TABLE'!$B$10:$B$45,0), MATCH(B46,'SCORE TABLE'!$F$9:$BC$9,0)),\"Not scored\")","v":57.78634885887007},{"$f":"IFERROR(INDEX(Score_alphabetical!$G$3:$BD$38, MATCH(A$2,Score_alphabetical!$C$3:$C$38,0), MATCH(B46,Score_alphabetical!$G$2:$BD$2,0)),A46)","v":43},{"$f":"IF(C46=\"Not scored\",D46,(RANK(C46,C$4:C$54,0)+COUNTIF(C$4:C46,C46)-1))","v":20},20,20,"South Dakota",{"$f":"IF(H46=\"AVERAGE\",\"\", IF(COUNTIF(H$4:H46, \"AVERAGE\") < 1, (ROUNDUP(INDEX(F$4:F$54,MATCH(H46,B$4:B$54,0)),1)), (ROUNDUP(INDEX(G$4:G$54,MATCH(H46,B$4:B$54,0)),1))))","v":42},42,{"$f":"IF(H46=\"AVERAGE\",\"\",IF(K45=\"\",IF(I46=I44,K44,COUNTIFS(K$3:K44,K44)+K44),IF(I46=I45,K45,COUNTIFS(K$4:K45,K45)+K45)))","v":42},43,"Texas",{"$f":"IFERROR(INDEX('SCORE TABLE'!$F$10:$BC$45, MATCH(L$2,'SCORE TABLE'!$B$10:$B$45,0), MATCH(M46,'SCORE TABLE'!$F$9:$BC$9,0)),\"Not scored\")","v":57.78634885887007},{"$f":"IFERROR(INDEX(Score_alphabetical!$G$3:$BD$38, MATCH(L$2,Score_alphabetical!$C$3:$C$38,0), MATCH(M46,Score_alphabetical!$G$2:$BD$2,0)),L46)","v":43},{"$f":"IF(N46=\"Not scored\",O46,(RANK(N46,N$4:N$54,0)+COUNTIF(N$4:N46,N46)-1))","v":20},20,20,"South Dakota",{"$f":"IF(S46=\"AVERAGE\",\"\", IF(COUNTIF(S$4:S46, \"AVERAGE\") < 1, (ROUNDUP(INDEX(Q$4:Q$54,MATCH(S46,M$4:M$54,0)),1)), (ROUNDUP(INDEX(R$4:R$54,MATCH(S46,M$4:M$54,0)),1))))","v":42},42,{"$f":"IF(S46=\"AVERAGE\",\"\",IF(V45=\"\",IF(T46=T44,V44,COUNTIFS(V$3:V44,V44)+V44),IF(T46=T45,V45,COUNTIFS(V$4:V45,V45)+V45)))","v":42},43,"Texas",{"$f":"IFERROR(INDEX('SCORE TABLE'!$F$10:$BC$45, MATCH(W$2,'SCORE TABLE'!$B$10:$B$45,0), MATCH(X46,'SCORE TABLE'!$F$9:$BC$9,0)),\"Not scored\")","v":37.5},{"$f":"IFERROR(INDEX(Score_alphabetical!$G$3:$BD$38, MATCH(W$2,Score_alphabetical!$C$3:$C$38,0), MATCH(X46,Score_alphabetical!$G$2:$BD$2,0)),W46)","v":43},{"$f":"IF(Y46=\"Not scored\",Z46,(RANK(Y46,Y$4:Y$54,0)+COUNTIF(Y$4:Y46,Y46)-1))","v":25},18,17,"New Jersey",{"$f":"IF(AD46=\"AVERAGE\",\"\", IF(COUNTIF(AD$4:AD46, \"AVERAGE\") < 1, (ROUNDUP(INDEX(AB$4:AB$54,MATCH(AD46,X$4:X$54,0)),1)), (ROUNDUP(INDEX(AC$4:AC$54,MATCH(AD46,X$4:X$54,0)),1))))","v":26},"=40",{"$f":"IF(AD46=\"AVERAGE\",\"\",IF(AG45=\"\",IF(AE46=AE44,AG44,COUNTIFS(AG$3:AG44,AG44)+AG44),IF(AE46=AE45,AG45,COUNTIFS(AG$4:AG45,AG45)+AG45)))","v":40},43,"Texas",{"$f":"IFERROR(INDEX('SCORE TABLE'!$F$10:$BC$45, MATCH(AH$2,'SCORE TABLE'!$B$10:$B$45,0), MATCH(AI46,'SCORE TABLE'!$F$9:$BC$9,0)),\"Not scored\")","v":82.0257132432769},{"$f":"IFERROR(INDEX(Score_alphabetical!$G$3:$BD$38, MATCH(AH$2,Score_alphabetical!$C$3:$C$38,0), MATCH(AI46,Score_alphabetical!$G$2:$BD$2,0)),AH46)","v":43},{"$f":"IF(AJ46=\"Not scored\",AK46,(RANK(AJ46,AJ$4:AJ$54,0)+COUNTIF(AJ$4:AJ46,AJ46)-1))","v":6},6,6,"Delaware",{"$f":"IF(AO46=\"AVERAGE\",\"\", IF(COUNTIF(AO$4:AO46, \"AVERAGE\") < 1, (ROUNDUP(INDEX(AM$4:AM$54,MATCH(AO46,AI$4:AI$54,0)),1)), (ROUNDUP(INDEX(AN$4:AN$54,MATCH(AO46,AI$4:AI$54,0)),1))))","v":42},42,{"$f":"IF(AO46=\"AVERAGE\",\"\",IF(AR45=\"\",IF(AP46=AP44,AR44,COUNTIFS(AR$3:AR44,AR44)+AR44),IF(AP46=AP45,AR45,COUNTIFS(AR$4:AR45,AR45)+AR45)))","v":42},43,"Texas",{"$f":"IFERROR(INDEX('SCORE TABLE'!$F$10:$BC$45, MATCH(AS$2,'SCORE TABLE'!$B$10:$B$45,0), MATCH(AT46,'SCORE TABLE'!$F$9:$BC$9,0)),\"Not scored\")","v":53.83333333333333},{"$f":"IFERROR(INDEX(Score_alphabetical!$G$3:$BD$38, MATCH(AS$2,Score_alphabetical!$C$3:$C$38,0), MATCH(AT46,Score_alphabetical!$G$2:$BD$2,0)),AS46)","v":43},{"$f":"IF(AU46=\"Not scored\",AV46,(RANK(AU46,AU$4:AU$54,0)+COUNTIF(AU$4:AU46,AU46)-1))","v":43},36,35,"Texas",{"$f":"IF(AZ46=\"AVERAGE\",\"\", IF(COUNTIF(AZ$4:AZ46, \"AVERAGE\") < 1, (ROUNDUP(INDEX(AX$4:AX$54,MATCH(AZ46,AT$4:AT$54,0)),1)), (ROUNDUP(INDEX(AY$4:AY$54,MATCH(AZ46,AT$4:AT$54,0)),1))))","v":35},42,{"$f":"IF(AZ46=\"AVERAGE\",\"\",IF(BC45=\"\",IF(BA46=BA44,BC44,COUNTIFS(BC$3:BC44,BC44)+BC44),IF(BA46=BA45,BC45,COUNTIFS(BC$4:BC45,BC45)+BC45)))","v":42}]
[44,"Utah",{"$f":"IFERROR(INDEX('SCORE TABLE'!$F$10:$BC$45, MATCH(A$2,'SCORE TABLE'!$B$10:$B$45,0), MATCH(B47,'SCORE TABLE'!$F$9:$BC$9,0)),\"Not scored\")","v":50.539456042619584},{"$f":"IFERROR(INDEX(Score_alphabetical!$G$3:$BD$38, MATCH(A$2,Score_alphabetical!$C$3:$C$38,0), MATCH(B47,Score_alphabetical!$G$2:$BD$2,0)),A47)","v":44},{"$f":"IF(C47=\"Not scored\",D47,(RANK(C47,C$4:C$54,0)+COUNTIF(C$4:C47,C47)-1))","v":35},35,34,"North Dakota",{"$f":"IF(H47=\"AVERAGE\",\"\", IF(COUNTIF(H$4:H47, \"AVERAGE\") < 1, (ROUNDUP(INDEX(F$4:F$54,MATCH(H47,B$4:B$54,0)),1)), (ROUNDUP(INDEX(G$4:G$54,MATCH(H47,B$4:B$54,0)),1))))","v":43},43,{"$f":"IF(H47=\"AVERAGE\",\"\",IF(K46=\"\",IF(I47=I45,K45,COUNTIFS(K$3:K45,K45)+K45),IF(I47=I46,K46,COUNTIFS(K$4:K46,K46)+K46)))","v":43},44,"Utah",{"$f":"IFERROR(INDEX('SCORE TABLE'!$F$10:$BC$45, MATCH(L$2,'SCORE TABLE'!$B$10:$B$45,0), MATCH(M47,'SCORE TABLE'!$F$9:$BC$9,0)),\"Not scored\")","v":50.539456042619584},{"$f":"IFERROR(INDEX(Score_alphabetical!$G$3:$BD$38, MATCH(L$2,Score_alphabetical!$C$3:$C$38,0), MATCH(M47,Score_alphabetical!$G$2:$BD$2,0)),L47)","v":44},{"$f":"IF(N47=\"Not scored\",O47,(RANK(N47,N$4:N$54,0)+COUNTIF(N$4:N47,N47)-1))","v":35},35,34,"North Dakota",{"$f":"IF(S47=\"AVERAGE\",\"\", IF(COUNTIF(S$4:S47, \"AVERAGE\") < 1, (ROUNDUP(INDEX(Q$4:Q$54,MATCH(S47,M$4:M$54,0)),1)), (ROUNDUP(INDEX(R$4:R$54,MATCH(S47,M$4:M$54,0)),1))))","v":43},43,{"$f":"IF(S47=\"AVERAGE\",\"\",IF(V46=\"\",IF(T47=T45,V45,COUNTIFS(V$3:V45,V45)+V45),IF(T47=T46,V46,COUNTIFS(V$4:V46,V46)+V46)))","v":43},44,"Utah",{"$f":"IFERROR(INDEX('SCORE TABLE'!$F$10:$BC$45, MATCH(W$2,'SCORE TABLE'!$B$10:$B$45,0), MATCH(X47,'SCORE TABLE'!$F$9:$BC$9,0)),\"Not scored\")","v":35},{"$f":"IFERROR(INDEX(Score_alphabetical!$G$3:$BD$38, MATCH(W$2,Score_alphabetical!$C$3:$C$38,0), MATCH(X47,Score_alphabetical!$G$2:$BD$2,0)),W47)","v":44},{"$f":"IF(Y47=\"Not scored\",Z47,(RANK(Y47,Y$4:Y$54,0)+COUNTIF(Y$4:Y47,Y47)-1))","v":30},20.999999999999996,19.999999999999996,"Vermont",{"$f":"IF(AD47=\"AVERAGE\",\"\", IF(COUNTIF(AD$4:AD47, \"AVERAGE\") < 1, (ROUNDUP(INDEX(AB$4:AB$54,MATCH(AD47,X$4:X$54,0)),1)), (ROUNDUP(INDEX(AC$4:AC$54,MATCH(AD47,X$4:X$54,0)),1))))","v":26},"=40",{"$f":"IF(AD47=\"AVERAGE\",\"\",IF(AG46=\"\",IF(AE47=AE45,AG45,COUNTIFS(AG$3:AG45,AG45)+AG45),IF(AE47=AE46,AG46,COUNTIFS(AG$4:AG46,AG46)+AG46)))","v":40},44,"Utah",{"$f":"IFERROR(INDEX('SCORE TABLE'!$F$10:$BC$45, MATCH(AH$2,'SCORE TABLE'!$B$10:$B$45,0), MATCH(AI47,'SCORE TABLE'!$F$9:$BC$9,0)),\"Not scored\")","v":45.36836812785875},{"$f":"IFERROR(INDEX(Score_alphabetical!$G$3:$BD$38, MATCH(AH$2,Score_alphabetical!$C$3:$C$38,0), MATCH(AI47,Score_alphabetical!$G$2:$BD$2,0)),AH47)","v":44},{"$f":"IF(AJ47=\"Not scored\",AK47,(RANK(AJ47,AJ$4:AJ$54,0)+COUNTIF(AJ$4:AJ47,AJ47)-1))","v":44},44,43,"Utah",{"$f":"IF(AO47=\"AVERAGE\",\"\", IF(COUNTIF(AO$4:AO47, \"AVERAGE\") < 1, (ROUNDUP(INDEX(AM$4:AM$54,MATCH(AO47,AI$4:AI$54,0)),1)), (ROUNDUP(INDEX(AN$4:AN$54,MATCH(AO47,AI$4:AI$54,0)),1))))","v":43},43,{"$f":"IF(AO47=\"AVERAGE\",\"\",IF(AR46=\"\",IF(AP47=AP45,AR45,COUNTIFS(AR$3:AR45,AR45)+AR45),IF(AP47=AP46,AR46,COUNTIFS(AR$4:AR46,AR46)+AR46)))","v":43},44,"Utah",{"$f":"IFERROR(INDEX('SCORE TABLE'!$F$10:$BC$45, MATCH(AS$2,'SCORE TABLE'!$B$10:$B$45,0), MATCH(AT47,'SCORE TABLE'!$F$9:$BC$9,0)),\"Not scored\")","v":71.25},{"$f":"IFERROR(INDEX(Score_alphabetical!$G$3:$BD$38, MATCH(AS$2,Score_alphabetical!$C$3:$C$38,0), MATCH(AT47,Score_alphabetical!$G$2:$BD$2,0)),AS47)","v":44},{"$f":"IF(AU47=\"Not scored\",AV47,(RANK(AU47,AU$4:AU$54,0)+COUNTIF(AU$4:AU47,AU47)-1))","v":8},7,7,"Iowa",{"$f":"IF(AZ47=\"AVERAGE\",\"\", IF(COUNTIF(AZ$4:AZ47, \"AVERAGE\") < 1, (ROUNDUP(INDEX(AX$4:AX$54,MATCH(AZ47,AT$4:AT$54,0)),1)), (ROUNDUP(INDEX(AY$4:AY$54,MATCH(AZ47,AT$4:AT$54,0)),1))))","v":36},43,{"$f":"IF(AZ47=\"AVERAGE\",\"\",IF(BC46=\"\",IF(BA47=BA45,BC45,COUNTIFS(BC$3:BC45,BC45)+BC45),IF(BA47=BA46,BC46,COUNTIFS(BC$4:BC46,BC46)+BC46)))","v":43}]
[45,"Vermont",{"$f":"IFERROR(INDEX('SCORE TABLE'!$F$10:$BC$45, MATCH(A$2,'SCORE TABLE'!$B$10:$B$45,0), MATCH(B48,'SCORE TABLE'!$F$9:$BC$9,0)),\"Not scored\")","v":54.36437995740414},{"$f":"IFERROR(INDEX(Score_alphabetical!$G$3:$BD$38, MATCH(A$2,Score_alphabetical!$C$3:$C$38,0), MATCH(B48,Score_alphabetical!$G$2:$BD$2,0)),A48)","v":45},{"$f":"IF(C48=\"Not scored\",D48,(RANK(C48,C$4:C$54,0)+COUNTIF(C$4:C48,C48)-1))","v":25},25,25,"Montana",{"$f":"IF(H48=\"AVERAGE\",\"\", IF(COUNTIF(H$4:H48, \"AVERAGE\") < 1, (ROUNDUP(INDEX(F$4:F$54,MATCH(H48,B$4:B$54,0)),1)), (ROUNDUP(INDEX(G$4:G$54,MATCH(H48,B$4:B$54,0)),1))))","v":44},44,{"$f":"IF(H48=\"AVERAGE\",\"\",IF(K47=\"\",IF(I48=I46,K46,COUNTIFS(K$3:K46,K46)+K46),IF(I48=I47,K47,COUNTIFS(K$4:K47,K47)+K47)))","v":44},45,"Vermont",{"$f":"IFERROR(INDEX('SCORE TABLE'!$F$10:$BC$45, MATCH(L$2,'SCORE TABLE'!$B$10:$B$45,0), MATCH(M48,'SCORE TABLE'!$F$9:$BC$9,0)),\"Not scored\")","v":54.36437995740414},{"$f":"IFERROR(INDEX(Score_alphabetical!$G$3:$BD$38, MATCH(L$2,Score_alphabetical!$C$3:$C$38,0), MATCH(M48,Score_alphabetical!$G$2:$BD$2,0)),L48)","v":45},{"$f":"IF(N48=\"Not scored\",O48,(RANK(N48,N$4:N$54,0)+COUNTIF(N$4:N48,N48)-1))","v":25},25,25,"Montana",{"$f":"IF(S48=\"AVERAGE\",\"\", IF(COUNTIF(S$4:S48, \"AVERAGE\") < 1, (ROUNDUP(INDEX(Q$4:Q$54,MATCH(S48,M$4:M$54,0)),1)), (ROUNDUP(INDEX(R$4:R$54,MATCH(S48,M$4:M$54,0)),1))))","v":44},44,{"$f":"IF(S48=\"AVERAGE\",\"\",IF(V47=\"\",IF(T48=T46,V46,COUNTIFS(V$3:V46,V46)+V46),IF(T48=T47,V47,COUNTIFS(V$4:V47,V47)+V47)))","v":44},45,"Vermont",{"$f":"IFERROR(INDEX('SCORE TABLE'!$F$10:$BC$45, MATCH(W$2,'SCORE TABLE'!$B$10:$B$45,0), MATCH(X48,'SCORE TABLE'!$F$9:$BC$9,0)),\"Not scored\")","v":28.75},{"$f":"IFERROR(INDEX(Score_alphabetical!$G$3:$BD$38, MATCH(W$2,Score_alphabetical!$C$3:$C$38,0), MATCH(X48,Score_alphabetical!$G$2:$BD$2,0)),W48)","v":45},{"$f":"IF(Y48=\"Not scored\",Z48,(RANK(Y48,Y$4:Y$54,0)+COUNTIF(Y$4:Y48,Y48)-1))","v":44},26.999999999999996,25.999999999999996,"Alabama",{"$f":"IF(AD48=\"AVERAGE\",\"\", IF(COUNTIF(AD$4:AD48, \"AVERAGE\") < 1, (ROUNDUP(INDEX(AB$4:AB$54,MATCH(AD48,X$4:X$54,0)),1)), (ROUNDUP(INDEX(AC$4:AC$54,MATCH(AD48,X$4:X$54,0)),1))))","v":27},44,{"$f":"IF(AD48=\"AVERAGE\",\"\",IF(AG47=\"\",IF(AE48=AE46,AG46,COUNTIFS(AG$3:AG46,AG46)+AG46),IF(AE48=AE47,AG47,COUNTIFS(AG$4:AG47,AG47)+AG47)))","v":44},45,"Vermont",{"$f":"IFERROR(INDEX('SCORE TABLE'!$F$10:$BC$45, MATCH(AH$2,'SCORE TABLE'!$B$10:$B$45,0), MATCH(AI48,'SCORE TABLE'!$F$9:$BC$9,0)),\"Not scored\")","v":75.17647320554576},{"$f":"IFERROR(INDEX(Score_alphabetical!$G$3:$BD$38, MATCH(AH$2,Score_alphabetical!$C$3:$C$38,0), MATCH(AI48,Score_alphabetical!$G$2:$BD$2,0)),AH48)","v":45},{"$f":"IF(AJ48=\"Not scored\",AK48,(RANK(AJ48,AJ$4:AJ$54,0)+COUNTIF(AJ$4:AJ48,AJ48)-1))","v":16},16,16,"Idaho",{"$f":"IF(AO48=\"AVERAGE\",\"\", IF(COUNTIF(AO$4:AO48, \"AVERAGE\") < 1, (ROUNDUP(INDEX(AM$4:AM$54,MATCH(AO48,AI$4:AI$54,0)),1)), (ROUNDUP(INDEX(AN$4:AN$54,MATCH(AO48,AI$4:AI$54,0)),1))))","v":44},44,{"$f":"IF(AO48=\"AVERAGE\",\"\",IF(AR47=\"\",IF(AP48=AP46,AR46,COUNTIFS(AR$3:AR46,AR46)+AR46),IF(AP48=AP47,AR47,COUNTIFS(AR$4:AR47,AR47)+AR47)))","v":44},45,"Vermont",{"$f":"IFERROR(INDEX('SCORE TABLE'!$F$10:$BC$45, MATCH(AS$2,'SCORE TABLE'!$B$10:$B$45,0), MATCH(AT48,'SCORE TABLE'!$F$9:$BC$9,0)),\"Not scored\")","v":59.166666666666664},{"$f":"IFERROR(INDEX(Score_alphabetical!$G$3:$BD$38, MATCH(AS$2,Score_alphabetical!$C$3:$C$38,0), MATCH(AT48,Score_alphabetical!$G$2:$BD$2,0)),AS48)","v":45},{"$f":"IF(AU48=\"Not scored\",AV48,(RANK(AU48,AU$4:AU$54,0)+COUNTIF(AU$4:AU48,AU48)-1))","v":34},27,26,"Idaho",{"$f":"IF(AZ48=\"AVERAGE\",\"\", IF(COUNTIF(AZ$4:AZ48, \"AVERAGE\") < 1, (ROUNDUP(INDEX(AX$4:AX$54,MATCH(AZ48,AT$4:AT$54,0)),1)), (ROUNDUP(INDEX(AY$4:AY$54,MATCH(AZ48,AT$4:AT$54,0)),1))))","v":37},44,{"$f":"IF(AZ48=\"AVERAGE\",\"\",IF(BC47=\"\",IF(BA48=BA46,BC46,COUNTIFS(BC$3:BC46,BC46)+BC46),IF(BA48=BA47,BC47,COUNTIFS(BC$4:BC47,BC47)+BC47)))","v":44}]
[46,"Virginia",{"$f":"IFERROR(INDEX('SCORE TABLE'!$F$10:$BC$45, MATCH(A$2,'SCORE TABLE'!$B$10:$B$45,0), MATCH(B49,'SCORE TABLE'!$F$9:$BC$9,0)),\"Not scored\")","v":63.157612081086356},{"$f":"IFERROR(INDEX(Score_alphabetical!$G$3:$BD$38, MATCH(A$2,Score_alphabetical!$C$3:$C$38,0), MATCH(B49,Score_alphabetical!$G$2:$BD$2,0)),A49)","v":46},{"$f":"IF(C49=\"Not scored\",D49,(RANK(C49,C$4:C$54,0)+COUNTIF(C$4:C49,C49)-1))","v":7},7,7,"Alabama",{"$f":"IF(H49=\"AVERAGE\",\"\", IF(COUNTIF(H$4:H49, \"AVERAGE\") < 1, (ROUNDUP(INDEX(F$4:F$54,MATCH(H49,B$4:B$54,0)),1)), (ROUNDUP(INDEX(G$4:G$54,MATCH(H49,B$4:B$54,0)),1))))","v":45},45,{"$f":"IF(H49=\"AVERAGE\",\"\",IF(K48=\"\",IF(I49=I47,K47,COUNTIFS(K$3:K47,K47)+K47),IF(I49=I48,K48,COUNTIFS(K$4:K48,K48)+K48)))","v":45},46,"Virginia",{"$f":"IFERROR(INDEX('SCORE TABLE'!$F$10:$BC$45, MATCH(L$2,'SCORE TABLE'!$B$10:$B$45,0), MATCH(M49,'SCORE TABLE'!$F$9:$BC$9,0)),\"Not scored\")","v":63.157612081086356},{"$f":"IFERROR(INDEX(Score_alphabetical!$G$3:$BD$38, MATCH(L$2,Score_alphabetical!$C$3:$C$38,0), MATCH(M49,Score_alphabetical!$G$2:$BD$2,0)),L49)","v":46},{"$f":"IF(N49=\"Not scored\",O49,(RANK(N49,N$4:N$54,0)+COUNTIF(N$4:N49,N49)-1))","v":7},7,7,"Alabama",{"$f":"IF(S49=\"AVERAGE\",\"\", IF(COUNTIF(S$4:S49, \"AVERAGE\") < 1, (ROUNDUP(INDEX(Q$4:Q$54,MATCH(S49,M$4:M$54,0)),1)), (ROUNDUP(INDEX(R$4:R$54,MATCH(S49,M$4:M$54,0)),1))))","v":45},45,{"$f":"IF(S49=\"AVERAGE\",\"\",IF(V48=\"\",IF(T49=T47,V47,COUNTIFS(V$3:V47,V47)+V47),IF(T49=T48,V48,COUNTIFS(V$4:V48,V48)+V48)))","v":45},46,"Virginia",{"$f":"IFERROR(INDEX('SCORE TABLE'!$F$10:$BC$45, MATCH(W$2,'SCORE TABLE'!$B$10:$B$45,0), MATCH(X49,'SCORE TABLE'!$F$9:$BC$9,0)),\"Not scored\")","v":35},{"$f":"IFERROR(INDEX(Score_alphabetical!$G$3:$BD$38, MATCH(W$2,Score_alphabetical!$C$3:$C$38,0), MATCH(X49,Score_alphabetical!$G$2:$BD$2,0)),W49)","v":46},{"$f":"IF(Y49=\"Not scored\",Z49,(RANK(Y49,Y$4:Y$54,0)+COUNTIF(Y$4:Y49,Y49)-1))","v":31},20.999999999999996,19.999999999999996,"Kansas",{"$f":"IF(AD49=\"AVERAGE\",\"\", IF(COUNTIF(AD$4:AD49, \"AVERAGE\") < 1, (ROUNDUP(INDEX(AB$4:AB$54,MATCH(AD49,X$4:X$54,0)),1)), (ROUNDUP(INDEX(AC$4:AC$54,MATCH(AD49,X$4:X$54,0)),1))))","v":28},"=45",{"$f":"IF(AD49=\"AVERAGE\",\"\",IF(AG48=\"\",IF(AE49=AE47,AG47,COUNTIFS(AG$3:AG47,AG47)+AG47),IF(AE49=AE48,AG48,COUNTIFS(AG$4:AG48,AG48)+AG48)))","v":45},46,"Virginia",{"$f":"IFERROR(INDEX('SCORE TABLE'!$F$10:$BC$45, MATCH(AH$2,'SCORE TABLE'!$B$10:$B$45,0), MATCH(AI49,'SCORE TABLE'!$F$9:$BC$9,0)),\"Not scored\")","v":66.80616957659244},{"$f":"IFERROR(INDEX(Score_alphabetical!$G$3:$BD$38, MATCH(AH$2,Score_alphabetical!$C$3:$C$38,0), MATCH(AI49,Score_alphabetical!$G$2:$BD$2,0)),AH49)","v":46},{"$f":"IF(AJ49=\"Not scored\",AK49,(RANK(AJ49,AJ$4:AJ$54,0)+COUNTIF(AJ$4:AJ49,AJ49)-1))","v":22},22,22,"Nebraska",{"$f":"IF(AO49=\"AVERAGE\",\"\", IF(COUNTIF(AO$4:AO49, \"AVERAGE\") < 1, (ROUNDUP(INDEX(AM$4:AM$54,MATCH(AO49,AI$4:AI$54,0)),1)), (ROUNDUP(INDEX(AN$4:AN$54,MATCH(AO49,AI$4:AI$54,0)),1))))","v":45},45,{"$f":"IF(AO49=\"AVERAGE\",\"\",IF(AR48=\"\",IF(AP49=AP47,AR47,COUNTIFS(AR$3:AR47,AR47)+AR47),IF(AP49=AP48,AR48,COUNTIFS(AR$4:AR48,AR48)+AR48)))","v":45},46,"Virginia",{"$f":"IFERROR(INDEX('SCORE TABLE'!$F$10:$BC$45, MATCH(AS$2,'SCORE TABLE'!$B$10:$B$45,0), MATCH(AT49,'SCORE TABLE'!$F$9:$BC$9,0)),\"Not scored\")","v":87.66666666666666},{"$f":"IFERROR(INDEX(Score_alphabetical!$G$3:$BD$38, MATCH(AS$2,Score_alphabetical!$C$3:$C$38,0), MATCH(AT49,Score_alphabetical!$G$2:$BD$2,0)),AS49)","v":46},{"$f":"IF(AU49=\"Not scored\",AV49,(RANK(AU49,AU$4:AU$54,0)+COUNTIF(AU$4:AU49,AU49)-1))","v":1},1,1,"Georgia",{"$f":"IF(AZ49=\"AVERAGE\",\"\", IF(COUNTIF(AZ$4:AZ49, \"AVERAGE\") < 1, (ROUNDUP(INDEX(AX$4:AX$54,MATCH(AZ49,AT$4:AT$54,0)),1)), (ROUNDUP(INDEX(AY$4:AY$54,MATCH(AZ49,AT$4:AT$54,0)),1))))","v":38},45,{"$f":"IF(AZ49=\"AVERAGE\",\"\",IF(BC48=\"\",IF(BA49=BA47,BC47,COUNTIFS(BC$3:BC47,BC47)+BC47),IF(BA49=BA48,BC48,COUNTIFS(BC$4:BC48,BC48)+BC48)))","v":45}]
[47,"Washington",{"$f":"IFERROR(INDEX('SCORE TABLE'!$F$10:$BC$45, MATCH(A$2,'SCORE TABLE'!$B$10:$B$45,0), MATCH(B50,'SCORE TABLE'!$F$9:$BC$9,0)),\"Not scored\")","v":59.992685140690895},{"$f":"IFERROR(INDEX(Score_alphabetical!$G$3:$BD$38, MATCH(A$2,Score_alphabetical!$C$3:$C$38,0), MATCH(B50,Score_alphabetical!$G$2:$BD$2,0)),A50)","v":47},{"$f":"IF(C50=\"Not scored\",D50,(RANK(C50,C$4:C$54,0)+COUNTIF(C$4:C50,C50)-1))","v":14},14,14,"New Hampshire",{"$f":"IF(H50=\"AVERAGE\",\"\", IF(COUNTIF(H$4:H50, \"AVERAGE\") < 1, (ROUNDUP(INDEX(F$4:F$54,MATCH(H50,B$4:B$54,0)),1)), (ROUNDUP(INDEX(G$4:G$54,MATCH(H50,B$4:B$54,0)),1))))","v":46},46,{"$f":"IF(H50=\"AVERAGE\",\"\",IF(K49=\"\",IF(I50=I48,K48,COUNTIFS(K$3:K48,K48)+K48),IF(I50=I49,K49,COUNTIFS(K$4:K49,K49)+K49)))","v":46},47,"Washington",{"$f":"IFERROR(INDEX('SCORE TABLE'!$F$10:$BC$45, MATCH(L$2,'SCORE TABLE'!$B$10:$B$45,0), MATCH(M50,'SCORE TABLE'!$F$9:$BC$9,0)),\"Not scored\")","v":59.992685140690895},{"$f":"IFERROR(INDEX(Score_alphabetical!$G$3:$BD$38, MATCH(L$2,Score_alphabetical!$C$3:$C$38,0), MATCH(M50,Score_alphabetical!$G$2:$BD$2,0)),L50)","v":47},{"$f":"IF(N50=\"Not scored\",O50,(RANK(N50,N$4:N$54,0)+COUNTIF(N$4:N50,N50)-1))","v":14},14,14,"New Hampshire",{"$f":"IF(S50=\"AVERAGE\",\"\", IF(COUNTIF(S$4:S50, \"AVERAGE\") < 1, (ROUNDUP(INDEX(Q$4:Q$54,MATCH(S50,M$4:M$54,0)),1)), (ROUNDUP(INDEX(R$4:R$54,MATCH(S50,M$4:M$54,0)),1))))","v":46},46,{"$f":"IF(S50=\"AVERAGE\",\"\",IF(V49=\"\",IF(T50=T48,V48,COUNTIFS(V$3:V48,V48)+V48),IF(T50=T49,V49,COUNTIFS(V$4:V49,V49)+V49)))","v":46},47,"Washington",{"$f":"IFERROR(INDEX('SCORE TABLE'!$F$10:$BC$45, MATCH(W$2,'SCORE TABLE'!$B$10:$B$45,0), MATCH(X50,'SCORE TABLE'!$F$9:$BC$9,0)),\"Not scored\")","v":35},{"$f":"IFERROR(INDEX(Score_alphabetical!$G$3:$BD$38, MATCH(W$2,Score_alphabetical!$C$3:$C$38,0), MATCH(X50,Score_alphabetical!$G$2:$BD$2,0)),W50)","v":47},{"$f":"IF(Y50=\"Not scored\",Z50,(RANK(Y50,Y$4:Y$54,0)+COUNTIF(Y$4:Y50,Y50)-1))","v":32},20.999999999999996,19.999999999999996,"North Dakota",{"$f":"IF(AD50=\"AVERAGE\",\"\", IF(COUNTIF(AD$4:AD50, \"AVERAGE\") < 1, (ROUNDUP(INDEX(AB$4:AB$54,MATCH(AD50,X$4:X$54,0)),1)), (ROUNDUP(INDEX(AC$4:AC$54,MATCH(AD50,X$4:X$54,0)),1))))","v":28},"=45",{"$f":"IF(AD50=\"AVERAGE\",\"\",IF(AG49=\"\",IF(AE50=AE48,AG48,COUNTIFS(AG$3:AG48,AG48)+AG48),IF(AE50=AE49,AG49,COUNTIFS(AG$4:AG49,AG49)+AG49)))","v":45},47,"Washington",{"$f":"IFERROR(INDEX('SCORE TABLE'!$F$10:$BC$45, MATCH(AH$2,'SCORE TABLE'!$B$10:$B$45,0), MATCH(AI50,'SCORE TABLE'!$F$9:$BC$9,0)),\"Not scored\")","v":73.47805542207271},{"$f":"IFERROR(INDEX(Score_alphabetical!$G$3:$BD$38, MATCH(AH$2,Score_alphabetical!$C$3:$C$38,0), MATCH(AI50,Score_alphabetical!$G$2:$BD$2,0)),AH50)","v":47},{"$f":"IF(AJ50=\"Not scored\",AK50,(RANK(AJ50,AJ$4:AJ$54,0)+COUNTIF(AJ$4:AJ50,AJ50)-1))","v":17},17,17,"Kansas",{"$f":"IF(AO50=\"AVERAGE\",\"\", IF(COUNTIF(AO$4:AO50, \"AVERAGE\") < 1, (ROUNDUP(INDEX(AM$4:AM$54,MATCH(AO50,AI$4:AI$54,0)),1)), (ROUNDUP(INDEX(AN$4:AN$54,MATCH(AO50,AI$4:AI$54,0)),1))))","v":46},46,{"$f":"IF(AO50=\"AVERAGE\",\"\",IF(AR49=\"\",IF(AP50=AP48,AR48,COUNTIFS(AR$3:AR48,AR48)+AR48),IF(AP50=AP49,AR49,COUNTIFS(AR$4:AR49,AR49)+AR49)))","v":46},47,"Washington",{"$f":"IFERROR(INDEX('SCORE TABLE'!$F$10:$BC$45, MATCH(AS$2,'SCORE TABLE'!$B$10:$B$45,0), MATCH(AT50,'SCORE TABLE'!$F$9:$BC$9,0)),\"Not scored\")","v":71.5},{"$f":"IFERROR(INDEX(Score_alphabetical!$G$3:$BD$38, MATCH(AS$2,Score_alphabetical!$C$3:$C$38,0), MATCH(AT50,Score_alphabetical!$G$2:$BD$2,0)),AS50)","v":47},{"$f":"IF(AU50=\"Not scored\",AV50,(RANK(AU50,AU$4:AU$54,0)+COUNTIF(AU$4:AU50,AU50)-1))","v":7},6,6,"Arizona",{"$f":"IF(AZ50=\"AVERAGE\",\"\", IF(COUNTIF(AZ$4:AZ50, \"AVERAGE\") < 1, (ROUNDUP(INDEX(AX$4:AX$54,MATCH(AZ50,AT$4:AT$54,0)),1)), (ROUNDUP(INDEX(AY$4:AY$54,MATCH(AZ50,AT$4:AT$54,0)),1))))","v":39},46,{"$f":"IF(AZ50=\"AVERAGE\",\"\",IF(BC49=\"\",IF(BA50=BA48,BC48,COUNTIFS(BC$3:BC48,BC48)+BC48),IF(BA50=BA49,BC49,COUNTIFS(BC$4:BC49,BC49)+BC49)))","v":46}]
[48,"West Virginia",{"$f":"IFERROR(INDEX('SCORE TABLE'!$F$10:$BC$45, MATCH(A$2,'SCORE TABLE'!$B$10:$B$45,0), MATCH(B51,'SCORE TABLE'!$F$9:$BC$9,0)),\"Not scored\")","v":54.08648352821827},{"$f":"IFERROR(INDEX(Score_alphabetical!$G$3:$BD$38, MATCH(A$2,Score_alphabetical!$C$3:$C$38,0), MATCH(B51,Score_alphabetical!$G$2:$BD$2,0)),A51)","v":48},{"$f":"IF(C51=\"Not scored\",D51,(RANK(C51,C$4:C$54,0)+COUNTIF(C$4:C51,C51)-1))","v":29},29,28,"South Carolina",{"$f":"IF(H51=\"AVERAGE\",\"\", IF(COUNTIF(H$4:H51, \"AVERAGE\") < 1, (ROUNDUP(INDEX(F$4:F$54,MATCH(H51,B$4:B$54,0)),1)), (ROUNDUP(INDEX(G$4:G$54,MATCH(H51,B$4:B$54,0)),1))))","v":47},47,{"$f":"IF(H51=\"AVERAGE\",\"\",IF(K50=\"\",IF(I51=I49,K49,COUNTIFS(K$3:K49,K49)+K49),IF(I51=I50,K50,COUNTIFS(K$4:K50,K50)+K50)))","v":47},48,"West Virginia",{"$f":"IFERROR(INDEX('SCORE TABLE'!$F$10:$BC$45, MATCH(L$2,'SCORE TABLE'!$B$10:$B$45,0), MATCH(M51,'SCORE TABLE'!$F$9:$BC$9,0)),\"Not scored\")","v":54.08648352821827},{"$f":"IFERROR(INDEX(Score_alphabetical!$G$3:$BD$38, MATCH(L$2,Score_alphabetical!$C$3:$C$38,0), MATCH(M51,Score_alphabetical!$G$2:$BD$2,0)),L51)","v":48},{"$f":"IF(N51=\"Not scored\",O51,(RANK(N51,N$4:N$54,0)+COUNTIF(N$4:N51,N51)-1))","v":29},29,28,"South Carolina",{"$f":"IF(S51=\"AVERAGE\",\"\", IF(COUNTIF(S$4:S51, \"AVERAGE\") < 1, (ROUNDUP(INDEX(Q$4:Q$54,MATCH(S51,M$4:M$54,0)),1)), (ROUNDUP(INDEX(R$4:R$54,MATCH(S51,M$4:M$54,0)),1))))","v":47},47,{"$f":"IF(S51=\"AVERAGE\",\"\",IF(V50=\"\",IF(T51=T49,V49,COUNTIFS(V$3:V49,V49)+V49),IF(T51=T50,V50,COUNTIFS(V$4:V50,V50)+V50)))","v":47},48,"West Virginia",{"$f":"IFERROR(INDEX('SCORE TABLE'!$F$10:$BC$45, MATCH(W$2,'SCORE TABLE'!$B$10:$B$45,0), MATCH(X51,'SCORE TABLE'!$F$9:$BC$9,0)),\"Not scored\")","v":55},{"$f":"IFERROR(INDEX(Score_alphabetical!$G$3:$BD$38, MATCH(W$2,Score_alphabetical!$C$3:$C$38,0), MATCH(X51,Score_alphabetical!$G$2:$BD$2,0)),W51)","v":48},{"$f":"IF(Y51=\"Not scored\",Z51,(RANK(Y51,Y$4:Y$54,0)+COUNTIF(Y$4:Y51,Y51)-1))","v":9},6,6,"Arkansas",{"$f":"IF(AD51=\"AVERAGE\",\"\", IF(COUNTIF(AD$4:AD51, \"AVERAGE\") < 1, (ROUNDUP(INDEX(AB$4:AB$54,MATCH(AD51,X$4:X$54,0)),1)), (ROUNDUP(INDEX(AC$4:AC$54,MATCH(AD51,X$4:X$54,0)),1))))","v":29},"=47",{"$f":"IF(AD51=\"AVERAGE\",\"\",IF(AG50=\"\",IF(AE51=AE49,AG49,COUNTIFS(AG$3:AG49,AG49)+AG49),IF(AE51=AE50,AG50,COUNTIFS(AG$4:AG50,AG50)+AG50)))","v":47},48,"West Virginia",{"$f":"IFERROR(INDEX('SCORE TABLE'!$F$10:$BC$45, MATCH(AH$2,'SCORE TABLE'!$B$10:$B$45,0), MATCH(AI51,'SCORE TABLE'!$F$9:$BC$9,0)),\"Not scored\")","v":50.842783917988136},{"$f":"IFERROR(INDEX(Score_alphabetical!$G$3:$BD$38, MATCH(AH$2,Score_alphabetical!$C$3:$C$38,0), MATCH(AI51,Score_alphabetical!$G$2:$BD$2,0)),AH51)","v":48},{"$f":"IF(AJ51=\"Not scored\",AK51,(RANK(AJ51,AJ$4:AJ$54,0)+COUNTIF(AJ$4:AJ51,AJ51)-1))","v":33},33,32,"Mississippi",{"$f":"IF(AO51=\"AVERAGE\",\"\", IF(COUNTIF(AO$4:AO51, \"AVERAGE\") < 1, (ROUNDUP(INDEX(AM$4:AM$54,MATCH(AO51,AI$4:AI$54,0)),1)), (ROUNDUP(INDEX(AN$4:AN$54,MATCH(AO51,AI$4:AI$54,0)),1))))","v":47},47,{"$f":"IF(AO51=\"AVERAGE\",\"\",IF(AR50=\"\",IF(AP51=AP49,AR49,COUNTIFS(AR$3:AR49,AR49)+AR49),IF(AP51=AP50,AR50,COUNTIFS(AR$4:AR50,AR50)+AR50)))","v":47},48,"West Virginia",{"$f":"IFERROR(INDEX('SCORE TABLE'!$F$10:$BC$45, MATCH(AS$2,'SCORE TABLE'!$B$10:$B$45,0), MATCH(AT51,'SCORE TABLE'!$F$9:$BC$9,0)),\"Not scored\")","v":56.416666666666664},{"$f":"IFERROR(INDEX(Score_alphabetical!$G$3:$BD$38, MATCH(AS$2,Score_alphabetical!$C$3:$C$38,0), MATCH(AT51,Score_alphabetical!$G$2:$BD$2,0)),AS51)","v":48},{"$f":"IF(AU51=\"Not scored\",AV51,(RANK(AU51,AU$4:AU$54,0)+COUNTIF(AU$4:AU51,AU51)-1))","v":40},33,31.999999999999996,"Nebraska",{"$f":"IF(AZ51=\"AVERAGE\",\"\", IF(COUNTIF(AZ$4:AZ51, \"AVERAGE\") < 1, (ROUNDUP(INDEX(AX$4:AX$54,MATCH(AZ51,AT$4:AT$54,0)),1)), (ROUNDUP(INDEX(AY$4:AY$54,MATCH(AZ51,AT$4:AT$54,0)),1))))","v":40},47,{"$f":"IF(AZ51=\"AVERAGE\",\"\",IF(BC50=\"\",IF(BA51=BA49,BC49,COUNTIFS(BC$3:BC49,BC49)+BC49),IF(BA51=BA50,BC50,COUNTIFS(BC$4:BC50,BC50)+BC50)))","v":47}]
[49,"Wisconsin",{"$f":"IFERROR(INDEX('SCORE TABLE'!$F$10:$BC$45, MATCH(A$2,'SCORE TABLE'!$B$10:$B$45,0), MATCH(B52,'SCORE TABLE'!$F$9:$BC$9,0)),\"Not scored\")","v":58.67100708099738},{"$f":"IFERROR(INDEX(Score_alphabetical!$G$3:$BD$38, MATCH(A$2,Score_alphabetical!$C$3:$C$38,0), MATCH(B52,Score_alphabetical!$G$2:$BD$2,0)),A52)","v":49},{"$f":"IF(C52=\"Not scored\",D52,(RANK(C52,C$4:C$54,0)+COUNTIF(C$4:C52,C52)-1))","v":17},17,17,"Georgia",{"$f":"IF(H52=\"AVERAGE\",\"\", IF(COUNTIF(H$4:H52, \"AVERAGE\") < 1, (ROUNDUP(INDEX(F$4:F$54,MATCH(H52,B$4:B$54,0)),1)), (ROUNDUP(INDEX(G$4:G$54,MATCH(H52,B$4:B$54,0)),1))))","v":48},48,{"$f":"IF(H52=\"AVERAGE\",\"\",IF(K51=\"\",IF(I52=I50,K50,COUNTIFS(K$3:K50,K50)+K50),IF(I52=I51,K51,COUNTIFS(K$4:K51,K51)+K51)))","v":48},49,"Wisconsin",{"$f":"IFERROR(INDEX('SCORE TABLE'!$F$10:$BC$45, MATCH(L$2,'SCORE TABLE'!$B$10:$B$45,0), MATCH(M52,'SCORE TABLE'!$F$9:$BC$9,0)),\"Not scored\")","v":58.67100708099738},{"$f":"IFERROR(INDEX(Score_alphabetical!$G$3:$BD$38, MATCH(L$2,Score_alphabetical!$C$3:$C$38,0), MATCH(M52,Score_alphabetical!$G$2:$BD$2,0)),L52)","v":49},{"$f":"IF(N52=\"Not scored\",O52,(RANK(N52,N$4:N$54,0)+COUNTIF(N$4:N52,N52)-1))","v":17},17,17,"Georgia",{"$f":"IF(S52=\"AVERAGE\",\"\", IF(COUNTIF(S$4:S52, \"AVERAGE\") < 1, (ROUNDUP(INDEX(Q$4:Q$54,MATCH(S52,M$4:M$54,0)),1)), (ROUNDUP(INDEX(R$4:R$54,MATCH(S52,M$4:M$54,0)),1))))","v":48},48,{"$f":"IF(S52=\"AVERAGE\",\"\",IF(V51=\"\",IF(T52=T50,V50,COUNTIFS(V$3:V50,V50)+V50),IF(T52=T51,V51,COUNTIFS(V$4:V51,V51)+V51)))","v":48},49,"Wisconsin",{"$f":"IFERROR(INDEX('SCORE TABLE'!$F$10:$BC$45, MATCH(W$2,'SCORE TABLE'!$B$10:$B$45,0), MATCH(X52,'SCORE TABLE'!$F$9:$BC$9,0)),\"Not scored\")","v":34.58334},{"$f":"IFERROR(INDEX(Score_alphabetical!$G$3:$BD$38, MATCH(W$2,Score_alphabetical!$C$3:$C$38,0), MATCH(X52,Score_alphabetical!$G$2:$BD$2,0)),W52)","v":49},{"$f":"IF(Y52=\"Not scored\",Z52,(RANK(Y52,Y$4:Y$54,0)+COUNTIF(Y$4:Y52,Y52)-1))","v":33},21.999999999999996,20.999999999999996,"South Carolina",{"$f":"IF(AD52=\"AVERAGE\",\"\", IF(COUNTIF(AD$4:AD52, \"AVERAGE\") < 1, (ROUNDUP(INDEX(AB$4:AB$54,MATCH(AD52,X$4:X$54,0)),1)), (ROUNDUP(INDEX(AC$4:AC$54,MATCH(AD52,X$4:X$54,0)),1))))","v":29},"=47",{"$f":"IF(AD52=\"AVERAGE\",\"\",IF(AG51=\"\",IF(AE52=AE50,AG50,COUNTIFS(AG$3:AG50,AG50)+AG50),IF(AE52=AE51,AG51,COUNTIFS(AG$4:AG51,AG51)+AG51)))","v":47},49,"Wisconsin",{"$f":"IFERROR(INDEX('SCORE TABLE'!$F$10:$BC$45, MATCH(AH$2,'SCORE TABLE'!$B$10:$B$45,0), MATCH(AI52,'SCORE TABLE'!$F$9:$BC$9,0)),\"Not scored\")","v":78.76301457632547},{"$f":"IFERROR(INDEX(Score_alphabetical!$G$3:$BD$38, MATCH(AH$2,Score_alphabetical!$C$3:$C$38,0), MATCH(AI52,Score_alphabetical!$G$2:$BD$2,0)),AH52)","v":49},{"$f":"IF(AJ52=\"Not scored\",AK52,(RANK(AJ52,AJ$4:AJ$54,0)+COUNTIF(AJ$4:AJ52,AJ52)-1))","v":11},11,11,"Wyoming",{"$f":"IF(AO52=\"AVERAGE\",\"\", IF(COUNTIF(AO$4:AO52, \"AVERAGE\") < 1, (ROUNDUP(INDEX(AM$4:AM$54,MATCH(AO52,AI$4:AI$54,0)),1)), (ROUNDUP(INDEX(AN$4:AN$54,MATCH(AO52,AI$4:AI$54,0)),1))))","v":48},48,{"$f":"IF(AO52=\"AVERAGE\",\"\",IF(AR51=\"\",IF(AP52=AP50,AR50,COUNTIFS(AR$3:AR50,AR50)+AR50),IF(AP52=AP51,AR51,COUNTIFS(AR$4:AR51,AR51)+AR51)))","v":48},49,"Wisconsin",{"$f":"IFERROR(INDEX('SCORE TABLE'!$F$10:$BC$45, MATCH(AS$2,'SCORE TABLE'!$B$10:$B$45,0), MATCH(AT52,'SCORE TABLE'!$F$9:$BC$9,0)),\"Not scored\")","v":62.666666666666664},{"$f":"IFERROR(INDEX(Score_alphabetical!$G$3:$BD$38, MATCH(AS$2,Score_alphabetical!$C$3:$C$38,0), MATCH(AT52,Score_alphabetical!$G$2:$BD$2,0)),AS52)","v":49},{"$f":"IF(AU52=\"Not scored\",AV52,(RANK(AU52,AU$4:AU$54,0)+COUNTIF(AU$4:AU52,AU52)-1))","v":24},19,19,"Kansas",{"$f":"IF(AZ52=\"AVERAGE\",\"\", IF(COUNTIF(AZ$4:AZ52, \"AVERAGE\") < 1, (ROUNDUP(INDEX(AX$4:AX$54,MATCH(AZ52,AT$4:AT$54,0)),1)), (ROUNDUP(INDEX(AY$4:AY$54,MATCH(AZ52,AT$4:AT$54,0)),1))))","v":41},48,{"$f":"IF(AZ52=\"AVERAGE\",\"\",IF(BC51=\"\",IF(BA52=BA50,BC50,COUNTIFS(BC$3:BC50,BC50)+BC50),IF(BA52=BA51,BC51,COUNTIFS(BC$4:BC51,BC51)+BC51)))","v":48}]
[50,"Wyoming",{"$f":"IFERROR(INDEX('SCORE TABLE'!$F$10:$BC$45, MATCH(A$2,'SCORE TABLE'!$B$10:$B$45,0), MATCH(B53,'SCORE TABLE'!$F$9:$BC$9,0)),\"Not scored\")","v":48.99871708164996},{"$f":"IFERROR(INDEX(Score_alphabetical!$G$3:$BD$38, MATCH(A$2,Score_alphabetical!$C$3:$C$38,0), MATCH(B53,Score_alphabetical!$G$2:$BD$2,0)),A53)","v":50},{"$f":"IF(C53=\"Not scored\",D53,(RANK(C53,C$4:C$54,0)+COUNTIF(C$4:C53,C53)-1))","v":37},37,36,"Arizona",{"$f":"IF(H53=\"AVERAGE\",\"\", IF(COUNTIF(H$4:H53, \"AVERAGE\") < 1, (ROUNDUP(INDEX(F$4:F$54,MATCH(H53,B$4:B$54,0)),1)), (ROUNDUP(INDEX(G$4:G$54,MATCH(H53,B$4:B$54,0)),1))))","v":49},49,{"$f":"IF(H53=\"AVERAGE\",\"\",IF(K52=\"\",IF(I53=I51,K51,COUNTIFS(K$3:K51,K51)+K51),IF(I53=I52,K52,COUNTIFS(K$4:K52,K52)+K52)))","v":49},50,"Wyoming",{"$f":"IFERROR(INDEX('SCORE TABLE'!$F$10:$BC$45, MATCH(L$2,'SCORE TABLE'!$B$10:$B$45,0), MATCH(M53,'SCORE TABLE'!$F$9:$BC$9,0)),\"Not scored\")","v":48.99871708164996},{"$f":"IFERROR(INDEX(Score_alphabetical!$G$3:$BD$38, MATCH(L$2,Score_alphabetical!$C$3:$C$38,0), MATCH(M53,Score_alphabetical!$G$2:$BD$2,0)),L53)","v":50},{"$f":"IF(N53=\"Not scored\",O53,(RANK(N53,N$4:N$54,0)+COUNTIF(N$4:N53,N53)-1))","v":37},37,36,"Arizona",{"$f":"IF(S53=\"AVERAGE\",\"\", IF(COUNTIF(S$4:S53, \"AVERAGE\") < 1, (ROUNDUP(INDEX(Q$4:Q$54,MATCH(S53,M$4:M$54,0)),1)), (ROUNDUP(INDEX(R$4:R$54,MATCH(S53,M$4:M$54,0)),1))))","v":49},49,{"$f":"IF(S53=\"AVERAGE\",\"\",IF(V52=\"\",IF(T53=T51,V51,COUNTIFS(V$3:V51,V51)+V51),IF(T53=T52,V52,COUNTIFS(V$4:V52,V52)+V52)))","v":49},50,"Wyoming",{"$f":"IFERROR(INDEX('SCORE TABLE'!$F$10:$BC$45, MATCH(W$2,'SCORE TABLE'!$B$10:$B$45,0), MATCH(X53,'SCORE TABLE'!$F$9:$BC$9,0)),\"Not scored\")","v":43.75},{"$f":"IFERROR(INDEX(Score_alphabetical!$G$3:$BD$38, MATCH(W$2,Score_alphabetical!$C$3:$C$38,0), MATCH(X53,Score_alphabetical!$G$2:$BD$2,0)),W53)","v":50},{"$f":"IF(Y53=\"Not scored\",Z53,(RANK(Y53,Y$4:Y$54,0)+COUNTIF(Y$4:Y53,Y53)-1))","v":17},11,11,"Arizona",{"$f":"IF(AD53=\"AVERAGE\",\"\", IF(COUNTIF(AD$4:AD53, \"AVERAGE\") < 1, (ROUNDUP(INDEX(AB$4:AB$54,MATCH(AD53,X$4:X$54,0)),1)), (ROUNDUP(INDEX(AC$4:AC$54,MATCH(AD53,X$4:X$54,0)),1))))","v":30},49,{"$f":"IF(AD53=\"AVERAGE\",\"\",IF(AG52=\"\",IF(AE53=AE51,AG51,COUNTIFS(AG$3:AG51,AG51)+AG51),IF(AE53=AE52,AG52,COUNTIFS(AG$4:AG52,AG52)+AG52)))","v":49},50,"Wyoming",{"$f":"IFERROR(INDEX('SCORE TABLE'!$F$10:$BC$45, MATCH(AH$2,'SCORE TABLE'!$B$10:$B$45,0), MATCH(AI53,'SCORE TABLE'!$F$9:$BC$9,0)),\"Not scored\")","v":42.32948457828323},{"$f":"IFERROR(INDEX(Score_alphabetical!$G$3:$BD$38, MATCH(AH$2,Score_alphabetical!$C$3:$C$38,0), MATCH(AI53,Score_alphabetical!$G$2:$BD$2,0)),AH53)","v":50},{"$f":"IF(AJ53=\"Not scored\",AK53,(RANK(AJ53,AJ$4:AJ$54,0)+COUNTIF(AJ$4:AJ53,AJ53)-1))","v":49},49,48,"New Hampshire",{"$f":"IF(AO53=\"AVERAGE\",\"\", IF(COUNTIF(AO$4:AO53, \"AVERAGE\") < 1, (ROUNDUP(INDEX(AM$4:AM$54,MATCH(AO53,AI$4:AI$54,0)),1)), (ROUNDUP(INDEX(AN$4:AN$54,MATCH(AO53,AI$4:AI$54,0)),1))))","v":49},49,{"$f":"IF(AO53=\"AVERAGE\",\"\",IF(AR52=\"\",IF(AP53=AP51,AR51,COUNTIFS(AR$3:AR51,AR51)+AR51),IF(AP53=AP52,AR52,COUNTIFS(AR$4:AR52,AR52)+AR52)))","v":49},50,"Wyoming",{"$f":"IFERROR(INDEX('SCORE TABLE'!$F$10:$BC$45, MATCH(AS$2,'SCORE TABLE'!$B$10:$B$45,0), MATCH(AT53,'SCORE TABLE'!$F$9:$BC$9,0)),\"Not scored\")","v":60.916666666666664},{"$f":"IFERROR(INDEX(Score_alphabetical!$G$3:$BD$38, MATCH(AS$2,Score_alphabetical!$C$3:$C$38,0), MATCH(AT53,Score_alphabetical!$G$2:$BD$2,0)),AS53)","v":50},{"$f":"IF(AU53=\"Not scored\",AV53,(RANK(AU53,AU$4:AU$54,0)+COUNTIF(AU$4:AU53,AU53)-1))","v":29},23,22,"North Dakota",{"$f":"IF(AZ53=\"AVERAGE\",\"\", IF(COUNTIF(AZ$4:AZ53, \"AVERAGE\") < 1, (ROUNDUP(INDEX(AX$4:AX$54,MATCH(AZ53,AT$4:AT$54,0)),1)), (ROUNDUP(INDEX(AY$4:AY$54,MATCH(AZ53,AT$4:AT$54,0)),1))))","v":42},49,{"$f":"IF(AZ53=\"AVERAGE\",\"\",IF(BC52=\"\",IF(BA53=BA51,BC51,COUNTIFS(BC$3:BC51,BC51)+BC51),IF(BA53=BA52,BC52,COUNTIFS(BC$4:BC52,BC52)+BC52)))","v":49}]
[51,{"$f":"IF(B2=\"Background indicator\",\"\",\"AVERAGE\")","v":"AVERAGE"},{"$f":"IFERROR(AVERAGE(C4:C53),\"Not scored\")","v":54.249643518986},51,{"$f":"IF(C54=\"Not scored\",D54,(RANK(C54,C$4:C$54,0)+COUNTIF(C$4:C54,C54)-1))","v":26},{"$f":"IF(C54=\"Not scored\",D54,(SUMPRODUCT((C54<=C$4:C$54)/COUNTIF(C$4:C$54,C$4:C$54))))","v":26},null,"Kansas",{"$f":"IF(H54=\"AVERAGE\",\"\", IF(COUNTIF(H$4:H54, \"AVERAGE\") < 1, (ROUNDUP(INDEX(F$4:F$54,MATCH(H54,B$4:B$54,0)),1)), (ROUNDUP(INDEX(G$4:G$54,MATCH(H54,B$4:B$54,0)),1))))","v":50},50,{"$f":"IF(H54=\"AVERAGE\",\"\",IF(K53=\"\",IF(I54=I52,K52,COUNTIFS(K$3:K52,K52)+K52),IF(I54=I53,K53,COUNTIFS(K$4:K53,K53)+K53)))","v":50},51,"AVERAGE",{"$f":"IFERROR(AVERAGE(N4:N53),\"Not scored\")","v":54.249643518986},51,{"$f":"IF(N54=\"Not scored\",O54,(RANK(N54,N$4:N$54,0)+COUNTIF(N$4:N54,N54)-1))","v":26},26,null,"Kansas",{"$f":"IF(S54=\"AVERAGE\",\"\", IF(COUNTIF(S$4:S54, \"AVERAGE\") < 1, (ROUNDUP(INDEX(Q$4:Q$54,MATCH(S54,M$4:M$54,0)),1)), (ROUNDUP(INDEX(R$4:R$54,MATCH(S54,M$4:M$54,0)),1))))","v":50},50,{"$f":"IF(S54=\"AVERAGE\",\"\",IF(V53=\"\",IF(T54=T52,V52,COUNTIFS(V$3:V52,V52)+V52),IF(T54=T53,V53,COUNTIFS(V$4:V53,V53)+V53)))","v":50},51,"AVERAGE",{"$f":"IFERROR(AVERAGE(Y4:Y53),\"Not scored\")","v":39.516667399999996},51,{"$f":"IF(Y54=\"Not scored\",Z54,(RANK(Y54,Y$4:Y$54,0)+COUNTIF(Y$4:Y54,Y54)-1))","v":22},16,null,"Georgia",{"$f":"IF(AD54=\"AVERAGE\",\"\", IF(COUNTIF(AD$4:AD54, \"AVERAGE\") < 1, (ROUNDUP(INDEX(AB$4:AB$54,MATCH(AD54,X$4:X$54,0)),1)), (ROUNDUP(INDEX(AC$4:AC$54,MATCH(AD54,X$4:X$54,0)),1))))","v":31},50,{"$f":"IF(AD54=\"AVERAGE\",\"\",IF(AG53=\"\",IF(AE54=AE52,AG52,COUNTIFS(AG$3:AG52,AG52)+AG52),IF(AE54=AE53,AG53,COUNTIFS(AG$4:AG53,AG53)+AG53)))","v":50},51,"AVERAGE",{"$f":"IFERROR(AVERAGE(AJ4:AJ53),\"Not scored\")","v":61.59226315695803},51,{"$f":"IF(AJ54=\"Not scored\",AK54,(RANK(AJ54,AJ$4:AJ$54,0)+COUNTIF(AJ$4:AJ54,AJ54)-1))","v":23},23,null,"Montana",{"$f":"IF(AO54=\"AVERAGE\",\"\", IF(COUNTIF(AO$4:AO54, \"AVERAGE\") < 1, (ROUNDUP(INDEX(AM$4:AM$54,MATCH(AO54,AI$4:AI$54,0)),1)), (ROUNDUP(INDEX(AN$4:AN$54,MATCH(AO54,AI$4:AI$54,0)),1))))","v":50},50,{"$f":"IF(AO54=\"AVERAGE\",\"\",IF(AR53=\"\",IF(AP54=AP52,AR52,COUNTIFS(AR$3:AR52,AR52)+AR52),IF(AP54=AP53,AR53,COUNTIFS(AR$4:AR53,AR53)+AR53)))","v":50},51,"AVERAGE",{"$f":"IFERROR(AVERAGE(AU4:AU53),\"Not scored\")","v":61.63999999999999},51,{"$f":"IF(AU54=\"Not scored\",AV54,(RANK(AU54,AU$4:AU$54,0)+COUNTIF(AU$4:AU54,AU54)-1))","v":25},20,null,"South Carolina",{"$f":"IF(AZ54=\"AVERAGE\",\"\", IF(COUNTIF(AZ$4:AZ54, \"AVERAGE\") < 1, (ROUNDUP(INDEX(AX$4:AX$54,MATCH(AZ54,AT$4:AT$54,0)),1)), (ROUNDUP(INDEX(AY$4:AY$54,MATCH(AZ54,AT$4:AT$54,0)),1))))","v":43},50,{"$f":"IF(AZ54=\"AVERAGE\",\"\",IF(BC53=\"\",IF(BA54=BA52,BC52,COUNTIFS(BC$3:BC52,BC52)+BC52),IF(BA54=BA53,BC53,COUNTIFS(BC$4:BC53,BC53)+BC53)))","v":50}]