{"text_format":"1","workbook":"xlsx","n_sheets":13,"sheets":["Readme","Data Example","Library Info Input","Library Pool #1","Library Pool #2","Library Pool #3","Library Pool #4","Library Pool #5","Library Pool #6","Summary sheet","csv for Connect","WorksheetWillHide","Sheet3"],"not_rendered":{"charts":0,"images":6,"macros":1,"external_links":1,"defined_names":33,"comments":0,"pivot_tables":0},"unopened":[],"bounds":{"document_bytes":16777216,"sheet_cells":100000,"rows_first":2000,"rows_last":500,"rows_between":2000,"halvings":0,"cell_chars":16384,"cell_head_chars":4096},"cells_cut":0,"cells_raw":0,"read":"whole","date_system":"1900"}

{"sheet":"Readme","index":0,"n_rows":35,"n_cols":11,"rows_kept":35,"cut":false,"hidden":false,"merged":[[34,1,34,11],[35,0,35,12],[1,3,1,8],[2,3,2,8],[0,0,3,2],[0,3,0,8],[3,3,3,8],[0,9,0,11],[3,9,3,11],[0,12,3,12],[1,10,1,11],[2,10,2,11],[15,2,15,11],[30,1,30,11],[31,1,31,11],[32,1,32,11],[33,0,33,12],[10,2,10,11],[12,2,12,11],[13,2,13,11],[14,2,14,11],[24,2,24,11],[28,0,28,12],[29,1,29,11],[27,0,27,12],[20,2,20,11],[22,2,22,11],[23,2,23,11],[26,2,26,11],[21,2,21,11],[25,2,25,11],[19,2,19,11],[5,1,5,11],[6,1,6,11],[9,0,9,12],[18,0,18,12],[17,0,17,12],[8,0,8,12],[7,0,7,12]]}
[]
[null,null,null,"Chromium Connect",null,null,null,null,null,"Doc","CG000466"]
[null,null,null,"32 Library Pooling Workbook",null,null,null,null,null,"Rev","A"]
[]
["Scope"]
[null,"Use this workbook to calculate the library dilutions and volumes required to assemble up to six library pools for sequencing using up to 32 component libraries generated from the Chromium Connect Instrument."]
[null,"For complete protocols, consult the Chromium Connect Instrument User Guide (CG000180), Chromium Next GEM Automated Single Cell 3' Reagent Kits v3.1 User Guide (CG000286), or Chromium Next GEM Automated Single Cell 5' Reagent Kits v2 User Guide (CG000384)."]
[]
[]
["Required Information"]
[null,"1.","Library IDs (limited to 32 characters)"]
[null,"2.","Sample Index"]
[null,"3.","Average Library Size (bp)"]
[null,"4.","Library Concentration (nM)"]
[null,"5.","Cells/sample"]
[null,"6.","Reads/cell"]
[null,"7.","Library Pool"]
[]
["Instructions"]
[null,"•","Begin each experiment with a fresh version of this workbook."]
[null,"•","Enter the information above into cells highlighted in blue for each library in the \"Library Info Input\" tab. If necessary, resolve any potential conflicts (highlighted in yellow) prior to clicking on \"Import Pool Data.\" Libraries must be assigned to tube strips sequentially, starting with tube strip 1. If a tube strip is entered into the tab, it must have at least one well with a library. If a Library Pool is selected, a Library ID must be entered. If left blank, the Library ID cell will highlight in red to indicate that this must be changed. To omit a library from being pooled, select \"N/A\" as its Library Pool in the drop-down menu. After all the information is properly entered, click the \"Import Pool Data\" button to import information into the appropriate Library Pool tabs. Unused Library Pools will have their tabs hidden."]
[null,"•","On each Library Pool tab, enter the Target Library Pool Concentration and Target Library Pool Volume for the final library pool."]
[null,"•","On each Library Pool tab, manually adjust the Dilution Factor for each library using whole integers (1-10) to ensure that volumes adhere to conditions mentioned at the top of the sheet."]
[null,"•","Values in red font may need adjustment to achieve final volumes that adhere to all conditions. If final volumes do not adhere to conditions, adjust Target Library Pool Concentration, Target Library Pool Volume, or Dilution Factor on the appropriate Library Pool tab. Or adjust Cells/sample or Reads/cell on the Library Info Input tab. After adjusting Cells/sample or Reads/cell, re-populate the Library Pool tabs by clicking the \"Import Pool Data\" button."]
[null,"•","After verifying that each Library Pool tab appears correct, click on \"Export Data to CSV\" on the Summary sheet tab. This generates a csv file in the same folder location as this workbook, which is used to enter the pooling information on the Chromium Connect."]
[null,"•","Library volumes in the tube strips should be greater than 25 μl."]
[null,"•","Additional conditions to be followed are listed at the top of each Library Pool tab."]
[]
["Contact"]
[null,"support@10xgenomics.com"]
[null,"10x Genomics"]
[null,"6230 Stoneridge Mall Road"]
[null,"Pleasanton, CA 94588 USA"]
[]
[null,"© 2021 10X Genomics, Inc. FOR RESEARCH USE ONLY. NOT FOR USE IN DIAGNOSTIC PROCEDURES."]

{"sheet":"Data Example","index":1,"n_rows":24,"n_cols":11,"rows_kept":24,"cut":false,"hidden":false,"merged":[[0,0,3,2],[0,3,0,8],[0,9,0,11],[0,18,3,18],[1,3,1,8],[1,10,1,11],[2,3,2,8],[2,10,2,11],[3,3,3,8],[3,9,3,11],[13,0,13,18],[5,1,5,11],[6,1,6,11],[7,0,7,18],[8,0,8,18],[26,0,26,18],[9,0,9,18],[10,0,10,18],[11,0,11,18],[14,1,14,11],[22,0,22,18],[25,2,25,11],[23,0,23,18],[24,1,24,11],[16,2,16,11],[17,2,17,11],[18,2,18,11],[21,0,21,18],[19,0,19,18],[20,1,20,11],[12,0,12,18]]}
[]
[null,null,null,"Chromium Connect",null,null,null,null,null,"Doc","CG000466"]
[null,null,null,"32 Library Pooling Workbook",null,null,null,null,null,"Rev","A"]
[]
["Enter data in the \"Library Info Input\" tab"]
[null,"Refer to data entry rules on \"Readme\" tab."]
[]
[]
["Click on \"Import Pool Data\" button"]
[]
[]
[]
[]
["Review data in appropriate \"Library Pool\" tab"]
[null,"Refer to data entry rules on \"Readme\" tab and at the top of the \"Library Pool\" tab."]
[]
[]
[]
[]
["Data automatically appear in \"Summary Sheet\" tab"]
[]
[]
[]
["Click on \"Export Data to CSV\" button on the \"Summary\" tab"]

{"sheet":"Library Info Input","index":2,"n_rows":35,"n_cols":9,"rows_kept":35,"cut":false,"hidden":false,"merged":[[0,1,0,9],[1,1,1,8]]}
[null,"Chromium Connect Pooling Workbook  |  10xgenomics.com"]
[null,"After entering library information in the blue cells below, click this button to autofill Library Pool tabs --"]
[null,"Library Pool","Tube Position\n(Tube Strip #, A-H)","Library ID","Sample Index","Average Library Size (bp)","Library Concentration (nM)","Cells/ sample","Reads/cell"]
[null,1,"1A","Library-1","SI-TT-A1",491,10,5000,50000]
[null,null,"1B"]
[null,null,"1C"]
[null,null,"1D"]
[null,null,"1E"]
[null,null,"1F"]
[null,null,"1G"]
[null,null,"1H"]
[null,null,"2A"]
[null,null,"2B"]
[null,null,"2C"]
[null,null,"2D"]
[null,null,"2E"]
[null,null,"2F"]
[null,null,"2G"]
[null,null,"2H"]
[null,null,"3A"]
[null,null,"3B"]
[null,null,"3C"]
[null,null,"3D"]
[null,null,"3E"]
[null,null,"3F"]
[null,null,"3G"]
[null,null,"3H"]
[null,null,"4A"]
[null,null,"4B"]
[null,null,"4C"]
[null,null,"4D"]
[null,null,"4E"]
[null,null,"4F"]
[null,null,"4G"]
[null,null,"4H"]

{"sheet":"Library Pool #1","index":3,"n_rows":57,"n_cols":18,"rows_kept":57,"cut":false,"hidden":false,"merged":[[44,4,44,6],[43,15,43,16],[45,1,45,4],[43,1,43,4],[4,7,4,10],[5,7,5,10],[6,7,6,10],[44,15,44,16],[8,14,8,16]]}
[null,"Chromium Connect Pooling Workbook  |  10xgenomics.com"]
[null,"Library Pool #1"]
[]
[null,"Conditions",null,null,null,null,"Legend"]
[null," •  Final Transfer Volume of libraries must be between 3-20 µl ",null,null,null,null,"Blue"," Fields where data need to be entered manually",null,null,null,null,null,"Pool Number_",1]
[null," •  Target Library Pool Volume must be between 50-300 µl",null,null,null,null,"Green"," Volumes to enter on Chromium Connect",null,null,null,null,null,"Target Library Pool Concentration_",3,"nM"]
[null," •  Dilution Factors must be integers between 1-10",null,null,null,null,"Red"," Verify that value is correct",null,null,null,null,null,"Target Library Pool Volume_",50,"uL"]
[]
[null,null,null,null,null,null,null,null,null,null,null,null,null,null,"Intermediate Dilution on Deck"]
[null,"Library Pool 1","Tube Position (Tube Strip #, A-H)","Library ID","Average Library Size (bp)","Prorated Size","Library Concentration (nM)","Dilution Factor","Working  Concentration (nM)","Cells/ sample","Reads/cell","Reads/\nsample","Fraction of Total Pool Reads","Individual Library Concentration (nM)","Library Dilution Volume (µl)","Diluent Dilution Volume (µl)","Total\nVolume (µl)","Final Transfer Volume (µl)"]
[null,{"$f":"'Library Info Input'!B4","v":1},{"$f":"'Library Info Input'!C4","v":"1A"},{"$f":"'Library Info Input'!D4","v":"Library-1"},{"$f":"'Library Info Input'!F4","v":491},{"$f":"E11*M11","v":491},{"$f":"'Library Info Input'!G4","v":10},1,{"$f":"G11/H11","v":10},{"$f":"'Library Info Input'!H4","v":5000},{"$f":"'Library Info Input'!I4","v":50000},{"$f":"J11*K11","v":250000000},{"$f":"L11/$L$44","v":1},{"$f":"M11*O$6","v":3},{"$f":"VLOOKUP($H11,$B$47:$E$57,2)","v":0},{"$f":"VLOOKUP($H11,$B$47:$E$57,3)","v":0},{"$f":"O11+P11","v":0},{"$f":"IF(I11, ($O$7*N11)/I11, \"\")","v":15}]
[null,{"$f":"'Library Info Input'!B5","v":0},{"$f":"'Library Info Input'!C5","v":"1B"},{"$f":"'Library Info Input'!D5","v":0},{"$f":"'Library Info Input'!F5","v":0},{"$f":"E12*M12","v":0},{"$f":"'Library Info Input'!G5","v":0},1,0,{"$f":"'Library Info Input'!H5","v":0},{"$f":"'Library Info Input'!I5","v":0},0,0,{"$f":"M12*O$6","v":0},0,0,0,{"$f":"IF(I12, ($O$7*N12)/I12, \"\")","v":""}]
[null,{"$f":"'Library Info Input'!B6","v":0},{"$f":"'Library Info Input'!C6","v":"1C"},{"$f":"'Library Info Input'!D6","v":0},{"$f":"'Library Info Input'!F6","v":0},0,{"$f":"'Library Info Input'!G6","v":0},1,0,{"$f":"'Library Info Input'!H6","v":0},{"$f":"'Library Info Input'!I6","v":0},0,0,0,0,0,0,""]
[null,{"$f":"'Library Info Input'!B7","v":0},{"$f":"'Library Info Input'!C7","v":"1D"},{"$f":"'Library Info Input'!D7","v":0},{"$f":"'Library Info Input'!F7","v":0},{"$f":"E14*M14","v":0},{"$f":"'Library Info Input'!G7","v":0},1,0,{"$f":"'Library Info Input'!H7","v":0},{"$f":"'Library Info Input'!I7","v":0},0,0,0,0,0,0,""]
[null,{"$f":"'Library Info Input'!B8","v":0},{"$f":"'Library Info Input'!C8","v":"1E"},{"$f":"'Library Info Input'!D8","v":0},{"$f":"'Library Info Input'!F8","v":0},0,{"$f":"'Library Info Input'!G8","v":0},1,0,{"$f":"'Library Info Input'!H8","v":0},{"$f":"'Library Info Input'!I8","v":0},0,0,0,0,0,0,""]
[null,{"$f":"'Library Info Input'!B9","v":0},{"$f":"'Library Info Input'!C9","v":"1F"},{"$f":"'Library Info Input'!D9","v":0},{"$f":"'Library Info Input'!F9","v":0},0,{"$f":"'Library Info Input'!G9","v":0},1,0,{"$f":"'Library Info Input'!H9","v":0},{"$f":"'Library Info Input'!I9","v":0},0,0,0,0,0,0,""]
[null,{"$f":"'Library Info Input'!B10","v":0},{"$f":"'Library Info Input'!C10","v":"1G"},{"$f":"'Library Info Input'!D10","v":0},{"$f":"'Library Info Input'!F10","v":0},0,{"$f":"'Library Info Input'!G10","v":0},1,0,{"$f":"'Library Info Input'!H10","v":0},{"$f":"'Library Info Input'!I10","v":0},0,0,0,0,0,0,""]
[null,{"$f":"'Library Info Input'!B11","v":0},{"$f":"'Library Info Input'!C11","v":"1H"},{"$f":"'Library Info Input'!D11","v":0},{"$f":"'Library Info Input'!F11","v":0},0,{"$f":"'Library Info Input'!G11","v":0},1,0,{"$f":"'Library Info Input'!H11","v":0},{"$f":"'Library Info Input'!I11","v":0},0,0,0,0,0,0,""]
[null,{"$f":"'Library Info Input'!B12","v":0},{"$f":"'Library Info Input'!C12","v":"2A"},{"$f":"'Library Info Input'!D12","v":0},{"$f":"'Library Info Input'!F12","v":0},0,{"$f":"'Library Info Input'!G12","v":0},1,0,{"$f":"'Library Info Input'!H12","v":0},{"$f":"'Library Info Input'!I12","v":0},0,0,0,0,0,0,""]
[null,{"$f":"'Library Info Input'!B13","v":0},{"$f":"'Library Info Input'!C13","v":"2B"},{"$f":"'Library Info Input'!D13","v":0},{"$f":"'Library Info Input'!F13","v":0},0,{"$f":"'Library Info Input'!G13","v":0},1,0,{"$f":"'Library Info Input'!H13","v":0},{"$f":"'Library Info Input'!I13","v":0},0,0,0,0,0,0,""]
[null,{"$f":"'Library Info Input'!B14","v":0},{"$f":"'Library Info Input'!C14","v":"2C"},{"$f":"'Library Info Input'!D14","v":0},{"$f":"'Library Info Input'!F14","v":0},0,{"$f":"'Library Info Input'!G14","v":0},1,0,{"$f":"'Library Info Input'!H14","v":0},{"$f":"'Library Info Input'!I14","v":0},0,0,0,0,0,0,""]
[null,{"$f":"'Library Info Input'!B15","v":0},{"$f":"'Library Info Input'!C15","v":"2D"},{"$f":"'Library Info Input'!D15","v":0},{"$f":"'Library Info Input'!F15","v":0},{"$f":"E22*M22","v":0},{"$f":"'Library Info Input'!G15","v":0},1,0,{"$f":"'Library Info Input'!H15","v":0},{"$f":"'Library Info Input'!I15","v":0},0,0,0,0,0,0,""]
[null,{"$f":"'Library Info Input'!B16","v":0},{"$f":"'Library Info Input'!C16","v":"2E"},{"$f":"'Library Info Input'!D16","v":0},{"$f":"'Library Info Input'!F16","v":0},{"$f":"E23*M23","v":0},{"$f":"'Library Info Input'!G16","v":0},1,0,{"$f":"'Library Info Input'!H16","v":0},{"$f":"'Library Info Input'!I16","v":0},0,0,0,0,0,0,""]
[null,{"$f":"'Library Info Input'!B17","v":0},{"$f":"'Library Info Input'!C17","v":"2F"},{"$f":"'Library Info Input'!D17","v":0},{"$f":"'Library Info Input'!F17","v":0},0,{"$f":"'Library Info Input'!G17","v":0},1,0,{"$f":"'Library Info Input'!H17","v":0},{"$f":"'Library Info Input'!I17","v":0},0,0,0,0,0,0,""]
[null,{"$f":"'Library Info Input'!B18","v":0},{"$f":"'Library Info Input'!C18","v":"2G"},{"$f":"'Library Info Input'!D18","v":0},{"$f":"'Library Info Input'!F18","v":0},0,{"$f":"'Library Info Input'!G18","v":0},1,0,{"$f":"'Library Info Input'!H18","v":0},{"$f":"'Library Info Input'!I18","v":0},0,0,0,0,0,0,""]
[null,{"$f":"'Library Info Input'!B19","v":0},{"$f":"'Library Info Input'!C19","v":"2H"},{"$f":"'Library Info Input'!D19","v":0},{"$f":"'Library Info Input'!F19","v":0},0,{"$f":"'Library Info Input'!G19","v":0},1,0,{"$f":"'Library Info Input'!H19","v":0},{"$f":"'Library Info Input'!I19","v":0},0,0,0,0,0,0,""]
[null,{"$f":"'Library Info Input'!B20","v":0},{"$f":"'Library Info Input'!C20","v":"3A"},{"$f":"'Library Info Input'!D20","v":0},{"$f":"'Library Info Input'!F20","v":0},0,{"$f":"'Library Info Input'!G20","v":0},1,0,{"$f":"'Library Info Input'!H20","v":0},{"$f":"'Library Info Input'!I20","v":0},0,0,0,0,0,0,""]
[null,{"$f":"'Library Info Input'!B21","v":0},{"$f":"'Library Info Input'!C21","v":"3B"},{"$f":"'Library Info Input'!D21","v":0},{"$f":"'Library Info Input'!F21","v":0},0,{"$f":"'Library Info Input'!G21","v":0},1,0,{"$f":"'Library Info Input'!H21","v":0},{"$f":"'Library Info Input'!I21","v":0},0,0,0,0,0,0,""]
[null,{"$f":"'Library Info Input'!B22","v":0},{"$f":"'Library Info Input'!C22","v":"3C"},{"$f":"'Library Info Input'!D22","v":0},{"$f":"'Library Info Input'!F22","v":0},0,{"$f":"'Library Info Input'!G22","v":0},1,0,{"$f":"'Library Info Input'!H22","v":0},{"$f":"'Library Info Input'!I22","v":0},0,0,0,0,0,0,""]
[null,{"$f":"'Library Info Input'!B23","v":0},{"$f":"'Library Info Input'!C23","v":"3D"},{"$f":"'Library Info Input'!D23","v":0},{"$f":"'Library Info Input'!F23","v":0},{"$f":"E30*M30","v":0},{"$f":"'Library Info Input'!G23","v":0},1,0,{"$f":"'Library Info Input'!H23","v":0},{"$f":"'Library Info Input'!I23","v":0},0,0,0,0,0,0,""]
[null,{"$f":"'Library Info Input'!B24","v":0},{"$f":"'Library Info Input'!C24","v":"3E"},{"$f":"'Library Info Input'!D24","v":0},{"$f":"'Library Info Input'!F24","v":0},{"$f":"E31*M31","v":0},{"$f":"'Library Info Input'!G24","v":0},1,0,{"$f":"'Library Info Input'!H24","v":0},{"$f":"'Library Info Input'!I24","v":0},0,0,0,0,0,0,""]
[null,{"$f":"'Library Info Input'!B25","v":0},{"$f":"'Library Info Input'!C25","v":"3F"},{"$f":"'Library Info Input'!D25","v":0},{"$f":"'Library Info Input'!F25","v":0},0,{"$f":"'Library Info Input'!G25","v":0},1,0,{"$f":"'Library Info Input'!H25","v":0},{"$f":"'Library Info Input'!I25","v":0},0,0,0,0,0,0,""]
[null,{"$f":"'Library Info Input'!B26","v":0},{"$f":"'Library Info Input'!C26","v":"3G"},{"$f":"'Library Info Input'!D26","v":0},{"$f":"'Library Info Input'!F26","v":0},0,{"$f":"'Library Info Input'!G26","v":0},1,0,{"$f":"'Library Info Input'!H26","v":0},{"$f":"'Library Info Input'!I26","v":0},0,0,0,0,0,0,""]
[null,{"$f":"'Library Info Input'!B27","v":0},{"$f":"'Library Info Input'!C27","v":"3H"},{"$f":"'Library Info Input'!D27","v":0},{"$f":"'Library Info Input'!F27","v":0},0,{"$f":"'Library Info Input'!G27","v":0},1,0,{"$f":"'Library Info Input'!H27","v":0},{"$f":"'Library Info Input'!I27","v":0},0,0,0,0,0,0,""]
[null,{"$f":"'Library Info Input'!B28","v":0},{"$f":"'Library Info Input'!C28","v":"4A"},{"$f":"'Library Info Input'!D28","v":0},{"$f":"'Library Info Input'!F28","v":0},0,{"$f":"'Library Info Input'!G28","v":0},1,0,{"$f":"'Library Info Input'!H28","v":0},{"$f":"'Library Info Input'!I28","v":0},0,0,0,0,0,0,""]
[null,{"$f":"'Library Info Input'!B29","v":0},{"$f":"'Library Info Input'!C29","v":"4B"},{"$f":"'Library Info Input'!D29","v":0},{"$f":"'Library Info Input'!F29","v":0},0,{"$f":"'Library Info Input'!G29","v":0},1,0,{"$f":"'Library Info Input'!H29","v":0},{"$f":"'Library Info Input'!I29","v":0},0,0,0,0,0,0,""]
[null,{"$f":"'Library Info Input'!B30","v":0},{"$f":"'Library Info Input'!C30","v":"4C"},{"$f":"'Library Info Input'!D30","v":0},{"$f":"'Library Info Input'!F30","v":0},0,{"$f":"'Library Info Input'!G30","v":0},1,0,{"$f":"'Library Info Input'!H30","v":0},{"$f":"'Library Info Input'!I30","v":0},0,0,0,0,0,0,""]
[null,{"$f":"'Library Info Input'!B31","v":0},{"$f":"'Library Info Input'!C31","v":"4D"},{"$f":"'Library Info Input'!D31","v":0},{"$f":"'Library Info Input'!F31","v":0},{"$f":"E38*M38","v":0},{"$f":"'Library Info Input'!G31","v":0},1,0,{"$f":"'Library Info Input'!H31","v":0},{"$f":"'Library Info Input'!I31","v":0},0,0,0,0,0,0,""]
[null,{"$f":"'Library Info Input'!B32","v":0},{"$f":"'Library Info Input'!C32","v":"4E"},{"$f":"'Library Info Input'!D32","v":0},{"$f":"'Library Info Input'!F32","v":0},{"$f":"E39*M39","v":0},{"$f":"'Library Info Input'!G32","v":0},1,0,{"$f":"'Library Info Input'!H32","v":0},{"$f":"'Library Info Input'!I32","v":0},0,0,0,0,0,0,""]
[null,{"$f":"'Library Info Input'!B33","v":0},{"$f":"'Library Info Input'!C33","v":"4F"},{"$f":"'Library Info Input'!D33","v":0},{"$f":"'Library Info Input'!F33","v":0},0,{"$f":"'Library Info Input'!G33","v":0},1,0,{"$f":"'Library Info Input'!H33","v":0},{"$f":"'Library Info Input'!I33","v":0},0,0,0,0,0,0,""]
[null,{"$f":"'Library Info Input'!B34","v":0},{"$f":"'Library Info Input'!C34","v":"4G"},{"$f":"'Library Info Input'!D34","v":0},{"$f":"'Library Info Input'!F34","v":0},0,{"$f":"'Library Info Input'!G34","v":0},1,0,{"$f":"'Library Info Input'!H34","v":0},{"$f":"'Library Info Input'!I34","v":0},0,0,0,0,0,0,""]
[null,{"$f":"'Library Info Input'!B35","v":0},{"$f":"'Library Info Input'!C35","v":"4H"},{"$f":"'Library Info Input'!D35","v":0},{"$f":"'Library Info Input'!F35","v":0},0,{"$f":"'Library Info Input'!G35","v":0},1,0,{"$f":"'Library Info Input'!H35","v":0},{"$f":"'Library Info Input'!I35","v":0},0,0,0,0,0,0,""]
[]
[null,"Pro-rated size (bp) for pool level quantification =_",null,null,null,{"$f":"SUMIF(B11:B42,\"1\",F11:F42)","v":491},null,null,null,null,"Total Reads =_",{"$f":"SUMIF(B11:B42,\"1\",L11:L42)","v":250000000},{"$f":"SUMIF(B11:B42,\"1\",M11:M42)","v":1},null,null,"Total Sample Volume = ",null,{"$f":"SUMIF(B11:B42,\"1\",R11:R42)","v":15}]
[null,null,null,null,null,null,null,null,null,null,null,null,null,null,null,"Pool Diluent Volume = ",null,{"$f":"O7-R44","v":35}]
[null,"Dilution Table - Do Not Modify"]
[null,"Dilution Factor","Library\nDilution\nVolume","Diluent Dilution Volume","Total Volume"]
[null,1,0,0,{"$f":"B48*C48","v":0}]
[null,2,10,{"$f":"E49-C49","v":10},20]
[null,3,7,14,21]
[null,4,5,15,20]
[null,5,5,20,25]
[null,6,5,25,30]
[null,7,5,30,35]
[null,8,5,35,40]
[null,9,5,40,45]
[null,10,5,45,50]

{"sheet":"Library Pool #2","index":4,"n_rows":57,"n_cols":18,"rows_kept":57,"cut":false,"hidden":false,"merged":[[45,1,45,4],[8,14,8,16],[6,7,6,10]]}
[null,"Chromium Connect Pooling Workbook  |  10xgenomics.com"]
[null,"Library Pool #2"]
[]
[null,"Conditions",null,null,null,null,"Legend"]
[null," •  Final Transfer Volume of libraries must be between 3-20 µl ",null,null,null,null,"Blue"," Fields where data need to be entered manually",null,null,null,null,null,"Pool Number_",2]
[null," •  Target Library Pool Volume must be between 50-300 µl",null,null,null,null,"Green"," Volumes to enter on Chromium Connect",null,null,null,null,null,"Target Library Pool Concentration_",3,"nM"]
[null," •  Dilution Factors must be integers between 1-10",null,null,null,null,"Red"," Verify that value is correct",null,null,null,null,null,"Target Library Pool Volume_",0,"uL"]
[]
[null,null,null,null,null,null,null,null,null,null,null,null,null,null,"Intermediate Dilution on Deck"]
[null,"Library Pool 2","Tube Position (Tube Strip #, A-H)","Library ID","Average Library Size (bp)","Prorated Size","Library Concentration (nM)","Dilution Factor","Working  Concentration (nM)","Cells/ sample","Reads/cell ","Reads/\nsample","Fraction of Total Pool Reads","Individual Library Concentration (nM)","Library Dilution Volume (µl)","Diluent Dilution Volume (µl)","Total\nVolume (µl)","Final Transfer Volume (µl)"]
[null,{"$f":"'Library Info Input'!B4","v":1},{"$f":"'Library Info Input'!C4","v":"1A"},{"$f":"'Library Info Input'!D4","v":"Library-1"},{"$f":"'Library Info Input'!F4","v":491},{"$f":"E11*M11","v":{"$error":"#DIV/0!"}},{"$f":"'Library Info Input'!G4","v":10},1,{"$f":"G11/H11","v":10},{"$f":"'Library Info Input'!H4","v":5000},{"$f":"'Library Info Input'!I4","v":50000},{"$f":"J11*K11","v":250000000},{"$f":"L11/$L$44","v":{"$error":"#DIV/0!"}},{"$f":"M11*O$6","v":{"$error":"#DIV/0!"}},{"$f":"VLOOKUP($H11,$B$47:$E$57,2)","v":0},{"$f":"VLOOKUP($H11,$B$47:$E$57,3)","v":0},{"$f":"O11+P11","v":0},{"$f":"IF(I11, ($O$7*N11)/I11, \"\")","v":{"$error":"#DIV/0!"}}]
[null,{"$f":"'Library Info Input'!B5","v":0},{"$f":"'Library Info Input'!C5","v":"1B"},{"$f":"'Library Info Input'!D5","v":0},{"$f":"'Library Info Input'!F5","v":0},{"$error":"#DIV/0!"},{"$f":"'Library Info Input'!G5","v":0},1,0,{"$f":"'Library Info Input'!H5","v":0},{"$f":"'Library Info Input'!I5","v":0},0,{"$error":"#DIV/0!"},{"$error":"#DIV/0!"},0,0,0,""]
[null,{"$f":"'Library Info Input'!B6","v":0},{"$f":"'Library Info Input'!C6","v":"1C"},{"$f":"'Library Info Input'!D6","v":0},{"$f":"'Library Info Input'!F6","v":0},{"$error":"#DIV/0!"},{"$f":"'Library Info Input'!G6","v":0},1,0,{"$f":"'Library Info Input'!H6","v":0},{"$f":"'Library Info Input'!I6","v":0},0,{"$error":"#DIV/0!"},{"$error":"#DIV/0!"},0,0,0,""]
[null,{"$f":"'Library Info Input'!B7","v":0},{"$f":"'Library Info Input'!C7","v":"1D"},{"$f":"'Library Info Input'!D7","v":0},{"$f":"'Library Info Input'!F7","v":0},{"$f":"E14*M14","v":{"$error":"#DIV/0!"}},{"$f":"'Library Info Input'!G7","v":0},1,0,{"$f":"'Library Info Input'!H7","v":0},{"$f":"'Library Info Input'!I7","v":0},0,{"$error":"#DIV/0!"},{"$error":"#DIV/0!"},0,0,0,""]
[null,{"$f":"'Library Info Input'!B8","v":0},{"$f":"'Library Info Input'!C8","v":"1E"},{"$f":"'Library Info Input'!D8","v":0},{"$f":"'Library Info Input'!F8","v":0},{"$error":"#DIV/0!"},{"$f":"'Library Info Input'!G8","v":0},1,0,{"$f":"'Library Info Input'!H8","v":0},{"$f":"'Library Info Input'!I8","v":0},0,{"$error":"#DIV/0!"},{"$error":"#DIV/0!"},0,0,0,""]
[null,{"$f":"'Library Info Input'!B9","v":0},{"$f":"'Library Info Input'!C9","v":"1F"},{"$f":"'Library Info Input'!D9","v":0},{"$f":"'Library Info Input'!F9","v":0},{"$error":"#DIV/0!"},{"$f":"'Library Info Input'!G9","v":0},1,0,{"$f":"'Library Info Input'!H9","v":0},{"$f":"'Library Info Input'!I9","v":0},0,{"$error":"#DIV/0!"},{"$error":"#DIV/0!"},0,0,0,""]
[null,{"$f":"'Library Info Input'!B10","v":0},{"$f":"'Library Info Input'!C10","v":"1G"},{"$f":"'Library Info Input'!D10","v":0},{"$f":"'Library Info Input'!F10","v":0},{"$error":"#DIV/0!"},{"$f":"'Library Info Input'!G10","v":0},1,0,{"$f":"'Library Info Input'!H10","v":0},{"$f":"'Library Info Input'!I10","v":0},0,{"$error":"#DIV/0!"},{"$error":"#DIV/0!"},0,0,0,""]
[null,{"$f":"'Library Info Input'!B11","v":0},{"$f":"'Library Info Input'!C11","v":"1H"},{"$f":"'Library Info Input'!D11","v":0},{"$f":"'Library Info Input'!F11","v":0},{"$error":"#DIV/0!"},{"$f":"'Library Info Input'!G11","v":0},1,0,{"$f":"'Library Info Input'!H11","v":0},{"$f":"'Library Info Input'!I11","v":0},0,{"$error":"#DIV/0!"},{"$error":"#DIV/0!"},0,0,0,""]
[null,{"$f":"'Library Info Input'!B12","v":0},{"$f":"'Library Info Input'!C12","v":"2A"},{"$f":"'Library Info Input'!D12","v":0},{"$f":"'Library Info Input'!F12","v":0},{"$f":"E19*M19","v":{"$error":"#DIV/0!"}},{"$f":"'Library Info Input'!G12","v":0},1,0,{"$f":"'Library Info Input'!H12","v":0},{"$f":"'Library Info Input'!I12","v":0},{"$f":"J19*K19","v":0},{"$f":"L19/$L$44","v":{"$error":"#DIV/0!"}},{"$error":"#DIV/0!"},0,0,0,""]
[null,{"$f":"'Library Info Input'!B13","v":0},{"$f":"'Library Info Input'!C13","v":"2B"},{"$f":"'Library Info Input'!D13","v":0},{"$f":"'Library Info Input'!F13","v":0},{"$error":"#DIV/0!"},{"$f":"'Library Info Input'!G13","v":0},1,0,{"$f":"'Library Info Input'!H13","v":0},{"$f":"'Library Info Input'!I13","v":0},0,{"$f":"L20/$L$44","v":{"$error":"#DIV/0!"}},{"$error":"#DIV/0!"},0,0,0,""]
[null,{"$f":"'Library Info Input'!B14","v":0},{"$f":"'Library Info Input'!C14","v":"2C"},{"$f":"'Library Info Input'!D14","v":0},{"$f":"'Library Info Input'!F14","v":0},{"$error":"#DIV/0!"},{"$f":"'Library Info Input'!G14","v":0},1,0,{"$f":"'Library Info Input'!H14","v":0},{"$f":"'Library Info Input'!I14","v":0},0,{"$f":"L21/$L$44","v":{"$error":"#DIV/0!"}},{"$error":"#DIV/0!"},0,0,0,""]
[null,{"$f":"'Library Info Input'!B15","v":0},{"$f":"'Library Info Input'!C15","v":"2D"},{"$f":"'Library Info Input'!D15","v":0},{"$f":"'Library Info Input'!F15","v":0},{"$f":"E22*M22","v":{"$error":"#DIV/0!"}},{"$f":"'Library Info Input'!G15","v":0},1,0,{"$f":"'Library Info Input'!H15","v":0},{"$f":"'Library Info Input'!I15","v":0},0,{"$error":"#DIV/0!"},{"$error":"#DIV/0!"},0,0,0,""]
[null,{"$f":"'Library Info Input'!B16","v":0},{"$f":"'Library Info Input'!C16","v":"2E"},{"$f":"'Library Info Input'!D16","v":0},{"$f":"'Library Info Input'!F16","v":0},{"$f":"E23*M23","v":{"$error":"#DIV/0!"}},{"$f":"'Library Info Input'!G16","v":0},1,0,{"$f":"'Library Info Input'!H16","v":0},{"$f":"'Library Info Input'!I16","v":0},0,{"$error":"#DIV/0!"},{"$error":"#DIV/0!"},0,0,0,""]
[null,{"$f":"'Library Info Input'!B17","v":0},{"$f":"'Library Info Input'!C17","v":"2F"},{"$f":"'Library Info Input'!D17","v":0},{"$f":"'Library Info Input'!F17","v":0},{"$error":"#DIV/0!"},{"$f":"'Library Info Input'!G17","v":0},1,0,{"$f":"'Library Info Input'!H17","v":0},{"$f":"'Library Info Input'!I17","v":0},0,{"$error":"#DIV/0!"},{"$error":"#DIV/0!"},0,0,0,""]
[null,{"$f":"'Library Info Input'!B18","v":0},{"$f":"'Library Info Input'!C18","v":"2G"},{"$f":"'Library Info Input'!D18","v":0},{"$f":"'Library Info Input'!F18","v":0},{"$error":"#DIV/0!"},{"$f":"'Library Info Input'!G18","v":0},1,0,{"$f":"'Library Info Input'!H18","v":0},{"$f":"'Library Info Input'!I18","v":0},0,{"$error":"#DIV/0!"},{"$error":"#DIV/0!"},0,0,0,""]
[null,{"$f":"'Library Info Input'!B19","v":0},{"$f":"'Library Info Input'!C19","v":"2H"},{"$f":"'Library Info Input'!D19","v":0},{"$f":"'Library Info Input'!F19","v":0},{"$error":"#DIV/0!"},{"$f":"'Library Info Input'!G19","v":0},1,0,{"$f":"'Library Info Input'!H19","v":0},{"$f":"'Library Info Input'!I19","v":0},0,{"$error":"#DIV/0!"},{"$error":"#DIV/0!"},0,0,0,""]
[null,{"$f":"'Library Info Input'!B20","v":0},{"$f":"'Library Info Input'!C20","v":"3A"},{"$f":"'Library Info Input'!D20","v":0},{"$f":"'Library Info Input'!F20","v":0},{"$error":"#DIV/0!"},{"$f":"'Library Info Input'!G20","v":0},1,0,{"$f":"'Library Info Input'!H20","v":0},{"$f":"'Library Info Input'!I20","v":0},0,{"$error":"#DIV/0!"},{"$error":"#DIV/0!"},0,0,0,""]
[null,{"$f":"'Library Info Input'!B21","v":0},{"$f":"'Library Info Input'!C21","v":"3B"},{"$f":"'Library Info Input'!D21","v":0},{"$f":"'Library Info Input'!F21","v":0},{"$error":"#DIV/0!"},{"$f":"'Library Info Input'!G21","v":0},1,0,{"$f":"'Library Info Input'!H21","v":0},{"$f":"'Library Info Input'!I21","v":0},0,{"$error":"#DIV/0!"},{"$error":"#DIV/0!"},0,0,0,""]
[null,{"$f":"'Library Info Input'!B22","v":0},{"$f":"'Library Info Input'!C22","v":"3C"},{"$f":"'Library Info Input'!D22","v":0},{"$f":"'Library Info Input'!F22","v":0},{"$error":"#DIV/0!"},{"$f":"'Library Info Input'!G22","v":0},1,0,{"$f":"'Library Info Input'!H22","v":0},{"$f":"'Library Info Input'!I22","v":0},0,{"$error":"#DIV/0!"},{"$error":"#DIV/0!"},0,0,0,""]
[null,{"$f":"'Library Info Input'!B23","v":0},{"$f":"'Library Info Input'!C23","v":"3D"},{"$f":"'Library Info Input'!D23","v":0},{"$f":"'Library Info Input'!F23","v":0},{"$f":"E30*M30","v":{"$error":"#DIV/0!"}},{"$f":"'Library Info Input'!G23","v":0},1,0,{"$f":"'Library Info Input'!H23","v":0},{"$f":"'Library Info Input'!I23","v":0},0,{"$error":"#DIV/0!"},{"$error":"#DIV/0!"},0,0,0,""]
[null,{"$f":"'Library Info Input'!B24","v":0},{"$f":"'Library Info Input'!C24","v":"3E"},{"$f":"'Library Info Input'!D24","v":0},{"$f":"'Library Info Input'!F24","v":0},{"$f":"E31*M31","v":{"$error":"#DIV/0!"}},{"$f":"'Library Info Input'!G24","v":0},1,0,{"$f":"'Library Info Input'!H24","v":0},{"$f":"'Library Info Input'!I24","v":0},0,{"$error":"#DIV/0!"},{"$error":"#DIV/0!"},0,0,0,""]
[null,{"$f":"'Library Info Input'!B25","v":0},{"$f":"'Library Info Input'!C25","v":"3F"},{"$f":"'Library Info Input'!D25","v":0},{"$f":"'Library Info Input'!F25","v":0},{"$error":"#DIV/0!"},{"$f":"'Library Info Input'!G25","v":0},1,0,{"$f":"'Library Info Input'!H25","v":0},{"$f":"'Library Info Input'!I25","v":0},0,{"$error":"#DIV/0!"},{"$error":"#DIV/0!"},0,0,0,""]
[null,{"$f":"'Library Info Input'!B26","v":0},{"$f":"'Library Info Input'!C26","v":"3G"},{"$f":"'Library Info Input'!D26","v":0},{"$f":"'Library Info Input'!F26","v":0},{"$error":"#DIV/0!"},{"$f":"'Library Info Input'!G26","v":0},1,0,{"$f":"'Library Info Input'!H26","v":0},{"$f":"'Library Info Input'!I26","v":0},0,{"$error":"#DIV/0!"},{"$error":"#DIV/0!"},0,0,0,""]
[null,{"$f":"'Library Info Input'!B27","v":0},{"$f":"'Library Info Input'!C27","v":"3H"},{"$f":"'Library Info Input'!D27","v":0},{"$f":"'Library Info Input'!F27","v":0},{"$error":"#DIV/0!"},{"$f":"'Library Info Input'!G27","v":0},1,0,{"$f":"'Library Info Input'!H27","v":0},{"$f":"'Library Info Input'!I27","v":0},0,{"$error":"#DIV/0!"},{"$error":"#DIV/0!"},0,0,0,""]
[null,{"$f":"'Library Info Input'!B28","v":0},{"$f":"'Library Info Input'!C28","v":"4A"},{"$f":"'Library Info Input'!D28","v":0},{"$f":"'Library Info Input'!F28","v":0},{"$error":"#DIV/0!"},{"$f":"'Library Info Input'!G28","v":0},1,0,{"$f":"'Library Info Input'!H28","v":0},{"$f":"'Library Info Input'!I28","v":0},0,{"$error":"#DIV/0!"},{"$error":"#DIV/0!"},0,0,0,""]
[null,{"$f":"'Library Info Input'!B29","v":0},{"$f":"'Library Info Input'!C29","v":"4B"},{"$f":"'Library Info Input'!D29","v":0},{"$f":"'Library Info Input'!F29","v":0},{"$error":"#DIV/0!"},{"$f":"'Library Info Input'!G29","v":0},1,0,{"$f":"'Library Info Input'!H29","v":0},{"$f":"'Library Info Input'!I29","v":0},0,{"$error":"#DIV/0!"},{"$error":"#DIV/0!"},0,0,0,""]
[null,{"$f":"'Library Info Input'!B30","v":0},{"$f":"'Library Info Input'!C30","v":"4C"},{"$f":"'Library Info Input'!D30","v":0},{"$f":"'Library Info Input'!F30","v":0},{"$error":"#DIV/0!"},{"$f":"'Library Info Input'!G30","v":0},1,0,{"$f":"'Library Info Input'!H30","v":0},{"$f":"'Library Info Input'!I30","v":0},0,{"$error":"#DIV/0!"},{"$error":"#DIV/0!"},0,0,0,""]
[null,{"$f":"'Library Info Input'!B31","v":0},{"$f":"'Library Info Input'!C31","v":"4D"},{"$f":"'Library Info Input'!D31","v":0},{"$f":"'Library Info Input'!F31","v":0},{"$f":"E38*M38","v":{"$error":"#DIV/0!"}},{"$f":"'Library Info Input'!G31","v":0},1,0,{"$f":"'Library Info Input'!H31","v":0},{"$f":"'Library Info Input'!I31","v":0},0,{"$error":"#DIV/0!"},{"$error":"#DIV/0!"},0,0,0,""]
[null,{"$f":"'Library Info Input'!B32","v":0},{"$f":"'Library Info Input'!C32","v":"4E"},{"$f":"'Library Info Input'!D32","v":0},{"$f":"'Library Info Input'!F32","v":0},{"$f":"E39*M39","v":{"$error":"#DIV/0!"}},{"$f":"'Library Info Input'!G32","v":0},1,0,{"$f":"'Library Info Input'!H32","v":0},{"$f":"'Library Info Input'!I32","v":0},0,{"$error":"#DIV/0!"},{"$error":"#DIV/0!"},0,0,0,""]
[null,{"$f":"'Library Info Input'!B33","v":0},{"$f":"'Library Info Input'!C33","v":"4F"},{"$f":"'Library Info Input'!D33","v":0},{"$f":"'Library Info Input'!F33","v":0},{"$error":"#DIV/0!"},{"$f":"'Library Info Input'!G33","v":0},1,0,{"$f":"'Library Info Input'!H33","v":0},{"$f":"'Library Info Input'!I33","v":0},0,{"$error":"#DIV/0!"},{"$error":"#DIV/0!"},0,0,0,""]
[null,{"$f":"'Library Info Input'!B34","v":0},{"$f":"'Library Info Input'!C34","v":"4G"},{"$f":"'Library Info Input'!D34","v":0},{"$f":"'Library Info Input'!F34","v":0},{"$error":"#DIV/0!"},{"$f":"'Library Info Input'!G34","v":0},1,0,{"$f":"'Library Info Input'!H34","v":0},{"$f":"'Library Info Input'!I34","v":0},0,{"$error":"#DIV/0!"},{"$error":"#DIV/0!"},0,0,0,""]
[null,{"$f":"'Library Info Input'!B35","v":0},{"$f":"'Library Info Input'!C35","v":"4H"},{"$f":"'Library Info Input'!D35","v":0},{"$f":"'Library Info Input'!F35","v":0},{"$error":"#DIV/0!"},{"$f":"'Library Info Input'!G35","v":0},1,0,{"$f":"'Library Info Input'!H35","v":0},{"$f":"'Library Info Input'!I35","v":0},0,{"$error":"#DIV/0!"},{"$error":"#DIV/0!"},0,0,0,""]
[]
[null,null,null,null,"Pro-rated size (bp) for pool level quantification =_",{"$f":"SUMIF(B11:B42,\"2\",F11:F42)","v":0},null,null,null,null,"Total Reads =_",{"$f":"SUMIF(B11:B42,\"2\",L11:L42)","v":0},{"$f":"SUMIF(B11:B42,\"2\",M11:M42)","v":0},null,null,null,"Total Sample Volume = ",{"$f":"SUMIF(B11:B42,\"2\",R11:R42)","v":0}]
[null,null,null,null,null,null,null,null,null,null,null,null,null,null,null,null,"Pool Diluent Volume = ",{"$f":"O7-R44","v":0}]
[null,"Dilution Table - Do Not Modify"]
[null,"Dilution Factor","Library\nDilution\nVolume","Diluent Dilution Volume","Total Volume"]
[null,1,0,0,{"$f":"B48*C48","v":0}]
[null,2,10,{"$f":"E49-C49","v":10},20]
[null,3,7,14,21]
[null,4,5,15,20]
[null,5,5,20,25]
[null,6,5,25,30]
[null,7,5,30,35]
[null,8,5,35,40]
[null,9,5,40,45]
[null,10,5,45,50]

{"sheet":"Library Pool #3","index":5,"n_rows":57,"n_cols":18,"rows_kept":57,"cut":false,"hidden":false,"merged":[[8,14,8,16],[45,1,45,4],[6,7,6,10]]}
[null,"Chromium Connect Pooling Workbook  |  10xgenomics.com"]
[null,"Library Pool #3"]
[]
[null,"Conditions",null,null,null,null,"Legend"]
[null," •  Final Transfer Volume of libraries must be between 3-20 µl ",null,null,null,null,"Blue"," Fields where data need to be entered manually",null,null,null,null,null,"Pool Number_",3]
[null," •  Target Library Pool Volume must be between 50-300 µl",null,null,null,null,"Green"," Volumes to enter on Chromium Connect",null,null,null,null,null,"Target Library Pool Concentration_",3,"nM"]
[null," •  Dilution Factors must be integers between 1-10",null,null,null,null,"Red"," Verify that value is correct",null,null,null,null,null,"Target Library Pool Volume_",0,"uL"]
[]
[null,null,null,null,null,null,null,null,null,null,null,null,null,null,"Intermediate Dilution on Deck"]
[null,"Library Pool 3","Tube Position (Tube Strip #, A-H)","Library ID","Average Library Size (bp)","Prorated Size","Library Concentration (nM)","Dilution Factor","Working  Concentration (nM)","Cells/ sample","Reads/cell ","Reads/\nsample","Fraction of Total Pool Reads","Individual Library Concentration (nM)","Library Dilution Volume (µl)","Diluent Dilution Volume (µl)","Total\nVolume (µl)","Final Transfer Volume (µl)"]
[null,{"$f":"'Library Info Input'!B4","v":1},{"$f":"'Library Info Input'!C4","v":"1A"},{"$f":"'Library Info Input'!D4","v":"Library-1"},{"$f":"'Library Info Input'!F4","v":491},{"$f":"E11*M11","v":{"$error":"#DIV/0!"}},{"$f":"'Library Info Input'!G4","v":10},1,{"$f":"G11/H11","v":10},{"$f":"'Library Info Input'!H4","v":5000},{"$f":"'Library Info Input'!I4","v":50000},{"$f":"J11*K11","v":250000000},{"$f":"L11/$L$44","v":{"$error":"#DIV/0!"}},{"$f":"M11*O$6","v":{"$error":"#DIV/0!"}},{"$f":"VLOOKUP($H11,$B$47:$E$57,2)","v":0},{"$f":"VLOOKUP($H11,$B$47:$E$57,3)","v":0},{"$f":"O11+P11","v":0},{"$f":"IF(I11, ($O$7*N11)/I11, \"\")","v":{"$error":"#DIV/0!"}}]
[null,{"$f":"'Library Info Input'!B5","v":0},{"$f":"'Library Info Input'!C5","v":"1B"},{"$f":"'Library Info Input'!D5","v":0},{"$f":"'Library Info Input'!F5","v":0},{"$error":"#DIV/0!"},{"$f":"'Library Info Input'!G5","v":0},1,0,{"$f":"'Library Info Input'!H5","v":0},{"$f":"'Library Info Input'!I5","v":0},0,{"$error":"#DIV/0!"},{"$error":"#DIV/0!"},0,0,0,""]
[null,{"$f":"'Library Info Input'!B6","v":0},{"$f":"'Library Info Input'!C6","v":"1C"},{"$f":"'Library Info Input'!D6","v":0},{"$f":"'Library Info Input'!F6","v":0},{"$error":"#DIV/0!"},{"$f":"'Library Info Input'!G6","v":0},1,0,{"$f":"'Library Info Input'!H6","v":0},{"$f":"'Library Info Input'!I6","v":0},0,{"$error":"#DIV/0!"},{"$error":"#DIV/0!"},0,0,0,""]
[null,{"$f":"'Library Info Input'!B7","v":0},{"$f":"'Library Info Input'!C7","v":"1D"},{"$f":"'Library Info Input'!D7","v":0},{"$f":"'Library Info Input'!F7","v":0},{"$f":"E14*M14","v":{"$error":"#DIV/0!"}},{"$f":"'Library Info Input'!G7","v":0},1,0,{"$f":"'Library Info Input'!H7","v":0},{"$f":"'Library Info Input'!I7","v":0},0,{"$error":"#DIV/0!"},{"$error":"#DIV/0!"},0,0,0,""]
[null,{"$f":"'Library Info Input'!B8","v":0},{"$f":"'Library Info Input'!C8","v":"1E"},{"$f":"'Library Info Input'!D8","v":0},{"$f":"'Library Info Input'!F8","v":0},{"$error":"#DIV/0!"},{"$f":"'Library Info Input'!G8","v":0},1,0,{"$f":"'Library Info Input'!H8","v":0},{"$f":"'Library Info Input'!I8","v":0},0,{"$error":"#DIV/0!"},{"$error":"#DIV/0!"},0,0,0,""]
[null,{"$f":"'Library Info Input'!B9","v":0},{"$f":"'Library Info Input'!C9","v":"1F"},{"$f":"'Library Info Input'!D9","v":0},{"$f":"'Library Info Input'!F9","v":0},{"$error":"#DIV/0!"},{"$f":"'Library Info Input'!G9","v":0},1,0,{"$f":"'Library Info Input'!H9","v":0},{"$f":"'Library Info Input'!I9","v":0},0,{"$error":"#DIV/0!"},{"$error":"#DIV/0!"},0,0,0,""]
[null,{"$f":"'Library Info Input'!B10","v":0},{"$f":"'Library Info Input'!C10","v":"1G"},{"$f":"'Library Info Input'!D10","v":0},{"$f":"'Library Info Input'!F10","v":0},{"$error":"#DIV/0!"},{"$f":"'Library Info Input'!G10","v":0},1,0,{"$f":"'Library Info Input'!H10","v":0},{"$f":"'Library Info Input'!I10","v":0},0,{"$error":"#DIV/0!"},{"$error":"#DIV/0!"},0,0,0,""]
[null,{"$f":"'Library Info Input'!B11","v":0},{"$f":"'Library Info Input'!C11","v":"1H"},{"$f":"'Library Info Input'!D11","v":0},{"$f":"'Library Info Input'!F11","v":0},{"$error":"#DIV/0!"},{"$f":"'Library Info Input'!G11","v":0},1,0,{"$f":"'Library Info Input'!H11","v":0},{"$f":"'Library Info Input'!I11","v":0},0,{"$error":"#DIV/0!"},{"$error":"#DIV/0!"},0,0,0,""]
[null,{"$f":"'Library Info Input'!B12","v":0},{"$f":"'Library Info Input'!C12","v":"2A"},{"$f":"'Library Info Input'!D12","v":0},{"$f":"'Library Info Input'!F12","v":0},{"$error":"#DIV/0!"},{"$f":"'Library Info Input'!G12","v":0},1,0,{"$f":"'Library Info Input'!H12","v":0},{"$f":"'Library Info Input'!I12","v":0},0,{"$error":"#DIV/0!"},{"$error":"#DIV/0!"},0,0,0,""]
[null,{"$f":"'Library Info Input'!B13","v":0},{"$f":"'Library Info Input'!C13","v":"2B"},{"$f":"'Library Info Input'!D13","v":0},{"$f":"'Library Info Input'!F13","v":0},{"$error":"#DIV/0!"},{"$f":"'Library Info Input'!G13","v":0},1,0,{"$f":"'Library Info Input'!H13","v":0},{"$f":"'Library Info Input'!I13","v":0},0,{"$error":"#DIV/0!"},{"$error":"#DIV/0!"},0,0,0,""]
[null,{"$f":"'Library Info Input'!B14","v":0},{"$f":"'Library Info Input'!C14","v":"2C"},{"$f":"'Library Info Input'!D14","v":0},{"$f":"'Library Info Input'!F14","v":0},{"$error":"#DIV/0!"},{"$f":"'Library Info Input'!G14","v":0},1,0,{"$f":"'Library Info Input'!H14","v":0},{"$f":"'Library Info Input'!I14","v":0},0,{"$error":"#DIV/0!"},{"$error":"#DIV/0!"},0,0,0,""]
[null,{"$f":"'Library Info Input'!B15","v":0},{"$f":"'Library Info Input'!C15","v":"2D"},{"$f":"'Library Info Input'!D15","v":0},{"$f":"'Library Info Input'!F15","v":0},{"$f":"E22*M22","v":{"$error":"#DIV/0!"}},{"$f":"'Library Info Input'!G15","v":0},1,0,{"$f":"'Library Info Input'!H15","v":0},{"$f":"'Library Info Input'!I15","v":0},0,{"$error":"#DIV/0!"},{"$error":"#DIV/0!"},0,0,0,""]
[null,{"$f":"'Library Info Input'!B16","v":0},{"$f":"'Library Info Input'!C16","v":"2E"},{"$f":"'Library Info Input'!D16","v":0},{"$f":"'Library Info Input'!F16","v":0},{"$f":"E23*M23","v":{"$error":"#DIV/0!"}},{"$f":"'Library Info Input'!G16","v":0},1,0,{"$f":"'Library Info Input'!H16","v":0},{"$f":"'Library Info Input'!I16","v":0},0,{"$error":"#DIV/0!"},{"$error":"#DIV/0!"},0,0,0,""]
[null,{"$f":"'Library Info Input'!B17","v":0},{"$f":"'Library Info Input'!C17","v":"2F"},{"$f":"'Library Info Input'!D17","v":0},{"$f":"'Library Info Input'!F17","v":0},{"$error":"#DIV/0!"},{"$f":"'Library Info Input'!G17","v":0},1,0,{"$f":"'Library Info Input'!H17","v":0},{"$f":"'Library Info Input'!I17","v":0},0,{"$error":"#DIV/0!"},{"$error":"#DIV/0!"},0,0,0,""]
[null,{"$f":"'Library Info Input'!B18","v":0},{"$f":"'Library Info Input'!C18","v":"2G"},{"$f":"'Library Info Input'!D18","v":0},{"$f":"'Library Info Input'!F18","v":0},{"$error":"#DIV/0!"},{"$f":"'Library Info Input'!G18","v":0},1,0,{"$f":"'Library Info Input'!H18","v":0},{"$f":"'Library Info Input'!I18","v":0},0,{"$error":"#DIV/0!"},{"$error":"#DIV/0!"},0,0,0,""]
[null,{"$f":"'Library Info Input'!B19","v":0},{"$f":"'Library Info Input'!C19","v":"2H"},{"$f":"'Library Info Input'!D19","v":0},{"$f":"'Library Info Input'!F19","v":0},{"$error":"#DIV/0!"},{"$f":"'Library Info Input'!G19","v":0},1,0,{"$f":"'Library Info Input'!H19","v":0},{"$f":"'Library Info Input'!I19","v":0},0,{"$error":"#DIV/0!"},{"$error":"#DIV/0!"},0,0,0,""]
[null,{"$f":"'Library Info Input'!B20","v":0},{"$f":"'Library Info Input'!C20","v":"3A"},{"$f":"'Library Info Input'!D20","v":0},{"$f":"'Library Info Input'!F20","v":0},{"$error":"#DIV/0!"},{"$f":"'Library Info Input'!G20","v":0},1,0,{"$f":"'Library Info Input'!H20","v":0},{"$f":"'Library Info Input'!I20","v":0},0,{"$error":"#DIV/0!"},{"$error":"#DIV/0!"},0,0,0,""]
[null,{"$f":"'Library Info Input'!B21","v":0},{"$f":"'Library Info Input'!C21","v":"3B"},{"$f":"'Library Info Input'!D21","v":0},{"$f":"'Library Info Input'!F21","v":0},{"$error":"#DIV/0!"},{"$f":"'Library Info Input'!G21","v":0},1,0,{"$f":"'Library Info Input'!H21","v":0},{"$f":"'Library Info Input'!I21","v":0},0,{"$error":"#DIV/0!"},{"$error":"#DIV/0!"},0,0,0,""]
[null,{"$f":"'Library Info Input'!B22","v":0},{"$f":"'Library Info Input'!C22","v":"3C"},{"$f":"'Library Info Input'!D22","v":0},{"$f":"'Library Info Input'!F22","v":0},{"$error":"#DIV/0!"},{"$f":"'Library Info Input'!G22","v":0},1,0,{"$f":"'Library Info Input'!H22","v":0},{"$f":"'Library Info Input'!I22","v":0},0,{"$error":"#DIV/0!"},{"$error":"#DIV/0!"},0,0,0,""]
[null,{"$f":"'Library Info Input'!B23","v":0},{"$f":"'Library Info Input'!C23","v":"3D"},{"$f":"'Library Info Input'!D23","v":0},{"$f":"'Library Info Input'!F23","v":0},{"$f":"E30*M30","v":{"$error":"#DIV/0!"}},{"$f":"'Library Info Input'!G23","v":0},1,0,{"$f":"'Library Info Input'!H23","v":0},{"$f":"'Library Info Input'!I23","v":0},0,{"$error":"#DIV/0!"},{"$error":"#DIV/0!"},0,0,0,""]
[null,{"$f":"'Library Info Input'!B24","v":0},{"$f":"'Library Info Input'!C24","v":"3E"},{"$f":"'Library Info Input'!D24","v":0},{"$f":"'Library Info Input'!F24","v":0},{"$f":"E31*M31","v":{"$error":"#DIV/0!"}},{"$f":"'Library Info Input'!G24","v":0},1,0,{"$f":"'Library Info Input'!H24","v":0},{"$f":"'Library Info Input'!I24","v":0},0,{"$error":"#DIV/0!"},{"$error":"#DIV/0!"},0,0,0,""]
[null,{"$f":"'Library Info Input'!B25","v":0},{"$f":"'Library Info Input'!C25","v":"3F"},{"$f":"'Library Info Input'!D25","v":0},{"$f":"'Library Info Input'!F25","v":0},{"$error":"#DIV/0!"},{"$f":"'Library Info Input'!G25","v":0},1,0,{"$f":"'Library Info Input'!H25","v":0},{"$f":"'Library Info Input'!I25","v":0},0,{"$error":"#DIV/0!"},{"$error":"#DIV/0!"},0,0,0,""]
[null,{"$f":"'Library Info Input'!B26","v":0},{"$f":"'Library Info Input'!C26","v":"3G"},{"$f":"'Library Info Input'!D26","v":0},{"$f":"'Library Info Input'!F26","v":0},{"$error":"#DIV/0!"},{"$f":"'Library Info Input'!G26","v":0},1,0,{"$f":"'Library Info Input'!H26","v":0},{"$f":"'Library Info Input'!I26","v":0},0,{"$error":"#DIV/0!"},{"$error":"#DIV/0!"},0,0,0,""]
[null,{"$f":"'Library Info Input'!B27","v":0},{"$f":"'Library Info Input'!C27","v":"3H"},{"$f":"'Library Info Input'!D27","v":0},{"$f":"'Library Info Input'!F27","v":0},{"$error":"#DIV/0!"},{"$f":"'Library Info Input'!G27","v":0},1,0,{"$f":"'Library Info Input'!H27","v":0},{"$f":"'Library Info Input'!I27","v":0},0,{"$error":"#DIV/0!"},{"$error":"#DIV/0!"},0,0,0,""]
[null,{"$f":"'Library Info Input'!B28","v":0},{"$f":"'Library Info Input'!C28","v":"4A"},{"$f":"'Library Info Input'!D28","v":0},{"$f":"'Library Info Input'!F28","v":0},{"$error":"#DIV/0!"},{"$f":"'Library Info Input'!G28","v":0},1,0,{"$f":"'Library Info Input'!H28","v":0},{"$f":"'Library Info Input'!I28","v":0},0,{"$error":"#DIV/0!"},{"$error":"#DIV/0!"},0,0,0,""]
[null,{"$f":"'Library Info Input'!B29","v":0},{"$f":"'Library Info Input'!C29","v":"4B"},{"$f":"'Library Info Input'!D29","v":0},{"$f":"'Library Info Input'!F29","v":0},{"$error":"#DIV/0!"},{"$f":"'Library Info Input'!G29","v":0},1,0,{"$f":"'Library Info Input'!H29","v":0},{"$f":"'Library Info Input'!I29","v":0},0,{"$error":"#DIV/0!"},{"$error":"#DIV/0!"},0,0,0,""]
[null,{"$f":"'Library Info Input'!B30","v":0},{"$f":"'Library Info Input'!C30","v":"4C"},{"$f":"'Library Info Input'!D30","v":0},{"$f":"'Library Info Input'!F30","v":0},{"$error":"#DIV/0!"},{"$f":"'Library Info Input'!G30","v":0},1,0,{"$f":"'Library Info Input'!H30","v":0},{"$f":"'Library Info Input'!I30","v":0},0,{"$error":"#DIV/0!"},{"$error":"#DIV/0!"},0,0,0,""]
[null,{"$f":"'Library Info Input'!B31","v":0},{"$f":"'Library Info Input'!C31","v":"4D"},{"$f":"'Library Info Input'!D31","v":0},{"$f":"'Library Info Input'!F31","v":0},{"$f":"E38*M38","v":{"$error":"#DIV/0!"}},{"$f":"'Library Info Input'!G31","v":0},1,0,{"$f":"'Library Info Input'!H31","v":0},{"$f":"'Library Info Input'!I31","v":0},0,{"$error":"#DIV/0!"},{"$error":"#DIV/0!"},0,0,0,""]
[null,{"$f":"'Library Info Input'!B32","v":0},{"$f":"'Library Info Input'!C32","v":"4E"},{"$f":"'Library Info Input'!D32","v":0},{"$f":"'Library Info Input'!F32","v":0},{"$f":"E39*M39","v":{"$error":"#DIV/0!"}},{"$f":"'Library Info Input'!G32","v":0},1,0,{"$f":"'Library Info Input'!H32","v":0},{"$f":"'Library Info Input'!I32","v":0},0,{"$error":"#DIV/0!"},{"$error":"#DIV/0!"},0,0,0,""]
[null,{"$f":"'Library Info Input'!B33","v":0},{"$f":"'Library Info Input'!C33","v":"4F"},{"$f":"'Library Info Input'!D33","v":0},{"$f":"'Library Info Input'!F33","v":0},{"$error":"#DIV/0!"},{"$f":"'Library Info Input'!G33","v":0},1,0,{"$f":"'Library Info Input'!H33","v":0},{"$f":"'Library Info Input'!I33","v":0},0,{"$error":"#DIV/0!"},{"$error":"#DIV/0!"},0,0,0,""]
[null,{"$f":"'Library Info Input'!B34","v":0},{"$f":"'Library Info Input'!C34","v":"4G"},{"$f":"'Library Info Input'!D34","v":0},{"$f":"'Library Info Input'!F34","v":0},{"$error":"#DIV/0!"},{"$f":"'Library Info Input'!G34","v":0},1,0,{"$f":"'Library Info Input'!H34","v":0},{"$f":"'Library Info Input'!I34","v":0},0,{"$error":"#DIV/0!"},{"$error":"#DIV/0!"},0,0,0,""]
[null,{"$f":"'Library Info Input'!B35","v":0},{"$f":"'Library Info Input'!C35","v":"4H"},{"$f":"'Library Info Input'!D35","v":0},{"$f":"'Library Info Input'!F35","v":0},{"$error":"#DIV/0!"},{"$f":"'Library Info Input'!G35","v":0},1,0,{"$f":"'Library Info Input'!H35","v":0},{"$f":"'Library Info Input'!I35","v":0},0,{"$error":"#DIV/0!"},{"$error":"#DIV/0!"},0,0,0,""]
[]
[null,null,null,null,"Pro-rated size (bp) for pool level quantification =_",{"$f":"SUMIF(B11:B42,\"3\",F11:F42)","v":0},null,null,null,null,"Total Reads =_",{"$f":"SUMIF(B11:B42,\"3\",L11:L42)","v":0},{"$f":"SUMIF(B11:B42,\"3\",M11:M42)","v":0},null,null,null,"Total Sample Volume = ",{"$f":"SUMIF(B11:B42,\"3\",R11:R42)","v":0}]
[null,null,null,null,null,null,null,null,null,null,null,null,null,null,null,null,"Pool Diluent Volume = ",{"$f":"O7-R44","v":0}]
[null,"Dilution Table - Do Not Modify"]
[null,"Dilution Factor","Library\nDilution\nVolume","Diluent Dilution Volume","Total Volume"]
[null,1,0,0,{"$f":"B48*C48","v":0}]
[null,2,10,{"$f":"E49-C49","v":10},20]
[null,3,7,14,21]
[null,4,5,15,20]
[null,5,5,20,25]
[null,6,5,25,30]
[null,7,5,30,35]
[null,8,5,35,40]
[null,9,5,40,45]
[null,10,5,45,50]

{"sheet":"Library Pool #4","index":6,"n_rows":57,"n_cols":18,"rows_kept":57,"cut":false,"hidden":false,"merged":[[8,14,8,16],[45,1,45,4],[6,7,6,10]]}
[null,"Chromium Connect Pooling Workbook  |  10xgenomics.com"]
[null,"Library Pool #4"]
[]
[null,"Conditions",null,null,null,null,"Legend"]
[null," •  Final Transfer Volume of libraries must be between 3-20 µl ",null,null,null,null,"Blue"," Fields where data need to be entered manually",null,null,null,null,null,"Pool Number_",4]
[null," •  Target Library Pool Volume must be between 50-300 µl",null,null,null,null,"Green"," Volumes to enter on Chromium Connect",null,null,null,null,null,"Target Library Pool Concentration_",3,"nM"]
[null," •  Dilution Factors must be integers between 1-10",null,null,null,null,"Red"," Verify that value is correct",null,null,null,null,null,"Target Library Pool Volume_",0,"uL"]
[]
[null,null,null,null,null,null,null,null,null,null,null,null,null,null,"Intermediate Dilution on Deck"]
[null,"Library Pool 4","Tube Position (Tube Strip #, A-H)","Library ID","Average Library Size (bp)","Prorated Size","Library Concentration (nM)","Dilution Factor","Working  concentration (nM)","Cells/ sample","Reads/cell","Reads/\nsample","Fraction of Total Pool Reads","Individual Library Concentration (nM)","Library Dilution Volume (µl)","Diluent Dilution Volume (µl)","Total\nVolume (µl)","Final Transfer Volume (µl)"]
[null,{"$f":"'Library Info Input'!B4","v":1},{"$f":"'Library Info Input'!C4","v":"1A"},{"$f":"'Library Info Input'!D4","v":"Library-1"},{"$f":"'Library Info Input'!F4","v":491},{"$f":"E11*M11","v":{"$error":"#DIV/0!"}},{"$f":"'Library Info Input'!G4","v":10},1,{"$f":"G11/H11","v":10},{"$f":"'Library Info Input'!H4","v":5000},{"$f":"'Library Info Input'!I4","v":50000},{"$f":"J11*K11","v":250000000},{"$f":"L11/$L$44","v":{"$error":"#DIV/0!"}},{"$f":"M11*O$6","v":{"$error":"#DIV/0!"}},{"$f":"VLOOKUP($H11,$B$47:$E$57,2)","v":0},{"$f":"VLOOKUP($H11,$B$47:$E$57,3)","v":0},{"$f":"O11+P11","v":0},{"$f":"IF(I11, ($O$7*N11)/I11, \"\")","v":{"$error":"#DIV/0!"}}]
[null,{"$f":"'Library Info Input'!B5","v":0},{"$f":"'Library Info Input'!C5","v":"1B"},{"$f":"'Library Info Input'!D5","v":0},{"$f":"'Library Info Input'!F5","v":0},{"$error":"#DIV/0!"},{"$f":"'Library Info Input'!G5","v":0},1,0,{"$f":"'Library Info Input'!H5","v":0},{"$f":"'Library Info Input'!I5","v":0},0,{"$error":"#DIV/0!"},{"$error":"#DIV/0!"},0,0,0,""]
[null,{"$f":"'Library Info Input'!B6","v":0},{"$f":"'Library Info Input'!C6","v":"1C"},{"$f":"'Library Info Input'!D6","v":0},{"$f":"'Library Info Input'!F6","v":0},{"$error":"#DIV/0!"},{"$f":"'Library Info Input'!G6","v":0},1,0,{"$f":"'Library Info Input'!H6","v":0},{"$f":"'Library Info Input'!I6","v":0},0,{"$error":"#DIV/0!"},{"$error":"#DIV/0!"},0,0,0,""]
[null,{"$f":"'Library Info Input'!B7","v":0},{"$f":"'Library Info Input'!C7","v":"1D"},{"$f":"'Library Info Input'!D7","v":0},{"$f":"'Library Info Input'!F7","v":0},{"$f":"E14*M14","v":{"$error":"#DIV/0!"}},{"$f":"'Library Info Input'!G7","v":0},1,0,{"$f":"'Library Info Input'!H7","v":0},{"$f":"'Library Info Input'!I7","v":0},0,{"$error":"#DIV/0!"},{"$error":"#DIV/0!"},0,0,0,""]
[null,{"$f":"'Library Info Input'!B8","v":0},{"$f":"'Library Info Input'!C8","v":"1E"},{"$f":"'Library Info Input'!D8","v":0},{"$f":"'Library Info Input'!F8","v":0},{"$error":"#DIV/0!"},{"$f":"'Library Info Input'!G8","v":0},1,0,{"$f":"'Library Info Input'!H8","v":0},{"$f":"'Library Info Input'!I8","v":0},0,{"$error":"#DIV/0!"},{"$error":"#DIV/0!"},0,0,0,""]
[null,{"$f":"'Library Info Input'!B9","v":0},{"$f":"'Library Info Input'!C9","v":"1F"},{"$f":"'Library Info Input'!D9","v":0},{"$f":"'Library Info Input'!F9","v":0},{"$error":"#DIV/0!"},{"$f":"'Library Info Input'!G9","v":0},1,0,{"$f":"'Library Info Input'!H9","v":0},{"$f":"'Library Info Input'!I9","v":0},0,{"$error":"#DIV/0!"},{"$error":"#DIV/0!"},0,0,0,""]
[null,{"$f":"'Library Info Input'!B10","v":0},{"$f":"'Library Info Input'!C10","v":"1G"},{"$f":"'Library Info Input'!D10","v":0},{"$f":"'Library Info Input'!F10","v":0},{"$error":"#DIV/0!"},{"$f":"'Library Info Input'!G10","v":0},1,0,{"$f":"'Library Info Input'!H10","v":0},{"$f":"'Library Info Input'!I10","v":0},0,{"$error":"#DIV/0!"},{"$error":"#DIV/0!"},0,0,0,""]
[null,{"$f":"'Library Info Input'!B11","v":0},{"$f":"'Library Info Input'!C11","v":"1H"},{"$f":"'Library Info Input'!D11","v":0},{"$f":"'Library Info Input'!F11","v":0},{"$error":"#DIV/0!"},{"$f":"'Library Info Input'!G11","v":0},1,0,{"$f":"'Library Info Input'!H11","v":0},{"$f":"'Library Info Input'!I11","v":0},0,{"$error":"#DIV/0!"},{"$error":"#DIV/0!"},0,0,0,""]
[null,{"$f":"'Library Info Input'!B12","v":0},{"$f":"'Library Info Input'!C12","v":"2A"},{"$f":"'Library Info Input'!D12","v":0},{"$f":"'Library Info Input'!F12","v":0},{"$error":"#DIV/0!"},{"$f":"'Library Info Input'!G12","v":0},1,0,{"$f":"'Library Info Input'!H12","v":0},{"$f":"'Library Info Input'!I12","v":0},0,{"$error":"#DIV/0!"},{"$error":"#DIV/0!"},0,0,0,""]
[null,{"$f":"'Library Info Input'!B13","v":0},{"$f":"'Library Info Input'!C13","v":"2B"},{"$f":"'Library Info Input'!D13","v":0},{"$f":"'Library Info Input'!F13","v":0},{"$error":"#DIV/0!"},{"$f":"'Library Info Input'!G13","v":0},1,0,{"$f":"'Library Info Input'!H13","v":0},{"$f":"'Library Info Input'!I13","v":0},0,{"$error":"#DIV/0!"},{"$error":"#DIV/0!"},0,0,0,""]
[null,{"$f":"'Library Info Input'!B14","v":0},{"$f":"'Library Info Input'!C14","v":"2C"},{"$f":"'Library Info Input'!D14","v":0},{"$f":"'Library Info Input'!F14","v":0},{"$error":"#DIV/0!"},{"$f":"'Library Info Input'!G14","v":0},1,0,{"$f":"'Library Info Input'!H14","v":0},{"$f":"'Library Info Input'!I14","v":0},0,{"$error":"#DIV/0!"},{"$error":"#DIV/0!"},0,0,0,""]
[null,{"$f":"'Library Info Input'!B15","v":0},{"$f":"'Library Info Input'!C15","v":"2D"},{"$f":"'Library Info Input'!D15","v":0},{"$f":"'Library Info Input'!F15","v":0},{"$f":"E22*M22","v":{"$error":"#DIV/0!"}},{"$f":"'Library Info Input'!G15","v":0},1,0,{"$f":"'Library Info Input'!H15","v":0},{"$f":"'Library Info Input'!I15","v":0},0,{"$error":"#DIV/0!"},{"$error":"#DIV/0!"},0,0,0,""]
[null,{"$f":"'Library Info Input'!B16","v":0},{"$f":"'Library Info Input'!C16","v":"2E"},{"$f":"'Library Info Input'!D16","v":0},{"$f":"'Library Info Input'!F16","v":0},{"$f":"E23*M23","v":{"$error":"#DIV/0!"}},{"$f":"'Library Info Input'!G16","v":0},1,0,{"$f":"'Library Info Input'!H16","v":0},{"$f":"'Library Info Input'!I16","v":0},0,{"$error":"#DIV/0!"},{"$error":"#DIV/0!"},0,0,0,""]
[null,{"$f":"'Library Info Input'!B17","v":0},{"$f":"'Library Info Input'!C17","v":"2F"},{"$f":"'Library Info Input'!D17","v":0},{"$f":"'Library Info Input'!F17","v":0},{"$error":"#DIV/0!"},{"$f":"'Library Info Input'!G17","v":0},1,0,{"$f":"'Library Info Input'!H17","v":0},{"$f":"'Library Info Input'!I17","v":0},0,{"$error":"#DIV/0!"},{"$error":"#DIV/0!"},0,0,0,""]
[null,{"$f":"'Library Info Input'!B18","v":0},{"$f":"'Library Info Input'!C18","v":"2G"},{"$f":"'Library Info Input'!D18","v":0},{"$f":"'Library Info Input'!F18","v":0},{"$error":"#DIV/0!"},{"$f":"'Library Info Input'!G18","v":0},1,0,{"$f":"'Library Info Input'!H18","v":0},{"$f":"'Library Info Input'!I18","v":0},0,{"$error":"#DIV/0!"},{"$error":"#DIV/0!"},0,0,0,""]
[null,{"$f":"'Library Info Input'!B19","v":0},{"$f":"'Library Info Input'!C19","v":"2H"},{"$f":"'Library Info Input'!D19","v":0},{"$f":"'Library Info Input'!F19","v":0},{"$error":"#DIV/0!"},{"$f":"'Library Info Input'!G19","v":0},1,0,{"$f":"'Library Info Input'!H19","v":0},{"$f":"'Library Info Input'!I19","v":0},0,{"$error":"#DIV/0!"},{"$error":"#DIV/0!"},0,0,0,""]
[null,{"$f":"'Library Info Input'!B20","v":0},{"$f":"'Library Info Input'!C20","v":"3A"},{"$f":"'Library Info Input'!D20","v":0},{"$f":"'Library Info Input'!F20","v":0},{"$error":"#DIV/0!"},{"$f":"'Library Info Input'!G20","v":0},1,0,{"$f":"'Library Info Input'!H20","v":0},{"$f":"'Library Info Input'!I20","v":0},0,{"$error":"#DIV/0!"},{"$error":"#DIV/0!"},0,0,0,""]
[null,{"$f":"'Library Info Input'!B21","v":0},{"$f":"'Library Info Input'!C21","v":"3B"},{"$f":"'Library Info Input'!D21","v":0},{"$f":"'Library Info Input'!F21","v":0},{"$error":"#DIV/0!"},{"$f":"'Library Info Input'!G21","v":0},1,0,{"$f":"'Library Info Input'!H21","v":0},{"$f":"'Library Info Input'!I21","v":0},0,{"$error":"#DIV/0!"},{"$error":"#DIV/0!"},0,0,0,""]
[null,{"$f":"'Library Info Input'!B22","v":0},{"$f":"'Library Info Input'!C22","v":"3C"},{"$f":"'Library Info Input'!D22","v":0},{"$f":"'Library Info Input'!F22","v":0},{"$error":"#DIV/0!"},{"$f":"'Library Info Input'!G22","v":0},1,0,{"$f":"'Library Info Input'!H22","v":0},{"$f":"'Library Info Input'!I22","v":0},0,{"$error":"#DIV/0!"},{"$error":"#DIV/0!"},0,0,0,""]
[null,{"$f":"'Library Info Input'!B23","v":0},{"$f":"'Library Info Input'!C23","v":"3D"},{"$f":"'Library Info Input'!D23","v":0},{"$f":"'Library Info Input'!F23","v":0},{"$f":"E30*M30","v":{"$error":"#DIV/0!"}},{"$f":"'Library Info Input'!G23","v":0},1,0,{"$f":"'Library Info Input'!H23","v":0},{"$f":"'Library Info Input'!I23","v":0},{"$f":"J30*K30","v":0},{"$f":"L30/$L$44","v":{"$error":"#DIV/0!"}},{"$error":"#DIV/0!"},0,0,0,""]
[null,{"$f":"'Library Info Input'!B24","v":0},{"$f":"'Library Info Input'!C24","v":"3E"},{"$f":"'Library Info Input'!D24","v":0},{"$f":"'Library Info Input'!F24","v":0},{"$f":"E31*M31","v":{"$error":"#DIV/0!"}},{"$f":"'Library Info Input'!G24","v":0},1,0,{"$f":"'Library Info Input'!H24","v":0},{"$f":"'Library Info Input'!I24","v":0},0,{"$error":"#DIV/0!"},{"$error":"#DIV/0!"},0,0,0,""]
[null,{"$f":"'Library Info Input'!B25","v":0},{"$f":"'Library Info Input'!C25","v":"3F"},{"$f":"'Library Info Input'!D25","v":0},{"$f":"'Library Info Input'!F25","v":0},{"$error":"#DIV/0!"},{"$f":"'Library Info Input'!G25","v":0},1,0,{"$f":"'Library Info Input'!H25","v":0},{"$f":"'Library Info Input'!I25","v":0},0,{"$error":"#DIV/0!"},{"$error":"#DIV/0!"},0,0,0,""]
[null,{"$f":"'Library Info Input'!B26","v":0},{"$f":"'Library Info Input'!C26","v":"3G"},{"$f":"'Library Info Input'!D26","v":0},{"$f":"'Library Info Input'!F26","v":0},{"$error":"#DIV/0!"},{"$f":"'Library Info Input'!G26","v":0},1,0,{"$f":"'Library Info Input'!H26","v":0},{"$f":"'Library Info Input'!I26","v":0},0,{"$error":"#DIV/0!"},{"$error":"#DIV/0!"},0,0,0,""]
[null,{"$f":"'Library Info Input'!B27","v":0},{"$f":"'Library Info Input'!C27","v":"3H"},{"$f":"'Library Info Input'!D27","v":0},{"$f":"'Library Info Input'!F27","v":0},{"$error":"#DIV/0!"},{"$f":"'Library Info Input'!G27","v":0},1,0,{"$f":"'Library Info Input'!H27","v":0},{"$f":"'Library Info Input'!I27","v":0},0,{"$error":"#DIV/0!"},{"$error":"#DIV/0!"},0,0,0,""]
[null,{"$f":"'Library Info Input'!B28","v":0},{"$f":"'Library Info Input'!C28","v":"4A"},{"$f":"'Library Info Input'!D28","v":0},{"$f":"'Library Info Input'!F28","v":0},{"$error":"#DIV/0!"},{"$f":"'Library Info Input'!G28","v":0},1,0,{"$f":"'Library Info Input'!H28","v":0},{"$f":"'Library Info Input'!I28","v":0},0,{"$error":"#DIV/0!"},{"$error":"#DIV/0!"},0,0,0,""]
[null,{"$f":"'Library Info Input'!B29","v":0},{"$f":"'Library Info Input'!C29","v":"4B"},{"$f":"'Library Info Input'!D29","v":0},{"$f":"'Library Info Input'!F29","v":0},{"$error":"#DIV/0!"},{"$f":"'Library Info Input'!G29","v":0},1,0,{"$f":"'Library Info Input'!H29","v":0},{"$f":"'Library Info Input'!I29","v":0},0,{"$error":"#DIV/0!"},{"$error":"#DIV/0!"},0,0,0,""]
[null,{"$f":"'Library Info Input'!B30","v":0},{"$f":"'Library Info Input'!C30","v":"4C"},{"$f":"'Library Info Input'!D30","v":0},{"$f":"'Library Info Input'!F30","v":0},{"$error":"#DIV/0!"},{"$f":"'Library Info Input'!G30","v":0},1,0,{"$f":"'Library Info Input'!H30","v":0},{"$f":"'Library Info Input'!I30","v":0},0,{"$error":"#DIV/0!"},{"$error":"#DIV/0!"},0,0,0,""]
[null,{"$f":"'Library Info Input'!B31","v":0},{"$f":"'Library Info Input'!C31","v":"4D"},{"$f":"'Library Info Input'!D31","v":0},{"$f":"'Library Info Input'!F31","v":0},{"$f":"E38*M38","v":{"$error":"#DIV/0!"}},{"$f":"'Library Info Input'!G31","v":0},1,0,{"$f":"'Library Info Input'!H31","v":0},{"$f":"'Library Info Input'!I31","v":0},0,{"$error":"#DIV/0!"},{"$error":"#DIV/0!"},0,0,0,""]
[null,{"$f":"'Library Info Input'!B32","v":0},{"$f":"'Library Info Input'!C32","v":"4E"},{"$f":"'Library Info Input'!D32","v":0},{"$f":"'Library Info Input'!F32","v":0},{"$f":"E39*M39","v":{"$error":"#DIV/0!"}},{"$f":"'Library Info Input'!G32","v":0},1,0,{"$f":"'Library Info Input'!H32","v":0},{"$f":"'Library Info Input'!I32","v":0},0,{"$error":"#DIV/0!"},{"$error":"#DIV/0!"},0,0,0,""]
[null,{"$f":"'Library Info Input'!B33","v":0},{"$f":"'Library Info Input'!C33","v":"4F"},{"$f":"'Library Info Input'!D33","v":0},{"$f":"'Library Info Input'!F33","v":0},{"$error":"#DIV/0!"},{"$f":"'Library Info Input'!G33","v":0},1,0,{"$f":"'Library Info Input'!H33","v":0},{"$f":"'Library Info Input'!I33","v":0},0,{"$error":"#DIV/0!"},{"$error":"#DIV/0!"},0,0,0,""]
[null,{"$f":"'Library Info Input'!B34","v":0},{"$f":"'Library Info Input'!C34","v":"4G"},{"$f":"'Library Info Input'!D34","v":0},{"$f":"'Library Info Input'!F34","v":0},{"$error":"#DIV/0!"},{"$f":"'Library Info Input'!G34","v":0},1,0,{"$f":"'Library Info Input'!H34","v":0},{"$f":"'Library Info Input'!I34","v":0},0,{"$error":"#DIV/0!"},{"$error":"#DIV/0!"},0,0,0,""]
[null,{"$f":"'Library Info Input'!B35","v":0},{"$f":"'Library Info Input'!C35","v":"4H"},{"$f":"'Library Info Input'!D35","v":0},{"$f":"'Library Info Input'!F35","v":0},{"$error":"#DIV/0!"},{"$f":"'Library Info Input'!G35","v":0},1,0,{"$f":"'Library Info Input'!H35","v":0},{"$f":"'Library Info Input'!I35","v":0},0,{"$error":"#DIV/0!"},{"$error":"#DIV/0!"},0,0,0,""]
[]
[null,null,null,null,"Pro-rated size (bp) for pool level quantification =_",{"$f":"SUMIF(B11:B42,\"4\",F11:F42)","v":0},null,null,null,null,"Total Reads =_",{"$f":"SUMIF(B11:B42,\"4\",L11:L42)","v":0},{"$f":"SUMIF(B11:B42, \"4\", M11:M42)","v":0},null,null,null,"Total Sample Volume = ",{"$f":"SUMIF(B11:B42,\"4\",R11:R42)","v":0}]
[null,null,null,null,null,null,null,null,null,null,null,null,null,null,null,null,"Pool Diluent Volume = ",{"$f":"O7-R44","v":0}]
[null,"Dilution Table - Do Not Modify"]
[null,"Dilution Factor","Library\nDilution\nVolume","Diluent Dilution Volume","Total Volume"]
[null,1,0,0,{"$f":"B48*C48","v":0}]
[null,2,10,{"$f":"E49-C49","v":10},20]
[null,3,7,14,21]
[null,4,5,15,20]
[null,5,5,20,25]
[null,6,5,25,30]
[null,7,5,30,35]
[null,8,5,35,40]
[null,9,5,40,45]
[null,10,5,45,50]

{"sheet":"Library Pool #5","index":7,"n_rows":57,"n_cols":18,"rows_kept":57,"cut":false,"hidden":false,"merged":[[8,14,8,16],[45,1,45,4],[6,7,6,10]]}
[null,"Chromium Connect Pooling Workbook  |  10xgenomics.com"]
[null,"Library Pool #5"]
[]
[null,"Conditions",null,null,null,null,"Legend"]
[null," •  Final Transfer Volume of libraries must be between 3-20 µl ",null,null,null,null,"Blue"," Fields where data need to be entered manually",null,null,null,null,null,"Pool Number_",5]
[null," •  Target Library Pool Volume must be between 50-300 µl",null,null,null,null,"Green"," Volumes to enter on Chromium Connect",null,null,null,null,null,"Target Library Pool Concentration_",3,"nM"]
[null," •  Dilution Factors must be integers between 1-10",null,null,null,null,"Red"," Verify that value is correct",null,null,null,null,null,"Target Library Pool Volume_",0,"uL"]
[]
[null,null,null,null,null,null,null,null,null,null,null,null,null,null,"Intermediate Dilution on Deck"]
[null,"Library Pool","Tube Position (Tube Strip #, A-H)","Library ID","Average Library Size (bp)","Prorated Size","Library Concentration (nM)","Dilution Factor","Working  concentration (nM)","Cells/ sample","Reads/cell","Reads/\nsample","Fraction of Total Pool Reads","Individual Library Concentration (nM)","Library Dilution Volume (µl)","Diluent Dilution Volume (µl)","Total\nVolume (µl)","Final Transfer Volume (µl)"]
[null,{"$f":"'Library Info Input'!B4","v":1},{"$f":"'Library Info Input'!C4","v":"1A"},{"$f":"'Library Info Input'!D4","v":"Library-1"},{"$f":"'Library Info Input'!F4","v":491},{"$f":"E11*M11","v":{"$error":"#DIV/0!"}},{"$f":"'Library Info Input'!G4","v":10},1,{"$f":"G11/H11","v":10},{"$f":"'Library Info Input'!H4","v":5000},{"$f":"'Library Info Input'!I4","v":50000},{"$f":"J11*K11","v":250000000},{"$f":"L11/$L$44","v":{"$error":"#DIV/0!"}},{"$f":"M11*O$6","v":{"$error":"#DIV/0!"}},{"$f":"VLOOKUP($H11,$B$47:$E$57,2)","v":0},{"$f":"VLOOKUP($H11,$B$47:$E$57,3)","v":0},{"$f":"O11+P11","v":0},{"$f":"IF(I11, ($O$7*N11)/I11, \"\")","v":{"$error":"#DIV/0!"}}]
[null,{"$f":"'Library Info Input'!B5","v":0},{"$f":"'Library Info Input'!C5","v":"1B"},{"$f":"'Library Info Input'!D5","v":0},{"$f":"'Library Info Input'!F5","v":0},{"$error":"#DIV/0!"},{"$f":"'Library Info Input'!G5","v":0},1,0,{"$f":"'Library Info Input'!H5","v":0},{"$f":"'Library Info Input'!I5","v":0},0,{"$error":"#DIV/0!"},{"$error":"#DIV/0!"},0,0,0,""]
[null,{"$f":"'Library Info Input'!B6","v":0},{"$f":"'Library Info Input'!C6","v":"1C"},{"$f":"'Library Info Input'!D6","v":0},{"$f":"'Library Info Input'!F6","v":0},{"$error":"#DIV/0!"},{"$f":"'Library Info Input'!G6","v":0},1,0,{"$f":"'Library Info Input'!H6","v":0},{"$f":"'Library Info Input'!I6","v":0},0,{"$error":"#DIV/0!"},{"$error":"#DIV/0!"},0,0,0,""]
[null,{"$f":"'Library Info Input'!B7","v":0},{"$f":"'Library Info Input'!C7","v":"1D"},{"$f":"'Library Info Input'!D7","v":0},{"$f":"'Library Info Input'!F7","v":0},{"$f":"E14*M14","v":{"$error":"#DIV/0!"}},{"$f":"'Library Info Input'!G7","v":0},1,0,{"$f":"'Library Info Input'!H7","v":0},{"$f":"'Library Info Input'!I7","v":0},0,{"$error":"#DIV/0!"},{"$error":"#DIV/0!"},0,0,0,""]
[null,{"$f":"'Library Info Input'!B8","v":0},{"$f":"'Library Info Input'!C8","v":"1E"},{"$f":"'Library Info Input'!D8","v":0},{"$f":"'Library Info Input'!F8","v":0},{"$error":"#DIV/0!"},{"$f":"'Library Info Input'!G8","v":0},1,0,{"$f":"'Library Info Input'!H8","v":0},{"$f":"'Library Info Input'!I8","v":0},0,{"$error":"#DIV/0!"},{"$error":"#DIV/0!"},0,0,0,""]
[null,{"$f":"'Library Info Input'!B9","v":0},{"$f":"'Library Info Input'!C9","v":"1F"},{"$f":"'Library Info Input'!D9","v":0},{"$f":"'Library Info Input'!F9","v":0},{"$error":"#DIV/0!"},{"$f":"'Library Info Input'!G9","v":0},1,0,{"$f":"'Library Info Input'!H9","v":0},{"$f":"'Library Info Input'!I9","v":0},0,{"$error":"#DIV/0!"},{"$error":"#DIV/0!"},0,0,0,""]
[null,{"$f":"'Library Info Input'!B10","v":0},{"$f":"'Library Info Input'!C10","v":"1G"},{"$f":"'Library Info Input'!D10","v":0},{"$f":"'Library Info Input'!F10","v":0},{"$error":"#DIV/0!"},{"$f":"'Library Info Input'!G10","v":0},1,0,{"$f":"'Library Info Input'!H10","v":0},{"$f":"'Library Info Input'!I10","v":0},0,{"$error":"#DIV/0!"},{"$error":"#DIV/0!"},0,0,0,""]
[null,{"$f":"'Library Info Input'!B11","v":0},{"$f":"'Library Info Input'!C11","v":"1H"},{"$f":"'Library Info Input'!D11","v":0},{"$f":"'Library Info Input'!F11","v":0},{"$error":"#DIV/0!"},{"$f":"'Library Info Input'!G11","v":0},1,0,{"$f":"'Library Info Input'!H11","v":0},{"$f":"'Library Info Input'!I11","v":0},0,{"$error":"#DIV/0!"},{"$error":"#DIV/0!"},0,0,0,""]
[null,{"$f":"'Library Info Input'!B12","v":0},{"$f":"'Library Info Input'!C12","v":"2A"},{"$f":"'Library Info Input'!D12","v":0},{"$f":"'Library Info Input'!F12","v":0},{"$error":"#DIV/0!"},{"$f":"'Library Info Input'!G12","v":0},1,0,{"$f":"'Library Info Input'!H12","v":0},{"$f":"'Library Info Input'!I12","v":0},0,{"$error":"#DIV/0!"},{"$error":"#DIV/0!"},0,0,0,""]
[null,{"$f":"'Library Info Input'!B13","v":0},{"$f":"'Library Info Input'!C13","v":"2B"},{"$f":"'Library Info Input'!D13","v":0},{"$f":"'Library Info Input'!F13","v":0},{"$error":"#DIV/0!"},{"$f":"'Library Info Input'!G13","v":0},1,0,{"$f":"'Library Info Input'!H13","v":0},{"$f":"'Library Info Input'!I13","v":0},0,{"$error":"#DIV/0!"},{"$error":"#DIV/0!"},0,0,0,""]
[null,{"$f":"'Library Info Input'!B14","v":0},{"$f":"'Library Info Input'!C14","v":"2C"},{"$f":"'Library Info Input'!D14","v":0},{"$f":"'Library Info Input'!F14","v":0},{"$error":"#DIV/0!"},{"$f":"'Library Info Input'!G14","v":0},1,0,{"$f":"'Library Info Input'!H14","v":0},{"$f":"'Library Info Input'!I14","v":0},0,{"$error":"#DIV/0!"},{"$error":"#DIV/0!"},0,0,0,""]
[null,{"$f":"'Library Info Input'!B15","v":0},{"$f":"'Library Info Input'!C15","v":"2D"},{"$f":"'Library Info Input'!D15","v":0},{"$f":"'Library Info Input'!F15","v":0},{"$f":"E22*M22","v":{"$error":"#DIV/0!"}},{"$f":"'Library Info Input'!G15","v":0},1,0,{"$f":"'Library Info Input'!H15","v":0},{"$f":"'Library Info Input'!I15","v":0},0,{"$error":"#DIV/0!"},{"$error":"#DIV/0!"},0,0,0,""]
[null,{"$f":"'Library Info Input'!B16","v":0},{"$f":"'Library Info Input'!C16","v":"2E"},{"$f":"'Library Info Input'!D16","v":0},{"$f":"'Library Info Input'!F16","v":0},{"$f":"E23*M23","v":{"$error":"#DIV/0!"}},{"$f":"'Library Info Input'!G16","v":0},1,0,{"$f":"'Library Info Input'!H16","v":0},{"$f":"'Library Info Input'!I16","v":0},0,{"$error":"#DIV/0!"},{"$error":"#DIV/0!"},0,0,0,""]
[null,{"$f":"'Library Info Input'!B17","v":0},{"$f":"'Library Info Input'!C17","v":"2F"},{"$f":"'Library Info Input'!D17","v":0},{"$f":"'Library Info Input'!F17","v":0},{"$error":"#DIV/0!"},{"$f":"'Library Info Input'!G17","v":0},1,0,{"$f":"'Library Info Input'!H17","v":0},{"$f":"'Library Info Input'!I17","v":0},0,{"$error":"#DIV/0!"},{"$error":"#DIV/0!"},0,0,0,""]
[null,{"$f":"'Library Info Input'!B18","v":0},{"$f":"'Library Info Input'!C18","v":"2G"},{"$f":"'Library Info Input'!D18","v":0},{"$f":"'Library Info Input'!F18","v":0},{"$error":"#DIV/0!"},{"$f":"'Library Info Input'!G18","v":0},1,0,{"$f":"'Library Info Input'!H18","v":0},{"$f":"'Library Info Input'!I18","v":0},0,{"$error":"#DIV/0!"},{"$error":"#DIV/0!"},0,0,0,""]
[null,{"$f":"'Library Info Input'!B19","v":0},{"$f":"'Library Info Input'!C19","v":"2H"},{"$f":"'Library Info Input'!D19","v":0},{"$f":"'Library Info Input'!F19","v":0},{"$error":"#DIV/0!"},{"$f":"'Library Info Input'!G19","v":0},1,0,{"$f":"'Library Info Input'!H19","v":0},{"$f":"'Library Info Input'!I19","v":0},0,{"$error":"#DIV/0!"},{"$error":"#DIV/0!"},0,0,0,""]
[null,{"$f":"'Library Info Input'!B20","v":0},{"$f":"'Library Info Input'!C20","v":"3A"},{"$f":"'Library Info Input'!D20","v":0},{"$f":"'Library Info Input'!F20","v":0},{"$error":"#DIV/0!"},{"$f":"'Library Info Input'!G20","v":0},1,0,{"$f":"'Library Info Input'!H20","v":0},{"$f":"'Library Info Input'!I20","v":0},0,{"$error":"#DIV/0!"},{"$error":"#DIV/0!"},0,0,0,""]
[null,{"$f":"'Library Info Input'!B21","v":0},{"$f":"'Library Info Input'!C21","v":"3B"},{"$f":"'Library Info Input'!D21","v":0},{"$f":"'Library Info Input'!F21","v":0},{"$error":"#DIV/0!"},{"$f":"'Library Info Input'!G21","v":0},1,0,{"$f":"'Library Info Input'!H21","v":0},{"$f":"'Library Info Input'!I21","v":0},0,{"$error":"#DIV/0!"},{"$error":"#DIV/0!"},0,0,0,""]
[null,{"$f":"'Library Info Input'!B22","v":0},{"$f":"'Library Info Input'!C22","v":"3C"},{"$f":"'Library Info Input'!D22","v":0},{"$f":"'Library Info Input'!F22","v":0},{"$error":"#DIV/0!"},{"$f":"'Library Info Input'!G22","v":0},1,0,{"$f":"'Library Info Input'!H22","v":0},{"$f":"'Library Info Input'!I22","v":0},0,{"$error":"#DIV/0!"},{"$error":"#DIV/0!"},0,0,0,""]
[null,{"$f":"'Library Info Input'!B23","v":0},{"$f":"'Library Info Input'!C23","v":"3D"},{"$f":"'Library Info Input'!D23","v":0},{"$f":"'Library Info Input'!F23","v":0},{"$f":"E30*M30","v":{"$error":"#DIV/0!"}},{"$f":"'Library Info Input'!G23","v":0},1,0,{"$f":"'Library Info Input'!H23","v":0},{"$f":"'Library Info Input'!I23","v":0},0,{"$error":"#DIV/0!"},{"$error":"#DIV/0!"},0,0,0,""]
[null,{"$f":"'Library Info Input'!B24","v":0},{"$f":"'Library Info Input'!C24","v":"3E"},{"$f":"'Library Info Input'!D24","v":0},{"$f":"'Library Info Input'!F24","v":0},{"$f":"E31*M31","v":{"$error":"#DIV/0!"}},{"$f":"'Library Info Input'!G24","v":0},1,0,{"$f":"'Library Info Input'!H24","v":0},{"$f":"'Library Info Input'!I24","v":0},0,{"$error":"#DIV/0!"},{"$error":"#DIV/0!"},0,0,0,""]
[null,{"$f":"'Library Info Input'!B25","v":0},{"$f":"'Library Info Input'!C25","v":"3F"},{"$f":"'Library Info Input'!D25","v":0},{"$f":"'Library Info Input'!F25","v":0},{"$error":"#DIV/0!"},{"$f":"'Library Info Input'!G25","v":0},1,0,{"$f":"'Library Info Input'!H25","v":0},{"$f":"'Library Info Input'!I25","v":0},0,{"$error":"#DIV/0!"},{"$error":"#DIV/0!"},0,0,0,""]
[null,{"$f":"'Library Info Input'!B26","v":0},{"$f":"'Library Info Input'!C26","v":"3G"},{"$f":"'Library Info Input'!D26","v":0},{"$f":"'Library Info Input'!F26","v":0},{"$error":"#DIV/0!"},{"$f":"'Library Info Input'!G26","v":0},1,0,{"$f":"'Library Info Input'!H26","v":0},{"$f":"'Library Info Input'!I26","v":0},0,{"$error":"#DIV/0!"},{"$error":"#DIV/0!"},0,0,0,""]
[null,{"$f":"'Library Info Input'!B27","v":0},{"$f":"'Library Info Input'!C27","v":"3H"},{"$f":"'Library Info Input'!D27","v":0},{"$f":"'Library Info Input'!F27","v":0},{"$error":"#DIV/0!"},{"$f":"'Library Info Input'!G27","v":0},1,0,{"$f":"'Library Info Input'!H27","v":0},{"$f":"'Library Info Input'!I27","v":0},0,{"$error":"#DIV/0!"},{"$error":"#DIV/0!"},0,0,0,""]
[null,{"$f":"'Library Info Input'!B28","v":0},{"$f":"'Library Info Input'!C28","v":"4A"},{"$f":"'Library Info Input'!D28","v":0},{"$f":"'Library Info Input'!F28","v":0},{"$error":"#DIV/0!"},{"$f":"'Library Info Input'!G28","v":0},1,0,{"$f":"'Library Info Input'!H28","v":0},{"$f":"'Library Info Input'!I28","v":0},0,{"$error":"#DIV/0!"},{"$error":"#DIV/0!"},0,0,0,""]
[null,{"$f":"'Library Info Input'!B29","v":0},{"$f":"'Library Info Input'!C29","v":"4B"},{"$f":"'Library Info Input'!D29","v":0},{"$f":"'Library Info Input'!F29","v":0},{"$error":"#DIV/0!"},{"$f":"'Library Info Input'!G29","v":0},1,0,{"$f":"'Library Info Input'!H29","v":0},{"$f":"'Library Info Input'!I29","v":0},0,{"$error":"#DIV/0!"},{"$error":"#DIV/0!"},0,0,0,""]
[null,{"$f":"'Library Info Input'!B30","v":0},{"$f":"'Library Info Input'!C30","v":"4C"},{"$f":"'Library Info Input'!D30","v":0},{"$f":"'Library Info Input'!F30","v":0},{"$error":"#DIV/0!"},{"$f":"'Library Info Input'!G30","v":0},1,0,{"$f":"'Library Info Input'!H30","v":0},{"$f":"'Library Info Input'!I30","v":0},0,{"$error":"#DIV/0!"},{"$error":"#DIV/0!"},0,0,0,""]
[null,{"$f":"'Library Info Input'!B31","v":0},{"$f":"'Library Info Input'!C31","v":"4D"},{"$f":"'Library Info Input'!D31","v":0},{"$f":"'Library Info Input'!F31","v":0},{"$f":"E38*M38","v":{"$error":"#DIV/0!"}},{"$f":"'Library Info Input'!G31","v":0},1,0,{"$f":"'Library Info Input'!H31","v":0},{"$f":"'Library Info Input'!I31","v":0},0,{"$error":"#DIV/0!"},{"$error":"#DIV/0!"},0,0,0,""]
[null,{"$f":"'Library Info Input'!B32","v":0},{"$f":"'Library Info Input'!C32","v":"4E"},{"$f":"'Library Info Input'!D32","v":0},{"$f":"'Library Info Input'!F32","v":0},{"$f":"E39*M39","v":{"$error":"#DIV/0!"}},{"$f":"'Library Info Input'!G32","v":0},1,0,{"$f":"'Library Info Input'!H32","v":0},{"$f":"'Library Info Input'!I32","v":0},0,{"$error":"#DIV/0!"},{"$error":"#DIV/0!"},0,0,0,""]
[null,{"$f":"'Library Info Input'!B33","v":0},{"$f":"'Library Info Input'!C33","v":"4F"},{"$f":"'Library Info Input'!D33","v":0},{"$f":"'Library Info Input'!F33","v":0},{"$error":"#DIV/0!"},{"$f":"'Library Info Input'!G33","v":0},1,0,{"$f":"'Library Info Input'!H33","v":0},{"$f":"'Library Info Input'!I33","v":0},0,{"$error":"#DIV/0!"},{"$error":"#DIV/0!"},0,0,0,""]
[null,{"$f":"'Library Info Input'!B34","v":0},{"$f":"'Library Info Input'!C34","v":"4G"},{"$f":"'Library Info Input'!D34","v":0},{"$f":"'Library Info Input'!F34","v":0},{"$error":"#DIV/0!"},{"$f":"'Library Info Input'!G34","v":0},1,0,{"$f":"'Library Info Input'!H34","v":0},{"$f":"'Library Info Input'!I34","v":0},0,{"$error":"#DIV/0!"},{"$error":"#DIV/0!"},0,0,0,""]
[null,{"$f":"'Library Info Input'!B35","v":0},{"$f":"'Library Info Input'!C35","v":"4H"},{"$f":"'Library Info Input'!D35","v":0},{"$f":"'Library Info Input'!F35","v":0},{"$error":"#DIV/0!"},{"$f":"'Library Info Input'!G35","v":0},1,0,{"$f":"'Library Info Input'!H35","v":0},{"$f":"'Library Info Input'!I35","v":0},0,{"$error":"#DIV/0!"},{"$error":"#DIV/0!"},0,0,0,""]
[]
[null,null,null,null,"Pro-rated size (bp) for pool level quantification =_",{"$f":"SUMIF(B11:B42,\"5\",F11:F42)","v":0},null,null,null,null,"Total Reads =_",{"$f":"SUMIF(B11:B42,\"5\",L11:L42)","v":0},{"$f":"SUMIF(B11:B42,\"5\",M11:M42)","v":0},null,null,null,"Total Sample Volume = ",{"$f":"SUMIF(B11:B42,\"5\",R11:R42)","v":0}]
[null,null,null,null,null,null,null,null,null,null,null,null,null,null,null,null,"Pool Diluent Volume = ",{"$f":"O7-R44","v":0}]
[null,"Dilution Table - Do Not Modify"]
[null,"Dilution Factor","Library\nDilution\nVolume","Diluent Dilution Volume","Total Volume"]
[null,1,0,0,{"$f":"B48*C48","v":0}]
[null,2,10,{"$f":"E49-C49","v":10},20]
[null,3,7,14,21]
[null,4,5,15,20]
[null,5,5,20,25]
[null,6,5,25,30]
[null,7,5,30,35]
[null,8,5,35,40]
[null,9,5,40,45]
[null,10,5,45,50]

{"sheet":"Library Pool #6","index":8,"n_rows":57,"n_cols":18,"rows_kept":57,"cut":false,"hidden":false,"merged":[[8,14,8,16],[45,1,45,4],[6,7,6,10]]}
[null,"Chromium Connect Pooling Workbook  |  10xgenomics.com"]
[null,"Library Pool #6"]
[]
[null,"Conditions",null,null,null,null,"Legend"]
[null," •  Final Transfer Volume of libraries must be between 3-20 µl ",null,null,null,null,"Blue"," Fields where data need to be entered manually",null,null,null,null,null,"Pool Number_",6]
[null," •  Target Library Pool Volume must be between 50-300 µl",null,null,null,null,"Green"," Volumes to enter on Chromium Connect",null,null,null,null,null,"Target Library Pool Concentration_",3,"nM"]
[null," •  Dilution Factors must be integers between 1-10",null,null,null,null,"Red"," Verify that value is correct",null,null,null,null,null,"Target Library Pool Volume_",0,"uL"]
[]
[null,null,null,null,null,null,null,null,null,null,null,null,null,null,"Intermediate Dilution on Deck"]
[null,"Library Pool","Tube Position (Tube Strip #, A-H)","Library ID","Average Library Size (bp)","Prorated Size","Library Concentration (nM)","Dilution Factor","Working  concentration (nM)","Cells/ sample","Reads/cell","Reads/\nsample","Fraction of Total Pool Reads","Individual Library Concentration (nM)","Library Dilution Volume (µl)","Diluent Dilution Volume (µl)","Total\nVolume (µl)","Final Transfer Volume (µl)"]
[null,{"$f":"'Library Info Input'!B4","v":1},{"$f":"'Library Info Input'!C4","v":"1A"},{"$f":"'Library Info Input'!D4","v":"Library-1"},{"$f":"'Library Info Input'!F4","v":491},{"$f":"E11*M11","v":{"$error":"#DIV/0!"}},{"$f":"'Library Info Input'!G4","v":10},1,{"$f":"G11/H11","v":10},{"$f":"'Library Info Input'!H4","v":5000},{"$f":"'Library Info Input'!I4","v":50000},{"$f":"J11*K11","v":250000000},{"$f":"L11/$L$44","v":{"$error":"#DIV/0!"}},{"$f":"M11*O$6","v":{"$error":"#DIV/0!"}},{"$f":"VLOOKUP($H11,$B$47:$E$57,2)","v":0},{"$f":"VLOOKUP($H11,$B$47:$E$57,3)","v":0},{"$f":"O11+P11","v":0},{"$f":"IF(I11, ($O$7*N11)/I11, \"\")","v":{"$error":"#DIV/0!"}}]
[null,{"$f":"'Library Info Input'!B5","v":0},{"$f":"'Library Info Input'!C5","v":"1B"},{"$f":"'Library Info Input'!D5","v":0},{"$f":"'Library Info Input'!F5","v":0},{"$error":"#DIV/0!"},{"$f":"'Library Info Input'!G5","v":0},1,0,{"$f":"'Library Info Input'!H5","v":0},{"$f":"'Library Info Input'!I5","v":0},0,{"$error":"#DIV/0!"},{"$error":"#DIV/0!"},{"$f":"VLOOKUP($H12,$B$47:$E$57,2)","v":0},0,0,""]
[null,{"$f":"'Library Info Input'!B6","v":0},{"$f":"'Library Info Input'!C6","v":"1C"},{"$f":"'Library Info Input'!D6","v":0},{"$f":"'Library Info Input'!F6","v":0},{"$error":"#DIV/0!"},{"$f":"'Library Info Input'!G6","v":0},1,0,{"$f":"'Library Info Input'!H6","v":0},{"$f":"'Library Info Input'!I6","v":0},0,{"$error":"#DIV/0!"},{"$error":"#DIV/0!"},0,0,0,""]
[null,{"$f":"'Library Info Input'!B7","v":0},{"$f":"'Library Info Input'!C7","v":"1D"},{"$f":"'Library Info Input'!D7","v":0},{"$f":"'Library Info Input'!F7","v":0},{"$f":"E14*M14","v":{"$error":"#DIV/0!"}},{"$f":"'Library Info Input'!G7","v":0},1,0,{"$f":"'Library Info Input'!H7","v":0},{"$f":"'Library Info Input'!I7","v":0},0,{"$error":"#DIV/0!"},{"$error":"#DIV/0!"},0,0,0,""]
[null,{"$f":"'Library Info Input'!B8","v":0},{"$f":"'Library Info Input'!C8","v":"1E"},{"$f":"'Library Info Input'!D8","v":0},{"$f":"'Library Info Input'!F8","v":0},{"$error":"#DIV/0!"},{"$f":"'Library Info Input'!G8","v":0},1,0,{"$f":"'Library Info Input'!H8","v":0},{"$f":"'Library Info Input'!I8","v":0},0,{"$error":"#DIV/0!"},{"$error":"#DIV/0!"},0,0,0,""]
[null,{"$f":"'Library Info Input'!B9","v":0},{"$f":"'Library Info Input'!C9","v":"1F"},{"$f":"'Library Info Input'!D9","v":0},{"$f":"'Library Info Input'!F9","v":0},{"$error":"#DIV/0!"},{"$f":"'Library Info Input'!G9","v":0},1,0,{"$f":"'Library Info Input'!H9","v":0},{"$f":"'Library Info Input'!I9","v":0},0,{"$error":"#DIV/0!"},{"$error":"#DIV/0!"},0,0,0,""]
[null,{"$f":"'Library Info Input'!B10","v":0},{"$f":"'Library Info Input'!C10","v":"1G"},{"$f":"'Library Info Input'!D10","v":0},{"$f":"'Library Info Input'!F10","v":0},{"$error":"#DIV/0!"},{"$f":"'Library Info Input'!G10","v":0},1,0,{"$f":"'Library Info Input'!H10","v":0},{"$f":"'Library Info Input'!I10","v":0},0,{"$error":"#DIV/0!"},{"$error":"#DIV/0!"},0,0,0,""]
[null,{"$f":"'Library Info Input'!B11","v":0},{"$f":"'Library Info Input'!C11","v":"1H"},{"$f":"'Library Info Input'!D11","v":0},{"$f":"'Library Info Input'!F11","v":0},{"$error":"#DIV/0!"},{"$f":"'Library Info Input'!G11","v":0},1,0,{"$f":"'Library Info Input'!H11","v":0},{"$f":"'Library Info Input'!I11","v":0},0,{"$error":"#DIV/0!"},{"$error":"#DIV/0!"},0,0,0,""]
[null,{"$f":"'Library Info Input'!B12","v":0},{"$f":"'Library Info Input'!C12","v":"2A"},{"$f":"'Library Info Input'!D12","v":0},{"$f":"'Library Info Input'!F12","v":0},{"$error":"#DIV/0!"},{"$f":"'Library Info Input'!G12","v":0},1,0,{"$f":"'Library Info Input'!H12","v":0},{"$f":"'Library Info Input'!I12","v":0},0,{"$error":"#DIV/0!"},{"$error":"#DIV/0!"},0,0,0,""]
[null,{"$f":"'Library Info Input'!B13","v":0},{"$f":"'Library Info Input'!C13","v":"2B"},{"$f":"'Library Info Input'!D13","v":0},{"$f":"'Library Info Input'!F13","v":0},{"$error":"#DIV/0!"},{"$f":"'Library Info Input'!G13","v":0},1,0,{"$f":"'Library Info Input'!H13","v":0},{"$f":"'Library Info Input'!I13","v":0},0,{"$error":"#DIV/0!"},{"$error":"#DIV/0!"},0,0,0,""]
[null,{"$f":"'Library Info Input'!B14","v":0},{"$f":"'Library Info Input'!C14","v":"2C"},{"$f":"'Library Info Input'!D14","v":0},{"$f":"'Library Info Input'!F14","v":0},{"$error":"#DIV/0!"},{"$f":"'Library Info Input'!G14","v":0},1,0,{"$f":"'Library Info Input'!H14","v":0},{"$f":"'Library Info Input'!I14","v":0},0,{"$error":"#DIV/0!"},{"$error":"#DIV/0!"},0,0,0,""]
[null,{"$f":"'Library Info Input'!B15","v":0},{"$f":"'Library Info Input'!C15","v":"2D"},{"$f":"'Library Info Input'!D15","v":0},{"$f":"'Library Info Input'!F15","v":0},{"$f":"E22*M22","v":{"$error":"#DIV/0!"}},{"$f":"'Library Info Input'!G15","v":0},1,0,{"$f":"'Library Info Input'!H15","v":0},{"$f":"'Library Info Input'!I15","v":0},0,{"$error":"#DIV/0!"},{"$error":"#DIV/0!"},0,0,0,""]
[null,{"$f":"'Library Info Input'!B16","v":0},{"$f":"'Library Info Input'!C16","v":"2E"},{"$f":"'Library Info Input'!D16","v":0},{"$f":"'Library Info Input'!F16","v":0},{"$f":"E23*M23","v":{"$error":"#DIV/0!"}},{"$f":"'Library Info Input'!G16","v":0},1,0,{"$f":"'Library Info Input'!H16","v":0},{"$f":"'Library Info Input'!I16","v":0},0,{"$error":"#DIV/0!"},{"$error":"#DIV/0!"},0,0,0,""]
[null,{"$f":"'Library Info Input'!B17","v":0},{"$f":"'Library Info Input'!C17","v":"2F"},{"$f":"'Library Info Input'!D17","v":0},{"$f":"'Library Info Input'!F17","v":0},{"$error":"#DIV/0!"},{"$f":"'Library Info Input'!G17","v":0},1,0,{"$f":"'Library Info Input'!H17","v":0},{"$f":"'Library Info Input'!I17","v":0},0,{"$error":"#DIV/0!"},{"$error":"#DIV/0!"},0,0,0,""]
[null,{"$f":"'Library Info Input'!B18","v":0},{"$f":"'Library Info Input'!C18","v":"2G"},{"$f":"'Library Info Input'!D18","v":0},{"$f":"'Library Info Input'!F18","v":0},{"$error":"#DIV/0!"},{"$f":"'Library Info Input'!G18","v":0},1,0,{"$f":"'Library Info Input'!H18","v":0},{"$f":"'Library Info Input'!I18","v":0},0,{"$error":"#DIV/0!"},{"$error":"#DIV/0!"},0,0,0,""]
[null,{"$f":"'Library Info Input'!B19","v":0},{"$f":"'Library Info Input'!C19","v":"2H"},{"$f":"'Library Info Input'!D19","v":0},{"$f":"'Library Info Input'!F19","v":0},{"$error":"#DIV/0!"},{"$f":"'Library Info Input'!G19","v":0},1,0,{"$f":"'Library Info Input'!H19","v":0},{"$f":"'Library Info Input'!I19","v":0},0,{"$error":"#DIV/0!"},{"$error":"#DIV/0!"},0,0,0,""]
[null,{"$f":"'Library Info Input'!B20","v":0},{"$f":"'Library Info Input'!C20","v":"3A"},{"$f":"'Library Info Input'!D20","v":0},{"$f":"'Library Info Input'!F20","v":0},{"$error":"#DIV/0!"},{"$f":"'Library Info Input'!G20","v":0},1,0,{"$f":"'Library Info Input'!H20","v":0},{"$f":"'Library Info Input'!I20","v":0},0,{"$error":"#DIV/0!"},{"$error":"#DIV/0!"},0,0,0,""]
[null,{"$f":"'Library Info Input'!B21","v":0},{"$f":"'Library Info Input'!C21","v":"3B"},{"$f":"'Library Info Input'!D21","v":0},{"$f":"'Library Info Input'!F21","v":0},{"$error":"#DIV/0!"},{"$f":"'Library Info Input'!G21","v":0},1,0,{"$f":"'Library Info Input'!H21","v":0},{"$f":"'Library Info Input'!I21","v":0},0,{"$error":"#DIV/0!"},{"$error":"#DIV/0!"},0,0,0,""]
[null,{"$f":"'Library Info Input'!B22","v":0},{"$f":"'Library Info Input'!C22","v":"3C"},{"$f":"'Library Info Input'!D22","v":0},{"$f":"'Library Info Input'!F22","v":0},{"$error":"#DIV/0!"},{"$f":"'Library Info Input'!G22","v":0},1,0,{"$f":"'Library Info Input'!H22","v":0},{"$f":"'Library Info Input'!I22","v":0},0,{"$error":"#DIV/0!"},{"$error":"#DIV/0!"},0,0,0,""]
[null,{"$f":"'Library Info Input'!B23","v":0},{"$f":"'Library Info Input'!C23","v":"3D"},{"$f":"'Library Info Input'!D23","v":0},{"$f":"'Library Info Input'!F23","v":0},{"$f":"E30*M30","v":{"$error":"#DIV/0!"}},{"$f":"'Library Info Input'!G23","v":0},1,0,{"$f":"'Library Info Input'!H23","v":0},{"$f":"'Library Info Input'!I23","v":0},0,{"$error":"#DIV/0!"},{"$error":"#DIV/0!"},0,0,0,""]
[null,{"$f":"'Library Info Input'!B24","v":0},{"$f":"'Library Info Input'!C24","v":"3E"},{"$f":"'Library Info Input'!D24","v":0},{"$f":"'Library Info Input'!F24","v":0},{"$f":"E31*M31","v":{"$error":"#DIV/0!"}},{"$f":"'Library Info Input'!G24","v":0},1,0,{"$f":"'Library Info Input'!H24","v":0},{"$f":"'Library Info Input'!I24","v":0},0,{"$error":"#DIV/0!"},{"$error":"#DIV/0!"},0,0,0,""]
[null,{"$f":"'Library Info Input'!B25","v":0},{"$f":"'Library Info Input'!C25","v":"3F"},{"$f":"'Library Info Input'!D25","v":0},{"$f":"'Library Info Input'!F25","v":0},{"$error":"#DIV/0!"},{"$f":"'Library Info Input'!G25","v":0},1,0,{"$f":"'Library Info Input'!H25","v":0},{"$f":"'Library Info Input'!I25","v":0},0,{"$error":"#DIV/0!"},{"$error":"#DIV/0!"},0,0,0,""]
[null,{"$f":"'Library Info Input'!B26","v":0},{"$f":"'Library Info Input'!C26","v":"3G"},{"$f":"'Library Info Input'!D26","v":0},{"$f":"'Library Info Input'!F26","v":0},{"$error":"#DIV/0!"},{"$f":"'Library Info Input'!G26","v":0},1,0,{"$f":"'Library Info Input'!H26","v":0},{"$f":"'Library Info Input'!I26","v":0},0,{"$error":"#DIV/0!"},{"$error":"#DIV/0!"},0,0,0,""]
[null,{"$f":"'Library Info Input'!B27","v":0},{"$f":"'Library Info Input'!C27","v":"3H"},{"$f":"'Library Info Input'!D27","v":0},{"$f":"'Library Info Input'!F27","v":0},{"$error":"#DIV/0!"},{"$f":"'Library Info Input'!G27","v":0},1,0,{"$f":"'Library Info Input'!H27","v":0},{"$f":"'Library Info Input'!I27","v":0},0,{"$error":"#DIV/0!"},{"$error":"#DIV/0!"},0,0,0,""]
[null,{"$f":"'Library Info Input'!B28","v":0},{"$f":"'Library Info Input'!C28","v":"4A"},{"$f":"'Library Info Input'!D28","v":0},{"$f":"'Library Info Input'!F28","v":0},{"$error":"#DIV/0!"},{"$f":"'Library Info Input'!G28","v":0},1,0,{"$f":"'Library Info Input'!H28","v":0},{"$f":"'Library Info Input'!I28","v":0},0,{"$error":"#DIV/0!"},{"$error":"#DIV/0!"},0,0,0,""]
[null,{"$f":"'Library Info Input'!B29","v":0},{"$f":"'Library Info Input'!C29","v":"4B"},{"$f":"'Library Info Input'!D29","v":0},{"$f":"'Library Info Input'!F29","v":0},{"$error":"#DIV/0!"},{"$f":"'Library Info Input'!G29","v":0},1,0,{"$f":"'Library Info Input'!H29","v":0},{"$f":"'Library Info Input'!I29","v":0},0,{"$error":"#DIV/0!"},{"$error":"#DIV/0!"},0,0,0,""]
[null,{"$f":"'Library Info Input'!B30","v":0},{"$f":"'Library Info Input'!C30","v":"4C"},{"$f":"'Library Info Input'!D30","v":0},{"$f":"'Library Info Input'!F30","v":0},{"$error":"#DIV/0!"},{"$f":"'Library Info Input'!G30","v":0},1,0,{"$f":"'Library Info Input'!H30","v":0},{"$f":"'Library Info Input'!I30","v":0},0,{"$error":"#DIV/0!"},{"$error":"#DIV/0!"},0,0,0,""]
[null,{"$f":"'Library Info Input'!B31","v":0},{"$f":"'Library Info Input'!C31","v":"4D"},{"$f":"'Library Info Input'!D31","v":0},{"$f":"'Library Info Input'!F31","v":0},{"$f":"E38*M38","v":{"$error":"#DIV/0!"}},{"$f":"'Library Info Input'!G31","v":0},1,0,{"$f":"'Library Info Input'!H31","v":0},{"$f":"'Library Info Input'!I31","v":0},0,{"$error":"#DIV/0!"},{"$error":"#DIV/0!"},0,0,0,""]
[null,{"$f":"'Library Info Input'!B32","v":0},{"$f":"'Library Info Input'!C32","v":"4E"},{"$f":"'Library Info Input'!D32","v":0},{"$f":"'Library Info Input'!F32","v":0},{"$f":"E39*M39","v":{"$error":"#DIV/0!"}},{"$f":"'Library Info Input'!G32","v":0},1,0,{"$f":"'Library Info Input'!H32","v":0},{"$f":"'Library Info Input'!I32","v":0},0,{"$error":"#DIV/0!"},{"$error":"#DIV/0!"},0,0,0,""]
[null,{"$f":"'Library Info Input'!B33","v":0},{"$f":"'Library Info Input'!C33","v":"4F"},{"$f":"'Library Info Input'!D33","v":0},{"$f":"'Library Info Input'!F33","v":0},{"$error":"#DIV/0!"},{"$f":"'Library Info Input'!G33","v":0},1,0,{"$f":"'Library Info Input'!H33","v":0},{"$f":"'Library Info Input'!I33","v":0},0,{"$error":"#DIV/0!"},{"$error":"#DIV/0!"},0,0,0,""]
[null,{"$f":"'Library Info Input'!B34","v":0},{"$f":"'Library Info Input'!C34","v":"4G"},{"$f":"'Library Info Input'!D34","v":0},{"$f":"'Library Info Input'!F34","v":0},{"$error":"#DIV/0!"},{"$f":"'Library Info Input'!G34","v":0},1,0,{"$f":"'Library Info Input'!H34","v":0},{"$f":"'Library Info Input'!I34","v":0},0,{"$error":"#DIV/0!"},{"$error":"#DIV/0!"},0,0,0,""]
[null,{"$f":"'Library Info Input'!B35","v":0},{"$f":"'Library Info Input'!C35","v":"4H"},{"$f":"'Library Info Input'!D35","v":0},{"$f":"'Library Info Input'!F35","v":0},{"$error":"#DIV/0!"},{"$f":"'Library Info Input'!G35","v":0},1,0,{"$f":"'Library Info Input'!H35","v":0},{"$f":"'Library Info Input'!I35","v":0},0,{"$error":"#DIV/0!"},{"$error":"#DIV/0!"},0,0,0,""]
[]
[null,null,null,null,"Pro-rated size (bp) for pool level quantification =_",{"$f":"SUMIF(B11:B42,\"6\",F11:F42)","v":0},null,null,null,null,"Total Reads =_",{"$f":"SUMIF(B11:B42,\"6\",L11:L42)","v":0},{"$f":"SUMIF(B11:B42,\"6\",M11:M42)","v":0},null,null,null,"Total Sample Volume = ",{"$f":"SUMIF(B11:B42,\"6\",R11:R42)","v":0}]
[null,null,null,null,null,null,null,null,null,null,null,null,null,null,null,null,"Pool Diluent Volume = ",{"$f":"O7-R44","v":0}]
[null,"Dilution Table - Do Not Modify"]
[null,"Dilution Factor","Library\nDilution\nVolume","Diluent Dilution Volume","Total Volume"]
[null,1,0,0,{"$f":"B48*C48","v":0}]
[null,2,10,{"$f":"E49-C49","v":10},20,null,null," "]
[null,3,7,14,21]
[null,4,5,15,20]
[null,5,5,20,25]
[null,6,5,25,30]
[null,7,5,30,35]
[null,8,5,35,40]
[null,9,5,40,45]
[null,10,5,45,50]

{"sheet":"Summary sheet","index":9,"n_rows":43,"n_cols":20,"rows_kept":43,"cut":false,"hidden":false,"merged":[[37,17,38,18],[1,2,1,16],[37,5,38,6],[37,2,38,3],[37,8,38,9],[37,11,38,12],[37,14,38,15],[2,17,2,19],[2,2,2,4],[2,5,2,7],[2,8,2,10],[2,11,2,13],[2,14,2,16]]}
[null,"Chromium Connect Pooling Worksheet  |  10xgenomics.com"]
[null,null,"After reviewing information below, click this button to export data to CSV Sheet -------------------------------------------------------------------------------------------"]
[null,null,"POOL 1",null,null,"POOL 2",null,null,"POOL 3",null,null,"POOL 4",null,null,"POOL 5",null,null,"POOL 6"]
[null,{"$f":"'Library Info Input'!D3","v":"Library ID"},"Library Dilution Volume (µl)","Diluent Dilution Volume (µl)","Final\nTransfer Volume (µl)","Library Dilution Volume (µl)","Diluent Dilution Volume (µl)","Final\nTransfer Volume (µl)","Library Dilution Volume (µl)","Diluent Dilution Volume (µl)","Final\nTransfer Volume (µl)","Library Dilution Volume (µl)","Diluent Dilution Volume (µl)","Final\nTransfer Volume (µl)","Library Dilution Volume (µl)","Diluent Dilution Volume (µl)","Final\nTransfer Volume (µl)","Library Dilution Volume (µl)","Diluent Dilution Volume (µl)","Final\nTransfer Volume (µl)"]
[null,{"$f":"'Library Info Input'!D4","v":"Library-1"},{"$f":"IF(ISNUMBER(SEARCH(\"1\",'Library Pool #1'!B11)),'Library Pool #1'!O11,\"\")","v":0},{"$f":"IF(ISNUMBER(SEARCH(\"1\",'Library Pool #1'!B11)),'Library Pool #1'!P11,\"\")","v":0},{"$f":"IF(ISNUMBER(SEARCH(\"1\",'Library Pool #1'!B11)),'Library Pool #1'!R11,\"\")","v":15},{"$f":"IF(ISNUMBER(SEARCH(\"2\",'Library Pool #2'!B11)),'Library Pool #2'!O11,\"\")","v":""},{"$f":"IF(ISNUMBER(SEARCH(\"2\",'Library Pool #2'!B11)),'Library Pool #2'!P11,\"\")","v":""},{"$f":"IF(ISNUMBER(SEARCH(\"2\",'Library Pool #2'!B11)),'Library Pool #2'!R11,\"\")","v":""},{"$f":"IF(ISNUMBER(SEARCH(\"3\",'Library Pool #3'!B11)),'Library Pool #3'!O11,\"\")","v":""},{"$f":"IF(ISNUMBER(SEARCH(\"3\",'Library Pool #3'!B11)),'Library Pool #3'!P11,\"\")","v":""},{"$f":"IF(ISNUMBER(SEARCH(\"3\",'Library Pool #3'!B11)),'Library Pool #3'!R11,\"\")","v":""},{"$f":"IF(ISNUMBER(SEARCH(\"4\",'Library Pool #4'!B11)),'Library Pool #4'!O11,\"\")","v":""},{"$f":"IF(ISNUMBER(SEARCH(\"4\",'Library Pool #4'!B11)),'Library Pool #4'!P11,\"\")","v":""},{"$f":"IF(ISNUMBER(SEARCH(\"4\",'Library Pool #4'!B11)),'Library Pool #4'!R11,\"\")","v":""},{"$f":"IF(ISNUMBER(SEARCH(\"5\",'Library Pool #5'!B11)),'Library Pool #5'!O11,\"\")","v":""},{"$f":"IF(ISNUMBER(SEARCH(\"5\",'Library Pool #5'!B11)),'Library Pool #5'!P11,\"\")","v":""},{"$f":"IF(ISNUMBER(SEARCH(\"5\",'Library Pool #5'!B11)),'Library Pool #5'!R11,\"\")","v":""},{"$f":"IF(ISNUMBER(SEARCH(\"6\",'Library Pool #6'!B11)),'Library Pool #6'!O11,\"\")","v":""},{"$f":"IF(ISNUMBER(SEARCH(\"6\",'Library Pool #6'!B11)),'Library Pool #6'!P11,\"\")","v":""},{"$f":"IF(ISNUMBER(SEARCH(\"6\",'Library Pool #6'!B11)),'Library Pool #6'!R11,\"\")","v":""}]
[null,{"$f":"'Library Info Input'!D5","v":0},{"$f":"IF(ISNUMBER(SEARCH(\"1\",'Library Pool #1'!B12)),'Library Pool #1'!O12,\"\")","v":""},{"$f":"IF(ISNUMBER(SEARCH(\"1\",'Library Pool #1'!B12)),'Library Pool #1'!P12,\"\")","v":""},{"$f":"IF(ISNUMBER(SEARCH(\"1\",'Library Pool #1'!B12)),'Library Pool #1'!R12,\"\")","v":""},{"$f":"IF(ISNUMBER(SEARCH(\"2\",'Library Pool #2'!B12)),'Library Pool #2'!O12,\"\")","v":""},{"$f":"IF(ISNUMBER(SEARCH(\"2\",'Library Pool #2'!B12)),'Library Pool #2'!P12,\"\")","v":""},{"$f":"IF(ISNUMBER(SEARCH(\"2\",'Library Pool #2'!B12)),'Library Pool #2'!R12,\"\")","v":""},{"$f":"IF(ISNUMBER(SEARCH(\"3\",'Library Pool #3'!B12)),'Library Pool #3'!O12,\"\")","v":""},{"$f":"IF(ISNUMBER(SEARCH(\"3\",'Library Pool #3'!B12)),'Library Pool #3'!P12,\"\")","v":""},{"$f":"IF(ISNUMBER(SEARCH(\"3\",'Library Pool #3'!B12)),'Library Pool #3'!R12,\"\")","v":""},{"$f":"IF(ISNUMBER(SEARCH(\"4\",'Library Pool #4'!B12)),'Library Pool #4'!O12,\"\")","v":""},{"$f":"IF(ISNUMBER(SEARCH(\"4\",'Library Pool #4'!B12)),'Library Pool #4'!P12,\"\")","v":""},{"$f":"IF(ISNUMBER(SEARCH(\"4\",'Library Pool #4'!B12)),'Library Pool #4'!R12,\"\")","v":""},{"$f":"IF(ISNUMBER(SEARCH(\"5\",'Library Pool #5'!B12)),'Library Pool #5'!O12,\"\")","v":""},{"$f":"IF(ISNUMBER(SEARCH(\"5\",'Library Pool #5'!B12)),'Library Pool #5'!P12,\"\")","v":""},{"$f":"IF(ISNUMBER(SEARCH(\"5\",'Library Pool #5'!B12)),'Library Pool #5'!R12,\"\")","v":""},{"$f":"IF(ISNUMBER(SEARCH(\"6\",'Library Pool #6'!B12)),'Library Pool #6'!O12,\"\")","v":""},{"$f":"IF(ISNUMBER(SEARCH(\"6\",'Library Pool #6'!B12)),'Library Pool #6'!P12,\"\")","v":""},{"$f":"IF(ISNUMBER(SEARCH(\"6\",'Library Pool #6'!B12)),'Library Pool #6'!R12,\"\")","v":""}]
[null,{"$f":"'Library Info Input'!D6","v":0},{"$f":"IF(ISNUMBER(SEARCH(\"1\",'Library Pool #1'!B13)),'Library Pool #1'!O13,\"\")","v":""},{"$f":"IF(ISNUMBER(SEARCH(\"1\",'Library Pool #1'!B13)),'Library Pool #1'!P13,\"\")","v":""},{"$f":"IF(ISNUMBER(SEARCH(\"1\",'Library Pool #1'!B13)),'Library Pool #1'!R13,\"\")","v":""},{"$f":"IF(ISNUMBER(SEARCH(\"2\",'Library Pool #2'!B13)),'Library Pool #2'!O13,\"\")","v":""},{"$f":"IF(ISNUMBER(SEARCH(\"2\",'Library Pool #2'!B13)),'Library Pool #2'!P13,\"\")","v":""},{"$f":"IF(ISNUMBER(SEARCH(\"2\",'Library Pool #2'!B13)),'Library Pool #2'!R13,\"\")","v":""},{"$f":"IF(ISNUMBER(SEARCH(\"3\",'Library Pool #3'!B13)),'Library Pool #3'!O13,\"\")","v":""},{"$f":"IF(ISNUMBER(SEARCH(\"3\",'Library Pool #3'!B13)),'Library Pool #3'!P13,\"\")","v":""},{"$f":"IF(ISNUMBER(SEARCH(\"3\",'Library Pool #3'!B13)),'Library Pool #3'!R13,\"\")","v":""},{"$f":"IF(ISNUMBER(SEARCH(\"4\",'Library Pool #4'!B13)),'Library Pool #4'!O13,\"\")","v":""},{"$f":"IF(ISNUMBER(SEARCH(\"4\",'Library Pool #4'!B13)),'Library Pool #4'!P13,\"\")","v":""},{"$f":"IF(ISNUMBER(SEARCH(\"4\",'Library Pool #4'!B13)),'Library Pool #4'!R13,\"\")","v":""},{"$f":"IF(ISNUMBER(SEARCH(\"5\",'Library Pool #5'!B13)),'Library Pool #5'!O13,\"\")","v":""},{"$f":"IF(ISNUMBER(SEARCH(\"5\",'Library Pool #5'!B13)),'Library Pool #5'!P13,\"\")","v":""},{"$f":"IF(ISNUMBER(SEARCH(\"5\",'Library Pool #5'!B13)),'Library Pool #5'!R13,\"\")","v":""},{"$f":"IF(ISNUMBER(SEARCH(\"6\",'Library Pool #6'!B13)),'Library Pool #6'!O13,\"\")","v":""},{"$f":"IF(ISNUMBER(SEARCH(\"6\",'Library Pool #6'!B13)),'Library Pool #6'!P13,\"\")","v":""},{"$f":"IF(ISNUMBER(SEARCH(\"6\",'Library Pool #6'!B13)),'Library Pool #6'!R13,\"\")","v":""}]
[null,{"$f":"'Library Info Input'!D7","v":0},{"$f":"IF(ISNUMBER(SEARCH(\"1\",'Library Pool #1'!B14)),'Library Pool #1'!O14,\"\")","v":""},{"$f":"IF(ISNUMBER(SEARCH(\"1\",'Library Pool #1'!B14)),'Library Pool #1'!P14,\"\")","v":""},{"$f":"IF(ISNUMBER(SEARCH(\"1\",'Library Pool #1'!B14)),'Library Pool #1'!R14,\"\")","v":""},{"$f":"IF(ISNUMBER(SEARCH(\"2\",'Library Pool #2'!B14)),'Library Pool #2'!O14,\"\")","v":""},{"$f":"IF(ISNUMBER(SEARCH(\"2\",'Library Pool #2'!B14)),'Library Pool #2'!P14,\"\")","v":""},{"$f":"IF(ISNUMBER(SEARCH(\"2\",'Library Pool #2'!B14)),'Library Pool #2'!R14,\"\")","v":""},{"$f":"IF(ISNUMBER(SEARCH(\"3\",'Library Pool #3'!B14)),'Library Pool #3'!O14,\"\")","v":""},{"$f":"IF(ISNUMBER(SEARCH(\"3\",'Library Pool #3'!B14)),'Library Pool #3'!P14,\"\")","v":""},{"$f":"IF(ISNUMBER(SEARCH(\"3\",'Library Pool #3'!B14)),'Library Pool #3'!R14,\"\")","v":""},{"$f":"IF(ISNUMBER(SEARCH(\"4\",'Library Pool #4'!B14)),'Library Pool #4'!O14,\"\")","v":""},{"$f":"IF(ISNUMBER(SEARCH(\"4\",'Library Pool #4'!B14)),'Library Pool #4'!P14,\"\")","v":""},{"$f":"IF(ISNUMBER(SEARCH(\"4\",'Library Pool #4'!B14)),'Library Pool #4'!R14,\"\")","v":""},{"$f":"IF(ISNUMBER(SEARCH(\"5\",'Library Pool #5'!B14)),'Library Pool #5'!O14,\"\")","v":""},{"$f":"IF(ISNUMBER(SEARCH(\"5\",'Library Pool #5'!B14)),'Library Pool #5'!P14,\"\")","v":""},{"$f":"IF(ISNUMBER(SEARCH(\"5\",'Library Pool #5'!B14)),'Library Pool #5'!R14,\"\")","v":""},{"$f":"IF(ISNUMBER(SEARCH(\"6\",'Library Pool #6'!B14)),'Library Pool #6'!O14,\"\")","v":""},{"$f":"IF(ISNUMBER(SEARCH(\"6\",'Library Pool #6'!B14)),'Library Pool #6'!P14,\"\")","v":""},{"$f":"IF(ISNUMBER(SEARCH(\"6\",'Library Pool #6'!B14)),'Library Pool #6'!R14,\"\")","v":""}]
[null,{"$f":"'Library Info Input'!D8","v":0},{"$f":"IF(ISNUMBER(SEARCH(\"1\",'Library Pool #1'!B15)),'Library Pool #1'!O15,\"\")","v":""},{"$f":"IF(ISNUMBER(SEARCH(\"1\",'Library Pool #1'!B15)),'Library Pool #1'!P15,\"\")","v":""},{"$f":"IF(ISNUMBER(SEARCH(\"1\",'Library Pool #1'!B15)),'Library Pool #1'!R15,\"\")","v":""},{"$f":"IF(ISNUMBER(SEARCH(\"2\",'Library Pool #2'!B15)),'Library Pool #2'!O15,\"\")","v":""},{"$f":"IF(ISNUMBER(SEARCH(\"2\",'Library Pool #2'!B15)),'Library Pool #2'!P15,\"\")","v":""},{"$f":"IF(ISNUMBER(SEARCH(\"2\",'Library Pool #2'!B15)),'Library Pool #2'!R15,\"\")","v":""},{"$f":"IF(ISNUMBER(SEARCH(\"3\",'Library Pool #3'!B15)),'Library Pool #3'!O15,\"\")","v":""},{"$f":"IF(ISNUMBER(SEARCH(\"3\",'Library Pool #3'!B15)),'Library Pool #3'!P15,\"\")","v":""},{"$f":"IF(ISNUMBER(SEARCH(\"3\",'Library Pool #3'!B15)),'Library Pool #3'!R15,\"\")","v":""},{"$f":"IF(ISNUMBER(SEARCH(\"4\",'Library Pool #4'!B15)),'Library Pool #4'!O15,\"\")","v":""},{"$f":"IF(ISNUMBER(SEARCH(\"4\",'Library Pool #4'!B15)),'Library Pool #4'!P15,\"\")","v":""},{"$f":"IF(ISNUMBER(SEARCH(\"4\",'Library Pool #4'!B15)),'Library Pool #4'!R15,\"\")","v":""},{"$f":"IF(ISNUMBER(SEARCH(\"5\",'Library Pool #5'!B15)),'Library Pool #5'!O15,\"\")","v":""},{"$f":"IF(ISNUMBER(SEARCH(\"5\",'Library Pool #5'!B15)),'Library Pool #5'!P15,\"\")","v":""},{"$f":"IF(ISNUMBER(SEARCH(\"5\",'Library Pool #5'!B15)),'Library Pool #5'!R15,\"\")","v":""},{"$f":"IF(ISNUMBER(SEARCH(\"6\",'Library Pool #6'!B15)),'Library Pool #6'!O15,\"\")","v":""},{"$f":"IF(ISNUMBER(SEARCH(\"6\",'Library Pool #6'!B15)),'Library Pool #6'!P15,\"\")","v":""},{"$f":"IF(ISNUMBER(SEARCH(\"6\",'Library Pool #6'!B15)),'Library Pool #6'!R15,\"\")","v":""}]
[null,{"$f":"'Library Info Input'!D9","v":0},{"$f":"IF(ISNUMBER(SEARCH(\"1\",'Library Pool #1'!B16)),'Library Pool #1'!O16,\"\")","v":""},{"$f":"IF(ISNUMBER(SEARCH(\"1\",'Library Pool #1'!B16)),'Library Pool #1'!P16,\"\")","v":""},{"$f":"IF(ISNUMBER(SEARCH(\"1\",'Library Pool #1'!B16)),'Library Pool #1'!R16,\"\")","v":""},{"$f":"IF(ISNUMBER(SEARCH(\"2\",'Library Pool #2'!B16)),'Library Pool #2'!O16,\"\")","v":""},{"$f":"IF(ISNUMBER(SEARCH(\"2\",'Library Pool #2'!B16)),'Library Pool #2'!P16,\"\")","v":""},{"$f":"IF(ISNUMBER(SEARCH(\"2\",'Library Pool #2'!B16)),'Library Pool #2'!R16,\"\")","v":""},{"$f":"IF(ISNUMBER(SEARCH(\"3\",'Library Pool #3'!B16)),'Library Pool #3'!O16,\"\")","v":""},{"$f":"IF(ISNUMBER(SEARCH(\"3\",'Library Pool #3'!B16)),'Library Pool #3'!P16,\"\")","v":""},{"$f":"IF(ISNUMBER(SEARCH(\"3\",'Library Pool #3'!B16)),'Library Pool #3'!R16,\"\")","v":""},{"$f":"IF(ISNUMBER(SEARCH(\"4\",'Library Pool #4'!B16)),'Library Pool #4'!O16,\"\")","v":""},{"$f":"IF(ISNUMBER(SEARCH(\"4\",'Library Pool #4'!B16)),'Library Pool #4'!P16,\"\")","v":""},{"$f":"IF(ISNUMBER(SEARCH(\"4\",'Library Pool #4'!B16)),'Library Pool #4'!R16,\"\")","v":""},{"$f":"IF(ISNUMBER(SEARCH(\"5\",'Library Pool #5'!B16)),'Library Pool #5'!O16,\"\")","v":""},{"$f":"IF(ISNUMBER(SEARCH(\"5\",'Library Pool #5'!B16)),'Library Pool #5'!P16,\"\")","v":""},{"$f":"IF(ISNUMBER(SEARCH(\"5\",'Library Pool #5'!B16)),'Library Pool #5'!R16,\"\")","v":""},{"$f":"IF(ISNUMBER(SEARCH(\"6\",'Library Pool #6'!B16)),'Library Pool #6'!O16,\"\")","v":""},{"$f":"IF(ISNUMBER(SEARCH(\"6\",'Library Pool #6'!B16)),'Library Pool #6'!P16,\"\")","v":""},{"$f":"IF(ISNUMBER(SEARCH(\"6\",'Library Pool #6'!B16)),'Library Pool #6'!R16,\"\")","v":""}]
[null,{"$f":"'Library Info Input'!D10","v":0},{"$f":"IF(ISNUMBER(SEARCH(\"1\",'Library Pool #1'!B17)),'Library Pool #1'!O17,\"\")","v":""},{"$f":"IF(ISNUMBER(SEARCH(\"1\",'Library Pool #1'!B17)),'Library Pool #1'!P17,\"\")","v":""},{"$f":"IF(ISNUMBER(SEARCH(\"1\",'Library Pool #1'!B17)),'Library Pool #1'!R17,\"\")","v":""},{"$f":"IF(ISNUMBER(SEARCH(\"2\",'Library Pool #2'!B17)),'Library Pool #2'!O17,\"\")","v":""},{"$f":"IF(ISNUMBER(SEARCH(\"2\",'Library Pool #2'!B17)),'Library Pool #2'!P17,\"\")","v":""},{"$f":"IF(ISNUMBER(SEARCH(\"2\",'Library Pool #2'!B17)),'Library Pool #2'!R17,\"\")","v":""},{"$f":"IF(ISNUMBER(SEARCH(\"3\",'Library Pool #3'!B17)),'Library Pool #3'!O17,\"\")","v":""},{"$f":"IF(ISNUMBER(SEARCH(\"3\",'Library Pool #3'!B17)),'Library Pool #3'!P17,\"\")","v":""},{"$f":"IF(ISNUMBER(SEARCH(\"3\",'Library Pool #3'!B17)),'Library Pool #3'!R17,\"\")","v":""},{"$f":"IF(ISNUMBER(SEARCH(\"4\",'Library Pool #4'!B17)),'Library Pool #4'!O17,\"\")","v":""},{"$f":"IF(ISNUMBER(SEARCH(\"4\",'Library Pool #4'!B17)),'Library Pool #4'!P17,\"\")","v":""},{"$f":"IF(ISNUMBER(SEARCH(\"4\",'Library Pool #4'!B17)),'Library Pool #4'!R17,\"\")","v":""},{"$f":"IF(ISNUMBER(SEARCH(\"5\",'Library Pool #5'!B17)),'Library Pool #5'!O17,\"\")","v":""},{"$f":"IF(ISNUMBER(SEARCH(\"5\",'Library Pool #5'!B17)),'Library Pool #5'!P17,\"\")","v":""},{"$f":"IF(ISNUMBER(SEARCH(\"5\",'Library Pool #5'!B17)),'Library Pool #5'!R17,\"\")","v":""},{"$f":"IF(ISNUMBER(SEARCH(\"6\",'Library Pool #6'!B17)),'Library Pool #6'!O17,\"\")","v":""},{"$f":"IF(ISNUMBER(SEARCH(\"6\",'Library Pool #6'!B17)),'Library Pool #6'!P17,\"\")","v":""},{"$f":"IF(ISNUMBER(SEARCH(\"6\",'Library Pool #6'!B17)),'Library Pool #6'!R17,\"\")","v":""}]
[null,{"$f":"'Library Info Input'!D11","v":0},{"$f":"IF(ISNUMBER(SEARCH(\"1\",'Library Pool #1'!B18)),'Library Pool #1'!O18,\"\")","v":""},{"$f":"IF(ISNUMBER(SEARCH(\"1\",'Library Pool #1'!B18)),'Library Pool #1'!P18,\"\")","v":""},{"$f":"IF(ISNUMBER(SEARCH(\"1\",'Library Pool #1'!B18)),'Library Pool #1'!R18,\"\")","v":""},{"$f":"IF(ISNUMBER(SEARCH(\"2\",'Library Pool #2'!B18)),'Library Pool #2'!O18,\"\")","v":""},{"$f":"IF(ISNUMBER(SEARCH(\"2\",'Library Pool #2'!B18)),'Library Pool #2'!P18,\"\")","v":""},{"$f":"IF(ISNUMBER(SEARCH(\"2\",'Library Pool #2'!B18)),'Library Pool #2'!R18,\"\")","v":""},{"$f":"IF(ISNUMBER(SEARCH(\"3\",'Library Pool #3'!B18)),'Library Pool #3'!O18,\"\")","v":""},{"$f":"IF(ISNUMBER(SEARCH(\"3\",'Library Pool #3'!B18)),'Library Pool #3'!P18,\"\")","v":""},{"$f":"IF(ISNUMBER(SEARCH(\"3\",'Library Pool #3'!B18)),'Library Pool #3'!R18,\"\")","v":""},{"$f":"IF(ISNUMBER(SEARCH(\"4\",'Library Pool #4'!B18)),'Library Pool #4'!O18,\"\")","v":""},{"$f":"IF(ISNUMBER(SEARCH(\"4\",'Library Pool #4'!B18)),'Library Pool #4'!P18,\"\")","v":""},{"$f":"IF(ISNUMBER(SEARCH(\"4\",'Library Pool #4'!B18)),'Library Pool #4'!R18,\"\")","v":""},{"$f":"IF(ISNUMBER(SEARCH(\"5\",'Library Pool #5'!B18)),'Library Pool #5'!O18,\"\")","v":""},{"$f":"IF(ISNUMBER(SEARCH(\"5\",'Library Pool #5'!B18)),'Library Pool #5'!P18,\"\")","v":""},{"$f":"IF(ISNUMBER(SEARCH(\"5\",'Library Pool #5'!B18)),'Library Pool #5'!R18,\"\")","v":""},{"$f":"IF(ISNUMBER(SEARCH(\"6\",'Library Pool #6'!B18)),'Library Pool #6'!O18,\"\")","v":""},{"$f":"IF(ISNUMBER(SEARCH(\"6\",'Library Pool #6'!B18)),'Library Pool #6'!P18,\"\")","v":""},{"$f":"IF(ISNUMBER(SEARCH(\"6\",'Library Pool #6'!B18)),'Library Pool #6'!R18,\"\")","v":""}]
[null,{"$f":"'Library Info Input'!D12","v":0},{"$f":"IF(ISNUMBER(SEARCH(\"1\",'Library Pool #1'!B19)),'Library Pool #1'!O19,\"\")","v":""},{"$f":"IF(ISNUMBER(SEARCH(\"1\",'Library Pool #1'!B19)),'Library Pool #1'!P19,\"\")","v":""},{"$f":"IF(ISNUMBER(SEARCH(\"1\",'Library Pool #1'!B19)),'Library Pool #1'!R19,\"\")","v":""},{"$f":"IF(ISNUMBER(SEARCH(\"2\",'Library Pool #2'!B19)),'Library Pool #2'!O19,\"\")","v":""},{"$f":"IF(ISNUMBER(SEARCH(\"2\",'Library Pool #2'!B19)),'Library Pool #2'!P19,\"\")","v":""},{"$f":"IF(ISNUMBER(SEARCH(\"2\",'Library Pool #2'!B19)),'Library Pool #2'!R19,\"\")","v":""},{"$f":"IF(ISNUMBER(SEARCH(\"3\",'Library Pool #3'!B19)),'Library Pool #3'!O19,\"\")","v":""},{"$f":"IF(ISNUMBER(SEARCH(\"3\",'Library Pool #3'!B19)),'Library Pool #3'!P19,\"\")","v":""},{"$f":"IF(ISNUMBER(SEARCH(\"3\",'Library Pool #3'!B19)),'Library Pool #3'!R19,\"\")","v":""},{"$f":"IF(ISNUMBER(SEARCH(\"4\",'Library Pool #4'!B19)),'Library Pool #4'!O19,\"\")","v":""},{"$f":"IF(ISNUMBER(SEARCH(\"4\",'Library Pool #4'!B19)),'Library Pool #4'!P19,\"\")","v":""},{"$f":"IF(ISNUMBER(SEARCH(\"4\",'Library Pool #4'!B19)),'Library Pool #4'!R19,\"\")","v":""},{"$f":"IF(ISNUMBER(SEARCH(\"5\",'Library Pool #5'!B19)),'Library Pool #5'!O19,\"\")","v":""},{"$f":"IF(ISNUMBER(SEARCH(\"5\",'Library Pool #5'!B19)),'Library Pool #5'!P19,\"\")","v":""},{"$f":"IF(ISNUMBER(SEARCH(\"5\",'Library Pool #5'!B19)),'Library Pool #5'!R19,\"\")","v":""},{"$f":"IF(ISNUMBER(SEARCH(\"6\",'Library Pool #6'!B19)),'Library Pool #6'!O19,\"\")","v":""},{"$f":"IF(ISNUMBER(SEARCH(\"6\",'Library Pool #6'!B19)),'Library Pool #6'!P19,\"\")","v":""},{"$f":"IF(ISNUMBER(SEARCH(\"6\",'Library Pool #6'!B19)),'Library Pool #6'!R19,\"\")","v":""}]
[null,{"$f":"'Library Info Input'!D13","v":0},{"$f":"IF(ISNUMBER(SEARCH(\"1\",'Library Pool #1'!B20)),'Library Pool #1'!O20,\"\")","v":""},{"$f":"IF(ISNUMBER(SEARCH(\"1\",'Library Pool #1'!B20)),'Library Pool #1'!P20,\"\")","v":""},{"$f":"IF(ISNUMBER(SEARCH(\"1\",'Library Pool #1'!B20)),'Library Pool #1'!R20,\"\")","v":""},{"$f":"IF(ISNUMBER(SEARCH(\"2\",'Library Pool #2'!B20)),'Library Pool #2'!O20,\"\")","v":""},{"$f":"IF(ISNUMBER(SEARCH(\"2\",'Library Pool #2'!B20)),'Library Pool #2'!P20,\"\")","v":""},{"$f":"IF(ISNUMBER(SEARCH(\"2\",'Library Pool #2'!B20)),'Library Pool #2'!R20,\"\")","v":""},{"$f":"IF(ISNUMBER(SEARCH(\"3\",'Library Pool #3'!B20)),'Library Pool #3'!O20,\"\")","v":""},{"$f":"IF(ISNUMBER(SEARCH(\"3\",'Library Pool #3'!B20)),'Library Pool #3'!P20,\"\")","v":""},{"$f":"IF(ISNUMBER(SEARCH(\"3\",'Library Pool #3'!B20)),'Library Pool #3'!R20,\"\")","v":""},{"$f":"IF(ISNUMBER(SEARCH(\"4\",'Library Pool #4'!B20)),'Library Pool #4'!O20,\"\")","v":""},{"$f":"IF(ISNUMBER(SEARCH(\"4\",'Library Pool #4'!B20)),'Library Pool #4'!P20,\"\")","v":""},{"$f":"IF(ISNUMBER(SEARCH(\"4\",'Library Pool #4'!B20)),'Library Pool #4'!R20,\"\")","v":""},{"$f":"IF(ISNUMBER(SEARCH(\"5\",'Library Pool #5'!B20)),'Library Pool #5'!O20,\"\")","v":""},{"$f":"IF(ISNUMBER(SEARCH(\"5\",'Library Pool #5'!B20)),'Library Pool #5'!P20,\"\")","v":""},{"$f":"IF(ISNUMBER(SEARCH(\"5\",'Library Pool #5'!B20)),'Library Pool #5'!R20,\"\")","v":""},{"$f":"IF(ISNUMBER(SEARCH(\"6\",'Library Pool #6'!B20)),'Library Pool #6'!O20,\"\")","v":""},{"$f":"IF(ISNUMBER(SEARCH(\"6\",'Library Pool #6'!B20)),'Library Pool #6'!P20,\"\")","v":""},{"$f":"IF(ISNUMBER(SEARCH(\"6\",'Library Pool #6'!B20)),'Library Pool #6'!R20,\"\")","v":""}]
[null,{"$f":"'Library Info Input'!D14","v":0},{"$f":"IF(ISNUMBER(SEARCH(\"1\",'Library Pool #1'!B21)),'Library Pool #1'!O21,\"\")","v":""},{"$f":"IF(ISNUMBER(SEARCH(\"1\",'Library Pool #1'!B21)),'Library Pool #1'!P21,\"\")","v":""},{"$f":"IF(ISNUMBER(SEARCH(\"1\",'Library Pool #1'!B21)),'Library Pool #1'!R21,\"\")","v":""},{"$f":"IF(ISNUMBER(SEARCH(\"2\",'Library Pool #2'!B21)),'Library Pool #2'!O21,\"\")","v":""},{"$f":"IF(ISNUMBER(SEARCH(\"2\",'Library Pool #2'!B21)),'Library Pool #2'!P21,\"\")","v":""},{"$f":"IF(ISNUMBER(SEARCH(\"2\",'Library Pool #2'!B21)),'Library Pool #2'!R21,\"\")","v":""},{"$f":"IF(ISNUMBER(SEARCH(\"3\",'Library Pool #3'!B21)),'Library Pool #3'!O21,\"\")","v":""},{"$f":"IF(ISNUMBER(SEARCH(\"3\",'Library Pool #3'!B21)),'Library Pool #3'!P21,\"\")","v":""},{"$f":"IF(ISNUMBER(SEARCH(\"3\",'Library Pool #3'!B21)),'Library Pool #3'!R21,\"\")","v":""},{"$f":"IF(ISNUMBER(SEARCH(\"4\",'Library Pool #4'!B21)),'Library Pool #4'!O21,\"\")","v":""},{"$f":"IF(ISNUMBER(SEARCH(\"4\",'Library Pool #4'!B21)),'Library Pool #4'!P21,\"\")","v":""},{"$f":"IF(ISNUMBER(SEARCH(\"4\",'Library Pool #4'!B21)),'Library Pool #4'!R21,\"\")","v":""},{"$f":"IF(ISNUMBER(SEARCH(\"5\",'Library Pool #5'!B21)),'Library Pool #5'!O21,\"\")","v":""},{"$f":"IF(ISNUMBER(SEARCH(\"5\",'Library Pool #5'!B21)),'Library Pool #5'!P21,\"\")","v":""},{"$f":"IF(ISNUMBER(SEARCH(\"5\",'Library Pool #5'!B21)),'Library Pool #5'!R21,\"\")","v":""},{"$f":"IF(ISNUMBER(SEARCH(\"6\",'Library Pool #6'!B21)),'Library Pool #6'!O21,\"\")","v":""},{"$f":"IF(ISNUMBER(SEARCH(\"6\",'Library Pool #6'!B21)),'Library Pool #6'!P21,\"\")","v":""},{"$f":"IF(ISNUMBER(SEARCH(\"6\",'Library Pool #6'!B21)),'Library Pool #6'!R21,\"\")","v":""}]
[null,{"$f":"'Library Info Input'!D15","v":0},{"$f":"IF(ISNUMBER(SEARCH(\"1\",'Library Pool #1'!B22)),'Library Pool #1'!O22,\"\")","v":""},{"$f":"IF(ISNUMBER(SEARCH(\"1\",'Library Pool #1'!B22)),'Library Pool #1'!P22,\"\")","v":""},{"$f":"IF(ISNUMBER(SEARCH(\"1\",'Library Pool #1'!B22)),'Library Pool #1'!R22,\"\")","v":""},{"$f":"IF(ISNUMBER(SEARCH(\"2\",'Library Pool #2'!B22)),'Library Pool #2'!O22,\"\")","v":""},{"$f":"IF(ISNUMBER(SEARCH(\"2\",'Library Pool #2'!B22)),'Library Pool #2'!P22,\"\")","v":""},{"$f":"IF(ISNUMBER(SEARCH(\"2\",'Library Pool #2'!B22)),'Library Pool #2'!R22,\"\")","v":""},{"$f":"IF(ISNUMBER(SEARCH(\"3\",'Library Pool #3'!B22)),'Library Pool #3'!O22,\"\")","v":""},{"$f":"IF(ISNUMBER(SEARCH(\"3\",'Library Pool #3'!B22)),'Library Pool #3'!P22,\"\")","v":""},{"$f":"IF(ISNUMBER(SEARCH(\"3\",'Library Pool #3'!B22)),'Library Pool #3'!R22,\"\")","v":""},{"$f":"IF(ISNUMBER(SEARCH(\"4\",'Library Pool #4'!B22)),'Library Pool #4'!O22,\"\")","v":""},{"$f":"IF(ISNUMBER(SEARCH(\"4\",'Library Pool #4'!B22)),'Library Pool #4'!P22,\"\")","v":""},{"$f":"IF(ISNUMBER(SEARCH(\"4\",'Library Pool #4'!B22)),'Library Pool #4'!R22,\"\")","v":""},{"$f":"IF(ISNUMBER(SEARCH(\"5\",'Library Pool #5'!B22)),'Library Pool #5'!O22,\"\")","v":""},{"$f":"IF(ISNUMBER(SEARCH(\"5\",'Library Pool #5'!B22)),'Library Pool #5'!P22,\"\")","v":""},{"$f":"IF(ISNUMBER(SEARCH(\"5\",'Library Pool #5'!B22)),'Library Pool #5'!R22,\"\")","v":""},{"$f":"IF(ISNUMBER(SEARCH(\"6\",'Library Pool #6'!B22)),'Library Pool #6'!O22,\"\")","v":""},{"$f":"IF(ISNUMBER(SEARCH(\"6\",'Library Pool #6'!B22)),'Library Pool #6'!P22,\"\")","v":""},{"$f":"IF(ISNUMBER(SEARCH(\"6\",'Library Pool #6'!B22)),'Library Pool #6'!R22,\"\")","v":""}]
[null,{"$f":"'Library Info Input'!D16","v":0},{"$f":"IF(ISNUMBER(SEARCH(\"1\",'Library Pool #1'!B23)),'Library Pool #1'!O23,\"\")","v":""},{"$f":"IF(ISNUMBER(SEARCH(\"1\",'Library Pool #1'!B23)),'Library Pool #1'!P23,\"\")","v":""},{"$f":"IF(ISNUMBER(SEARCH(\"1\",'Library Pool #1'!B23)),'Library Pool #1'!R23,\"\")","v":""},{"$f":"IF(ISNUMBER(SEARCH(\"2\",'Library Pool #2'!B23)),'Library Pool #2'!O23,\"\")","v":""},{"$f":"IF(ISNUMBER(SEARCH(\"2\",'Library Pool #2'!B23)),'Library Pool #2'!P23,\"\")","v":""},{"$f":"IF(ISNUMBER(SEARCH(\"2\",'Library Pool #2'!B23)),'Library Pool #2'!R23,\"\")","v":""},{"$f":"IF(ISNUMBER(SEARCH(\"3\",'Library Pool #3'!B23)),'Library Pool #3'!O23,\"\")","v":""},{"$f":"IF(ISNUMBER(SEARCH(\"3\",'Library Pool #3'!B23)),'Library Pool #3'!P23,\"\")","v":""},{"$f":"IF(ISNUMBER(SEARCH(\"3\",'Library Pool #3'!B23)),'Library Pool #3'!R23,\"\")","v":""},{"$f":"IF(ISNUMBER(SEARCH(\"4\",'Library Pool #4'!B23)),'Library Pool #4'!O23,\"\")","v":""},{"$f":"IF(ISNUMBER(SEARCH(\"4\",'Library Pool #4'!B23)),'Library Pool #4'!P23,\"\")","v":""},{"$f":"IF(ISNUMBER(SEARCH(\"4\",'Library Pool #4'!B23)),'Library Pool #4'!R23,\"\")","v":""},{"$f":"IF(ISNUMBER(SEARCH(\"5\",'Library Pool #5'!B23)),'Library Pool #5'!O23,\"\")","v":""},{"$f":"IF(ISNUMBER(SEARCH(\"5\",'Library Pool #5'!B23)),'Library Pool #5'!P23,\"\")","v":""},{"$f":"IF(ISNUMBER(SEARCH(\"5\",'Library Pool #5'!B23)),'Library Pool #5'!R23,\"\")","v":""},{"$f":"IF(ISNUMBER(SEARCH(\"6\",'Library Pool #6'!B23)),'Library Pool #6'!O23,\"\")","v":""},{"$f":"IF(ISNUMBER(SEARCH(\"6\",'Library Pool #6'!B23)),'Library Pool #6'!P23,\"\")","v":""},{"$f":"IF(ISNUMBER(SEARCH(\"6\",'Library Pool #6'!B23)),'Library Pool #6'!R23,\"\")","v":""}]
[null,{"$f":"'Library Info Input'!D17","v":0},{"$f":"IF(ISNUMBER(SEARCH(\"1\",'Library Pool #1'!B24)),'Library Pool #1'!O24,\"\")","v":""},{"$f":"IF(ISNUMBER(SEARCH(\"1\",'Library Pool #1'!B24)),'Library Pool #1'!P24,\"\")","v":""},{"$f":"IF(ISNUMBER(SEARCH(\"1\",'Library Pool #1'!B24)),'Library Pool #1'!R24,\"\")","v":""},{"$f":"IF(ISNUMBER(SEARCH(\"2\",'Library Pool #2'!B24)),'Library Pool #2'!O24,\"\")","v":""},{"$f":"IF(ISNUMBER(SEARCH(\"2\",'Library Pool #2'!B24)),'Library Pool #2'!P24,\"\")","v":""},{"$f":"IF(ISNUMBER(SEARCH(\"2\",'Library Pool #2'!B24)),'Library Pool #2'!R24,\"\")","v":""},{"$f":"IF(ISNUMBER(SEARCH(\"3\",'Library Pool #3'!B24)),'Library Pool #3'!O24,\"\")","v":""},{"$f":"IF(ISNUMBER(SEARCH(\"3\",'Library Pool #3'!B24)),'Library Pool #3'!P24,\"\")","v":""},{"$f":"IF(ISNUMBER(SEARCH(\"3\",'Library Pool #3'!B24)),'Library Pool #3'!R24,\"\")","v":""},{"$f":"IF(ISNUMBER(SEARCH(\"4\",'Library Pool #4'!B24)),'Library Pool #4'!O24,\"\")","v":""},{"$f":"IF(ISNUMBER(SEARCH(\"4\",'Library Pool #4'!B24)),'Library Pool #4'!P24,\"\")","v":""},{"$f":"IF(ISNUMBER(SEARCH(\"4\",'Library Pool #4'!B24)),'Library Pool #4'!R24,\"\")","v":""},{"$f":"IF(ISNUMBER(SEARCH(\"5\",'Library Pool #5'!B24)),'Library Pool #5'!O24,\"\")","v":""},{"$f":"IF(ISNUMBER(SEARCH(\"5\",'Library Pool #5'!B24)),'Library Pool #5'!P24,\"\")","v":""},{"$f":"IF(ISNUMBER(SEARCH(\"5\",'Library Pool #5'!B24)),'Library Pool #5'!R24,\"\")","v":""},{"$f":"IF(ISNUMBER(SEARCH(\"6\",'Library Pool #6'!B24)),'Library Pool #6'!O24,\"\")","v":""},{"$f":"IF(ISNUMBER(SEARCH(\"6\",'Library Pool #6'!B24)),'Library Pool #6'!P24,\"\")","v":""},{"$f":"IF(ISNUMBER(SEARCH(\"6\",'Library Pool #6'!B24)),'Library Pool #6'!R24,\"\")","v":""}]
[null,{"$f":"'Library Info Input'!D18","v":0},{"$f":"IF(ISNUMBER(SEARCH(\"1\",'Library Pool #1'!B25)),'Library Pool #1'!O25,\"\")","v":""},{"$f":"IF(ISNUMBER(SEARCH(\"1\",'Library Pool #1'!B25)),'Library Pool #1'!P25,\"\")","v":""},{"$f":"IF(ISNUMBER(SEARCH(\"1\",'Library Pool #1'!B25)),'Library Pool #1'!R25,\"\")","v":""},{"$f":"IF(ISNUMBER(SEARCH(\"2\",'Library Pool #2'!B25)),'Library Pool #2'!O25,\"\")","v":""},{"$f":"IF(ISNUMBER(SEARCH(\"2\",'Library Pool #2'!B25)),'Library Pool #2'!P25,\"\")","v":""},{"$f":"IF(ISNUMBER(SEARCH(\"2\",'Library Pool #2'!B25)),'Library Pool #2'!R25,\"\")","v":""},{"$f":"IF(ISNUMBER(SEARCH(\"3\",'Library Pool #3'!B25)),'Library Pool #3'!O25,\"\")","v":""},{"$f":"IF(ISNUMBER(SEARCH(\"3\",'Library Pool #3'!B25)),'Library Pool #3'!P25,\"\")","v":""},{"$f":"IF(ISNUMBER(SEARCH(\"3\",'Library Pool #3'!B25)),'Library Pool #3'!R25,\"\")","v":""},{"$f":"IF(ISNUMBER(SEARCH(\"4\",'Library Pool #4'!B25)),'Library Pool #4'!O25,\"\")","v":""},{"$f":"IF(ISNUMBER(SEARCH(\"4\",'Library Pool #4'!B25)),'Library Pool #4'!P25,\"\")","v":""},{"$f":"IF(ISNUMBER(SEARCH(\"4\",'Library Pool #4'!B25)),'Library Pool #4'!R25,\"\")","v":""},{"$f":"IF(ISNUMBER(SEARCH(\"5\",'Library Pool #5'!B25)),'Library Pool #5'!O25,\"\")","v":""},{"$f":"IF(ISNUMBER(SEARCH(\"5\",'Library Pool #5'!B25)),'Library Pool #5'!P25,\"\")","v":""},{"$f":"IF(ISNUMBER(SEARCH(\"5\",'Library Pool #5'!B25)),'Library Pool #5'!R25,\"\")","v":""},{"$f":"IF(ISNUMBER(SEARCH(\"6\",'Library Pool #6'!B25)),'Library Pool #6'!O25,\"\")","v":""},{"$f":"IF(ISNUMBER(SEARCH(\"6\",'Library Pool #6'!B25)),'Library Pool #6'!P25,\"\")","v":""},{"$f":"IF(ISNUMBER(SEARCH(\"6\",'Library Pool #6'!B25)),'Library Pool #6'!R25,\"\")","v":""}]
[null,{"$f":"'Library Info Input'!D19","v":0},{"$f":"IF(ISNUMBER(SEARCH(\"1\",'Library Pool #1'!B26)),'Library Pool #1'!O26,\"\")","v":""},{"$f":"IF(ISNUMBER(SEARCH(\"1\",'Library Pool #1'!B26)),'Library Pool #1'!P26,\"\")","v":""},{"$f":"IF(ISNUMBER(SEARCH(\"1\",'Library Pool #1'!B26)),'Library Pool #1'!R26,\"\")","v":""},{"$f":"IF(ISNUMBER(SEARCH(\"2\",'Library Pool #2'!B26)),'Library Pool #2'!O26,\"\")","v":""},{"$f":"IF(ISNUMBER(SEARCH(\"2\",'Library Pool #2'!B26)),'Library Pool #2'!P26,\"\")","v":""},{"$f":"IF(ISNUMBER(SEARCH(\"2\",'Library Pool #2'!B26)),'Library Pool #2'!R26,\"\")","v":""},{"$f":"IF(ISNUMBER(SEARCH(\"3\",'Library Pool #3'!B26)),'Library Pool #3'!O26,\"\")","v":""},{"$f":"IF(ISNUMBER(SEARCH(\"3\",'Library Pool #3'!B26)),'Library Pool #3'!P26,\"\")","v":""},{"$f":"IF(ISNUMBER(SEARCH(\"3\",'Library Pool #3'!B26)),'Library Pool #3'!R26,\"\")","v":""},{"$f":"IF(ISNUMBER(SEARCH(\"4\",'Library Pool #4'!B26)),'Library Pool #4'!O26,\"\")","v":""},{"$f":"IF(ISNUMBER(SEARCH(\"4\",'Library Pool #4'!B26)),'Library Pool #4'!P26,\"\")","v":""},{"$f":"IF(ISNUMBER(SEARCH(\"4\",'Library Pool #4'!B26)),'Library Pool #4'!R26,\"\")","v":""},{"$f":"IF(ISNUMBER(SEARCH(\"5\",'Library Pool #5'!B26)),'Library Pool #5'!O26,\"\")","v":""},{"$f":"IF(ISNUMBER(SEARCH(\"5\",'Library Pool #5'!B26)),'Library Pool #5'!P26,\"\")","v":""},{"$f":"IF(ISNUMBER(SEARCH(\"5\",'Library Pool #5'!B26)),'Library Pool #5'!R26,\"\")","v":""},{"$f":"IF(ISNUMBER(SEARCH(\"6\",'Library Pool #6'!B26)),'Library Pool #6'!O26,\"\")","v":""},{"$f":"IF(ISNUMBER(SEARCH(\"6\",'Library Pool #6'!B26)),'Library Pool #6'!P26,\"\")","v":""},{"$f":"IF(ISNUMBER(SEARCH(\"6\",'Library Pool #6'!B26)),'Library Pool #6'!R26,\"\")","v":""}]
[null,{"$f":"'Library Info Input'!D20","v":0},{"$f":"IF(ISNUMBER(SEARCH(\"1\",'Library Pool #1'!B27)),'Library Pool #1'!O27,\"\")","v":""},{"$f":"IF(ISNUMBER(SEARCH(\"1\",'Library Pool #1'!B27)),'Library Pool #1'!P27,\"\")","v":""},{"$f":"IF(ISNUMBER(SEARCH(\"1\",'Library Pool #1'!B27)),'Library Pool #1'!R27,\"\")","v":""},{"$f":"IF(ISNUMBER(SEARCH(\"2\",'Library Pool #2'!B27)),'Library Pool #2'!O27,\"\")","v":""},{"$f":"IF(ISNUMBER(SEARCH(\"2\",'Library Pool #2'!B27)),'Library Pool #2'!P27,\"\")","v":""},{"$f":"IF(ISNUMBER(SEARCH(\"2\",'Library Pool #2'!B27)),'Library Pool #2'!R27,\"\")","v":""},{"$f":"IF(ISNUMBER(SEARCH(\"3\",'Library Pool #3'!B27)),'Library Pool #3'!O27,\"\")","v":""},{"$f":"IF(ISNUMBER(SEARCH(\"3\",'Library Pool #3'!B27)),'Library Pool #3'!P27,\"\")","v":""},{"$f":"IF(ISNUMBER(SEARCH(\"3\",'Library Pool #3'!B27)),'Library Pool #3'!R27,\"\")","v":""},{"$f":"IF(ISNUMBER(SEARCH(\"4\",'Library Pool #4'!B27)),'Library Pool #4'!O27,\"\")","v":""},{"$f":"IF(ISNUMBER(SEARCH(\"4\",'Library Pool #4'!B27)),'Library Pool #4'!P27,\"\")","v":""},{"$f":"IF(ISNUMBER(SEARCH(\"4\",'Library Pool #4'!B27)),'Library Pool #4'!R27,\"\")","v":""},{"$f":"IF(ISNUMBER(SEARCH(\"5\",'Library Pool #5'!B27)),'Library Pool #5'!O27,\"\")","v":""},{"$f":"IF(ISNUMBER(SEARCH(\"5\",'Library Pool #5'!B27)),'Library Pool #5'!P27,\"\")","v":""},{"$f":"IF(ISNUMBER(SEARCH(\"5\",'Library Pool #5'!B27)),'Library Pool #5'!R27,\"\")","v":""},{"$f":"IF(ISNUMBER(SEARCH(\"6\",'Library Pool #6'!B27)),'Library Pool #6'!O27,\"\")","v":""},{"$f":"IF(ISNUMBER(SEARCH(\"6\",'Library Pool #6'!B27)),'Library Pool #6'!P27,\"\")","v":""},{"$f":"IF(ISNUMBER(SEARCH(\"6\",'Library Pool #6'!B27)),'Library Pool #6'!R27,\"\")","v":""}]
[null,{"$f":"'Library Info Input'!D21","v":0},{"$f":"IF(ISNUMBER(SEARCH(\"1\",'Library Pool #1'!B28)),'Library Pool #1'!O28,\"\")","v":""},{"$f":"IF(ISNUMBER(SEARCH(\"1\",'Library Pool #1'!B28)),'Library Pool #1'!P28,\"\")","v":""},{"$f":"IF(ISNUMBER(SEARCH(\"1\",'Library Pool #1'!B28)),'Library Pool #1'!R28,\"\")","v":""},{"$f":"IF(ISNUMBER(SEARCH(\"2\",'Library Pool #2'!B28)),'Library Pool #2'!O28,\"\")","v":""},{"$f":"IF(ISNUMBER(SEARCH(\"2\",'Library Pool #2'!B28)),'Library Pool #2'!P28,\"\")","v":""},{"$f":"IF(ISNUMBER(SEARCH(\"2\",'Library Pool #2'!B28)),'Library Pool #2'!R28,\"\")","v":""},{"$f":"IF(ISNUMBER(SEARCH(\"3\",'Library Pool #3'!B28)),'Library Pool #3'!O28,\"\")","v":""},{"$f":"IF(ISNUMBER(SEARCH(\"3\",'Library Pool #3'!B28)),'Library Pool #3'!P28,\"\")","v":""},{"$f":"IF(ISNUMBER(SEARCH(\"3\",'Library Pool #3'!B28)),'Library Pool #3'!R28,\"\")","v":""},{"$f":"IF(ISNUMBER(SEARCH(\"4\",'Library Pool #4'!B28)),'Library Pool #4'!O28,\"\")","v":""},{"$f":"IF(ISNUMBER(SEARCH(\"4\",'Library Pool #4'!B28)),'Library Pool #4'!P28,\"\")","v":""},{"$f":"IF(ISNUMBER(SEARCH(\"4\",'Library Pool #4'!B28)),'Library Pool #4'!R28,\"\")","v":""},{"$f":"IF(ISNUMBER(SEARCH(\"5\",'Library Pool #5'!B28)),'Library Pool #5'!O28,\"\")","v":""},{"$f":"IF(ISNUMBER(SEARCH(\"5\",'Library Pool #5'!B28)),'Library Pool #5'!P28,\"\")","v":""},{"$f":"IF(ISNUMBER(SEARCH(\"5\",'Library Pool #5'!B28)),'Library Pool #5'!R28,\"\")","v":""},{"$f":"IF(ISNUMBER(SEARCH(\"6\",'Library Pool #6'!B28)),'Library Pool #6'!O28,\"\")","v":""},{"$f":"IF(ISNUMBER(SEARCH(\"6\",'Library Pool #6'!B28)),'Library Pool #6'!P28,\"\")","v":""},{"$f":"IF(ISNUMBER(SEARCH(\"6\",'Library Pool #6'!B28)),'Library Pool #6'!R28,\"\")","v":""}]
[null,{"$f":"'Library Info Input'!D22","v":0},{"$f":"IF(ISNUMBER(SEARCH(\"1\",'Library Pool #1'!B29)),'Library Pool #1'!O29,\"\")","v":""},{"$f":"IF(ISNUMBER(SEARCH(\"1\",'Library Pool #1'!B29)),'Library Pool #1'!P29,\"\")","v":""},{"$f":"IF(ISNUMBER(SEARCH(\"1\",'Library Pool #1'!B29)),'Library Pool #1'!R29,\"\")","v":""},{"$f":"IF(ISNUMBER(SEARCH(\"2\",'Library Pool #2'!B29)),'Library Pool #2'!O29,\"\")","v":""},{"$f":"IF(ISNUMBER(SEARCH(\"2\",'Library Pool #2'!B29)),'Library Pool #2'!P29,\"\")","v":""},{"$f":"IF(ISNUMBER(SEARCH(\"2\",'Library Pool #2'!B29)),'Library Pool #2'!R29,\"\")","v":""},{"$f":"IF(ISNUMBER(SEARCH(\"3\",'Library Pool #3'!B29)),'Library Pool #3'!O29,\"\")","v":""},{"$f":"IF(ISNUMBER(SEARCH(\"3\",'Library Pool #3'!B29)),'Library Pool #3'!P29,\"\")","v":""},{"$f":"IF(ISNUMBER(SEARCH(\"3\",'Library Pool #3'!B29)),'Library Pool #3'!R29,\"\")","v":""},{"$f":"IF(ISNUMBER(SEARCH(\"4\",'Library Pool #4'!B29)),'Library Pool #4'!O29,\"\")","v":""},{"$f":"IF(ISNUMBER(SEARCH(\"4\",'Library Pool #4'!B29)),'Library Pool #4'!P29,\"\")","v":""},{"$f":"IF(ISNUMBER(SEARCH(\"4\",'Library Pool #4'!B29)),'Library Pool #4'!R29,\"\")","v":""},{"$f":"IF(ISNUMBER(SEARCH(\"5\",'Library Pool #5'!B29)),'Library Pool #5'!O29,\"\")","v":""},{"$f":"IF(ISNUMBER(SEARCH(\"5\",'Library Pool #5'!B29)),'Library Pool #5'!P29,\"\")","v":""},{"$f":"IF(ISNUMBER(SEARCH(\"5\",'Library Pool #5'!B29)),'Library Pool #5'!R29,\"\")","v":""},{"$f":"IF(ISNUMBER(SEARCH(\"6\",'Library Pool #6'!B29)),'Library Pool #6'!O29,\"\")","v":""},{"$f":"IF(ISNUMBER(SEARCH(\"6\",'Library Pool #6'!B29)),'Library Pool #6'!P29,\"\")","v":""},{"$f":"IF(ISNUMBER(SEARCH(\"6\",'Library Pool #6'!B29)),'Library Pool #6'!R29,\"\")","v":""}]
[null,{"$f":"'Library Info Input'!D23","v":0},{"$f":"IF(ISNUMBER(SEARCH(\"1\",'Library Pool #1'!B30)),'Library Pool #1'!O30,\"\")","v":""},{"$f":"IF(ISNUMBER(SEARCH(\"1\",'Library Pool #1'!B30)),'Library Pool #1'!P30,\"\")","v":""},{"$f":"IF(ISNUMBER(SEARCH(\"1\",'Library Pool #1'!B30)),'Library Pool #1'!R30,\"\")","v":""},{"$f":"IF(ISNUMBER(SEARCH(\"2\",'Library Pool #2'!B30)),'Library Pool #2'!O30,\"\")","v":""},{"$f":"IF(ISNUMBER(SEARCH(\"2\",'Library Pool #2'!B30)),'Library Pool #2'!P30,\"\")","v":""},{"$f":"IF(ISNUMBER(SEARCH(\"2\",'Library Pool #2'!B30)),'Library Pool #2'!R30,\"\")","v":""},{"$f":"IF(ISNUMBER(SEARCH(\"3\",'Library Pool #3'!B30)),'Library Pool #3'!O30,\"\")","v":""},{"$f":"IF(ISNUMBER(SEARCH(\"3\",'Library Pool #3'!B30)),'Library Pool #3'!P30,\"\")","v":""},{"$f":"IF(ISNUMBER(SEARCH(\"3\",'Library Pool #3'!B30)),'Library Pool #3'!R30,\"\")","v":""},{"$f":"IF(ISNUMBER(SEARCH(\"4\",'Library Pool #4'!B30)),'Library Pool #4'!O30,\"\")","v":""},{"$f":"IF(ISNUMBER(SEARCH(\"4\",'Library Pool #4'!B30)),'Library Pool #4'!P30,\"\")","v":""},{"$f":"IF(ISNUMBER(SEARCH(\"4\",'Library Pool #4'!B30)),'Library Pool #4'!R30,\"\")","v":""},{"$f":"IF(ISNUMBER(SEARCH(\"5\",'Library Pool #5'!B30)),'Library Pool #5'!O30,\"\")","v":""},{"$f":"IF(ISNUMBER(SEARCH(\"5\",'Library Pool #5'!B30)),'Library Pool #5'!P30,\"\")","v":""},{"$f":"IF(ISNUMBER(SEARCH(\"5\",'Library Pool #5'!B30)),'Library Pool #5'!R30,\"\")","v":""},{"$f":"IF(ISNUMBER(SEARCH(\"6\",'Library Pool #6'!B30)),'Library Pool #6'!O30,\"\")","v":""},{"$f":"IF(ISNUMBER(SEARCH(\"6\",'Library Pool #6'!B30)),'Library Pool #6'!P30,\"\")","v":""},{"$f":"IF(ISNUMBER(SEARCH(\"6\",'Library Pool #6'!B30)),'Library Pool #6'!R30,\"\")","v":""}]
[null,{"$f":"'Library Info Input'!D24","v":0},{"$f":"IF(ISNUMBER(SEARCH(\"1\",'Library Pool #1'!B31)),'Library Pool #1'!O31,\"\")","v":""},{"$f":"IF(ISNUMBER(SEARCH(\"1\",'Library Pool #1'!B31)),'Library Pool #1'!P31,\"\")","v":""},{"$f":"IF(ISNUMBER(SEARCH(\"1\",'Library Pool #1'!B31)),'Library Pool #1'!R31,\"\")","v":""},{"$f":"IF(ISNUMBER(SEARCH(\"2\",'Library Pool #2'!B31)),'Library Pool #2'!O31,\"\")","v":""},{"$f":"IF(ISNUMBER(SEARCH(\"2\",'Library Pool #2'!B31)),'Library Pool #2'!P31,\"\")","v":""},{"$f":"IF(ISNUMBER(SEARCH(\"2\",'Library Pool #2'!B31)),'Library Pool #2'!R31,\"\")","v":""},{"$f":"IF(ISNUMBER(SEARCH(\"3\",'Library Pool #3'!B31)),'Library Pool #3'!O31,\"\")","v":""},{"$f":"IF(ISNUMBER(SEARCH(\"3\",'Library Pool #3'!B31)),'Library Pool #3'!P31,\"\")","v":""},{"$f":"IF(ISNUMBER(SEARCH(\"3\",'Library Pool #3'!B31)),'Library Pool #3'!R31,\"\")","v":""},{"$f":"IF(ISNUMBER(SEARCH(\"4\",'Library Pool #4'!B31)),'Library Pool #4'!O31,\"\")","v":""},{"$f":"IF(ISNUMBER(SEARCH(\"4\",'Library Pool #4'!B31)),'Library Pool #4'!P31,\"\")","v":""},{"$f":"IF(ISNUMBER(SEARCH(\"4\",'Library Pool #4'!B31)),'Library Pool #4'!R31,\"\")","v":""},{"$f":"IF(ISNUMBER(SEARCH(\"5\",'Library Pool #5'!B31)),'Library Pool #5'!O31,\"\")","v":""},{"$f":"IF(ISNUMBER(SEARCH(\"5\",'Library Pool #5'!B31)),'Library Pool #5'!P31,\"\")","v":""},{"$f":"IF(ISNUMBER(SEARCH(\"5\",'Library Pool #5'!B31)),'Library Pool #5'!R31,\"\")","v":""},{"$f":"IF(ISNUMBER(SEARCH(\"6\",'Library Pool #6'!B31)),'Library Pool #6'!O31,\"\")","v":""},{"$f":"IF(ISNUMBER(SEARCH(\"6\",'Library Pool #6'!B31)),'Library Pool #6'!P31,\"\")","v":""},{"$f":"IF(ISNUMBER(SEARCH(\"6\",'Library Pool #6'!B31)),'Library Pool #6'!R31,\"\")","v":""}]
[null,{"$f":"'Library Info Input'!D25","v":0},{"$f":"IF(ISNUMBER(SEARCH(\"1\",'Library Pool #1'!B32)),'Library Pool #1'!O32,\"\")","v":""},{"$f":"IF(ISNUMBER(SEARCH(\"1\",'Library Pool #1'!B32)),'Library Pool #1'!P32,\"\")","v":""},{"$f":"IF(ISNUMBER(SEARCH(\"1\",'Library Pool #1'!B32)),'Library Pool #1'!R32,\"\")","v":""},{"$f":"IF(ISNUMBER(SEARCH(\"2\",'Library Pool #2'!B32)),'Library Pool #2'!O32,\"\")","v":""},{"$f":"IF(ISNUMBER(SEARCH(\"2\",'Library Pool #2'!B32)),'Library Pool #2'!P32,\"\")","v":""},{"$f":"IF(ISNUMBER(SEARCH(\"2\",'Library Pool #2'!B32)),'Library Pool #2'!R32,\"\")","v":""},{"$f":"IF(ISNUMBER(SEARCH(\"3\",'Library Pool #3'!B32)),'Library Pool #3'!O32,\"\")","v":""},{"$f":"IF(ISNUMBER(SEARCH(\"3\",'Library Pool #3'!B32)),'Library Pool #3'!P32,\"\")","v":""},{"$f":"IF(ISNUMBER(SEARCH(\"3\",'Library Pool #3'!B32)),'Library Pool #3'!R32,\"\")","v":""},{"$f":"IF(ISNUMBER(SEARCH(\"4\",'Library Pool #4'!B32)),'Library Pool #4'!O32,\"\")","v":""},{"$f":"IF(ISNUMBER(SEARCH(\"4\",'Library Pool #4'!B32)),'Library Pool #4'!P32,\"\")","v":""},{"$f":"IF(ISNUMBER(SEARCH(\"4\",'Library Pool #4'!B32)),'Library Pool #4'!R32,\"\")","v":""},{"$f":"IF(ISNUMBER(SEARCH(\"5\",'Library Pool #5'!B32)),'Library Pool #5'!O32,\"\")","v":""},{"$f":"IF(ISNUMBER(SEARCH(\"5\",'Library Pool #5'!B32)),'Library Pool #5'!P32,\"\")","v":""},{"$f":"IF(ISNUMBER(SEARCH(\"5\",'Library Pool #5'!B32)),'Library Pool #5'!R32,\"\")","v":""},{"$f":"IF(ISNUMBER(SEARCH(\"6\",'Library Pool #6'!B32)),'Library Pool #6'!O32,\"\")","v":""},{"$f":"IF(ISNUMBER(SEARCH(\"6\",'Library Pool #6'!B32)),'Library Pool #6'!P32,\"\")","v":""},{"$f":"IF(ISNUMBER(SEARCH(\"6\",'Library Pool #6'!B32)),'Library Pool #6'!R32,\"\")","v":""}]
[null,{"$f":"'Library Info Input'!D26","v":0},{"$f":"IF(ISNUMBER(SEARCH(\"1\",'Library Pool #1'!B33)),'Library Pool #1'!O33,\"\")","v":""},{"$f":"IF(ISNUMBER(SEARCH(\"1\",'Library Pool #1'!B33)),'Library Pool #1'!P33,\"\")","v":""},{"$f":"IF(ISNUMBER(SEARCH(\"1\",'Library Pool #1'!B33)),'Library Pool #1'!R33,\"\")","v":""},{"$f":"IF(ISNUMBER(SEARCH(\"2\",'Library Pool #2'!B33)),'Library Pool #2'!O33,\"\")","v":""},{"$f":"IF(ISNUMBER(SEARCH(\"2\",'Library Pool #2'!B33)),'Library Pool #2'!P33,\"\")","v":""},{"$f":"IF(ISNUMBER(SEARCH(\"2\",'Library Pool #2'!B33)),'Library Pool #2'!R33,\"\")","v":""},{"$f":"IF(ISNUMBER(SEARCH(\"3\",'Library Pool #3'!B33)),'Library Pool #3'!O33,\"\")","v":""},{"$f":"IF(ISNUMBER(SEARCH(\"3\",'Library Pool #3'!B33)),'Library Pool #3'!P33,\"\")","v":""},{"$f":"IF(ISNUMBER(SEARCH(\"3\",'Library Pool #3'!B33)),'Library Pool #3'!R33,\"\")","v":""},{"$f":"IF(ISNUMBER(SEARCH(\"4\",'Library Pool #4'!B33)),'Library Pool #4'!O33,\"\")","v":""},{"$f":"IF(ISNUMBER(SEARCH(\"4\",'Library Pool #4'!B33)),'Library Pool #4'!P33,\"\")","v":""},{"$f":"IF(ISNUMBER(SEARCH(\"4\",'Library Pool #4'!B33)),'Library Pool #4'!R33,\"\")","v":""},{"$f":"IF(ISNUMBER(SEARCH(\"5\",'Library Pool #5'!B33)),'Library Pool #5'!O33,\"\")","v":""},{"$f":"IF(ISNUMBER(SEARCH(\"5\",'Library Pool #5'!B33)),'Library Pool #5'!P33,\"\")","v":""},{"$f":"IF(ISNUMBER(SEARCH(\"5\",'Library Pool #5'!B33)),'Library Pool #5'!R33,\"\")","v":""},{"$f":"IF(ISNUMBER(SEARCH(\"6\",'Library Pool #6'!B33)),'Library Pool #6'!O33,\"\")","v":""},{"$f":"IF(ISNUMBER(SEARCH(\"6\",'Library Pool #6'!B33)),'Library Pool #6'!P33,\"\")","v":""},{"$f":"IF(ISNUMBER(SEARCH(\"6\",'Library Pool #6'!B33)),'Library Pool #6'!R33,\"\")","v":""}]
[null,{"$f":"'Library Info Input'!D27","v":0},{"$f":"IF(ISNUMBER(SEARCH(\"1\",'Library Pool #1'!B34)),'Library Pool #1'!O34,\"\")","v":""},{"$f":"IF(ISNUMBER(SEARCH(\"1\",'Library Pool #1'!B34)),'Library Pool #1'!P34,\"\")","v":""},{"$f":"IF(ISNUMBER(SEARCH(\"1\",'Library Pool #1'!B34)),'Library Pool #1'!R34,\"\")","v":""},{"$f":"IF(ISNUMBER(SEARCH(\"2\",'Library Pool #2'!B34)),'Library Pool #2'!O34,\"\")","v":""},{"$f":"IF(ISNUMBER(SEARCH(\"2\",'Library Pool #2'!B34)),'Library Pool #2'!P34,\"\")","v":""},{"$f":"IF(ISNUMBER(SEARCH(\"2\",'Library Pool #2'!B34)),'Library Pool #2'!R34,\"\")","v":""},{"$f":"IF(ISNUMBER(SEARCH(\"3\",'Library Pool #3'!B34)),'Library Pool #3'!O34,\"\")","v":""},{"$f":"IF(ISNUMBER(SEARCH(\"3\",'Library Pool #3'!B34)),'Library Pool #3'!P34,\"\")","v":""},{"$f":"IF(ISNUMBER(SEARCH(\"3\",'Library Pool #3'!B34)),'Library Pool #3'!R34,\"\")","v":""},{"$f":"IF(ISNUMBER(SEARCH(\"4\",'Library Pool #4'!B34)),'Library Pool #4'!O34,\"\")","v":""},{"$f":"IF(ISNUMBER(SEARCH(\"4\",'Library Pool #4'!B34)),'Library Pool #4'!P34,\"\")","v":""},{"$f":"IF(ISNUMBER(SEARCH(\"4\",'Library Pool #4'!B34)),'Library Pool #4'!R34,\"\")","v":""},{"$f":"IF(ISNUMBER(SEARCH(\"5\",'Library Pool #5'!B34)),'Library Pool #5'!O34,\"\")","v":""},{"$f":"IF(ISNUMBER(SEARCH(\"5\",'Library Pool #5'!B34)),'Library Pool #5'!P34,\"\")","v":""},{"$f":"IF(ISNUMBER(SEARCH(\"5\",'Library Pool #5'!B34)),'Library Pool #5'!R34,\"\")","v":""},{"$f":"IF(ISNUMBER(SEARCH(\"6\",'Library Pool #6'!B34)),'Library Pool #6'!O34,\"\")","v":""},{"$f":"IF(ISNUMBER(SEARCH(\"6\",'Library Pool #6'!B34)),'Library Pool #6'!P34,\"\")","v":""},{"$f":"IF(ISNUMBER(SEARCH(\"6\",'Library Pool #6'!B34)),'Library Pool #6'!R34,\"\")","v":""}]
[null,{"$f":"'Library Info Input'!D28","v":0},{"$f":"IF(ISNUMBER(SEARCH(\"1\",'Library Pool #1'!B35)),'Library Pool #1'!O35,\"\")","v":""},{"$f":"IF(ISNUMBER(SEARCH(\"1\",'Library Pool #1'!B35)),'Library Pool #1'!P35,\"\")","v":""},{"$f":"IF(ISNUMBER(SEARCH(\"1\",'Library Pool #1'!B35)),'Library Pool #1'!R35,\"\")","v":""},{"$f":"IF(ISNUMBER(SEARCH(\"2\",'Library Pool #2'!B35)),'Library Pool #2'!O35,\"\")","v":""},{"$f":"IF(ISNUMBER(SEARCH(\"2\",'Library Pool #2'!B35)),'Library Pool #2'!P35,\"\")","v":""},{"$f":"IF(ISNUMBER(SEARCH(\"2\",'Library Pool #2'!B35)),'Library Pool #2'!R35,\"\")","v":""},{"$f":"IF(ISNUMBER(SEARCH(\"3\",'Library Pool #3'!B35)),'Library Pool #3'!O35,\"\")","v":""},{"$f":"IF(ISNUMBER(SEARCH(\"3\",'Library Pool #3'!B35)),'Library Pool #3'!P35,\"\")","v":""},{"$f":"IF(ISNUMBER(SEARCH(\"3\",'Library Pool #3'!B35)),'Library Pool #3'!R35,\"\")","v":""},{"$f":"IF(ISNUMBER(SEARCH(\"4\",'Library Pool #4'!B35)),'Library Pool #4'!O35,\"\")","v":""},{"$f":"IF(ISNUMBER(SEARCH(\"4\",'Library Pool #4'!B35)),'Library Pool #4'!P35,\"\")","v":""},{"$f":"IF(ISNUMBER(SEARCH(\"4\",'Library Pool #4'!B35)),'Library Pool #4'!R35,\"\")","v":""},{"$f":"IF(ISNUMBER(SEARCH(\"5\",'Library Pool #5'!B35)),'Library Pool #5'!O35,\"\")","v":""},{"$f":"IF(ISNUMBER(SEARCH(\"5\",'Library Pool #5'!B35)),'Library Pool #5'!P35,\"\")","v":""},{"$f":"IF(ISNUMBER(SEARCH(\"5\",'Library Pool #5'!B35)),'Library Pool #5'!R35,\"\")","v":""},{"$f":"IF(ISNUMBER(SEARCH(\"6\",'Library Pool #6'!B35)),'Library Pool #6'!O35,\"\")","v":""},{"$f":"IF(ISNUMBER(SEARCH(\"6\",'Library Pool #6'!B35)),'Library Pool #6'!P35,\"\")","v":""},{"$f":"IF(ISNUMBER(SEARCH(\"6\",'Library Pool #6'!B35)),'Library Pool #6'!R35,\"\")","v":""}]
[null,{"$f":"'Library Info Input'!D29","v":0},{"$f":"IF(ISNUMBER(SEARCH(\"1\",'Library Pool #1'!B36)),'Library Pool #1'!O36,\"\")","v":""},{"$f":"IF(ISNUMBER(SEARCH(\"1\",'Library Pool #1'!B36)),'Library Pool #1'!P36,\"\")","v":""},{"$f":"IF(ISNUMBER(SEARCH(\"1\",'Library Pool #1'!B36)),'Library Pool #1'!R36,\"\")","v":""},{"$f":"IF(ISNUMBER(SEARCH(\"2\",'Library Pool #2'!B36)),'Library Pool #2'!O36,\"\")","v":""},{"$f":"IF(ISNUMBER(SEARCH(\"2\",'Library Pool #2'!B36)),'Library Pool #2'!P36,\"\")","v":""},{"$f":"IF(ISNUMBER(SEARCH(\"2\",'Library Pool #2'!B36)),'Library Pool #2'!R36,\"\")","v":""},{"$f":"IF(ISNUMBER(SEARCH(\"3\",'Library Pool #3'!B36)),'Library Pool #3'!O36,\"\")","v":""},{"$f":"IF(ISNUMBER(SEARCH(\"3\",'Library Pool #3'!B36)),'Library Pool #3'!P36,\"\")","v":""},{"$f":"IF(ISNUMBER(SEARCH(\"3\",'Library Pool #3'!B36)),'Library Pool #3'!R36,\"\")","v":""},{"$f":"IF(ISNUMBER(SEARCH(\"4\",'Library Pool #4'!B36)),'Library Pool #4'!O36,\"\")","v":""},{"$f":"IF(ISNUMBER(SEARCH(\"4\",'Library Pool #4'!B36)),'Library Pool #4'!P36,\"\")","v":""},{"$f":"IF(ISNUMBER(SEARCH(\"4\",'Library Pool #4'!B36)),'Library Pool #4'!R36,\"\")","v":""},{"$f":"IF(ISNUMBER(SEARCH(\"5\",'Library Pool #5'!B36)),'Library Pool #5'!O36,\"\")","v":""},{"$f":"IF(ISNUMBER(SEARCH(\"5\",'Library Pool #5'!B36)),'Library Pool #5'!P36,\"\")","v":""},{"$f":"IF(ISNUMBER(SEARCH(\"5\",'Library Pool #5'!B36)),'Library Pool #5'!R36,\"\")","v":""},{"$f":"IF(ISNUMBER(SEARCH(\"6\",'Library Pool #6'!B36)),'Library Pool #6'!O36,\"\")","v":""},{"$f":"IF(ISNUMBER(SEARCH(\"6\",'Library Pool #6'!B36)),'Library Pool #6'!P36,\"\")","v":""},{"$f":"IF(ISNUMBER(SEARCH(\"6\",'Library Pool #6'!B36)),'Library Pool #6'!R36,\"\")","v":""}]
[null,{"$f":"'Library Info Input'!D30","v":0},{"$f":"IF(ISNUMBER(SEARCH(\"1\",'Library Pool #1'!B37)),'Library Pool #1'!O37,\"\")","v":""},{"$f":"IF(ISNUMBER(SEARCH(\"1\",'Library Pool #1'!B37)),'Library Pool #1'!P37,\"\")","v":""},{"$f":"IF(ISNUMBER(SEARCH(\"1\",'Library Pool #1'!B37)),'Library Pool #1'!R37,\"\")","v":""},{"$f":"IF(ISNUMBER(SEARCH(\"2\",'Library Pool #2'!B37)),'Library Pool #2'!O37,\"\")","v":""},{"$f":"IF(ISNUMBER(SEARCH(\"2\",'Library Pool #2'!B37)),'Library Pool #2'!P37,\"\")","v":""},{"$f":"IF(ISNUMBER(SEARCH(\"2\",'Library Pool #2'!B37)),'Library Pool #2'!R37,\"\")","v":""},{"$f":"IF(ISNUMBER(SEARCH(\"3\",'Library Pool #3'!B37)),'Library Pool #3'!O37,\"\")","v":""},{"$f":"IF(ISNUMBER(SEARCH(\"3\",'Library Pool #3'!B37)),'Library Pool #3'!P37,\"\")","v":""},{"$f":"IF(ISNUMBER(SEARCH(\"3\",'Library Pool #3'!B37)),'Library Pool #3'!R37,\"\")","v":""},{"$f":"IF(ISNUMBER(SEARCH(\"4\",'Library Pool #4'!B37)),'Library Pool #4'!O37,\"\")","v":""},{"$f":"IF(ISNUMBER(SEARCH(\"4\",'Library Pool #4'!B37)),'Library Pool #4'!P37,\"\")","v":""},{"$f":"IF(ISNUMBER(SEARCH(\"4\",'Library Pool #4'!B37)),'Library Pool #4'!R37,\"\")","v":""},{"$f":"IF(ISNUMBER(SEARCH(\"5\",'Library Pool #5'!B37)),'Library Pool #5'!O37,\"\")","v":""},{"$f":"IF(ISNUMBER(SEARCH(\"5\",'Library Pool #5'!B37)),'Library Pool #5'!P37,\"\")","v":""},{"$f":"IF(ISNUMBER(SEARCH(\"5\",'Library Pool #5'!B37)),'Library Pool #5'!R37,\"\")","v":""},{"$f":"IF(ISNUMBER(SEARCH(\"6\",'Library Pool #6'!B37)),'Library Pool #6'!O37,\"\")","v":""},{"$f":"IF(ISNUMBER(SEARCH(\"6\",'Library Pool #6'!B37)),'Library Pool #6'!P37,\"\")","v":""},{"$f":"IF(ISNUMBER(SEARCH(\"6\",'Library Pool #6'!B37)),'Library Pool #6'!R37,\"\")","v":""}]
[null,{"$f":"'Library Info Input'!D31","v":0},{"$f":"IF(ISNUMBER(SEARCH(\"1\",'Library Pool #1'!B38)),'Library Pool #1'!O38,\"\")","v":""},{"$f":"IF(ISNUMBER(SEARCH(\"1\",'Library Pool #1'!B38)),'Library Pool #1'!P38,\"\")","v":""},{"$f":"IF(ISNUMBER(SEARCH(\"1\",'Library Pool #1'!B38)),'Library Pool #1'!R38,\"\")","v":""},{"$f":"IF(ISNUMBER(SEARCH(\"2\",'Library Pool #2'!B38)),'Library Pool #2'!O38,\"\")","v":""},{"$f":"IF(ISNUMBER(SEARCH(\"2\",'Library Pool #2'!B38)),'Library Pool #2'!P38,\"\")","v":""},{"$f":"IF(ISNUMBER(SEARCH(\"2\",'Library Pool #2'!B38)),'Library Pool #2'!R38,\"\")","v":""},{"$f":"IF(ISNUMBER(SEARCH(\"3\",'Library Pool #3'!B38)),'Library Pool #3'!O38,\"\")","v":""},{"$f":"IF(ISNUMBER(SEARCH(\"3\",'Library Pool #3'!B38)),'Library Pool #3'!P38,\"\")","v":""},{"$f":"IF(ISNUMBER(SEARCH(\"3\",'Library Pool #3'!B38)),'Library Pool #3'!R38,\"\")","v":""},{"$f":"IF(ISNUMBER(SEARCH(\"4\",'Library Pool #4'!B38)),'Library Pool #4'!O38,\"\")","v":""},{"$f":"IF(ISNUMBER(SEARCH(\"4\",'Library Pool #4'!B38)),'Library Pool #4'!P38,\"\")","v":""},{"$f":"IF(ISNUMBER(SEARCH(\"4\",'Library Pool #4'!B38)),'Library Pool #4'!R38,\"\")","v":""},{"$f":"IF(ISNUMBER(SEARCH(\"5\",'Library Pool #5'!B38)),'Library Pool #5'!O38,\"\")","v":""},{"$f":"IF(ISNUMBER(SEARCH(\"5\",'Library Pool #5'!B38)),'Library Pool #5'!P38,\"\")","v":""},{"$f":"IF(ISNUMBER(SEARCH(\"5\",'Library Pool #5'!B38)),'Library Pool #5'!R38,\"\")","v":""},{"$f":"IF(ISNUMBER(SEARCH(\"6\",'Library Pool #6'!B38)),'Library Pool #6'!O38,\"\")","v":""},{"$f":"IF(ISNUMBER(SEARCH(\"6\",'Library Pool #6'!B38)),'Library Pool #6'!P38,\"\")","v":""},{"$f":"IF(ISNUMBER(SEARCH(\"6\",'Library Pool #6'!B38)),'Library Pool #6'!R38,\"\")","v":""}]
[null,{"$f":"'Library Info Input'!D32","v":0},{"$f":"IF(ISNUMBER(SEARCH(\"1\",'Library Pool #1'!B39)),'Library Pool #1'!O39,\"\")","v":""},{"$f":"IF(ISNUMBER(SEARCH(\"1\",'Library Pool #1'!B39)),'Library Pool #1'!P39,\"\")","v":""},{"$f":"IF(ISNUMBER(SEARCH(\"1\",'Library Pool #1'!B39)),'Library Pool #1'!R39,\"\")","v":""},{"$f":"IF(ISNUMBER(SEARCH(\"2\",'Library Pool #2'!B39)),'Library Pool #2'!O39,\"\")","v":""},{"$f":"IF(ISNUMBER(SEARCH(\"2\",'Library Pool #2'!B39)),'Library Pool #2'!P39,\"\")","v":""},{"$f":"IF(ISNUMBER(SEARCH(\"2\",'Library Pool #2'!B39)),'Library Pool #2'!R39,\"\")","v":""},{"$f":"IF(ISNUMBER(SEARCH(\"3\",'Library Pool #3'!B39)),'Library Pool #3'!O39,\"\")","v":""},{"$f":"IF(ISNUMBER(SEARCH(\"3\",'Library Pool #3'!B39)),'Library Pool #3'!P39,\"\")","v":""},{"$f":"IF(ISNUMBER(SEARCH(\"3\",'Library Pool #3'!B39)),'Library Pool #3'!R39,\"\")","v":""},{"$f":"IF(ISNUMBER(SEARCH(\"4\",'Library Pool #4'!B39)),'Library Pool #4'!O39,\"\")","v":""},{"$f":"IF(ISNUMBER(SEARCH(\"4\",'Library Pool #4'!B39)),'Library Pool #4'!P39,\"\")","v":""},{"$f":"IF(ISNUMBER(SEARCH(\"4\",'Library Pool #4'!B39)),'Library Pool #4'!R39,\"\")","v":""},{"$f":"IF(ISNUMBER(SEARCH(\"5\",'Library Pool #5'!B39)),'Library Pool #5'!O39,\"\")","v":""},{"$f":"IF(ISNUMBER(SEARCH(\"5\",'Library Pool #5'!B39)),'Library Pool #5'!P39,\"\")","v":""},{"$f":"IF(ISNUMBER(SEARCH(\"5\",'Library Pool #5'!B39)),'Library Pool #5'!R39,\"\")","v":""},{"$f":"IF(ISNUMBER(SEARCH(\"6\",'Library Pool #6'!B39)),'Library Pool #6'!O39,\"\")","v":""},{"$f":"IF(ISNUMBER(SEARCH(\"6\",'Library Pool #6'!B39)),'Library Pool #6'!P39,\"\")","v":""},{"$f":"IF(ISNUMBER(SEARCH(\"6\",'Library Pool #6'!B39)),'Library Pool #6'!R39,\"\")","v":""}]
[null,{"$f":"'Library Info Input'!D33","v":0},{"$f":"IF(ISNUMBER(SEARCH(\"1\",'Library Pool #1'!B40)),'Library Pool #1'!O40,\"\")","v":""},{"$f":"IF(ISNUMBER(SEARCH(\"1\",'Library Pool #1'!B40)),'Library Pool #1'!P40,\"\")","v":""},{"$f":"IF(ISNUMBER(SEARCH(\"1\",'Library Pool #1'!B40)),'Library Pool #1'!R40,\"\")","v":""},{"$f":"IF(ISNUMBER(SEARCH(\"2\",'Library Pool #2'!B40)),'Library Pool #2'!O40,\"\")","v":""},{"$f":"IF(ISNUMBER(SEARCH(\"2\",'Library Pool #2'!B40)),'Library Pool #2'!P40,\"\")","v":""},{"$f":"IF(ISNUMBER(SEARCH(\"2\",'Library Pool #2'!B40)),'Library Pool #2'!R40,\"\")","v":""},{"$f":"IF(ISNUMBER(SEARCH(\"3\",'Library Pool #3'!B40)),'Library Pool #3'!O40,\"\")","v":""},{"$f":"IF(ISNUMBER(SEARCH(\"3\",'Library Pool #3'!B40)),'Library Pool #3'!P40,\"\")","v":""},{"$f":"IF(ISNUMBER(SEARCH(\"3\",'Library Pool #3'!B40)),'Library Pool #3'!R40,\"\")","v":""},{"$f":"IF(ISNUMBER(SEARCH(\"4\",'Library Pool #4'!B40)),'Library Pool #4'!O40,\"\")","v":""},{"$f":"IF(ISNUMBER(SEARCH(\"4\",'Library Pool #4'!B40)),'Library Pool #4'!P40,\"\")","v":""},{"$f":"IF(ISNUMBER(SEARCH(\"4\",'Library Pool #4'!B40)),'Library Pool #4'!R40,\"\")","v":""},{"$f":"IF(ISNUMBER(SEARCH(\"5\",'Library Pool #5'!B40)),'Library Pool #5'!O40,\"\")","v":""},{"$f":"IF(ISNUMBER(SEARCH(\"5\",'Library Pool #5'!B40)),'Library Pool #5'!P40,\"\")","v":""},{"$f":"IF(ISNUMBER(SEARCH(\"5\",'Library Pool #5'!B40)),'Library Pool #5'!R40,\"\")","v":""},{"$f":"IF(ISNUMBER(SEARCH(\"6\",'Library Pool #6'!B40)),'Library Pool #6'!O40,\"\")","v":""},{"$f":"IF(ISNUMBER(SEARCH(\"6\",'Library Pool #6'!B40)),'Library Pool #6'!P40,\"\")","v":""},{"$f":"IF(ISNUMBER(SEARCH(\"6\",'Library Pool #6'!B40)),'Library Pool #6'!R40,\"\")","v":""}]
[null,{"$f":"'Library Info Input'!D34","v":0},{"$f":"IF(ISNUMBER(SEARCH(\"1\",'Library Pool #1'!B41)),'Library Pool #1'!O41,\"\")","v":""},{"$f":"IF(ISNUMBER(SEARCH(\"1\",'Library Pool #1'!B41)),'Library Pool #1'!P41,\"\")","v":""},{"$f":"IF(ISNUMBER(SEARCH(\"1\",'Library Pool #1'!B41)),'Library Pool #1'!R41,\"\")","v":""},{"$f":"IF(ISNUMBER(SEARCH(\"2\",'Library Pool #2'!B41)),'Library Pool #2'!O41,\"\")","v":""},{"$f":"IF(ISNUMBER(SEARCH(\"2\",'Library Pool #2'!B41)),'Library Pool #2'!P41,\"\")","v":""},{"$f":"IF(ISNUMBER(SEARCH(\"2\",'Library Pool #2'!B41)),'Library Pool #2'!R41,\"\")","v":""},{"$f":"IF(ISNUMBER(SEARCH(\"3\",'Library Pool #3'!B41)),'Library Pool #3'!O41,\"\")","v":""},{"$f":"IF(ISNUMBER(SEARCH(\"3\",'Library Pool #3'!B41)),'Library Pool #3'!P41,\"\")","v":""},{"$f":"IF(ISNUMBER(SEARCH(\"3\",'Library Pool #3'!B41)),'Library Pool #3'!R41,\"\")","v":""},{"$f":"IF(ISNUMBER(SEARCH(\"4\",'Library Pool #4'!B41)),'Library Pool #4'!O41,\"\")","v":""},{"$f":"IF(ISNUMBER(SEARCH(\"4\",'Library Pool #4'!B41)),'Library Pool #4'!P41,\"\")","v":""},{"$f":"IF(ISNUMBER(SEARCH(\"4\",'Library Pool #4'!B41)),'Library Pool #4'!R41,\"\")","v":""},{"$f":"IF(ISNUMBER(SEARCH(\"5\",'Library Pool #5'!B41)),'Library Pool #5'!O41,\"\")","v":""},{"$f":"IF(ISNUMBER(SEARCH(\"5\",'Library Pool #5'!B41)),'Library Pool #5'!P41,\"\")","v":""},{"$f":"IF(ISNUMBER(SEARCH(\"5\",'Library Pool #5'!B41)),'Library Pool #5'!R41,\"\")","v":""},{"$f":"IF(ISNUMBER(SEARCH(\"6\",'Library Pool #6'!B41)),'Library Pool #6'!O41,\"\")","v":""},{"$f":"IF(ISNUMBER(SEARCH(\"6\",'Library Pool #6'!B41)),'Library Pool #6'!P41,\"\")","v":""},{"$f":"IF(ISNUMBER(SEARCH(\"6\",'Library Pool #6'!B41)),'Library Pool #6'!R41,\"\")","v":""}]
[null,{"$f":"'Library Info Input'!D35","v":0},{"$f":"IF(ISNUMBER(SEARCH(\"1\",'Library Pool #1'!B42)),'Library Pool #1'!O42,\"\")","v":""},{"$f":"IF(ISNUMBER(SEARCH(\"1\",'Library Pool #1'!B42)),'Library Pool #1'!P42,\"\")","v":""},{"$f":"IF(ISNUMBER(SEARCH(\"1\",'Library Pool #1'!B42)),'Library Pool #1'!R42,\"\")","v":""},{"$f":"IF(ISNUMBER(SEARCH(\"2\",'Library Pool #2'!B42)),'Library Pool #2'!O42,\"\")","v":""},{"$f":"IF(ISNUMBER(SEARCH(\"2\",'Library Pool #2'!B42)),'Library Pool #2'!P42,\"\")","v":""},{"$f":"IF(ISNUMBER(SEARCH(\"2\",'Library Pool #2'!B42)),'Library Pool #2'!R42,\"\")","v":""},{"$f":"IF(ISNUMBER(SEARCH(\"3\",'Library Pool #3'!B42)),'Library Pool #3'!O42,\"\")","v":""},{"$f":"IF(ISNUMBER(SEARCH(\"3\",'Library Pool #3'!B42)),'Library Pool #3'!P42,\"\")","v":""},{"$f":"IF(ISNUMBER(SEARCH(\"3\",'Library Pool #3'!B42)),'Library Pool #3'!R42,\"\")","v":""},{"$f":"IF(ISNUMBER(SEARCH(\"4\",'Library Pool #4'!B42)),'Library Pool #4'!O42,\"\")","v":""},{"$f":"IF(ISNUMBER(SEARCH(\"4\",'Library Pool #4'!B42)),'Library Pool #4'!P42,\"\")","v":""},{"$f":"IF(ISNUMBER(SEARCH(\"4\",'Library Pool #4'!B42)),'Library Pool #4'!R42,\"\")","v":""},{"$f":"IF(ISNUMBER(SEARCH(\"5\",'Library Pool #5'!B42)),'Library Pool #5'!O42,\"\")","v":""},{"$f":"IF(ISNUMBER(SEARCH(\"5\",'Library Pool #5'!B42)),'Library Pool #5'!P42,\"\")","v":""},{"$f":"IF(ISNUMBER(SEARCH(\"5\",'Library Pool #5'!B42)),'Library Pool #5'!R42,\"\")","v":""},{"$f":"IF(ISNUMBER(SEARCH(\"6\",'Library Pool #6'!B42)),'Library Pool #6'!O42,\"\")","v":""},{"$f":"IF(ISNUMBER(SEARCH(\"6\",'Library Pool #6'!B42)),'Library Pool #6'!P42,\"\")","v":""},{"$f":"IF(ISNUMBER(SEARCH(\"6\",'Library Pool #6'!B42)),'Library Pool #6'!R42,\"\")","v":""}]
[]
[null,null,"Pool 1.__ \nTotal Sample Volume =_ ",null,null,"Pool 2.__ \nTotal Sample Volume =_ ",null,null,"Pool 3.__ \nTotal Sample Volume =_ ",null,null,"Pool 4.__ \nTotal Sample Volume =_ ",null,null,"Pool 5.__ \nTotal Sample Volume =_ ",null,null,"Pool 6.__ \nTotal Sample Volume =_ "]
[null,null,null,null,{"$f":"'Library Pool #1'!R44","v":15},null,null,{"$f":"'Library Pool #2'!R44","v":0},null,null,{"$f":"'Library Pool #3'!R44","v":0},null,null,{"$f":"'Library Pool #4'!R44","v":0},null,null,{"$f":"'Library Pool #5'!R44","v":0},null,null,{"$f":"'Library Pool #6'!R44","v":0}]
[]
[null,null,null,"Pool 1 Diluent Volume =_ ",{"$f":"'Library Pool #1'!R45","v":35},null,"Pool 2 Diluent Volume =_ ",{"$f":"'Library Pool #2'!R45","v":0},null,"Pool 3 Diluent Volume = ",{"$f":"'Library Pool #3'!R45","v":0},null,"Pool 4 Diluent Volume = _",{"$f":"'Library Pool #4'!R45","v":0},null,"Pool 5 Diluent Volume =_ ",{"$f":"'Library Pool #5'!R45","v":0},null,"Pool 6 Diluent Volume = _",{"$f":"'Library Pool #6'!R45","v":0}]
[]
[null,null,null,"Pool 1 Total Volume =_",{"$f":"E39+E41","v":50},null,"Pool 2 Total Volume =_",{"$f":"H39+H41","v":0},null,"Pool 3 Total Volume =",{"$f":"K39+K41","v":0},null,"Pool 4 Total Volume =_",{"$f":"N39+N41","v":0},null,"Pool 5 Total Volume =_",{"$f":"Q39+Q41","v":0},null,"Pool 6 Total Volume =_",{"$f":"T39+T41","v":0}]

{"sheet":"csv for Connect","index":10,"n_rows":43,"n_cols":10,"rows_kept":43,"cut":false,"hidden":true,"merged":[]}
["V1.28"]
["SAMPLEPARAMETERS","SAMPLENAME","lib_trans_vol","lib_dil_vol","lib_dil_dilu","lib_do_pool","USERDEFINED1","USERDEFINED2","USERDEFINED3","USERDEFINED4"]
[{"$f":"\"ID\" & 'Library Info Input'!C4","v":"ID1A"},{"$f":"'Library Info Input'!D4","v":"Library-1"},56.818181818181813,0,0,1]
[{"$f":"\"ID\" & 'Library Info Input'!C5","v":"ID1B"},{"$f":"'Library Info Input'!D5","v":0},0,0,0,3]
[{"$f":"\"ID\" & 'Library Info Input'!C6","v":"ID1C"},{"$f":"'Library Info Input'!D6","v":0},43.478260869565219,0,0,1]
[{"$f":"\"ID\" & 'Library Info Input'!C7","v":"ID1D"},{"$f":"'Library Info Input'!D7","v":0},0,0,0,6]
[{"$f":"\"ID\" & 'Library Info Input'!C8","v":"ID1E"},{"$f":"'Library Info Input'!D8","v":0},0,0,0,6]
[{"$f":"\"ID\" & 'Library Info Input'!C9","v":"ID1F"},{"$f":"'Library Info Input'!D9","v":0},0,0,0,6]
[{"$f":"\"ID\" & 'Library Info Input'!C10","v":"ID1G"},{"$f":"'Library Info Input'!D10","v":0},0,0,0,6]
[{"$f":"\"ID\" & 'Library Info Input'!C11","v":"ID1H"},{"$f":"'Library Info Input'!D11","v":0},0,0,0,6]
[{"$f":"\"ID\" & 'Library Info Input'!C12","v":"ID2A"},{"$f":"'Library Info Input'!D12","v":0},0,0,0,6]
[{"$f":"\"ID\" & 'Library Info Input'!C13","v":"ID2B"},{"$f":"'Library Info Input'!D13","v":0},0,0,0,6]
[{"$f":"\"ID\" & 'Library Info Input'!C14","v":"ID2C"},{"$f":"'Library Info Input'!D14","v":0},0,0,0,6]
[{"$f":"\"ID\" & 'Library Info Input'!C15","v":"ID2D"},{"$f":"'Library Info Input'!D15","v":0},0,0,0,6]
[{"$f":"\"ID\" & 'Library Info Input'!C16","v":"ID2E"},{"$f":"'Library Info Input'!D16","v":0},0,0,0,6]
[{"$f":"\"ID\" & 'Library Info Input'!C17","v":"ID2F"},{"$f":"'Library Info Input'!D17","v":0},0,0,0,6]
[{"$f":"\"ID\" & 'Library Info Input'!C18","v":"ID2G"},{"$f":"'Library Info Input'!D18","v":0},0,0,0,6]
[{"$f":"\"ID\" & 'Library Info Input'!C19","v":"ID2H"},{"$f":"'Library Info Input'!D19","v":0},0,0,0,6]
[{"$f":"\"ID\" & 'Library Info Input'!C20","v":"ID3A"},{"$f":"'Library Info Input'!D20","v":0},0,0,0,6]
[{"$f":"\"ID\" & 'Library Info Input'!C21","v":"ID3B"},{"$f":"'Library Info Input'!D21","v":0},0,5,25,6]
[{"$f":"\"ID\" & 'Library Info Input'!C22","v":"ID3C"},{"$f":"'Library Info Input'!D22","v":0},0,0,0,6]
[{"$f":"\"ID\" & 'Library Info Input'!C23","v":"ID3D"},{"$f":"'Library Info Input'!D23","v":0},0,5,15,6]
[{"$f":"\"ID\" & 'Library Info Input'!C24","v":"ID3E"},{"$f":"'Library Info Input'!D24","v":0},0,5,20,6]
[{"$f":"\"ID\" & 'Library Info Input'!C25","v":"ID3F"},{"$f":"'Library Info Input'!D25","v":0},0,5,30,6]
[{"$f":"\"ID\" & 'Library Info Input'!C26","v":"ID3G"},{"$f":"'Library Info Input'!D26","v":0},0,0,0,6]
[{"$f":"\"ID\" & 'Library Info Input'!C27","v":"ID3H"},{"$f":"'Library Info Input'!D27","v":0},0,0,0,6]
[{"$f":"\"ID\" & 'Library Info Input'!C28","v":"ID4A"},{"$f":"'Library Info Input'!D28","v":0},0,0,0,6]
[{"$f":"\"ID\" & 'Library Info Input'!C29","v":"ID4B"},{"$f":"'Library Info Input'!D29","v":0},0,0,0,6]
[{"$f":"\"ID\" & 'Library Info Input'!C30","v":"ID4C"},{"$f":"'Library Info Input'!D30","v":0},0,0,0,6]
[{"$f":"\"ID\" & 'Library Info Input'!C31","v":"ID4D"},{"$f":"'Library Info Input'!D31","v":0},0,0,0,6]
[{"$f":"\"ID\" & 'Library Info Input'!C32","v":"ID4E"},{"$f":"'Library Info Input'!D32","v":0},0,0,0,6]
[{"$f":"\"ID\" & 'Library Info Input'!C33","v":"ID4F"},{"$f":"'Library Info Input'!D33","v":0},0,0,0,6]
[{"$f":"\"ID\" & 'Library Info Input'!C34","v":"ID4G"},{"$f":"'Library Info Input'!D34","v":0},0,0,0,6]
[{"$f":"\"ID\" & 'Library Info Input'!C35","v":"ID4H"},{"$f":"'Library Info Input'!D35","v":0},0,0,0,6]
[]
["RUNPARAMETERS","SELECTION"]
["runName"]
["Pool 1 Diluent Volume?",{"$f":"'Summary sheet'!E41","v":35}]
["Pool 2 Diluent Volume?",{"$f":"'Summary sheet'!H41","v":0}]
["Pool 3 Diluent Volume?",{"$f":"'Summary sheet'!K41","v":0}]
["Pool 4 Diluent Volume?",{"$f":"'Summary sheet'!N41","v":0}]
["Pool 5 Diluent Volume?",{"$f":"'Summary sheet'!Q41","v":0}]
["Pool 6 Diluent Volume?",{"$f":"'Summary sheet'!T41","v":0}]

{"sheet":"WorksheetWillHide","index":11,"n_rows":32,"n_cols":3,"rows_kept":32,"cut":false,"hidden":true,"merged":[]}
[0,0,56.818181818181813]
[0,0,0]
[0,0,43.478260869565219]
[0,0,0]
[0,0,0]
[0,0,0]
[0,0,0]
[0,0,0]
[0,0,0]
[0,0,0]
[0,0,0]
[0,0,0]
[0,0,0]
[0,0,0]
[0,0,0]
[0,0,0]
[0,0,0]
[5,25,0]
[0,0,0]
[5,15,0]
[5,20,0]
[5,30,0]
[0,0,0]
[0,0,0]
[0,0,0]
[0,0,0]
[0,0,0]
[0,0,0]
[0,0,0]
[0,0,0]
[0,0,0]
[0,0,0]

{"sheet":"Sheet3","index":12,"n_rows":0,"n_cols":0,"rows_kept":0,"cut":false,"hidden":true,"merged":[]}