{"text_format":"2","workbook":"xlsx","n_sheets":27,"sheets":["0","1","2","3","4","5","6","6a","6b","7","7a","7b","7c","7d","8","8a","8b","9","9a","9b","10","11","11a","11b","11c","12","13"],"not_rendered":{"charts":0,"images":0,"macros":0,"external_links":4,"defined_names":61,"comments":0,"pivot_tables":0},"unopened":[],"bounds":{"document_bytes":16777216,"sheet_cells":100000,"run_cost":"one","rows_first":2000,"rows_last":500,"rows_between":2000,"halvings":0,"cell_chars":16384,"cell_head_chars":4096},"cells_cut":0,"cells_raw":0,"read":"whole","date_system":"1900"}

{"sheet":"0","index":0,"n_rows":64,"n_cols":3,"rows_kept":64,"cut":false,"hidden":false,"merged":[[4,1,4,2],[129,0,130,7],[82,0,84,7],[91,0,95,7],[88,0,89,7],[97,0,99,7],[103,0,107,7],[111,0,114,7],[116,0,118,7],[123,0,125,7],[40,1,41,7],[42,1,43,7],[45,1,46,7],[48,1,49,7],[50,1,53,7]]}
["Gambling Commission"]
["Industry Statistics - May 2020"]
[]
[]
[0,"Contents and Preface"]
[]
["Section 1: Primary Statistics"]
[]
[null,1,"Gambling industry overview "]
[null,2,"Operator & Licence numbers"]
[null,3,"Premises"]
[null,4,"Workforce "]
[null,5,"Machines across non remote sectors"]
[null,6,"Arcades (non-remote)"]
[null,null,"6a - Adult Gaming Centres"]
[null,null,"6b - Licensed Family Entertainment Centres"]
[null,7,"Betting (non-remote)"]
[null,null,"7a - Off Course Betting (over the counter)"]
[null,null,"7b - On Course Betting"]
[null,null,"7c - Pool Betting"]
[null,null,"7d - Gaming Machines in betting premises"]
[null,8,"Bingo (non-remote)"]
[null,null,"8a - Bingo Games"]
[null,null,"8b - Gaming Machines in bingo premises"]
[null,9,"Casino (non-remote)"]
[null,null,"9a - Casino Games"]
[null,null,"9b - Gaming Machines in casino premises"]
[null,10,"Lotteries (non-remote and remote)"]
[null,11,"Remote Casino, Betting & Bingo (RCBB)"]
[null,null,"11a - Casino (remote)"]
[null,null,"11b - Betting (remote)"]
[null,null,"11c - Bingo (remote)"]
[null,12,"The National Lottery (non-remote and remote)"]
[]
["Section 2: Other Statistics"]
[]
[null,13,"Gambling Software"]
[]
[]
[]
[null,"This Gambling Industry Statistics publication reports on the size and shape of the gambling industry in Great Britain. It provides an overview of Gross Gambling Yield (GGY) by sector, along with the numbers of licensed operators, premises and people employed within the industry. "]
[]
[null,"The report is compiled from data sets submitted to the Gambling Commission by licence holders. These include regulatory returns, society lottery submissions and data sharing arrangements with the National Lottery licence holder."]
[]
[]
[null,"Information on how we prepare Industry Statistics and a glossary of terms (including a detailed explanation of Gross Gambling Yield) are available on our website. "]
[]
[]
[null,"We use apportionment and estimating to produce these statistics. In this report, we have apportioned 2,299 (48%) of 4,792 regulatory returns and estimated 1,197 (25%). "]
[]
[null,"Due to our use of apportioning and estimating, the latest 12-months of statistics should be considered provisional figures (marked with ‘P’). When we receive new data from licence holders, we update our data. Revisions of previously published Gambling Industry Statistics publications are marked with ‘R’. We only update data for the last three reporting periods."]
[]
[]
[]
[]
["For further information"]
[]
["Release Date:",null,"2020-05-28"]
["Next Release:",null,"2020-11-26"]
[]
["Website:",null,"www.gamblingcommission.gov.uk"]
[]
["Responsible Statistician:",null,"Andrew Dixon"]
["Head of Profession:",null,"Matthew Webster"]

{"sheet":"1","index":1,"n_rows":20,"n_cols":13,"rows_kept":20,"cut":false,"hidden":false,"merged":[[6,1,6,12]]}
["Gambling Commission"]
["Industry Statistics - May 2020"]
[]
[]
[1,"Gambling industry overview"]
[]
[null,"Gambling Industry Gross Gambling Yield by Sector (£m)"]
["Reporting Period","Overall Total","% \nChange","Total excluding National Lottery & Lotteries","Arcades (non-remote)","Betting (non-remote)","Bingo (non-remote)","Casino (non-remote)","Betting (remote)","Bingo (remote)","Casino (remote)","Lotteries (remote and non-remote)","The National Lottery (remote and non-remote)"]
["Apr 2008 - Mar 2009",{"$f":"D9+L9+M9","v":8364.92},null,{"$f":"SUM(E9:K9)","v":5699.7300000000005},480.35,2903.24,703.11,796.17,783.31,0.47,33.08,143.69,2521.5000000000005]
["Apr 2009 - Mar 2010",{"$f":"D10+L10+M10","v":8115.64},{"$f":"(B10-B9)/B9","v":-0.029800643640345605},{"$f":"SUM(E10:K10)","v":5277.89},455.96,2811.36,627.22,751.13,607.76,1.51,22.95,158.55,2679.2]
["Apr 2010 - Mar 2011",{"$f":"D11+L11+M11","v":8435.7046975023986},{"$f":"(B11-B10)/B10","v":0.03943801074251671},{"$f":"SUM(E11:K11)","v":5425.387313992398},392.00191316627479,2957.3219850499845,625.57767587566047,797.42573990047822,638.18000000000006,2.19,12.69,170.11738350999994,2840.2]
["Apr 2011 - Mar 2012",{"$f":"D12+L12+M12","v":9026.7973034025144},{"$f":"(B12-B11)/B11","v":0.070070329284419308},{"$f":"SUM(E12:K12)","v":5674.2844267225146},381.0567524465622,3029.5938559060869,680.63964169584688,872.80417667401912,687.92,2.03,20.24,228.61287668,3123.9]
["Apr 2012 - Mar 2013",{"$f":"D13+L13+M13","v":9704.7399784492936},{"$f":"(B13-B12)/B12","v":0.075103345323954379},{"$f":"SUM(E13:K13)","v":6152.2353847492923},358.71142276365867,3198.5989511224188,700.90404263808819,961.41096822512714,887.66000000000008,2.46,42.49,273.00459370000056,3279.5000000000005]
["Apr 2013 - Mar 2014",{"$f":"D14+L14+M14","v":9868.6241973463057},{"$f":"(B14-B13)/B13","v":0.016887028324400182},{"$f":"SUM(E14:K14)","v":6475.0349448163051},379.10545623227796,3176.7650370733622,673.44062864305272,1111.0638228676132,1102.85,4.32,27.49,293.78925253000011,3099.8]
["Apr 2014 - Mar 2015",{"$f":"D15+L15+M15","v":11313.786163982788},{"$f":"(B15-B14)/B14","v":0.14644006476861177},{"$f":"SUM(E15:K15)","v":7731.9470915327875},387.22241487748738,3266.90799243814,679.023857751804,1159.7886646798579,1251.3925760878753,72.232261338235432,915.37932435938751,349.73907244999987,3232.1]
["Apr 2015 - Mar 2016",{"$f":"D16+L16+M16","v":13456.054343069551},{"$f":"(B16-B15)/B15","v":0.18935024474005269},{"$f":"SUM(E16:K16)","v":9659.48891101955},418.05979802987628,3318.187093086111,693.105095108112,999.38104860346186,1743.9130597481492,122.4069270993693,2364.4358893444723,379.76543204999996,3416.8]
["Apr 2016 - Mar 2017",{"$f":"D17+L17+M17","v":13779.801266003282},{"$f":"(B17-B16)/B16","v":0.024059573087297677},{"$f":"SUM(E17:K17)","v":10358.772213793281},424.92990838543011,3310.8435889012103,684.27876741963019,1163.53731456345,1952.9929745037095,161.15049216750995,2661.0391678523406,442.42905220999978,2978.6000000000004]
["Apr 2017 - Mar 2018R",{"$f":"D18+L18+M18","v":14424.425385679999},{"$f":"(B18-B17)/B17","v":0.046780364043935506},{"$f":"SUM(E18:K18)","v":10908.69058341},424.483953,3268.211166,680.11707899999988,1180.7172460000002,2254.25056739394,163.93352287857005,2936.97704913749,507.9348022699981,3007.8]
["Apr 2018 - Mar 2019R",{"$f":"D19+L19+M19","v":14330.409126953575},{"$f":"(B19-B18)/B18","v":-0.0065178512289133976},{"$f":"SUM(E19:K19)","v":10709.299079743578},435.93455199999994,3261.404757,673.305529,1058.818831,2033.7780525393198,176.09077129568612,3069.96658690857,541.81004720999829,3079.3]
["Oct 2018 - Sep 2019P",{"$f":"D20+L20+M20","v":14261.371160643197},{"$f":"(B20-B19)/B19","v":-0.0048175851574625691},{"$f":"SUM(E20:K20)","v":10504.257190903189},461.7157965899998,2811.6690759999997,668.95066300000008,1052.739379,2121.00211172268,198.08925825547993,3190.0909063350291,572.51396974000761,3184.6000000000004]

{"sheet":"2","index":2,"n_rows":36,"n_cols":15,"rows_kept":36,"cut":false,"hidden":false,"merged":[[6,1,6,14]]}
["Gambling Commission"]
["Industry Statistics - May 2020"]
[]
[2,null,"Operator and Licence Numbers"]
[]
[]
[null,"Licensed Activities"]
["Reporting Period","Total Activities Licensed ","% Change","Adult Gaming Centre","Betting","Bingo","Casino 2005","Casino 1968","External Lottery Manager","Licensed Family Entertainment Centre","Gaming Machine Technical","Lottery","Remote Casino, Betting & Bingo","Gambling Software","Trading Rooms Only"]
["2009-03-31",4108,"N/A",623,1382,214,3,55,36,312,643,634,201,99,6]
["2010-03-31",3989,{"$f":"SUM(B10-B9)/B9","v":-0.028967867575462512},613,1294,229,3,50,34,275,644,524,219,90,14]
["2011-03-31",3899,{"$f":"SUM(B11-B10)/B10","v":-0.022562045625470043},575,1224,245,7,47,40,235,607,626,194,84,15]
["2012-03-31",3828,{"$f":"SUM(B12-B11)/B11","v":-0.0182097973839446},544,1130,230,5,49,50,212,593,717,194,91,13]
["2013-03-31",3574,{"$f":"SUM(B13-B12)/B12","v":-0.06635318704284221},532,1038,218,6,47,46,192,589,616,182,96,12]
["2014-03-31",3403,{"$f":"SUM(B14-B13)/B13","v":-0.047845551203133746},505,958,215,7,44,50,178,573,601,173,89,10]
["2015-03-31",3770,{"$f":"SUM(B15-B14)/B14","v":0.10784601821921834},498,892,209,7,44,53,169,563,613,499,216,7]
["2016-03-31",3728,{"$f":"SUM(B16-B15)/B15","v":-0.011140583554376658},490,828,200,7,43,54,161,555,637,506,241,6]
["2017-03-31",3681,{"$f":"SUM(B17-B16)/B16","v":-0.012607296137339056},469,792,192,8,44,53,155,532,649,528,254,5]
["2018-03-31",3781,{"$f":"SUM(B18-B17)/B17","v":0.027166530834012496},458,761,185,8,44,62,141,524,686,608,299,5]
["2019-03-31",3656,{"$f":"SUM(B19-B18)/B18","v":-0.033060037027241473},429,720,179,9,48,53,127,505,640,629,314,3]
["2019-09-30",3641,{"$f":"SUM(B20-B19)/B19","v":-0.0041028446389496714},422,687,181,9,47,51,125,491,653,648,324,3]
[]
[]
[]
["Reporting Period","Number of Operators","% Change","Operators with Multiple Activities"]
["2009-03-31",3482,"N/A",387]
["2010-03-31",3288,{"$f":"SUM(B26-B25)/B25","v":-0.05571510626076967},375]
["2011-03-31",3137,{"$f":"SUM(B27-B26)/B26","v":-0.045924574209245742},371]
["2012-03-31",3034,{"$f":"SUM(B28-B27)/B27","v":-0.032833917755817663},351]
["2013-03-31",2887,{"$f":"SUM(B29-B28)/B28","v":-0.048450889914304546},325]
["2014-03-31",2760,{"$f":"SUM(B30-B29)/B29","v":-0.043990301350883269},305]
["2015-03-31",2910,{"$f":"SUM(B31-B30)/B30","v":0.05434782608695652},356]
["2016-03-31",2862,{"$f":"SUM(B32-B31)/B31","v":-0.016494845360824743},349]
["2017-03-31",2789,{"$f":"SUM(B33-B32)/B32","v":-0.025506638714185886},358]
["2018-03-31",2820,{"$f":"SUM(B34-B33)/B33","v":0.011115095016134816},375]
["2019-03-31",2688,{"$f":"SUM(B35-B34)/B34","v":-0.046808510638297871},381]
["2019-09-30",2652,{"$f":"SUM(B36-B35)/B35","v":-0.013392857142857142},386]

{"sheet":"3","index":3,"n_rows":21,"n_cols":7,"rows_kept":21,"cut":false,"hidden":false,"merged":[[7,1,7,6]]}
["Gambling Commission"]
["Industry Statistics - May 2020"]
[]
[]
[3,"Premises"]
[]
[]
[null,"Active Premises"]
["Reporting Period","Total","% \nChange","Arcades","Betting","Bingo","Casino"]
["2009-03-31",9656,null,"N/A",8872,641,143]
["2010-03-31",9459,-0.02040182270091135,"N/A",8822,496,141]
["2011-03-31",{"$f":"SUM(D12:G12)","v":12307},{"$f":"(B12-B11)/B11","v":0.301088910032773},2396,9067,695,149]
["2012-03-31",{"$f":"SUM(D13:G13)","v":12462},{"$f":"(B13-B12)/B12","v":0.012594458438287154},2542,9128,646,146]
["2013-03-31",{"$f":"SUM(D14:G14)","v":11957},{"$f":"(B14-B13)/B13","v":-0.040523190499117318},2033,9100,680,144]
["2014-03-31",{"$f":"SUM(D15:G15)","v":11999},{"$f":"(B15-B14)/B14","v":0.0035125867692565025},2031,9111,710,147]
["2015-03-31",{"$f":"SUM(D16:G16)","v":11758},{"$f":"(B16-B15)/B15","v":-0.020085007083923662},1941,8995,674,148]
["2016-03-31",{"$f":"SUM(D17:G17)","v":11615},{"$f":"(B17-B16)/B16","v":-0.012161932301411806},1894,8915,654,152]
["2017-03-31",{"$f":"SUM(D18:G18)","v":11404},{"$f":"(B18-B17)/B17","v":-0.018166164442531208},1819,8800,635,150]
["31/03/2018R",{"$f":"SUM(D19:G19)","v":11069},{"$f":"(B19-B18)/B18","v":-0.029375657663977553},1701,8559,657,152]
["31/03/2019R",{"$f":"SUM(D20:G20)","v":10781},{"$f":"(B20-B19)/B19","v":-0.02601861053392357},1656,8320,651,154]
["30/09/2019P",{"$f":"SUM(D21:G21)","v":9745},{"$f":"(B21-B20)/B20","v":-0.096094981912624056},1633,7315,642,155]

{"sheet":"4","index":4,"n_rows":21,"n_cols":10,"rows_kept":21,"cut":false,"hidden":false,"merged":[[7,1,7,9]]}
["Gambling Commission"]
["Industry Statistics - May 2020"]
[]
[]
[4,"Workforce"]
[]
[]
[null,"Workforce"]
["Reporting Period","Total","% \nChange","Arcades (non-remote)","Betting (non-remote)","Bingo (non-remote)","Casino (non-remote)","Gaming Machine Technical","External Lottery Manager","Remote Casino, Betting & Bingo"]
["2009-03-31",29464,null,29464,"N/A","N/A","N/A","N/A","N/A","N/A"]
["2010-03-31",{"$f":"SUM(D11:J11)","v":129548},"N/A",24410,54956,16877,17529,7602,678,7496]
["2011-03-31",{"$f":"SUM(D12:J12)","v":115494},{"$f":"(B12-B11)/B11","v":-0.10848488591101368},12844,55411,18495,13949,7603,754,6438]
["2012-03-31",{"$f":"SUM(D13:J13)","v":113466},{"$f":"(B13-B12)/B12","v":-0.017559353732661438},12769,55882,15829,14701,7604,849,5832]
["2013-03-31",{"$f":"SUM(D14:J14)","v":109980},{"$f":"(B14-B13)/B13","v":-0.030722859711279148},11815,55332,14938,15010,7313,847,4725]
["2014-03-31",{"$f":"SUM(D15:J15)","v":108193},{"$f":"(B15-B14)/B14","v":-0.016248408801600292},12075,52543,14069,15611,6925,1135,5835]
["2015-03-31",{"$f":"SUM(D16:J16)","v":107124},{"$f":"(B16-B15)/B15","v":-0.00988049134417199},10980,51509,13278,15569,7161,982,7645]
["2016-03-31",{"$f":"SUM(D17:J17)","v":107345},{"$f":"(B17-B16)/B16","v":0.00206302975990441},10694,53303,12831,16352,6661,1131,6373]
["2017-03-31",{"$f":"SUM(D18:J18)","v":107886},{"$f":"(B18-B17)/B17","v":0.0050398248637570451},10474,52537,12704,16397,6482,1091,8201]
["31/03/2018R",{"$f":"SUM(D19:J19)","v":108852},{"$f":"(B19-B18)/B18","v":0.0089538957788777036},10236,53500,12425,15377,6793,941,9580]
["31/03/2019R",{"$f":"SUM(D20:J20)","v":102647},{"$f":"(B20-B19)/B19","v":-0.05700400543857715},10229,50065,11826,13129,6468,1037,9893]
["30/09/2019P",{"$f":"SUM(D21:J21)","v":98174},{"$f":"(B21-B20)/B20","v":-0.043576529270217344},10046,46123,11559,12983,6583,1095,9785]

{"sheet":"5","index":5,"n_rows":39,"n_cols":16,"rows_kept":39,"cut":false,"hidden":false,"merged":[[22,7,22,14],[22,1,22,6],[3,0,4,0],[4,1,4,8],[7,1,7,6],[7,7,7,15]]}
["Gambling Commission"]
["Industry Statistics - May 2020"]
[]
[5]
[null,"Machines across non-remote sectors"]
[]
[]
[null,"Gross Gambling Yield by Sector (£m)",{"$nulls":5},"Gross Gambling Yield by Category (£m)"]
["Reporting Period","Totals","% \nChange","Arcades","Betting","Bingo","Casino","Totals","% \nChange","B1","B2","B3","B4","C","D","Aggregated \ncategories"]
["Apr 2008 - Mar 2009",{"$f":"SUM(D10:G10)","v":1868.7600000000002},null,480.34999999999997,1070.9900000000002,213.53,103.89,{"$f":"SUM(J10:P10)","v":1868.76},null,103.09,1051.46,135.49,2.8600000000000003,164.47,92.16,319.23]
["Apr 2009 - Mar 2010",{"$f":"SUM(D11:G11)","v":1963.97},{"$f":"(B11-B10)/B10","v":0.050948222350649518},455.95999999999992,1182.94,209.32,115.75,{"$f":"SUM(J11:P11)","v":1963.97},{"$f":"(H11-H10)/H10","v":0.05094822235064965},114.69,1167.48,152.45,2.8299999999999996,157.89000000000001,84.06,284.57]
["Apr 2010 - Mar 2011",{"$f":"SUM(D12:G12)","v":2042.4571402162594},{"$f":"(B12-B11)/B11","v":0.039963512791060647},392.00191316627485,1307.2752270499846,224.17999999999998,119,{"$f":"SUM(J12:P12)","v":2042.4571402162594},{"$f":"(H12-H11)/H11","v":0.039963512791060647},117.67,1303.6122804413831,160.49572180110616,2.201557675692619,164.62096363902779,90.914205987446451,202.94241067160328]
["Apr 2011 - Mar 2012",{"$f":"SUM(D13:G13)","v":2233.7650603438487},{"$f":"(B13-B12)/B12","v":0.093665573862339785},381.05675244656226,1458.5048869060863,265.25984814864165,128.94357284255832,{"$f":"SUM(J13:P13)","v":2233.7650603438487},{"$f":"(H13-H12)/H12","v":0.093665573862339785},126.27449960236997,1458.4541295794386,192.10292862488228,1.6754621151496161,173.07609282269019,95.172183302169756,187.00976429714822]
["Apr 2012 - Mar 2013",{"$f":"SUM(D14:G14)","v":2334.8109239712689},{"$f":"(B14-B13)/B13","v":0.045235672014614633},358.71142276365867,1547.6904701224187,292.23028286006479,136.17874822512715,{"$f":"SUM(J14:P14)","v":2334.8109239712689},{"$f":"(H14-H13)/H13","v":0.045235672014614633},130.11205001476614,1547.8281631950235,262.55691903370723,1.4307511934365391,229.92928000888318,105.42266957991977,57.531090945533059]
["Apr 2013 - Mar 2014",{"$f":"SUM(D15:G15)","v":2398.9932651303757},{"$f":"(B15-B14)/B14","v":0.027489309948036084},379.10545623227796,1569.1366380733618,294.8594179571225,155.89175286761318,{"$f":"SUM(J15:P15)","v":2398.9932651303757},{"$f":"(H15-H14)/H14","v":0.027489309948036084},145.87830645657485,1577.2712981247639,303.2265219013733,0.944984077350457,220.8960619457385,101.93222356654701,48.843869058027316]
["Apr 2014 - Mar 2015",{"$f":"SUM(D16:G16)","v":2544.5341210396173},{"$f":"(B16-B15)/B15","v":0.060667471653502968},387.22241487748738,1685.150103571777,303.64483035211373,168.51677223823933,{"$f":"SUM(J16:P16)","v":2544.5341210396173},{"$f":"(H16-H15)/H15","v":0.060667471653502968},157.49592724515375,1692.5882867893904,326.76097610405975,1.0094102510412832,224.74452717477271,103.05377896959816,38.881214505601157]
["Apr 2015 - Mar 2016",{"$f":"SUM(D17:G17)","v":2677.6734439125753},{"$f":"(B17-B16)/B16","v":0.052323653973467429},418.05979802987628,1747.95559602476,316.05509943349409,195.60295042444469,{"$f":"SUM(J17:P17)","v":2677.6734439125748},{"$f":"(H17-H16)/H16","v":0.052323653973467249},181.78311938729883,1760.0031704703226,360.04635891773842,1.1791277693474218,236.13836905109287,107.02224612907469,31.5010521877003]
["Apr 2016 - Mar 2017",{"$f":"SUM(D18:G18)","v":2772.95770320433},{"$f":"(B18-B17)/B17","v":0.035584719827719789},424.92990838543011,1821.90332604744,319.45654434874,206.66792442271986,{"$f":"SUM(J18:P18)","v":2772.95770320433},{"$f":"(H18-H17)/H17","v":0.035584719827719963},192.26981792707986,1835.6865845564,399.22058980552993,1.4451637141199998,236.43892261931009,106.26181225726009,1.63481232463]
["Apr 2017 - Mar 2018R",{"$f":"SUM(D19:G19)","v":2793.652137},{"$f":"(B19-B18)/B18","v":0.0074629460708168938},424.483953,1833.989249,323.948562,211.23037300000001,{"$f":"SUM(J19:P19)","v":2793.6521370000005},{"$f":"(H19-H18)/H18","v":0.0074629460708170586},197.092518,1689.358373,570.037904,4.048088,239.93148000000002,93.183774,0]
["Apr 2018 - Mar 2019R",{"$f":"SUM(D20:G20)","v":2805.370879},{"$f":"(B20-B19)/B19","v":0.0041947749488181968},435.93455199999994,1826.1925089999997,323.937725,219.306093,{"$f":"SUM(J20:P20)","v":2805.3708789999996},{"$f":"(H20-H19)/H19","v":0.00419477494881787},206.962251,1165.379006,1099.293907,5.113072,247.031232,81.591411,0]
["Oct 2018 - Sep 2019P",{"$f":"SUM(D21:G21)","v":2474.37148859},{"$f":"(B21-B20)/B20","v":-0.11798774731987946},461.7157965899998,1464.9972500000001,324.90998,222.74846200000002,{"$f":"SUM(J21:P21)","v":2474.37148859},{"$f":"(H21-H20)/H20","v":-0.11798774731987932},216.5295,624.22745800000007,1302.1578073599999,2.7401596699999997,243.64310150999998,85.073462049999989,0]
[]
[null,"Average number of machines by Sector",{"$nulls":5},"Average number of machines by Category"]
["Reporting Period","Totals","% \nChange","Arcades","Betting","Bingo","Casino","Totals","% \nChange","B1","B2","B3","B4","C","D"]
["Apr 2008 - Mar 2009",{"$f":"SUM(D25:G25)","v":157023},null,103305,31979,19212,2527,{"$f":"SUM(J25:O25)","v":157023},null,2477,31484,12701,587,60579,49195]
["Apr 2009 - Mar 2010",{"$f":"SUM(D26:G26)","v":149880},{"$f":"(B26-B25)/B25","v":-0.045490151124357579},94721,34542,18069,2548,{"$f":"SUM(J26:O26)","v":149880},{"$f":"(H26-H25)/H25","v":-0.045490151124357579},2499,33706,13069,498,52738,47370]
["Apr 2010 - Mar 2011",{"$f":"SUM(D27:G27)","v":147760.71856222796},{"$f":"(B27-B26)/B26","v":-0.014139854802322093},87985.151839285943,33248.566722942007,23890,2637,{"$f":"SUM(J27:O27)","v":147760.71856222791},{"$f":"(H27-H26)/H26","v":-0.01413985480232248},2603,32861.973471981,12716.54441213,438.39695865,49294.062069515967,49846.741649950956]
["Apr 2011 - Mar 2012",{"$f":"SUM(D28:G28)","v":161287.429529778},{"$f":"(B28-B27)/B27","v":0.091544702131733241},85832.615384051009,33545.706803198,39054.368041529,2854.739301,{"$f":"SUM(J28:O28)","v":161287.429529778},{"$f":"(H28-H27)/H27","v":0.091544702131733671},2787.700977,33350.301802356,13495.661555011,256.11287421000003,46376.5759582,65021.076363001]
["Apr 2012 - Mar 2013",{"$f":"SUM(D29:G29)","v":167614.16968345703},{"$f":"(B29-B28)/B28","v":0.03922649255508754},84043.192323222072,33515.893426279952,47259.783071955,2795.300862,{"$f":"SUM(J29:O29)","v":167614.16968345703},{"$f":"(H29-H28)/H28","v":0.03922649255508754},2675.473529,33466.92559001295,15653.220875195009,232.09226792299989,49835.170800728039,65751.286620598024]
["Apr 2013 - Mar 2014",{"$f":"SUM(D30:G30)","v":170639.64643894791},{"$f":"(B30-B29)/B29","v":0.018050244565865486},82673.672223228932,34483.29939319798,50636.176699521,2846.4981230000017,{"$f":"SUM(J30:O30)","v":170639.64643894791},{"$f":"(H30-H29)/H29","v":0.018050244565865486},2656.9427370000021,34548.781133882978,17303.218404346,218.72502168699998,61929.572168271923,53982.406973759993]
["Apr 2014 - Mar 2015",{"$f":"SUM(D31:G31)","v":172792.85741475096},{"$f":"(B31-B30)/B30","v":0.012618468338033274},78152.917002166985,34871.980979999971,56964.260543583994,2803.6988889999948,{"$f":"SUM(J31:O31)","v":172792.85741475096},{"$f":"(H31-H30)/H30","v":0.012618468338033274},2630.4928099999952,34949.025449999972,18598.624128110005,311.430050351,73004.895966907992,43298.389009381994]
["Apr 2015 - Mar 2016",{"$f":"SUM(D32:G32)","v":181874.43904806496},{"$f":"(B32-B31)/B31","v":0.052557621704904571},80532.785738358987,34593.612108999987,63756.625169705992,2991.4160309999988,{"$f":"SUM(J32:O32)","v":181874.439048065},{"$f":"(H32-H31)/H31","v":0.052557621704904738},2806.2325539999988,34700.525934999991,22375.000515314983,294.59364456799995,76822.464943964,44875.621455217995]
["Apr 2016 - Mar 2017",{"$f":"SUM(D33:G33)","v":183188.594408144},{"$f":"(B33-B32)/B32","v":0.0072256187673065547},78268.1162450262,33895,67867.47816311779,3158,{"$f":"SUM(J33:O33)","v":183188.59440814398},{"$f":"(H33-H32)/H32","v":0.0072256187673062338},2972,34015,23599.244726241093,255.83955895651479,80300.072421757475,42046.4377011889]
["Apr 2017 - Mar 2018R",{"$f":"SUM(D34:G34)","v":180809.6},{"$f":"(B34-B33)/B33","v":-0.012986585850664955},74113,33745.6,69708,3243,{"$f":"SUM(J34:O34)","v":180809.6},{"$f":"(H34-H33)/H33","v":-0.0129865858506648},3073,33855,23876,231,81039.6,38735]
["Apr 2018 - Mar 2019R",{"$f":"SUM(D35:G35)","v":179766},{"$f":"(B35-B34)/B34","v":-0.00577181742562345},72270,32777,71409,3310,{"$f":"SUM(J35:O35)","v":179766},{"$f":"(H35-H34)/H34","v":-0.00577181742562345},3161,32809,21593,201,83016,38986]
["Oct 2018 - Sep 2019P",{"$f":"SUM(D36:G36)","v":185203},{"$f":"(B36-B35)/B35","v":0.030244873891614656},75564,32113,74199,3327,{"$f":"SUM(J36:O36)","v":185203},{"$f":"(H36-H35)/H35","v":0.030244873891614656},3255,23441,31309,189,87474,39535]
[]
["Details on gaming machine categorisation are available on our website."]
["Details on gaming machine entitlement are available on our website."]

{"sheet":"6","index":6,"n_rows":40,"n_cols":14,"rows_kept":40,"cut":false,"hidden":false,"merged":[[7,1,7,6],[7,7,7,13]]}
["Gambling Commission"]
["Industry Statistics - May 2020"]
[]
[]
[6,"Arcades (non-remote)"]
[]
[]
[null,"Average number of machines",{"$nulls":5},"Gross Gambling Yield (£m)"]
["Reporting Period","Total","% \nChange","B3","B4","C","D","Total","% \nChange","B3","B4","C","D","Aggregated categories"]
["Apr 2008 - Mar 2009",{"$f":"SUM(D10:G10)","v":103305},null,10018,193,{"$f":"'6a'!F10+'6b'!D10","v":45864},{"$f":"'6a'!G10+'6b'!E10","v":47230},{"$f":"SUM(J10:N10)","v":454.74},null,93.29,0.76,{"$f":"'6a'!L10+'6b'!H10","v":104.73},{"$f":"'6a'!M10+'6b'!I10","v":91.18},164.78]
["Apr 2009 - Mar 2010",{"$f":"SUM(D11:G11)","v":94721},{"$f":"(B11-B10)/B10","v":-0.0830937515125115},9399,170,{"$f":"'6a'!F11+'6b'!D11","v":39454},{"$f":"'6a'!G11+'6b'!E11","v":45698},{"$f":"SUM(J11:N11)","v":441.35},{"$f":"(H11-H10)/H10","v":-0.02944539736992564},95.91,0.57,{"$f":"'6a'!L11+'6b'!H11","v":97.52000000000001},{"$f":"'6a'!M11+'6b'!I11","v":82},165.35]
["Apr 2010 - Mar 2011",{"$f":"SUM(D12:G12)","v":87985.151839285929},{"$f":"(B12-B11)/B11","v":-0.0711125110663324},8697.826699995001,198.39695865000002,{"$f":"'6a'!F12+'6b'!D12","v":34264.186530689971},{"$f":"'6a'!G12+'6b'!E12","v":44824.741649950956},{"$f":"SUM(J12:N12)","v":383.3800664956309},{"$f":"(H12-H11)/H11","v":-0.13134685284778322},100.27425551637148,0.47155767569261897,{"$f":"'6a'!L12+'6b'!H12","v":92.3986481551922},{"$f":"'6a'!M12+'6b'!I12","v":85.894205987446455},104.34139916092811]
["Apr 2011 - Mar 2012",{"$f":"SUM(D13:G13)","v":85832.615384051},{"$f":"(B13-B12)/B12","v":-0.024464769455268629},8695.047911902,61.179486162,{"$f":"'6a'!F13+'6b'!D13","v":29859.196060500002},{"$f":"'6a'!G13+'6b'!E13","v":47217.191925487},{"$f":"SUM(J13:N13)","v":374.51037631903682},{"$f":"(H13-H12)/H12","v":-0.023135501690709728},113.84509938636769,0.323057500113809,{"$f":"'6a'!L13+'6b'!H13","v":91.823243590125458},{"$f":"'6a'!M13+'6b'!I13","v":87.067858762933355},81.451117079496527]
["Apr 2012 - Mar 2013",{"$f":"SUM(D14:G14)","v":84043.192323222072},{"$f":"(B14-B13)/B13","v":-0.020847821691350021},9116.690059770006,43.477389400999996,{"$f":"'6a'!F14+'6b'!D14","v":28541.361661827046},{"$f":"'6a'!G14+'6b'!E14","v":46341.663212224019},{"$f":"SUM(J14:N14)","v":350.959594102867},{"$f":"(H14-H13)/H13","v":-0.0628841914812727},124.12150822555247,0.294697539020885,{"$f":"'6a'!L14+'6b'!H14","v":100.80989199695162},{"$f":"'6a'!M14+'6b'!I14","v":84.920748521627189},40.812747819714851]
["Apr 2013 - Mar 2014",{"$f":"SUM(D15:G15)","v":82673.672223228932},{"$f":"(B15-B14)/B14","v":-0.016295431695717805},9673.4663896419988,68.912364145,{"$f":"'6a'!F15+'6b'!D15","v":30187.300615001936},{"$f":"'6a'!G15+'6b'!E15","v":42743.992854439988},{"$f":"SUM(J15:N15)","v":371.51324462638161},{"$f":"(H15-H14)/H14","v":0.05856415059988436},144.45760405957503,0.18798193632996998,{"$f":"'6a'!L15+'6b'!H15","v":108.85743399396735},{"$f":"'6a'!M15+'6b'!I15","v":82.10131254240315},35.908912094106078]
["Apr 2014 - Mar 2015",{"$f":"SUM(D16:G16)","v":78152.917002166985},{"$f":"(B16-B15)/B15","v":-0.054681921094001489},9773.7553624509983,134.68358485700003,{"$f":"'6a'!F16+'6b'!D16","v":29964.738952789998},{"$f":"'6a'!G16+'6b'!E16","v":38279.73910206899},{"$f":"SUM(J16:N16)","v":380.96407817723286},{"$f":"(H16-H15)/H15","v":0.025438752689303561},155.76305979780139,0.33666298956044105,{"$f":"'6a'!L16+'6b'!H16","v":113.77005708978153},{"$f":"'6a'!M16+'6b'!I16","v":84.790194308505235},26.3041039915843]
["Apr 2015 - Mar 2016",{"$f":"SUM(D17:G17)","v":80532.785738358987},{"$f":"(B17-B16)/B16","v":0.030451438378506258},10680.043273722982,118.464343996,{"$f":"'6a'!F17+'6b'!D17","v":31871.34714289401},{"$f":"'6a'!G17+'6b'!E17","v":37862.930977745993},{"$f":"SUM(J17:N17)","v":412.52083020427011},{"$f":"(H17-H16)/H16","v":0.0828339306373037},175.60218472663155,0.383597791208173,{"$f":"'6a'!L17+'6b'!H17","v":123.805670978277},{"$f":"'6a'!M17+'6b'!I17","v":88.837087691653522},23.892289016499884]
["Apr 2016 - Mar 2017",{"$f":"SUM(D18:G18)","v":78268.1162450262},{"$f":"(B18-B17)/B17","v":-0.028121087238809937},11022.986333370332,108.79182038860903,{"$f":"'6a'!F18+'6b'!D18","v":32485.48511544559},{"$f":"'6a'!G18+'6b'!E18","v":34650.852975821668},{"$f":"SUM(J18:N18)","v":424.07413201725007},{"$f":"(H18-H17)/H17","v":0.028006590133300768},197.98899625958998,0.44907750814999997,{"$f":"'6a'!L18+'6b'!H18","v":135.47285596053},{"$f":"'6a'!M18+'6b'!I18","v":89.611742233540085},0.55146005544]
["Apr 2017 - Mar 2018R",{"$f":"SUM(D19:G19)","v":74113},{"$f":"(B19-B18)/B18","v":-0.053088236236811887},10662,82,33501,29868,{"$f":"SUM(J19:N19)","v":424.483953},{"$f":"(H19-H18)/H18","v":0.0009663899582850531},211.993768,0.61835,133.448759,78.423076,0]
["Apr 2018 - Mar 2019R",{"$f":"SUM(D20:G20)","v":72270},{"$f":"(B20-B19)/B19","v":-0.024867432164397608},10655,92,32636,28887,{"$f":"SUM(J20:N20)","v":435.93455199999994},{"$f":"(H20-H19)/H19","v":0.026975340101961297},230.065024,0.745013,135.868066,69.256449,0]
["Oct 2018 - Sep 2019P",{"$f":"SUM(D21:G21)","v":75564},{"$f":"(B21-B20)/B20","v":0.045579078455790782},11263,80,34079,30142,{"$f":"SUM(J21:N21)","v":461.7157965899998},{"$f":"(H21-H20)/H20","v":0.059140172467907204},246.97753135999986,0.68440466999999994,140.83934551,73.214515049999989,0]
[]
["6a - Adult Gaming Centres"]
["6b - Licensed family Entertainment Centres"]
{"$rows_empty":15}
[{"$nulls":6}," "]

{"sheet":"6a","index":7,"n_rows":40,"n_cols":14,"rows_kept":40,"cut":false,"hidden":false,"merged":[[7,1,7,6],[7,7,7,13]]}
["Gambling Commission"]
["Industry Statistics - May 2020"]
[]
[]
["6a","Adult Gaming Centres (non-remote)"]
[]
[]
[null,"Average number of machines",{"$nulls":5},"Gross Gambling Yield (£m)"]
["Reporting Period","Total","% \nChange","B3","B4","C","D","Total","% \nChange","B3","B4","C","D","Aggregated categories"]
["Apr 2008 - Mar 2009",{"$f":"SUM(D10:G10)","v":72293},null,10018,193,42373,19709,{"$f":"SUM(J10:N10)","v":397.87},null,93.29,0.76,99.09,39.95,164.78]
["Apr 2009 - Mar 2010",{"$f":"SUM(D11:G11)","v":64476},{"$f":"(B11-B10)/B10","v":-0.10812941778595438},9399,170,35994,18913,{"$f":"SUM(J11:N11)","v":378.24},{"$f":"(H11-H10)/H10","v":-0.049337723376982418},95.91,0.57,91.9,24.51,165.35]
["Apr 2010 - Mar 2011",{"$f":"SUM(D12:G12)","v":58496.486307175961},{"$f":"(B12-B11)/B11","v":-0.092740146609964},8697.826699995001,198.39695865000002,30989.02218010397,18611.240468426986,{"$f":"SUM(J12:N12)","v":315.88000021472294},{"$f":"(H12-H11)/H11","v":-0.16486886576056753},100.27425551637148,0.47155767569261897,86.0196113336382,24.773176528092538,104.34139916092811]
["Apr 2011 - Mar 2012",{"$f":"SUM(D13:G13)","v":54599.707048163},{"$f":"(B13-B12)/B12","v":-0.066615612407046915},8695.047911902,61.179486162,27389.797342212,18453.682307887,{"$f":"SUM(J13:N13)","v":302.400080612361},{"$f":"(H13-H12)/H12","v":-0.042674178780545753},113.84509938636769,0.323057500113809,86.021666613770918,20.75914003261207,81.451117079496527]
["Apr 2012 - Mar 2013",{"$f":"SUM(D14:G14)","v":52850.676863157045},{"$f":"(B14-B13)/B13","v":-0.032033691746058572},9116.690059770006,43.477389400999996,26035.760856151046,17654.748557835,{"$f":"SUM(J14:N14)","v":289.08085815947584},{"$f":"(H14-H13)/H13","v":-0.044045036052615207},124.12150822555247,0.294697539020885,96.230942651232809,27.62096192395483,40.812747819714851]
["Apr 2013 - Mar 2014",{"$f":"SUM(D15:G15)","v":53575.06475875395},{"$f":"(B15-B14)/B14","v":0.013706312550594521},9673.4663896419988,68.912364145,28181.941036227934,15650.744968739018,{"$f":"SUM(J15:N15)","v":312.04973486502467},{"$f":"(H15-H14)/H14","v":0.079454851669485876},144.45760405957503,0.18798193632996998,105.40882911319537,26.086407661818232,35.908912094106078]
["Apr 2014 - Mar 2015",{"$f":"SUM(D16:G16)","v":52257.450572787988},{"$f":"(B16-B15)/B15","v":-0.024593795488612437},9773.7553624509983,134.68358485700003,27685.694250638997,14663.31737484099,{"$f":"SUM(J16:N16)","v":317.39732416428126},{"$f":"(H16-H15)/H15","v":0.017136977544844421},155.76305979780139,0.33666298956044105,109.62587232728993,25.36762505804516,26.3041039915843]
["Apr 2015 - Mar 2016",{"$f":"SUM(D17:G17)","v":55279.916669442973},{"$f":"(B17-B16)/B16","v":0.057837993693264353},10680.043273722982,118.464343996,29655.760330747009,14825.648720976988,{"$f":"SUM(J17:N17)","v":345.24730001270007},{"$f":"(H17-H16)/H16","v":0.087744835032081039},175.60218472663155,0.383597791208173,120.07778333298401,25.291445145376496,23.892289016499884]
["Apr 2016 - Mar 2017",{"$f":"SUM(D18:G18)","v":55750.250862411944},{"$f":"(B18-B17)/B17","v":0.0085082290514550771},11022.986333370332,108.79182038860903,30478.249993974274,14140.222714678725,{"$f":"SUM(J18:N18)","v":359.61844362710997},{"$f":"(H18-H17)/H17","v":0.041625650986644225},197.98899625958998,0.44907750814999997,131.96465109414,28.664258709790019,0.55146005544]
["Apr 2017 - Mar 2018R",{"$f":"SUM(D19:G19)","v":56922},{"$f":"(B19-B18)/B18","v":0.021017827174981837},10662,82,31935,14243,{"$f":"SUM(J19:N19)","v":369.762468},{"$f":"(H19-H18)/H18","v":0.028207742268659696},211.993768,0.61835,130.779139,26.371211,0]
["Apr 2018 - Mar 2019R",{"$f":"SUM(D20:G20)","v":56940},{"$f":"(B20-B19)/B19","v":0.00031622219879835566},10655,92,31366,14827,{"$f":"SUM(J20:N20)","v":386.40380899999997},{"$f":"(H20-H19)/H19","v":0.045005489848688358},230.065024,0.745013,133.593517,22.000255,0]
["Oct 2018 - Sep 2019P",{"$f":"SUM(D21:G21)","v":59923},{"$f":"(B21-B20)/B20","v":0.052388479100807871},11263,80,32739,15841,{"$f":"SUM(J21:N21)","v":409.00586089999979},{"$f":"(H21-H20)/H20","v":0.058493346529096518},246.97753135999986,0.68440466999999994,138.35023791999998,22.99368694999999,0]
[]
["Details on gaming machine categorisation are available on our website."]
["Details on gaming machine entitlement are available on our website."]
{"$rows_empty":15}
[{"$nulls":6}," "]

{"sheet":"6b","index":8,"n_rows":40,"n_cols":10,"rows_kept":40,"cut":false,"hidden":false,"merged":[[7,1,7,4],[7,5,7,9]]}
["Gambling Commission"]
["Industry Statistics - May 2020"]
[]
[]
["6b","Licensed Family Entertainment Centres (non-remote)"]
[]
[]
[null,"Average number of machines",null,null,null,"Gross Gambling Yield (£m)"]
["Reporting Period","Total","% \nChange","C","D","Total","% Change","C","D","Aggregated categories"]
["Apr 2008 - Mar 2009",{"$f":"SUM(D10:E10)","v":31012},null,3491,27521,{"$f":"SUM(H10:J10)","v":82.47999999999999},null,5.64,51.23,25.61]
["Apr 2009 - Mar 2010",{"$f":"SUM(D11:E11)","v":30245},{"$f":"(B11-B10)/B10","v":-0.024732361666451697},3460,26785,{"$f":"SUM(H11:J11)","v":77.72},{"$f":"(F11-F10)/F10","v":-0.057710960232783604},5.62,57.49,14.61]
["Apr 2010 - Mar 2011",{"$f":"SUM(D12:E12)","v":29488.665532109975},{"$f":"(B12-B11)/B11","v":-0.02500692570309224},3275.1643505859993,26213.501181523974,{"$f":"SUM(H12:J12)","v":76.121912951551877},{"$f":"(F12-F11)/F11","v":-0.020562108188987668},6.3790368215540161,61.121029459353913,8.62184667064394]
["Apr 2011 - Mar 2012",{"$f":"SUM(D13:E13)","v":31232.908335888},{"$f":"(B13-B12)/B12","v":0.059149601119750032},2469.398718288,28763.5096176,{"$f":"SUM(H13:J13)","v":78.656671834201163},{"$f":"(F13-F12)/F12","v":0.033298675563533768},5.8015769763545446,66.308718730321289,6.5463761275253312]
["Apr 2012 - Mar 2013",{"$f":"SUM(D14:E14)","v":31192.51546006502},{"$f":"(B14-B13)/B13","v":-0.0012932793638230637},2505.6008056760011,28686.91465438902,{"$f":"SUM(H14:J14)","v":69.630564604182865},{"$f":"(F14-F13)/F13","v":-0.11475323096614423},4.5789493457188177,57.299786597672352,7.7518286607917]
["Apr 2013 - Mar 2014",{"$f":"SUM(D15:E15)","v":29098.607464474968},{"$f":"(B15-B14)/B14","v":-0.0671285391609673},2005.3595787739998,27093.247885700966,{"$f":"SUM(H15:J15)","v":67.055721367253241},{"$f":"(F15-F14)/F14","v":-0.036978635051523726},3.4486048807719847,56.014904880584915,7.5922116058963356]
["Apr 2014 - Mar 2015",{"$f":"SUM(D16:E16)","v":25895.466429379},{"$f":"(B16-B15)/B15","v":-0.11007884274209757},2279.0447021510004,23616.421727228,{"$f":"SUM(H16:J16)","v":69.82509071320618},{"$f":"(F16-F15)/F15","v":0.041299523582567318},4.1441847624916042,59.422569250460072,6.2583367002545094]
["Apr 2015 - Mar 2016",{"$f":"SUM(D17:E17)","v":25252.869068916007},{"$f":"(B17-B16)/B16","v":-0.024815052558155623},2215.5868121470003,23037.282256769005,{"$f":"SUM(H17:J17)","v":72.8124980171762},{"$f":"(F17-F16)/F16","v":0.042784152135802396},3.7278876452930008,63.54564254627703,5.5389678256061687]
["Apr 2016 - Mar 2017",{"$f":"SUM(D18:E18)","v":22517.865382614262},{"$f":"(B18-B17)/B17","v":-0.10830467139546875},2007.2351214713169,20510.630261142946,{"$f":"SUM(H18:J18)","v":65.311464758320071},{"$f":"(F18-F17)/F17","v":-0.1030184853304533},3.5082048663900007,60.947483523750066,0.85577636818]
["Apr 2017 - Mar 2018R",{"$f":"SUM(D19:E19)","v":17191},{"$f":"(B19-B18)/B18","v":-0.23656173851750006},1566,15625,{"$f":"SUM(H19:J19)","v":54.721485},{"$f":"(F19-F18)/F18","v":-0.16214580085605881},2.66962,52.051865,0]
["Apr 2018 - Mar 2019R",{"$f":"SUM(D20:E20)","v":15330},{"$f":"(B20-B19)/B19","v":-0.10825431912047001},1270,14060,{"$f":"SUM(H20:J20)","v":49.530743},{"$f":"(F20-F19)/F19","v":-0.0948574769124047},2.274549,47.256194,0]
["Oct 2018 - Sep 2019P",{"$f":"SUM(D21:E21)","v":15641},{"$f":"(B21-B20)/B20","v":0.020287018917155904},1340,14301,{"$f":"SUM(H21:J21)","v":52.70993569},{"$f":"(F21-F20)/F20","v":0.06418625074935784},2.4891075899999993,50.220828100000006,0]
[]
["Details on gaming machine categorisation are available on our website."]
["Details on gaming machine entitlement are available on our website."]
{"$rows_empty":15}
[{"$nulls":6}," "]

{"sheet":"7","index":9,"n_rows":27,"n_cols":13,"rows_kept":27,"cut":false,"hidden":false,"merged":[[6,1,6,6],[6,7,6,12]]}
["Gambling Commission"]
["Industry Statistics - May 2020"]
[]
[]
[7,"Betting (non-remote)"]
[]
[null,"Turnover (£m)",{"$nulls":5},"Gross Gambling Yield (£m)"]
["Reporting Period","Total","% \nChange","Off course (Over the counter)","Off course (Gaming machines)","On \ncourse","Pool","Total","% \nChange","Off course (Over the counter)","Off course (Gaming machines)","On \ncourse","Pool"]
["Apr 2008 - Mar 2009",{"$f":"SUM(D9:G9)","v":10744.339999999998},null,9914.9299999999985,"-",336.05,493.36,{"$f":"SUM(J9:M9)","v":2903.2400000000002},null,1657.9899999999998,1070.9900000000002,27.76,146.5]
["Apr 2009 - Mar 2010",{"$f":"SUM(D10:G10)","v":10076.3},{"$f":"(B10-B9)/B9","v":-0.06217599219682169},9277.82,"-",337.14,461.34,{"$f":"SUM(J10:M10)","v":2811.3599999999997},{"$f":"(H10-H9)/H9","v":-0.031647400834929444},1463.6799999999998,1182.94,29.18,135.56]
["Apr 2010 - Mar 2011",{"$f":"SUM(D11:G11)","v":9761.7126190873514},{"$f":"(B11-B10)/B10","v":-0.03122052548183836},8943.69,"-",330.544345677208,487.47827341014209,{"$f":"SUM(J11:M11)","v":2957.3219850499845},{"$f":"(H11-H10)/H10","v":0.051918639039463053},1487.546002,1307.2752270499846,26.419248,136.08150799999999]
["Apr 2011 - Mar 2012",{"$f":"SUM(D12:G12)","v":10096.69826287371},{"$f":"(B12-B11)/B11","v":0.034316277978861144},9280.2581329088262,"-",316.96794714665526,499.47218281822887,{"$f":"SUM(J12:M12)","v":3029.5938559060864},{"$f":"(H12-H11)/H11","v":0.024438282750899175},1403.8181220000001,1458.5048869060863,29.282909,137.987938]
["Apr 2012 - Mar 2013",{"$f":"SUM(D13:G13)","v":9920.1308673655658},{"$f":"(B13-B12)/B12","v":-0.017487637137518004},9163.9679794385265,"-",282.92206417249707,473.24082375454208,{"$f":"SUM(J13:M13)","v":3198.5989511224184},{"$f":"(H13-H12)/H12","v":0.055784736586675626},1495.079264,1547.6904701224187,24.184932,131.644285]
["Apr 2013 - Mar 2014",{"$f":"SUM(D14:G14)","v":9757.6598352073343},{"$f":"(B14-B13)/B13","v":-0.016377912179839828},8953.8780332662445,"-",282.27976382968711,521.50203811140227,{"$f":"SUM(J14:M14)","v":3176.7650370733622},{"$f":"(H14-H13)/H13","v":-0.0068260867907164232},1437.9477190000002,1569.1366380733618,26.53053,143.15015]
["Apr 2014 - Mar 2015",{"$f":"SUM(D15:G15)","v":9639.7795841820971},{"$f":"(B15-B14)/B14","v":-0.012080791195436502},8819.1633774590846,"-",276.20289024651169,544.41331647650009,{"$f":"SUM(J15:M15)","v":3266.90799243814},{"$f":"(H15-H14)/H14","v":0.028375707461142007},1412.4218850358841,1685.150103571777,26.060259050318404,143.27574478015998]
["Apr 2015 - Mar 2016",{"$f":"SUM(D16:G16)","v":9698.8525404653319},{"$f":"(B16-B15)/B15","v":0.0061280401452505785},8896.4639241127516,"-",280.09965856818121,522.28895778439994,{"$f":"SUM(J16:M16)","v":3318.187093086111},{"$f":"(H16-H15)/H15","v":0.015696524287389171},1416.4728226863081,1747.95559602476,26.960587533383144,126.79808684166]
["Apr 2016 - Mar 2017",{"$f":"SUM(D17:G17)","v":9235.3952480908883},{"$f":"(B17-B16)/B16","v":-0.047784754994554007},8712.059145251158,"-",265.84079892309973,257.49530391663,{"$f":"SUM(J17:M17)","v":3310.8435889012103},{"$f":"(H17-H16)/H16","v":-0.0022131073320735425},1398.1982984681702,1821.90332604744,26.68864171679002,64.05332266881]
["Apr 2017 - Mar 2018R",{"$f":"SUM(D18:G18)","v":8789.453441},{"$f":"(B18-B17)/B17","v":-0.048286163733281734},8306.585563,"-",257.429035,225.43884300000002,{"$f":"SUM(J18:M18)","v":3268.211166},{"$f":"(H18-H17)/H17","v":-0.012876604332540797},1349.648768,1833.989249,26.716868,57.856280999999996]
["Apr 2018 - Mar 2019R",{"$f":"SUM(D19:G19)","v":8897.26274},{"$f":"(B19-B18)/B18","v":0.012265756878249611},8435.03946,"-",248.26330000000002,213.95998000000003,{"$f":"SUM(J19:M19)","v":3261.404757},{"$f":"(H19-H18)/H18","v":-0.0020826099215402586},1352.0854869999998,1826.1925089999997,28.392288999999998,54.734472]
["Oct 2018 - Sep 2019P",{"$f":"SUM(D20:G20)","v":8394.684279000001},{"$f":"(B20-B19)/B19","v":-0.056486862947243831},7986.572628,"-",251.936299,156.175352,{"$f":"SUM(J20:M20)","v":2811.6690759999997},{"$f":"(H20-H19)/H19","v":-0.13789630987528487},1277.3746859999999,1464.9972500000001,29.607373,39.689766999999996]
[]
["7a - Off Course Betting"]
["7b - On Course Betting"]
["7c - Pool Betting"]
["7d - Gaming Machines in betting premises"]
[]
["Changes to the pool betting licensing arrangements and our returns reporting requirements."]

{"sheet":"7a","index":10,"n_rows":48,"n_cols":15,"rows_kept":48,"cut":false,"hidden":false,"merged":[[7,1,7,7],[7,8,7,14]]}
["Gambling Commission"]
["Industry Statistics - May 2020"]
[]
[]
["7a","Off Course Betting (over the counter) (non-remote)"]
[]
[]
[null,"Turnover (£m)",{"$nulls":6},"Gross Gambling Yield (£m)"]
["Reporting Period","Total","% \nChange","Dogs","Football","Horses","Numbers","Other","Total","% \nChange","Dogs","Football","Horses","Numbers","Other"]
["Apr 2008 - Mar 2009",{"$f":"SUM(D10:H10)","v":9914.9299999999985},null,1580.5,941.73,5743.51,870.79,778.4,{"$f":"SUM(K10:O10)","v":1657.9899999999998},null,303.95,224.94,843.79,166.3,119.01]
["Apr 2009 - Mar 2010",{"$f":"SUM(D11:H11)","v":9277.82},{"$f":"(B11-B10)/B10","v":-0.064257639741278946},1405.15,954.98,5442.78,854.13,620.78,{"$f":"SUM(K11:O11)","v":1463.6799999999998},{"$f":"(I11-I10)/I10","v":-0.11719612301642349},279.89,155.29,768.42,167.14,92.94]
["Apr 2010 - Mar 2011",{"$f":"SUM(D12:H12)","v":8943.69},{"$f":"(B12-B11)/B11","v":-0.036013848080691281},1364.31,1031.13,5153.82,836.6,557.83,{"$f":"SUM(K12:O12)","v":1487.546002},{"$f":"(I12-I11)/I11","v":0.016305477973327646},261.070541,273.948179,704.779534,170.231936,77.515812000000011]
["Apr 2011 - Mar 2012",{"$f":"SUM(D13:H13)","v":9280.2581329088262},{"$f":"(B13-B12)/B12","v":0.037631909526026242},1345.4259479241005,1014.8847423883668,5300.9031658534786,856.06592717898332,762.978349563897,{"$f":"SUM(K13:O13)","v":1403.8181220000001},{"$f":"(I13-I12)/I12","v":-0.056285909738205131},242.626893,233.614317,675.342422,158.815479,93.419011]
["Apr 2012 - Mar 2013",{"$f":"SUM(D14:H14)","v":9163.9679794385265},{"$f":"(B14-B13)/B13","v":-0.012530917977154303},1323.5416640647381,1160.5684616558199,5084.1953230862837,955.64940300076159,640.0131276309221,{"$f":"SUM(K14:O14)","v":1495.079264},{"$f":"(I14-I13)/I13","v":0.065009234864400633},236.835909,292.55780400000003,696.746631,186.32647,82.61245]
["Apr 2013 - Mar 2014",{"$f":"SUM(D15:H15)","v":8953.8780332662445},{"$f":"(B15-B14)/B14","v":-0.022925652582338481},1273.40312664539,1167.8001000068293,4894.0124337909074,996.23748295207611,622.42488987104139,{"$f":"SUM(K15:O15)","v":1437.9477190000002},{"$f":"(I15-I14)/I14","v":-0.038213054234427356},235.41711800000002,242.518485,679.521481,206.346953,74.143682000000013]
["Apr 2014 - Mar 2015",{"$f":"SUM(D16:H16)","v":8819.1633774590846},{"$f":"(B16-B15)/B15","v":-0.015045397682060898},1223.5726783543782,1323.7436828816997,4804.3646468816005,982.60935771055017,484.87301163085584,{"$f":"SUM(K16:O16)","v":1412.4218850358841},{"$f":"(I16-I15)/I15","v":-0.017751573041798568},221.45218968396009,281.92712154270305,641.3494331619,196.94171356172689,70.751427085594]
["Apr 2015 - Mar 2016",{"$f":"SUM(D17:H17)","v":8896.4639241127516},{"$f":"(B17-B16)/B16","v":0.008765065726216114},1220.8926896109601,1299.0550230529254,4804.77065608018,1007.7817856994325,563.96376966925413,{"$f":"SUM(K17:O17)","v":1416.4728226863081},{"$f":"(I17-I16)/I16","v":0.0028680790727913827},209.28261993481735,330.65576295455321,600.44556393413029,190.68305067533009,85.405825187476978]
["Apr 2016 - Mar 2017",{"$f":"SUM(D18:H18)","v":8712.059145251158},{"$f":"(B18-B17)/B17","v":-0.020727873505088628},1152.1880292225198,1385.2271189491203,4537.886605766158,985.45618612420969,651.30120518914987,{"$f":"SUM(K18:O18)","v":1398.1982984681702},{"$f":"(I18-I17)/I17","v":-0.012901429470055556},207.74522762797011,296.4584949408499,583.06343916732021,202.89943659856004,108.03170013347001]
["Apr 2017 - Mar 2018R",{"$f":"SUM(D19:H19)","v":8306.585563},{"$f":"(B19-B18)/B18","v":-0.046541647099833619},1044.130353,1274.277572,4391.496304,975.901974,620.77936,{"$f":"SUM(K19:O19)","v":1349.648768},{"$f":"(I19-I18)/I18","v":-0.034722922007099949},174.288486,316.694006,550.641032,186.09502,121.930224]
["Apr 2018 - Mar 2019R",{"$f":"SUM(D20:H20)","v":8435.03946},{"$f":"(B20-B19)/B19","v":0.015464103273933784},941.661598,1799.964084,4186.655036,954.704968,552.053774,{"$f":"SUM(K20:O20)","v":1352.0854869999998},{"$f":"(I20-I19)/I19","v":0.0018054467634647682},147.539313,409.995044,513.72185,181.576081,99.253199]
["Oct 2018 - Sep 2019P",{"$f":"SUM(D21:H21)","v":7986.572628},{"$f":"(B21-B20)/B20","v":-0.053167129107893951},1008.194274,1295.400358,4216.114879,998.116454,468.746663,{"$f":"SUM(K21:O21)","v":1277.3746859999999},{"$f":"(I21-I20)/I20","v":-0.055255974358372768},155.555125,318.43695,526.200886,184.351997,92.829728]
{"$rows_empty":26}
[{"$nulls":5}," "]

{"sheet":"7b","index":11,"n_rows":21,"n_cols":11,"rows_kept":21,"cut":false,"hidden":false,"merged":[[7,1,7,5],[7,6,7,10]]}
["Gambling Commission"]
["Industry Statistics - May 2020"]
[]
[]
["7b","On Course Betting (non-remote)"]
[]
[]
[null,"Turnover (£m)",{"$nulls":4},"Gross Gambling Yield (£m)"]
["Reporting Period","Total","% \nChange","Dogs","Horses","Other","Total","% \nChange","Dogs","Horses","Other"]
["Apr 2008 - Mar 2009",{"$f":"SUM(D10:F10)","v":336.05},null,49.3,278.98,7.77,{"$f":"SUM(I10:K10)","v":27.76},null,3.85,23.17,0.74]
["Apr 2009 - Mar 2010",{"$f":"SUM(D11:F11)","v":337.14},{"$f":"(B11-B10)/B10","v":0.0032435649456925308},41.64,282.99,12.51,{"$f":"SUM(I11:K11)","v":29.18},{"$f":"(G11-G10)/G10","v":0.051152737752161316},3.34,24.03,1.81]
["Apr 2010 - Mar 2011",{"$f":"SUM(D12:F12)","v":330.544345677208},{"$f":"(B12-B11)/B11","v":-0.019563547258681771},38.3522175056968,273.82128897108072,18.370839200430531,{"$f":"SUM(I12:K12)","v":26.419248},{"$f":"(G12-G11)/G11","v":-0.0946111034955449},3.04467,21.089783,2.2847950000000004]
["Apr 2011 - Mar 2012",{"$f":"SUM(D13:F13)","v":316.96794714665526},{"$f":"(B13-B12)/B12","v":-0.041072850611732256},37.306280613201992,255.22661307599651,24.435053457456753,{"$f":"SUM(I13:K13)","v":29.282909},{"$f":"(G13-G12)/G12","v":0.10839297923998444},3.094265,21.062803,5.125841]
["Apr 2012 - Mar 2013",{"$f":"SUM(D14:F14)","v":282.92206417249713},{"$f":"(B14-B13)/B13","v":-0.10741112241991373},33.347369284028019,238.35183608867871,11.222858799790378,{"$f":"SUM(I14:K14)","v":24.184932},{"$f":"(G14-G13)/G13","v":-0.1740939399156006},2.891941,18.606023,2.6869680000000002]
["Apr 2013 - Mar 2014",{"$f":"SUM(D15:F15)","v":282.27976382968711},{"$f":"(B15-B14)/B14","v":-0.0022702377232000112},28.940038477800943,241.62818696881192,11.71153838307422,{"$f":"SUM(I15:K15)","v":26.53053},{"$f":"(G15-G14)/G14","v":0.096985924955257222},1.964185,21.911925,2.65442]
["Apr 2014 - Mar 2015",{"$f":"SUM(D16:F16)","v":276.20289024651169},{"$f":"(B16-B15)/B15","v":-0.021527839972410829},25.90289756637,240.69011398882029,9.6098786913214,{"$f":"SUM(I16:K16)","v":26.060259050318404},{"$f":"(G16-G15)/G15","v":-0.017725652283674502},1.7932685541220006,21.377717779422003,2.8892727167743995]
["Apr 2015 - Mar 2016",{"$f":"SUM(D17:F17)","v":280.09965856818121},{"$f":"(B17-B16)/B16","v":0.014108354616389611},26.116110758329981,243.06535166285261,10.91819614699863,{"$f":"SUM(I17:K17)","v":26.960587533383144},{"$f":"(G17-G16)/G16","v":0.0345479483272343},1.9241883263579995,21.708873552926516,3.3275256540986304]
["Apr 2016 - Mar 2017",{"$f":"SUM(D18:F18)","v":265.84079892309973},{"$f":"(B18-B17)/B17","v":-0.050906379957655776},23.943927052109995,230.59402811715975,11.302843753829997,{"$f":"SUM(I18:K18)","v":26.68864171679002},{"$f":"(G18-G17)/G17","v":-0.010086791181994664},2.0734465074300004,21.95059370855002,2.66460150081]
["Apr 2017 - Mar 2018R",{"$f":"SUM(D19:F19)","v":257.429035},{"$f":"(B19-B18)/B18","v":-0.031642110455487364},19.888512,225.686945,11.853578,{"$f":"SUM(I19:K19)","v":26.716868},{"$f":"(G19-G18)/G18","v":0.0010576140782850112},1.68391,21.955285,3.077673]
["Apr 2018 - Mar 2019R",{"$f":"SUM(D20:F20)","v":248.26330000000002},{"$f":"(B20-B19)/B19","v":-0.035604899812486122},16.468861,224.454291,7.340148,{"$f":"SUM(I20:K20)","v":28.392288999999998},{"$f":"(G20-G19)/G19","v":0.062710232352085449},1.632696,24.634311,2.125282]
["Oct 2018 - Sep 2019P",{"$f":"SUM(D21:F21)","v":251.936299},{"$f":"(B21-B20)/B20","v":0.014794772324382926},17.270984,227.463333,7.201982,{"$f":"SUM(I21:K21)","v":29.607373},{"$f":"(G21-G20)/G20","v":0.042796267676762555},1.783105,25.724504,2.099764]

{"sheet":"7c","index":12,"n_rows":23,"n_cols":13,"rows_kept":23,"cut":false,"hidden":false,"merged":[[7,1,7,6],[7,7,7,12]]}
["Gambling Commission"]
["Industry Statistics - May 2020"]
[]
[]
["7c","Pool Betting (non-remote)"]
[]
[]
[null,"Turnover (£m)",{"$nulls":5},"Gross Gambling Yield (£m)"]
["Reporting Period","Total","% \nChange","Dogs","Football","Horses","Other","Total","% \nChange","Dogs","Football","Horses","Other"]
["Apr 2008 - Mar 2009",{"$f":"SUM(D10:G10)","v":493.36000000000007},null,54.69,59.21,377.8,1.66,{"$f":"SUM(J10:M10)","v":146.5},null,14.66,46.59,85.01,0.24]
["Apr 2009 - Mar 2010",{"$f":"SUM(D11:G11)","v":461.34},{"$f":"(B11-B10)/B10","v":-0.064901897194746413},48.08,56.09,355.46,1.71,{"$f":"SUM(J11:M11)","v":135.56},{"$f":"(H11-H10)/H10","v":-0.07467576791808872},13.63,43.54,78.36,0.03]
["Apr 2010 - Mar 2011",{"$f":"SUM(D12:G12)","v":487.47827341014204},{"$f":"(B12-B11)/B11","v":0.05665728835596754},50.21382954941695,43.96050414065968,392.030348608569,1.2735911114964351,{"$f":"SUM(J12:M12)","v":136.08150799999999},{"$f":"(H12-H11)/H11","v":0.003847064030687393},12.396639,39.294864,84.452776,-0.062771]
["Apr 2011 - Mar 2012",{"$f":"SUM(D13:G13)","v":499.47218281822893},{"$f":"(B13-B12)/B12","v":0.024603987628379415},43.649050632767533,47.020841175069968,408.13248883421659,0.669802176174788,{"$f":"SUM(J13:M13)","v":137.987938},{"$f":"(H13-H12)/H12","v":0.014009471441189709},12.56677,37.416882,88.232123,-0.227837]
["Apr 2012 - Mar 2013",{"$f":"SUM(D14:G14)","v":473.24082375454208},{"$f":"(B14-B13)/B13","v":-0.052518158099773768},42.425918916937228,42.0967068774774,388.71268510473078,0.005512855396655,{"$f":"SUM(J14:M14)","v":131.644285},{"$f":"(H14-H13)/H13","v":-0.0459725182646038},11.931701,35.165299,84.546242,0.001043]
["Apr 2013 - Mar 2014",{"$f":"SUM(D15:G15)","v":521.50203811140227},{"$f":"(B15-B14)/B14","v":0.10198024332298951},41.494656356752515,42.278436320219413,437.38256428982703,0.346381144603339,{"$f":"SUM(J15:M15)","v":143.15015},{"$f":"(H15-H14)/H14","v":0.087401173548855543},11.85263,30.948707,99.996919,0.351894]
["Apr 2014 - Mar 2015",{"$f":"SUM(D16:G16)","v":544.41331647650009},{"$f":"(B16-B15)/B15","v":0.043933247985127821},58.39393195,26.561128436,459.15025689050003,0.30799920000000003,{"$f":"SUM(J16:M16)","v":143.27574478015998},{"$f":"(H16-H15)/H15","v":0.00087736394380296442},15.649243864999999,19.7581496272,107.31823299995999,0.550118288]
["Apr 2015 - Mar 2016",{"$f":"SUM(D17:G17)","v":522.28895778439994},{"$f":"(B17-B16)/B16","v":-0.040638900670709723},60.390710884,11.10171081,450.4298758904,0.36666019999999994,{"$f":"SUM(J17:M17)","v":126.79808684166},{"$f":"(H17-H16)/H16","v":-0.11500661164793136},16.169613633999997,8.02169472,102.32508342466,0.28169506299999997]
["Apr 2016 - Mar 2017",{"$f":"SUM(D18:G18)","v":257.49530391663},{"$f":"(B18-B17)/B17","v":-0.50698688900307243},55.131826557380016,3.9522447314199991,197.38145964276998,1.0297729850600001,{"$f":"SUM(J18:M18)","v":64.05332266881},{"$f":"(H18-H17)/H17","v":-0.49483999116802896},14.85467585143,2.77207446198,46.25642471335,0.17014764205]
["Apr 2017 - Mar 2018R",{"$f":"SUM(D19:G19)","v":225.43884300000002},{"$f":"(B19-B18)/B18","v":-0.12449338076864112},38.909593,4.804674,181.724576,0,{"$f":"SUM(J19:M19)","v":57.856280999999996},{"$f":"(H19-H18)/H18","v":-0.096748168722675443},10.795347,3.550858,43.510076,0]
["Apr 2018 - Mar 2019R",{"$f":"SUM(D20:G20)","v":213.95998000000003},{"$f":"(B20-B19)/B19","v":-0.050917858019702437},20.916068,5.422094,187.471041,0.150777,{"$f":"SUM(J20:M20)","v":54.734472},{"$f":"(H20-H19)/H19","v":-0.053957996366894016},6.360398,4.195191,44.114103,0.06478]
["Oct 2018 - Sep 2019P",{"$f":"SUM(D21:G21)","v":156.175352},{"$f":"(B21-B20)/B20","v":-0.27007213218098086},20.664069,5.324311,130.052415,0.134557,{"$f":"SUM(J21:M21)","v":39.689766999999996},{"$f":"(H21-H20)/H20","v":-0.27486708924496434},6.337444,4.111676,29.190189,0.050458]
[]
["Changes to the pool betting licensing arrangements and our returns reporting requirements."]

{"sheet":"7d","index":13,"n_rows":24,"n_cols":12,"rows_kept":24,"cut":false,"hidden":false,"merged":[[7,1,7,5],[7,6,7,11]]}
["Gambling Commission"]
["Industry Statistics - May 2020"]
[]
[]
["7d","Gaming Machines in betting premises"]
[]
[]
[null,"Average number of machines",{"$nulls":4},"Gross Gambling Yield (£m)"]
["Reporting Period","Total","% \nChange","B2","B3","C","Total","% Change","B2","B3","C","Aggregated categories"]
["Apr 2008 - Mar 2009",{"$f":"SUM(D10:F10)","v":31979},null,31439,220,320,{"$f":"SUM(I10:L10)","v":1070.9900000000002},null,1050.71,2.46,1.64,16.18]
["Apr 2009 - Mar 2010",{"$f":"SUM(D11:F11)","v":34542},{"$f":"(B11-B10)/B10","v":0.080146346039588479},33663,506,373,{"$f":"SUM(I11:L11)","v":1182.94},{"$f":"(G11-G10)/G10","v":0.10452945405652694},1166.5,7.69,1.08,7.6700000000000008]
["Apr 2010 - Mar 2011",{"$f":"SUM(D12:F12)","v":33248.566722942007},{"$f":"(B12-B11)/B11","v":-0.037445234122459412},32831.973471981,226.71771213500003,189.875538826,{"$f":"SUM(I12:L12)","v":1307.2752270499846},{"$f":"(G12-G11)/G11","v":0.10510695982043425},1302.3522804413831,2.0714662847346812,0.61231548383555667,2.2391648400312483]
["Apr 2011 - Mar 2012",{"$f":"SUM(D13:F13)","v":33545.706803198},{"$f":"(B13-B12)/B12","v":0.0089369290030467275},33294.022379356,146.945437172,104.73898667,{"$f":"SUM(I13:L13)","v":1458.5048869060863},{"$f":"(G13-G12)/G12","v":0.11568310691342994},1455.9535813392501,1.76451855066332,0.24814946042771602,0.538637555745175]
["Apr 2012 - Mar 2013",{"$f":"SUM(D14:F14)","v":33515.893426279952},{"$f":"(B14-B13)/B13","v":-0.00088873897017448689},33356.090034012952,78.526712459000024,81.276679808000026,{"$f":"SUM(I14:L14)","v":1547.6904701224187},{"$f":"(G14-G13)/G13","v":0.061148635165371959},1542.1161309846625,1.6433663650328647,0.193370877903755,3.73760189481963]
["Apr 2013 - Mar 2014",{"$f":"SUM(D15:F15)","v":34483.29939319798},{"$f":"(B15-B14)/B14","v":0.028864096045832417},34373.636017882978,58.064994251,51.598381064000037,{"$f":"SUM(I15:L15)","v":1569.1366380733618},{"$f":"(G15-G14)/G14","v":0.013856884412583365},1567.7094604777706,1.0166222267262679,0.14700719763211495,0.26354817123286495]
["Apr 2014 - Mar 2015",{"$f":"SUM(D16:F16)","v":34871.980979999971},{"$f":"(B16-B15)/B15","v":0.011271589251655565},34779.909780999973,49.901354,42.169845,{"$f":"SUM(I16:L16)","v":1685.150103571777},{"$f":"(G16-G15)/G15","v":0.073934584588414384},1681.74783903226,0.919842866424376,0.31424493985649105,2.16817673323602]
["Apr 2015 - Mar 2016",{"$f":"SUM(D17:F17)","v":34593.612108999987},{"$f":"(B17-B16)/B16","v":-0.0079825941393933519},34515.594511999989,48.979014,29.038583,{"$f":"SUM(I17:L17)","v":1747.95559602476},{"$f":"(G17-G16)/G16","v":0.037269969197321416},1746.1940504331767,0.72006268247330607,0.067320055640391008,0.974162853469571]
["Apr 2016 - Mar 2017",{"$f":"SUM(D18:F18)","v":33895.2794520548},{"$f":"(B18-B17)/B17","v":-0.020186751668048817},33830.2794520548,38,27,{"$f":"SUM(I18:L18)","v":1821.90332604744},{"$f":"(G18-G17)/G17","v":0.042305268046198385},1821.33045606126,0.44920495049999992,0.03704388916,0.08662114652]
["Apr 2017 - Mar 2018R",{"$f":"SUM(D19:F19)","v":33745.6},{"$f":"(B19-B18)/B18","v":-0.004415937985303299},33685,31,29.599999999999994,{"$f":"SUM(I19:L19)","v":1833.989249},{"$f":"(G19-G18)/G18","v":0.006633679613934268},1675.220518,158.192511,0.57622,0]
["Apr 2018 - Mar 2019R",{"$f":"SUM(D20:F20)","v":32777},{"$f":"(B20-B19)/B19","v":-0.028703001280166854},32660,114,3,{"$f":"SUM(I20:L20)","v":1826.1925089999997},{"$f":"(G20-G19)/G19","v":-0.0042512462950649648},1153.035164,671.32562699999994,1.831718,0]
["Oct 2018 - Sep 2019P",{"$f":"SUM(D21:F21)","v":32113},{"$f":"(B21-B20)/B20","v":-0.020258107819507581},23370,8740,3,{"$f":"SUM(I21:L21)","v":1464.9972500000001},{"$f":"(G21-G20)/G20","v":-0.1977859712050761},618.012233,845.190296,1.794721,0]
[]
["Details on gaming machine categorisation are available on our website."]
["Details on gaming machine entitlement are available on our website."]

{"sheet":"8","index":14,"n_rows":23,"n_cols":9,"rows_kept":23,"cut":false,"hidden":false,"merged":[[6,1,6,4],[6,5,6,8]]}
["Gambling Commission"]
["Industry Statistics - May 2020"]
[]
[]
[8,"Bingo (non-remote)"]
[]
[null,"Turnover (£m)",null,null,null,"Gross Gambling Yield (£m)"]
["Reporting Period","Total","% \nChange","Bingo Games","Gaming Machines","Total","% \nChange","Bingo Games","Gaming Machines"]
["Apr 2008 - Mar 2009",1434.5,null,1434.5,0,{"$f":"H9+I9","v":703.11},null,489.58,213.53]
["Apr 2009 - Mar 2010",1337.28,{"$f":"SUM(B10-B9)/B9","v":-0.067772743116068332},1337.28,0,{"$f":"H10+I10","v":627.22},{"$f":"SUM(F10-F9)/F9","v":-0.10793474705238154},417.90000000000003,209.32]
["Apr 2010 - Mar 2011",1273.4308606100162,{"$f":"SUM(B11-B10)/B10","v":-0.04774552778025825},1273.4308606100162,0,{"$f":"H11+I11","v":625.57767587566047},{"$f":"SUM(F11-F10)/F10","v":-0.0026184179782844175},401.39767587566047,224.18]
["Apr 2011 - Mar 2012",1249.2507231997026,{"$f":"SUM(B12-B11)/B11","v":-0.018988182364867844},1249.2507231997026,0,{"$f":"H12+I12","v":680.639597695847},{"$f":"SUM(F12-F11)/F11","v":0.088017721769103843},415.37974954720528,265.25984814864165]
["Apr 2012 - Mar 2013",1216.4882487622574,{"$f":"SUM(B13-B12)/B12","v":-0.026225699796699573},1216.4882487622574,0,{"$f":"H13+I13","v":700.90404263808819},{"$f":"SUM(F13-F12)/F12","v":0.02977265062279941},408.67375977802345,292.23028286006479]
["Apr 2013 - Mar 2014",1148.9055512475495,{"$f":"SUM(B14-B13)/B13","v":-0.055555569553155472},1148.9055512475495,0,{"$f":"H14+I14","v":673.44062864305272},{"$f":"SUM(F14-F13)/F13","v":-0.039182844332966989},378.58121068593022,294.8594179571225]
["Apr 2014 - Mar 2015",1116.7634573968053,{"$f":"SUM(B15-B14)/B14","v":-0.027976271692518543},1116.7634573968053,0,{"$f":"H15+I15","v":679.023857751804},{"$f":"SUM(F15-F14)/F14","v":0.0082906033156942473},375.3790273996903,303.64483035211373]
["Apr 2015 - Mar 2016",1108.2621630306858,{"$f":"SUM(B16-B15)/B15","v":-0.0076124395992828884},1108.2621630306858,0,{"$f":"H16+I16","v":693.105095108112},{"$f":"SUM(F16-F15)/F15","v":0.02073747070232532},377.04999567461783,316.05509943349409]
["Apr 2016 - Mar 2017",1089.0198104363797,{"$f":"SUM(B17-B16)/B16","v":-0.017362636058678948},1089.0198104363797,0,{"$f":"H17+I17","v":684.27876741963019},{"$f":"SUM(F17-F16)/F16","v":-0.012734472377677513},364.82222307089012,319.45654434874]
["Apr 2017 - Mar 2018R",1024.362787,{"$f":"SUM(B18-B17)/B17","v":-0.059371760565559414},1024.362787,0,{"$f":"H18+I18","v":680.11707899999988},{"$f":"SUM(F18-F17)/F17","v":-0.0060818611036606617},356.16851699999995,323.948562]
["Apr 2018 - Mar 2019R",1024.941006,{"$f":"SUM(B19-B18)/B18","v":0.00056446701045573028},1024.941006,0,{"$f":"H19+I19","v":673.305529},{"$f":"SUM(F19-F18)/F18","v":-0.010015260916569188},349.367804,323.937725]
["Oct 2018 - Sep 2019P",1017.9771470000001,{"$f":"SUM(B20-B19)/B19","v":-0.0067943998329987364},1017.9771470000001,0,{"$f":"H20+I20","v":668.95066300000008},{"$f":"SUM(F20-F19)/F19","v":-0.00646788985450304},344.040683,324.90998]
[]
["8a - Bingo Games "]
["8b - Gaming Machines in bingo premises"]

{"sheet":"8a","index":15,"n_rows":20,"n_cols":11,"rows_kept":20,"cut":false,"hidden":false,"merged":[[6,1,6,5],[6,6,6,10]]}
["Gambling Commission"]
["Industry Statistics - May 2020"]
[]
[]
["8a","Bingo Games (non-remote)"]
[]
[null,"Turnover (£m)",{"$nulls":4},"Gross Gambling Yield (£m)"]
["Reporting Period","Total","% \nChange","Main Stage Bingo","Mechanised Bingo","Prize Bingo","Total","% \nChange","Main Stage Bingo","Mechanised Bingo","Prize Bingo"]
["Apr 2008 - Mar 2009",{"$f":"SUM(D9:F9)","v":1434.5},null,769.65,557.93,106.92,{"$f":"SUM(I9:K9)","v":489.58},null,175.97,251.8,61.81]
["Apr 2009 - Mar 2010",{"$f":"SUM(D10:F10)","v":1337.28},{"$f":"(B10-B9)/B9","v":-0.067772743116068332},712.76,571.75,52.77,{"$f":"SUM(I10:K10)","v":417.90000000000003},{"$f":"(G10-G9)/G9","v":-0.14641120960823553},149.38,239.98,28.54]
["Apr 2010 - Mar 2011",{"$f":"SUM(D11:F11)","v":1273.4308606100162},{"$f":"(B11-B10)/B10","v":-0.04774552778025825},679.250860610016,562.47,31.71,{"$f":"SUM(I11:K11)","v":401.39767587566047},{"$f":"(G11-G10)/G10","v":-0.039488691371953974},137.31767587566046,247.39,16.69]
["Apr 2011 - Mar 2012",{"$f":"SUM(D12:F12)","v":1249.2507231997026},{"$f":"(B12-B11)/B11","v":-0.018988182364867844},659.532725798783,564.32173886421833,25.396258536701346,{"$f":"SUM(I12:K12)","v":415.37974954720528},{"$f":"(G12-G11)/G11","v":0.034833469429145343},134.02652741622816,269.07734780363364,12.275874327343455]
["Apr 2012 - Mar 2013",{"$f":"SUM(D13:F13)","v":1216.4882487622574},{"$f":"(B13-B12)/B12","v":-0.026225699796699573},641.83008887922892,549.29198160620331,25.366178276825153,{"$f":"SUM(I13:K13)","v":408.67375977802345},{"$f":"(G13-G12)/G12","v":-0.016144238558793135},129.03661223356471,267.93784874737429,11.699298797084467]
["Apr 2013 - Mar 2014",{"$f":"SUM(D14:F14)","v":1148.9055512475495},{"$f":"(B14-B13)/B13","v":-0.055555569553155472},614.32052074191893,519.93062149327977,14.654409012350856,{"$f":"SUM(I14:K14)","v":378.58121068593022},{"$f":"(G14-G13)/G13","v":-0.0736346495758338},119.27093779473348,252.10664438783897,7.2036285033577983]
["Apr 2014 - Mar 2015",{"$f":"SUM(D15:F15)","v":1116.7634573968053},{"$f":"(B15-B14)/B14","v":-0.027976271692518543},598.82875714390286,507.76908290999961,10.165617342902697,{"$f":"SUM(I15:K15)","v":375.3790273996903},{"$f":"(G15-G14)/G14","v":-0.0084583787991962343},121.28876025304382,248.92628274155138,5.1639844050950856]
["Apr 2015 - Mar 2016",{"$f":"SUM(D16:F16)","v":1108.2621630306858},{"$f":"(B16-B15)/B15","v":-0.0076124395992828884},608.50387586658837,487.25013030225017,12.508156861847255,{"$f":"SUM(I16:K16)","v":377.04999567461783},{"$f":"(G16-G15)/G15","v":0.0044514161766111239},126.62640921065545,245.71068044681238,4.7129060171500345]
["Apr 2016 - Mar 2017",{"$f":"SUM(D17:F17)","v":1089.0198104363797},{"$f":"(B17-B16)/B16","v":-0.017362636058678948},611.99491552932966,459.31222246637992,17.712672440669994,{"$f":"SUM(I17:K17)","v":364.82222307089012},{"$f":"(G17-G16)/G16","v":-0.032430109386023954},128.39838014730998,231.74268284852013,4.6811600750599993]
["Apr 2017 - Mar 2018R",{"$f":"SUM(D18:F18)","v":1024.362787},{"$f":"(B18-B17)/B17","v":-0.059371760565559414},595.08944,420.461265,8.812082,{"$f":"SUM(I18:K18)","v":356.16851699999995},{"$f":"(G18-G17)/G17","v":-0.023720336985087197},135.386997,215.682312,5.099208]
["Apr 2018 - Mar 2019R",{"$f":"SUM(D19:F19)","v":1024.941006},{"$f":"(B19-B18)/B18","v":0.00056446701045573028},621.412046,393.391089,10.137871,{"$f":"SUM(I19:K19)","v":349.367804},{"$f":"(G19-G18)/G18","v":-0.019094087981953705},142.242247,200.717605,6.407952]
["Oct 2018 - Sep 2019P",{"$f":"SUM(D20:F20)","v":1017.9771470000001},{"$f":"(B20-B19)/B19","v":-0.0067943998329987364},620.495839,383.943609,13.537699,{"$f":"SUM(I20:K20)","v":344.040683},{"$f":"(G20-G19)/G19","v":-0.015247887581535639},139.730762,195.96892,8.341001]

{"sheet":"8b","index":16,"n_rows":23,"n_cols":14,"rows_kept":23,"cut":false,"hidden":false,"merged":[[6,1,6,6],[6,7,6,13]]}
["Gambling Commission"]
["Industry Statistics - May 2020"]
[]
[]
["8b","Gaming Machines in bingo premises"]
[]
[null,"Average number of machines",{"$nulls":5},"Gross Gambling Yield (£m)"]
["Reporting Period","Total","% \nChange","B3","B4","C","D","Total","% \nChange","B3","B4","C","D","Aggregated categories"]
["Apr 2008 - Mar 2009",{"$f":"SUM(D9:G9)","v":19212},null,2458,394,14395,1965,{"$f":"SUM(J9:N9)","v":213.53},null,39.69,2.1,58.1,0.98,112.66]
["Apr 2009 - Mar 2010",{"$f":"SUM(D10:G10)","v":18069},{"$f":"(B10-B9)/B9","v":-0.059494066208619613},3158,328,12911,1672,{"$f":"SUM(J10:N10)","v":209.32},{"$f":"(H10-H9)/H9","v":-0.019716199128928056},48.77,2.26,59.29,2.06,96.94]
["Apr 2010 - Mar 2011",{"$f":"SUM(D11:G11)","v":23890},{"$f":"(B11-B10)/B10","v":0.32215396535502794},3788,240,14840,5022,{"$f":"SUM(J11:N11)","v":224.18},{"$f":"(H11-H10)/H10","v":0.070991782916109372},58.08,1.73,71.61,5.02,87.74]
["Apr 2011 - Mar 2012",{"$f":"SUM(D12:G12)","v":39054.368041529},{"$f":"(B12-B11)/B11","v":0.63475797578606108},4642.909304937,194.933388048,16412.64091103,17803.884437514,{"$f":"SUM(J12:N12)","v":265.25984814864165},{"$f":"(H12-H11)/H11","v":0.18324492884575627},76.324785687851261,1.3524046150358071,81.004699772137,8.1043245392364,98.473633534381207]
["Apr 2012 - Mar 2013",{"$f":"SUM(D13:G13)","v":47259.783071955},{"$f":"(B13-B12)/B12","v":0.21010236349748779},6449.0123259660022,188.61487852199988,21212.532459092992,19409.623408374,{"$f":"SUM(J13:N13)","v":292.23028286006479},{"$f":"(H13-H12)/H12","v":0.10167552646833274},136.4373784431219,1.1360536544156541,128.92601713402777,20.501921058292591,5.2289125702068766]
["Apr 2013 - Mar 2014",{"$f":"SUM(D14:G14)","v":50636.176699521},{"$f":"(B14-B13)/B13","v":0.071443273923312373},7557.2767504529993,149.81265754199998,31690.673172205996,11238.414119320005,{"$f":"SUM(J14:N14)","v":294.8594179571225},{"$f":"(H14-H13)/H13","v":0.0089967920891918},157.30068685102708,0.757002141020487,111.89162075413903,19.830911024143852,5.0791971867920331]
["Apr 2014 - Mar 2015",{"$f":"SUM(D15:G15)","v":56964.260543583994},{"$f":"(B15-B14)/B14","v":0.12497159652503656},8770.8770016590061,176.74646549399995,42997.987169117994,5018.649907313,{"$f":"SUM(J15:N15)","v":303.64483035211373},{"$f":"(H15-H14)/H14","v":0.029795257875292872},169.89767620387894,0.67274726148084218,110.6602251451347,18.263584661092928,4.150597080526329]
["Apr 2015 - Mar 2016",{"$f":"SUM(D16:G16)","v":63756.625169705992},{"$f":"(B16-B15)/B15","v":0.11923905552895019},11645.726173592,176.12930057199998,44922.079218069994,7012.6904774720024,{"$f":"SUM(J16:N16)","v":316.05509943349409},{"$f":"(H16-H15)/H15","v":0.040871004018046747},183.71340050863358,0.79552997813924886,112.26537801717545,18.185158437421158,1.0956324921246752]
["Apr 2016 - Mar 2017",{"$f":"SUM(D17:G17)","v":67867.47816311779},{"$f":"(B17-B16)/B16","v":0.064477267773656768},12537.258392870761,147.04773856790578,47787.587306311892,7395.5847253672291,{"$f":"SUM(J17:N17)","v":319.45654434874},{"$f":"(H17-H16)/H16","v":0.010762189635107175},200.74041059494,0.99608620596999975,100.92902276962006,16.65007002372,0.14095475449]
["Apr 2017 - Mar 2018R",{"$f":"SUM(D18:G18)","v":69708},{"$f":"(B18-B17)/B17","v":0.027119349159527652},13183,149,47509,8867,{"$f":"SUM(J18:N18)","v":323.948562},{"$f":"(H18-H17)/H17","v":0.014061435681080259},199.851625,3.429738,105.906501,14.760698,0]
["Apr 2018 - Mar 2019R",{"$f":"SUM(D19:G19)","v":71409},{"$f":"(B19-B18)/B18","v":0.024401790325357206},10824,109,50377,10099,{"$f":"SUM(J19:N19)","v":323.937725},{"$f":"(H19-H18)/H18","v":-3.3452841812524823E-05},197.903256,4.368059,109.331448,12.334962,0]
["Oct 2018 - Sep 2019P",{"$f":"SUM(D20:G20)","v":74199},{"$f":"(B20-B19)/B19","v":0.039070705373272278},11305,109,53392,9393,{"$f":"SUM(J20:N20)","v":324.90998},{"$f":"(H20-H19)/H19","v":0.0030013639195620649},209.986243,2.055755,101.009035,11.858947,0]
[]
["Details on gaming machine categorisation are available on our website."]
["Details on gaming machine entitlement are available on our website."]

{"sheet":"9","index":17,"n_rows":23,"n_cols":9,"rows_kept":23,"cut":false,"hidden":false,"merged":[[6,1,6,4],[6,5,6,8]]}
["Gambling Commission"]
["Industry Statistics - May 2020"]
[]
[]
[9,"Casino (non-remote)"]
[]
[null,"Turnover (£m)",null,null,null,"Gross Gambling Yield (£m)"]
["Reporting Period","Total","% Change","Casino Games","Gaming Machines","Total","%\nChange","Casino Games","Gaming Machines"]
["Apr 2008 - Mar 2009",4426.08,null,4426.08,0,{"$f":"H9+I9","v":796.17},null,692.28,103.89]
["Apr 2009 - Mar 2010",4272.47,{"$f":"(B10-B9)/B9","v":-0.034705653761341791},4272.47,0,{"$f":"H10+I10","v":751.13},{"$f":"(F10-F9)/F9","v":-0.056570832862328356},635.38,115.75]
["Apr 2010 - Mar 2011",4942.02,{"$f":"(B11-B10)/B10","v":0.15671262759012938},4942.02,0,{"$f":"H11+I11","v":797.42573990047822},{"$f":"(F11-F10)/F10","v":0.061634790116861564},678.42573990047822,119]
["Apr 2011 - Mar 2012",5400.8611868731432,{"$f":"(B12-B11)/B11","v":0.09284486644593562},5400.8611868731432,0,{"$f":"H12+I12","v":872.80264784255826},{"$f":"(F12-F11)/F11","v":0.0945253008154557},743.859075,128.94357284255832]
["Apr 2012 - Mar 2013",6063.099612599689,{"$f":"(B13-B12)/B12","v":0.12261719063176889},6063.099612599689,0,{"$f":"H13+I13","v":961.41096822512725},{"$f":"(F13-F12)/F12","v":0.10152159895664378},825.2322200000001,136.17874822512715]
["Apr 2013 - Mar 2014",6764.5625547902719,{"$f":"(B14-B13)/B13","v":0.11569378486424291},6764.5625547902719,0,{"$f":"H14+I14","v":1111.0638228676132},{"$f":"(F14-F13)/F13","v":0.15565960820975652},955.17207000000008,155.89175286761318]
["Apr 2014 - Mar 2015",7311.1242908692,{"$f":"(B15-B14)/B14","v":0.080797794632246386},7311.1242908692,0,{"$f":"H15+I15","v":1159.7886646798579},{"$f":"(F15-F14)/F14","v":0.043854224041322595},991.27189244161866,168.51677223823933]
["Apr 2015 - Mar 2016",7074.6822080480242,{"$f":"(B16-B15)/B15","v":-0.032340044214056986},7074.6822080480242,0,{"$f":"H16+I16","v":999.38104860346186},{"$f":"(F16-F15)/F15","v":-0.13830762531264618},803.77809817901721,195.60295042444469]
["Apr 2016 - Mar 2017",7521.40097116161,{"$f":"(B17-B16)/B16","v":0.063143297462238929},7521.40097116161,0,{"$f":"H17+I17","v":1163.53731456345},{"$f":"(F17-F16)/F16","v":0.16425793363740557},956.86939014073016,206.66792442271986]
["Apr 2017 - Mar 2018R",7138.715004,{"$f":"(B18-B17)/B17","v":-0.05087961253879382},7138.715004,0,{"$f":"H18+I18","v":1180.7172460000002},{"$f":"(F18-F17)/F17","v":0.01476526040163641},969.48687300000006,211.23037300000001]
["Apr 2018 - Mar 2019R",6334.174444,{"$f":"(B19-B18)/B18","v":-0.11270103366631044},6334.174444,0,{"$f":"H19+I19","v":1058.818831},{"$f":"(F19-F18)/F18","v":-0.1032409879782514},839.512738,219.306093]
["Oct 2018 - Sep 2019P",6041.207338,{"$f":"(B20-B19)/B19","v":-0.046251821542033937},6041.207338,0,{"$f":"H20+I20","v":1052.739379},{"$f":"(F20-F19)/F19","v":-0.0057417301449561638},829.99091700000008,222.74846200000002]
[]
["9a - Casino Games"]
["9b - Gaming Machines in casino premises"]

{"sheet":"9a","index":18,"n_rows":51,"n_cols":11,"rows_kept":51,"cut":false,"hidden":false,"merged":[[7,1,7,10],[22,1,22,10],[37,1,37,10]]}
["Gambling Commission"]
["Industry Statistics - May 2020"]
[]
[]
["9a","Casino Games (non-remote)"]
[]
[]
[null,"Turnover (£m)"]
["Reporting Period","Total","% \nChange","3 Card Poker","American Roulette","Blackjack","Casino Stud Poker","Dice","Electronic Gaming","Other","Punto Banco"]
["Apr 2008 - Mar 2009",{"$f":"SUM(D10:K10)","v":4426.08},null,204.31,2260.77,765.35,11.84,16.8,720.27,45.32,401.42]
["Apr 2009 - Mar 2010",{"$f":"SUM(D11:K11)","v":4272.47},{"$f":"(B11-B10)/B10","v":-0.034705653761341791},188.77,2132.48,736.11,10.15,13.64,701.94,62.28,427.1]
["Apr 2010 - Mar 2011",{"$f":"SUM(D12:K12)","v":4942.02},{"$f":"(B12-B11)/B11","v":0.15671262759012938},180.86,2502.05,734.21,7.21,17.61,796.11,82.14,621.83]
["Apr 2011 - Mar 2012",{"$f":"SUM(D13:K13)","v":5400.8611868731432},{"$f":"(B13-B12)/B12","v":0.09284486644593562},209.03444791782107,2470.4054029802628,785.63649128367774,5.1095575855572877,31.119202374803745,880.52248514434746,52.585851883307079,966.44774770336483]
["Apr 2012 - Mar 2013",{"$f":"SUM(D14:K14)","v":6063.099612599689},{"$f":"(B14-B13)/B13","v":0.12261719063176889},229.44780622585498,2653.6904601213332,846.06584575692739,9.1179577551020277,19.614956086734672,984.3647336997625,31.301785981923061,1289.496066972051]
["Apr 2013 - Mar 2014",{"$f":"SUM(D15:K15)","v":6764.5625547902719},{"$f":"(B15-B14)/B14","v":0.11569378486424291},254.2311380903117,2862.2309210843791,899.56998244044951,6.7604879999999925,14.894416356340265,969.50359268403508,37.27635986516848,1720.0956562695881]
["Apr 2014 - Mar 2015",{"$f":"SUM(D16:K16)","v":7311.1242908692},{"$f":"(B16-B15)/B15","v":0.080797794632246386},266.665201073766,2754.1611042775226,898.4216123319577,22.223713,11.408691561797751,1072.9133053586863,38.916369460674161,2246.4142938047958]
["Apr 2015 - Mar 2016",{"$f":"SUM(D17:K17)","v":7074.6822080480242},{"$f":"(B17-B16)/B16","v":-0.032340044214056986},264.94614970060712,2743.7001417316842,932.82543461333728,10.116785,14.564776224719102,1192.0453214729268,40.886898900624217,1875.5967004041256]
["Apr 2016 - Mar 2017",{"$f":"SUM(D18:K18)","v":7521.40097116161},{"$f":"(B18-B17)/B17","v":0.063143297462238929},267.44356804949007,2737.9879665184103,857.08326481148,15.483675997970002,17.54087925787,1188.0585040635901,54.285468742270027,2383.5176437205291]
["Apr 2017 - Mar 2018R",{"$f":"SUM(D19:K19)","v":7138.715004},{"$f":"(B19-B18)/B18","v":-0.05087961253879382},282.599714,2746.871024,757.442444,0,16.885093,1209.685067,38.154028,2087.077634]
["Apr 2018 - Mar 2019R",{"$f":"SUM(D20:K20)","v":6334.174444},{"$f":"(B20-B19)/B19","v":-0.11270103366631044},277.026052,2595.486591,789.187281,0,15.979757,1161.108728,32.072142,1463.313893]
["Oct 2018 - Sep 2019P",{"$f":"SUM(D21:K21)","v":6041.207338},{"$f":"(B21-B20)/B20","v":-0.046251821542033937},262.345894,2523.270136,766.051705,0,15.318248,1255.385073,32.371309,1186.464973]
[]
[null,"Gross Gambling Yield (£m)"]
["Reporting Period","Total","% \nChange","3 Card Poker","American Roulette","Blackjack","Casino Stud Poker","Dice","Electronic Gaming","Other","Punto Banco"]
["Apr 2008 - Mar 2009",{"$f":"SUM(D25:K25)","v":692.28},null,37.8,321.72,148.85,2.75,3.54,101.36,9.14,67.12]
["Apr 2009 - Mar 2010",{"$f":"SUM(D26:K26)","v":635.38},{"$f":"(B26-B25)/B25","v":-0.0821921765759519},35.92,286.85,144.85,2.17,2.58,98.66,9.46,54.89]
["Apr 2010 - Mar 2011",{"$f":"SUM(D27:K27)","v":678.42573990047822},{"$f":"(B27-B26)/B26","v":0.0677480246474208},37.086539006872115,314.09540568033651,143.00132191312827,2.0305693736263728,2.9972576135531139,107.26143191450143,12.883330880036626,59.069883518423858]
["Apr 2011 - Mar 2012",{"$f":"SUM(D28:K28)","v":743.859075},{"$f":"(B28-B27)/B27","v":0.096448780243981444},44.164955,307.756749,155.459021,1.326713,7.33788,121.290592,8.111595,98.41157]
["Apr 2012 - Mar 2013",{"$f":"SUM(D29:K29)","v":825.2322200000001},{"$f":"(B29-B28)/B28","v":0.1093932274739004},49.429747,343.378888,184.495324,2.148488,2.947286,131.616112,5.585459,105.630916]
["Apr 2013 - Mar 2014",{"$f":"SUM(D30:K30)","v":955.17207000000008},{"$f":"(B30-B29)/B29","v":0.15745852724945708},49.852148,349.6553,189.183138,1.862209,0.442703,135.836905,8.678319,219.661348]
["Apr 2014 - Mar 2015",{"$f":"SUM(D31:K31)","v":991.27189244161866},{"$f":"(B31-B30)/B30","v":0.037794051538398293},48.664124240794088,386.44885198797544,206.40422289009649,3.737619,2.2672714606741571,141.80380904294356,6.8747897977528085,195.07120402138216]
["Apr 2015 - Mar 2016",{"$f":"SUM(D32:K32)","v":803.77809817901721},{"$f":"(B32-B31)/B31","v":-0.18914466928017326},56.464772699315368,349.04015381073782,203.82102222244259,2.721292,3.0112584382022471,158.33258199688026,7.101922883645444,23.285094127793549]
["Apr 2016 - Mar 2017",{"$f":"SUM(D33:K33)","v":956.86939014073016},{"$f":"(B33-B32)/B32","v":0.19046462239832829},59.504576925320052,354.60022075075995,180.65223521750002,1.15018499939,2.7825093997,164.54310637453008,7.4588730839799959,186.17768338954997]
["Apr 2017 - Mar 2018R",{"$f":"SUM(D34:K34)","v":969.48687300000006},{"$f":"(B34-B33)/B33","v":0.013186212234685656},57.381222,341.537962,168.27206,0,3.197253,171.31744,-2.806902,230.587838]
["Apr 2018 - Mar 2019R",{"$f":"SUM(D35:K35)","v":839.512738},{"$f":"(B35-B34)/B34","v":-0.13406487351170152},61.489108,308.715425,173.59758,0,2.881085,171.949469,-12.201789,133.08186]
["Oct 2018 - Sep 2019P",{"$f":"SUM(D36:K36)","v":829.99091700000008},{"$f":"(B36-B35)/B35","v":-0.011342080434281547},59.502994,327.934684,160.144624,0,2.583352,178.327352,-8.365923,109.863834]
[]
[null,"Table Numbers"]
["Reporting Period","Total","% \nChange","3 Card Poker","American Roulette","Blackjack","Casino Stud Poker","Dice","Electronic Gaming","Other","Punto Banco"]
["Apr 2008 - Mar 2009",{"$f":"SUM(D40:K40)","v":6037},null,250,867,597,66,13,3958,188,98]
["Apr 2009 - Mar 2010",{"$f":"SUM(D41:K41)","v":5739},{"$f":"(B41-B40)/B40","v":-0.049362266026171941},234,823,576,36,17,3665,277,111]
["Apr 2010 - Mar 2011",{"$f":"SUM(D42:K42)","v":5692.319243},{"$f":"(B42-B41)/B41","v":-0.0081339531277226148},223.909271,803.99971,556.166836,20.498582,21.071176,3606.673668,358,102]
["Apr 2011 - Mar 2012",{"$f":"SUM(D43:K43)","v":5962.7054140000009},{"$f":"(B43-B42)/B42","v":0.047500176897580411},232.873736,848.418881,588.694237,11.761625,21.454752,3924.062692,221.906715,113.532776]
["Apr 2012 - Mar 2013",{"$f":"SUM(D44:K44)","v":6131.2959240000037},{"$f":"(B44-B43)/B43","v":0.028274163872688461},231.85727899999924,869.23191300000224,613.21550900000148,7.5013580000000015,16.380790999999995,4178.1147620000011,79.28826200000006,135.70604999999998]
["Apr 2013 - Mar 2014",{"$f":"SUM(D45:K45)","v":5851.8999660000018},{"$f":"(B45-B44)/B44","v":-0.045568826144298448},229.94629799999947,871.97985500000334,603.36892100000182,6.0082080000000015,15.997219999999992,3899.6106529999975,62.725935000000042,162.26287599999981]
["Apr 2014 - Mar 2015",{"$f":"SUM(D46:K46)","v":5563.1241010000031},{"$f":"(B46-B45)/B45","v":-0.049347368662794842},234.7333289999994,840.3202900000025,591.2600400000016,10.008206999999999,12.010934999999995,3642.714786,75.794432000000043,156.2820819999996]
["Apr 2015 - Mar 2016",{"$f":"SUM(D47:K47)","v":5668.1549989999976},{"$f":"(B47-B46)/B46","v":0.018879840911892407},240.6929529999982,859.83261300000311,605.63539100000162,7.0246460000000024,13.95066099999999,3716.3421859999939,67.342403000000132,157.33414599999981]
["Apr 2016 - Mar 2017",{"$f":"SUM(D48:K48)","v":5724.0401826483894},{"$f":"(B48-B47)/B47","v":0.0098595016646953644},242.66027397260197,870.90684931506769,597.2575342465733,2.5963470319634649,18.745205479452018,3730.9671232876635,99.78356164383537,161.12328767123228]
["Apr 2017 - Mar 2018R",{"$f":"SUM(D49:K49)","v":5641},{"$f":"(B49-B48)/B48","v":-0.014507267593982635},249,852,557,0,12,3727,77,167]
["Apr 2018 - Mar 2019R",{"$f":"SUM(D50:K50)","v":5615},{"$f":"(B50-B49)/B49","v":-0.0046091118595993621},230,820,527,0,11,3777,92,158]
["Oct 2018 - Sep 2019P",{"$f":"SUM(D51:K51)","v":5586},{"$f":"(B51-B50)/B50","v":-0.0051647373107747106},220,801,521,0,10,3777,94,163]

{"sheet":"9b","index":19,"n_rows":23,"n_cols":11,"rows_kept":23,"cut":false,"hidden":false,"merged":[[6,1,6,5],[6,6,6,10]]}
["Gambling Commission"]
["Industry Statistics - May 2020"]
[]
[]
["9b","Gaming Machines in casino premises"]
[]
[null,"Average number of machines",{"$nulls":4},"Gross Gambling Yield (£m)"]
["Reporting Period","Total","% Change","B1","B2","B3","Total","% Change","B1","B2","B3"]
["Apr 2008 - Mar 2009",{"$f":"SUM(D9:F9)","v":2527},null,2477,45,5,{"$f":"SUM(I9:K9)","v":103.89},null,103.09,0.75,0.05]
["Apr 2009 - Mar 2010",{"$f":"SUM(D10:F10)","v":2548},{"$f":"(B10-B9)/B9","v":0.0083102493074792248},2499,43,6,{"$f":"SUM(I10:K10)","v":115.75},{"$f":"(G10-G9)/G9","v":0.11415920685340263},114.69,0.98,0.08]
["Apr 2010 - Mar 2011",{"$f":"SUM(D11:F11)","v":2637},{"$f":"(B11-B10)/B10","v":0.034929356357927786},2603,30,4,{"$f":"SUM(I11:K11)","v":119},{"$f":"(G11-G10)/G10","v":0.028077753779697623},117.67,1.26,0.07]
["Apr 2011 - Mar 2012",{"$f":"SUM(D12:F12)","v":2854.739301},{"$f":"(B12-B11)/B11","v":0.082570838452787287},2787.700977,56.279423,10.758901,{"$f":"SUM(I12:K12)","v":128.94357284255832},{"$f":"(G12-G11)/G11","v":0.083559435651750627},126.27449960236997,2.5005482401883516,0.16852499999999798]
["Apr 2012 - Mar 2013",{"$f":"SUM(D13:F13)","v":2795.300862},{"$f":"(B13-B12)/B12","v":-0.020820969178929595},2675.473529,110.835556,8.991776999999999,{"$f":"SUM(I13:K13)","v":136.17874822512715},{"$f":"(G13-G12)/G12","v":0.05611117501298854},130.11205001476614,5.7120322103610022,0.354665999999999]
["Apr 2013 - Mar 2014",{"$f":"SUM(D14:F14)","v":2846.4981230000017},{"$f":"(B14-B13)/B13","v":0.018315474264681},2656.9427370000021,175.14511599999983,14.41027,{"$f":"SUM(I14:K14)","v":155.89175286761318},{"$f":"(G14-G13)/G13","v":0.1447583040629585},145.87830645657485,9.5618376469933839,0.45160876404493894]
["Apr 2014 - Mar 2015",{"$f":"SUM(D15:F15)","v":2803.6988889999948},{"$f":"(B15-B14)/B14","v":-0.015035749946288254},2630.4928099999952,169.11566899999997,4.09041,{"$f":"SUM(I15:K15)","v":168.51677223823933},{"$f":"(G15-G14)/G14","v":0.080985806743398434},157.49592724515375,10.840447757130507,0.180397235955056]
["Apr 2015 - Mar 2016",{"$f":"SUM(D16:F16)","v":2991.4160309999988},{"$f":"(B16-B15)/B15","v":0.066953388873709538},2806.2325539999988,184.93142299999988,0.252054,{"$f":"SUM(I16:K16)","v":195.60295042444469},{"$f":"(G16-G15)/G15","v":0.16073283285958312},181.78311938729883,13.809120037145878,0.010711]
["Apr 2016 - Mar 2017",{"$f":"SUM(D17:F17)","v":3158},{"$f":"(B17-B16)/B16","v":0.055687329102235873},2972,185,1,{"$f":"SUM(I17:K17)","v":206.66792442271986},{"$f":"(G17-G16)/G16","v":0.056568543441011296},192.26981792707986,14.356128495140004,0.0419780005]
["Apr 2017 - Mar 2018R",{"$f":"SUM(D18:F18)","v":3243},{"$f":"(B18-B17)/B17","v":0.026915769474350856},3073,170,0,{"$f":"SUM(I18:K18)","v":211.23037300000001},{"$f":"(G18-G17)/G17","v":0.02207622972952537},197.092518,14.137855,0]
["Apr 2018 - Mar 2019R",{"$f":"SUM(D19:F19)","v":3310},{"$f":"(B19-B18)/B18","v":0.020659882824545173},3161,149,0,{"$f":"SUM(I19:K19)","v":219.306093},{"$f":"(G19-G18)/G18","v":0.038231812429739873},206.962251,12.343842,0]
["Oct 2018 - Sep 2019P",{"$f":"SUM(D20:F20)","v":3327},{"$f":"(B20-B19)/B19","v":0.00513595166163142},3255,71,1,{"$f":"SUM(I20:K20)","v":222.74846200000002},{"$f":"(G20-G19)/G19","v":0.015696640950144572},216.5295,6.215225,0.003737]
[]
["Details on gaming machine categorisation are available on our website."]
["Details on gaming machine entitlement are available on our website."]

{"sheet":"10","index":20,"n_rows":20,"n_cols":8,"rows_kept":20,"cut":false,"hidden":false,"merged":[[6,3,6,5],[6,6,6,7]]}
["Gambling Commission"]
["Industry Statistics - May 2020"]
[]
[]
[10,"Lotteries (non-remote and remote)"]
[]
[null,null,null,"Distribution of Sales (£m)",null,null,"Contribution by External Lottery Managers"]
["Reporting Period","Sales (£m)","% \nChange","Balance (to good causes)","Expenses","Prizes","Sales raised by ELMs (£m)","% total sales raised by ELMs"]
["Apr 2008 - Mar 2009",{"$f":"SUM(D9:F9)","v":178.675747},null,94.86554335,49.54474177,34.26546188,36.46394133445245,{"$f":"G9/B9","v":0.20407885203609893}]
["Apr 2009 - Mar 2010",{"$f":"SUM(D10:F10)","v":194.90856125000002},{"$f":"(B10-B9)/B9","v":0.090850686355322854},100.12682089,57.894241619999995,36.887498740000005,56.099327585253107,{"$f":"G10/B10","v":0.28782382480006685}]
["Apr 2010 - Mar 2011",{"$f":"SUM(D11:F11)","v":208.15993955},{"$f":"(B11-B10)/B10","v":0.067987666703891225},102.90433504,66.52089054999999,38.73471396,89.551363547663755,{"$f":"G11/B11","v":0.4302046000842229}]
["Apr 2011 - Mar 2012",{"$f":"SUM(D12:F12)","v":300.95743906},{"$f":"(B12-B11)/B11","v":0.44579903179550107},127.38776234999999,101.22511433,72.344562380000013,184.95311910573903,{"$f":"G12/B12","v":0.61454908602164871}]
["Apr 2012 - Mar 2013",{"$f":"SUM(D13:F13)","v":345.55694973000072},{"$f":"(B13-B12)/B12","v":0.14819208592849961},142.75224068999944,130.25235301000143,72.552356029999814,222.82831876577495,{"$f":"G13/B13","v":0.64483819219923311}]
["Apr 2013 - Mar 2014",{"$f":"SUM(D14:F14)","v":376.8234673700004},{"$f":"(B14-B13)/B13","v":0.0904815187899697},162.25220827999968,131.53704425000072,83.03421483999999,263.11343738104404,{"$f":"G14/B14","v":0.6982405825661987}]
["Apr 2014 - Mar 2015",{"$f":"SUM(D15:F15)","v":446.12895205999973},{"$f":"(B15-B14)/B14","v":0.18392029873752197},190.63417786999884,159.10489458000077,96.389879610000122,306.62758307944949,{"$f":"G15/B15","v":0.68730707044139838}]
["Apr 2015 - Mar 2016",{"$f":"SUM(D16:F16)","v":493.33635859999924},{"$f":"(B16-B15)/B15","v":0.10581560851861191},212.15540164999973,167.61003039999946,113.57092655000005,379.55022636936684,{"$f":"G16/B16","v":0.76935384905840476}]
["Apr 2016 - Mar 2017",{"$f":"SUM(D17:F17)","v":587.80843044000176},{"$f":"(B17-B16)/B16","v":0.19149626860687388},255.95271782000134,186.47633439000029,145.37937823000013,459.61865382816006,{"$f":"G17/B17","v":0.781919125392799}]
["Apr 2017 - Mar 2018R",{"$f":"SUM(D18:F18)","v":684.09028889999843},{"$f":"(B18-B17)/B17","v":0.16379802240659469},299.20381996000009,208.730982309998,176.15548663000033,533.22620796754984,{"$f":"G18/B18","v":0.77946758873739519}]
["Apr 2018 - Mar 2019R",{"$f":"SUM(D19:F19)","v":736.52203658999849},{"$f":"(B19-B18)/B18","v":0.07664448471313505},332.37960800999923,209.43043919999906,194.7119893800002,600.84724257820972,{"$f":"G19/B19","v":0.81578990543182461}]
["Oct 2018 - Sep 2019P",{"$f":"SUM(D20:F20)","v":775.62274874000707},{"$f":"(B20-B19)/B19","v":0.05308831264715419},344.7317874700027,227.78218227000494,203.10877899999946,640.2327541003998,{"$f":"G20/B20","v":0.82544349703570807}]

{"sheet":"11","index":21,"n_rows":30,"n_cols":14,"rows_kept":30,"cut":false,"hidden":false,"merged":[[18,1,18,5],[18,6,18,10],[18,11,18,12],[17,1,17,12],[3,0,4,0],[7,11,7,13],[6,1,6,13],[7,1,7,5],[7,6,7,10]]}
["Gambling Commission"]
["Industry Statistics - May 2020"]
[]
[11]
[null,"Remote Casino, Betting & Bingo (RCBB)"]
[]
[null,"Great Britain only data "]
[null,"Turnover (£m)",{"$nulls":4},"Gross Gambling Yield (£m)",{"$nulls":4},"Accounts (Millions)"]
["Reporting Period","Total","% \nChange","Betting","Bingo","Casino","Total","% \nChange","Betting","Bingo","Casino","Funds held in customer accounts","Active number accounts GC Licensed Facilities","New account registrations"]
["Nov 2014 - Mar 2015",{"$f":"SUM(D10:F10)","v":12444.23443968884},null,5352.3870585396735,330.50841189887637,6761.3389692502906,{"$f":"SUM(I10:K10)","v":1485.4723895876327},null,518.70141866124868,66.9792642820707,899.79170664431342,498.486948,21.779135,8.9723566176171481]
["Apr 2015 - Mar 2016",{"$f":"SUM(D11:F11)","v":86649.962788603269},{"$f":"(B11-B10)/B10","v":5.9630609426842245},22953.562108307411,1468.8120138602178,62227.588666435644,{"$f":"SUM(I11:K11)","v":4230.75587619199},{"$f":"(G11-G10)/G10","v":1.8480878580088911},1743.9130597481492,122.4069270993693,2364.4358893444719,607.376714,23.049999,23.9395159605071]
["Apr 2016 - Mar 2017",{"$f":"SUM(D12:F12)","v":99138.296604529693},{"$f":"(B12-B11)/B11","v":0.14412393743773155},25955.794138862108,1403.6673449121402,71778.835120755451,{"$f":"SUM(I12:K12)","v":4775.18263452356},{"$f":"(G12-G11)/G11","v":0.12868309452579357},1952.9929745037095,161.15049216750995,2661.0391678523406,880.05352,30.518027,32.284421127217371]
["Apr 2017 - Mar 2018R",{"$f":"SUM(D13:F13)","v":110816.94492625659},{"$f":"(B13-B12)/B12","v":0.11780158346187777},26987.784905256598,1307.742871,82521.41715,{"$f":"SUM(I13:K13)","v":5355.16114100919},{"$f":"(G13-G12)/G12","v":0.12145682183808169},2254.25056739394,163.93352287857005,2936.9770507366798,803.163101,34.223024,32.341636]
["Apr 2018 - Mar 2019R",{"$f":"SUM(D14:F14)","v":117995.06677963566},{"$f":"(B14-B13)/B13","v":0.064774587118926322},27727.42330000022,1314.784826635439,88952.858653,{"$f":"SUM(I14:K14)","v":5279.8354107435762},{"$f":"(G14-G13)/G13","v":-0.01406600628481155},2033.7780525393198,176.09077129568612,3069.96658690857,828.471163,31.020955,33.498496]
["Oct 2018 - Sep 2019P",{"$f":"SUM(D15:F15)","v":121332.742577},{"$f":"(B15-B14)/B14","v":0.028286570688566933},27973.331119,1415.509679,91943.901779,{"$f":"SUM(I15:K15)","v":5509.1822763131895},{"$f":"(G15-G14)/G14","v":0.043438260424355474},2121.00211172268,198.08925825547993,3190.09090633503,900.562701,30.162449,31.527781]
[]
[]
[null,"Great Britain plus Non-GB data"]
[null,"Turnover (£m)",{"$nulls":4},"Gross Gambling Yield (£m)",{"$nulls":4},"Accounts (Millions)"]
["Reporting Period","Total","% \nChange","Betting","Bingo","Casino","Total","% \nChange","Betting","Bingo","Casino","Funds held in customer accounts","Active number accounts GC Licensed Facilities"]
["Nov 2014 - Mar 2015",{"$f":"SUM(D21:F21)","v":13355.170512048009},null,5553.422953666035,331.20858226966294,7470.5389761123115,{"$f":"SUM(I21:K21)","v":1683.1661407638837},null,572.87627595930473,67.5891716690563,1042.7006931355227,519.070017,24.075724]
["Apr 2015 - Mar 2016",{"$f":"SUM(D22:F22)","v":90528.122216970165},{"$f":"(B22-B21)/B21","v":5.7785074054503944},23560.547369754117,1472.7651453063168,65494.809701909733,{"$f":"SUM(I22:K22)","v":4523.3689415884892},{"$f":"(G22-G21)/G21","v":1.6874167867561873},1871.0545093912672,123.27526217052309,2529.0391700266991,637.625574,24.554961]
["Apr 2016 - Mar 2017",{"$f":"SUM(D23:F23)","v":101603.20111485904},{"$f":"(B23-B22)/B22","v":0.12233854659378728},26541.567180534672,1408.0989714446,73653.53496287977,{"$f":"SUM(I23:K23)","v":5098.4134197829608},{"$f":"(G23-G22)/G22","v":0.1271274763611325},2093.73589919997,161.04608693547,2843.6314336475207,937.140609,32.626508]
["Apr 2017 - Mar 2018R",{"$f":"SUM(D24:F24)","v":112881.36229200271},{"$f":"(B24-B23)/B23","v":0.11100202605225092},27694.818737,1311.48604400271,83875.057511,{"$f":"SUM(I24:K24)","v":5635.7171675812406},{"$f":"(G24-G23)/G23","v":0.10538646115150717},2436.1846235812404,164.595656,3034.9368879999997,876.803942,36.240908]
["Apr 2018 - Mar 2019R",{"$f":"SUM(D25:F25)","v":121027.12283299999},{"$f":"(B25-B24)/B24","v":0.072162138865100992},28547.182652,1315.015884,91164.92429699999,{"$f":"SUM(I25:K25)","v":5588.1399508883769},{"$f":"(G25-G24)/G24","v":-0.0084420873649489817},2220.98955807042,176.79362404613616,3190.3567687718205,910.600227,33.484478]
["Oct 2018 - Sep 2019P",{"$f":"SUM(D26:F26)","v":124438.311202},{"$f":"(B26-B25)/B25","v":0.028185321514310139},28945.174814999995,1419.340154,94073.796233,{"$f":"SUM(I26:K26)","v":5783.7546000643106},{"$f":"(G26-G25)/G25","v":0.03500532393517377},2284.64190125544,198.86863254249,3300.2440662663803,965.888077,31.574137]
[]
["11a - Casino (remote)"]
["11b - Betting (remote)"]
["11c - Bingo (remote)"]

{"sheet":"11a","index":22,"n_rows":27,"n_cols":19,"rows_kept":27,"cut":false,"hidden":false,"merged":[[19,10,19,18],[18,1,18,18],[3,0,4,0],[8,1,8,9],[8,10,8,18],[19,1,19,9],[7,1,7,18]]}
["Gambling Commission"]
["Industry Statistics - May 2020"]
[]
["11a"]
[null,"Casino (remote)"]
[]
[]
[null,"Great Britain only remote data "]
[null,"Turnover (£m)",{"$nulls":8},"Gross Gambling Yield (£m)"]
["Reporting Period","Total","% \nChange","Blackjack","Card Game","Other","Poker Peer to Peer","Roulette","Slots","Table Game","Total","% \nChange","Blackjack","Card Game","Other","Poker Peer to Peer","Roulette","Slots","Table Game"]
["Nov 2014 - Mar 2015",{"$f":"SUM(D11:J11)","v":6761.3389692502915},null,0,492.80608640251307,223.16322554625614,0,0,5171.2316596935561,874.13799760796621,{"$f":"SUM(M11:S11)","v":899.79170664431331},null,0,66.44820465161051,59.146412692329207,43.996122348337884,0,594.31332430527868,135.88764264675706]
["Apr 2015 - Mar 2016",{"$f":"SUM(D12:J12)","v":62227.588666435637},{"$f":"(B12-B11)/B11","v":8.2034416480875727},0,8350.1861370044171,3464.1030390741853,0,0,34938.887695258556,15474.411795098484,{"$f":"SUM(M12:S12)","v":2364.4358893444723},{"$f":"(K12-K11)/K11","v":1.6277591490172862},0,184.22851216924968,132.79556209777624,103.67988080383594,0,1559.09820560033,384.63372867328053]
["Apr 2016 - Mar 2017",{"$f":"SUM(D13:J13)","v":71778.835120755451},{"$f":"(B13-B12)/B12","v":0.15348893728661503},0,8826.1339056574816,5055.5515682180194,0,0,41270.199500952709,16626.950145927243,{"$f":"SUM(M13:S13)","v":2661.0391678523406},{"$f":"(K13-K12)/K12","v":0.12544356979376589},0,203.91383061467991,175.10225057187995,98.350446919940012,0,1772.7055326536906,410.96710709214994]
["Apr 2017 - Mar 2018R",{"$f":"SUM(D14:J14)","v":82521.417150000008},{"$f":"(B14-B13)/B13","v":0.14966225087342283},2198.9449480000003,6528.331547,6601.395174,0,4478.9083420000006,50422.818286,12291.018853,{"$f":"SUM(M14:S14)","v":2936.97704913749},{"$f":"(K14-K13)/K13","v":0.1036955354204171},50.4427569126,153.714088,214.95784567602,97.13170354887,109.930384,2002.098196,308.702075]
["Apr 2018 - Mar 2019R",{"$f":"SUM(D15:J15)","v":88952.858653},{"$f":"(B15-B14)/B14","v":0.077936634211086056},9181.144154,0,7185.404318,0,17785.314219,54800.995962,0,{"$f":"SUM(M15:S15)","v":3069.96658690857},{"$f":"(K15-K14)/K14","v":0.04528109533921465},210.25293299999998,0,234.776326,95.71684490857,419.775278,2109.445205,0]
["Oct 2018 - Sep 2019P",{"$f":"SUM(D16:J16)","v":91943.901779},{"$f":"(B16-B15)/B15","v":0.033625036578845566},8756.072615,0,7698.728562,0,18401.695448,57087.405154000007,0,{"$f":"SUM(M16:S16)","v":3190.0909063350291},{"$f":"(K16-K15)/K15","v":0.03912886867847739},196.09892353617994,0,259.89788424363,94.27182975062,430.00671831957015,2209.8155504850292,0]
[]
[]
[null,"Great Britain plus Non-GB remote data (£m)"]
[null,"Turnover (£m)",{"$nulls":8},"Gross Gambling Yield (£m)"]
["Reporting Period","Total","% \nChange","Blackjack","Card Game","Other","Poker Peer to Peer","Roulette","Slots","Table Game","Total","% \nChange","Blackjack","Card Game","Other","Poker Peer to Peer","Roulette","Slots","Table Game"]
["Nov 2014 - Mar 2015",{"$f":"SUM(D22:J22)","v":7470.53897611231},null,0,544.61726950443472,243.77388421025768,0,0,5721.66831356521,960.47950883240765,{"$f":"SUM(M22:S22)","v":1042.7006931355227},null,0,71.68138560845513,139.192039494971,49.442022663621565,0,641.74694582114159,140.6382995473333]
["Apr 2015 - Mar 2016",{"$f":"SUM(D23:J23)","v":65494.809701909726},{"$f":"(B23-B22)/B22","v":7.7670795790417548},0,8465.3826335189187,3674.376232424519,0,0,37260.218455707363,16094.832380258922,{"$f":"SUM(M23:S23)","v":2529.0391700266991},{"$f":"(K23-K22)/K22","v":1.4254699231296981},0,192.31334853702637,212.53958114271092,113.36834815521894,0,1616.7209455716848,394.09694662005791]
["Apr 2016 - Mar 2017",{"$f":"SUM(D24:J24)","v":73653.534962879785},{"$f":"(B24-B23)/B23","v":0.12457056212703467},0,8967.90021551456,5284.2790747438812,0,0,42240.241354180034,17161.1143184413,{"$f":"SUM(M24:S24)","v":2843.63143364752},{"$f":"(K24-K23)/K23","v":0.12439200916666701},0,207.73357028862995,249.28291251853,102.61539714706001,0,1858.7386307704705,425.26092292282976]
["Apr 2017 - Mar 2018R",{"$f":"SUM(D25:J25)","v":83875.057511},{"$f":"(B25-B24)/B24","v":0.1387784381736967},2270.334154,6672.1088519999994,7169.7808270000005,0,4532.715334,50837.190745,12392.927599,{"$f":"SUM(M25:S25)","v":3034.93688740192},{"$f":"(K25-K24)/K24","v":0.067275052417398826},52.860772,157.35043000000002,245.225547,99.143478319360028,111.18496308256,2055.494066,313.677631]
["Apr 2018 - Mar 2019R",{"$f":"SUM(D26:J26)","v":91164.92429699999},{"$f":"(B26-B25)/B25","v":0.086913404322184057},9366.681153,0,8446.352498,0,17949.735884,55402.154762,0,{"$f":"SUM(M26:S26)","v":3190.37331160782},{"$f":"(K26-K25)/K25","v":0.05121570232683241},216.53261199999997,0,291.327581,97.65948890816,426.722856,2158.114231,0.01654269966]
["Oct 2018 - Sep 2019P",{"$f":"SUM(D27:J27)","v":94073.796233},{"$f":"(B27-B26)/B26","v":0.031907797416947277},8874.31794,0,8913.9110609999989,0,18555.106234,57730.460998,0,{"$f":"SUM(M27:S27)","v":3300.24406626638},{"$f":"(K27-K26)/K26","v":0.034438212687777671},200.40939549193007,0,312.00848292313992,96.35814904167,437.23902424389007,2254.22901456575,0]

{"sheet":"11b","index":23,"n_rows":37,"n_cols":25,"rows_kept":37,"cut":false,"hidden":false,"merged":[[29,1,29,12],[29,13,29,24],[28,1,28,24],[3,0,4,0],[17,1,17,24],[18,1,18,12],[18,13,18,24],[6,1,6,10],[7,1,7,5],[7,6,7,10],[7,11,7,15],[7,16,7,20],[6,11,6,20]]}
["Gambling Commission"]
["Industry Statistics - May 2020"]
[]
["11b"]
[null,"Betting (remote)"]
[]
[null,"Great Britain only data by betting type",{"$nulls":9},"Great Britain plus Non-GB data by betting type"]
[null,"Turnover (£m)",{"$nulls":4},"Gross Gambling Yield (£m)",{"$nulls":4},"Turnover (£m)",{"$nulls":4},"Gross Gambling Yield (£m)"]
["Reporting Period","Total","% \nChange","Betting","Betting \nExchange","Pool \nBetting","Total","% \nChange","Betting","Betting \nExchange","Pool \nBetting","Total","% \nChange","Betting","Betting \nExchange","Pool \nBetting","Total","% \nChange","Betting","Betting \nExchange","Pool \nBetting"]
["Nov 2014 - Mar 2015",{"$f":"SUM(D10:F10)","v":5352.3870585396735},null,5322.8450406368038,0,29.542017902869343,{"$f":"SUM(I10:K10)","v":518.70141866124868},null,456.43852942279761,52.4412661664631,9.8216230719879327,{"$f":"SUM(N10:P10)","v":5553.422953666035},null,5460.6428038579816,0,92.780149808053082,{"$f":"SUM(S10:U10)","v":572.87627595930473},null,478.71133734925843,56.877393242427914,37.287545367618392]
["Apr 2015 - Mar 2016",{"$f":"SUM(D11:F11)","v":22953.562108307411},{"$f":"(B11-B10)/B10","v":3.2884720139372696},22892.847012970436,0,60.715095336975139,{"$f":"SUM(I11:K11)","v":1743.9130597481492},{"$f":"(G11-G10)/G10","v":2.36207497609922},1565.7507624276564,151.8970736210826,26.265223699410186,{"$f":"SUM(N11:P11)","v":23560.547369754117},{"$f":"(L11-L10)/L10","v":3.2425270983908878},23345.921768318054,0,214.62560143606078,{"$f":"SUM(S11:U11)","v":1871.0545093912672},{"$f":"(Q11-Q10)/Q10","v":2.2660708566751344},1625.2866714322354,171.82058928870745,73.947248670324271]
["Apr 2016 - Mar 2017",{"$f":"SUM(D12:F12)","v":25955.794138862108},{"$f":"(B12-B11)/B11","v":0.13079590942741393},25866.080355530987,0,89.713783331120013,{"$f":"SUM(I12:K12)","v":1952.9929745037095},{"$f":"(G12-G11)/G11","v":0.11989124892828951},1748.5824900928897,171.52519784679998,32.88528656402,{"$f":"SUM(N12:P12)","v":26541.567180534672},{"$f":"(L12-L11)/L11","v":0.12652591486933973},26274.828084127013,0,266.73909640765993,{"$f":"SUM(S12:U12)","v":2093.73589919997},{"$f":"(Q12-Q11)/Q11","v":0.11901384416702558},1806.64857755137,190.9959081034,96.091413545200027]
["Apr 2017 - Mar 2018R",{"$f":"SUM(D13:F13)","v":26987.784905256598},{"$f":"(B13-B12)/B12","v":0.039759552756251461},26899.600639257558,0,88.18426599904,{"$f":"SUM(I13:K13)","v":2254.25056739394},{"$f":"(G13-G12)/G12","v":0.15425431469705381},2056.86079763458,168.85423875936,28.535531000000002,{"$f":"SUM(N13:P13)","v":27694.818737},{"$f":"(L13-L12)/L12","v":0.043450770959414672},27470.457488,0,224.361249,{"$f":"SUM(S13:U13)","v":2436.1846235812404},{"$f":"(Q13-Q12)/Q12","v":0.1635587012249837},2138.01508658124,195.597951,102.571586]
["Apr 2018 - Mar 2019R",{"$f":"SUM(D14:F14)","v":27727.42330000022},{"$f":"(B14-B13)/B13","v":0.027406413580818113},27623.581489000222,0,103.841811,{"$f":"SUM(I14:K14)","v":2033.7780525393198},{"$f":"(G14-G13)/G13","v":-0.09780302067728909},1832.69382254011,167.62228199921,33.461948,{"$f":"SUM(N14:P14)","v":28547.182652},{"$f":"(L14-L13)/L13","v":0.030777017285953508},28437.148329,0,110.034323,{"$f":"SUM(S14:U14)","v":2220.98955807042},{"$f":"(Q14-Q13)/Q13","v":-0.08833282314805814},1992.5441020704202,192.102312,36.343143999999995]
["Oct 2018 - Sep 2019P",{"$f":"SUM(D15:F15)","v":27973.331119},{"$f":"(B15-B14)/B14","v":0.00886875842515724},27870.455453,0,102.875666,{"$f":"SUM(I15:K15)","v":2121.00211172268},{"$f":"(G15-G14)/G14","v":0.042887698131295504},1926.4723872609,164.005194,30.52453046178,{"$f":"SUM(N15:P15)","v":28945.174814999995},{"$f":"(L15-L14)/L14","v":0.013941556610039494},28834.670961999997,0,110.503853,{"$f":"SUM(S15:U15)","v":2284.64190125544},{"$f":"(Q15-Q14)/Q14","v":0.028659451798738203},2060.40341989938,189.563787,34.67469435606]
[]
[]
[null,"Great Britain only data by betting category"]
[null,"Turnover (£m)",{"$nulls":11},"Gross Gambling Yield (£m)"]
["Reporting Period","Total","% \nChange","Cricket","Dogs","Financials","Football","Golf","Horses","Other","Tennis","Virtual","Unallocated revenue share","Total","% \nChange","Cricket","Dogs","Financials","Football","Golf","Horses","Other","Tennis","Virtual","Unallocated revenue share"]
["Nov 2014 - Mar 2015",{"$f":"SUM(D21:M21)","v":5352.3870585396735},null,238.11358253040532,86.480155507714258,56.500696532608693,2119.33040051019,34.92591514382557,1631.0132733144317,741.97108195960152,444.05195304089654,0,0,{"$f":"SUM(P21:Y21)","v":518.70141866124868},null,4.2179203680427655,9.0152541499956325,3.0951853369565203,160.70647327468046,2.6169083290799593,115.46895230454435,41.434325509499764,22.797890933325924,0,159.34850845512327]
["Apr 2015 - Mar 2016",{"$f":"SUM(D22:M22)","v":22953.562108307415},{"$f":"(B22-B21)/B21","v":3.28847201393727},492.38912756266888,284.36295762806617,234.75294394214239,5890.4552518275768,182.43993553858118,5354.4192035621745,2136.5513304503934,1467.736961252439,0,6910.4543965433713,{"$f":"SUM(P22:Y22)","v":1743.9130597481492},{"$f":"(N22-N21)/N21","v":2.36207497609922},21.234586413318553,28.441757224915218,12.701071333023464,577.80315786203812,14.389376028487106,346.05659469694507,156.23982157883316,72.20783409832049,0,514.838860512268]
["Apr 2016 - Mar 2017",{"$f":"SUM(D23:M23)","v":25955.794138862108},{"$f":"(B23-B22)/B22","v":0.13079590942741376},508.24318159227005,443.50548624742987,275.9408033779099,8188.6849518513245,194.15991830122996,6403.148484833253,2246.4849635700889,1588.9037747756604,0,6106.7225743129411,{"$f":"SUM(P23:Y23)","v":1952.9929745037102},{"$f":"(N23-N22)/N22","v":0.1198912489282899},20.803801276989997,44.41052248901,37.032068931099992,663.24592671945982,14.200994172949999,436.19673810251,159.45995396779006,89.952327038650012,0,487.6906418052501]
["Apr 2017 - Mar 2018R",{"$f":"SUM(D24:M24)","v":26987.784907887122},{"$f":"(B24-B23)/B23","v":0.039759552857597788},749.403255,586.26889699911,176.747294,10445.7274876315,258.51297012622,8886.36580299888,2770.44860703796,2342.86477709345,771.445817,0,{"$f":"SUM(P24:Y24)","v":2254.5933633516197},{"$f":"(N24-N23)/N23","v":0.15442983809224989},31.646798089159994,55.062530943599995,21.996719314849997,1037.40549417928,14.251444169870002,614.4828006654,257.14112094696003,144.16486104249998,78.441594,0]
["Apr 2018 - Mar 2019R",{"$f":"SUM(D25:M25)","v":27727.420961000218},{"$f":"(B25-B24)/B24","v":0.027406326811836225},709.743884,638.53510099999994,0,10985.427763,271.521348,9630.86962899971,2652.82752300051,2150.598208,687.897505,0,{"$f":"SUM(P25:Y25)","v":2033.77504053877},{"$f":"(N25-N24)/N24","v":-0.097941529679918357},37.041573,56.659081055019996,0,992.50699600000007,14.123541,522.72232699999,221.37781648376,120.75061,68.593096,0]
["Oct 2018 - Sep 2019P",{"$f":"SUM(D26:M26)","v":27973.329224},{"$f":"(B26-B25)/B25","v":0.0088687751863277577},810.840224,681.227646,0,10737.674878,251.193461,9787.1578689999988,2885.920087,2106.754683,712.56037599999991,0,{"$f":"SUM(P26:Y26)","v":2121.00078672268},{"$f":"(N26-N25)/N25","v":0.042888591139756939},45.41290763882,66.40260464867,0,991.46933402874993,15.484972932640002,577.99735704336013,225.65572416933998,124.76440208742999,73.813484173670034,0]
[]
[]
[null,"Great Britain plus Non-GB data by betting category"]
[null,"Turnover (£m)",{"$nulls":11},"Gross Gambling Yield (£m)"]
["Reporting Period","Total","% \nChange","Cricket","Dogs","Financials","Football","Golf","Horses","Other","Tennis","Virtual","Unallocated revenue share","Total","% \nChange","Cricket","Dogs","Financials","Football","Golf","Horses","Other","Tennis","Virtual","Unallocated revenue share"]
["Nov 2014 - Mar 2015",{"$f":"SUM(D32:M32)","v":5553.422953666035},null,240.1746223048313,95.748187264797778,61.7207112826087,2182.8020734010825,36.236577751788431,1681.7311472313834,804.54906349710393,450.46057093243849,0,0,{"$f":"SUM(P32:Y32)","v":572.87627595930473},null,4.3069386670168717,10.973216357494403,3.4152424239130403,172.16208903008132,2.7311698699934879,123.16833920012323,70.60994249493,23.679436629582085,0,161.82990128617033]
["Apr 2015 - Mar 2016",{"$f":"SUM(D33:M33)","v":23560.547369754109},{"$f":"(B33-B32)/B32","v":3.2425270983908865},498.70851706722846,294.31513108112756,255.19140320301193,6022.4579720424053,186.17550190163286,5479.1389095039194,2359.3715955994253,1494.071460980462,0,6971.1168783749,{"$f":"SUM(P33:Y33)","v":1871.0545093912672},{"$f":"(N33-N32)/N32","v":2.2660708566751344},22.098077389706752,30.509413531909193,13.9304600395452,587.93405460831752,14.646920799167773,362.0920256346995,240.0483575039114,74.896370536122291,0,524.89882934788761]
["Apr 2016 - Mar 2017",{"$f":"SUM(D34:M34)","v":26541.567180534676},{"$f":"(B34-B33)/B33","v":0.12652591486934023},514.67168798271007,447.88355980768989,290.03034333558992,8328.7894033362827,198.68363536087998,6523.7489127538329,2492.1201777502997,1611.4081345617396,0,6134.23132564565,{"$f":"SUM(P34:Y34)","v":2093.73589919997},{"$f":"(N34-N33)/N33","v":0.11901384416702558},21.275378583959991,45.15739134247999,37.88328514897,676.9704696527798,14.701369085970004,448.35358586844984,255.01053831280007,91.566733205599988,0,502.81714799896025]
["Apr 2017 - Mar 2018R",{"$f":"SUM(D35:M35)","v":27679.24300004157},{"$f":"(B35-B34)/B34","v":0.042863927806842332},761.0229609999999,586.29612500000007,176.747294,10670.298649,264.82182820492011,9045.729019,3018.747867,2369.8705339999997,785.70872283664994,0,{"$f":"SUM(P35:Y35)","v":2436.1863260772193},{"$f":"(N35-N34)/N34","v":0.16355951436286778},32.269564089199996,55.84337057011,22.5780084801,1057.73155262092,14.382541437659999,627.98494514694994,398.62392227558,145.98890087546,80.78352058124,0]
["Apr 2018 - Mar 2019R",{"$f":"SUM(D36:M36)","v":28547.180578359312},{"$f":"(B36-B35)/B35","v":0.031356983943398975},716.151208,646.48517399975,0,11294.507834,276.740115,9795.997763359559,2913.178628,2204.4978,699.62205599999993,0,{"$f":"SUM(P36:Y36)","v":2220.98647064057},{"$f":"(N36-N35)/N35","v":-0.088334727575278257},37.852128,57.70781405581,0,1026.411523,14.618003,534.52215100217,355.07098301189,124.350241,70.453627570700007,0]
["Oct 2018 - Sep 2019P",{"$f":"SUM(D37:M37)","v":28945.172919999997},{"$f":"(B37-B36)/B36","v":0.013941563880476187},817.179179,689.9235470000001,0,11052.983144,256.067563,10066.782342999999,3166.157389,2171.6556920000003,724.424063,0,{"$f":"SUM(P37:Y37)","v":2276.8756102554394},{"$f":"(N37-N36)/N36","v":0.025164106289557838},46.36733246442,67.57029296845,0,1021.4014209187199,15.684991948999999,590.91937315401992,328.86135775888,129.97201997167997,76.098821070270034,0]

{"sheet":"11c","index":24,"n_rows":24,"n_cols":5,"rows_kept":24,"cut":false,"hidden":false,"merged":[[6,1,6,4],[3,0,4,0],[16,1,16,4]]}
["Gambling Commission"]
["Industry Statistics - May 2020"]
[]
["11c"]
[null,"Bingo (remote)"]
[]
[null,"Great Britain Only data"]
["Reporting Period","Turnover (£m)","% \nChange","Gross Gambling Yield (£m)","% \nChange"]
["Nov 2014 - Mar 2015",330.50841189887637,null,66.9792642820707]
["Apr 2015 - Mar 2016",1468.8120138602178,{"$f":"(B10-B9)/B9","v":3.4440987308656492},122.4069270993693,{"$f":"(D10-D9)/D9","v":0.82753466183019442}]
["Apr 2016 - Mar 2017",1403.6673449121402,{"$f":"(B11-B10)/B10","v":-0.044351944519346272},161.15049216750995,{"$f":"(D11-D10)/D10","v":0.31651448154309791}]
["Apr 2017 - Mar 2018R",1307.742871,{"$f":"(B12-B11)/B11","v":-0.068338466560354749},163.93352287857005,{"$f":"(D12-D11)/D11","v":0.017269762404245315}]
["Apr 2018 - Mar 2019R",1314.784826635439,{"$f":"(B13-B12)/B12","v":0.0053848166880498946},176.09077129568612,{"$f":"(D13-D12)/D12","v":0.074159623996620141}]
["Oct 2018 - Sep 2019P",1415.509679,{"$f":"(B14-B13)/B13","v":0.076609381492725268},198.08925825547993,{"$f":"(D14-D13)/D13","v":0.12492697259446173}]
[]
[]
[null,"Great Britain plus Non GB data"]
["Reporting Period","Turnover (£m)","% \nChange","Gross Gambling Yield (£m)","% \nChange"]
["Nov 2014 - Mar 2015",331.20858226966294,null,67.5891716690563]
["Apr 2015 - Mar 2016",1472.7651453063168,{"$f":"(B20-B19)/B19","v":3.4466394415686454},123.27526217052309,{"$f":"(D20-D19)/D19","v":0.82389070802832487}]
["Apr 2016 - Mar 2017",1408.0989714446,{"$f":"(B21-B20)/B20","v":-0.043908001264021619},161.04608693547,{"$f":"(D21-D20)/D20","v":0.30639419539582574}]
["Apr 2017 - Mar 2018R",1311.48604400271,{"$f":"(B22-B21)/B21","v":-0.0686123130555039},164.595656,{"$f":"(D22-D21)/D21","v":0.022040703577928544}]
["Apr 2018 - Mar 2019R",1315.015884,{"$f":"(B23-B22)/B22","v":0.00269148117391828},176.79362404613616,{"$f":"(D23-D22)/D22","v":0.074108687571536935}]
["Oct 2018 - Sep 2019P",1419.340154,{"$f":"(B24-B23)/B23","v":0.079333087356076429},198.86863254249,{"$f":"(D24-D23)/D23","v":0.12486314829200586}]

{"sheet":"12","index":25,"n_rows":20,"n_cols":8,"rows_kept":20,"cut":false,"hidden":false,"merged":[[6,3,6,7]]}
["Gambling Commission"]
["Industry Statistics - May 2020"]
[]
[]
[12,"The National Lottery (non-remote and remote)"]
[]
[null,null,null,"Distribution of Sales (£m)"]
["Reporting Period","Sales (£m)","% Change","Prizes capable of being won by players (including unclaimed prizes)","Primary Contribution","Lottery Duty","Retailers' commission","Retention by Licensee"]
["Apr 2008 - Mar 2009",{"$f":"SUM(D9:H9)","v":5149.0999999999995},null,2627.6,1299.3,617.9,247.7,356.6]
["Apr 2009 - Mar 2010",{"$f":"SUM(D10:H10)","v":5476.5},{"$f":"(B10-B9)/B9","v":0.063583927288264078},2797.3,1468.5,657.2,257.4,296.1]
["Apr 2010 - Mar 2011",{"$f":"SUM(D11:H11)","v":5824.7000000000007},{"$f":"(B11-B10)/B10","v":0.063580754131288358},2984.5,1558.1,699.3,270,312.8]
["Apr 2011 - Mar 2012",{"$f":"SUM(D12:H12)","v":6503.3},{"$f":"(B12-B11)/B11","v":0.11650385427575659},3379.4,1705.3,780.5,296.3,341.8]
["Apr 2012 - Mar 2013",{"$f":"SUM(D13:H13)","v":6977.1},{"$f":"(B13-B12)/B12","v":0.0728553196069688},3697.6,1762.1,837.2,315.6,364.6]
["Apr 2013 - Mar 2014",{"$f":"SUM(D14:H14)","v":6736.3},{"$f":"(B14-B13)/B13","v":-0.034512906508434762},3636.5,1574.8,808.4,304.6,412]
["Apr 2014 - Mar 2015",{"$f":"SUM(D15:H15)","v":7275.2},{"$f":"(B15-B14)/B14","v":0.079999406202217779},4043.1,1668.7,873,328.2,362.2]
["Apr 2015 - Mar 2016",{"$f":"SUM(D16:H16)","v":7615.6999999999989},{"$f":"(B16-B15)/B15","v":0.046802837035407836},4198.9,1788.3,913.9,330.2,384.4]
["Apr 2016 - Mar 2017",{"$f":"SUM(D17:H17)","v":6921.8000000000011},{"$f":"(B17-B16)/B16","v":-0.091114408393187477},3943.2,1486.9,830.6,296.3,364.8]
["Apr 2017 - Mar 2018",{"$f":"SUM(D18:H18)","v":6936.2},{"$f":"(B18-B17)/B17","v":0.0020803837152184004},3928.4,1508.6,832.3,290.4,376.5]
["Apr 2018 - Mar 2019",{"$f":"SUM(D19:H19)","v":7207.7999999999993},{"$f":"(B19-B18)/B18","v":0.039156887056313178},4128.5,1486.7,864.9,300.4,427.3]
["Oct 2018 - Sep 2019",{"$f":"SUM(D20:H20)","v":7488.7999999999993},{"$f":"(B20-B19)/B19","v":0.038985543439052139},4304.2,1582.7,901.7,304.3,395.9]

{"sheet":"13","index":26,"n_rows":21,"n_cols":6,"rows_kept":21,"cut":false,"hidden":false,"merged":[[3,0,4,0],[7,1,7,5]]}
["Gambling Commission"]
["Industry Statistics - May 2020"]
[]
[13]
[null,"Gambling Software"]
[]
[]
[null,"Distribution of Income (£m)"]
["Reporting Period","Income","% change","Other","Revenue Share","Sales"]
["Apr 2008 - Mar 2009",0,0,0,0,0]
["Apr 2009 - Mar 2010",0,0,0,0,0]
["Apr 2010 - Mar 2011",0,0,0,0,0]
["Apr 2011 - Mar 2012",{"$f":"SUM(D13:F13)","v":107.21000000000001},null,0,36.46,70.75]
["Apr 2012 - Mar 2013",{"$f":"SUM(D14:F14)","v":104.924444998793},{"$f":"SUM(B14-B13)/B13","v":-0.021318487092687258},0.194891276712,37.401588040889,67.327965681192]
["Apr 2013 - Mar 2014",{"$f":"SUM(D15:F15)","v":150.344966010534},{"$f":"SUM(B15-B14)/B14","v":0.4328878843463359},2.669025232874,46.919799504130005,100.75614127353]
["Apr 2014 - Mar 2015",{"$f":"SUM(D16:F16)","v":223.90467817870405},{"$f":"SUM(B16-B15)/B15","v":0.48927286440050183},21.532582862595003,145.50428530828304,56.867810007825994]
["Apr 2015 - Mar 2016",{"$f":"SUM(D17:F17)","v":608.44593983919788},{"$f":"SUM(B17-B16)/B16","v":1.7174329039859615},70.880897899604975,356.08605947438292,181.47898246521]
["Apr 2016 - Mar 2017",{"$f":"SUM(D18:F18)","v":683.83184493540011},{"$f":"SUM(B18-B17)/B17","v":0.12389910123506695},169.83512393859007,309.11515149661994,204.88156950019007]
["Apr 2017 - Mar 2018R",{"$f":"SUM(D19:F19)","v":772.75098650376981},{"$f":"SUM(B19-B18)/B18","v":0.13003071182911885},37.460262896349995,464.37914459360996,270.91157901380984]
["Apr 2018 - Mar 2019R",{"$f":"SUM(D20:F20)","v":763.00010942192011},{"$f":"SUM(B20-B19)/B19","v":-0.012618394867364074},39.41325056985,497.10535337044013,226.48150548162997]
["Oct 2018 - Sep 2019P",{"$f":"SUM(D21:F21)","v":824.11506862936983},{"$f":"SUM(B21-B20)/B20","v":0.080098231248948173},48.881373694729987,533.86978385575981,241.36391107888002]